{"text_format":"3","workbook":"xlsx","n_sheets":6,"sheets":["RELEVE BANCAIRE","BASE","ECRITURES P1","ECRITURES P2","BQAMB CREDITMUTUEL","hidden"],"not_rendered":{"macros":1,"defined_names":3,"comments":1},"read":"whole","date_system":"1900"}

{"sheet":"RELEVE BANCAIRE","index":0,"n_rows":532,"n_cols":15,"rows_kept":532,"merged":[[0,0,0,4]]}
[{"$nulls":5},"GENERAL","BANQUE",null,"compte bq","compte gen","tiers","solde_c","bq outstanding","banque","analytique"]
["Date","Valeur","Libellé","Débit","Crédit",{"$nulls":8},{"$f":"G3","v":"BQ4"},"RTVBAMBHEB"]
["2023-05-12",null,"PASSIONFROID",{"v":1000,"d":"1,000.00 €"},null,"G","BQ4",1,51200004,{"$f":"IFERROR(LOOKUP(9999999,FIND(BASE!$B$1:$B$247,$C3),BASE!$A$1:$A$247),\"47100000\")","v":40110000},{"$f":"IF(J3=40110000,LOOKUP(9999999,FIND(BASE!$B$2:$B$247,$C3),BASE!$C$2:$C$247),\"\")","v":"FPASSIONFROIDAMB"},{"$f":"E3+D3","v":{"v":1000,"d":"1,000.00 €"}},51200004,null,{"$f":"IF(J3=\"62700000\",$O$2,\"\")","v":""}]
["2023-05-18",null,"ORANGE",100,null,"G","BQ4",{"$f":"+H3+1","v":2},51200004,{"$f":"IFERROR(LOOKUP(9999999,FIND(BASE!$B$1:$B$247,$C4),BASE!$A$1:$A$247),\"47100000\")","v":40110000},{"$f":"IF(J4=40110000,LOOKUP(9999999,FIND(BASE!$B$2:$B$247,$C4),BASE!$C$2:$C$247),\"\")","v":"FORANGEAMB"},{"v":100,"d":"100.00 €"},51200004,null,""]
["2023-05-19",null,"VIREMENT",null,5000,"G","BQ4",3,51200004,{"$f":"IFERROR(LOOKUP(9999999,FIND(BASE!$B$1:$B$247,$C5),BASE!$A$1:$A$247),\"47100000\")","v":51160004},{"$f":"IF(J5=40110000,LOOKUP(9999999,FIND(BASE!$B$2:$B$247,$C5),BASE!$C$2:$C$247),\"\")","v":""},{"v":5000,"d":"5,000.00 €"},51200004,null,""]
["2023-05-21",null,"VIREMENT",null,{"v":12000,"d":"12,000.00 €"},"G","BQ4",4,51200004,{"$f":"IFERROR(LOOKUP(9999999,FIND(BASE!$B$1:$B$247,$C6),BASE!$A$1:$A$247),\"47100000\")","v":51160004},{"$f":"IF(J6=40110000,LOOKUP(9999999,FIND(BASE!$B$2:$B$247,$C6),BASE!$C$2:$C$247),\"\")","v":""},{"v":12000,"d":"12,000.00 €"},51200004,null,""]
[{"$nulls":5},"G","BQ4",5,51200004,{"$f":"IFERROR(LOOKUP(9999999,FIND(BASE!$B$1:$B$247,$C7),BASE!$A$1:$A$247),\"47100000\")","v":"47100000"},{"$f":"IF(J7=40110000,LOOKUP(9999999,FIND(BASE!$B$2:$B$247,$C7),BASE!$C$2:$C$247),\"\")","v":""},{"v":0,"d":"0.00 €"},51200004,null,""]
[{"$nulls":5},"G","BQ4",6,51200004,{"$f":"IFERROR(LOOKUP(9999999,FIND(BASE!$B$1:$B$247,$C8),BASE!$A$1:$A$247),\"47100000\")","v":"47100000"},{"$f":"IF(J8=40110000,LOOKUP(9999999,FIND(BASE!$B$2:$B$247,$C8),BASE!$C$2:$C$247),\"\")","v":""},{"v":0,"d":"0.00 €"},51200004,null,""]
[{"$nulls":5},"G","BQ4",7,51200004,{"$f":"IFERROR(LOOKUP(9999999,FIND(BASE!$B$1:$B$247,$C9),BASE!$A$1:$A$247),\"47100000\")","v":"47100000"},{"$f":"IF(J9=40110000,LOOKUP(9999999,FIND(BASE!$B$2:$B$247,$C9),BASE!$C$2:$C$247),\"\")","v":""},{"v":0,"d":"0.00 €"},51200004,null,""]
[{"$nulls":5},"G","BQ4",8,51200004,{"$f":"IFERROR(LOOKUP(9999999,FIND(BASE!$B$1:$B$247,$C10),BASE!$A$1:$A$247),\"47100000\")","v":"47100000"},{"$f":"IF(J10=40110000,LOOKUP(9999999,FIND(BASE!$B$2:$B$247,$C10),BASE!$C$2:$C$247),\"\")","v":""},{"v":0,"d":"0.00 €"},51200004,null,""]
[{"$nulls":5},"G","BQ4",9,51200004,{"$f":"IFERROR(LOOKUP(9999999,FIND(BASE!$B$1:$B$247,$C11),BASE!$A$1:$A$247),\"47100000\")","v":"47100000"},{"$f":"IF(J11=40110000,LOOKUP(9999999,FIND(BASE!$B$2:$B$247,$C11),BASE!$C$2:$C$247),\"\")","v":""},{"v":0,"d":"0.00 €"},51200004,null,""]
[{"$nulls":5},"G","BQ4",10,51200004,{"$f":"IFERROR(LOOKUP(9999999,FIND(BASE!$B$1:$B$247,$C12),BASE!$A$1:$A$247),\"47100000\")","v":"47100000"},{"$f":"IF(J12=40110000,LOOKUP(9999999,FIND(BASE!$B$2:$B$247,$C12),BASE!$C$2:$C$247),\"\")","v":""},{"v":0,"d":"0.00 €"},51200004,null,""]
[{"$nulls":5},"G","BQ4",11,51200004,{"$f":"IFERROR(LOOKUP(9999999,FIND(BASE!$B$1:$B$247,$C13),BASE!$A$1:$A$247),\"47100000\")","v":"47100000"},{"$f":"IF(J13=40110000,LOOKUP(9999999,FIND(BASE!$B$2:$B$247,$C13),BASE!$C$2:$C$247),\"\")","v":""},{"v":0,"d":"0.00 €"},51200004,null,""]
[{"$nulls":5},"G","BQ4",12,51200004,{"$f":"IFERROR(LOOKUP(9999999,FIND(BASE!$B$1:$B$247,$C14),BASE!$A$1:$A$247),\"47100000\")","v":"47100000"},{"$f":"IF(J14=40110000,LOOKUP(9999999,FIND(BASE!$B$2:$B$247,$C14),BASE!$C$2:$C$247),\"\")","v":""},{"v":0,"d":"0.00 €"},51200004,null,""]
[{"$nulls":5},"G","BQ4",13,51200004,{"$f":"IFERROR(LOOKUP(9999999,FIND(BASE!$B$1:$B$247,$C15),BASE!$A$1:$A$247),\"47100000\")","v":"47100000"},{"$f":"IF(J15=40110000,LOOKUP(9999999,FIND(BASE!$B$2:$B$247,$C15),BASE!$C$2:$C$247),\"\")","v":""},{"v":0,"d":"0.00 €"},51200004,null,""]
[{"$nulls":5},"G","BQ4",14,51200004,{"$f":"IFERROR(LOOKUP(9999999,FIND(BASE!$B$1:$B$247,$C16),BASE!$A$1:$A$247),\"47100000\")","v":"47100000"},{"$f":"IF(J16=40110000,LOOKUP(9999999,FIND(BASE!$B$2:$B$247,$C16),BASE!$C$2:$C$247),\"\")","v":""},{"v":0,"d":"0.00 €"},51200004,null,""]
[{"$nulls":5},"G","BQ4",15,51200004,{"$f":"IFERROR(LOOKUP(9999999,FIND(BASE!$B$1:$B$247,$C17),BASE!$A$1:$A$247),\"47100000\")","v":"47100000"},{"$f":"IF(J17=40110000,LOOKUP(9999999,FIND(BASE!$B$2:$B$247,$C17),BASE!$C$2:$C$247),\"\")","v":""},{"v":0,"d":"0.00 €"},51200004,null,""]
[{"$nulls":5},"G","BQ4",16,51200004,{"$f":"IFERROR(LOOKUP(9999999,FIND(BASE!$B$1:$B$247,$C18),BASE!$A$1:$A$247),\"47100000\")","v":"47100000"},{"$f":"IF(J18=40110000,LOOKUP(9999999,FIND(BASE!$B$2:$B$247,$C18),BASE!$C$2:$C$247),\"\")","v":""},{"v":0,"d":"0.00 €"},51200004,null,""]
[{"$nulls":5},"G","BQ4",17,51200004,{"$f":"IFERROR(LOOKUP(9999999,FIND(BASE!$B$1:$B$247,$C19),BASE!$A$1:$A$247),\"47100000\")","v":"47100000"},{"$f":"IF(J19=40110000,LOOKUP(9999999,FIND(BASE!$B$2:$B$247,$C19),BASE!$C$2:$C$247),\"\")","v":""},{"v":0,"d":"0.00 €"},51200004,null,""]
[{"$nulls":5},"G","BQ4",18,51200004,{"$f":"IFERROR(LOOKUP(9999999,FIND(BASE!$B$1:$B$247,$C20),BASE!$A$1:$A$247),\"47100000\")","v":"47100000"},{"$f":"IF(J20=40110000,LOOKUP(9999999,FIND(BASE!$B$2:$B$247,$C20),BASE!$C$2:$C$247),\"\")","v":""},{"v":0,"d":"0.00 €"},51200004,null,""]
[{"$nulls":5},"G","BQ4",19,51200004,{"$f":"IFERROR(LOOKUP(9999999,FIND(BASE!$B$1:$B$247,$C21),BASE!$A$1:$A$247),\"47100000\")","v":"47100000"},{"$f":"IF(J21=40110000,LOOKUP(9999999,FIND(BASE!$B$2:$B$247,$C21),BASE!$C$2:$C$247),\"\")","v":""},{"v":0,"d":"0.00 €"},51200004,null,""]
[{"$nulls":5},"G","BQ4",20,51200004,{"$f":"IFERROR(LOOKUP(9999999,FIND(BASE!$B$1:$B$247,$C22),BASE!$A$1:$A$247),\"47100000\")","v":"47100000"},{"$f":"IF(J22=40110000,LOOKUP(9999999,FIND(BASE!$B$2:$B$247,$C22),BASE!$C$2:$C$247),\"\")","v":""},{"v":0,"d":"0.00 €"},51200004,null,""]
[{"$nulls":5},"G","BQ4",21,51200004,{"$f":"IFERROR(LOOKUP(9999999,FIND(BASE!$B$1:$B$247,$C23),BASE!$A$1:$A$247),\"47100000\")","v":"47100000"},{"$f":"IF(J23=40110000,LOOKUP(9999999,FIND(BASE!$B$2:$B$247,$C23),BASE!$C$2:$C$247),\"\")","v":""},{"v":0,"d":"0.00 €"},51200004,null,""]
[{"$nulls":5},"G","BQ4",22,51200004,{"$f":"IFERROR(LOOKUP(9999999,FIND(BASE!$B$1:$B$247,$C24),BASE!$A$1:$A$247),\"47100000\")","v":"47100000"},{"$f":"IF(J24=40110000,LOOKUP(9999999,FIND(BASE!$B$2:$B$247,$C24),BASE!$C$2:$C$247),\"\")","v":""},{"v":0,"d":"0.00 €"},51200004,null,""]
[{"$nulls":5},"G","BQ4",23,51200004,{"$f":"IFERROR(LOOKUP(9999999,FIND(BASE!$B$1:$B$247,$C25),BASE!$A$1:$A$247),\"47100000\")","v":"47100000"},{"$f":"IF(J25=40110000,LOOKUP(9999999,FIND(BASE!$B$2:$B$247,$C25),BASE!$C$2:$C$247),\"\")","v":""},{"v":0,"d":"0.00 €"},51200004,null,""]
[{"$nulls":5},"G","BQ4",24,51200004,{"$f":"IFERROR(LOOKUP(9999999,FIND(BASE!$B$1:$B$247,$C26),BASE!$A$1:$A$247),\"47100000\")","v":"47100000"},{"$f":"IF(J26=40110000,LOOKUP(9999999,FIND(BASE!$B$2:$B$247,$C26),BASE!$C$2:$C$247),\"\")","v":""},{"v":0,"d":"0.00 €"},51200004,null,""]
[{"$nulls":5},"G","BQ4",25,51200004,{"$f":"IFERROR(LOOKUP(9999999,FIND(BASE!$B$1:$B$247,$C27),BASE!$A$1:$A$247),\"47100000\")","v":"47100000"},{"$f":"IF(J27=40110000,LOOKUP(9999999,FIND(BASE!$B$2:$B$247,$C27),BASE!$C$2:$C$247),\"\")","v":""},{"v":0,"d":"0.00 €"},51200004,null,""]
[{"$nulls":5},"G","BQ4",26,51200004,{"$f":"IFERROR(LOOKUP(9999999,FIND(BASE!$B$1:$B$247,$C28),BASE!$A$1:$A$247),\"47100000\")","v":"47100000"},{"$f":"IF(J28=40110000,LOOKUP(9999999,FIND(BASE!$B$2:$B$247,$C28),BASE!$C$2:$C$247),\"\")","v":""},{"v":0,"d":"0.00 €"},51200004,null,""]
[{"$nulls":5},"G","BQ4",27,51200004,{"$f":"IFERROR(LOOKUP(9999999,FIND(BASE!$B$1:$B$247,$C29),BASE!$A$1:$A$247),\"47100000\")","v":"47100000"},{"$f":"IF(J29=40110000,LOOKUP(9999999,FIND(BASE!$B$2:$B$247,$C29),BASE!$C$2:$C$247),\"\")","v":""},{"v":0,"d":"0.00 €"},51200004,null,""]
[{"$nulls":5},"G","BQ4",28,51200004,{"$f":"IFERROR(LOOKUP(9999999,FIND(BASE!$B$1:$B$247,$C30),BASE!$A$1:$A$247),\"47100000\")","v":"47100000"},{"$f":"IF(J30=40110000,LOOKUP(9999999,FIND(BASE!$B$2:$B$247,$C30),BASE!$C$2:$C$247),\"\")","v":""},{"v":0,"d":"0.00 €"},51200004,null,""]
[{"$nulls":5},"G","BQ4",29,51200004,{"$f":"IFERROR(LOOKUP(9999999,FIND(BASE!$B$1:$B$247,$C31),BASE!$A$1:$A$247),\"47100000\")","v":"47100000"},{"$f":"IF(J31=40110000,LOOKUP(9999999,FIND(BASE!$B$2:$B$247,$C31),BASE!$C$2:$C$247),\"\")","v":""},{"v":0,"d":"0.00 €"},51200004,null,""]
[{"$nulls":5},"G","BQ4",30,51200004,{"$f":"IFERROR(LOOKUP(9999999,FIND(BASE!$B$1:$B$247,$C32),BASE!$A$1:$A$247),\"47100000\")","v":"47100000"},{"$f":"IF(J32=40110000,LOOKUP(9999999,FIND(BASE!$B$2:$B$247,$C32),BASE!$C$2:$C$247),\"\")","v":""},{"v":0,"d":"0.00 €"},51200004,null,""]
[{"$nulls":5},"G","BQ4",31,51200004,{"$f":"IFERROR(LOOKUP(9999999,FIND(BASE!$B$1:$B$247,$C33),BASE!$A$1:$A$247),\"47100000\")","v":"47100000"},{"$f":"IF(J33=40110000,LOOKUP(9999999,FIND(BASE!$B$2:$B$247,$C33),BASE!$C$2:$C$247),\"\")","v":""},{"v":0,"d":"0.00 €"},51200004,null,""]
[{"$nulls":5},"G","BQ4",32,51200004,{"$f":"IFERROR(LOOKUP(9999999,FIND(BASE!$B$1:$B$247,$C34),BASE!$A$1:$A$247),\"47100000\")","v":"47100000"},{"$f":"IF(J34=40110000,LOOKUP(9999999,FIND(BASE!$B$2:$B$247,$C34),BASE!$C$2:$C$247),\"\")","v":""},{"v":0,"d":"0.00 €"},51200004,null,""]
[{"$nulls":5},"G","BQ4",33,51200004,{"$f":"IFERROR(LOOKUP(9999999,FIND(BASE!$B$1:$B$247,$C35),BASE!$A$1:$A$247),\"47100000\")","v":"47100000"},{"$f":"IF(J35=40110000,LOOKUP(9999999,FIND(BASE!$B$2:$B$247,$C35),BASE!$C$2:$C$247),\"\")","v":""},{"v":0,"d":"0.00 €"},51200004,null,""]
[{"$nulls":5},"G","BQ4",34,51200004,{"$f":"IFERROR(LOOKUP(9999999,FIND(BASE!$B$1:$B$247,$C36),BASE!$A$1:$A$247),\"47100000\")","v":"47100000"},{"$f":"IF(J36=40110000,LOOKUP(9999999,FIND(BASE!$B$2:$B$247,$C36),BASE!$C$2:$C$247),\"\")","v":""},{"v":0,"d":"0.00 €"},51200004,null,""]
[{"$nulls":5},"G","BQ4",35,51200004,{"$f":"IFERROR(LOOKUP(9999999,FIND(BASE!$B$1:$B$247,$C37),BASE!$A$1:$A$247),\"47100000\")","v":"47100000"},{"$f":"IF(J37=40110000,LOOKUP(9999999,FIND(BASE!$B$2:$B$247,$C37),BASE!$C$2:$C$247),\"\")","v":""},{"v":0,"d":"0.00 €"},51200004,null,""]
[{"$nulls":5},"G","BQ4",36,51200004,{"$f":"IFERROR(LOOKUP(9999999,FIND(BASE!$B$1:$B$247,$C38),BASE!$A$1:$A$247),\"47100000\")","v":"47100000"},{"$f":"IF(J38=40110000,LOOKUP(9999999,FIND(BASE!$B$2:$B$247,$C38),BASE!$C$2:$C$247),\"\")","v":""},{"v":0,"d":"0.00 €"},51200004,null,""]
[{"$nulls":5},"G","BQ4",37,51200004,{"$f":"IFERROR(LOOKUP(9999999,FIND(BASE!$B$1:$B$247,$C39),BASE!$A$1:$A$247),\"47100000\")","v":"47100000"},{"$f":"IF(J39=40110000,LOOKUP(9999999,FIND(BASE!$B$2:$B$247,$C39),BASE!$C$2:$C$247),\"\")","v":""},{"v":0,"d":"0.00 €"},51200004,null,""]
[{"$nulls":5},"G","BQ4",38,51200004,{"$f":"IFERROR(LOOKUP(9999999,FIND(BASE!$B$1:$B$247,$C40),BASE!$A$1:$A$247),\"47100000\")","v":"47100000"},{"$f":"IF(J40=40110000,LOOKUP(9999999,FIND(BASE!$B$2:$B$247,$C40),BASE!$C$2:$C$247),\"\")","v":""},{"v":0,"d":"0.00 €"},51200004,null,""]
[{"$nulls":5},"G","BQ4",39,51200004,{"$f":"IFERROR(LOOKUP(9999999,FIND(BASE!$B$1:$B$247,$C41),BASE!$A$1:$A$247),\"47100000\")","v":"47100000"},{"$f":"IF(J41=40110000,LOOKUP(9999999,FIND(BASE!$B$2:$B$247,$C41),BASE!$C$2:$C$247),\"\")","v":""},{"v":0,"d":"0.00 €"},51200004,null,""]
[{"$nulls":5},"G","BQ4",40,51200004,{"$f":"IFERROR(LOOKUP(9999999,FIND(BASE!$B$1:$B$247,$C42),BASE!$A$1:$A$247),\"47100000\")","v":"47100000"},{"$f":"IF(J42=40110000,LOOKUP(9999999,FIND(BASE!$B$2:$B$247,$C42),BASE!$C$2:$C$247),\"\")","v":""},{"v":0,"d":"0.00 €"},51200004,null,""]
[{"$nulls":5},"G","BQ4",41,51200004,{"$f":"IFERROR(LOOKUP(9999999,FIND(BASE!$B$1:$B$247,$C43),BASE!$A$1:$A$247),\"47100000\")","v":"47100000"},{"$f":"IF(J43=40110000,LOOKUP(9999999,FIND(BASE!$B$2:$B$247,$C43),BASE!$C$2:$C$247),\"\")","v":""},{"v":0,"d":"0.00 €"},51200004,null,""]
[{"$nulls":5},"G","BQ4",42,51200004,{"$f":"IFERROR(LOOKUP(9999999,FIND(BASE!$B$1:$B$247,$C44),BASE!$A$1:$A$247),\"47100000\")","v":"47100000"},{"$f":"IF(J44=40110000,LOOKUP(9999999,FIND(BASE!$B$2:$B$247,$C44),BASE!$C$2:$C$247),\"\")","v":""},{"v":0,"d":"0.00 €"},51200004,null,""]
[{"$nulls":5},"G","BQ4",43,51200004,{"$f":"IFERROR(LOOKUP(9999999,FIND(BASE!$B$1:$B$247,$C45),BASE!$A$1:$A$247),\"47100000\")","v":"47100000"},{"$f":"IF(J45=40110000,LOOKUP(9999999,FIND(BASE!$B$2:$B$247,$C45),BASE!$C$2:$C$247),\"\")","v":""},{"v":0,"d":"0.00 €"},51200004,null,""]
[{"$nulls":5},"G","BQ4",44,51200004,{"$f":"IFERROR(LOOKUP(9999999,FIND(BASE!$B$1:$B$247,$C46),BASE!$A$1:$A$247),\"47100000\")","v":"47100000"},{"$f":"IF(J46=40110000,LOOKUP(9999999,FIND(BASE!$B$2:$B$247,$C46),BASE!$C$2:$C$247),\"\")","v":""},{"v":0,"d":"0.00 €"},51200004,null,""]
[{"$nulls":5},"G","BQ4",45,51200004,{"$f":"IFERROR(LOOKUP(9999999,FIND(BASE!$B$1:$B$247,$C47),BASE!$A$1:$A$247),\"47100000\")","v":"47100000"},{"$f":"IF(J47=40110000,LOOKUP(9999999,FIND(BASE!$B$2:$B$247,$C47),BASE!$C$2:$C$247),\"\")","v":""},{"v":0,"d":"0.00 €"},51200004,null,""]
[{"$nulls":5},"G","BQ4",46,51200004,{"$f":"IFERROR(LOOKUP(9999999,FIND(BASE!$B$1:$B$247,$C48),BASE!$A$1:$A$247),\"47100000\")","v":"47100000"},{"$f":"IF(J48=40110000,LOOKUP(9999999,FIND(BASE!$B$2:$B$247,$C48),BASE!$C$2:$C$247),\"\")","v":""},{"v":0,"d":"0.00 €"},51200004,null,""]
[{"$nulls":5},"G","BQ4",47,51200004,{"$f":"IFERROR(LOOKUP(9999999,FIND(BASE!$B$1:$B$247,$C49),BASE!$A$1:$A$247),\"47100000\")","v":"47100000"},{"$f":"IF(J49=40110000,LOOKUP(9999999,FIND(BASE!$B$2:$B$247,$C49),BASE!$C$2:$C$247),\"\")","v":""},{"v":0,"d":"0.00 €"},51200004,null,""]
[{"$nulls":5},"G","BQ4",48,51200004,{"$f":"IFERROR(LOOKUP(9999999,FIND(BASE!$B$1:$B$247,$C50),BASE!$A$1:$A$247),\"47100000\")","v":"47100000"},{"$f":"IF(J50=40110000,LOOKUP(9999999,FIND(BASE!$B$2:$B$247,$C50),BASE!$C$2:$C$247),\"\")","v":""},{"v":0,"d":"0.00 €"},51200004,null,""]
[{"$nulls":5},"G","BQ4",49,51200004,{"$f":"IFERROR(LOOKUP(9999999,FIND(BASE!$B$1:$B$247,$C51),BASE!$A$1:$A$247),\"47100000\")","v":"47100000"},{"$f":"IF(J51=40110000,LOOKUP(9999999,FIND(BASE!$B$2:$B$247,$C51),BASE!$C$2:$C$247),\"\")","v":""},{"v":0,"d":"0.00 €"},51200004,null,""]
[{"$nulls":5},"G","BQ4",50,51200004,{"$f":"IFERROR(LOOKUP(9999999,FIND(BASE!$B$1:$B$247,$C52),BASE!$A$1:$A$247),\"47100000\")","v":"47100000"},{"$f":"IF(J52=40110000,LOOKUP(9999999,FIND(BASE!$B$2:$B$247,$C52),BASE!$C$2:$C$247),\"\")","v":""},{"v":0,"d":"0.00 €"},51200004,null,""]
[{"$nulls":5},"G","BQ4",51,51200004,{"$f":"IFERROR(LOOKUP(9999999,FIND(BASE!$B$1:$B$247,$C53),BASE!$A$1:$A$247),\"47100000\")","v":"47100000"},{"$f":"IF(J53=40110000,LOOKUP(9999999,FIND(BASE!$B$2:$B$247,$C53),BASE!$C$2:$C$247),\"\")","v":""},{"v":0,"d":"0.00 €"},51200004,null,""]
[{"$nulls":5},"G","BQ4",52,51200004,{"$f":"IFERROR(LOOKUP(9999999,FIND(BASE!$B$1:$B$247,$C54),BASE!$A$1:$A$247),\"47100000\")","v":"47100000"},{"$f":"IF(J54=40110000,LOOKUP(9999999,FIND(BASE!$B$2:$B$247,$C54),BASE!$C$2:$C$247),\"\")","v":""},{"v":0,"d":"0.00 €"},51200004,null,""]
[{"$nulls":5},"G","BQ4",53,51200004,{"$f":"IFERROR(LOOKUP(9999999,FIND(BASE!$B$1:$B$247,$C55),BASE!$A$1:$A$247),\"47100000\")","v":"47100000"},{"$f":"IF(J55=40110000,LOOKUP(9999999,FIND(BASE!$B$2:$B$247,$C55),BASE!$C$2:$C$247),\"\")","v":""},{"v":0,"d":"0.00 €"},51200004,null,""]
[{"$nulls":5},"G","BQ4",54,51200004,{"$f":"IFERROR(LOOKUP(9999999,FIND(BASE!$B$1:$B$247,$C56),BASE!$A$1:$A$247),\"47100000\")","v":"47100000"},{"$f":"IF(J56=40110000,LOOKUP(9999999,FIND(BASE!$B$2:$B$247,$C56),BASE!$C$2:$C$247),\"\")","v":""},{"v":0,"d":"0.00 €"},51200004,null,""]
[{"$nulls":5},"G","BQ4",55,51200004,{"$f":"IFERROR(LOOKUP(9999999,FIND(BASE!$B$1:$B$247,$C57),BASE!$A$1:$A$247),\"47100000\")","v":"47100000"},{"$f":"IF(J57=40110000,LOOKUP(9999999,FIND(BASE!$B$2:$B$247,$C57),BASE!$C$2:$C$247),\"\")","v":""},{"v":0,"d":"0.00 €"},51200004,null,""]
[{"$nulls":5},"G","BQ4",56,51200004,{"$f":"IFERROR(LOOKUP(9999999,FIND(BASE!$B$1:$B$247,$C58),BASE!$A$1:$A$247),\"47100000\")","v":"47100000"},{"$f":"IF(J58=40110000,LOOKUP(9999999,FIND(BASE!$B$2:$B$247,$C58),BASE!$C$2:$C$247),\"\")","v":""},{"v":0,"d":"0.00 €"},51200004,null,""]
[{"$nulls":5},"G","BQ4",57,51200004,{"$f":"IFERROR(LOOKUP(9999999,FIND(BASE!$B$1:$B$247,$C59),BASE!$A$1:$A$247),\"47100000\")","v":"47100000"},{"$f":"IF(J59=40110000,LOOKUP(9999999,FIND(BASE!$B$2:$B$247,$C59),BASE!$C$2:$C$247),\"\")","v":""},{"v":0,"d":"0.00 €"},51200004,null,""]
[{"$nulls":5},"G","BQ4",58,51200004,{"$f":"IFERROR(LOOKUP(9999999,FIND(BASE!$B$1:$B$247,$C60),BASE!$A$1:$A$247),\"47100000\")","v":"47100000"},{"$f":"IF(J60=40110000,LOOKUP(9999999,FIND(BASE!$B$2:$B$247,$C60),BASE!$C$2:$C$247),\"\")","v":""},{"v":0,"d":"0.00 €"},51200004,null,""]
[{"$nulls":5},"G","BQ4",59,51200004,{"$f":"IFERROR(LOOKUP(9999999,FIND(BASE!$B$1:$B$247,$C61),BASE!$A$1:$A$247),\"47100000\")","v":"47100000"},{"$f":"IF(J61=40110000,LOOKUP(9999999,FIND(BASE!$B$2:$B$247,$C61),BASE!$C$2:$C$247),\"\")","v":""},{"v":0,"d":"0.00 €"},51200004,null,""]
[{"$nulls":5},"G","BQ4",60,51200004,{"$f":"IFERROR(LOOKUP(9999999,FIND(BASE!$B$1:$B$247,$C62),BASE!$A$1:$A$247),\"47100000\")","v":"47100000"},{"$f":"IF(J62=40110000,LOOKUP(9999999,FIND(BASE!$B$2:$B$247,$C62),BASE!$C$2:$C$247),\"\")","v":""},{"v":0,"d":"0.00 €"},51200004,null,""]
[{"$nulls":5},"G","BQ4",61,51200004,{"$f":"IFERROR(LOOKUP(9999999,FIND(BASE!$B$1:$B$247,$C63),BASE!$A$1:$A$247),\"47100000\")","v":"47100000"},{"$f":"IF(J63=40110000,LOOKUP(9999999,FIND(BASE!$B$2:$B$247,$C63),BASE!$C$2:$C$247),\"\")","v":""},{"v":0,"d":"0.00 €"},51200004,null,""]
[{"$nulls":5},"G","BQ4",62,51200004,{"$f":"IFERROR(LOOKUP(9999999,FIND(BASE!$B$1:$B$247,$C64),BASE!$A$1:$A$247),\"47100000\")","v":"47100000"},{"$f":"IF(J64=40110000,LOOKUP(9999999,FIND(BASE!$B$2:$B$247,$C64),BASE!$C$2:$C$247),\"\")","v":""},{"v":0,"d":"0.00 €"},51200004,null,""]
[{"$nulls":5},"G","BQ4",63,51200004,{"$f":"IFERROR(LOOKUP(9999999,FIND(BASE!$B$1:$B$247,$C65),BASE!$A$1:$A$247),\"47100000\")","v":"47100000"},{"$f":"IF(J65=40110000,LOOKUP(9999999,FIND(BASE!$B$2:$B$247,$C65),BASE!$C$2:$C$247),\"\")","v":""},{"v":0,"d":"0.00 €"},51200004,null,""]
[{"$nulls":5},"G","BQ4",64,51200004,{"$f":"IFERROR(LOOKUP(9999999,FIND(BASE!$B$1:$B$247,$C66),BASE!$A$1:$A$247),\"47100000\")","v":"47100000"},{"$f":"IF(J66=40110000,LOOKUP(9999999,FIND(BASE!$B$2:$B$247,$C66),BASE!$C$2:$C$247),\"\")","v":""},{"v":0,"d":"0.00 €"},51200004,null,""]
[{"$nulls":5},"G","BQ4",65,51200004,{"$f":"IFERROR(LOOKUP(9999999,FIND(BASE!$B$1:$B$247,$C67),BASE!$A$1:$A$247),\"47100000\")","v":"47100000"},{"$f":"IF(J67=40110000,LOOKUP(9999999,FIND(BASE!$B$2:$B$247,$C67),BASE!$C$2:$C$247),\"\")","v":""},{"v":0,"d":"0.00 €"},51200004,null,""]
[{"$nulls":5},"G","BQ4",66,51200004,{"$f":"IFERROR(LOOKUP(9999999,FIND(BASE!$B$1:$B$247,$C68),BASE!$A$1:$A$247),\"47100000\")","v":"47100000"},{"$f":"IF(J68=40110000,LOOKUP(9999999,FIND(BASE!$B$2:$B$247,$C68),BASE!$C$2:$C$247),\"\")","v":""},{"v":0,"d":"0.00 €"},51200004,null,""]
[{"$nulls":5},"G","BQ4",67,51200004,{"$f":"IFERROR(LOOKUP(9999999,FIND(BASE!$B$1:$B$247,$C69),BASE!$A$1:$A$247),\"47100000\")","v":"47100000"},{"$f":"IF(J69=40110000,LOOKUP(9999999,FIND(BASE!$B$2:$B$247,$C69),BASE!$C$2:$C$247),\"\")","v":""},{"v":0,"d":"0.00 €"},51200004,null,""]
[{"$nulls":5},"G","BQ4",68,51200004,{"$f":"IFERROR(LOOKUP(9999999,FIND(BASE!$B$1:$B$247,$C70),BASE!$A$1:$A$247),\"47100000\")","v":"47100000"},{"$f":"IF(J70=40110000,LOOKUP(9999999,FIND(BASE!$B$2:$B$247,$C70),BASE!$C$2:$C$247),\"\")","v":""},{"v":0,"d":"0.00 €"},51200004,null,""]
[{"$nulls":5},"G","BQ4",69,51200004,{"$f":"IFERROR(LOOKUP(9999999,FIND(BASE!$B$1:$B$247,$C71),BASE!$A$1:$A$247),\"47100000\")","v":"47100000"},{"$f":"IF(J71=40110000,LOOKUP(9999999,FIND(BASE!$B$2:$B$247,$C71),BASE!$C$2:$C$247),\"\")","v":""},{"v":0,"d":"0.00 €"},51200004,null,""]
[{"$nulls":5},"G","BQ4",70,51200004,{"$f":"IFERROR(LOOKUP(9999999,FIND(BASE!$B$1:$B$247,$C72),BASE!$A$1:$A$247),\"47100000\")","v":"47100000"},{"$f":"IF(J72=40110000,LOOKUP(9999999,FIND(BASE!$B$2:$B$247,$C72),BASE!$C$2:$C$247),\"\")","v":""},{"v":0,"d":"0.00 €"},51200004,null,""]
[{"$nulls":5},"G","BQ4",71,51200004,{"$f":"IFERROR(LOOKUP(9999999,FIND(BASE!$B$1:$B$247,$C73),BASE!$A$1:$A$247),\"47100000\")","v":"47100000"},{"$f":"IF(J73=40110000,LOOKUP(9999999,FIND(BASE!$B$2:$B$247,$C73),BASE!$C$2:$C$247),\"\")","v":""},{"v":0,"d":"0.00 €"},51200004,null,""]
[{"$nulls":5},"G","BQ4",72,51200004,{"$f":"IFERROR(LOOKUP(9999999,FIND(BASE!$B$1:$B$247,$C74),BASE!$A$1:$A$247),\"47100000\")","v":"47100000"},{"$f":"IF(J74=40110000,LOOKUP(9999999,FIND(BASE!$B$2:$B$247,$C74),BASE!$C$2:$C$247),\"\")","v":""},{"v":0,"d":"0.00 €"},51200004,null,""]
[{"$nulls":5},"G","BQ4",73,51200004,{"$f":"IFERROR(LOOKUP(9999999,FIND(BASE!$B$1:$B$247,$C75),BASE!$A$1:$A$247),\"47100000\")","v":"47100000"},{"$f":"IF(J75=40110000,LOOKUP(9999999,FIND(BASE!$B$2:$B$247,$C75),BASE!$C$2:$C$247),\"\")","v":""},{"v":0,"d":"0.00 €"},51200004,null,""]
[{"$nulls":5},"G","BQ4",74,51200004,{"$f":"IFERROR(LOOKUP(9999999,FIND(BASE!$B$1:$B$247,$C76),BASE!$A$1:$A$247),\"47100000\")","v":"47100000"},{"$f":"IF(J76=40110000,LOOKUP(9999999,FIND(BASE!$B$2:$B$247,$C76),BASE!$C$2:$C$247),\"\")","v":""},{"v":0,"d":"0.00 €"},51200004,null,""]
[{"$nulls":5},"G","BQ4",75,51200004,{"$f":"IFERROR(LOOKUP(9999999,FIND(BASE!$B$1:$B$247,$C77),BASE!$A$1:$A$247),\"47100000\")","v":"47100000"},{"$f":"IF(J77=40110000,LOOKUP(9999999,FIND(BASE!$B$2:$B$247,$C77),BASE!$C$2:$C$247),\"\")","v":""},{"v":0,"d":"0.00 €"},51200004,null,""]
[{"$nulls":5},"G","BQ4",76,51200004,{"$f":"IFERROR(LOOKUP(9999999,FIND(BASE!$B$1:$B$247,$C78),BASE!$A$1:$A$247),\"47100000\")","v":"47100000"},{"$f":"IF(J78=40110000,LOOKUP(9999999,FIND(BASE!$B$2:$B$247,$C78),BASE!$C$2:$C$247),\"\")","v":""},{"v":0,"d":"0.00 €"},51200004,null,""]
[{"$nulls":5},"G","BQ4",77,51200004,{"$f":"IFERROR(LOOKUP(9999999,FIND(BASE!$B$1:$B$247,$C79),BASE!$A$1:$A$247),\"47100000\")","v":"47100000"},{"$f":"IF(J79=40110000,LOOKUP(9999999,FIND(BASE!$B$2:$B$247,$C79),BASE!$C$2:$C$247),\"\")","v":""},{"v":0,"d":"0.00 €"},51200004,null,""]
[{"$nulls":5},"G","BQ4",78,51200004,{"$f":"IFERROR(LOOKUP(9999999,FIND(BASE!$B$1:$B$247,$C80),BASE!$A$1:$A$247),\"47100000\")","v":"47100000"},{"$f":"IF(J80=40110000,LOOKUP(9999999,FIND(BASE!$B$2:$B$247,$C80),BASE!$C$2:$C$247),\"\")","v":""},{"v":0,"d":"0.00 €"},51200004,null,""]
[{"$nulls":5},"G","BQ4",79,51200004,{"$f":"IFERROR(LOOKUP(9999999,FIND(BASE!$B$1:$B$247,$C81),BASE!$A$1:$A$247),\"47100000\")","v":"47100000"},{"$f":"IF(J81=40110000,LOOKUP(9999999,FIND(BASE!$B$2:$B$247,$C81),BASE!$C$2:$C$247),\"\")","v":""},{"v":0,"d":"0.00 €"},51200004,null,""]
[{"$nulls":5},"G","BQ4",80,51200004,{"$f":"IFERROR(LOOKUP(9999999,FIND(BASE!$B$1:$B$247,$C82),BASE!$A$1:$A$247),\"47100000\")","v":"47100000"},{"$f":"IF(J82=40110000,LOOKUP(9999999,FIND(BASE!$B$2:$B$247,$C82),BASE!$C$2:$C$247),\"\")","v":""},{"v":0,"d":"0.00 €"},51200004,null,""]
[{"$nulls":5},"G","BQ4",81,51200004,{"$f":"IFERROR(LOOKUP(9999999,FIND(BASE!$B$1:$B$247,$C83),BASE!$A$1:$A$247),\"47100000\")","v":"47100000"},{"$f":"IF(J83=40110000,LOOKUP(9999999,FIND(BASE!$B$2:$B$247,$C83),BASE!$C$2:$C$247),\"\")","v":""},{"v":0,"d":"0.00 €"},51200004,null,""]
[{"$nulls":5},"G","BQ4",82,51200004,{"$f":"IFERROR(LOOKUP(9999999,FIND(BASE!$B$1:$B$247,$C84),BASE!$A$1:$A$247),\"47100000\")","v":"47100000"},{"$f":"IF(J84=40110000,LOOKUP(9999999,FIND(BASE!$B$2:$B$247,$C84),BASE!$C$2:$C$247),\"\")","v":""},{"v":0,"d":"0.00 €"},51200004,null,""]
[{"$nulls":5},"G","BQ4",83,51200004,{"$f":"IFERROR(LOOKUP(9999999,FIND(BASE!$B$1:$B$247,$C85),BASE!$A$1:$A$247),\"47100000\")","v":"47100000"},{"$f":"IF(J85=40110000,LOOKUP(9999999,FIND(BASE!$B$2:$B$247,$C85),BASE!$C$2:$C$247),\"\")","v":""},{"v":0,"d":"0.00 €"},51200004,null,""]
[{"$nulls":5},"G","BQ4",84,51200004,{"$f":"IFERROR(LOOKUP(9999999,FIND(BASE!$B$1:$B$247,$C86),BASE!$A$1:$A$247),\"47100000\")","v":"47100000"},{"$f":"IF(J86=40110000,LOOKUP(9999999,FIND(BASE!$B$2:$B$247,$C86),BASE!$C$2:$C$247),\"\")","v":""},{"v":0,"d":"0.00 €"},51200004,null,""]
[{"$nulls":5},"G","BQ4",85,51200004,{"$f":"IFERROR(LOOKUP(9999999,FIND(BASE!$B$1:$B$247,$C87),BASE!$A$1:$A$247),\"47100000\")","v":"47100000"},{"$f":"IF(J87=40110000,LOOKUP(9999999,FIND(BASE!$B$2:$B$247,$C87),BASE!$C$2:$C$247),\"\")","v":""},{"v":0,"d":"0.00 €"},51200004,null,""]
[{"$nulls":5},"G","BQ4",86,51200004,{"$f":"IFERROR(LOOKUP(9999999,FIND(BASE!$B$1:$B$247,$C88),BASE!$A$1:$A$247),\"47100000\")","v":"47100000"},{"$f":"IF(J88=40110000,LOOKUP(9999999,FIND(BASE!$B$2:$B$247,$C88),BASE!$C$2:$C$247),\"\")","v":""},{"v":0,"d":"0.00 €"},51200004,null,""]
[{"$nulls":5},"G","BQ4",87,51200004,{"$f":"IFERROR(LOOKUP(9999999,FIND(BASE!$B$1:$B$247,$C89),BASE!$A$1:$A$247),\"47100000\")","v":"47100000"},{"$f":"IF(J89=40110000,LOOKUP(9999999,FIND(BASE!$B$2:$B$247,$C89),BASE!$C$2:$C$247),\"\")","v":""},{"v":0,"d":"0.00 €"},51200004,null,""]
[{"$nulls":5},"G","BQ4",88,51200004,{"$f":"IFERROR(LOOKUP(9999999,FIND(BASE!$B$1:$B$247,$C90),BASE!$A$1:$A$247),\"47100000\")","v":"47100000"},{"$f":"IF(J90=40110000,LOOKUP(9999999,FIND(BASE!$B$2:$B$247,$C90),BASE!$C$2:$C$247),\"\")","v":""},{"v":0,"d":"0.00 €"},51200004,null,""]
[{"$nulls":5},"G","BQ4",89,51200004,{"$f":"IFERROR(LOOKUP(9999999,FIND(BASE!$B$1:$B$247,$C91),BASE!$A$1:$A$247),\"47100000\")","v":"47100000"},{"$f":"IF(J91=40110000,LOOKUP(9999999,FIND(BASE!$B$2:$B$247,$C91),BASE!$C$2:$C$247),\"\")","v":""},{"v":0,"d":"0.00 €"},51200004,null,""]
[{"$nulls":5},"G","BQ4",90,51200004,{"$f":"IFERROR(LOOKUP(9999999,FIND(BASE!$B$1:$B$247,$C92),BASE!$A$1:$A$247),\"47100000\")","v":"47100000"},{"$f":"IF(J92=40110000,LOOKUP(9999999,FIND(BASE!$B$2:$B$247,$C92),BASE!$C$2:$C$247),\"\")","v":""},{"v":0,"d":"0.00 €"},51200004,null,""]
[{"$nulls":5},"G","BQ4",91,51200004,{"$f":"IFERROR(LOOKUP(9999999,FIND(BASE!$B$1:$B$247,$C93),BASE!$A$1:$A$247),\"47100000\")","v":"47100000"},{"$f":"IF(J93=40110000,LOOKUP(9999999,FIND(BASE!$B$2:$B$247,$C93),BASE!$C$2:$C$247),\"\")","v":""},{"v":0,"d":"0.00 €"},51200004,null,""]
[{"$nulls":5},"G","BQ4",92,51200004,{"$f":"IFERROR(LOOKUP(9999999,FIND(BASE!$B$1:$B$247,$C94),BASE!$A$1:$A$247),\"47100000\")","v":"47100000"},{"$f":"IF(J94=40110000,LOOKUP(9999999,FIND(BASE!$B$2:$B$247,$C94),BASE!$C$2:$C$247),\"\")","v":""},{"v":0,"d":"0.00 €"},51200004,null,""]
[{"$nulls":5},"G","BQ4",93,51200004,{"$f":"IFERROR(LOOKUP(9999999,FIND(BASE!$B$1:$B$247,$C95),BASE!$A$1:$A$247),\"47100000\")","v":"47100000"},{"$f":"IF(J95=40110000,LOOKUP(9999999,FIND(BASE!$B$2:$B$247,$C95),BASE!$C$2:$C$247),\"\")","v":""},{"v":0,"d":"0.00 €"},51200004,null,""]
[{"$nulls":5},"G","BQ4",94,51200004,{"$f":"IFERROR(LOOKUP(9999999,FIND(BASE!$B$1:$B$247,$C96),BASE!$A$1:$A$247),\"47100000\")","v":"47100000"},{"$f":"IF(J96=40110000,LOOKUP(9999999,FIND(BASE!$B$2:$B$247,$C96),BASE!$C$2:$C$247),\"\")","v":""},{"v":0,"d":"0.00 €"},51200004,null,""]
[{"$nulls":5},"G","BQ4",95,51200004,{"$f":"IFERROR(LOOKUP(9999999,FIND(BASE!$B$1:$B$247,$C97),BASE!$A$1:$A$247),\"47100000\")","v":"47100000"},{"$f":"IF(J97=40110000,LOOKUP(9999999,FIND(BASE!$B$2:$B$247,$C97),BASE!$C$2:$C$247),\"\")","v":""},{"v":0,"d":"0.00 €"},51200004,null,""]
[{"$nulls":5},"G","BQ4",96,51200004,{"$f":"IFERROR(LOOKUP(9999999,FIND(BASE!$B$1:$B$247,$C98),BASE!$A$1:$A$247),\"47100000\")","v":"47100000"},{"$f":"IF(J98=40110000,LOOKUP(9999999,FIND(BASE!$B$2:$B$247,$C98),BASE!$C$2:$C$247),\"\")","v":""},{"v":0,"d":"0.00 €"},51200004,null,""]
[{"$nulls":5},"G","BQ4",97,51200004,{"$f":"IFERROR(LOOKUP(9999999,FIND(BASE!$B$1:$B$247,$C99),BASE!$A$1:$A$247),\"47100000\")","v":"47100000"},{"$f":"IF(J99=40110000,LOOKUP(9999999,FIND(BASE!$B$2:$B$247,$C99),BASE!$C$2:$C$247),\"\")","v":""},{"v":0,"d":"0.00 €"},51200004,null,""]
[{"$nulls":5},"G","BQ4",98,51200004,{"$f":"IFERROR(LOOKUP(9999999,FIND(BASE!$B$1:$B$247,$C100),BASE!$A$1:$A$247),\"47100000\")","v":"47100000"},{"$f":"IF(J100=40110000,LOOKUP(9999999,FIND(BASE!$B$2:$B$247,$C100),BASE!$C$2:$C$247),\"\")","v":""},{"v":0,"d":"0.00 €"},51200004,null,""]
[{"$nulls":5},"G","BQ4",99,51200004,{"$f":"IFERROR(LOOKUP(9999999,FIND(BASE!$B$1:$B$247,$C101),BASE!$A$1:$A$247),\"47100000\")","v":"47100000"},{"$f":"IF(J101=40110000,LOOKUP(9999999,FIND(BASE!$B$2:$B$247,$C101),BASE!$C$2:$C$247),\"\")","v":""},{"v":0,"d":"0.00 €"},51200004,null,""]
[{"$nulls":5},"G","BQ4",100,51200004,{"$f":"IFERROR(LOOKUP(9999999,FIND(BASE!$B$1:$B$247,$C102),BASE!$A$1:$A$247),\"47100000\")","v":"47100000"},{"$f":"IF(J102=40110000,LOOKUP(9999999,FIND(BASE!$B$2:$B$247,$C102),BASE!$C$2:$C$247),\"\")","v":""},{"v":0,"d":"0.00 €"},51200004,null,""]
[{"$nulls":5},"G","BQ4",101,51200004,{"$f":"IFERROR(LOOKUP(9999999,FIND(BASE!$B$1:$B$247,$C103),BASE!$A$1:$A$247),\"47100000\")","v":"47100000"},{"$f":"IF(J103=40110000,LOOKUP(9999999,FIND(BASE!$B$2:$B$247,$C103),BASE!$C$2:$C$247),\"\")","v":""},{"v":0,"d":"0.00 €"},51200004,null,""]
[{"$nulls":5},"G","BQ4",102,51200004,{"$f":"IFERROR(LOOKUP(9999999,FIND(BASE!$B$1:$B$247,$C104),BASE!$A$1:$A$247),\"47100000\")","v":"47100000"},{"$f":"IF(J104=40110000,LOOKUP(9999999,FIND(BASE!$B$2:$B$247,$C104),BASE!$C$2:$C$247),\"\")","v":""},{"v":0,"d":"0.00 €"},51200004,null,""]
[{"$nulls":5},"G","BQ4",103,51200004,{"$f":"IFERROR(LOOKUP(9999999,FIND(BASE!$B$1:$B$247,$C105),BASE!$A$1:$A$247),\"47100000\")","v":"47100000"},{"$f":"IF(J105=40110000,LOOKUP(9999999,FIND(BASE!$B$2:$B$247,$C105),BASE!$C$2:$C$247),\"\")","v":""},{"v":0,"d":"0.00 €"},51200004,null,""]
[{"$nulls":5},"G","BQ4",104,51200004,{"$f":"IFERROR(LOOKUP(9999999,FIND(BASE!$B$1:$B$247,$C106),BASE!$A$1:$A$247),\"47100000\")","v":"47100000"},{"$f":"IF(J106=40110000,LOOKUP(9999999,FIND(BASE!$B$2:$B$247,$C106),BASE!$C$2:$C$247),\"\")","v":""},{"v":0,"d":"0.00 €"},51200004,null,""]
[{"$nulls":5},"G","BQ4",105,51200004,{"$f":"IFERROR(LOOKUP(9999999,FIND(BASE!$B$1:$B$247,$C107),BASE!$A$1:$A$247),\"47100000\")","v":"47100000"},{"$f":"IF(J107=40110000,LOOKUP(9999999,FIND(BASE!$B$2:$B$247,$C107),BASE!$C$2:$C$247),\"\")","v":""},{"v":0,"d":"0.00 €"},51200004,null,""]
[{"$nulls":5},"G","BQ4",106,51200004,{"$f":"IFERROR(LOOKUP(9999999,FIND(BASE!$B$1:$B$247,$C108),BASE!$A$1:$A$247),\"47100000\")","v":"47100000"},{"$f":"IF(J108=40110000,LOOKUP(9999999,FIND(BASE!$B$2:$B$247,$C108),BASE!$C$2:$C$247),\"\")","v":""},{"v":0,"d":"0.00 €"},51200004,null,""]
[{"$nulls":5},"G","BQ4",107,51200004,{"$f":"IFERROR(LOOKUP(9999999,FIND(BASE!$B$1:$B$247,$C109),BASE!$A$1:$A$247),\"47100000\")","v":"47100000"},{"$f":"IF(J109=40110000,LOOKUP(9999999,FIND(BASE!$B$2:$B$247,$C109),BASE!$C$2:$C$247),\"\")","v":""},{"v":0,"d":"0.00 €"},51200004,null,""]
[{"$nulls":5},"G","BQ4",108,51200004,{"$f":"IFERROR(LOOKUP(9999999,FIND(BASE!$B$1:$B$247,$C110),BASE!$A$1:$A$247),\"47100000\")","v":"47100000"},{"$f":"IF(J110=40110000,LOOKUP(9999999,FIND(BASE!$B$2:$B$247,$C110),BASE!$C$2:$C$247),\"\")","v":""},{"v":0,"d":"0.00 €"},51200004,null,""]
[{"$nulls":5},"G","BQ4",109,51200004,{"$f":"IFERROR(LOOKUP(9999999,FIND(BASE!$B$1:$B$247,$C111),BASE!$A$1:$A$247),\"47100000\")","v":"47100000"},{"$f":"IF(J111=40110000,LOOKUP(9999999,FIND(BASE!$B$2:$B$247,$C111),BASE!$C$2:$C$247),\"\")","v":""},{"v":0,"d":"0.00 €"},51200004,null,""]
[{"$nulls":5},"G","BQ4",110,51200004,{"$f":"IFERROR(LOOKUP(9999999,FIND(BASE!$B$1:$B$247,$C112),BASE!$A$1:$A$247),\"47100000\")","v":"47100000"},{"$f":"IF(J112=40110000,LOOKUP(9999999,FIND(BASE!$B$2:$B$247,$C112),BASE!$C$2:$C$247),\"\")","v":""},{"v":0,"d":"0.00 €"},51200004,null,""]
[{"$nulls":5},"G","BQ4",111,51200004,{"$f":"IFERROR(LOOKUP(9999999,FIND(BASE!$B$1:$B$247,$C113),BASE!$A$1:$A$247),\"47100000\")","v":"47100000"},{"$f":"IF(J113=40110000,LOOKUP(9999999,FIND(BASE!$B$2:$B$247,$C113),BASE!$C$2:$C$247),\"\")","v":""},{"v":0,"d":"0.00 €"},51200004,null,""]
[{"$nulls":5},"G","BQ4",112,51200004,{"$f":"IFERROR(LOOKUP(9999999,FIND(BASE!$B$1:$B$247,$C114),BASE!$A$1:$A$247),\"47100000\")","v":"47100000"},{"$f":"IF(J114=40110000,LOOKUP(9999999,FIND(BASE!$B$2:$B$247,$C114),BASE!$C$2:$C$247),\"\")","v":""},{"v":0,"d":"0.00 €"},51200004,null,""]
[{"$nulls":5},"G","BQ4",113,51200004,{"$f":"IFERROR(LOOKUP(9999999,FIND(BASE!$B$1:$B$247,$C115),BASE!$A$1:$A$247),\"47100000\")","v":"47100000"},{"$f":"IF(J115=40110000,LOOKUP(9999999,FIND(BASE!$B$2:$B$247,$C115),BASE!$C$2:$C$247),\"\")","v":""},{"v":0,"d":"0.00 €"},51200004,null,""]
[{"$nulls":5},"G","BQ4",114,51200004,{"$f":"IFERROR(LOOKUP(9999999,FIND(BASE!$B$1:$B$247,$C116),BASE!$A$1:$A$247),\"47100000\")","v":"47100000"},{"$f":"IF(J116=40110000,LOOKUP(9999999,FIND(BASE!$B$2:$B$247,$C116),BASE!$C$2:$C$247),\"\")","v":""},{"v":0,"d":"0.00 €"},51200004,null,""]
[{"$nulls":5},"G","BQ4",115,51200004,{"$f":"IFERROR(LOOKUP(9999999,FIND(BASE!$B$1:$B$247,$C117),BASE!$A$1:$A$247),\"47100000\")","v":"47100000"},{"$f":"IF(J117=40110000,LOOKUP(9999999,FIND(BASE!$B$2:$B$247,$C117),BASE!$C$2:$C$247),\"\")","v":""},{"v":0,"d":"0.00 €"},51200004,null,""]
[{"$nulls":5},"G","BQ4",116,51200004,{"$f":"IFERROR(LOOKUP(9999999,FIND(BASE!$B$1:$B$247,$C118),BASE!$A$1:$A$247),\"47100000\")","v":"47100000"},{"$f":"IF(J118=40110000,LOOKUP(9999999,FIND(BASE!$B$2:$B$247,$C118),BASE!$C$2:$C$247),\"\")","v":""},{"v":0,"d":"0.00 €"},51200004,null,""]
[{"$nulls":5},"G","BQ4",117,51200004,{"$f":"IFERROR(LOOKUP(9999999,FIND(BASE!$B$1:$B$247,$C119),BASE!$A$1:$A$247),\"47100000\")","v":"47100000"},{"$f":"IF(J119=40110000,LOOKUP(9999999,FIND(BASE!$B$2:$B$247,$C119),BASE!$C$2:$C$247),\"\")","v":""},{"v":0,"d":"0.00 €"},51200004,null,""]
[{"$nulls":5},"G","BQ4",118,51200004,{"$f":"IFERROR(LOOKUP(9999999,FIND(BASE!$B$1:$B$247,$C120),BASE!$A$1:$A$247),\"47100000\")","v":"47100000"},{"$f":"IF(J120=40110000,LOOKUP(9999999,FIND(BASE!$B$2:$B$247,$C120),BASE!$C$2:$C$247),\"\")","v":""},{"v":0,"d":"0.00 €"},51200004,null,""]
[{"$nulls":5},"G","BQ4",119,51200004,{"$f":"IFERROR(LOOKUP(9999999,FIND(BASE!$B$1:$B$247,$C121),BASE!$A$1:$A$247),\"47100000\")","v":"47100000"},{"$f":"IF(J121=40110000,LOOKUP(9999999,FIND(BASE!$B$2:$B$247,$C121),BASE!$C$2:$C$247),\"\")","v":""},{"v":0,"d":"0.00 €"},51200004,null,""]
[{"$nulls":5},"G","BQ4",120,51200004,{"$f":"IFERROR(LOOKUP(9999999,FIND(BASE!$B$1:$B$247,$C122),BASE!$A$1:$A$247),\"47100000\")","v":"47100000"},{"$f":"IF(J122=40110000,LOOKUP(9999999,FIND(BASE!$B$2:$B$247,$C122),BASE!$C$2:$C$247),\"\")","v":""},{"v":0,"d":"0.00 €"},51200004,null,""]
[{"$nulls":5},"G","BQ4",121,51200004,{"$f":"IFERROR(LOOKUP(9999999,FIND(BASE!$B$1:$B$247,$C123),BASE!$A$1:$A$247),\"47100000\")","v":"47100000"},{"$f":"IF(J123=40110000,LOOKUP(9999999,FIND(BASE!$B$2:$B$247,$C123),BASE!$C$2:$C$247),\"\")","v":""},{"v":0,"d":"0.00 €"},51200004,null,""]
[{"$nulls":5},"G","BQ4",122,51200004,{"$f":"IFERROR(LOOKUP(9999999,FIND(BASE!$B$1:$B$247,$C124),BASE!$A$1:$A$247),\"47100000\")","v":"47100000"},{"$f":"IF(J124=40110000,LOOKUP(9999999,FIND(BASE!$B$2:$B$247,$C124),BASE!$C$2:$C$247),\"\")","v":""},{"v":0,"d":"0.00 €"},51200004,null,""]
[{"$nulls":5},"G","BQ4",123,51200004,{"$f":"IFERROR(LOOKUP(9999999,FIND(BASE!$B$1:$B$247,$C125),BASE!$A$1:$A$247),\"47100000\")","v":"47100000"},{"$f":"IF(J125=40110000,LOOKUP(9999999,FIND(BASE!$B$2:$B$247,$C125),BASE!$C$2:$C$247),\"\")","v":""},{"v":0,"d":"0.00 €"},51200004,null,""]
[{"$nulls":5},"G","BQ4",124,51200004,{"$f":"IFERROR(LOOKUP(9999999,FIND(BASE!$B$1:$B$247,$C126),BASE!$A$1:$A$247),\"47100000\")","v":"47100000"},{"$f":"IF(J126=40110000,LOOKUP(9999999,FIND(BASE!$B$2:$B$247,$C126),BASE!$C$2:$C$247),\"\")","v":""},{"v":0,"d":"0.00 €"},51200004,null,""]
[{"$nulls":5},"G","BQ4",125,51200004,{"$f":"IFERROR(LOOKUP(9999999,FIND(BASE!$B$1:$B$247,$C127),BASE!$A$1:$A$247),\"47100000\")","v":"47100000"},{"$f":"IF(J127=40110000,LOOKUP(9999999,FIND(BASE!$B$2:$B$247,$C127),BASE!$C$2:$C$247),\"\")","v":""},{"v":0,"d":"0.00 €"},51200004,null,""]
[{"$nulls":5},"G","BQ4",126,51200004,{"$f":"IFERROR(LOOKUP(9999999,FIND(BASE!$B$1:$B$247,$C128),BASE!$A$1:$A$247),\"47100000\")","v":"47100000"},{"$f":"IF(J128=40110000,LOOKUP(9999999,FIND(BASE!$B$2:$B$247,$C128),BASE!$C$2:$C$247),\"\")","v":""},{"v":0,"d":"0.00 €"},51200004,null,""]
[{"$nulls":5},"G","BQ4",127,51200004,{"$f":"IFERROR(LOOKUP(9999999,FIND(BASE!$B$1:$B$247,$C129),BASE!$A$1:$A$247),\"47100000\")","v":"47100000"},{"$f":"IF(J129=40110000,LOOKUP(9999999,FIND(BASE!$B$2:$B$247,$C129),BASE!$C$2:$C$247),\"\")","v":""},{"v":0,"d":"0.00 €"},51200004,null,""]
[{"$nulls":5},"G","BQ4",128,51200004,{"$f":"IFERROR(LOOKUP(9999999,FIND(BASE!$B$1:$B$247,$C130),BASE!$A$1:$A$247),\"47100000\")","v":"47100000"},{"$f":"IF(J130=40110000,LOOKUP(9999999,FIND(BASE!$B$2:$B$247,$C130),BASE!$C$2:$C$247),\"\")","v":""},{"v":0,"d":"0.00 €"},51200004,null,""]
[{"$nulls":5},"G","BQ4",129,51200004,{"$f":"IFERROR(LOOKUP(9999999,FIND(BASE!$B$1:$B$247,$C131),BASE!$A$1:$A$247),\"47100000\")","v":"47100000"},{"$f":"IF(J131=40110000,LOOKUP(9999999,FIND(BASE!$B$2:$B$247,$C131),BASE!$C$2:$C$247),\"\")","v":""},{"v":0,"d":"0.00 €"},51200004,null,""]
[{"$nulls":5},"G","BQ4",130,51200004,{"$f":"IFERROR(LOOKUP(9999999,FIND(BASE!$B$1:$B$247,$C132),BASE!$A$1:$A$247),\"47100000\")","v":"47100000"},{"$f":"IF(J132=40110000,LOOKUP(9999999,FIND(BASE!$B$2:$B$247,$C132),BASE!$C$2:$C$247),\"\")","v":""},{"v":0,"d":"0.00 €"},51200004,null,""]
[{"$nulls":5},"G","BQ4",131,51200004,{"$f":"IFERROR(LOOKUP(9999999,FIND(BASE!$B$1:$B$247,$C133),BASE!$A$1:$A$247),\"47100000\")","v":"47100000"},{"$f":"IF(J133=40110000,LOOKUP(9999999,FIND(BASE!$B$2:$B$247,$C133),BASE!$C$2:$C$247),\"\")","v":""},{"v":0,"d":"0.00 €"},51200004,null,""]
[{"$nulls":5},"G","BQ4",132,51200004,{"$f":"IFERROR(LOOKUP(9999999,FIND(BASE!$B$1:$B$247,$C134),BASE!$A$1:$A$247),\"47100000\")","v":"47100000"},{"$f":"IF(J134=40110000,LOOKUP(9999999,FIND(BASE!$B$2:$B$247,$C134),BASE!$C$2:$C$247),\"\")","v":""},{"v":0,"d":"0.00 €"},51200004,null,""]
[{"$nulls":5},"G","BQ4",133,51200004,{"$f":"IFERROR(LOOKUP(9999999,FIND(BASE!$B$1:$B$247,$C135),BASE!$A$1:$A$247),\"47100000\")","v":"47100000"},{"$f":"IF(J135=40110000,LOOKUP(9999999,FIND(BASE!$B$2:$B$247,$C135),BASE!$C$2:$C$247),\"\")","v":""},{"v":0,"d":"0.00 €"},51200004,null,""]
[{"$nulls":5},"G","BQ4",134,51200004,{"$f":"IFERROR(LOOKUP(9999999,FIND(BASE!$B$1:$B$247,$C136),BASE!$A$1:$A$247),\"47100000\")","v":"47100000"},{"$f":"IF(J136=40110000,LOOKUP(9999999,FIND(BASE!$B$2:$B$247,$C136),BASE!$C$2:$C$247),\"\")","v":""},{"v":0,"d":"0.00 €"},51200004,null,""]
[{"$nulls":5},"G","BQ4",135,51200004,{"$f":"IFERROR(LOOKUP(9999999,FIND(BASE!$B$1:$B$247,$C137),BASE!$A$1:$A$247),\"47100000\")","v":"47100000"},{"$f":"IF(J137=40110000,LOOKUP(9999999,FIND(BASE!$B$2:$B$247,$C137),BASE!$C$2:$C$247),\"\")","v":""},{"v":0,"d":"0.00 €"},51200004,null,""]
[{"$nulls":5},"G","BQ4",136,51200004,{"$f":"IFERROR(LOOKUP(9999999,FIND(BASE!$B$1:$B$247,$C138),BASE!$A$1:$A$247),\"47100000\")","v":"47100000"},{"$f":"IF(J138=40110000,LOOKUP(9999999,FIND(BASE!$B$2:$B$247,$C138),BASE!$C$2:$C$247),\"\")","v":""},{"v":0,"d":"0.00 €"},51200004,null,""]
[{"$nulls":5},"G","BQ4",137,51200004,{"$f":"IFERROR(LOOKUP(9999999,FIND(BASE!$B$1:$B$247,$C139),BASE!$A$1:$A$247),\"47100000\")","v":"47100000"},{"$f":"IF(J139=40110000,LOOKUP(9999999,FIND(BASE!$B$2:$B$247,$C139),BASE!$C$2:$C$247),\"\")","v":""},{"v":0,"d":"0.00 €"},51200004,null,""]
[{"$nulls":5},"G","BQ4",138,51200004,{"$f":"IFERROR(LOOKUP(9999999,FIND(BASE!$B$1:$B$247,$C140),BASE!$A$1:$A$247),\"47100000\")","v":"47100000"},{"$f":"IF(J140=40110000,LOOKUP(9999999,FIND(BASE!$B$2:$B$247,$C140),BASE!$C$2:$C$247),\"\")","v":""},{"v":0,"d":"0.00 €"},51200004,null,""]
[{"$nulls":5},"G","BQ4",139,51200004,{"$f":"IFERROR(LOOKUP(9999999,FIND(BASE!$B$1:$B$247,$C141),BASE!$A$1:$A$247),\"47100000\")","v":"47100000"},{"$f":"IF(J141=40110000,LOOKUP(9999999,FIND(BASE!$B$2:$B$247,$C141),BASE!$C$2:$C$247),\"\")","v":""},{"v":0,"d":"0.00 €"},51200004,null,""]
[{"$nulls":5},"G","BQ4",140,51200004,{"$f":"IFERROR(LOOKUP(9999999,FIND(BASE!$B$1:$B$247,$C142),BASE!$A$1:$A$247),\"47100000\")","v":"47100000"},{"$f":"IF(J142=40110000,LOOKUP(9999999,FIND(BASE!$B$2:$B$247,$C142),BASE!$C$2:$C$247),\"\")","v":""},{"v":0,"d":"0.00 €"},51200004,null,""]
[{"$nulls":5},"G","BQ4",141,51200004,{"$f":"IFERROR(LOOKUP(9999999,FIND(BASE!$B$1:$B$247,$C143),BASE!$A$1:$A$247),\"47100000\")","v":"47100000"},{"$f":"IF(J143=40110000,LOOKUP(9999999,FIND(BASE!$B$2:$B$247,$C143),BASE!$C$2:$C$247),\"\")","v":""},{"v":0,"d":"0.00 €"},51200004,null,""]
[{"$nulls":5},"G","BQ4",142,51200004,{"$f":"IFERROR(LOOKUP(9999999,FIND(BASE!$B$1:$B$247,$C144),BASE!$A$1:$A$247),\"47100000\")","v":"47100000"},{"$f":"IF(J144=40110000,LOOKUP(9999999,FIND(BASE!$B$2:$B$247,$C144),BASE!$C$2:$C$247),\"\")","v":""},{"v":0,"d":"0.00 €"},51200004,null,""]
[{"$nulls":5},"G","BQ4",143,51200004,{"$f":"IFERROR(LOOKUP(9999999,FIND(BASE!$B$1:$B$247,$C145),BASE!$A$1:$A$247),\"47100000\")","v":"47100000"},{"$f":"IF(J145=40110000,LOOKUP(9999999,FIND(BASE!$B$2:$B$247,$C145),BASE!$C$2:$C$247),\"\")","v":""},{"v":0,"d":"0.00 €"},51200004,null,""]
[{"$nulls":5},"G","BQ4",144,51200004,{"$f":"IFERROR(LOOKUP(9999999,FIND(BASE!$B$1:$B$247,$C146),BASE!$A$1:$A$247),\"47100000\")","v":"47100000"},{"$f":"IF(J146=40110000,LOOKUP(9999999,FIND(BASE!$B$2:$B$247,$C146),BASE!$C$2:$C$247),\"\")","v":""},{"v":0,"d":"0.00 €"},51200004,null,""]
[{"$nulls":5},"G","BQ4",145,51200004,{"$f":"IFERROR(LOOKUP(9999999,FIND(BASE!$B$1:$B$247,$C147),BASE!$A$1:$A$247),\"47100000\")","v":"47100000"},{"$f":"IF(J147=40110000,LOOKUP(9999999,FIND(BASE!$B$2:$B$247,$C147),BASE!$C$2:$C$247),\"\")","v":""},{"v":0,"d":"0.00 €"},51200004,null,""]
[{"$nulls":5},"G","BQ4",146,51200004,{"$f":"IFERROR(LOOKUP(9999999,FIND(BASE!$B$1:$B$247,$C148),BASE!$A$1:$A$247),\"47100000\")","v":"47100000"},{"$f":"IF(J148=40110000,LOOKUP(9999999,FIND(BASE!$B$2:$B$247,$C148),BASE!$C$2:$C$247),\"\")","v":""},{"v":0,"d":"0.00 €"},51200004,null,""]
[{"$nulls":5},"G","BQ4",147,51200004,{"$f":"IFERROR(LOOKUP(9999999,FIND(BASE!$B$1:$B$247,$C149),BASE!$A$1:$A$247),\"47100000\")","v":"47100000"},{"$f":"IF(J149=40110000,LOOKUP(9999999,FIND(BASE!$B$2:$B$247,$C149),BASE!$C$2:$C$247),\"\")","v":""},{"v":0,"d":"0.00 €"},51200004,null,""]
[{"$nulls":5},"G","BQ4",148,51200004,{"$f":"IFERROR(LOOKUP(9999999,FIND(BASE!$B$1:$B$247,$C150),BASE!$A$1:$A$247),\"47100000\")","v":"47100000"},{"$f":"IF(J150=40110000,LOOKUP(9999999,FIND(BASE!$B$2:$B$247,$C150),BASE!$C$2:$C$247),\"\")","v":""},{"v":0,"d":"0.00 €"},51200004,null,""]
[{"$nulls":5},"G","BQ4",149,51200004,{"$f":"IFERROR(LOOKUP(9999999,FIND(BASE!$B$1:$B$247,$C151),BASE!$A$1:$A$247),\"47100000\")","v":"47100000"},{"$f":"IF(J151=40110000,LOOKUP(9999999,FIND(BASE!$B$2:$B$247,$C151),BASE!$C$2:$C$247),\"\")","v":""},{"v":0,"d":"0.00 €"},51200004,null,""]
[{"$nulls":5},"G","BQ4",150,51200004,{"$f":"IFERROR(LOOKUP(9999999,FIND(BASE!$B$1:$B$247,$C152),BASE!$A$1:$A$247),\"47100000\")","v":"47100000"},{"$f":"IF(J152=40110000,LOOKUP(9999999,FIND(BASE!$B$2:$B$247,$C152),BASE!$C$2:$C$247),\"\")","v":""},{"v":0,"d":"0.00 €"},51200004,null,""]
[{"$nulls":5},"G","BQ4",151,51200004,{"$f":"IFERROR(LOOKUP(9999999,FIND(BASE!$B$1:$B$247,$C153),BASE!$A$1:$A$247),\"47100000\")","v":"47100000"},{"$f":"IF(J153=40110000,LOOKUP(9999999,FIND(BASE!$B$2:$B$247,$C153),BASE!$C$2:$C$247),\"\")","v":""},{"v":0,"d":"0.00 €"},51200004,null,""]
[{"$nulls":5},"G","BQ4",152,51200004,{"$f":"IFERROR(LOOKUP(9999999,FIND(BASE!$B$1:$B$247,$C154),BASE!$A$1:$A$247),\"47100000\")","v":"47100000"},{"$f":"IF(J154=40110000,LOOKUP(9999999,FIND(BASE!$B$2:$B$247,$C154),BASE!$C$2:$C$247),\"\")","v":""},{"v":0,"d":"0.00 €"},51200004,null,""]
[{"$nulls":5},"G","BQ4",153,51200004,{"$f":"IFERROR(LOOKUP(9999999,FIND(BASE!$B$1:$B$247,$C155),BASE!$A$1:$A$247),\"47100000\")","v":"47100000"},{"$f":"IF(J155=40110000,LOOKUP(9999999,FIND(BASE!$B$2:$B$247,$C155),BASE!$C$2:$C$247),\"\")","v":""},{"v":0,"d":"0.00 €"},51200004,null,""]
[{"$nulls":5},"G","BQ4",154,51200004,{"$f":"IFERROR(LOOKUP(9999999,FIND(BASE!$B$1:$B$247,$C156),BASE!$A$1:$A$247),\"47100000\")","v":"47100000"},{"$f":"IF(J156=40110000,LOOKUP(9999999,FIND(BASE!$B$2:$B$247,$C156),BASE!$C$2:$C$247),\"\")","v":""},{"v":0,"d":"0.00 €"},51200004,null,""]
[{"$nulls":5},"G","BQ4",155,51200004,{"$f":"IFERROR(LOOKUP(9999999,FIND(BASE!$B$1:$B$247,$C157),BASE!$A$1:$A$247),\"47100000\")","v":"47100000"},{"$f":"IF(J157=40110000,LOOKUP(9999999,FIND(BASE!$B$2:$B$247,$C157),BASE!$C$2:$C$247),\"\")","v":""},{"v":0,"d":"0.00 €"},51200004,null,""]
[{"$nulls":5},"G","BQ4",156,51200004,{"$f":"IFERROR(LOOKUP(9999999,FIND(BASE!$B$1:$B$247,$C158),BASE!$A$1:$A$247),\"47100000\")","v":"47100000"},{"$f":"IF(J158=40110000,LOOKUP(9999999,FIND(BASE!$B$2:$B$247,$C158),BASE!$C$2:$C$247),\"\")","v":""},{"v":0,"d":"0.00 €"},51200004,null,""]
[{"$nulls":5},"G","BQ4",157,51200004,{"$f":"IFERROR(LOOKUP(9999999,FIND(BASE!$B$1:$B$247,$C159),BASE!$A$1:$A$247),\"47100000\")","v":"47100000"},{"$f":"IF(J159=40110000,LOOKUP(9999999,FIND(BASE!$B$2:$B$247,$C159),BASE!$C$2:$C$247),\"\")","v":""},{"v":0,"d":"0.00 €"},51200004,null,""]
[{"$nulls":5},"G","BQ4",158,51200004,{"$f":"IFERROR(LOOKUP(9999999,FIND(BASE!$B$1:$B$247,$C160),BASE!$A$1:$A$247),\"47100000\")","v":"47100000"},{"$f":"IF(J160=40110000,LOOKUP(9999999,FIND(BASE!$B$2:$B$247,$C160),BASE!$C$2:$C$247),\"\")","v":""},{"v":0,"d":"0.00 €"},51200004,null,""]
[{"$nulls":5},"G","BQ4",159,51200004,{"$f":"IFERROR(LOOKUP(9999999,FIND(BASE!$B$1:$B$247,$C161),BASE!$A$1:$A$247),\"47100000\")","v":"47100000"},{"$f":"IF(J161=40110000,LOOKUP(9999999,FIND(BASE!$B$2:$B$247,$C161),BASE!$C$2:$C$247),\"\")","v":""},{"v":0,"d":"0.00 €"},51200004,null,""]
[{"$nulls":5},"G","BQ4",160,51200004,{"$f":"IFERROR(LOOKUP(9999999,FIND(BASE!$B$1:$B$247,$C162),BASE!$A$1:$A$247),\"47100000\")","v":"47100000"},{"$f":"IF(J162=40110000,LOOKUP(9999999,FIND(BASE!$B$2:$B$247,$C162),BASE!$C$2:$C$247),\"\")","v":""},{"v":0,"d":"0.00 €"},51200004,null,""]
[{"$nulls":5},"G","BQ4",161,51200004,{"$f":"IFERROR(LOOKUP(9999999,FIND(BASE!$B$1:$B$247,$C163),BASE!$A$1:$A$247),\"47100000\")","v":"47100000"},{"$f":"IF(J163=40110000,LOOKUP(9999999,FIND(BASE!$B$2:$B$247,$C163),BASE!$C$2:$C$247),\"\")","v":""},{"v":0,"d":"0.00 €"},51200004,null,""]
[{"$nulls":5},"G","BQ4",162,51200004,{"$f":"IFERROR(LOOKUP(9999999,FIND(BASE!$B$1:$B$247,$C164),BASE!$A$1:$A$247),\"47100000\")","v":"47100000"},{"$f":"IF(J164=40110000,LOOKUP(9999999,FIND(BASE!$B$2:$B$247,$C164),BASE!$C$2:$C$247),\"\")","v":""},{"v":0,"d":"0.00 €"},51200004,null,""]
[{"$nulls":5},"G","BQ4",163,51200004,{"$f":"IFERROR(LOOKUP(9999999,FIND(BASE!$B$1:$B$247,$C165),BASE!$A$1:$A$247),\"47100000\")","v":"47100000"},{"$f":"IF(J165=40110000,LOOKUP(9999999,FIND(BASE!$B$2:$B$247,$C165),BASE!$C$2:$C$247),\"\")","v":""},{"v":0,"d":"0.00 €"},51200004,null,""]
[{"$nulls":5},"G","BQ4",164,51200004,{"$f":"IFERROR(LOOKUP(9999999,FIND(BASE!$B$1:$B$247,$C166),BASE!$A$1:$A$247),\"47100000\")","v":"47100000"},{"$f":"IF(J166=40110000,LOOKUP(9999999,FIND(BASE!$B$2:$B$247,$C166),BASE!$C$2:$C$247),\"\")","v":""},{"v":0,"d":"0.00 €"},51200004,null,""]
[{"$nulls":5},"G","BQ4",165,51200004,{"$f":"IFERROR(LOOKUP(9999999,FIND(BASE!$B$1:$B$247,$C167),BASE!$A$1:$A$247),\"47100000\")","v":"47100000"},{"$f":"IF(J167=40110000,LOOKUP(9999999,FIND(BASE!$B$2:$B$247,$C167),BASE!$C$2:$C$247),\"\")","v":""},{"v":0,"d":"0.00 €"},51200004,null,""]
[{"$nulls":5},"G","BQ4",166,51200004,{"$f":"IFERROR(LOOKUP(9999999,FIND(BASE!$B$1:$B$247,$C168),BASE!$A$1:$A$247),\"47100000\")","v":"47100000"},{"$f":"IF(J168=40110000,LOOKUP(9999999,FIND(BASE!$B$2:$B$247,$C168),BASE!$C$2:$C$247),\"\")","v":""},{"v":0,"d":"0.00 €"},51200004,null,""]
[{"$nulls":5},"G","BQ4",167,51200004,{"$f":"IFERROR(LOOKUP(9999999,FIND(BASE!$B$1:$B$247,$C169),BASE!$A$1:$A$247),\"47100000\")","v":"47100000"},{"$f":"IF(J169=40110000,LOOKUP(9999999,FIND(BASE!$B$2:$B$247,$C169),BASE!$C$2:$C$247),\"\")","v":""},{"v":0,"d":"0.00 €"},51200004,null,""]
[{"$nulls":5},"G","BQ4",168,51200004,{"$f":"IFERROR(LOOKUP(9999999,FIND(BASE!$B$1:$B$247,$C170),BASE!$A$1:$A$247),\"47100000\")","v":"47100000"},{"$f":"IF(J170=40110000,LOOKUP(9999999,FIND(BASE!$B$2:$B$247,$C170),BASE!$C$2:$C$247),\"\")","v":""},{"v":0,"d":"0.00 €"},51200004,null,""]
[{"$nulls":5},"G","BQ4",169,51200004,{"$f":"IFERROR(LOOKUP(9999999,FIND(BASE!$B$1:$B$247,$C171),BASE!$A$1:$A$247),\"47100000\")","v":"47100000"},{"$f":"IF(J171=40110000,LOOKUP(9999999,FIND(BASE!$B$2:$B$247,$C171),BASE!$C$2:$C$247),\"\")","v":""},{"v":0,"d":"0.00 €"},51200004,null,""]
[{"$nulls":5},"G","BQ4",170,51200004,{"$f":"IFERROR(LOOKUP(9999999,FIND(BASE!$B$1:$B$247,$C172),BASE!$A$1:$A$247),\"47100000\")","v":"47100000"},{"$f":"IF(J172=40110000,LOOKUP(9999999,FIND(BASE!$B$2:$B$247,$C172),BASE!$C$2:$C$247),\"\")","v":""},{"v":0,"d":"0.00 €"},51200004,null,""]
[{"$nulls":5},"G","BQ4",171,51200004,{"$f":"IFERROR(LOOKUP(9999999,FIND(BASE!$B$1:$B$247,$C173),BASE!$A$1:$A$247),\"47100000\")","v":"47100000"},{"$f":"IF(J173=40110000,LOOKUP(9999999,FIND(BASE!$B$2:$B$247,$C173),BASE!$C$2:$C$247),\"\")","v":""},{"v":0,"d":"0.00 €"},51200004,null,""]
[{"$nulls":5},"G","BQ4",172,51200004,{"$f":"IFERROR(LOOKUP(9999999,FIND(BASE!$B$1:$B$247,$C174),BASE!$A$1:$A$247),\"47100000\")","v":"47100000"},{"$f":"IF(J174=40110000,LOOKUP(9999999,FIND(BASE!$B$2:$B$247,$C174),BASE!$C$2:$C$247),\"\")","v":""},{"v":0,"d":"0.00 €"},51200004,null,""]
[{"$nulls":5},"G","BQ4",173,51200004,{"$f":"IFERROR(LOOKUP(9999999,FIND(BASE!$B$1:$B$247,$C175),BASE!$A$1:$A$247),\"47100000\")","v":"47100000"},{"$f":"IF(J175=40110000,LOOKUP(9999999,FIND(BASE!$B$2:$B$247,$C175),BASE!$C$2:$C$247),\"\")","v":""},{"v":0,"d":"0.00 €"},51200004,null,""]
[{"$nulls":5},"G","BQ4",174,51200004,{"$f":"IFERROR(LOOKUP(9999999,FIND(BASE!$B$1:$B$247,$C176),BASE!$A$1:$A$247),\"47100000\")","v":"47100000"},{"$f":"IF(J176=40110000,LOOKUP(9999999,FIND(BASE!$B$2:$B$247,$C176),BASE!$C$2:$C$247),\"\")","v":""},{"v":0,"d":"0.00 €"},51200004,null,""]
[{"$nulls":5},"G","BQ4",175,51200004,{"$f":"IFERROR(LOOKUP(9999999,FIND(BASE!$B$1:$B$247,$C177),BASE!$A$1:$A$247),\"47100000\")","v":"47100000"},{"$f":"IF(J177=40110000,LOOKUP(9999999,FIND(BASE!$B$2:$B$247,$C177),BASE!$C$2:$C$247),\"\")","v":""},{"v":0,"d":"0.00 €"},51200004,null,""]
[{"$nulls":5},"G","BQ4",176,51200004,{"$f":"IFERROR(LOOKUP(9999999,FIND(BASE!$B$1:$B$247,$C178),BASE!$A$1:$A$247),\"47100000\")","v":"47100000"},{"$f":"IF(J178=40110000,LOOKUP(9999999,FIND(BASE!$B$2:$B$247,$C178),BASE!$C$2:$C$247),\"\")","v":""},{"v":0,"d":"0.00 €"},51200004,null,""]
[{"$nulls":5},"G","BQ4",177,51200004,{"$f":"IFERROR(LOOKUP(9999999,FIND(BASE!$B$1:$B$247,$C179),BASE!$A$1:$A$247),\"47100000\")","v":"47100000"},{"$f":"IF(J179=40110000,LOOKUP(9999999,FIND(BASE!$B$2:$B$247,$C179),BASE!$C$2:$C$247),\"\")","v":""},{"v":0,"d":"0.00 €"},51200004,null,""]
[{"$nulls":5},"G","BQ4",178,51200004,{"$f":"IFERROR(LOOKUP(9999999,FIND(BASE!$B$1:$B$247,$C180),BASE!$A$1:$A$247),\"47100000\")","v":"47100000"},{"$f":"IF(J180=40110000,LOOKUP(9999999,FIND(BASE!$B$2:$B$247,$C180),BASE!$C$2:$C$247),\"\")","v":""},{"v":0,"d":"0.00 €"},51200004,null,""]
[{"$nulls":5},"G","BQ4",179,51200004,{"$f":"IFERROR(LOOKUP(9999999,FIND(BASE!$B$1:$B$247,$C181),BASE!$A$1:$A$247),\"47100000\")","v":"47100000"},{"$f":"IF(J181=40110000,LOOKUP(9999999,FIND(BASE!$B$2:$B$247,$C181),BASE!$C$2:$C$247),\"\")","v":""},{"v":0,"d":"0.00 €"},51200004,null,""]
[{"$nulls":5},"G","BQ4",180,51200004,{"$f":"IFERROR(LOOKUP(9999999,FIND(BASE!$B$1:$B$247,$C182),BASE!$A$1:$A$247),\"47100000\")","v":"47100000"},{"$f":"IF(J182=40110000,LOOKUP(9999999,FIND(BASE!$B$2:$B$247,$C182),BASE!$C$2:$C$247),\"\")","v":""},{"v":0,"d":"0.00 €"},51200004,null,""]
[{"$nulls":5},"G","BQ4",181,51200004,{"$f":"IFERROR(LOOKUP(9999999,FIND(BASE!$B$1:$B$247,$C183),BASE!$A$1:$A$247),\"47100000\")","v":"47100000"},{"$f":"IF(J183=40110000,LOOKUP(9999999,FIND(BASE!$B$2:$B$247,$C183),BASE!$C$2:$C$247),\"\")","v":""},{"v":0,"d":"0.00 €"},51200004,null,""]
[{"$nulls":5},"G","BQ4",182,51200004,{"$f":"IFERROR(LOOKUP(9999999,FIND(BASE!$B$1:$B$247,$C184),BASE!$A$1:$A$247),\"47100000\")","v":"47100000"},{"$f":"IF(J184=40110000,LOOKUP(9999999,FIND(BASE!$B$2:$B$247,$C184),BASE!$C$2:$C$247),\"\")","v":""},{"v":0,"d":"0.00 €"},51200004,null,""]
[{"$nulls":5},"G","BQ4",183,51200004,{"$f":"IFERROR(LOOKUP(9999999,FIND(BASE!$B$1:$B$247,$C185),BASE!$A$1:$A$247),\"47100000\")","v":"47100000"},{"$f":"IF(J185=40110000,LOOKUP(9999999,FIND(BASE!$B$2:$B$247,$C185),BASE!$C$2:$C$247),\"\")","v":""},{"v":0,"d":"0.00 €"},51200004,null,""]
[{"$nulls":5},"G","BQ4",184,51200004,{"$f":"IFERROR(LOOKUP(9999999,FIND(BASE!$B$1:$B$247,$C186),BASE!$A$1:$A$247),\"47100000\")","v":"47100000"},{"$f":"IF(J186=40110000,LOOKUP(9999999,FIND(BASE!$B$2:$B$247,$C186),BASE!$C$2:$C$247),\"\")","v":""},{"v":0,"d":"0.00 €"},51200004,null,""]
[{"$nulls":5},"G","BQ4",185,51200004,{"$f":"IFERROR(LOOKUP(9999999,FIND(BASE!$B$1:$B$247,$C187),BASE!$A$1:$A$247),\"47100000\")","v":"47100000"},{"$f":"IF(J187=40110000,LOOKUP(9999999,FIND(BASE!$B$2:$B$247,$C187),BASE!$C$2:$C$247),\"\")","v":""},{"v":0,"d":"0.00 €"},51200004,null,""]
[{"$nulls":5},"G","BQ4",186,51200004,{"$f":"IFERROR(LOOKUP(9999999,FIND(BASE!$B$1:$B$247,$C188),BASE!$A$1:$A$247),\"47100000\")","v":"47100000"},{"$f":"IF(J188=40110000,LOOKUP(9999999,FIND(BASE!$B$2:$B$247,$C188),BASE!$C$2:$C$247),\"\")","v":""},{"v":0,"d":"0.00 €"},51200004,null,""]
[{"$nulls":5},"G","BQ4",187,51200004,{"$f":"IFERROR(LOOKUP(9999999,FIND(BASE!$B$1:$B$247,$C189),BASE!$A$1:$A$247),\"47100000\")","v":"47100000"},{"$f":"IF(J189=40110000,LOOKUP(9999999,FIND(BASE!$B$2:$B$247,$C189),BASE!$C$2:$C$247),\"\")","v":""},{"v":0,"d":"0.00 €"},51200004,null,""]
[{"$nulls":5},"G","BQ4",188,51200004,{"$f":"IFERROR(LOOKUP(9999999,FIND(BASE!$B$1:$B$247,$C190),BASE!$A$1:$A$247),\"47100000\")","v":"47100000"},{"$f":"IF(J190=40110000,LOOKUP(9999999,FIND(BASE!$B$2:$B$247,$C190),BASE!$C$2:$C$247),\"\")","v":""},{"v":0,"d":"0.00 €"},51200004,null,""]
[{"$nulls":5},"G","BQ4",189,51200004,{"$f":"IFERROR(LOOKUP(9999999,FIND(BASE!$B$1:$B$247,$C191),BASE!$A$1:$A$247),\"47100000\")","v":"47100000"},{"$f":"IF(J191=40110000,LOOKUP(9999999,FIND(BASE!$B$2:$B$247,$C191),BASE!$C$2:$C$247),\"\")","v":""},{"v":0,"d":"0.00 €"},51200004,null,""]
[{"$nulls":5},"G","BQ4",190,51200004,{"$f":"IFERROR(LOOKUP(9999999,FIND(BASE!$B$1:$B$247,$C192),BASE!$A$1:$A$247),\"47100000\")","v":"47100000"},{"$f":"IF(J192=40110000,LOOKUP(9999999,FIND(BASE!$B$2:$B$247,$C192),BASE!$C$2:$C$247),\"\")","v":""},{"v":0,"d":"0.00 €"},51200004,null,""]
[{"$nulls":5},"G","BQ4",191,51200004,{"$f":"IFERROR(LOOKUP(9999999,FIND(BASE!$B$1:$B$247,$C193),BASE!$A$1:$A$247),\"47100000\")","v":"47100000"},{"$f":"IF(J193=40110000,LOOKUP(9999999,FIND(BASE!$B$2:$B$247,$C193),BASE!$C$2:$C$247),\"\")","v":""},{"v":0,"d":"0.00 €"},51200004,null,""]
[{"$nulls":5},"G","BQ4",192,51200004,{"$f":"IFERROR(LOOKUP(9999999,FIND(BASE!$B$1:$B$247,$C194),BASE!$A$1:$A$247),\"47100000\")","v":"47100000"},{"$f":"IF(J194=40110000,LOOKUP(9999999,FIND(BASE!$B$2:$B$247,$C194),BASE!$C$2:$C$247),\"\")","v":""},{"v":0,"d":"0.00 €"},51200004,null,""]
[{"$nulls":5},"G","BQ4",193,51200004,{"$f":"IFERROR(LOOKUP(9999999,FIND(BASE!$B$1:$B$247,$C195),BASE!$A$1:$A$247),\"47100000\")","v":"47100000"},{"$f":"IF(J195=40110000,LOOKUP(9999999,FIND(BASE!$B$2:$B$247,$C195),BASE!$C$2:$C$247),\"\")","v":""},{"v":0,"d":"0.00 €"},51200004,null,""]
[{"$nulls":5},"G","BQ4",194,51200004,{"$f":"IFERROR(LOOKUP(9999999,FIND(BASE!$B$1:$B$247,$C196),BASE!$A$1:$A$247),\"47100000\")","v":"47100000"},{"$f":"IF(J196=40110000,LOOKUP(9999999,FIND(BASE!$B$2:$B$247,$C196),BASE!$C$2:$C$247),\"\")","v":""},{"v":0,"d":"0.00 €"},51200004,null,""]
[{"$nulls":5},"G","BQ4",195,51200004,{"$f":"IFERROR(LOOKUP(9999999,FIND(BASE!$B$1:$B$247,$C197),BASE!$A$1:$A$247),\"47100000\")","v":"47100000"},{"$f":"IF(J197=40110000,LOOKUP(9999999,FIND(BASE!$B$2:$B$247,$C197),BASE!$C$2:$C$247),\"\")","v":""},{"v":0,"d":"0.00 €"},51200004,null,""]
[{"$nulls":5},"G","BQ4",196,51200004,{"$f":"IFERROR(LOOKUP(9999999,FIND(BASE!$B$1:$B$247,$C198),BASE!$A$1:$A$247),\"47100000\")","v":"47100000"},{"$f":"IF(J198=40110000,LOOKUP(9999999,FIND(BASE!$B$2:$B$247,$C198),BASE!$C$2:$C$247),\"\")","v":""},{"v":0,"d":"0.00 €"},51200004,null,""]
[{"$nulls":5},"G","BQ4",197,51200004,{"$f":"IFERROR(LOOKUP(9999999,FIND(BASE!$B$1:$B$247,$C199),BASE!$A$1:$A$247),\"47100000\")","v":"47100000"},{"$f":"IF(J199=40110000,LOOKUP(9999999,FIND(BASE!$B$2:$B$247,$C199),BASE!$C$2:$C$247),\"\")","v":""},{"v":0,"d":"0.00 €"},51200004,null,""]
[{"$nulls":5},"G","BQ4",198,51200004,{"$f":"IFERROR(LOOKUP(9999999,FIND(BASE!$B$1:$B$247,$C200),BASE!$A$1:$A$247),\"47100000\")","v":"47100000"},{"$f":"IF(J200=40110000,LOOKUP(9999999,FIND(BASE!$B$2:$B$247,$C200),BASE!$C$2:$C$247),\"\")","v":""},{"v":0,"d":"0.00 €"},51200004,null,""]
[{"$nulls":5},"G","BQ4",199,51200004,{"$f":"IFERROR(LOOKUP(9999999,FIND(BASE!$B$1:$B$247,$C201),BASE!$A$1:$A$247),\"47100000\")","v":"47100000"},{"$f":"IF(J201=40110000,LOOKUP(9999999,FIND(BASE!$B$2:$B$247,$C201),BASE!$C$2:$C$247),\"\")","v":""},{"v":0,"d":"0.00 €"},51200004,null,""]
[{"$nulls":5},"G","BQ4",200,51200004,{"$f":"IFERROR(LOOKUP(9999999,FIND(BASE!$B$1:$B$247,$C202),BASE!$A$1:$A$247),\"47100000\")","v":"47100000"},{"$f":"IF(J202=40110000,LOOKUP(9999999,FIND(BASE!$B$2:$B$247,$C202),BASE!$C$2:$C$247),\"\")","v":""},{"v":0,"d":"0.00 €"},51200004,null,""]
[{"$nulls":5},"G","BQ4",201,51200004,{"$f":"IFERROR(LOOKUP(9999999,FIND(BASE!$B$1:$B$247,$C203),BASE!$A$1:$A$247),\"47100000\")","v":"47100000"},{"$f":"IF(J203=40110000,LOOKUP(9999999,FIND(BASE!$B$2:$B$247,$C203),BASE!$C$2:$C$247),\"\")","v":""},{"v":0,"d":"0.00 €"},51200004,null,""]
[{"$nulls":5},"G","BQ4",202,51200004,{"$f":"IFERROR(LOOKUP(9999999,FIND(BASE!$B$1:$B$247,$C204),BASE!$A$1:$A$247),\"47100000\")","v":"47100000"},{"$f":"IF(J204=40110000,LOOKUP(9999999,FIND(BASE!$B$2:$B$247,$C204),BASE!$C$2:$C$247),\"\")","v":""},{"v":0,"d":"0.00 €"},51200004,null,""]
[{"$nulls":5},"G","BQ4",203,51200004,{"$f":"IFERROR(LOOKUP(9999999,FIND(BASE!$B$1:$B$247,$C205),BASE!$A$1:$A$247),\"47100000\")","v":"47100000"},{"$f":"IF(J205=40110000,LOOKUP(9999999,FIND(BASE!$B$2:$B$247,$C205),BASE!$C$2:$C$247),\"\")","v":""},{"v":0,"d":"0.00 €"},51200004,null,""]
[{"$nulls":5},"G","BQ4",204,51200004,{"$f":"IFERROR(LOOKUP(9999999,FIND(BASE!$B$1:$B$247,$C206),BASE!$A$1:$A$247),\"47100000\")","v":"47100000"},{"$f":"IF(J206=40110000,LOOKUP(9999999,FIND(BASE!$B$2:$B$247,$C206),BASE!$C$2:$C$247),\"\")","v":""},{"v":0,"d":"0.00 €"},51200004,null,""]
[{"$nulls":5},"G","BQ4",205,51200004,{"$f":"IFERROR(LOOKUP(9999999,FIND(BASE!$B$1:$B$247,$C207),BASE!$A$1:$A$247),\"47100000\")","v":"47100000"},{"$f":"IF(J207=40110000,LOOKUP(9999999,FIND(BASE!$B$2:$B$247,$C207),BASE!$C$2:$C$247),\"\")","v":""},{"v":0,"d":"0.00 €"},51200004,null,""]
[{"$nulls":5},"G","BQ4",206,51200004,{"$f":"IFERROR(LOOKUP(9999999,FIND(BASE!$B$1:$B$247,$C208),BASE!$A$1:$A$247),\"47100000\")","v":"47100000"},{"$f":"IF(J208=40110000,LOOKUP(9999999,FIND(BASE!$B$2:$B$247,$C208),BASE!$C$2:$C$247),\"\")","v":""},{"v":0,"d":"0.00 €"},51200004,null,""]
[{"$nulls":5},"G","BQ4",207,51200004,{"$f":"IFERROR(LOOKUP(9999999,FIND(BASE!$B$1:$B$247,$C209),BASE!$A$1:$A$247),\"47100000\")","v":"47100000"},{"$f":"IF(J209=40110000,LOOKUP(9999999,FIND(BASE!$B$2:$B$247,$C209),BASE!$C$2:$C$247),\"\")","v":""},{"v":0,"d":"0.00 €"},51200004,null,""]
[{"$nulls":5},"G","BQ4",208,51200004,{"$f":"IFERROR(LOOKUP(9999999,FIND(BASE!$B$1:$B$247,$C210),BASE!$A$1:$A$247),\"47100000\")","v":"47100000"},{"$f":"IF(J210=40110000,LOOKUP(9999999,FIND(BASE!$B$2:$B$247,$C210),BASE!$C$2:$C$247),\"\")","v":""},{"v":0,"d":"0.00 €"},51200004,null,""]
[{"$nulls":5},"G","BQ4",209,51200004,{"$f":"IFERROR(LOOKUP(9999999,FIND(BASE!$B$1:$B$247,$C211),BASE!$A$1:$A$247),\"47100000\")","v":"47100000"},{"$f":"IF(J211=40110000,LOOKUP(9999999,FIND(BASE!$B$2:$B$247,$C211),BASE!$C$2:$C$247),\"\")","v":""},{"v":0,"d":"0.00 €"},51200004,null,""]
[{"$nulls":5},"G","BQ4",210,51200004,{"$f":"IFERROR(LOOKUP(9999999,FIND(BASE!$B$1:$B$247,$C212),BASE!$A$1:$A$247),\"47100000\")","v":"47100000"},{"$f":"IF(J212=40110000,LOOKUP(9999999,FIND(BASE!$B$2:$B$247,$C212),BASE!$C$2:$C$247),\"\")","v":""},{"v":0,"d":"0.00 €"},51200004,null,""]
[{"$nulls":5},"G","BQ4",211,51200004,{"$f":"IFERROR(LOOKUP(9999999,FIND(BASE!$B$1:$B$247,$C213),BASE!$A$1:$A$247),\"47100000\")","v":"47100000"},{"$f":"IF(J213=40110000,LOOKUP(9999999,FIND(BASE!$B$2:$B$247,$C213),BASE!$C$2:$C$247),\"\")","v":""},{"v":0,"d":"0.00 €"},51200004,null,""]
[{"$nulls":5},"G","BQ4",212,51200004,{"$f":"IFERROR(LOOKUP(9999999,FIND(BASE!$B$1:$B$247,$C214),BASE!$A$1:$A$247),\"47100000\")","v":"47100000"},{"$f":"IF(J214=40110000,LOOKUP(9999999,FIND(BASE!$B$2:$B$247,$C214),BASE!$C$2:$C$247),\"\")","v":""},{"v":0,"d":"0.00 €"},51200004,null,""]
[{"$nulls":5},"G","BQ4",213,51200004,{"$f":"IFERROR(LOOKUP(9999999,FIND(BASE!$B$1:$B$247,$C215),BASE!$A$1:$A$247),\"47100000\")","v":"47100000"},{"$f":"IF(J215=40110000,LOOKUP(9999999,FIND(BASE!$B$2:$B$247,$C215),BASE!$C$2:$C$247),\"\")","v":""},{"v":0,"d":"0.00 €"},51200004,null,""]
[{"$nulls":5},"G","BQ4",214,51200004,{"$f":"IFERROR(LOOKUP(9999999,FIND(BASE!$B$1:$B$247,$C216),BASE!$A$1:$A$247),\"47100000\")","v":"47100000"},{"$f":"IF(J216=40110000,LOOKUP(9999999,FIND(BASE!$B$2:$B$247,$C216),BASE!$C$2:$C$247),\"\")","v":""},{"v":0,"d":"0.00 €"},51200004,null,""]
[{"$nulls":5},"G","BQ4",215,51200004,{"$f":"IFERROR(LOOKUP(9999999,FIND(BASE!$B$1:$B$247,$C217),BASE!$A$1:$A$247),\"47100000\")","v":"47100000"},{"$f":"IF(J217=40110000,LOOKUP(9999999,FIND(BASE!$B$2:$B$247,$C217),BASE!$C$2:$C$247),\"\")","v":""},{"v":0,"d":"0.00 €"},51200004,null,""]
[{"$nulls":5},"G","BQ4",216,51200004,{"$f":"IFERROR(LOOKUP(9999999,FIND(BASE!$B$1:$B$247,$C218),BASE!$A$1:$A$247),\"47100000\")","v":"47100000"},{"$f":"IF(J218=40110000,LOOKUP(9999999,FIND(BASE!$B$2:$B$247,$C218),BASE!$C$2:$C$247),\"\")","v":""},{"v":0,"d":"0.00 €"},51200004,null,""]
[{"$nulls":5},"G","BQ4",217,51200004,{"$f":"IFERROR(LOOKUP(9999999,FIND(BASE!$B$1:$B$247,$C219),BASE!$A$1:$A$247),\"47100000\")","v":"47100000"},{"$f":"IF(J219=40110000,LOOKUP(9999999,FIND(BASE!$B$2:$B$247,$C219),BASE!$C$2:$C$247),\"\")","v":""},{"v":0,"d":"0.00 €"},51200004,null,""]
[{"$nulls":5},"G","BQ4",218,51200004,{"$f":"IFERROR(LOOKUP(9999999,FIND(BASE!$B$1:$B$247,$C220),BASE!$A$1:$A$247),\"47100000\")","v":"47100000"},{"$f":"IF(J220=40110000,LOOKUP(9999999,FIND(BASE!$B$2:$B$247,$C220),BASE!$C$2:$C$247),\"\")","v":""},{"v":0,"d":"0.00 €"},51200004,null,""]
[{"$nulls":5},"G","BQ4",219,51200004,{"$f":"IFERROR(LOOKUP(9999999,FIND(BASE!$B$1:$B$247,$C221),BASE!$A$1:$A$247),\"47100000\")","v":"47100000"},{"$f":"IF(J221=40110000,LOOKUP(9999999,FIND(BASE!$B$2:$B$247,$C221),BASE!$C$2:$C$247),\"\")","v":""},{"v":0,"d":"0.00 €"},51200004,null,""]
[{"$nulls":5},"G","BQ4",220,51200004,{"$f":"IFERROR(LOOKUP(9999999,FIND(BASE!$B$1:$B$247,$C222),BASE!$A$1:$A$247),\"47100000\")","v":"47100000"},{"$f":"IF(J222=40110000,LOOKUP(9999999,FIND(BASE!$B$2:$B$247,$C222),BASE!$C$2:$C$247),\"\")","v":""},{"v":0,"d":"0.00 €"},51200004,null,""]
[{"$nulls":5},"G","BQ4",221,51200004,{"$f":"IFERROR(LOOKUP(9999999,FIND(BASE!$B$1:$B$247,$C223),BASE!$A$1:$A$247),\"47100000\")","v":"47100000"},{"$f":"IF(J223=40110000,LOOKUP(9999999,FIND(BASE!$B$2:$B$247,$C223),BASE!$C$2:$C$247),\"\")","v":""},{"v":0,"d":"0.00 €"},51200004,null,""]
[{"$nulls":5},"G","BQ4",222,51200004,{"$f":"IFERROR(LOOKUP(9999999,FIND(BASE!$B$1:$B$247,$C224),BASE!$A$1:$A$247),\"47100000\")","v":"47100000"},{"$f":"IF(J224=40110000,LOOKUP(9999999,FIND(BASE!$B$2:$B$247,$C224),BASE!$C$2:$C$247),\"\")","v":""},{"v":0,"d":"0.00 €"},51200004,null,""]
[{"$nulls":5},"G","BQ4",223,51200004,{"$f":"IFERROR(LOOKUP(9999999,FIND(BASE!$B$1:$B$247,$C225),BASE!$A$1:$A$247),\"47100000\")","v":"47100000"},{"$f":"IF(J225=40110000,LOOKUP(9999999,FIND(BASE!$B$2:$B$247,$C225),BASE!$C$2:$C$247),\"\")","v":""},{"v":0,"d":"0.00 €"},51200004,null,""]
[{"$nulls":5},"G","BQ4",224,51200004,{"$f":"IFERROR(LOOKUP(9999999,FIND(BASE!$B$1:$B$247,$C226),BASE!$A$1:$A$247),\"47100000\")","v":"47100000"},{"$f":"IF(J226=40110000,LOOKUP(9999999,FIND(BASE!$B$2:$B$247,$C226),BASE!$C$2:$C$247),\"\")","v":""},{"v":0,"d":"0.00 €"},51200004,null,""]
[{"$nulls":5},"G","BQ4",225,51200004,{"$f":"IFERROR(LOOKUP(9999999,FIND(BASE!$B$1:$B$247,$C227),BASE!$A$1:$A$247),\"47100000\")","v":"47100000"},{"$f":"IF(J227=40110000,LOOKUP(9999999,FIND(BASE!$B$2:$B$247,$C227),BASE!$C$2:$C$247),\"\")","v":""},{"v":0,"d":"0.00 €"},51200004,null,""]
[{"$nulls":5},"G","BQ4",226,51200004,{"$f":"IFERROR(LOOKUP(9999999,FIND(BASE!$B$1:$B$247,$C228),BASE!$A$1:$A$247),\"47100000\")","v":"47100000"},{"$f":"IF(J228=40110000,LOOKUP(9999999,FIND(BASE!$B$2:$B$247,$C228),BASE!$C$2:$C$247),\"\")","v":""},{"v":0,"d":"0.00 €"},51200004,null,""]
[{"$nulls":5},"G","BQ4",227,51200004,{"$f":"IFERROR(LOOKUP(9999999,FIND(BASE!$B$1:$B$247,$C229),BASE!$A$1:$A$247),\"47100000\")","v":"47100000"},{"$f":"IF(J229=40110000,LOOKUP(9999999,FIND(BASE!$B$2:$B$247,$C229),BASE!$C$2:$C$247),\"\")","v":""},{"v":0,"d":"0.00 €"},51200004,null,""]
[{"$nulls":5},"G","BQ4",228,51200004,{"$f":"IFERROR(LOOKUP(9999999,FIND(BASE!$B$1:$B$247,$C230),BASE!$A$1:$A$247),\"47100000\")","v":"47100000"},{"$f":"IF(J230=40110000,LOOKUP(9999999,FIND(BASE!$B$2:$B$247,$C230),BASE!$C$2:$C$247),\"\")","v":""},{"v":0,"d":"0.00 €"},51200004,null,""]
[{"$nulls":5},"G","BQ4",229,51200004,{"$f":"IFERROR(LOOKUP(9999999,FIND(BASE!$B$1:$B$247,$C231),BASE!$A$1:$A$247),\"47100000\")","v":"47100000"},{"$f":"IF(J231=40110000,LOOKUP(9999999,FIND(BASE!$B$2:$B$247,$C231),BASE!$C$2:$C$247),\"\")","v":""},{"v":0,"d":"0.00 €"},51200004,null,""]
[{"$nulls":5},"G","BQ4",230,51200004,{"$f":"IFERROR(LOOKUP(9999999,FIND(BASE!$B$1:$B$247,$C232),BASE!$A$1:$A$247),\"47100000\")","v":"47100000"},{"$f":"IF(J232=40110000,LOOKUP(9999999,FIND(BASE!$B$2:$B$247,$C232),BASE!$C$2:$C$247),\"\")","v":""},{"v":0,"d":"0.00 €"},51200004,null,""]
[{"$nulls":5},"G","BQ4",231,51200004,{"$f":"IFERROR(LOOKUP(9999999,FIND(BASE!$B$1:$B$247,$C233),BASE!$A$1:$A$247),\"47100000\")","v":"47100000"},{"$f":"IF(J233=40110000,LOOKUP(9999999,FIND(BASE!$B$2:$B$247,$C233),BASE!$C$2:$C$247),\"\")","v":""},{"v":0,"d":"0.00 €"},51200004,null,""]
[{"$nulls":5},"G","BQ4",232,51200004,{"$f":"IFERROR(LOOKUP(9999999,FIND(BASE!$B$1:$B$247,$C234),BASE!$A$1:$A$247),\"47100000\")","v":"47100000"},{"$f":"IF(J234=40110000,LOOKUP(9999999,FIND(BASE!$B$2:$B$247,$C234),BASE!$C$2:$C$247),\"\")","v":""},{"v":0,"d":"0.00 €"},51200004,null,""]
[{"$nulls":5},"G","BQ4",233,51200004,{"$f":"IFERROR(LOOKUP(9999999,FIND(BASE!$B$1:$B$247,$C235),BASE!$A$1:$A$247),\"47100000\")","v":"47100000"},{"$f":"IF(J235=40110000,LOOKUP(9999999,FIND(BASE!$B$2:$B$247,$C235),BASE!$C$2:$C$247),\"\")","v":""},{"v":0,"d":"0.00 €"},51200004,null,""]
[{"$nulls":5},"G","BQ4",234,51200004,{"$f":"IFERROR(LOOKUP(9999999,FIND(BASE!$B$1:$B$247,$C236),BASE!$A$1:$A$247),\"47100000\")","v":"47100000"},{"$f":"IF(J236=40110000,LOOKUP(9999999,FIND(BASE!$B$2:$B$247,$C236),BASE!$C$2:$C$247),\"\")","v":""},{"v":0,"d":"0.00 €"},51200004,null,""]
[{"$nulls":5},"G","BQ4",235,51200004,{"$f":"IFERROR(LOOKUP(9999999,FIND(BASE!$B$1:$B$247,$C237),BASE!$A$1:$A$247),\"47100000\")","v":"47100000"},{"$f":"IF(J237=40110000,LOOKUP(9999999,FIND(BASE!$B$2:$B$247,$C237),BASE!$C$2:$C$247),\"\")","v":""},{"v":0,"d":"0.00 €"},51200004,null,""]
[{"$nulls":5},"G","BQ4",236,51200004,{"$f":"IFERROR(LOOKUP(9999999,FIND(BASE!$B$1:$B$247,$C238),BASE!$A$1:$A$247),\"47100000\")","v":"47100000"},{"$f":"IF(J238=40110000,LOOKUP(9999999,FIND(BASE!$B$2:$B$247,$C238),BASE!$C$2:$C$247),\"\")","v":""},{"v":0,"d":"0.00 €"},51200004,null,""]
[{"$nulls":5},"G","BQ4",237,51200004,{"$f":"IFERROR(LOOKUP(9999999,FIND(BASE!$B$1:$B$247,$C239),BASE!$A$1:$A$247),\"47100000\")","v":"47100000"},{"$f":"IF(J239=40110000,LOOKUP(9999999,FIND(BASE!$B$2:$B$247,$C239),BASE!$C$2:$C$247),\"\")","v":""},{"v":0,"d":"0.00 €"},51200004,null,""]
[{"$nulls":5},"G","BQ4",238,51200004,{"$f":"IFERROR(LOOKUP(9999999,FIND(BASE!$B$1:$B$247,$C240),BASE!$A$1:$A$247),\"47100000\")","v":"47100000"},{"$f":"IF(J240=40110000,LOOKUP(9999999,FIND(BASE!$B$2:$B$247,$C240),BASE!$C$2:$C$247),\"\")","v":""},{"v":0,"d":"0.00 €"},51200004,null,""]
[{"$nulls":5},"G","BQ4",239,51200004,{"$f":"IFERROR(LOOKUP(9999999,FIND(BASE!$B$1:$B$247,$C241),BASE!$A$1:$A$247),\"47100000\")","v":"47100000"},{"$f":"IF(J241=40110000,LOOKUP(9999999,FIND(BASE!$B$2:$B$247,$C241),BASE!$C$2:$C$247),\"\")","v":""},{"v":0,"d":"0.00 €"},51200004,null,""]
[{"$nulls":5},"G","BQ4",240,51200004,{"$f":"IFERROR(LOOKUP(9999999,FIND(BASE!$B$1:$B$247,$C242),BASE!$A$1:$A$247),\"47100000\")","v":"47100000"},{"$f":"IF(J242=40110000,LOOKUP(9999999,FIND(BASE!$B$2:$B$247,$C242),BASE!$C$2:$C$247),\"\")","v":""},{"v":0,"d":"0.00 €"},51200004,null,""]
[{"$nulls":5},"G","BQ4",241,51200004,{"$f":"IFERROR(LOOKUP(9999999,FIND(BASE!$B$1:$B$247,$C243),BASE!$A$1:$A$247),\"47100000\")","v":"47100000"},{"$f":"IF(J243=40110000,LOOKUP(9999999,FIND(BASE!$B$2:$B$247,$C243),BASE!$C$2:$C$247),\"\")","v":""},{"v":0,"d":"0.00 €"},51200004,null,""]
[{"$nulls":5},"G","BQ4",242,51200004,{"$f":"IFERROR(LOOKUP(9999999,FIND(BASE!$B$1:$B$247,$C244),BASE!$A$1:$A$247),\"47100000\")","v":"47100000"},{"$f":"IF(J244=40110000,LOOKUP(9999999,FIND(BASE!$B$2:$B$247,$C244),BASE!$C$2:$C$247),\"\")","v":""},{"v":0,"d":"0.00 €"},51200004,null,""]
[{"$nulls":5},"G","BQ4",243,51200004,{"$f":"IFERROR(LOOKUP(9999999,FIND(BASE!$B$1:$B$247,$C245),BASE!$A$1:$A$247),\"47100000\")","v":"47100000"},{"$f":"IF(J245=40110000,LOOKUP(9999999,FIND(BASE!$B$2:$B$247,$C245),BASE!$C$2:$C$247),\"\")","v":""},{"v":0,"d":"0.00 €"},51200004,null,""]
[{"$nulls":5},"G","BQ4",244,51200004,{"$f":"IFERROR(LOOKUP(9999999,FIND(BASE!$B$1:$B$247,$C246),BASE!$A$1:$A$247),\"47100000\")","v":"47100000"},{"$f":"IF(J246=40110000,LOOKUP(9999999,FIND(BASE!$B$2:$B$247,$C246),BASE!$C$2:$C$247),\"\")","v":""},{"v":0,"d":"0.00 €"},51200004,null,""]
[{"$nulls":5},"G","BQ4",245,51200004,{"$f":"IFERROR(LOOKUP(9999999,FIND(BASE!$B$1:$B$247,$C247),BASE!$A$1:$A$247),\"47100000\")","v":"47100000"},{"$f":"IF(J247=40110000,LOOKUP(9999999,FIND(BASE!$B$2:$B$247,$C247),BASE!$C$2:$C$247),\"\")","v":""},{"v":0,"d":"0.00 €"},51200004,null,""]
[{"$nulls":5},"G","BQ4",246,51200004,{"$f":"IFERROR(LOOKUP(9999999,FIND(BASE!$B$1:$B$247,$C248),BASE!$A$1:$A$247),\"47100000\")","v":"47100000"},{"$f":"IF(J248=40110000,LOOKUP(9999999,FIND(BASE!$B$2:$B$247,$C248),BASE!$C$2:$C$247),\"\")","v":""},{"v":0,"d":"0.00 €"},51200004,null,""]
[{"$nulls":5},"G","BQ4",247,51200004,{"$f":"IFERROR(LOOKUP(9999999,FIND(BASE!$B$1:$B$247,$C249),BASE!$A$1:$A$247),\"47100000\")","v":"47100000"},{"$f":"IF(J249=40110000,LOOKUP(9999999,FIND(BASE!$B$2:$B$247,$C249),BASE!$C$2:$C$247),\"\")","v":""},{"v":0,"d":"0.00 €"},51200004,null,""]
[{"$nulls":5},"G","BQ4",248,51200004,{"$f":"IFERROR(LOOKUP(9999999,FIND(BASE!$B$1:$B$247,$C250),BASE!$A$1:$A$247),\"47100000\")","v":"47100000"},{"$f":"IF(J250=40110000,LOOKUP(9999999,FIND(BASE!$B$2:$B$247,$C250),BASE!$C$2:$C$247),\"\")","v":""},{"v":0,"d":"0.00 €"},51200004,null,""]
[{"$nulls":5},"G","BQ4",249,51200004,{"$f":"IFERROR(LOOKUP(9999999,FIND(BASE!$B$1:$B$247,$C251),BASE!$A$1:$A$247),\"47100000\")","v":"47100000"},{"$f":"IF(J251=40110000,LOOKUP(9999999,FIND(BASE!$B$2:$B$247,$C251),BASE!$C$2:$C$247),\"\")","v":""},{"v":0,"d":"0.00 €"},51200004,null,""]
[{"$nulls":5},"G","BQ4",250,51200004,{"$f":"IFERROR(LOOKUP(9999999,FIND(BASE!$B$1:$B$247,$C252),BASE!$A$1:$A$247),\"47100000\")","v":"47100000"},{"$f":"IF(J252=40110000,LOOKUP(9999999,FIND(BASE!$B$2:$B$247,$C252),BASE!$C$2:$C$247),\"\")","v":""},{"v":0,"d":"0.00 €"},51200004,null,""]
[{"$nulls":5},"G","BQ4",251,51200004,{"$f":"IFERROR(LOOKUP(9999999,FIND(BASE!$B$1:$B$247,$C253),BASE!$A$1:$A$247),\"47100000\")","v":"47100000"},{"$f":"IF(J253=40110000,LOOKUP(9999999,FIND(BASE!$B$2:$B$247,$C253),BASE!$C$2:$C$247),\"\")","v":""},{"v":0,"d":"0.00 €"},51200004,null,""]
[{"$nulls":5},"G","BQ4",252,51200004,{"$f":"IFERROR(LOOKUP(9999999,FIND(BASE!$B$1:$B$247,$C254),BASE!$A$1:$A$247),\"47100000\")","v":"47100000"},{"$f":"IF(J254=40110000,LOOKUP(9999999,FIND(BASE!$B$2:$B$247,$C254),BASE!$C$2:$C$247),\"\")","v":""},{"v":0,"d":"0.00 €"},51200004,null,""]
[{"$nulls":5},"G","BQ4",253,51200004,{"$f":"IFERROR(LOOKUP(9999999,FIND(BASE!$B$1:$B$247,$C255),BASE!$A$1:$A$247),\"47100000\")","v":"47100000"},{"$f":"IF(J255=40110000,LOOKUP(9999999,FIND(BASE!$B$2:$B$247,$C255),BASE!$C$2:$C$247),\"\")","v":""},{"v":0,"d":"0.00 €"},51200004,null,""]
[{"$nulls":5},"G","BQ4",254,51200004,{"$f":"IFERROR(LOOKUP(9999999,FIND(BASE!$B$1:$B$247,$C256),BASE!$A$1:$A$247),\"47100000\")","v":"47100000"},{"$f":"IF(J256=40110000,LOOKUP(9999999,FIND(BASE!$B$2:$B$247,$C256),BASE!$C$2:$C$247),\"\")","v":""},{"v":0,"d":"0.00 €"},51200004,null,""]
[{"$nulls":5},"G","BQ4",255,51200004,{"$f":"IFERROR(LOOKUP(9999999,FIND(BASE!$B$1:$B$247,$C257),BASE!$A$1:$A$247),\"47100000\")","v":"47100000"},{"$f":"IF(J257=40110000,LOOKUP(9999999,FIND(BASE!$B$2:$B$247,$C257),BASE!$C$2:$C$247),\"\")","v":""},{"v":0,"d":"0.00 €"},51200004,null,""]
[{"$nulls":5},"G","BQ4",256,51200004,{"$f":"IFERROR(LOOKUP(9999999,FIND(BASE!$B$1:$B$247,$C258),BASE!$A$1:$A$247),\"47100000\")","v":"47100000"},{"$f":"IF(J258=40110000,LOOKUP(9999999,FIND(BASE!$B$2:$B$247,$C258),BASE!$C$2:$C$247),\"\")","v":""},{"v":0,"d":"0.00 €"},51200004,null,""]
[{"$nulls":5},"G","BQ4",257,51200004,{"$f":"IFERROR(LOOKUP(9999999,FIND(BASE!$B$1:$B$247,$C259),BASE!$A$1:$A$247),\"47100000\")","v":"47100000"},{"$f":"IF(J259=40110000,LOOKUP(9999999,FIND(BASE!$B$2:$B$247,$C259),BASE!$C$2:$C$247),\"\")","v":""},{"v":0,"d":"0.00 €"},51200004,null,""]
[{"$nulls":5},"G","BQ4",258,51200004,{"$f":"IFERROR(LOOKUP(9999999,FIND(BASE!$B$1:$B$247,$C260),BASE!$A$1:$A$247),\"47100000\")","v":"47100000"},{"$f":"IF(J260=40110000,LOOKUP(9999999,FIND(BASE!$B$2:$B$247,$C260),BASE!$C$2:$C$247),\"\")","v":""},{"v":0,"d":"0.00 €"},51200004,null,""]
[{"$nulls":5},"G","BQ4",259,51200004,{"$f":"IFERROR(LOOKUP(9999999,FIND(BASE!$B$1:$B$247,$C261),BASE!$A$1:$A$247),\"47100000\")","v":"47100000"},{"$f":"IF(J261=40110000,LOOKUP(9999999,FIND(BASE!$B$2:$B$247,$C261),BASE!$C$2:$C$247),\"\")","v":""},{"v":0,"d":"0.00 €"},51200004,null,""]
[{"$nulls":5},"G","BQ4",260,51200004,{"$f":"IFERROR(LOOKUP(9999999,FIND(BASE!$B$1:$B$247,$C262),BASE!$A$1:$A$247),\"47100000\")","v":"47100000"},{"$f":"IF(J262=40110000,LOOKUP(9999999,FIND(BASE!$B$2:$B$247,$C262),BASE!$C$2:$C$247),\"\")","v":""},{"v":0,"d":"0.00 €"},51200004,null,""]
[{"$nulls":5},"G","BQ4",261,51200004,{"$f":"IFERROR(LOOKUP(9999999,FIND(BASE!$B$1:$B$247,$C263),BASE!$A$1:$A$247),\"47100000\")","v":"47100000"},{"$f":"IF(J263=40110000,LOOKUP(9999999,FIND(BASE!$B$2:$B$247,$C263),BASE!$C$2:$C$247),\"\")","v":""},{"v":0,"d":"0.00 €"},51200004,null,""]
[{"$nulls":5},"G","BQ4",262,51200004,{"$f":"IFERROR(LOOKUP(9999999,FIND(BASE!$B$1:$B$247,$C264),BASE!$A$1:$A$247),\"47100000\")","v":"47100000"},{"$f":"IF(J264=40110000,LOOKUP(9999999,FIND(BASE!$B$2:$B$247,$C264),BASE!$C$2:$C$247),\"\")","v":""},{"v":0,"d":"0.00 €"},51200004,null,""]
[{"$nulls":5},"G","BQ4",263,51200004,{"$f":"IFERROR(LOOKUP(9999999,FIND(BASE!$B$1:$B$247,$C265),BASE!$A$1:$A$247),\"47100000\")","v":"47100000"},{"$f":"IF(J265=40110000,LOOKUP(9999999,FIND(BASE!$B$2:$B$247,$C265),BASE!$C$2:$C$247),\"\")","v":""},{"v":0,"d":"0.00 €"},51200004,null,""]
[{"$nulls":5},"G","BQ4",264,51200004,{"$f":"IFERROR(LOOKUP(9999999,FIND(BASE!$B$1:$B$247,$C266),BASE!$A$1:$A$247),\"47100000\")","v":"47100000"},{"$f":"IF(J266=40110000,LOOKUP(9999999,FIND(BASE!$B$2:$B$247,$C266),BASE!$C$2:$C$247),\"\")","v":""},{"v":0,"d":"0.00 €"},51200004,null,""]
[{"$nulls":5},"G","BQ4",265,51200004,{"$f":"IFERROR(LOOKUP(9999999,FIND(BASE!$B$1:$B$247,$C267),BASE!$A$1:$A$247),\"47100000\")","v":"47100000"},{"$f":"IF(J267=40110000,LOOKUP(9999999,FIND(BASE!$B$2:$B$247,$C267),BASE!$C$2:$C$247),\"\")","v":""},{"v":0,"d":"0.00 €"},51200004,null,""]
[{"$nulls":5},"G","BQ4",266,51200004,{"$f":"IFERROR(LOOKUP(9999999,FIND(BASE!$B$1:$B$247,$C268),BASE!$A$1:$A$247),\"47100000\")","v":"47100000"},{"$f":"IF(J268=40110000,LOOKUP(9999999,FIND(BASE!$B$2:$B$247,$C268),BASE!$C$2:$C$247),\"\")","v":""},{"v":0,"d":"0.00 €"},51200004,null,""]
[{"$nulls":5},"G","BQ4",267,51200004,{"$f":"IFERROR(LOOKUP(9999999,FIND(BASE!$B$1:$B$247,$C269),BASE!$A$1:$A$247),\"47100000\")","v":"47100000"},{"$f":"IF(J269=40110000,LOOKUP(9999999,FIND(BASE!$B$2:$B$247,$C269),BASE!$C$2:$C$247),\"\")","v":""},{"v":0,"d":"0.00 €"},51200004,null,""]
[{"$nulls":5},"G","BQ4",268,51200004,{"$f":"IFERROR(LOOKUP(9999999,FIND(BASE!$B$1:$B$247,$C270),BASE!$A$1:$A$247),\"47100000\")","v":"47100000"},{"$f":"IF(J270=40110000,LOOKUP(9999999,FIND(BASE!$B$2:$B$247,$C270),BASE!$C$2:$C$247),\"\")","v":""},{"v":0,"d":"0.00 €"},51200004,null,""]
[{"$nulls":5},"G","BQ4",269,51200004,{"$f":"IFERROR(LOOKUP(9999999,FIND(BASE!$B$1:$B$247,$C271),BASE!$A$1:$A$247),\"47100000\")","v":"47100000"},{"$f":"IF(J271=40110000,LOOKUP(9999999,FIND(BASE!$B$2:$B$247,$C271),BASE!$C$2:$C$247),\"\")","v":""},{"v":0,"d":"0.00 €"},51200004,null,""]
[{"$nulls":5},"G","BQ4",270,51200004,{"$f":"IFERROR(LOOKUP(9999999,FIND(BASE!$B$1:$B$247,$C272),BASE!$A$1:$A$247),\"47100000\")","v":"47100000"},{"$f":"IF(J272=40110000,LOOKUP(9999999,FIND(BASE!$B$2:$B$247,$C272),BASE!$C$2:$C$247),\"\")","v":""},{"v":0,"d":"0.00 €"},51200004,null,""]
[{"$nulls":5},"G","BQ4",271,51200004,{"$f":"IFERROR(LOOKUP(9999999,FIND(BASE!$B$1:$B$247,$C273),BASE!$A$1:$A$247),\"47100000\")","v":"47100000"},{"$f":"IF(J273=40110000,LOOKUP(9999999,FIND(BASE!$B$2:$B$247,$C273),BASE!$C$2:$C$247),\"\")","v":""},{"v":0,"d":"0.00 €"},51200004,null,""]
[{"$nulls":5},"G","BQ4",272,51200004,{"$f":"IFERROR(LOOKUP(9999999,FIND(BASE!$B$1:$B$247,$C274),BASE!$A$1:$A$247),\"47100000\")","v":"47100000"},{"$f":"IF(J274=40110000,LOOKUP(9999999,FIND(BASE!$B$2:$B$247,$C274),BASE!$C$2:$C$247),\"\")","v":""},{"v":0,"d":"0.00 €"},51200004,null,""]
[{"$nulls":5},"G","BQ4",273,51200004,{"$f":"IFERROR(LOOKUP(9999999,FIND(BASE!$B$1:$B$247,$C275),BASE!$A$1:$A$247),\"47100000\")","v":"47100000"},{"$f":"IF(J275=40110000,LOOKUP(9999999,FIND(BASE!$B$2:$B$247,$C275),BASE!$C$2:$C$247),\"\")","v":""},{"v":0,"d":"0.00 €"},51200004,null,""]
[{"$nulls":5},"G","BQ4",274,51200004,{"$f":"IFERROR(LOOKUP(9999999,FIND(BASE!$B$1:$B$247,$C276),BASE!$A$1:$A$247),\"47100000\")","v":"47100000"},{"$f":"IF(J276=40110000,LOOKUP(9999999,FIND(BASE!$B$2:$B$247,$C276),BASE!$C$2:$C$247),\"\")","v":""},{"v":0,"d":"0.00 €"},51200004,null,""]
[{"$nulls":5},"G","BQ4",275,51200004,{"$f":"IFERROR(LOOKUP(9999999,FIND(BASE!$B$1:$B$247,$C277),BASE!$A$1:$A$247),\"47100000\")","v":"47100000"},{"$f":"IF(J277=40110000,LOOKUP(9999999,FIND(BASE!$B$2:$B$247,$C277),BASE!$C$2:$C$247),\"\")","v":""},{"v":0,"d":"0.00 €"},51200004,null,""]
[{"$nulls":5},"G","BQ4",276,51200004,{"$f":"IFERROR(LOOKUP(9999999,FIND(BASE!$B$1:$B$247,$C278),BASE!$A$1:$A$247),\"47100000\")","v":"47100000"},{"$f":"IF(J278=40110000,LOOKUP(9999999,FIND(BASE!$B$2:$B$247,$C278),BASE!$C$2:$C$247),\"\")","v":""},{"v":0,"d":"0.00 €"},51200004,null,""]
[{"$nulls":5},"G","BQ4",277,51200004,{"$f":"IFERROR(LOOKUP(9999999,FIND(BASE!$B$1:$B$247,$C279),BASE!$A$1:$A$247),\"47100000\")","v":"47100000"},{"$f":"IF(J279=40110000,LOOKUP(9999999,FIND(BASE!$B$2:$B$247,$C279),BASE!$C$2:$C$247),\"\")","v":""},{"v":0,"d":"0.00 €"},51200004,null,""]
[{"$nulls":5},"G","BQ4",278,51200004,{"$f":"IFERROR(LOOKUP(9999999,FIND(BASE!$B$1:$B$247,$C280),BASE!$A$1:$A$247),\"47100000\")","v":"47100000"},{"$f":"IF(J280=40110000,LOOKUP(9999999,FIND(BASE!$B$2:$B$247,$C280),BASE!$C$2:$C$247),\"\")","v":""},{"v":0,"d":"0.00 €"},51200004,null,""]
[{"$nulls":5},"G","BQ4",279,51200004,{"$f":"IFERROR(LOOKUP(9999999,FIND(BASE!$B$1:$B$247,$C281),BASE!$A$1:$A$247),\"47100000\")","v":"47100000"},{"$f":"IF(J281=40110000,LOOKUP(9999999,FIND(BASE!$B$2:$B$247,$C281),BASE!$C$2:$C$247),\"\")","v":""},{"v":0,"d":"0.00 €"},51200004,null,""]
[{"$nulls":5},"G","BQ4",280,51200004,{"$f":"IFERROR(LOOKUP(9999999,FIND(BASE!$B$1:$B$247,$C282),BASE!$A$1:$A$247),\"47100000\")","v":"47100000"},{"$f":"IF(J282=40110000,LOOKUP(9999999,FIND(BASE!$B$2:$B$247,$C282),BASE!$C$2:$C$247),\"\")","v":""},{"v":0,"d":"0.00 €"},51200004,null,""]
[{"$nulls":5},"G","BQ4",281,51200004,{"$f":"IFERROR(LOOKUP(9999999,FIND(BASE!$B$1:$B$247,$C283),BASE!$A$1:$A$247),\"47100000\")","v":"47100000"},{"$f":"IF(J283=40110000,LOOKUP(9999999,FIND(BASE!$B$2:$B$247,$C283),BASE!$C$2:$C$247),\"\")","v":""},{"v":0,"d":"0.00 €"},51200004,null,""]
[{"$nulls":5},"G","BQ4",282,51200004,{"$f":"IFERROR(LOOKUP(9999999,FIND(BASE!$B$1:$B$247,$C284),BASE!$A$1:$A$247),\"47100000\")","v":"47100000"},{"$f":"IF(J284=40110000,LOOKUP(9999999,FIND(BASE!$B$2:$B$247,$C284),BASE!$C$2:$C$247),\"\")","v":""},{"v":0,"d":"0.00 €"},51200004,null,""]
[{"$nulls":5},"G","BQ4",283,51200004,{"$f":"IFERROR(LOOKUP(9999999,FIND(BASE!$B$1:$B$247,$C285),BASE!$A$1:$A$247),\"47100000\")","v":"47100000"},{"$f":"IF(J285=40110000,LOOKUP(9999999,FIND(BASE!$B$2:$B$247,$C285),BASE!$C$2:$C$247),\"\")","v":""},{"v":0,"d":"0.00 €"},51200004,null,""]
[{"$nulls":5},"G","BQ4",284,51200004,{"$f":"IFERROR(LOOKUP(9999999,FIND(BASE!$B$1:$B$247,$C286),BASE!$A$1:$A$247),\"47100000\")","v":"47100000"},{"$f":"IF(J286=40110000,LOOKUP(9999999,FIND(BASE!$B$2:$B$247,$C286),BASE!$C$2:$C$247),\"\")","v":""},{"v":0,"d":"0.00 €"},51200004,null,""]
[{"$nulls":5},"G","BQ4",285,51200004,{"$f":"IFERROR(LOOKUP(9999999,FIND(BASE!$B$1:$B$247,$C287),BASE!$A$1:$A$247),\"47100000\")","v":"47100000"},{"$f":"IF(J287=40110000,LOOKUP(9999999,FIND(BASE!$B$2:$B$247,$C287),BASE!$C$2:$C$247),\"\")","v":""},{"v":0,"d":"0.00 €"},51200004,null,""]
[{"$nulls":5},"G","BQ4",286,51200004,{"$f":"IFERROR(LOOKUP(9999999,FIND(BASE!$B$1:$B$247,$C288),BASE!$A$1:$A$247),\"47100000\")","v":"47100000"},{"$f":"IF(J288=40110000,LOOKUP(9999999,FIND(BASE!$B$2:$B$247,$C288),BASE!$C$2:$C$247),\"\")","v":""},{"v":0,"d":"0.00 €"},51200004,null,""]
[{"$nulls":5},"G","BQ4",287,51200004,{"$f":"IFERROR(LOOKUP(9999999,FIND(BASE!$B$1:$B$247,$C289),BASE!$A$1:$A$247),\"47100000\")","v":"47100000"},{"$f":"IF(J289=40110000,LOOKUP(9999999,FIND(BASE!$B$2:$B$247,$C289),BASE!$C$2:$C$247),\"\")","v":""},{"v":0,"d":"0.00 €"},51200004,null,""]
[{"$nulls":5},"G","BQ4",288,51200004,{"$f":"IFERROR(LOOKUP(9999999,FIND(BASE!$B$1:$B$247,$C290),BASE!$A$1:$A$247),\"47100000\")","v":"47100000"},{"$f":"IF(J290=40110000,LOOKUP(9999999,FIND(BASE!$B$2:$B$247,$C290),BASE!$C$2:$C$247),\"\")","v":""},{"v":0,"d":"0.00 €"},51200004,null,""]
[{"$nulls":5},"G","BQ4",289,51200004,{"$f":"IFERROR(LOOKUP(9999999,FIND(BASE!$B$1:$B$247,$C291),BASE!$A$1:$A$247),\"47100000\")","v":"47100000"},{"$f":"IF(J291=40110000,LOOKUP(9999999,FIND(BASE!$B$2:$B$247,$C291),BASE!$C$2:$C$247),\"\")","v":""},{"v":0,"d":"0.00 €"},51200004,null,""]
[{"$nulls":5},"G","BQ4",290,51200004,{"$f":"IFERROR(LOOKUP(9999999,FIND(BASE!$B$1:$B$247,$C292),BASE!$A$1:$A$247),\"47100000\")","v":"47100000"},{"$f":"IF(J292=40110000,LOOKUP(9999999,FIND(BASE!$B$2:$B$247,$C292),BASE!$C$2:$C$247),\"\")","v":""},{"v":0,"d":"0.00 €"},51200004,null,""]
[{"$nulls":5},"G","BQ4",291,51200004,{"$f":"IFERROR(LOOKUP(9999999,FIND(BASE!$B$1:$B$247,$C293),BASE!$A$1:$A$247),\"47100000\")","v":"47100000"},{"$f":"IF(J293=40110000,LOOKUP(9999999,FIND(BASE!$B$2:$B$247,$C293),BASE!$C$2:$C$247),\"\")","v":""},{"v":0,"d":"0.00 €"},51200004,null,""]
[{"$nulls":5},"G","BQ4",292,51200004,{"$f":"IFERROR(LOOKUP(9999999,FIND(BASE!$B$1:$B$247,$C294),BASE!$A$1:$A$247),\"47100000\")","v":"47100000"},{"$f":"IF(J294=40110000,LOOKUP(9999999,FIND(BASE!$B$2:$B$247,$C294),BASE!$C$2:$C$247),\"\")","v":""},{"v":0,"d":"0.00 €"},51200004,null,""]
[{"$nulls":5},"G","BQ4",293,51200004,{"$f":"IFERROR(LOOKUP(9999999,FIND(BASE!$B$1:$B$247,$C295),BASE!$A$1:$A$247),\"47100000\")","v":"47100000"},{"$f":"IF(J295=40110000,LOOKUP(9999999,FIND(BASE!$B$2:$B$247,$C295),BASE!$C$2:$C$247),\"\")","v":""},{"v":0,"d":"0.00 €"},51200004,null,""]
[{"$nulls":5},"G","BQ4",294,51200004,{"$f":"IFERROR(LOOKUP(9999999,FIND(BASE!$B$1:$B$247,$C296),BASE!$A$1:$A$247),\"47100000\")","v":"47100000"},{"$f":"IF(J296=40110000,LOOKUP(9999999,FIND(BASE!$B$2:$B$247,$C296),BASE!$C$2:$C$247),\"\")","v":""},{"v":0,"d":"0.00 €"},51200004,null,""]
[{"$nulls":5},"G","BQ4",295,51200004,{"$f":"IFERROR(LOOKUP(9999999,FIND(BASE!$B$1:$B$247,$C297),BASE!$A$1:$A$247),\"47100000\")","v":"47100000"},{"$f":"IF(J297=40110000,LOOKUP(9999999,FIND(BASE!$B$2:$B$247,$C297),BASE!$C$2:$C$247),\"\")","v":""},{"v":0,"d":"0.00 €"},51200004,null,""]
[{"$nulls":5},"G","BQ4",296,51200004,{"$f":"IFERROR(LOOKUP(9999999,FIND(BASE!$B$1:$B$247,$C298),BASE!$A$1:$A$247),\"47100000\")","v":"47100000"},{"$f":"IF(J298=40110000,LOOKUP(9999999,FIND(BASE!$B$2:$B$247,$C298),BASE!$C$2:$C$247),\"\")","v":""},{"v":0,"d":"0.00 €"},51200004,null,""]
[{"$nulls":5},"G","BQ4",297,51200004,{"$f":"IFERROR(LOOKUP(9999999,FIND(BASE!$B$1:$B$247,$C299),BASE!$A$1:$A$247),\"47100000\")","v":"47100000"},{"$f":"IF(J299=40110000,LOOKUP(9999999,FIND(BASE!$B$2:$B$247,$C299),BASE!$C$2:$C$247),\"\")","v":""},{"v":0,"d":"0.00 €"},51200004,null,""]
[{"$nulls":5},"G","BQ4",298,51200004,{"$f":"IFERROR(LOOKUP(9999999,FIND(BASE!$B$1:$B$247,$C300),BASE!$A$1:$A$247),\"47100000\")","v":"47100000"},{"$f":"IF(J300=40110000,LOOKUP(9999999,FIND(BASE!$B$2:$B$247,$C300),BASE!$C$2:$C$247),\"\")","v":""},{"v":0,"d":"0.00 €"},51200004,null,""]
[{"$nulls":5},"G","BQ4",299,51200004,{"$f":"IFERROR(LOOKUP(9999999,FIND(BASE!$B$1:$B$247,$C301),BASE!$A$1:$A$247),\"47100000\")","v":"47100000"},{"$f":"IF(J301=40110000,LOOKUP(9999999,FIND(BASE!$B$2:$B$247,$C301),BASE!$C$2:$C$247),\"\")","v":""},{"v":0,"d":"0.00 €"},51200004,null,""]
[{"$nulls":5},"G","BQ4",300,51200004,{"$f":"IFERROR(LOOKUP(9999999,FIND(BASE!$B$1:$B$247,$C302),BASE!$A$1:$A$247),\"47100000\")","v":"47100000"},{"$f":"IF(J302=40110000,LOOKUP(9999999,FIND(BASE!$B$2:$B$247,$C302),BASE!$C$2:$C$247),\"\")","v":""},{"v":0,"d":"0.00 €"},51200004,null,""]
[{"$nulls":5},"G","BQ4",301,51200004,{"$f":"IFERROR(LOOKUP(9999999,FIND(BASE!$B$1:$B$247,$C303),BASE!$A$1:$A$247),\"47100000\")","v":"47100000"},{"$f":"IF(J303=40110000,LOOKUP(9999999,FIND(BASE!$B$2:$B$247,$C303),BASE!$C$2:$C$247),\"\")","v":""},{"v":0,"d":"0.00 €"},51200004,null,""]
[{"$nulls":5},"G","BQ4",302,51200004,{"$f":"IFERROR(LOOKUP(9999999,FIND(BASE!$B$1:$B$247,$C304),BASE!$A$1:$A$247),\"47100000\")","v":"47100000"},{"$f":"IF(J304=40110000,LOOKUP(9999999,FIND(BASE!$B$2:$B$247,$C304),BASE!$C$2:$C$247),\"\")","v":""},{"v":0,"d":"0.00 €"},51200004,null,""]
[{"$nulls":5},"G","BQ4",303,51200004,{"$f":"IFERROR(LOOKUP(9999999,FIND(BASE!$B$1:$B$247,$C305),BASE!$A$1:$A$247),\"47100000\")","v":"47100000"},{"$f":"IF(J305=40110000,LOOKUP(9999999,FIND(BASE!$B$2:$B$247,$C305),BASE!$C$2:$C$247),\"\")","v":""},{"v":0,"d":"0.00 €"},51200004,null,""]
[{"$nulls":5},"G","BQ4",304,51200004,{"$f":"IFERROR(LOOKUP(9999999,FIND(BASE!$B$1:$B$247,$C306),BASE!$A$1:$A$247),\"47100000\")","v":"47100000"},{"$f":"IF(J306=40110000,LOOKUP(9999999,FIND(BASE!$B$2:$B$247,$C306),BASE!$C$2:$C$247),\"\")","v":""},{"v":0,"d":"0.00 €"},51200004,null,""]
[{"$nulls":5},"G","BQ4",305,51200004,{"$f":"IFERROR(LOOKUP(9999999,FIND(BASE!$B$1:$B$247,$C307),BASE!$A$1:$A$247),\"47100000\")","v":"47100000"},{"$f":"IF(J307=40110000,LOOKUP(9999999,FIND(BASE!$B$2:$B$247,$C307),BASE!$C$2:$C$247),\"\")","v":""},{"v":0,"d":"0.00 €"},51200004,null,""]
[{"$nulls":5},"G","BQ4",306,51200004,{"$f":"IFERROR(LOOKUP(9999999,FIND(BASE!$B$1:$B$247,$C308),BASE!$A$1:$A$247),\"47100000\")","v":"47100000"},{"$f":"IF(J308=40110000,LOOKUP(9999999,FIND(BASE!$B$2:$B$247,$C308),BASE!$C$2:$C$247),\"\")","v":""},{"v":0,"d":"0.00 €"},51200004,null,""]
[{"$nulls":5},"G","BQ4",307,51200004,{"$f":"IFERROR(LOOKUP(9999999,FIND(BASE!$B$1:$B$247,$C309),BASE!$A$1:$A$247),\"47100000\")","v":"47100000"},{"$f":"IF(J309=40110000,LOOKUP(9999999,FIND(BASE!$B$2:$B$247,$C309),BASE!$C$2:$C$247),\"\")","v":""},{"v":0,"d":"0.00 €"},51200004,null,""]
[{"$nulls":5},"G","BQ4",308,51200004,{"$f":"IFERROR(LOOKUP(9999999,FIND(BASE!$B$1:$B$247,$C310),BASE!$A$1:$A$247),\"47100000\")","v":"47100000"},{"$f":"IF(J310=40110000,LOOKUP(9999999,FIND(BASE!$B$2:$B$247,$C310),BASE!$C$2:$C$247),\"\")","v":""},{"v":0,"d":"0.00 €"},51200004,null,""]
[{"$nulls":5},"G","BQ4",309,51200004,{"$f":"IFERROR(LOOKUP(9999999,FIND(BASE!$B$1:$B$247,$C311),BASE!$A$1:$A$247),\"47100000\")","v":"47100000"},{"$f":"IF(J311=40110000,LOOKUP(9999999,FIND(BASE!$B$2:$B$247,$C311),BASE!$C$2:$C$247),\"\")","v":""},{"v":0,"d":"0.00 €"},51200004,null,""]
[{"$nulls":5},"G","BQ4",310,51200004,{"$f":"IFERROR(LOOKUP(9999999,FIND(BASE!$B$1:$B$247,$C312),BASE!$A$1:$A$247),\"47100000\")","v":"47100000"},{"$f":"IF(J312=40110000,LOOKUP(9999999,FIND(BASE!$B$2:$B$247,$C312),BASE!$C$2:$C$247),\"\")","v":""},{"v":0,"d":"0.00 €"},51200004,null,""]
[{"$nulls":5},"G","BQ4",311,51200004,{"$f":"IFERROR(LOOKUP(9999999,FIND(BASE!$B$1:$B$247,$C313),BASE!$A$1:$A$247),\"47100000\")","v":"47100000"},{"$f":"IF(J313=40110000,LOOKUP(9999999,FIND(BASE!$B$2:$B$247,$C313),BASE!$C$2:$C$247),\"\")","v":""},{"v":0,"d":"0.00 €"},51200004,null,""]
[{"$nulls":5},"G","BQ4",312,51200004,{"$f":"IFERROR(LOOKUP(9999999,FIND(BASE!$B$1:$B$247,$C314),BASE!$A$1:$A$247),\"47100000\")","v":"47100000"},{"$f":"IF(J314=40110000,LOOKUP(9999999,FIND(BASE!$B$2:$B$247,$C314),BASE!$C$2:$C$247),\"\")","v":""},{"v":0,"d":"0.00 €"},51200004,null,""]
[{"$nulls":5},"G","BQ4",313,51200004,{"$f":"IFERROR(LOOKUP(9999999,FIND(BASE!$B$1:$B$247,$C315),BASE!$A$1:$A$247),\"47100000\")","v":"47100000"},{"$f":"IF(J315=40110000,LOOKUP(9999999,FIND(BASE!$B$2:$B$247,$C315),BASE!$C$2:$C$247),\"\")","v":""},{"v":0,"d":"0.00 €"},51200004,null,""]
[{"$nulls":5},"G","BQ4",314,51200004,{"$f":"IFERROR(LOOKUP(9999999,FIND(BASE!$B$1:$B$247,$C316),BASE!$A$1:$A$247),\"47100000\")","v":"47100000"},{"$f":"IF(J316=40110000,LOOKUP(9999999,FIND(BASE!$B$2:$B$247,$C316),BASE!$C$2:$C$247),\"\")","v":""},{"v":0,"d":"0.00 €"},51200004,null,""]
[{"$nulls":5},"G","BQ4",315,51200004,{"$f":"IFERROR(LOOKUP(9999999,FIND(BASE!$B$1:$B$247,$C317),BASE!$A$1:$A$247),\"47100000\")","v":"47100000"},{"$f":"IF(J317=40110000,LOOKUP(9999999,FIND(BASE!$B$2:$B$247,$C317),BASE!$C$2:$C$247),\"\")","v":""},{"v":0,"d":"0.00 €"},51200004,null,""]
[{"$nulls":5},"G","BQ4",316,51200004,{"$f":"IFERROR(LOOKUP(9999999,FIND(BASE!$B$1:$B$247,$C318),BASE!$A$1:$A$247),\"47100000\")","v":"47100000"},{"$f":"IF(J318=40110000,LOOKUP(9999999,FIND(BASE!$B$2:$B$247,$C318),BASE!$C$2:$C$247),\"\")","v":""},{"v":0,"d":"0.00 €"},51200004,null,""]
[{"$nulls":5},"G","BQ4",317,51200004,{"$f":"IFERROR(LOOKUP(9999999,FIND(BASE!$B$1:$B$247,$C319),BASE!$A$1:$A$247),\"47100000\")","v":"47100000"},{"$f":"IF(J319=40110000,LOOKUP(9999999,FIND(BASE!$B$2:$B$247,$C319),BASE!$C$2:$C$247),\"\")","v":""},{"v":0,"d":"0.00 €"},51200004,null,""]
[{"$nulls":5},"G","BQ4",318,51200004,{"$f":"IFERROR(LOOKUP(9999999,FIND(BASE!$B$1:$B$247,$C320),BASE!$A$1:$A$247),\"47100000\")","v":"47100000"},{"$f":"IF(J320=40110000,LOOKUP(9999999,FIND(BASE!$B$2:$B$247,$C320),BASE!$C$2:$C$247),\"\")","v":""},{"v":0,"d":"0.00 €"},51200004,null,""]
[{"$nulls":5},"G","BQ4",319,51200004,{"$f":"IFERROR(LOOKUP(9999999,FIND(BASE!$B$1:$B$247,$C321),BASE!$A$1:$A$247),\"47100000\")","v":"47100000"},{"$f":"IF(J321=40110000,LOOKUP(9999999,FIND(BASE!$B$2:$B$247,$C321),BASE!$C$2:$C$247),\"\")","v":""},{"v":0,"d":"0.00 €"},51200004,null,""]
[{"$nulls":5},"G","BQ4",320,51200004,{"$f":"IFERROR(LOOKUP(9999999,FIND(BASE!$B$1:$B$247,$C322),BASE!$A$1:$A$247),\"47100000\")","v":"47100000"},{"$f":"IF(J322=40110000,LOOKUP(9999999,FIND(BASE!$B$2:$B$247,$C322),BASE!$C$2:$C$247),\"\")","v":""},{"v":0,"d":"0.00 €"},51200004,null,""]
[{"$nulls":5},"G","BQ4",321,51200004,{"$f":"IFERROR(LOOKUP(9999999,FIND(BASE!$B$1:$B$247,$C323),BASE!$A$1:$A$247),\"47100000\")","v":"47100000"},{"$f":"IF(J323=40110000,LOOKUP(9999999,FIND(BASE!$B$2:$B$247,$C323),BASE!$C$2:$C$247),\"\")","v":""},{"v":0,"d":"0.00 €"},51200004,null,""]
[{"$nulls":5},"G","BQ4",322,51200004,{"$f":"IFERROR(LOOKUP(9999999,FIND(BASE!$B$1:$B$247,$C324),BASE!$A$1:$A$247),\"47100000\")","v":"47100000"},{"$f":"IF(J324=40110000,LOOKUP(9999999,FIND(BASE!$B$2:$B$247,$C324),BASE!$C$2:$C$247),\"\")","v":""},{"v":0,"d":"0.00 €"},51200004,null,""]
[{"$nulls":5},"G","BQ4",323,51200004,{"$f":"IFERROR(LOOKUP(9999999,FIND(BASE!$B$1:$B$247,$C325),BASE!$A$1:$A$247),\"47100000\")","v":"47100000"},{"$f":"IF(J325=40110000,LOOKUP(9999999,FIND(BASE!$B$2:$B$247,$C325),BASE!$C$2:$C$247),\"\")","v":""},{"v":0,"d":"0.00 €"},51200004,null,""]
[{"$nulls":5},"G","BQ4",324,51200004,{"$f":"IFERROR(LOOKUP(9999999,FIND(BASE!$B$1:$B$247,$C326),BASE!$A$1:$A$247),\"47100000\")","v":"47100000"},{"$f":"IF(J326=40110000,LOOKUP(9999999,FIND(BASE!$B$2:$B$247,$C326),BASE!$C$2:$C$247),\"\")","v":""},{"v":0,"d":"0.00 €"},51200004,null,""]
[{"$nulls":5},"G","BQ4",325,51200004,{"$f":"IFERROR(LOOKUP(9999999,FIND(BASE!$B$1:$B$247,$C327),BASE!$A$1:$A$247),\"47100000\")","v":"47100000"},{"$f":"IF(J327=40110000,LOOKUP(9999999,FIND(BASE!$B$2:$B$247,$C327),BASE!$C$2:$C$247),\"\")","v":""},{"v":0,"d":"0.00 €"},51200004,null,""]
[{"$nulls":5},"G","BQ4",326,51200004,{"$f":"IFERROR(LOOKUP(9999999,FIND(BASE!$B$1:$B$247,$C328),BASE!$A$1:$A$247),\"47100000\")","v":"47100000"},{"$f":"IF(J328=40110000,LOOKUP(9999999,FIND(BASE!$B$2:$B$247,$C328),BASE!$C$2:$C$247),\"\")","v":""},{"v":0,"d":"0.00 €"},51200004,null,""]
[{"$nulls":5},"G","BQ4",327,51200004,{"$f":"IFERROR(LOOKUP(9999999,FIND(BASE!$B$1:$B$247,$C329),BASE!$A$1:$A$247),\"47100000\")","v":"47100000"},{"$f":"IF(J329=40110000,LOOKUP(9999999,FIND(BASE!$B$2:$B$247,$C329),BASE!$C$2:$C$247),\"\")","v":""},{"v":0,"d":"0.00 €"},51200004,null,""]
[{"$nulls":5},"G","BQ4",328,51200004,{"$f":"IFERROR(LOOKUP(9999999,FIND(BASE!$B$1:$B$247,$C330),BASE!$A$1:$A$247),\"47100000\")","v":"47100000"},{"$f":"IF(J330=40110000,LOOKUP(9999999,FIND(BASE!$B$2:$B$247,$C330),BASE!$C$2:$C$247),\"\")","v":""},{"v":0,"d":"0.00 €"},51200004,null,""]
[{"$nulls":5},"G","BQ4",329,51200004,{"$f":"IFERROR(LOOKUP(9999999,FIND(BASE!$B$1:$B$247,$C331),BASE!$A$1:$A$247),\"47100000\")","v":"47100000"},{"$f":"IF(J331=40110000,LOOKUP(9999999,FIND(BASE!$B$2:$B$247,$C331),BASE!$C$2:$C$247),\"\")","v":""},{"v":0,"d":"0.00 €"},51200004,null,""]
[{"$nulls":5},"G","BQ4",330,51200004,{"$f":"IFERROR(LOOKUP(9999999,FIND(BASE!$B$1:$B$247,$C332),BASE!$A$1:$A$247),\"47100000\")","v":"47100000"},{"$f":"IF(J332=40110000,LOOKUP(9999999,FIND(BASE!$B$2:$B$247,$C332),BASE!$C$2:$C$247),\"\")","v":""},{"v":0,"d":"0.00 €"},51200004,null,""]
[{"$nulls":5},"G","BQ4",331,51200004,{"$f":"IFERROR(LOOKUP(9999999,FIND(BASE!$B$1:$B$247,$C333),BASE!$A$1:$A$247),\"47100000\")","v":"47100000"},{"$f":"IF(J333=40110000,LOOKUP(9999999,FIND(BASE!$B$2:$B$247,$C333),BASE!$C$2:$C$247),\"\")","v":""},{"v":0,"d":"0.00 €"},51200004,null,""]
[{"$nulls":5},"G","BQ4",332,51200004,{"$f":"IFERROR(LOOKUP(9999999,FIND(BASE!$B$1:$B$247,$C334),BASE!$A$1:$A$247),\"47100000\")","v":"47100000"},{"$f":"IF(J334=40110000,LOOKUP(9999999,FIND(BASE!$B$2:$B$247,$C334),BASE!$C$2:$C$247),\"\")","v":""},{"v":0,"d":"0.00 €"},51200004,null,""]
[{"$nulls":5},"G","BQ4",333,51200004,{"$f":"IFERROR(LOOKUP(9999999,FIND(BASE!$B$1:$B$247,$C335),BASE!$A$1:$A$247),\"47100000\")","v":"47100000"},{"$f":"IF(J335=40110000,LOOKUP(9999999,FIND(BASE!$B$2:$B$247,$C335),BASE!$C$2:$C$247),\"\")","v":""},{"v":0,"d":"0.00 €"},51200004,null,""]
[{"$nulls":5},"G","BQ4",334,51200004,{"$f":"IFERROR(LOOKUP(9999999,FIND(BASE!$B$1:$B$247,$C336),BASE!$A$1:$A$247),\"47100000\")","v":"47100000"},{"$f":"IF(J336=40110000,LOOKUP(9999999,FIND(BASE!$B$2:$B$247,$C336),BASE!$C$2:$C$247),\"\")","v":""},{"v":0,"d":"0.00 €"},51200004,null,""]
[{"$nulls":5},"G","BQ4",335,51200004,{"$f":"IFERROR(LOOKUP(9999999,FIND(BASE!$B$1:$B$247,$C337),BASE!$A$1:$A$247),\"47100000\")","v":"47100000"},{"$f":"IF(J337=40110000,LOOKUP(9999999,FIND(BASE!$B$2:$B$247,$C337),BASE!$C$2:$C$247),\"\")","v":""},{"v":0,"d":"0.00 €"},51200004,null,""]
[{"$nulls":5},"G","BQ4",336,51200004,{"$f":"IFERROR(LOOKUP(9999999,FIND(BASE!$B$1:$B$247,$C338),BASE!$A$1:$A$247),\"47100000\")","v":"47100000"},{"$f":"IF(J338=40110000,LOOKUP(9999999,FIND(BASE!$B$2:$B$247,$C338),BASE!$C$2:$C$247),\"\")","v":""},{"v":0,"d":"0.00 €"},51200004,null,""]
[{"$nulls":5},"G","BQ4",337,51200004,{"$f":"IFERROR(LOOKUP(9999999,FIND(BASE!$B$1:$B$247,$C339),BASE!$A$1:$A$247),\"47100000\")","v":"47100000"},{"$f":"IF(J339=40110000,LOOKUP(9999999,FIND(BASE!$B$2:$B$247,$C339),BASE!$C$2:$C$247),\"\")","v":""},{"v":0,"d":"0.00 €"},51200004,null,""]
[{"$nulls":5},"G","BQ4",338,51200004,{"$f":"IFERROR(LOOKUP(9999999,FIND(BASE!$B$1:$B$247,$C340),BASE!$A$1:$A$247),\"47100000\")","v":"47100000"},{"$f":"IF(J340=40110000,LOOKUP(9999999,FIND(BASE!$B$2:$B$247,$C340),BASE!$C$2:$C$247),\"\")","v":""},{"v":0,"d":"0.00 €"},51200004,null,""]
[{"$nulls":5},"G","BQ4",339,51200004,{"$f":"IFERROR(LOOKUP(9999999,FIND(BASE!$B$1:$B$247,$C341),BASE!$A$1:$A$247),\"47100000\")","v":"47100000"},{"$f":"IF(J341=40110000,LOOKUP(9999999,FIND(BASE!$B$2:$B$247,$C341),BASE!$C$2:$C$247),\"\")","v":""},{"v":0,"d":"0.00 €"},51200004,null,""]
[{"$nulls":5},"G","BQ4",340,51200004,{"$f":"IFERROR(LOOKUP(9999999,FIND(BASE!$B$1:$B$247,$C342),BASE!$A$1:$A$247),\"47100000\")","v":"47100000"},{"$f":"IF(J342=40110000,LOOKUP(9999999,FIND(BASE!$B$2:$B$247,$C342),BASE!$C$2:$C$247),\"\")","v":""},{"v":0,"d":"0.00 €"},51200004,null,""]
[{"$nulls":5},"G","BQ4",341,51200004,{"$f":"IFERROR(LOOKUP(9999999,FIND(BASE!$B$1:$B$247,$C343),BASE!$A$1:$A$247),\"47100000\")","v":"47100000"},{"$f":"IF(J343=40110000,LOOKUP(9999999,FIND(BASE!$B$2:$B$247,$C343),BASE!$C$2:$C$247),\"\")","v":""},{"v":0,"d":"0.00 €"},51200004,null,""]
[{"$nulls":5},"G","BQ4",342,51200004,{"$f":"IFERROR(LOOKUP(9999999,FIND(BASE!$B$1:$B$247,$C344),BASE!$A$1:$A$247),\"47100000\")","v":"47100000"},{"$f":"IF(J344=40110000,LOOKUP(9999999,FIND(BASE!$B$2:$B$247,$C344),BASE!$C$2:$C$247),\"\")","v":""},{"v":0,"d":"0.00 €"},51200004,null,""]
[{"$nulls":5},"G","BQ4",343,51200004,{"$f":"IFERROR(LOOKUP(9999999,FIND(BASE!$B$1:$B$247,$C345),BASE!$A$1:$A$247),\"47100000\")","v":"47100000"},{"$f":"IF(J345=40110000,LOOKUP(9999999,FIND(BASE!$B$2:$B$247,$C345),BASE!$C$2:$C$247),\"\")","v":""},{"v":0,"d":"0.00 €"},51200004,null,""]
[{"$nulls":5},"G","BQ4",344,51200004,{"$f":"IFERROR(LOOKUP(9999999,FIND(BASE!$B$1:$B$247,$C346),BASE!$A$1:$A$247),\"47100000\")","v":"47100000"},{"$f":"IF(J346=40110000,LOOKUP(9999999,FIND(BASE!$B$2:$B$247,$C346),BASE!$C$2:$C$247),\"\")","v":""},{"v":0,"d":"0.00 €"},51200004,null,""]
[{"$nulls":5},"G","BQ4",345,51200004,{"$f":"IFERROR(LOOKUP(9999999,FIND(BASE!$B$1:$B$247,$C347),BASE!$A$1:$A$247),\"47100000\")","v":"47100000"},{"$f":"IF(J347=40110000,LOOKUP(9999999,FIND(BASE!$B$2:$B$247,$C347),BASE!$C$2:$C$247),\"\")","v":""},{"v":0,"d":"0.00 €"},51200004,null,""]
[{"$nulls":5},"G","BQ4",346,51200004,{"$f":"IFERROR(LOOKUP(9999999,FIND(BASE!$B$1:$B$247,$C348),BASE!$A$1:$A$247),\"47100000\")","v":"47100000"},{"$f":"IF(J348=40110000,LOOKUP(9999999,FIND(BASE!$B$2:$B$247,$C348),BASE!$C$2:$C$247),\"\")","v":""},{"v":0,"d":"0.00 €"},51200004,null,""]
[{"$nulls":5},"G","BQ4",347,51200004,{"$f":"IFERROR(LOOKUP(9999999,FIND(BASE!$B$1:$B$247,$C349),BASE!$A$1:$A$247),\"47100000\")","v":"47100000"},{"$f":"IF(J349=40110000,LOOKUP(9999999,FIND(BASE!$B$2:$B$247,$C349),BASE!$C$2:$C$247),\"\")","v":""},{"v":0,"d":"0.00 €"},51200004,null,""]
[{"$nulls":5},"G","BQ4",348,51200004,{"$f":"IFERROR(LOOKUP(9999999,FIND(BASE!$B$1:$B$247,$C350),BASE!$A$1:$A$247),\"47100000\")","v":"47100000"},{"$f":"IF(J350=40110000,LOOKUP(9999999,FIND(BASE!$B$2:$B$247,$C350),BASE!$C$2:$C$247),\"\")","v":""},{"v":0,"d":"0.00 €"},51200004,null,""]
[{"$nulls":5},"G","BQ4",349,51200004,{"$f":"IFERROR(LOOKUP(9999999,FIND(BASE!$B$1:$B$247,$C351),BASE!$A$1:$A$247),\"47100000\")","v":"47100000"},{"$f":"IF(J351=40110000,LOOKUP(9999999,FIND(BASE!$B$2:$B$247,$C351),BASE!$C$2:$C$247),\"\")","v":""},{"v":0,"d":"0.00 €"},51200004,null,""]
[{"$nulls":5},"G","BQ4",{"$f":"+H351+1","v":350},51200004,{"$f":"IFERROR(LOOKUP(9999999,FIND(BASE!$B$1:$B$247,$C352),BASE!$A$1:$A$247),\"47100000\")","v":"47100000"},{"$f":"IF(J352=40110000,LOOKUP(9999999,FIND(BASE!$B$2:$B$247,$C352),BASE!$C$2:$C$247),\"\")","v":""},{"$f":"E352+D352","v":{"v":0,"d":"0.00 €"}},51200004,null,""]
[{"$nulls":5},"G","BQ4",351,51200004,{"$f":"IFERROR(LOOKUP(9999999,FIND(BASE!$B$1:$B$247,$C353),BASE!$A$1:$A$247),\"47100000\")","v":"47100000"},{"$f":"IF(J353=40110000,LOOKUP(9999999,FIND(BASE!$B$2:$B$247,$C353),BASE!$C$2:$C$247),\"\")","v":""},{"v":0,"d":"0.00 €"},51200004,null,""]
[{"$nulls":5},"G","BQ4",352,51200004,{"$f":"IFERROR(LOOKUP(9999999,FIND(BASE!$B$1:$B$247,$C354),BASE!$A$1:$A$247),\"47100000\")","v":"47100000"},{"$f":"IF(J354=40110000,LOOKUP(9999999,FIND(BASE!$B$2:$B$247,$C354),BASE!$C$2:$C$247),\"\")","v":""},{"v":0,"d":"0.00 €"},51200004,null,""]
[{"$nulls":5},"G","BQ4",353,51200004,{"$f":"IFERROR(LOOKUP(9999999,FIND(BASE!$B$1:$B$247,$C355),BASE!$A$1:$A$247),\"47100000\")","v":"47100000"},{"$f":"IF(J355=40110000,LOOKUP(9999999,FIND(BASE!$B$2:$B$247,$C355),BASE!$C$2:$C$247),\"\")","v":""},null,51200004]
[{"$nulls":5},"G","BQ4",354,51200004,{"$f":"IFERROR(LOOKUP(9999999,FIND(BASE!$B$1:$B$247,$C356),BASE!$A$1:$A$247),\"47100000\")","v":"47100000"},{"$f":"IF(J356=40110000,LOOKUP(9999999,FIND(BASE!$B$2:$B$247,$C356),BASE!$C$2:$C$247),\"\")","v":""},null,51200004]
[{"$nulls":5},"G","BQ4",355,51200004,{"$f":"IFERROR(LOOKUP(9999999,FIND(BASE!$B$1:$B$247,$C357),BASE!$A$1:$A$247),\"47100000\")","v":"47100000"},{"$f":"IF(J357=40110000,LOOKUP(9999999,FIND(BASE!$B$2:$B$247,$C357),BASE!$C$2:$C$247),\"\")","v":""},null,51200004]
[{"$nulls":5},"G","BQ4",356,51200004,{"$f":"IFERROR(LOOKUP(9999999,FIND(BASE!$B$1:$B$247,$C358),BASE!$A$1:$A$247),\"47100000\")","v":"47100000"},{"$f":"IF(J358=40110000,LOOKUP(9999999,FIND(BASE!$B$2:$B$247,$C358),BASE!$C$2:$C$247),\"\")","v":""},null,51200004]
[{"$nulls":5},"G","BQ4",357,51200004,{"$f":"IFERROR(LOOKUP(9999999,FIND(BASE!$B$1:$B$247,$C359),BASE!$A$1:$A$247),\"47100000\")","v":"47100000"},{"$f":"IF(J359=40110000,LOOKUP(9999999,FIND(BASE!$B$2:$B$247,$C359),BASE!$C$2:$C$247),\"\")","v":""},null,51200004]
[{"$nulls":5},"G","BQ4",358,51200004,{"$f":"IFERROR(LOOKUP(9999999,FIND(BASE!$B$1:$B$247,$C360),BASE!$A$1:$A$247),\"47100000\")","v":"47100000"},{"$f":"IF(J360=40110000,LOOKUP(9999999,FIND(BASE!$B$2:$B$247,$C360),BASE!$C$2:$C$247),\"\")","v":""},null,51200004]
[{"$nulls":5},"G","BQ4",359,51200004,{"$f":"IFERROR(LOOKUP(9999999,FIND(BASE!$B$1:$B$247,$C361),BASE!$A$1:$A$247),\"47100000\")","v":"47100000"},{"$f":"IF(J361=40110000,LOOKUP(9999999,FIND(BASE!$B$2:$B$247,$C361),BASE!$C$2:$C$247),\"\")","v":""},null,51200004]
[{"$nulls":5},"G","BQ4",360,51200004,{"$f":"IFERROR(LOOKUP(9999999,FIND(BASE!$B$1:$B$247,$C362),BASE!$A$1:$A$247),\"47100000\")","v":"47100000"},{"$f":"IF(J362=40110000,LOOKUP(9999999,FIND(BASE!$B$2:$B$247,$C362),BASE!$C$2:$C$247),\"\")","v":""},null,51200004]
[{"$nulls":5},"G","BQ4",361,51200004,{"$f":"IFERROR(LOOKUP(9999999,FIND(BASE!$B$1:$B$247,$C363),BASE!$A$1:$A$247),\"47100000\")","v":"47100000"},{"$f":"IF(J363=40110000,LOOKUP(9999999,FIND(BASE!$B$2:$B$247,$C363),BASE!$C$2:$C$247),\"\")","v":""},null,51200004]
[{"$nulls":5},"G","BQ4",362,51200004,{"$f":"IFERROR(LOOKUP(9999999,FIND(BASE!$B$1:$B$247,$C364),BASE!$A$1:$A$247),\"47100000\")","v":"47100000"},{"$f":"IF(J364=40110000,LOOKUP(9999999,FIND(BASE!$B$2:$B$247,$C364),BASE!$C$2:$C$247),\"\")","v":""},null,51200004]
[{"$nulls":5},"G","BQ4",363,51200004,{"$f":"IFERROR(LOOKUP(9999999,FIND(BASE!$B$1:$B$247,$C365),BASE!$A$1:$A$247),\"47100000\")","v":"47100000"},{"$f":"IF(J365=40110000,LOOKUP(9999999,FIND(BASE!$B$2:$B$247,$C365),BASE!$C$2:$C$247),\"\")","v":""},null,51200004]
[{"$nulls":5},"G","BQ4",364,51200004,{"$f":"IFERROR(LOOKUP(9999999,FIND(BASE!$B$1:$B$247,$C366),BASE!$A$1:$A$247),\"47100000\")","v":"47100000"},{"$f":"IF(J366=40110000,LOOKUP(9999999,FIND(BASE!$B$2:$B$247,$C366),BASE!$C$2:$C$247),\"\")","v":""},null,51200004]
[{"$nulls":5},"G","BQ4",365,51200004,{"$f":"IFERROR(LOOKUP(9999999,FIND(BASE!$B$1:$B$247,$C367),BASE!$A$1:$A$247),\"47100000\")","v":"47100000"},{"$f":"IF(J367=40110000,LOOKUP(9999999,FIND(BASE!$B$2:$B$247,$C367),BASE!$C$2:$C$247),\"\")","v":""},null,51200004]
[{"$nulls":5},"G","BQ4",366,51200004,{"$f":"IFERROR(LOOKUP(9999999,FIND(BASE!$B$1:$B$247,$C368),BASE!$A$1:$A$247),\"47100000\")","v":"47100000"},{"$f":"IF(J368=40110000,LOOKUP(9999999,FIND(BASE!$B$2:$B$247,$C368),BASE!$C$2:$C$247),\"\")","v":""},null,51200004]
[{"$nulls":5},"G","BQ4",367,51200004,{"$f":"IFERROR(LOOKUP(9999999,FIND(BASE!$B$1:$B$247,$C369),BASE!$A$1:$A$247),\"47100000\")","v":"47100000"},{"$f":"IF(J369=40110000,LOOKUP(9999999,FIND(BASE!$B$2:$B$247,$C369),BASE!$C$2:$C$247),\"\")","v":""},null,51200004]
[{"$nulls":5},"G","BQ4",368,51200004,{"$f":"IFERROR(LOOKUP(9999999,FIND(BASE!$B$1:$B$247,$C370),BASE!$A$1:$A$247),\"47100000\")","v":"47100000"},{"$f":"IF(J370=40110000,LOOKUP(9999999,FIND(BASE!$B$2:$B$247,$C370),BASE!$C$2:$C$247),\"\")","v":""},null,51200004]
[{"$nulls":5},"G","BQ4",369,51200004,{"$f":"IFERROR(LOOKUP(9999999,FIND(BASE!$B$1:$B$247,$C371),BASE!$A$1:$A$247),\"47100000\")","v":"47100000"},{"$f":"IF(J371=40110000,LOOKUP(9999999,FIND(BASE!$B$2:$B$247,$C371),BASE!$C$2:$C$247),\"\")","v":""},null,51200004]
[{"$nulls":5},"G","BQ4",370,51200004,{"$f":"IFERROR(LOOKUP(9999999,FIND(BASE!$B$1:$B$247,$C372),BASE!$A$1:$A$247),\"47100000\")","v":"47100000"},{"$f":"IF(J372=40110000,LOOKUP(9999999,FIND(BASE!$B$2:$B$247,$C372),BASE!$C$2:$C$247),\"\")","v":""},null,51200004]
[{"$nulls":5},"G","BQ4",371,51200004,{"$f":"IFERROR(LOOKUP(9999999,FIND(BASE!$B$1:$B$247,$C373),BASE!$A$1:$A$247),\"47100000\")","v":"47100000"},{"$f":"IF(J373=40110000,LOOKUP(9999999,FIND(BASE!$B$2:$B$247,$C373),BASE!$C$2:$C$247),\"\")","v":""},null,51200004]
[{"$nulls":5},"G","BQ4",372,51200004,{"$f":"IFERROR(LOOKUP(9999999,FIND(BASE!$B$1:$B$247,$C374),BASE!$A$1:$A$247),\"47100000\")","v":"47100000"},{"$f":"IF(J374=40110000,LOOKUP(9999999,FIND(BASE!$B$2:$B$247,$C374),BASE!$C$2:$C$247),\"\")","v":""},null,51200004]
[{"$nulls":5},"G","BQ4",373,51200004,{"$f":"IFERROR(LOOKUP(9999999,FIND(BASE!$B$1:$B$247,$C375),BASE!$A$1:$A$247),\"47100000\")","v":"47100000"},{"$f":"IF(J375=40110000,LOOKUP(9999999,FIND(BASE!$B$2:$B$247,$C375),BASE!$C$2:$C$247),\"\")","v":""},null,51200004]
[{"$nulls":5},"G","BQ4",374,51200004,{"$f":"IFERROR(LOOKUP(9999999,FIND(BASE!$B$1:$B$247,$C376),BASE!$A$1:$A$247),\"47100000\")","v":"47100000"},{"$f":"IF(J376=40110000,LOOKUP(9999999,FIND(BASE!$B$2:$B$247,$C376),BASE!$C$2:$C$247),\"\")","v":""},null,51200004]
[{"$nulls":5},"G","BQ4",375,51200004,{"$f":"IFERROR(LOOKUP(9999999,FIND(BASE!$B$1:$B$247,$C377),BASE!$A$1:$A$247),\"47100000\")","v":"47100000"},{"$f":"IF(J377=40110000,LOOKUP(9999999,FIND(BASE!$B$2:$B$247,$C377),BASE!$C$2:$C$247),\"\")","v":""},null,51200004]
[{"$nulls":5},"G","BQ4",376,51200004,{"$f":"IFERROR(LOOKUP(9999999,FIND(BASE!$B$1:$B$247,$C378),BASE!$A$1:$A$247),\"47100000\")","v":"47100000"},{"$f":"IF(J378=40110000,LOOKUP(9999999,FIND(BASE!$B$2:$B$247,$C378),BASE!$C$2:$C$247),\"\")","v":""},null,51200004]
[{"$nulls":5},"G","BQ4",377,51200004,{"$f":"IFERROR(LOOKUP(9999999,FIND(BASE!$B$1:$B$247,$C379),BASE!$A$1:$A$247),\"47100000\")","v":"47100000"},{"$f":"IF(J379=40110000,LOOKUP(9999999,FIND(BASE!$B$2:$B$247,$C379),BASE!$C$2:$C$247),\"\")","v":""},null,51200004]
[{"$nulls":5},"G","BQ4",378,51200004,{"$f":"IFERROR(LOOKUP(9999999,FIND(BASE!$B$1:$B$247,$C380),BASE!$A$1:$A$247),\"47100000\")","v":"47100000"},{"$f":"IF(J380=40110000,LOOKUP(9999999,FIND(BASE!$B$2:$B$247,$C380),BASE!$C$2:$C$247),\"\")","v":""},null,51200004]
[{"$nulls":5},"G","BQ4",379,51200004,{"$f":"IFERROR(LOOKUP(9999999,FIND(BASE!$B$1:$B$247,$C381),BASE!$A$1:$A$247),\"47100000\")","v":"47100000"},{"$f":"IF(J381=40110000,LOOKUP(9999999,FIND(BASE!$B$2:$B$247,$C381),BASE!$C$2:$C$247),\"\")","v":""},null,51200004]
[{"$nulls":5},"G","BQ4",380,51200004,{"$f":"IFERROR(LOOKUP(9999999,FIND(BASE!$B$1:$B$247,$C382),BASE!$A$1:$A$247),\"47100000\")","v":"47100000"},{"$f":"IF(J382=40110000,LOOKUP(9999999,FIND(BASE!$B$2:$B$247,$C382),BASE!$C$2:$C$247),\"\")","v":""},null,51200004]
[{"$nulls":5},"G","BQ4",381,51200004,{"$f":"IFERROR(LOOKUP(9999999,FIND(BASE!$B$1:$B$247,$C383),BASE!$A$1:$A$247),\"47100000\")","v":"47100000"},{"$f":"IF(J383=40110000,LOOKUP(9999999,FIND(BASE!$B$2:$B$247,$C383),BASE!$C$2:$C$247),\"\")","v":""},null,51200004]
[{"$nulls":5},"G","BQ4",382,51200004,{"$f":"IFERROR(LOOKUP(9999999,FIND(BASE!$B$1:$B$247,$C384),BASE!$A$1:$A$247),\"47100000\")","v":"47100000"},{"$f":"IF(J384=40110000,LOOKUP(9999999,FIND(BASE!$B$2:$B$247,$C384),BASE!$C$2:$C$247),\"\")","v":""},null,51200004]
[{"$nulls":5},"G","BQ4",383,51200004,{"$f":"IFERROR(LOOKUP(9999999,FIND(BASE!$B$1:$B$247,$C385),BASE!$A$1:$A$247),\"47100000\")","v":"47100000"},{"$f":"IF(J385=40110000,LOOKUP(9999999,FIND(BASE!$B$2:$B$247,$C385),BASE!$C$2:$C$247),\"\")","v":""},null,51200004]
[{"$nulls":5},"G","BQ4",384,51200004,{"$f":"IFERROR(LOOKUP(9999999,FIND(BASE!$B$1:$B$247,$C386),BASE!$A$1:$A$247),\"47100000\")","v":"47100000"},{"$f":"IF(J386=40110000,LOOKUP(9999999,FIND(BASE!$B$2:$B$247,$C386),BASE!$C$2:$C$247),\"\")","v":""},null,51200004]
[{"$nulls":5},"G","BQ4",385,51200004,{"$f":"IFERROR(LOOKUP(9999999,FIND(BASE!$B$1:$B$247,$C387),BASE!$A$1:$A$247),\"47100000\")","v":"47100000"},{"$f":"IF(J387=40110000,LOOKUP(9999999,FIND(BASE!$B$2:$B$247,$C387),BASE!$C$2:$C$247),\"\")","v":""},null,51200004]
[{"$nulls":5},"G","BQ4",386,51200004,{"$f":"IFERROR(LOOKUP(9999999,FIND(BASE!$B$1:$B$247,$C388),BASE!$A$1:$A$247),\"47100000\")","v":"47100000"},{"$f":"IF(J388=40110000,LOOKUP(9999999,FIND(BASE!$B$2:$B$247,$C388),BASE!$C$2:$C$247),\"\")","v":""},null,51200004]
[{"$nulls":5},"G","BQ4",387,51200004,{"$f":"IFERROR(LOOKUP(9999999,FIND(BASE!$B$1:$B$247,$C389),BASE!$A$1:$A$247),\"47100000\")","v":"47100000"},{"$f":"IF(J389=40110000,LOOKUP(9999999,FIND(BASE!$B$2:$B$247,$C389),BASE!$C$2:$C$247),\"\")","v":""},null,51200004]
[{"$nulls":5},"G","BQ4",388,51200004,{"$f":"IFERROR(LOOKUP(9999999,FIND(BASE!$B$1:$B$247,$C390),BASE!$A$1:$A$247),\"47100000\")","v":"47100000"},{"$f":"IF(J390=40110000,LOOKUP(9999999,FIND(BASE!$B$2:$B$247,$C390),BASE!$C$2:$C$247),\"\")","v":""},null,51200004]
[{"$nulls":5},"G","BQ4",389,51200004,{"$f":"IFERROR(LOOKUP(9999999,FIND(BASE!$B$1:$B$247,$C391),BASE!$A$1:$A$247),\"47100000\")","v":"47100000"},{"$f":"IF(J391=40110000,LOOKUP(9999999,FIND(BASE!$B$2:$B$247,$C391),BASE!$C$2:$C$247),\"\")","v":""},null,51200004]
[{"$nulls":5},"G","BQ4",390,51200004,{"$f":"IFERROR(LOOKUP(9999999,FIND(BASE!$B$1:$B$247,$C392),BASE!$A$1:$A$247),\"47100000\")","v":"47100000"},{"$f":"IF(J392=40110000,LOOKUP(9999999,FIND(BASE!$B$2:$B$247,$C392),BASE!$C$2:$C$247),\"\")","v":""},null,51200004]
[{"$nulls":5},"G","BQ4",391,51200004,{"$f":"IFERROR(LOOKUP(9999999,FIND(BASE!$B$1:$B$247,$C393),BASE!$A$1:$A$247),\"47100000\")","v":"47100000"},{"$f":"IF(J393=40110000,LOOKUP(9999999,FIND(BASE!$B$2:$B$247,$C393),BASE!$C$2:$C$247),\"\")","v":""},null,51200004]
[{"$nulls":5},"G","BQ4",392,51200004,{"$f":"IFERROR(LOOKUP(9999999,FIND(BASE!$B$1:$B$247,$C394),BASE!$A$1:$A$247),\"47100000\")","v":"47100000"},{"$f":"IF(J394=40110000,LOOKUP(9999999,FIND(BASE!$B$2:$B$247,$C394),BASE!$C$2:$C$247),\"\")","v":""},null,51200004]
[{"$nulls":5},"G","BQ4",393,51200004,{"$f":"IFERROR(LOOKUP(9999999,FIND(BASE!$B$1:$B$247,$C395),BASE!$A$1:$A$247),\"47100000\")","v":"47100000"},{"$f":"IF(J395=40110000,LOOKUP(9999999,FIND(BASE!$B$2:$B$247,$C395),BASE!$C$2:$C$247),\"\")","v":""},null,51200004]
[{"$nulls":5},"G","BQ4",394,51200004,{"$f":"IFERROR(LOOKUP(9999999,FIND(BASE!$B$1:$B$247,$C396),BASE!$A$1:$A$247),\"47100000\")","v":"47100000"},{"$f":"IF(J396=40110000,LOOKUP(9999999,FIND(BASE!$B$2:$B$247,$C396),BASE!$C$2:$C$247),\"\")","v":""},null,51200004]
[{"$nulls":5},"G","BQ4",395,51200004,{"$f":"IFERROR(LOOKUP(9999999,FIND(BASE!$B$1:$B$247,$C397),BASE!$A$1:$A$247),\"47100000\")","v":"47100000"},{"$f":"IF(J397=40110000,LOOKUP(9999999,FIND(BASE!$B$2:$B$247,$C397),BASE!$C$2:$C$247),\"\")","v":""},null,51200004]
[{"$nulls":5},"G","BQ4",396,51200004,{"$f":"IFERROR(LOOKUP(9999999,FIND(BASE!$B$1:$B$247,$C398),BASE!$A$1:$A$247),\"47100000\")","v":"47100000"},{"$f":"IF(J398=40110000,LOOKUP(9999999,FIND(BASE!$B$2:$B$247,$C398),BASE!$C$2:$C$247),\"\")","v":""},null,51200004]
[{"$nulls":5},"G","BQ4",397,51200004,{"$f":"IFERROR(LOOKUP(9999999,FIND(BASE!$B$1:$B$247,$C399),BASE!$A$1:$A$247),\"47100000\")","v":"47100000"},{"$f":"IF(J399=40110000,LOOKUP(9999999,FIND(BASE!$B$2:$B$247,$C399),BASE!$C$2:$C$247),\"\")","v":""},null,51200004]
[{"$nulls":5},"G","BQ4",398,51200004,{"$f":"IFERROR(LOOKUP(9999999,FIND(BASE!$B$1:$B$247,$C400),BASE!$A$1:$A$247),\"47100000\")","v":"47100000"},{"$f":"IF(J400=40110000,LOOKUP(9999999,FIND(BASE!$B$2:$B$247,$C400),BASE!$C$2:$C$247),\"\")","v":""},null,51200004]
[{"$nulls":5},"G","BQ4",399,51200004,{"$f":"IFERROR(LOOKUP(9999999,FIND(BASE!$B$1:$B$247,$C401),BASE!$A$1:$A$247),\"47100000\")","v":"47100000"},{"$f":"IF(J401=40110000,LOOKUP(9999999,FIND(BASE!$B$2:$B$247,$C401),BASE!$C$2:$C$247),\"\")","v":""},null,51200004]
[{"$nulls":5},"G","BQ4",400,51200004,{"$f":"IFERROR(LOOKUP(9999999,FIND(BASE!$B$1:$B$247,$C402),BASE!$A$1:$A$247),\"47100000\")","v":"47100000"},{"$f":"IF(J402=40110000,LOOKUP(9999999,FIND(BASE!$B$2:$B$247,$C402),BASE!$C$2:$C$247),\"\")","v":""},null,51200004]
[{"$nulls":5},"G","BQ4",401,51200004,{"$f":"IFERROR(LOOKUP(9999999,FIND(BASE!$B$1:$B$247,$C403),BASE!$A$1:$A$247),\"47100000\")","v":"47100000"},{"$f":"IF(J403=40110000,LOOKUP(9999999,FIND(BASE!$B$2:$B$247,$C403),BASE!$C$2:$C$247),\"\")","v":""},null,51200004]
[{"$nulls":5},"G","BQ4",402,51200004,{"$f":"IFERROR(LOOKUP(9999999,FIND(BASE!$B$1:$B$247,$C404),BASE!$A$1:$A$247),\"47100000\")","v":"47100000"},{"$f":"IF(J404=40110000,LOOKUP(9999999,FIND(BASE!$B$2:$B$247,$C404),BASE!$C$2:$C$247),\"\")","v":""},null,51200004]
[{"$nulls":5},"G","BQ4",403,51200004,{"$f":"IFERROR(LOOKUP(9999999,FIND(BASE!$B$1:$B$247,$C405),BASE!$A$1:$A$247),\"47100000\")","v":"47100000"},{"$f":"IF(J405=40110000,LOOKUP(9999999,FIND(BASE!$B$2:$B$247,$C405),BASE!$C$2:$C$247),\"\")","v":""},null,51200004]
[{"$nulls":5},"G","BQ4",404,51200004,{"$f":"IFERROR(LOOKUP(9999999,FIND(BASE!$B$1:$B$247,$C406),BASE!$A$1:$A$247),\"47100000\")","v":"47100000"},{"$f":"IF(J406=40110000,LOOKUP(9999999,FIND(BASE!$B$2:$B$247,$C406),BASE!$C$2:$C$247),\"\")","v":""},null,51200004]
[{"$nulls":5},"G","BQ4",405,51200004,{"$f":"IFERROR(LOOKUP(9999999,FIND(BASE!$B$1:$B$247,$C407),BASE!$A$1:$A$247),\"47100000\")","v":"47100000"},{"$f":"IF(J407=40110000,LOOKUP(9999999,FIND(BASE!$B$2:$B$247,$C407),BASE!$C$2:$C$247),\"\")","v":""},null,51200004]
[{"$nulls":5},"G","BQ4",406,51200004,{"$f":"IFERROR(LOOKUP(9999999,FIND(BASE!$B$1:$B$247,$C408),BASE!$A$1:$A$247),\"47100000\")","v":"47100000"},{"$f":"IF(J408=40110000,LOOKUP(9999999,FIND(BASE!$B$2:$B$247,$C408),BASE!$C$2:$C$247),\"\")","v":""},null,51200004]
[{"$nulls":5},"G","BQ4",407,51200004,{"$f":"IFERROR(LOOKUP(9999999,FIND(BASE!$B$1:$B$247,$C409),BASE!$A$1:$A$247),\"47100000\")","v":"47100000"},{"$f":"IF(J409=40110000,LOOKUP(9999999,FIND(BASE!$B$2:$B$247,$C409),BASE!$C$2:$C$247),\"\")","v":""},null,51200004]
[{"$nulls":5},"G","BQ4",408,51200004,{"$f":"IFERROR(LOOKUP(9999999,FIND(BASE!$B$1:$B$247,$C410),BASE!$A$1:$A$247),\"47100000\")","v":"47100000"},{"$f":"IF(J410=40110000,LOOKUP(9999999,FIND(BASE!$B$2:$B$247,$C410),BASE!$C$2:$C$247),\"\")","v":""},null,51200004]
[{"$nulls":5},"G","BQ4",409,51200004,{"$f":"IFERROR(LOOKUP(9999999,FIND(BASE!$B$1:$B$247,$C411),BASE!$A$1:$A$247),\"47100000\")","v":"47100000"},{"$f":"IF(J411=40110000,LOOKUP(9999999,FIND(BASE!$B$2:$B$247,$C411),BASE!$C$2:$C$247),\"\")","v":""},null,51200004]
[{"$nulls":5},"G","BQ4",410,51200004,{"$f":"IFERROR(LOOKUP(9999999,FIND(BASE!$B$1:$B$247,$C412),BASE!$A$1:$A$247),\"47100000\")","v":"47100000"},{"$f":"IF(J412=40110000,LOOKUP(9999999,FIND(BASE!$B$2:$B$247,$C412),BASE!$C$2:$C$247),\"\")","v":""},null,51200004]
[{"$nulls":5},"G","BQ4",411,51200004,{"$f":"IFERROR(LOOKUP(9999999,FIND(BASE!$B$1:$B$247,$C413),BASE!$A$1:$A$247),\"47100000\")","v":"47100000"},{"$f":"IF(J413=40110000,LOOKUP(9999999,FIND(BASE!$B$2:$B$247,$C413),BASE!$C$2:$C$247),\"\")","v":""},null,51200004]
[{"$nulls":5},"G","BQ4",412,51200004,{"$f":"IFERROR(LOOKUP(9999999,FIND(BASE!$B$1:$B$247,$C414),BASE!$A$1:$A$247),\"47100000\")","v":"47100000"},{"$f":"IF(J414=40110000,LOOKUP(9999999,FIND(BASE!$B$2:$B$247,$C414),BASE!$C$2:$C$247),\"\")","v":""},null,51200004]
[{"$nulls":5},"G","BQ4",413,51200004,{"$f":"IFERROR(LOOKUP(9999999,FIND(BASE!$B$1:$B$247,$C415),BASE!$A$1:$A$247),\"47100000\")","v":"47100000"},{"$f":"IF(J415=40110000,LOOKUP(9999999,FIND(BASE!$B$2:$B$247,$C415),BASE!$C$2:$C$247),\"\")","v":""},null,51200004]
[{"$nulls":5},"G","BQ4",{"$f":"+H415+1","v":414},51200004,{"$f":"IFERROR(LOOKUP(9999999,FIND(BASE!$B$1:$B$247,$C416),BASE!$A$1:$A$247),\"47100000\")","v":"47100000"},{"$f":"IF(J416=40110000,LOOKUP(9999999,FIND(BASE!$B$2:$B$247,$C416),BASE!$C$2:$C$247),\"\")","v":""},null,51200004]
[{"$nulls":5},"G","BQ4",415,51200004,{"$f":"IFERROR(LOOKUP(9999999,FIND(BASE!$B$1:$B$247,$C417),BASE!$A$1:$A$247),\"47100000\")","v":"47100000"},{"$f":"IF(J417=40110000,LOOKUP(9999999,FIND(BASE!$B$2:$B$247,$C417),BASE!$C$2:$C$247),\"\")","v":""},null,51200004]
[{"$nulls":5},"G","BQ4",416,51200004,{"$f":"IFERROR(LOOKUP(9999999,FIND(BASE!$B$1:$B$247,$C418),BASE!$A$1:$A$247),\"47100000\")","v":"47100000"},{"$f":"IF(J418=40110000,LOOKUP(9999999,FIND(BASE!$B$2:$B$247,$C418),BASE!$C$2:$C$247),\"\")","v":""},null,51200004]
[{"$nulls":5},"G","BQ4",417,51200004,{"$f":"IFERROR(LOOKUP(9999999,FIND(BASE!$B$1:$B$247,$C419),BASE!$A$1:$A$247),\"47100000\")","v":"47100000"},{"$f":"IF(J419=40110000,LOOKUP(9999999,FIND(BASE!$B$2:$B$247,$C419),BASE!$C$2:$C$247),\"\")","v":""},null,51200004]
[{"$nulls":5},"G","BQ4",418,51200004,{"$f":"IFERROR(LOOKUP(9999999,FIND(BASE!$B$1:$B$247,$C420),BASE!$A$1:$A$247),\"47100000\")","v":"47100000"},{"$f":"IF(J420=40110000,LOOKUP(9999999,FIND(BASE!$B$2:$B$247,$C420),BASE!$C$2:$C$247),\"\")","v":""},null,51200004]
[{"$nulls":5},"G","BQ4",419,51200004,{"$f":"IFERROR(LOOKUP(9999999,FIND(BASE!$B$1:$B$247,$C421),BASE!$A$1:$A$247),\"47100000\")","v":"47100000"},{"$f":"IF(J421=40110000,LOOKUP(9999999,FIND(BASE!$B$2:$B$247,$C421),BASE!$C$2:$C$247),\"\")","v":""},null,51200004]
[{"$nulls":5},"G","BQ4",420,51200004,{"$f":"IFERROR(LOOKUP(9999999,FIND(BASE!$B$1:$B$247,$C422),BASE!$A$1:$A$247),\"47100000\")","v":"47100000"},{"$f":"IF(J422=40110000,LOOKUP(9999999,FIND(BASE!$B$2:$B$247,$C422),BASE!$C$2:$C$247),\"\")","v":""},null,51200004]
[{"$nulls":5},"G","BQ4",421,51200004,{"$f":"IFERROR(LOOKUP(9999999,FIND(BASE!$B$1:$B$247,$C423),BASE!$A$1:$A$247),\"47100000\")","v":"47100000"},{"$f":"IF(J423=40110000,LOOKUP(9999999,FIND(BASE!$B$2:$B$247,$C423),BASE!$C$2:$C$247),\"\")","v":""},null,51200004]
[{"$nulls":5},"G","BQ4",422,51200004,{"$f":"IFERROR(LOOKUP(9999999,FIND(BASE!$B$1:$B$247,$C424),BASE!$A$1:$A$247),\"47100000\")","v":"47100000"},{"$f":"IF(J424=40110000,LOOKUP(9999999,FIND(BASE!$B$2:$B$247,$C424),BASE!$C$2:$C$247),\"\")","v":""},null,51200004]
[{"$nulls":5},"G","BQ4",423,51200004,{"$f":"IFERROR(LOOKUP(9999999,FIND(BASE!$B$1:$B$247,$C425),BASE!$A$1:$A$247),\"47100000\")","v":"47100000"},{"$f":"IF(J425=40110000,LOOKUP(9999999,FIND(BASE!$B$2:$B$247,$C425),BASE!$C$2:$C$247),\"\")","v":""},null,51200004]
[{"$nulls":5},"G","BQ4",424,51200004,{"$f":"IFERROR(LOOKUP(9999999,FIND(BASE!$B$1:$B$247,$C426),BASE!$A$1:$A$247),\"47100000\")","v":"47100000"},{"$f":"IF(J426=40110000,LOOKUP(9999999,FIND(BASE!$B$2:$B$247,$C426),BASE!$C$2:$C$247),\"\")","v":""},null,51200004]
[{"$nulls":5},"G","BQ4",425,51200004,{"$f":"IFERROR(LOOKUP(9999999,FIND(BASE!$B$1:$B$247,$C427),BASE!$A$1:$A$247),\"47100000\")","v":"47100000"},{"$f":"IF(J427=40110000,LOOKUP(9999999,FIND(BASE!$B$2:$B$247,$C427),BASE!$C$2:$C$247),\"\")","v":""},null,51200004]
[{"$nulls":5},"G","BQ4",426,51200004,{"$f":"IFERROR(LOOKUP(9999999,FIND(BASE!$B$1:$B$247,$C428),BASE!$A$1:$A$247),\"47100000\")","v":"47100000"},{"$f":"IF(J428=40110000,LOOKUP(9999999,FIND(BASE!$B$2:$B$247,$C428),BASE!$C$2:$C$247),\"\")","v":""},null,51200004]
[{"$nulls":5},"G","BQ4",427,51200004,{"$f":"IFERROR(LOOKUP(9999999,FIND(BASE!$B$1:$B$247,$C429),BASE!$A$1:$A$247),\"47100000\")","v":"47100000"},{"$f":"IF(J429=40110000,LOOKUP(9999999,FIND(BASE!$B$2:$B$247,$C429),BASE!$C$2:$C$247),\"\")","v":""},null,51200005]
[{"$nulls":5},"G","BQ4",428,51200004,{"$f":"IFERROR(LOOKUP(9999999,FIND(BASE!$B$1:$B$247,$C430),BASE!$A$1:$A$247),\"47100000\")","v":"47100000"},{"$f":"IF(J430=40110000,LOOKUP(9999999,FIND(BASE!$B$2:$B$247,$C430),BASE!$C$2:$C$247),\"\")","v":""},null,51200006]
[{"$nulls":5},"G","BQ4",429,51200004,{"$f":"IFERROR(LOOKUP(9999999,FIND(BASE!$B$1:$B$247,$C431),BASE!$A$1:$A$247),\"47100000\")","v":"47100000"},{"$f":"IF(J431=40110000,LOOKUP(9999999,FIND(BASE!$B$2:$B$247,$C431),BASE!$C$2:$C$247),\"\")","v":""},null,51200007]
[{"$nulls":5},"G","BQ4",430,51200004,{"$f":"IFERROR(LOOKUP(9999999,FIND(BASE!$B$1:$B$247,$C432),BASE!$A$1:$A$247),\"47100000\")","v":"47100000"},{"$f":"IF(J432=40110000,LOOKUP(9999999,FIND(BASE!$B$2:$B$247,$C432),BASE!$C$2:$C$247),\"\")","v":""},null,51200008]
[{"$nulls":5},"G","BQ4",431,51200004,{"$f":"IFERROR(LOOKUP(9999999,FIND(BASE!$B$1:$B$247,$C433),BASE!$A$1:$A$247),\"47100000\")","v":"47100000"},{"$f":"IF(J433=40110000,LOOKUP(9999999,FIND(BASE!$B$2:$B$247,$C433),BASE!$C$2:$C$247),\"\")","v":""},null,51200009]
[{"$nulls":5},"G","BQ4",432,51200004,{"$f":"IFERROR(LOOKUP(9999999,FIND(BASE!$B$1:$B$247,$C434),BASE!$A$1:$A$247),\"47100000\")","v":"47100000"},{"$f":"IF(J434=40110000,LOOKUP(9999999,FIND(BASE!$B$2:$B$247,$C434),BASE!$C$2:$C$247),\"\")","v":""},null,51200010]
[{"$nulls":5},"G","BQ4",433,51200004,{"$f":"IFERROR(LOOKUP(9999999,FIND(BASE!$B$1:$B$247,$C435),BASE!$A$1:$A$247),\"47100000\")","v":"47100000"},{"$f":"IF(J435=40110000,LOOKUP(9999999,FIND(BASE!$B$2:$B$247,$C435),BASE!$C$2:$C$247),\"\")","v":""},null,51200011]
[{"$nulls":5},"G","BQ4",434,51200004,{"$f":"IFERROR(LOOKUP(9999999,FIND(BASE!$B$1:$B$247,$C436),BASE!$A$1:$A$247),\"47100000\")","v":"47100000"},{"$f":"IF(J436=40110000,LOOKUP(9999999,FIND(BASE!$B$2:$B$247,$C436),BASE!$C$2:$C$247),\"\")","v":""},null,51200012]
[{"$nulls":5},"G","BQ4",435,51200004,{"$f":"IFERROR(LOOKUP(9999999,FIND(BASE!$B$1:$B$247,$C437),BASE!$A$1:$A$247),\"47100000\")","v":"47100000"},{"$f":"IF(J437=40110000,LOOKUP(9999999,FIND(BASE!$B$2:$B$247,$C437),BASE!$C$2:$C$247),\"\")","v":""},null,51200013]
[{"$nulls":5},"G","BQ4",436,51200004,{"$f":"IFERROR(LOOKUP(9999999,FIND(BASE!$B$1:$B$247,$C438),BASE!$A$1:$A$247),\"47100000\")","v":"47100000"},{"$f":"IF(J438=40110000,LOOKUP(9999999,FIND(BASE!$B$2:$B$247,$C438),BASE!$C$2:$C$247),\"\")","v":""},null,51200014]
[{"$nulls":5},"G","BQ4",437,51200004,{"$f":"IFERROR(LOOKUP(9999999,FIND(BASE!$B$1:$B$247,$C439),BASE!$A$1:$A$247),\"47100000\")","v":"47100000"},{"$f":"IF(J439=40110000,LOOKUP(9999999,FIND(BASE!$B$2:$B$247,$C439),BASE!$C$2:$C$247),\"\")","v":""},null,51200015]
[{"$nulls":5},"G","BQ4",438,51200004,{"$f":"IFERROR(LOOKUP(9999999,FIND(BASE!$B$1:$B$247,$C440),BASE!$A$1:$A$247),\"47100000\")","v":"47100000"},{"$f":"IF(J440=40110000,LOOKUP(9999999,FIND(BASE!$B$2:$B$247,$C440),BASE!$C$2:$C$247),\"\")","v":""},null,51200016]
[{"$nulls":5},"G","BQ4",439,51200004,{"$f":"IFERROR(LOOKUP(9999999,FIND(BASE!$B$1:$B$247,$C441),BASE!$A$1:$A$247),\"47100000\")","v":"47100000"},{"$f":"IF(J441=40110000,LOOKUP(9999999,FIND(BASE!$B$2:$B$247,$C441),BASE!$C$2:$C$247),\"\")","v":""},null,51200017]
[{"$nulls":5},"G","BQ4",440,51200004,{"$f":"IFERROR(LOOKUP(9999999,FIND(BASE!$B$1:$B$247,$C442),BASE!$A$1:$A$247),\"47100000\")","v":"47100000"},{"$f":"IF(J442=40110000,LOOKUP(9999999,FIND(BASE!$B$2:$B$247,$C442),BASE!$C$2:$C$247),\"\")","v":""},null,51200018]
[{"$nulls":5},"G","BQ4",441,51200004,{"$f":"IFERROR(LOOKUP(9999999,FIND(BASE!$B$1:$B$247,$C443),BASE!$A$1:$A$247),\"47100000\")","v":"47100000"},{"$f":"IF(J443=40110000,LOOKUP(9999999,FIND(BASE!$B$2:$B$247,$C443),BASE!$C$2:$C$247),\"\")","v":""},null,51200019]
[{"$nulls":5},"G","BQ4",442,51200004,{"$f":"IFERROR(LOOKUP(9999999,FIND(BASE!$B$1:$B$247,$C444),BASE!$A$1:$A$247),\"47100000\")","v":"47100000"},{"$f":"IF(J444=40110000,LOOKUP(9999999,FIND(BASE!$B$2:$B$247,$C444),BASE!$C$2:$C$247),\"\")","v":""},null,51200020]
[{"$nulls":5},"G","BQ4",443,51200004,{"$f":"IFERROR(LOOKUP(9999999,FIND(BASE!$B$1:$B$247,$C445),BASE!$A$1:$A$247),\"47100000\")","v":"47100000"},{"$f":"IF(J445=40110000,LOOKUP(9999999,FIND(BASE!$B$2:$B$247,$C445),BASE!$C$2:$C$247),\"\")","v":""},null,51200021]
[{"$nulls":5},"G","BQ4",444,51200004,{"$f":"IFERROR(LOOKUP(9999999,FIND(BASE!$B$1:$B$247,$C446),BASE!$A$1:$A$247),\"47100000\")","v":"47100000"},{"$f":"IF(J446=40110000,LOOKUP(9999999,FIND(BASE!$B$2:$B$247,$C446),BASE!$C$2:$C$247),\"\")","v":""},null,51200022]
[{"$nulls":5},"G","BQ4",445,51200004,{"$f":"IFERROR(LOOKUP(9999999,FIND(BASE!$B$1:$B$247,$C447),BASE!$A$1:$A$247),\"47100000\")","v":"47100000"},{"$f":"IF(J447=40110000,LOOKUP(9999999,FIND(BASE!$B$2:$B$247,$C447),BASE!$C$2:$C$247),\"\")","v":""},null,51200023]
[{"$nulls":5},"G","BQ4",446,51200004,{"$f":"IFERROR(LOOKUP(9999999,FIND(BASE!$B$1:$B$247,$C448),BASE!$A$1:$A$247),\"47100000\")","v":"47100000"},{"$f":"IF(J448=40110000,LOOKUP(9999999,FIND(BASE!$B$2:$B$247,$C448),BASE!$C$2:$C$247),\"\")","v":""},null,51200024]
[{"$nulls":5},"G","BQ4",447,51200004,{"$f":"IFERROR(LOOKUP(9999999,FIND(BASE!$B$1:$B$247,$C449),BASE!$A$1:$A$247),\"47100000\")","v":"47100000"},{"$f":"IF(J449=40110000,LOOKUP(9999999,FIND(BASE!$B$2:$B$247,$C449),BASE!$C$2:$C$247),\"\")","v":""},null,51200025]
[{"$nulls":5},"G","BQ4",448,51200004,{"$f":"IFERROR(LOOKUP(9999999,FIND(BASE!$B$1:$B$247,$C450),BASE!$A$1:$A$247),\"47100000\")","v":"47100000"},{"$f":"IF(J450=40110000,LOOKUP(9999999,FIND(BASE!$B$2:$B$247,$C450),BASE!$C$2:$C$247),\"\")","v":""},null,51200026]
[{"$nulls":5},"G","BQ4",449,51200004,{"$f":"IFERROR(LOOKUP(9999999,FIND(BASE!$B$1:$B$247,$C451),BASE!$A$1:$A$247),\"47100000\")","v":"47100000"},{"$f":"IF(J451=40110000,LOOKUP(9999999,FIND(BASE!$B$2:$B$247,$C451),BASE!$C$2:$C$247),\"\")","v":""},null,51200027]
[{"$nulls":5},"G","BQ4",450,51200004,{"$f":"IFERROR(LOOKUP(9999999,FIND(BASE!$B$1:$B$247,$C452),BASE!$A$1:$A$247),\"47100000\")","v":"47100000"},{"$f":"IF(J452=40110000,LOOKUP(9999999,FIND(BASE!$B$2:$B$247,$C452),BASE!$C$2:$C$247),\"\")","v":""},null,51200028]
[{"$nulls":5},"G","BQ4",451,51200004,{"$f":"IFERROR(LOOKUP(9999999,FIND(BASE!$B$1:$B$247,$C453),BASE!$A$1:$A$247),\"47100000\")","v":"47100000"},{"$f":"IF(J453=40110000,LOOKUP(9999999,FIND(BASE!$B$2:$B$247,$C453),BASE!$C$2:$C$247),\"\")","v":""},null,51200029]
[{"$nulls":5},"G","BQ4",452,51200004,{"$f":"IFERROR(LOOKUP(9999999,FIND(BASE!$B$1:$B$247,$C454),BASE!$A$1:$A$247),\"47100000\")","v":"47100000"},{"$f":"IF(J454=40110000,LOOKUP(9999999,FIND(BASE!$B$2:$B$247,$C454),BASE!$C$2:$C$247),\"\")","v":""},null,51200030]
[{"$nulls":5},"G","BQ4",453,51200004,{"$f":"IFERROR(LOOKUP(9999999,FIND(BASE!$B$1:$B$247,$C455),BASE!$A$1:$A$247),\"47100000\")","v":"47100000"},{"$f":"IF(J455=40110000,LOOKUP(9999999,FIND(BASE!$B$2:$B$247,$C455),BASE!$C$2:$C$247),\"\")","v":""},null,51200031]
[{"$nulls":5},"G","BQ4",454,51200004,{"$f":"IFERROR(LOOKUP(9999999,FIND(BASE!$B$1:$B$247,$C456),BASE!$A$1:$A$247),\"47100000\")","v":"47100000"},{"$f":"IF(J456=40110000,LOOKUP(9999999,FIND(BASE!$B$2:$B$247,$C456),BASE!$C$2:$C$247),\"\")","v":""},null,51200032]
[{"$nulls":5},"G","BQ4",455,51200004,{"$f":"IFERROR(LOOKUP(9999999,FIND(BASE!$B$1:$B$247,$C457),BASE!$A$1:$A$247),\"47100000\")","v":"47100000"},{"$f":"IF(J457=40110000,LOOKUP(9999999,FIND(BASE!$B$2:$B$247,$C457),BASE!$C$2:$C$247),\"\")","v":""},null,51200033]
[{"$nulls":5},"G","BQ4",456,51200004,{"$f":"IFERROR(LOOKUP(9999999,FIND(BASE!$B$1:$B$247,$C458),BASE!$A$1:$A$247),\"47100000\")","v":"47100000"},{"$f":"IF(J458=40110000,LOOKUP(9999999,FIND(BASE!$B$2:$B$247,$C458),BASE!$C$2:$C$247),\"\")","v":""},null,51200034]
[{"$nulls":5},"G","BQ4",457,51200004,{"$f":"IFERROR(LOOKUP(9999999,FIND(BASE!$B$1:$B$247,$C459),BASE!$A$1:$A$247),\"47100000\")","v":"47100000"},{"$f":"IF(J459=40110000,LOOKUP(9999999,FIND(BASE!$B$2:$B$247,$C459),BASE!$C$2:$C$247),\"\")","v":""},null,51200035]
[{"$nulls":5},"G","BQ4",458,51200004,{"$f":"IFERROR(LOOKUP(9999999,FIND(BASE!$B$1:$B$247,$C460),BASE!$A$1:$A$247),\"47100000\")","v":"47100000"},{"$f":"IF(J460=40110000,LOOKUP(9999999,FIND(BASE!$B$2:$B$247,$C460),BASE!$C$2:$C$247),\"\")","v":""},null,51200036]
[{"$nulls":5},"G","BQ4",459,51200004,{"$f":"IFERROR(LOOKUP(9999999,FIND(BASE!$B$1:$B$247,$C461),BASE!$A$1:$A$247),\"47100000\")","v":"47100000"},{"$f":"IF(J461=40110000,LOOKUP(9999999,FIND(BASE!$B$2:$B$247,$C461),BASE!$C$2:$C$247),\"\")","v":""},null,51200037]
[{"$nulls":5},"G","BQ4",460,51200004,{"$f":"IFERROR(LOOKUP(9999999,FIND(BASE!$B$1:$B$247,$C462),BASE!$A$1:$A$247),\"47100000\")","v":"47100000"},{"$f":"IF(J462=40110000,LOOKUP(9999999,FIND(BASE!$B$2:$B$247,$C462),BASE!$C$2:$C$247),\"\")","v":""},null,51200038]
[{"$nulls":5},"G","BQ4",461,51200004,{"$f":"IFERROR(LOOKUP(9999999,FIND(BASE!$B$1:$B$247,$C463),BASE!$A$1:$A$247),\"47100000\")","v":"47100000"},{"$f":"IF(J463=40110000,LOOKUP(9999999,FIND(BASE!$B$2:$B$247,$C463),BASE!$C$2:$C$247),\"\")","v":""},null,51200039]
[{"$nulls":5},"G","BQ4",462,51200004,{"$f":"IFERROR(LOOKUP(9999999,FIND(BASE!$B$1:$B$247,$C464),BASE!$A$1:$A$247),\"47100000\")","v":"47100000"},{"$f":"IF(J464=40110000,LOOKUP(9999999,FIND(BASE!$B$2:$B$247,$C464),BASE!$C$2:$C$247),\"\")","v":""},null,51200040]
[{"$nulls":5},"G","BQ4",463,51200004,{"$f":"IFERROR(LOOKUP(9999999,FIND(BASE!$B$1:$B$247,$C465),BASE!$A$1:$A$247),\"47100000\")","v":"47100000"},{"$f":"IF(J465=40110000,LOOKUP(9999999,FIND(BASE!$B$2:$B$247,$C465),BASE!$C$2:$C$247),\"\")","v":""},null,51200041]
[{"$nulls":5},"G","BQ4",464,51200004,{"$f":"IFERROR(LOOKUP(9999999,FIND(BASE!$B$1:$B$247,$C466),BASE!$A$1:$A$247),\"47100000\")","v":"47100000"},{"$f":"IF(J466=40110000,LOOKUP(9999999,FIND(BASE!$B$2:$B$247,$C466),BASE!$C$2:$C$247),\"\")","v":""},null,51200042]
[{"$nulls":5},"G","BQ4",465,51200004,{"$f":"IFERROR(LOOKUP(9999999,FIND(BASE!$B$1:$B$247,$C467),BASE!$A$1:$A$247),\"47100000\")","v":"47100000"},{"$f":"IF(J467=40110000,LOOKUP(9999999,FIND(BASE!$B$2:$B$247,$C467),BASE!$C$2:$C$247),\"\")","v":""},null,51200043]
[{"$nulls":5},"G","BQ4",466,51200004,{"$f":"IFERROR(LOOKUP(9999999,FIND(BASE!$B$1:$B$247,$C468),BASE!$A$1:$A$247),\"47100000\")","v":"47100000"},{"$f":"IF(J468=40110000,LOOKUP(9999999,FIND(BASE!$B$2:$B$247,$C468),BASE!$C$2:$C$247),\"\")","v":""},null,51200044]
[{"$nulls":5},"G","BQ4",467,51200004,{"$f":"IFERROR(LOOKUP(9999999,FIND(BASE!$B$1:$B$247,$C469),BASE!$A$1:$A$247),\"47100000\")","v":"47100000"},{"$f":"IF(J469=40110000,LOOKUP(9999999,FIND(BASE!$B$2:$B$247,$C469),BASE!$C$2:$C$247),\"\")","v":""},null,51200045]
[{"$nulls":5},"G","BQ4",468,51200004,{"$f":"IFERROR(LOOKUP(9999999,FIND(BASE!$B$1:$B$247,$C470),BASE!$A$1:$A$247),\"47100000\")","v":"47100000"},{"$f":"IF(J470=40110000,LOOKUP(9999999,FIND(BASE!$B$2:$B$247,$C470),BASE!$C$2:$C$247),\"\")","v":""},null,51200046]
[{"$nulls":5},"G","BQ4",469,51200004,{"$f":"IFERROR(LOOKUP(9999999,FIND(BASE!$B$1:$B$247,$C471),BASE!$A$1:$A$247),\"47100000\")","v":"47100000"},{"$f":"IF(J471=40110000,LOOKUP(9999999,FIND(BASE!$B$2:$B$247,$C471),BASE!$C$2:$C$247),\"\")","v":""},null,51200047]
[{"$nulls":5},"G","BQ4",470,51200004,{"$f":"IFERROR(LOOKUP(9999999,FIND(BASE!$B$1:$B$247,$C472),BASE!$A$1:$A$247),\"47100000\")","v":"47100000"},{"$f":"IF(J472=40110000,LOOKUP(9999999,FIND(BASE!$B$2:$B$247,$C472),BASE!$C$2:$C$247),\"\")","v":""},null,51200048]
[{"$nulls":5},"G","BQ4",471,51200004,{"$f":"IFERROR(LOOKUP(9999999,FIND(BASE!$B$1:$B$247,$C473),BASE!$A$1:$A$247),\"47100000\")","v":"47100000"},{"$f":"IF(J473=40110000,LOOKUP(9999999,FIND(BASE!$B$2:$B$247,$C473),BASE!$C$2:$C$247),\"\")","v":""},null,51200049]
[{"$nulls":5},"G","BQ4",472,51200004,{"$f":"IFERROR(LOOKUP(9999999,FIND(BASE!$B$1:$B$247,$C474),BASE!$A$1:$A$247),\"47100000\")","v":"47100000"},{"$f":"IF(J474=40110000,LOOKUP(9999999,FIND(BASE!$B$2:$B$247,$C474),BASE!$C$2:$C$247),\"\")","v":""},null,51200050]
[{"$nulls":5},"G","BQ4",473,51200004,{"$f":"IFERROR(LOOKUP(9999999,FIND(BASE!$B$1:$B$247,$C475),BASE!$A$1:$A$247),\"47100000\")","v":"47100000"},{"$f":"IF(J475=40110000,LOOKUP(9999999,FIND(BASE!$B$2:$B$247,$C475),BASE!$C$2:$C$247),\"\")","v":""},null,51200051]
[{"$nulls":5},"G","BQ4",474,51200004,{"$f":"IFERROR(LOOKUP(9999999,FIND(BASE!$B$1:$B$247,$C476),BASE!$A$1:$A$247),\"47100000\")","v":"47100000"},{"$f":"IF(J476=40110000,LOOKUP(9999999,FIND(BASE!$B$2:$B$247,$C476),BASE!$C$2:$C$247),\"\")","v":""},null,51200052]
[{"$nulls":5},"G","BQ4",475,51200004,{"$f":"IFERROR(LOOKUP(9999999,FIND(BASE!$B$1:$B$247,$C477),BASE!$A$1:$A$247),\"47100000\")","v":"47100000"},{"$f":"IF(J477=40110000,LOOKUP(9999999,FIND(BASE!$B$2:$B$247,$C477),BASE!$C$2:$C$247),\"\")","v":""},null,51200053]
[{"$nulls":5},"G","BQ4",476,51200004,{"$f":"IFERROR(LOOKUP(9999999,FIND(BASE!$B$1:$B$247,$C478),BASE!$A$1:$A$247),\"47100000\")","v":"47100000"},{"$f":"IF(J478=40110000,LOOKUP(9999999,FIND(BASE!$B$2:$B$247,$C478),BASE!$C$2:$C$247),\"\")","v":""},null,51200054]
[{"$nulls":5},"G","BQ4",477,51200004,{"$f":"IFERROR(LOOKUP(9999999,FIND(BASE!$B$1:$B$247,$C479),BASE!$A$1:$A$247),\"47100000\")","v":"47100000"},{"$f":"IF(J479=40110000,LOOKUP(9999999,FIND(BASE!$B$2:$B$247,$C479),BASE!$C$2:$C$247),\"\")","v":""},null,51200055]
[{"$nulls":5},"G","BQ4",{"$f":"+H479+1","v":478},51200004,{"$f":"IFERROR(LOOKUP(9999999,FIND(BASE!$B$1:$B$247,$C480),BASE!$A$1:$A$247),\"47100000\")","v":"47100000"},{"$f":"IF(J480=40110000,LOOKUP(9999999,FIND(BASE!$B$2:$B$247,$C480),BASE!$C$2:$C$247),\"\")","v":""},null,51200056]
[{"$nulls":5},"G","BQ4",479,51200004,{"$f":"IFERROR(LOOKUP(9999999,FIND(BASE!$B$1:$B$247,$C481),BASE!$A$1:$A$247),\"47100000\")","v":"47100000"},{"$f":"IF(J481=40110000,LOOKUP(9999999,FIND(BASE!$B$2:$B$247,$C481),BASE!$C$2:$C$247),\"\")","v":""},null,51200057]
[{"$nulls":5},"G","BQ4",480,51200004,{"$f":"IFERROR(LOOKUP(9999999,FIND(BASE!$B$1:$B$247,$C482),BASE!$A$1:$A$247),\"47100000\")","v":"47100000"},{"$f":"IF(J482=40110000,LOOKUP(9999999,FIND(BASE!$B$2:$B$247,$C482),BASE!$C$2:$C$247),\"\")","v":""},null,51200058]
[{"$nulls":5},"G","BQ4",481,51200004,{"$f":"IFERROR(LOOKUP(9999999,FIND(BASE!$B$1:$B$247,$C483),BASE!$A$1:$A$247),\"47100000\")","v":"47100000"},{"$f":"IF(J483=40110000,LOOKUP(9999999,FIND(BASE!$B$2:$B$247,$C483),BASE!$C$2:$C$247),\"\")","v":""},null,51200059]
[{"$nulls":5},"G","BQ4",482,51200004,{"$f":"IFERROR(LOOKUP(9999999,FIND(BASE!$B$1:$B$247,$C484),BASE!$A$1:$A$247),\"47100000\")","v":"47100000"},{"$f":"IF(J484=40110000,LOOKUP(9999999,FIND(BASE!$B$2:$B$247,$C484),BASE!$C$2:$C$247),\"\")","v":""},null,51200060]
[{"$nulls":5},"G","BQ4",483,51200004,{"$f":"IFERROR(LOOKUP(9999999,FIND(BASE!$B$1:$B$247,$C485),BASE!$A$1:$A$247),\"47100000\")","v":"47100000"},{"$f":"IF(J485=40110000,LOOKUP(9999999,FIND(BASE!$B$2:$B$247,$C485),BASE!$C$2:$C$247),\"\")","v":""},null,51200061]
[{"$nulls":5},"G","BQ4",484,51200004,{"$f":"IFERROR(LOOKUP(9999999,FIND(BASE!$B$1:$B$247,$C486),BASE!$A$1:$A$247),\"47100000\")","v":"47100000"},{"$f":"IF(J486=40110000,LOOKUP(9999999,FIND(BASE!$B$2:$B$247,$C486),BASE!$C$2:$C$247),\"\")","v":""},null,51200062]
[{"$nulls":5},"G","BQ4",485,51200004,{"$f":"IFERROR(LOOKUP(9999999,FIND(BASE!$B$1:$B$247,$C487),BASE!$A$1:$A$247),\"47100000\")","v":"47100000"},{"$f":"IF(J487=40110000,LOOKUP(9999999,FIND(BASE!$B$2:$B$247,$C487),BASE!$C$2:$C$247),\"\")","v":""},null,51200063]
[{"$nulls":5},"G","BQ4",486,51200004,{"$f":"IFERROR(LOOKUP(9999999,FIND(BASE!$B$1:$B$247,$C488),BASE!$A$1:$A$247),\"47100000\")","v":"47100000"},{"$f":"IF(J488=40110000,LOOKUP(9999999,FIND(BASE!$B$2:$B$247,$C488),BASE!$C$2:$C$247),\"\")","v":""},null,51200064]
[{"$nulls":5},"G","BQ4",487,51200004,{"$f":"IFERROR(LOOKUP(9999999,FIND(BASE!$B$1:$B$247,$C489),BASE!$A$1:$A$247),\"47100000\")","v":"47100000"},{"$f":"IF(J489=40110000,LOOKUP(9999999,FIND(BASE!$B$2:$B$247,$C489),BASE!$C$2:$C$247),\"\")","v":""},null,51200065]
[{"$nulls":5},"G","BQ4",488,51200004,{"$f":"IFERROR(LOOKUP(9999999,FIND(BASE!$B$1:$B$247,$C490),BASE!$A$1:$A$247),\"47100000\")","v":"47100000"},{"$f":"IF(J490=40110000,LOOKUP(9999999,FIND(BASE!$B$2:$B$247,$C490),BASE!$C$2:$C$247),\"\")","v":""},null,51200066]
[{"$nulls":5},"G","BQ4",489,51200004,{"$f":"IFERROR(LOOKUP(9999999,FIND(BASE!$B$1:$B$247,$C491),BASE!$A$1:$A$247),\"47100000\")","v":"47100000"},{"$f":"IF(J491=40110000,LOOKUP(9999999,FIND(BASE!$B$2:$B$247,$C491),BASE!$C$2:$C$247),\"\")","v":""},null,51200067]
[{"$nulls":5},"G","BQ4",490,51200004,{"$f":"IFERROR(LOOKUP(9999999,FIND(BASE!$B$1:$B$247,$C492),BASE!$A$1:$A$247),\"47100000\")","v":"47100000"},{"$f":"IF(J492=40110000,LOOKUP(9999999,FIND(BASE!$B$2:$B$247,$C492),BASE!$C$2:$C$247),\"\")","v":""},null,51200068]
[{"$nulls":5},"G","BQ4",491,51200004,{"$f":"IFERROR(LOOKUP(9999999,FIND(BASE!$B$1:$B$247,$C493),BASE!$A$1:$A$247),\"47100000\")","v":"47100000"},{"$f":"IF(J493=40110000,LOOKUP(9999999,FIND(BASE!$B$2:$B$247,$C493),BASE!$C$2:$C$247),\"\")","v":""},null,51200069]
[{"$nulls":5},"G","BQ4",492,51200004,{"$f":"IFERROR(LOOKUP(9999999,FIND(BASE!$B$1:$B$247,$C494),BASE!$A$1:$A$247),\"47100000\")","v":"47100000"},{"$f":"IF(J494=40110000,LOOKUP(9999999,FIND(BASE!$B$2:$B$247,$C494),BASE!$C$2:$C$247),\"\")","v":""},null,51200070]
[{"$nulls":5},"G","BQ4",493,51200004,{"$f":"IFERROR(LOOKUP(9999999,FIND(BASE!$B$1:$B$247,$C495),BASE!$A$1:$A$247),\"47100000\")","v":"47100000"},{"$f":"IF(J495=40110000,LOOKUP(9999999,FIND(BASE!$B$2:$B$247,$C495),BASE!$C$2:$C$247),\"\")","v":""},null,51200071]
[{"$nulls":5},"G","BQ4",494,51200004,{"$f":"IFERROR(LOOKUP(9999999,FIND(BASE!$B$1:$B$247,$C496),BASE!$A$1:$A$247),\"47100000\")","v":"47100000"},{"$f":"IF(J496=40110000,LOOKUP(9999999,FIND(BASE!$B$2:$B$247,$C496),BASE!$C$2:$C$247),\"\")","v":""},null,51200072]
[{"$nulls":5},"G","BQ4",495,51200004,{"$f":"IFERROR(LOOKUP(9999999,FIND(BASE!$B$1:$B$247,$C497),BASE!$A$1:$A$247),\"47100000\")","v":"47100000"},{"$f":"IF(J497=40110000,LOOKUP(9999999,FIND(BASE!$B$2:$B$247,$C497),BASE!$C$2:$C$247),\"\")","v":""},null,51200073]
[{"$nulls":5},"G","BQ4",496,51200004,{"$f":"IFERROR(LOOKUP(9999999,FIND(BASE!$B$1:$B$247,$C498),BASE!$A$1:$A$247),\"47100000\")","v":"47100000"},{"$f":"IF(J498=40110000,LOOKUP(9999999,FIND(BASE!$B$2:$B$247,$C498),BASE!$C$2:$C$247),\"\")","v":""},null,51200074]
[{"$nulls":5},"G","BQ4",497,51200004,{"$f":"IFERROR(LOOKUP(9999999,FIND(BASE!$B$1:$B$247,$C499),BASE!$A$1:$A$247),\"47100000\")","v":"47100000"},{"$f":"IF(J499=40110000,LOOKUP(9999999,FIND(BASE!$B$2:$B$247,$C499),BASE!$C$2:$C$247),\"\")","v":""},null,51200075]
[{"$nulls":5},"G","BQ4",498,51200004,{"$f":"IFERROR(LOOKUP(9999999,FIND(BASE!$B$1:$B$247,$C500),BASE!$A$1:$A$247),\"47100000\")","v":"47100000"},{"$f":"IF(J500=40110000,LOOKUP(9999999,FIND(BASE!$B$2:$B$247,$C500),BASE!$C$2:$C$247),\"\")","v":""},null,51200076]
[{"$nulls":12},51200004]
[{"$nulls":12},51200004]
[{"$nulls":12},51200004]
[{"$nulls":12},51200004]
[{"$nulls":12},51200004]
[{"$nulls":12},51200004]
[{"$nulls":12},51200004]
[{"$nulls":12},51200004]
[{"$nulls":12},51200004]
[{"$nulls":12},51200004]
[{"$nulls":12},51200004]
[{"$nulls":12},51200004]
[{"$nulls":12},51200004]
[{"$nulls":12},51200004]
[{"$nulls":12},51200004]
[{"$nulls":12},51200004]
[{"$nulls":12},51200004]
[{"$nulls":12},51200004]
[{"$nulls":12},51200004]
[{"$nulls":12},51200004]
[{"$nulls":12},51200004]
[{"$nulls":12},51200004]
[{"$nulls":12},51200004]
[{"$nulls":12},51200004]
[{"$nulls":12},51200004]
[{"$nulls":12},51200004]
[{"$nulls":12},51200004]
[{"$nulls":12},51200004]
[{"$nulls":12},51200004]
[{"$nulls":12},51200004]
[{"$nulls":12},51200004]
[{"$nulls":12},51200004]

{"sheet":"BASE","index":1,"n_rows":247,"n_cols":3,"rows_kept":247}
[51160004,"VIR"]
[40110000,"ALCAINI","FZZAMBALCAINI"]
[40110000,"ALEX","FZZAMBALEX"]
[40110000,"ALLARD","FZZAMBALLARD"]
[40110000,"ANDRIOL","FZZAMBANDEOL"]
[40110000,"ARCHE","FZZAMBARCHE"]
[40110000,"TERREAZUR","FTERREAZURAMB"]
[40110000,"INOVALYS","FINOVALYSAMB"]
[47100004,"BLOCAGE SAISIE ADM TIERS DET REF 400030034003731115404850315"]
[47100004,"BLOCAGE SAISIE ADM100103047681518126990"]
[40110000,"LV MAT","FLVMATAMB"]
[51160004,"VIR MECACHRO FRANCE 80000579950000100004 F.AMB46398"]
[51160004,"VIR MECACHRO FRANCE 80000581110000100136 F.AMB46405"]
[47100004,"VIR PENALITES CFE AMB"]
[40110000,"ELEC AMUS","FELECTRONICAMUSEMENTSAMB"]
[40110000,"ARCHECOT","FZZAMBARCHECOT"]
[40110000,"ARGOUD","FZZAMBARGOUD"]
[40110000,"ARNAUD","FZZAMBARNAUD"]
[40110000,"ARTAUD","FZZAMBARTAUD"]
[40110000,"ADAM","FZZAMBADAM"]
[40110000,"ASRESSES","FZZAMBASRESSES"]
[40110000,"AUDOUBERT","FZZAMBAUDOUBERT"]
[40110000,"AVEZOU","FZZAMBAVEZOU"]
[40110000,"BACCAM","FZZAMBBACCAM"]
[40110000,"BARTHELEMY","FZZAMBBARTHELEMY"]
[40110000,"BEAUVOIS","FZZAMBBEAUVOIS"]
[40110000,"BELLANGER","FZZAMBBELLANGER"]
[40110000,"BELLENGERL","FZZAMBBELLENGERL"]
[40110000,"BENOIT","FZZAMBBENOIT"]
[40110000,"BENSOUSSAN","FZZAMBBENSOUSSAN"]
[40110000,"BERGER","FZZAMBBERGER"]
[40110000,"BISCH","FZZAMBBISCH"]
[40110000,"BODIN","FZZAMBBODIN"]
[40110000,"BOUGOURD","FZZAMBBOUGOURD"]
[40110000,"BOULET","FZZAMBBOULET"]
[40110000,"BOUTEILLER","FZZAMBBOUTEILLER"]
[40110000,"BRAUN","FZZAMBBRAUN"]
[40110000,"BROCARD","FZZAMBBROCARD"]
[40110000,"BRUNET","FZZAMBBRUNET"]
[40110000,"BUDILLON","FZZAMBBUDILLON"]
[40110000,"CALLENDRET","FZZAMBCALLENDRET"]
[40110000,"CALVO","FZZAMBCALVO"]
[40110000,"CARTIER","FZZAMBCARTIER"]
[40110000,"CARTWRIGHT","FZZAMBCARTWRIGHT"]
[40110000,"CASTEX","FZZAMBCASTEX"]
[40110000,"CAULLIEZ","FZZAMBCAULLIEZ"]
[40110000,"CHAPUIS","FZZAMBCHAPUIS"]
[40110000,"CHARLIER","FZZAMBCHARLIER"]
[40110000,"CHARPENTIER","FZZAMBCHARPENTIER"]
[40110000,"CHATAIN","FZZAMBCHATAIN"]
[40110000,"CHAVASSIEUX","FZZAMBCHAVASSIEUX"]
[40110000,"COLEDAN","FZZAMBCOLEDAN"]
[40110000,"COLIRE","FZZAMBCOLIRE"]
[40110000,"COLOMBIER","FZZAMBCOLOMBIER"]
[40110000,"CONSTANT","FZZAMBCONSTANT"]
[40110000,"CONSTANTL","FZZAMBCONSTANTL"]
[40110000,"CONSTANTY","FZZAMBCONSTANTY"]
[40110000,"CORTES","FZZAMBCORTES"]
[40110000,"COSSU","FZZAMBCOSSU"]
[40110000,"CURCIO","FZZAMBCURCIO"]
[40110000,"CUVILLIER","FZZAMBCUVILLIER"]
[40110000,"DAGORN","FZZAMBDAGORN"]
[40110000,"DALBERA","FZZAMBDALBERA"]
[40110000,"DALLEMAGNE","FZZAMBDALLEMAGNE"]
[40110000,"DANISTINE","FZZAMBDANISTINE"]
[40110000,"DAVID","FZZAMBDAVID"]
[40110000,"DAYAN","FZZAMBDAYAN"]
[40110000,"DEACAL","FZZAMBDEACAL"]
[40110000,"DELALANDE","FZZAMBDELALANDE"]
[40110000,"DELPY","FZZAMBDELPY"]
[40110000,"DEMARLE","FZZAMBDEMARLE"]
[40110000,"DESANDRE","FZZAMBDESANDRE"]
[40110000,"DESRUMEAUX","FZZAMBDESRUMEAUX"]
[40110000,"DROULIN","FZZAMBDROULIN"]
[40110000,"DUMAS","FZZAMBDUMAS"]
[40110000,"DUTRUEL","FZZAMBDUTRUEL"]
[40110000,"EUVRARD","FZZAMBEUVRARD"]
[40110000,"FAURE","FZZAMBFAURE"]
[40110000,"FAURED","FZZAMBFAURED"]
[40110000,"FERON","FZZAMBFERON"]
[40110000,"FERRUS","FZZAMBFERRUS"]
[40110000,"FINOTTO","FZZAMBFINOTTO"]
[40110000,"FONTAINE","FZZAMBFONTAINE"]
[40110000,"FOURNY","FZZAMBFOURNY"]
[40110000,"GADRET","FZZAMBGADRET"]
[40110000,"GAUDRY","FZZAMBGAUDRY"]
[40110000,"GAUTELIER","FZZAMBGAUTELIER"]
[40110000,"GERMANI","FZZAMBGERMANI"]
[40110000,"GIBELLO","FZZAMBGIBELLO"]
[40110000,"GRANDEL","FZZAMBGRANDEL"]
[40110000,"GROGNARD","FZZAMBGROGNARD"]
[40110000,"GUFFON","FZZAMBGUFFON"]
[40110000,"GUILLAUD","FZZAMBGUILLAUD"]
[40110000,"GUILLERMIN","FZZAMBGUILLERMIN"]
[40110000,"GUIMBAUD","FZZAMBGUIMBAUD"]
[40110000,"HADDAD","FZZAMBHADDAD"]
[40110000,"HOARAU","FZZAMBHOARAU"]
[40110000,"JACQUEMIN","FZZAMBJACQUEMIN"]
[40110000,"JAHOUARI","FZZAMBJAHOUARI"]
[40110000,"JEZEQUEL","FZZAMBJEZEQUEL"]
[40110000,"JLMK","FZZAMBJLMK"]
[40110000,"JOSSERAND","FZZAMBJOSSERAND"]
[40110000,"KA2M","FZZAMBKA2M"]
[40110000,"KHABER","FZZAMBKHABER"]
[40110000,"KLOEPFER","FZZAMBKLOEPFER"]
[40110000,"LABOUZE","FZZAMBLABOUZE"]
[40110000,"LAMBORIZIO","FZZAMBLAMBORIZIO"]
[40110000,"LARCHEVEQUE","FZZAMBLARCHEVEQUE"]
[40110000,"LARSONNEUR","FZZAMBLARSONNEUR"]
[40110000,"LE CARROUR","FZZAMBCARROUR"]
[40110000,"LEDOUX","FZZAMBLEDOUX"]
[40110000,"LEFEVRE","FZZAMBLEFEVRE"]
[40110000,"LEPETIT","FZZAMBLEPETIT"]
[40110000,"LERAT","FZZAMBLERAT"]
[40110000,"LETBY","FZZAMBLETBY"]
[40110000,"LOILLEUX","FZZAMBLOILLEUX"]
[40110000,"LUMBROSO","FZZAMBLUMBROSO"]
[40110000,"MADON","FZZAMBMADON"]
[40110000,"MAHOT","FZZAMBMAHOT"]
[40110000,"MALLET","FZZAMBMALLET"]
[40110000,"MARIE","FZZAMBMARIE"]
[40110000,"MARTINEAU","FZZAMBMARTINEAU"]
[40110000,"MARTINEZ","FZZAMBMARTINEZG"]
[40110000,"MAUGUEN","FZZAMBMAUGUEN"]
[40110000,"MAURICE","FZZAMBMAURICE"]
[40110000,"MECHINEAU","FZZAMBMECHINEAU"]
[40110000,"MEHUYS","FZZAMBMEHUYS"]
[40110000,"MICHEL","FZZAMBMICHEL"]
[40110000,"MILLICO","FZZAMBMILLICO"]
[40110000,"MILLOCO","FZZAMBMILLOCO"]
[40110000,"MONFORT","FZZAMBMONFORT"]
[40110000,"M O R A L E S","FZZAMBMORALES"]
[40110000,"MOREAU","FZZAMBMOREAU"]
[40110000,"NAEGELLEN","FZZAMBNAEGELLEN"]
[40110000,"OFFNER","FZZAMBOFFNER"]
[40110000,"ORDONEZ","FZZAMBORDONEZ"]
[40110000,"PARADIS","FZZAMBPARADIS"]
[40110000,"PAVOUX","FZZAMBPAVOUX"]
[40110000,"PELE","FZZAMBPELE"]
[40110000,"PIERY","FZZAMBPIERY"]
[40110000,"PIRIOU","FZZAMBPIRIOU"]
[40110000,"PRUVOST","FZZAMBPRUVOST"]
[40110000,"PUJOL","FZZAMBPUJOL"]
[40110000,"RAILLARD","FZZAMBRAILLARD"]
[40110000,"RAINTEAU","FZZAMBRAINTEAU"]
[40110000,"RENAIS","FZZAMBRENAIS"]
[40110000,"RESIM","FZZAMBSARLRESIM"]
[40110000,"ROBERT","FZZAMBROBERT"]
[40110000,"ROMES","FZZAMBROMES"]
[40110000,"RONDEL","FZZAMBRONDEL"]
[40110000,"ROUDIER","FZZAMBROUDIER"]
[40110000,"RUIN","FZZAMBRUIN"]
[40110000,"RYDIER","FZZAMBRYDIER"]
[40110000,"CEBEMAT","FZZAMBSARLCEBEMAT"]
[40110000,"SCJB","FZZAMBSCJB"]
[40110000,"SAUSSOL","FZZAMBSAUSSOL"]
[40110000,"SEAGE","FZZAMBSEAGE"]
[40110000,"SENSEBE","FZZAMBSENSEBE"]
[40110000,"SHIPPIN","FZZAMBSHIPPIN"]
[40110000,"SOUBEN","FZZAMBSOUBEN"]
[40110000,"HOAREAU","FZZAMBHOAREAU"]
[40110000,"THUAUX","FZZAMBTHUAUX"]
[40110000,"THYSSEN","FZZAMBTHYSSEN"]
[40110000,"TOMA","FZZAMBTOMA"]
[40110000,"TORRE","FZZAMBTORRE"]
[40110000,"VENOSI","FZZAMBVENOSI"]
[40110000,"VENTA","FZZAMBVENTA"]
[40110000,"HRS","FHRSAMB"]
[40110000,"VERHOEVEN","FZZAMBVERHOEVEN"]
[40110000,"VERNET","FZZAMBVERNET"]
[40110000,"VIETTE","FZZAMBVIETTE"]
[40110000,"VIMEUX","FZZAMBVIMEUX"]
[40110000,"WESSEL","FZZAMBWESSEL"]
[40110000,"ACQUARD","FZZAMHACQUARD"]
[40110000,"OME","FZZAMROME"]
[40110000,"TELEGONE","FZZAMBTELEGONE"]
[40110000,"THOUVENOT","FZZAMBTHOUVENOT"]
[40110000,"MONTMIRAIL","FMONTMIRAILAMB"]
[40110000,"SCI JB","FZZAMBSCIJB"]
[40110000,"GUILMOT","FGUILMOTAMB"]
[40110000,"GRAPHIC IMPRIM","FGRAPHIC"]
[40110000,"EDNA","FEDNAAMB"]
[40110000,"SOLOGNE","FSOLOGNE"]
[40110000,"CHUBB","FCHUBBAMB"]
[40110000,"ECOLAB","FECOLABAMB"]
[40110000,"BOOKING","FBOOKAMB"]
[40110000,"SAREC","FSAREC"]
[40110000,"VEOLIA","FVEOLIAAMB"]
[40110000,"ENI ELECTR","FENIAMBELEC"]
[40110000,"LECLERC","FLECLERCAMB"]
[40110000,"FIGUEIREDO","FFIGUEIREDO"]
[40110000,"BRICOMARCHE","FBRICOMA"]
[40110000,"BRUNET","FBRUNET"]
[40110000,"VALLOT","FZZAMBVALLOT"]
[44760004,"VIR TAXE SEJOUR"]
[51130004,"ADYEN","-"]
[51180004,"TPE ","-"]
[40110000,"APST","FSANTEAMB"]
[43731004,"KLESIA"]
[62780002,"F COMM INTERVENTION"]
[40110000,"COMPLETEL","FSFR"]
[40110000,"ORA","FORAAMB"]
[44210004,"PAS "]
[51170004,"AMEX"]
[40110000,"SOCOTEC","FSOCOTECAMB"]
[47100004,"BLOCAGE SAISIE ADM 100103047681518126990"]
[40110000,"BOUYGUES ","FBOUYGUESAMB"]
[40110000,"EURO-INFORMATION","FEUROAMB"]
[40110000,"BOUYGUES TELECOM","FBOUYGUESAMB"]
[42590000,"NDF"]
[40110000,"ORANGE","FORANGEAMB"]
[40110000,"MERLING","FMERLINGAMB"]
[40110000,"SOA","FSOAAMB"]
[40110000,"ENEDIS","FENEDISAMB"]
[40110000,"AXA","FMONTMIRAILAMB"]
[62780003,"FACTURE SGT"]
[62780003,"FACT SGT"]
[40110000,"DESAUTEL","FDESAUTEL"]
[40110000,"FICHOT","FFICHOTAMB"]
[62780003,"F FRAIS PRLV IMP"]
[40110000,"KONICA MINOLTA","FKONICAAMB"]
[40110000,"ENI ","FENIAMB"]
[40110000,"ENSEIGNES","FENSEIGNE"]
[40110000,"EXPEDIA","FEXPEAMB"]
[40110000,"LAVOX","FLAVOXAMB"]
[40110000,"MEDISEL","FMEDISELAMB"]
[40110000,"PANOGLOBAL","FPANOGLOBALAMB"]
[40110000,"PASSIONFROID","FPASSIONFROIDAMB"]
[40110000,"POMONA","FPOMONA"]
[40110000,"VIR EDF","FEDFAMB"]
[44700004,"BLOCAGE SAISIE ADM TIERS DET REF 100090166952518126990"]
[44700004,"BLOCAGE SAISIE ADM TIERS DET REF 100092255005518126990"]
[44700004,"BLOCAGE SAISIE ADM TIERS DET REF 100092177715518126990"]
[43100004,"BLOCAGE SAISIE ATTRIBUTION REF 0408833"]
[40110000,"HEUNINCK","FZZAMBHEUNINCK"]
[40110000,"GARGANI","FZZAMBVIETTE"]
[40110000,"HOTPOT","FDGHOTPOTAMB"]
[40110000,"EPISAVEURS","FEPISAVEURAMB"]
[40110000,"GIRONDON","FGIRONDONAMB"]
[42100004,"SALAIRES"]
[43720004,"COT MUTUELLE"]
[43100004,"SEPA URSSAF "]
[51120004,"REM CHQ"]
[62270000,"FRAIS CDT"]
[62780003,"CION"]
[40100000,"SOWATT","FSAVOIEAMB"]
[58000000,"GDC DG URBANS"]

{"sheet":"ECRITURES P1","index":2,"n_rows":703,"n_cols":9,"rows_kept":703}
["journal","date","piece","CPTE GEN","debit","credit","N°FACT","ANALYTIQUE","CPTE TIERS"]
[{"$f":"'RELEVE BANCAIRE'!G3","v":"BQ4"},{"$f":"'RELEVE BANCAIRE'!A3","v":"2023-05-12"},{"$f":"'RELEVE BANCAIRE'!H3","v":1},{"$f":"'RELEVE BANCAIRE'!M3","v":51200004},{"$f":"'RELEVE BANCAIRE'!E3","v":{"v":0,"d":"0.00 €"}},{"$f":"'RELEVE BANCAIRE'!D3*-1","v":-1000},{"$f":"'RELEVE BANCAIRE'!C3","v":"PASSIONFROID"}]
[{"$f":"'RELEVE BANCAIRE'!G4","v":"BQ4"},{"$f":"'RELEVE BANCAIRE'!A4","v":"2023-05-18"},{"$f":"'RELEVE BANCAIRE'!H4","v":2},{"$f":"'RELEVE BANCAIRE'!M4","v":51200004},{"$f":"'RELEVE BANCAIRE'!E4","v":0},{"$f":"'RELEVE BANCAIRE'!D4*-1","v":-100},{"$f":"'RELEVE BANCAIRE'!C4","v":"ORANGE"}]
[{"$f":"'RELEVE BANCAIRE'!G5","v":"BQ4"},{"$f":"'RELEVE BANCAIRE'!A5","v":"2023-05-19"},{"$f":"'RELEVE BANCAIRE'!H5","v":3},{"$f":"'RELEVE BANCAIRE'!M5","v":51200004},{"$f":"'RELEVE BANCAIRE'!E5","v":5000},{"$f":"'RELEVE BANCAIRE'!D5*-1","v":0},{"$f":"'RELEVE BANCAIRE'!C5","v":"VIREMENT"}]
[{"$f":"'RELEVE BANCAIRE'!G6","v":"BQ4"},{"$f":"'RELEVE BANCAIRE'!A6","v":"2023-05-21"},{"$f":"'RELEVE BANCAIRE'!H6","v":4},{"$f":"'RELEVE BANCAIRE'!M6","v":51200004},{"$f":"'RELEVE BANCAIRE'!E6","v":12000},{"$f":"'RELEVE BANCAIRE'!D6*-1","v":0},{"$f":"'RELEVE BANCAIRE'!C6","v":"VIREMENT"}]
[{"$f":"'RELEVE BANCAIRE'!G7","v":"BQ4"},{"$f":"'RELEVE BANCAIRE'!A7","v":"00:00:00"},{"$f":"'RELEVE BANCAIRE'!H7","v":5},{"$f":"'RELEVE BANCAIRE'!M7","v":51200004},{"$f":"'RELEVE BANCAIRE'!E7","v":0},{"$f":"'RELEVE BANCAIRE'!D7*-1","v":0},{"$f":"'RELEVE BANCAIRE'!C7","v":0}]
[{"$f":"'RELEVE BANCAIRE'!G8","v":"BQ4"},{"$f":"'RELEVE BANCAIRE'!A8","v":"00:00:00"},{"$f":"'RELEVE BANCAIRE'!H8","v":6},{"$f":"'RELEVE BANCAIRE'!M8","v":51200004},{"$f":"'RELEVE BANCAIRE'!E8","v":0},{"$f":"'RELEVE BANCAIRE'!D8*-1","v":0},{"$f":"'RELEVE BANCAIRE'!C8","v":0}]
[{"$f":"'RELEVE BANCAIRE'!G9","v":"BQ4"},{"$f":"'RELEVE BANCAIRE'!A9","v":"00:00:00"},{"$f":"'RELEVE BANCAIRE'!H9","v":7},{"$f":"'RELEVE BANCAIRE'!M9","v":51200004},{"$f":"'RELEVE BANCAIRE'!E9","v":0},{"$f":"'RELEVE BANCAIRE'!D9*-1","v":0},{"$f":"'RELEVE BANCAIRE'!C9","v":0}]
[{"$f":"'RELEVE BANCAIRE'!G10","v":"BQ4"},{"$f":"'RELEVE BANCAIRE'!A10","v":"00:00:00"},{"$f":"'RELEVE BANCAIRE'!H10","v":8},{"$f":"'RELEVE BANCAIRE'!M10","v":51200004},{"$f":"'RELEVE BANCAIRE'!E10","v":0},{"$f":"'RELEVE BANCAIRE'!D10*-1","v":0},{"$f":"'RELEVE BANCAIRE'!C10","v":0}]
[{"$f":"'RELEVE BANCAIRE'!G11","v":"BQ4"},{"$f":"'RELEVE BANCAIRE'!A11","v":"00:00:00"},{"$f":"'RELEVE BANCAIRE'!H11","v":9},{"$f":"'RELEVE BANCAIRE'!M11","v":51200004},{"$f":"'RELEVE BANCAIRE'!E11","v":0},{"$f":"'RELEVE BANCAIRE'!D11*-1","v":0},{"$f":"'RELEVE BANCAIRE'!C11","v":0}]
[{"$f":"'RELEVE BANCAIRE'!G12","v":"BQ4"},{"$f":"'RELEVE BANCAIRE'!A12","v":"00:00:00"},{"$f":"'RELEVE BANCAIRE'!H12","v":10},{"$f":"'RELEVE BANCAIRE'!M12","v":51200004},{"$f":"'RELEVE BANCAIRE'!E12","v":0},{"$f":"'RELEVE BANCAIRE'!D12*-1","v":0},{"$f":"'RELEVE BANCAIRE'!C12","v":0}]
[{"$f":"'RELEVE BANCAIRE'!G13","v":"BQ4"},{"$f":"'RELEVE BANCAIRE'!A13","v":"00:00:00"},{"$f":"'RELEVE BANCAIRE'!H13","v":11},{"$f":"'RELEVE BANCAIRE'!M13","v":51200004},{"$f":"'RELEVE BANCAIRE'!E13","v":0},{"$f":"'RELEVE BANCAIRE'!D13*-1","v":0},{"$f":"'RELEVE BANCAIRE'!C13","v":0}]
[{"$f":"'RELEVE BANCAIRE'!G14","v":"BQ4"},{"$f":"'RELEVE BANCAIRE'!A14","v":"00:00:00"},{"$f":"'RELEVE BANCAIRE'!H14","v":12},{"$f":"'RELEVE BANCAIRE'!M14","v":51200004},{"$f":"'RELEVE BANCAIRE'!E14","v":0},{"$f":"'RELEVE BANCAIRE'!D14*-1","v":0},{"$f":"'RELEVE BANCAIRE'!C14","v":0}]
[{"$f":"'RELEVE BANCAIRE'!G15","v":"BQ4"},{"$f":"'RELEVE BANCAIRE'!A15","v":"00:00:00"},{"$f":"'RELEVE BANCAIRE'!H15","v":13},{"$f":"'RELEVE BANCAIRE'!M15","v":51200004},{"$f":"'RELEVE BANCAIRE'!E15","v":0},{"$f":"'RELEVE BANCAIRE'!D15*-1","v":0},{"$f":"'RELEVE BANCAIRE'!C15","v":0}]
[{"$f":"'RELEVE BANCAIRE'!G16","v":"BQ4"},{"$f":"'RELEVE BANCAIRE'!A16","v":"00:00:00"},{"$f":"'RELEVE BANCAIRE'!H16","v":14},{"$f":"'RELEVE BANCAIRE'!M16","v":51200004},{"$f":"'RELEVE BANCAIRE'!E16","v":0},{"$f":"'RELEVE BANCAIRE'!D16*-1","v":0},{"$f":"'RELEVE BANCAIRE'!C16","v":0}]
[{"$f":"'RELEVE BANCAIRE'!G17","v":"BQ4"},{"$f":"'RELEVE BANCAIRE'!A17","v":"00:00:00"},{"$f":"'RELEVE BANCAIRE'!H17","v":15},{"$f":"'RELEVE BANCAIRE'!M17","v":51200004},{"$f":"'RELEVE BANCAIRE'!E17","v":0},{"$f":"'RELEVE BANCAIRE'!D17*-1","v":0},{"$f":"'RELEVE BANCAIRE'!C17","v":0}]
[{"$f":"'RELEVE BANCAIRE'!G18","v":"BQ4"},{"$f":"'RELEVE BANCAIRE'!A18","v":"00:00:00"},{"$f":"'RELEVE BANCAIRE'!H18","v":16},{"$f":"'RELEVE BANCAIRE'!M18","v":51200004},{"$f":"'RELEVE BANCAIRE'!E18","v":0},{"$f":"'RELEVE BANCAIRE'!D18*-1","v":0},{"$f":"'RELEVE BANCAIRE'!C18","v":0}]
[{"$f":"'RELEVE BANCAIRE'!G19","v":"BQ4"},{"$f":"'RELEVE BANCAIRE'!A19","v":"00:00:00"},{"$f":"'RELEVE BANCAIRE'!H19","v":17},{"$f":"'RELEVE BANCAIRE'!M19","v":51200004},{"$f":"'RELEVE BANCAIRE'!E19","v":0},{"$f":"'RELEVE BANCAIRE'!D19*-1","v":0},{"$f":"'RELEVE BANCAIRE'!C19","v":0}]
[{"$f":"'RELEVE BANCAIRE'!G20","v":"BQ4"},{"$f":"'RELEVE BANCAIRE'!A20","v":"00:00:00"},{"$f":"'RELEVE BANCAIRE'!H20","v":18},{"$f":"'RELEVE BANCAIRE'!M20","v":51200004},{"$f":"'RELEVE BANCAIRE'!E20","v":0},{"$f":"'RELEVE BANCAIRE'!D20*-1","v":0},{"$f":"'RELEVE BANCAIRE'!C20","v":0}]
[{"$f":"'RELEVE BANCAIRE'!G21","v":"BQ4"},{"$f":"'RELEVE BANCAIRE'!A21","v":"00:00:00"},{"$f":"'RELEVE BANCAIRE'!H21","v":19},{"$f":"'RELEVE BANCAIRE'!M21","v":51200004},{"$f":"'RELEVE BANCAIRE'!E21","v":0},{"$f":"'RELEVE BANCAIRE'!D21*-1","v":0},{"$f":"'RELEVE BANCAIRE'!C21","v":0}]
[{"$f":"'RELEVE BANCAIRE'!G22","v":"BQ4"},{"$f":"'RELEVE BANCAIRE'!A22","v":"00:00:00"},{"$f":"'RELEVE BANCAIRE'!H22","v":20},{"$f":"'RELEVE BANCAIRE'!M22","v":51200004},{"$f":"'RELEVE BANCAIRE'!E22","v":0},{"$f":"'RELEVE BANCAIRE'!D22*-1","v":0},{"$f":"'RELEVE BANCAIRE'!C22","v":0}]
[{"$f":"'RELEVE BANCAIRE'!G23","v":"BQ4"},{"$f":"'RELEVE BANCAIRE'!A23","v":"00:00:00"},{"$f":"'RELEVE BANCAIRE'!H23","v":21},{"$f":"'RELEVE BANCAIRE'!M23","v":51200004},{"$f":"'RELEVE BANCAIRE'!E23","v":0},{"$f":"'RELEVE BANCAIRE'!D23*-1","v":0},{"$f":"'RELEVE BANCAIRE'!C23","v":0}]
[{"$f":"'RELEVE BANCAIRE'!G24","v":"BQ4"},{"$f":"'RELEVE BANCAIRE'!A24","v":"00:00:00"},{"$f":"'RELEVE BANCAIRE'!H24","v":22},{"$f":"'RELEVE BANCAIRE'!M24","v":51200004},{"$f":"'RELEVE BANCAIRE'!E24","v":0},{"$f":"'RELEVE BANCAIRE'!D24*-1","v":0},{"$f":"'RELEVE BANCAIRE'!C24","v":0}]
[{"$f":"'RELEVE BANCAIRE'!G25","v":"BQ4"},{"$f":"'RELEVE BANCAIRE'!A25","v":"00:00:00"},{"$f":"'RELEVE BANCAIRE'!H25","v":23},{"$f":"'RELEVE BANCAIRE'!M25","v":51200004},{"$f":"'RELEVE BANCAIRE'!E25","v":0},{"$f":"'RELEVE BANCAIRE'!D25*-1","v":0},{"$f":"'RELEVE BANCAIRE'!C25","v":0}]
[{"$f":"'RELEVE BANCAIRE'!G26","v":"BQ4"},{"$f":"'RELEVE BANCAIRE'!A26","v":"00:00:00"},{"$f":"'RELEVE BANCAIRE'!H26","v":24},{"$f":"'RELEVE BANCAIRE'!M26","v":51200004},{"$f":"'RELEVE BANCAIRE'!E26","v":0},{"$f":"'RELEVE BANCAIRE'!D26*-1","v":0},{"$f":"'RELEVE BANCAIRE'!C26","v":0}]
[{"$f":"'RELEVE BANCAIRE'!G27","v":"BQ4"},{"$f":"'RELEVE BANCAIRE'!A27","v":"00:00:00"},{"$f":"'RELEVE BANCAIRE'!H27","v":25},{"$f":"'RELEVE BANCAIRE'!M27","v":51200004},{"$f":"'RELEVE BANCAIRE'!E27","v":0},{"$f":"'RELEVE BANCAIRE'!D27*-1","v":0},{"$f":"'RELEVE BANCAIRE'!C27","v":0}]
[{"$f":"'RELEVE BANCAIRE'!G28","v":"BQ4"},{"$f":"'RELEVE BANCAIRE'!A28","v":"00:00:00"},{"$f":"'RELEVE BANCAIRE'!H28","v":26},{"$f":"'RELEVE BANCAIRE'!M28","v":51200004},{"$f":"'RELEVE BANCAIRE'!E28","v":0},{"$f":"'RELEVE BANCAIRE'!D28*-1","v":0},{"$f":"'RELEVE BANCAIRE'!C28","v":0}]
[{"$f":"'RELEVE BANCAIRE'!G29","v":"BQ4"},{"$f":"'RELEVE BANCAIRE'!A29","v":"00:00:00"},{"$f":"'RELEVE BANCAIRE'!H29","v":27},{"$f":"'RELEVE BANCAIRE'!M29","v":51200004},{"$f":"'RELEVE BANCAIRE'!E29","v":0},{"$f":"'RELEVE BANCAIRE'!D29*-1","v":0},{"$f":"'RELEVE BANCAIRE'!C29","v":0}]
[{"$f":"'RELEVE BANCAIRE'!G30","v":"BQ4"},{"$f":"'RELEVE BANCAIRE'!A30","v":"00:00:00"},{"$f":"'RELEVE BANCAIRE'!H30","v":28},{"$f":"'RELEVE BANCAIRE'!M30","v":51200004},{"$f":"'RELEVE BANCAIRE'!E30","v":0},{"$f":"'RELEVE BANCAIRE'!D30*-1","v":0},{"$f":"'RELEVE BANCAIRE'!C30","v":0}]
[{"$f":"'RELEVE BANCAIRE'!G31","v":"BQ4"},{"$f":"'RELEVE BANCAIRE'!A31","v":"00:00:00"},{"$f":"'RELEVE BANCAIRE'!H31","v":29},{"$f":"'RELEVE BANCAIRE'!M31","v":51200004},{"$f":"'RELEVE BANCAIRE'!E31","v":0},{"$f":"'RELEVE BANCAIRE'!D31*-1","v":0},{"$f":"'RELEVE BANCAIRE'!C31","v":0}]
[{"$f":"'RELEVE BANCAIRE'!G32","v":"BQ4"},{"$f":"'RELEVE BANCAIRE'!A32","v":"00:00:00"},{"$f":"'RELEVE BANCAIRE'!H32","v":30},{"$f":"'RELEVE BANCAIRE'!M32","v":51200004},{"$f":"'RELEVE BANCAIRE'!E32","v":0},{"$f":"'RELEVE BANCAIRE'!D32*-1","v":0},{"$f":"'RELEVE BANCAIRE'!C32","v":0}]
[{"$f":"'RELEVE BANCAIRE'!G33","v":"BQ4"},{"$f":"'RELEVE BANCAIRE'!A33","v":"00:00:00"},{"$f":"'RELEVE BANCAIRE'!H33","v":31},{"$f":"'RELEVE BANCAIRE'!M33","v":51200004},{"$f":"'RELEVE BANCAIRE'!E33","v":0},{"$f":"'RELEVE BANCAIRE'!D33*-1","v":0},{"$f":"'RELEVE BANCAIRE'!C33","v":0}]
[{"$f":"'RELEVE BANCAIRE'!G34","v":"BQ4"},{"$f":"'RELEVE BANCAIRE'!A34","v":"00:00:00"},{"$f":"'RELEVE BANCAIRE'!H34","v":32},{"$f":"'RELEVE BANCAIRE'!M34","v":51200004},{"$f":"'RELEVE BANCAIRE'!E34","v":0},{"$f":"'RELEVE BANCAIRE'!D34*-1","v":0},{"$f":"'RELEVE BANCAIRE'!C34","v":0}]
[{"$f":"'RELEVE BANCAIRE'!G35","v":"BQ4"},{"$f":"'RELEVE BANCAIRE'!A35","v":"00:00:00"},{"$f":"'RELEVE BANCAIRE'!H35","v":33},{"$f":"'RELEVE BANCAIRE'!M35","v":51200004},{"$f":"'RELEVE BANCAIRE'!E35","v":0},{"$f":"'RELEVE BANCAIRE'!D35*-1","v":0},{"$f":"'RELEVE BANCAIRE'!C35","v":0}]
[{"$f":"'RELEVE BANCAIRE'!G36","v":"BQ4"},{"$f":"'RELEVE BANCAIRE'!A36","v":"00:00:00"},{"$f":"'RELEVE BANCAIRE'!H36","v":34},{"$f":"'RELEVE BANCAIRE'!M36","v":51200004},{"$f":"'RELEVE BANCAIRE'!E36","v":0},{"$f":"'RELEVE BANCAIRE'!D36*-1","v":0},{"$f":"'RELEVE BANCAIRE'!C36","v":0}]
[{"$f":"'RELEVE BANCAIRE'!G37","v":"BQ4"},{"$f":"'RELEVE BANCAIRE'!A37","v":"00:00:00"},{"$f":"'RELEVE BANCAIRE'!H37","v":35},{"$f":"'RELEVE BANCAIRE'!M37","v":51200004},{"$f":"'RELEVE BANCAIRE'!E37","v":0},{"$f":"'RELEVE BANCAIRE'!D37*-1","v":0},{"$f":"'RELEVE BANCAIRE'!C37","v":0}]
[{"$f":"'RELEVE BANCAIRE'!G38","v":"BQ4"},{"$f":"'RELEVE BANCAIRE'!A38","v":"00:00:00"},{"$f":"'RELEVE BANCAIRE'!H38","v":36},{"$f":"'RELEVE BANCAIRE'!M38","v":51200004},{"$f":"'RELEVE BANCAIRE'!E38","v":0},{"$f":"'RELEVE BANCAIRE'!D38*-1","v":0},{"$f":"'RELEVE BANCAIRE'!C38","v":0}]
[{"$f":"'RELEVE BANCAIRE'!G39","v":"BQ4"},{"$f":"'RELEVE BANCAIRE'!A39","v":"00:00:00"},{"$f":"'RELEVE BANCAIRE'!H39","v":37},{"$f":"'RELEVE BANCAIRE'!M39","v":51200004},{"$f":"'RELEVE BANCAIRE'!E39","v":0},{"$f":"'RELEVE BANCAIRE'!D39*-1","v":0},{"$f":"'RELEVE BANCAIRE'!C39","v":0}]
[{"$f":"'RELEVE BANCAIRE'!G40","v":"BQ4"},{"$f":"'RELEVE BANCAIRE'!A40","v":"00:00:00"},{"$f":"'RELEVE BANCAIRE'!H40","v":38},{"$f":"'RELEVE BANCAIRE'!M40","v":51200004},{"$f":"'RELEVE BANCAIRE'!E40","v":0},{"$f":"'RELEVE BANCAIRE'!D40*-1","v":0},{"$f":"'RELEVE BANCAIRE'!C40","v":0}]
[{"$f":"'RELEVE BANCAIRE'!G41","v":"BQ4"},{"$f":"'RELEVE BANCAIRE'!A41","v":"00:00:00"},{"$f":"'RELEVE BANCAIRE'!H41","v":39},{"$f":"'RELEVE BANCAIRE'!M41","v":51200004},{"$f":"'RELEVE BANCAIRE'!E41","v":0},{"$f":"'RELEVE BANCAIRE'!D41*-1","v":0},{"$f":"'RELEVE BANCAIRE'!C41","v":0}]
[{"$f":"'RELEVE BANCAIRE'!G42","v":"BQ4"},{"$f":"'RELEVE BANCAIRE'!A42","v":"00:00:00"},{"$f":"'RELEVE BANCAIRE'!H42","v":40},{"$f":"'RELEVE BANCAIRE'!M42","v":51200004},{"$f":"'RELEVE BANCAIRE'!E42","v":0},{"$f":"'RELEVE BANCAIRE'!D42*-1","v":0},{"$f":"'RELEVE BANCAIRE'!C42","v":0}]
[{"$f":"'RELEVE BANCAIRE'!G43","v":"BQ4"},{"$f":"'RELEVE BANCAIRE'!A43","v":"00:00:00"},{"$f":"'RELEVE BANCAIRE'!H43","v":41},{"$f":"'RELEVE BANCAIRE'!M43","v":51200004},{"$f":"'RELEVE BANCAIRE'!E43","v":0},{"$f":"'RELEVE BANCAIRE'!D43*-1","v":0},{"$f":"'RELEVE BANCAIRE'!C43","v":0}]
[{"$f":"'RELEVE BANCAIRE'!G44","v":"BQ4"},{"$f":"'RELEVE BANCAIRE'!A44","v":"00:00:00"},{"$f":"'RELEVE BANCAIRE'!H44","v":42},{"$f":"'RELEVE BANCAIRE'!M44","v":51200004},{"$f":"'RELEVE BANCAIRE'!E44","v":0},{"$f":"'RELEVE BANCAIRE'!D44*-1","v":0},{"$f":"'RELEVE BANCAIRE'!C44","v":0}]
[{"$f":"'RELEVE BANCAIRE'!G45","v":"BQ4"},{"$f":"'RELEVE BANCAIRE'!A45","v":"00:00:00"},{"$f":"'RELEVE BANCAIRE'!H45","v":43},{"$f":"'RELEVE BANCAIRE'!M45","v":51200004},{"$f":"'RELEVE BANCAIRE'!E45","v":0},{"$f":"'RELEVE BANCAIRE'!D45*-1","v":0},{"$f":"'RELEVE BANCAIRE'!C45","v":0}]
[{"$f":"'RELEVE BANCAIRE'!G46","v":"BQ4"},{"$f":"'RELEVE BANCAIRE'!A46","v":"00:00:00"},{"$f":"'RELEVE BANCAIRE'!H46","v":44},{"$f":"'RELEVE BANCAIRE'!M46","v":51200004},{"$f":"'RELEVE BANCAIRE'!E46","v":0},{"$f":"'RELEVE BANCAIRE'!D46*-1","v":0},{"$f":"'RELEVE BANCAIRE'!C46","v":0}]
[{"$f":"'RELEVE BANCAIRE'!G47","v":"BQ4"},{"$f":"'RELEVE BANCAIRE'!A47","v":"00:00:00"},{"$f":"'RELEVE BANCAIRE'!H47","v":45},{"$f":"'RELEVE BANCAIRE'!M47","v":51200004},{"$f":"'RELEVE BANCAIRE'!E47","v":0},{"$f":"'RELEVE BANCAIRE'!D47*-1","v":0},{"$f":"'RELEVE BANCAIRE'!C47","v":0}]
[{"$f":"'RELEVE BANCAIRE'!G48","v":"BQ4"},{"$f":"'RELEVE BANCAIRE'!A48","v":"00:00:00"},{"$f":"'RELEVE BANCAIRE'!H48","v":46},{"$f":"'RELEVE BANCAIRE'!M48","v":51200004},{"$f":"'RELEVE BANCAIRE'!E48","v":0},{"$f":"'RELEVE BANCAIRE'!D48*-1","v":0},{"$f":"'RELEVE BANCAIRE'!C48","v":0}]
[{"$f":"'RELEVE BANCAIRE'!G49","v":"BQ4"},{"$f":"'RELEVE BANCAIRE'!A49","v":"00:00:00"},{"$f":"'RELEVE BANCAIRE'!H49","v":47},{"$f":"'RELEVE BANCAIRE'!M49","v":51200004},{"$f":"'RELEVE BANCAIRE'!E49","v":0},{"$f":"'RELEVE BANCAIRE'!D49*-1","v":0},{"$f":"'RELEVE BANCAIRE'!C49","v":0}]
[{"$f":"'RELEVE BANCAIRE'!G50","v":"BQ4"},{"$f":"'RELEVE BANCAIRE'!A50","v":"00:00:00"},{"$f":"'RELEVE BANCAIRE'!H50","v":48},{"$f":"'RELEVE BANCAIRE'!M50","v":51200004},{"$f":"'RELEVE BANCAIRE'!E50","v":0},{"$f":"'RELEVE BANCAIRE'!D50*-1","v":0},{"$f":"'RELEVE BANCAIRE'!C50","v":0}]
[{"$f":"'RELEVE BANCAIRE'!G51","v":"BQ4"},{"$f":"'RELEVE BANCAIRE'!A51","v":"00:00:00"},{"$f":"'RELEVE BANCAIRE'!H51","v":49},{"$f":"'RELEVE BANCAIRE'!M51","v":51200004},{"$f":"'RELEVE BANCAIRE'!E51","v":0},{"$f":"'RELEVE BANCAIRE'!D51*-1","v":0},{"$f":"'RELEVE BANCAIRE'!C51","v":0}]
[{"$f":"'RELEVE BANCAIRE'!G52","v":"BQ4"},{"$f":"'RELEVE BANCAIRE'!A52","v":"00:00:00"},{"$f":"'RELEVE BANCAIRE'!H52","v":50},{"$f":"'RELEVE BANCAIRE'!M52","v":51200004},{"$f":"'RELEVE BANCAIRE'!E52","v":0},{"$f":"'RELEVE BANCAIRE'!D52*-1","v":0},{"$f":"'RELEVE BANCAIRE'!C52","v":0}]
[{"$f":"'RELEVE BANCAIRE'!G53","v":"BQ4"},{"$f":"'RELEVE BANCAIRE'!A53","v":"00:00:00"},{"$f":"'RELEVE BANCAIRE'!H53","v":51},{"$f":"'RELEVE BANCAIRE'!M53","v":51200004},{"$f":"'RELEVE BANCAIRE'!E53","v":0},{"$f":"'RELEVE BANCAIRE'!D53*-1","v":0},{"$f":"'RELEVE BANCAIRE'!C53","v":0}]
[{"$f":"'RELEVE BANCAIRE'!G54","v":"BQ4"},{"$f":"'RELEVE BANCAIRE'!A54","v":"00:00:00"},{"$f":"'RELEVE BANCAIRE'!H54","v":52},{"$f":"'RELEVE BANCAIRE'!M54","v":51200004},{"$f":"'RELEVE BANCAIRE'!E54","v":0},{"$f":"'RELEVE BANCAIRE'!D54*-1","v":0},{"$f":"'RELEVE BANCAIRE'!C54","v":0}]
[{"$f":"'RELEVE BANCAIRE'!G55","v":"BQ4"},{"$f":"'RELEVE BANCAIRE'!A55","v":"00:00:00"},{"$f":"'RELEVE BANCAIRE'!H55","v":53},{"$f":"'RELEVE BANCAIRE'!M55","v":51200004},{"$f":"'RELEVE BANCAIRE'!E55","v":0},{"$f":"'RELEVE BANCAIRE'!D55*-1","v":0},{"$f":"'RELEVE BANCAIRE'!C55","v":0}]
[{"$f":"'RELEVE BANCAIRE'!G56","v":"BQ4"},{"$f":"'RELEVE BANCAIRE'!A56","v":"00:00:00"},{"$f":"'RELEVE BANCAIRE'!H56","v":54},{"$f":"'RELEVE BANCAIRE'!M56","v":51200004},{"$f":"'RELEVE BANCAIRE'!E56","v":0},{"$f":"'RELEVE BANCAIRE'!D56*-1","v":0},{"$f":"'RELEVE BANCAIRE'!C56","v":0}]
[{"$f":"'RELEVE BANCAIRE'!G57","v":"BQ4"},{"$f":"'RELEVE BANCAIRE'!A57","v":"00:00:00"},{"$f":"'RELEVE BANCAIRE'!H57","v":55},{"$f":"'RELEVE BANCAIRE'!M57","v":51200004},{"$f":"'RELEVE BANCAIRE'!E57","v":0},{"$f":"'RELEVE BANCAIRE'!D57*-1","v":0},{"$f":"'RELEVE BANCAIRE'!C57","v":0}]
[{"$f":"'RELEVE BANCAIRE'!G58","v":"BQ4"},{"$f":"'RELEVE BANCAIRE'!A58","v":"00:00:00"},{"$f":"'RELEVE BANCAIRE'!H58","v":56},{"$f":"'RELEVE BANCAIRE'!M58","v":51200004},{"$f":"'RELEVE BANCAIRE'!E58","v":0},{"$f":"'RELEVE BANCAIRE'!D58*-1","v":0},{"$f":"'RELEVE BANCAIRE'!C58","v":0}]
[{"$f":"'RELEVE BANCAIRE'!G59","v":"BQ4"},{"$f":"'RELEVE BANCAIRE'!A59","v":"00:00:00"},{"$f":"'RELEVE BANCAIRE'!H59","v":57},{"$f":"'RELEVE BANCAIRE'!M59","v":51200004},{"$f":"'RELEVE BANCAIRE'!E59","v":0},{"$f":"'RELEVE BANCAIRE'!D59*-1","v":0},{"$f":"'RELEVE BANCAIRE'!C59","v":0}]
[{"$f":"'RELEVE BANCAIRE'!G60","v":"BQ4"},{"$f":"'RELEVE BANCAIRE'!A60","v":"00:00:00"},{"$f":"'RELEVE BANCAIRE'!H60","v":58},{"$f":"'RELEVE BANCAIRE'!M60","v":51200004},{"$f":"'RELEVE BANCAIRE'!E60","v":0},{"$f":"'RELEVE BANCAIRE'!D60*-1","v":0},{"$f":"'RELEVE BANCAIRE'!C60","v":0}]
[{"$f":"'RELEVE BANCAIRE'!G61","v":"BQ4"},{"$f":"'RELEVE BANCAIRE'!A61","v":"00:00:00"},{"$f":"'RELEVE BANCAIRE'!H61","v":59},{"$f":"'RELEVE BANCAIRE'!M61","v":51200004},{"$f":"'RELEVE BANCAIRE'!E61","v":0},{"$f":"'RELEVE BANCAIRE'!D61*-1","v":0},{"$f":"'RELEVE BANCAIRE'!C61","v":0}]
[{"$f":"'RELEVE BANCAIRE'!G62","v":"BQ4"},{"$f":"'RELEVE BANCAIRE'!A62","v":"00:00:00"},{"$f":"'RELEVE BANCAIRE'!H62","v":60},{"$f":"'RELEVE BANCAIRE'!M62","v":51200004},{"$f":"'RELEVE BANCAIRE'!E62","v":0},{"$f":"'RELEVE BANCAIRE'!D62*-1","v":0},{"$f":"'RELEVE BANCAIRE'!C62","v":0}]
[{"$f":"'RELEVE BANCAIRE'!G63","v":"BQ4"},{"$f":"'RELEVE BANCAIRE'!A63","v":"00:00:00"},{"$f":"'RELEVE BANCAIRE'!H63","v":61},{"$f":"'RELEVE BANCAIRE'!M63","v":51200004},{"$f":"'RELEVE BANCAIRE'!E63","v":0},{"$f":"'RELEVE BANCAIRE'!D63*-1","v":0},{"$f":"'RELEVE BANCAIRE'!C63","v":0}]
[{"$f":"'RELEVE BANCAIRE'!G64","v":"BQ4"},{"$f":"'RELEVE BANCAIRE'!A64","v":"00:00:00"},{"$f":"'RELEVE BANCAIRE'!H64","v":62},{"$f":"'RELEVE BANCAIRE'!M64","v":51200004},{"$f":"'RELEVE BANCAIRE'!E64","v":0},{"$f":"'RELEVE BANCAIRE'!D64*-1","v":0},{"$f":"'RELEVE BANCAIRE'!C64","v":0}]
[{"$f":"'RELEVE BANCAIRE'!G65","v":"BQ4"},{"$f":"'RELEVE BANCAIRE'!A65","v":"00:00:00"},{"$f":"'RELEVE BANCAIRE'!H65","v":63},{"$f":"'RELEVE BANCAIRE'!M65","v":51200004},{"$f":"'RELEVE BANCAIRE'!E65","v":0},{"$f":"'RELEVE BANCAIRE'!D65*-1","v":0},{"$f":"'RELEVE BANCAIRE'!C65","v":0}]
[{"$f":"'RELEVE BANCAIRE'!G66","v":"BQ4"},{"$f":"'RELEVE BANCAIRE'!A66","v":"00:00:00"},{"$f":"'RELEVE BANCAIRE'!H66","v":64},{"$f":"'RELEVE BANCAIRE'!M66","v":51200004},{"$f":"'RELEVE BANCAIRE'!E66","v":0},{"$f":"'RELEVE BANCAIRE'!D66*-1","v":0},{"$f":"'RELEVE BANCAIRE'!C66","v":0}]
[{"$f":"'RELEVE BANCAIRE'!G67","v":"BQ4"},{"$f":"'RELEVE BANCAIRE'!A67","v":"00:00:00"},{"$f":"'RELEVE BANCAIRE'!H67","v":65},{"$f":"'RELEVE BANCAIRE'!M67","v":51200004},{"$f":"'RELEVE BANCAIRE'!E67","v":0},{"$f":"'RELEVE BANCAIRE'!D67*-1","v":0},{"$f":"'RELEVE BANCAIRE'!C67","v":0}]
[{"$f":"'RELEVE BANCAIRE'!G68","v":"BQ4"},{"$f":"'RELEVE BANCAIRE'!A68","v":"00:00:00"},{"$f":"'RELEVE BANCAIRE'!H68","v":66},{"$f":"'RELEVE BANCAIRE'!M68","v":51200004},{"$f":"'RELEVE BANCAIRE'!E68","v":0},{"$f":"'RELEVE BANCAIRE'!D68*-1","v":0},{"$f":"'RELEVE BANCAIRE'!C68","v":0}]
[{"$f":"'RELEVE BANCAIRE'!G69","v":"BQ4"},{"$f":"'RELEVE BANCAIRE'!A69","v":"00:00:00"},{"$f":"'RELEVE BANCAIRE'!H69","v":67},{"$f":"'RELEVE BANCAIRE'!M69","v":51200004},{"$f":"'RELEVE BANCAIRE'!E69","v":0},{"$f":"'RELEVE BANCAIRE'!D69*-1","v":0},{"$f":"'RELEVE BANCAIRE'!C69","v":0}]
[{"$f":"'RELEVE BANCAIRE'!G70","v":"BQ4"},{"$f":"'RELEVE BANCAIRE'!A70","v":"00:00:00"},{"$f":"'RELEVE BANCAIRE'!H70","v":68},{"$f":"'RELEVE BANCAIRE'!M70","v":51200004},{"$f":"'RELEVE BANCAIRE'!E70","v":0},{"$f":"'RELEVE BANCAIRE'!D70*-1","v":0},{"$f":"'RELEVE BANCAIRE'!C70","v":0}]
[{"$f":"'RELEVE BANCAIRE'!G71","v":"BQ4"},{"$f":"'RELEVE BANCAIRE'!A71","v":"00:00:00"},{"$f":"'RELEVE BANCAIRE'!H71","v":69},{"$f":"'RELEVE BANCAIRE'!M71","v":51200004},{"$f":"'RELEVE BANCAIRE'!E71","v":0},{"$f":"'RELEVE BANCAIRE'!D71*-1","v":0},{"$f":"'RELEVE BANCAIRE'!C71","v":0}]
[{"$f":"'RELEVE BANCAIRE'!G72","v":"BQ4"},{"$f":"'RELEVE BANCAIRE'!A72","v":"00:00:00"},{"$f":"'RELEVE BANCAIRE'!H72","v":70},{"$f":"'RELEVE BANCAIRE'!M72","v":51200004},{"$f":"'RELEVE BANCAIRE'!E72","v":0},{"$f":"'RELEVE BANCAIRE'!D72*-1","v":0},{"$f":"'RELEVE BANCAIRE'!C72","v":0}]
[{"$f":"'RELEVE BANCAIRE'!G73","v":"BQ4"},{"$f":"'RELEVE BANCAIRE'!A73","v":"00:00:00"},{"$f":"'RELEVE BANCAIRE'!H73","v":71},{"$f":"'RELEVE BANCAIRE'!M73","v":51200004},{"$f":"'RELEVE BANCAIRE'!E73","v":0},{"$f":"'RELEVE BANCAIRE'!D73*-1","v":0},{"$f":"'RELEVE BANCAIRE'!C73","v":0}]
[{"$f":"'RELEVE BANCAIRE'!G74","v":"BQ4"},{"$f":"'RELEVE BANCAIRE'!A74","v":"00:00:00"},{"$f":"'RELEVE BANCAIRE'!H74","v":72},{"$f":"'RELEVE BANCAIRE'!M74","v":51200004},{"$f":"'RELEVE BANCAIRE'!E74","v":0},{"$f":"'RELEVE BANCAIRE'!D74*-1","v":0},{"$f":"'RELEVE BANCAIRE'!C74","v":0}]
[{"$f":"'RELEVE BANCAIRE'!G75","v":"BQ4"},{"$f":"'RELEVE BANCAIRE'!A75","v":"00:00:00"},{"$f":"'RELEVE BANCAIRE'!H75","v":73},{"$f":"'RELEVE BANCAIRE'!M75","v":51200004},{"$f":"'RELEVE BANCAIRE'!E75","v":0},{"$f":"'RELEVE BANCAIRE'!D75*-1","v":0},{"$f":"'RELEVE BANCAIRE'!C75","v":0}]
[{"$f":"'RELEVE BANCAIRE'!G76","v":"BQ4"},{"$f":"'RELEVE BANCAIRE'!A76","v":"00:00:00"},{"$f":"'RELEVE BANCAIRE'!H76","v":74},{"$f":"'RELEVE BANCAIRE'!M76","v":51200004},{"$f":"'RELEVE BANCAIRE'!E76","v":0},{"$f":"'RELEVE BANCAIRE'!D76*-1","v":0},{"$f":"'RELEVE BANCAIRE'!C76","v":0}]
[{"$f":"'RELEVE BANCAIRE'!G77","v":"BQ4"},{"$f":"'RELEVE BANCAIRE'!A77","v":"00:00:00"},{"$f":"'RELEVE BANCAIRE'!H77","v":75},{"$f":"'RELEVE BANCAIRE'!M77","v":51200004},{"$f":"'RELEVE BANCAIRE'!E77","v":0},{"$f":"'RELEVE BANCAIRE'!D77*-1","v":0},{"$f":"'RELEVE BANCAIRE'!C77","v":0}]
[{"$f":"'RELEVE BANCAIRE'!G78","v":"BQ4"},{"$f":"'RELEVE BANCAIRE'!A78","v":"00:00:00"},{"$f":"'RELEVE BANCAIRE'!H78","v":76},{"$f":"'RELEVE BANCAIRE'!M78","v":51200004},{"$f":"'RELEVE BANCAIRE'!E78","v":0},{"$f":"'RELEVE BANCAIRE'!D78*-1","v":0},{"$f":"'RELEVE BANCAIRE'!C78","v":0}]
[{"$f":"'RELEVE BANCAIRE'!G79","v":"BQ4"},{"$f":"'RELEVE BANCAIRE'!A79","v":"00:00:00"},{"$f":"'RELEVE BANCAIRE'!H79","v":77},{"$f":"'RELEVE BANCAIRE'!M79","v":51200004},{"$f":"'RELEVE BANCAIRE'!E79","v":0},{"$f":"'RELEVE BANCAIRE'!D79*-1","v":0},{"$f":"'RELEVE BANCAIRE'!C79","v":0}]
[{"$f":"'RELEVE BANCAIRE'!G80","v":"BQ4"},{"$f":"'RELEVE BANCAIRE'!A80","v":"00:00:00"},{"$f":"'RELEVE BANCAIRE'!H80","v":78},{"$f":"'RELEVE BANCAIRE'!M80","v":51200004},{"$f":"'RELEVE BANCAIRE'!E80","v":0},{"$f":"'RELEVE BANCAIRE'!D80*-1","v":0},{"$f":"'RELEVE BANCAIRE'!C80","v":0}]
[{"$f":"'RELEVE BANCAIRE'!G81","v":"BQ4"},{"$f":"'RELEVE BANCAIRE'!A81","v":"00:00:00"},{"$f":"'RELEVE BANCAIRE'!H81","v":79},{"$f":"'RELEVE BANCAIRE'!M81","v":51200004},{"$f":"'RELEVE BANCAIRE'!E81","v":0},{"$f":"'RELEVE BANCAIRE'!D81*-1","v":0},{"$f":"'RELEVE BANCAIRE'!C81","v":0}]
[{"$f":"'RELEVE BANCAIRE'!G82","v":"BQ4"},{"$f":"'RELEVE BANCAIRE'!A82","v":"00:00:00"},{"$f":"'RELEVE BANCAIRE'!H82","v":80},{"$f":"'RELEVE BANCAIRE'!M82","v":51200004},{"$f":"'RELEVE BANCAIRE'!E82","v":0},{"$f":"'RELEVE BANCAIRE'!D82*-1","v":0},{"$f":"'RELEVE BANCAIRE'!C82","v":0}]
[{"$f":"'RELEVE BANCAIRE'!G83","v":"BQ4"},{"$f":"'RELEVE BANCAIRE'!A83","v":"00:00:00"},{"$f":"'RELEVE BANCAIRE'!H83","v":81},{"$f":"'RELEVE BANCAIRE'!M83","v":51200004},{"$f":"'RELEVE BANCAIRE'!E83","v":0},{"$f":"'RELEVE BANCAIRE'!D83*-1","v":0},{"$f":"'RELEVE BANCAIRE'!C83","v":0}]
[{"$f":"'RELEVE BANCAIRE'!G84","v":"BQ4"},{"$f":"'RELEVE BANCAIRE'!A84","v":"00:00:00"},{"$f":"'RELEVE BANCAIRE'!H84","v":82},{"$f":"'RELEVE BANCAIRE'!M84","v":51200004},{"$f":"'RELEVE BANCAIRE'!E84","v":0},{"$f":"'RELEVE BANCAIRE'!D84*-1","v":0},{"$f":"'RELEVE BANCAIRE'!C84","v":0}]
[{"$f":"'RELEVE BANCAIRE'!G85","v":"BQ4"},{"$f":"'RELEVE BANCAIRE'!A85","v":"00:00:00"},{"$f":"'RELEVE BANCAIRE'!H85","v":83},{"$f":"'RELEVE BANCAIRE'!M85","v":51200004},{"$f":"'RELEVE BANCAIRE'!E85","v":0},{"$f":"'RELEVE BANCAIRE'!D85*-1","v":0},{"$f":"'RELEVE BANCAIRE'!C85","v":0}]
[{"$f":"'RELEVE BANCAIRE'!G86","v":"BQ4"},{"$f":"'RELEVE BANCAIRE'!A86","v":"00:00:00"},{"$f":"'RELEVE BANCAIRE'!H86","v":84},{"$f":"'RELEVE BANCAIRE'!M86","v":51200004},{"$f":"'RELEVE BANCAIRE'!E86","v":0},{"$f":"'RELEVE BANCAIRE'!D86*-1","v":0},{"$f":"'RELEVE BANCAIRE'!C86","v":0}]
[{"$f":"'RELEVE BANCAIRE'!G87","v":"BQ4"},{"$f":"'RELEVE BANCAIRE'!A87","v":"00:00:00"},{"$f":"'RELEVE BANCAIRE'!H87","v":85},{"$f":"'RELEVE BANCAIRE'!M87","v":51200004},{"$f":"'RELEVE BANCAIRE'!E87","v":0},{"$f":"'RELEVE BANCAIRE'!D87*-1","v":0},{"$f":"'RELEVE BANCAIRE'!C87","v":0}]
[{"$f":"'RELEVE BANCAIRE'!G88","v":"BQ4"},{"$f":"'RELEVE BANCAIRE'!A88","v":"00:00:00"},{"$f":"'RELEVE BANCAIRE'!H88","v":86},{"$f":"'RELEVE BANCAIRE'!M88","v":51200004},{"$f":"'RELEVE BANCAIRE'!E88","v":0},{"$f":"'RELEVE BANCAIRE'!D88*-1","v":0},{"$f":"'RELEVE BANCAIRE'!C88","v":0}]
[{"$f":"'RELEVE BANCAIRE'!G89","v":"BQ4"},{"$f":"'RELEVE BANCAIRE'!A89","v":"00:00:00"},{"$f":"'RELEVE BANCAIRE'!H89","v":87},{"$f":"'RELEVE BANCAIRE'!M89","v":51200004},{"$f":"'RELEVE BANCAIRE'!E89","v":0},{"$f":"'RELEVE BANCAIRE'!D89*-1","v":0},{"$f":"'RELEVE BANCAIRE'!C89","v":0}]
[{"$f":"'RELEVE BANCAIRE'!G90","v":"BQ4"},{"$f":"'RELEVE BANCAIRE'!A90","v":"00:00:00"},{"$f":"'RELEVE BANCAIRE'!H90","v":88},{"$f":"'RELEVE BANCAIRE'!M90","v":51200004},{"$f":"'RELEVE BANCAIRE'!E90","v":0},{"$f":"'RELEVE BANCAIRE'!D90*-1","v":0},{"$f":"'RELEVE BANCAIRE'!C90","v":0}]
[{"$f":"'RELEVE BANCAIRE'!G91","v":"BQ4"},{"$f":"'RELEVE BANCAIRE'!A91","v":"00:00:00"},{"$f":"'RELEVE BANCAIRE'!H91","v":89},{"$f":"'RELEVE BANCAIRE'!M91","v":51200004},{"$f":"'RELEVE BANCAIRE'!E91","v":0},{"$f":"'RELEVE BANCAIRE'!D91*-1","v":0},{"$f":"'RELEVE BANCAIRE'!C91","v":0}]
[{"$f":"'RELEVE BANCAIRE'!G92","v":"BQ4"},{"$f":"'RELEVE BANCAIRE'!A92","v":"00:00:00"},{"$f":"'RELEVE BANCAIRE'!H92","v":90},{"$f":"'RELEVE BANCAIRE'!M92","v":51200004},{"$f":"'RELEVE BANCAIRE'!E92","v":0},{"$f":"'RELEVE BANCAIRE'!D92*-1","v":0},{"$f":"'RELEVE BANCAIRE'!C92","v":0}]
[{"$f":"'RELEVE BANCAIRE'!G93","v":"BQ4"},{"$f":"'RELEVE BANCAIRE'!A93","v":"00:00:00"},{"$f":"'RELEVE BANCAIRE'!H93","v":91},{"$f":"'RELEVE BANCAIRE'!M93","v":51200004},{"$f":"'RELEVE BANCAIRE'!E93","v":0},{"$f":"'RELEVE BANCAIRE'!D93*-1","v":0},{"$f":"'RELEVE BANCAIRE'!C93","v":0}]
[{"$f":"'RELEVE BANCAIRE'!G94","v":"BQ4"},{"$f":"'RELEVE BANCAIRE'!A94","v":"00:00:00"},{"$f":"'RELEVE BANCAIRE'!H94","v":92},{"$f":"'RELEVE BANCAIRE'!M94","v":51200004},{"$f":"'RELEVE BANCAIRE'!E94","v":0},{"$f":"'RELEVE BANCAIRE'!D94*-1","v":0},{"$f":"'RELEVE BANCAIRE'!C94","v":0}]
[{"$f":"'RELEVE BANCAIRE'!G95","v":"BQ4"},{"$f":"'RELEVE BANCAIRE'!A95","v":"00:00:00"},{"$f":"'RELEVE BANCAIRE'!H95","v":93},{"$f":"'RELEVE BANCAIRE'!M95","v":51200004},{"$f":"'RELEVE BANCAIRE'!E95","v":0},{"$f":"'RELEVE BANCAIRE'!D95*-1","v":0},{"$f":"'RELEVE BANCAIRE'!C95","v":0}]
[{"$f":"'RELEVE BANCAIRE'!G96","v":"BQ4"},{"$f":"'RELEVE BANCAIRE'!A96","v":"00:00:00"},{"$f":"'RELEVE BANCAIRE'!H96","v":94},{"$f":"'RELEVE BANCAIRE'!M96","v":51200004},{"$f":"'RELEVE BANCAIRE'!E96","v":0},{"$f":"'RELEVE BANCAIRE'!D96*-1","v":0},{"$f":"'RELEVE BANCAIRE'!C96","v":0}]
[{"$f":"'RELEVE BANCAIRE'!G97","v":"BQ4"},{"$f":"'RELEVE BANCAIRE'!A97","v":"00:00:00"},{"$f":"'RELEVE BANCAIRE'!H97","v":95},{"$f":"'RELEVE BANCAIRE'!M97","v":51200004},{"$f":"'RELEVE BANCAIRE'!E97","v":0},{"$f":"'RELEVE BANCAIRE'!D97*-1","v":0},{"$f":"'RELEVE BANCAIRE'!C97","v":0}]
[{"$f":"'RELEVE BANCAIRE'!G98","v":"BQ4"},{"$f":"'RELEVE BANCAIRE'!A98","v":"00:00:00"},{"$f":"'RELEVE BANCAIRE'!H98","v":96},{"$f":"'RELEVE BANCAIRE'!M98","v":51200004},{"$f":"'RELEVE BANCAIRE'!E98","v":0},{"$f":"'RELEVE BANCAIRE'!D98*-1","v":0},{"$f":"'RELEVE BANCAIRE'!C98","v":0}]
[{"$f":"'RELEVE BANCAIRE'!G99","v":"BQ4"},{"$f":"'RELEVE BANCAIRE'!A99","v":"00:00:00"},{"$f":"'RELEVE BANCAIRE'!H99","v":97},{"$f":"'RELEVE BANCAIRE'!M99","v":51200004},{"$f":"'RELEVE BANCAIRE'!E99","v":0},{"$f":"'RELEVE BANCAIRE'!D99*-1","v":0},{"$f":"'RELEVE BANCAIRE'!C99","v":0}]
[{"$f":"'RELEVE BANCAIRE'!G100","v":"BQ4"},{"$f":"'RELEVE BANCAIRE'!A100","v":"00:00:00"},{"$f":"'RELEVE BANCAIRE'!H100","v":98},{"$f":"'RELEVE BANCAIRE'!M100","v":51200004},{"$f":"'RELEVE BANCAIRE'!E100","v":0},{"$f":"'RELEVE BANCAIRE'!D100*-1","v":0},{"$f":"'RELEVE BANCAIRE'!C100","v":0}]
[{"$f":"'RELEVE BANCAIRE'!G101","v":"BQ4"},{"$f":"'RELEVE BANCAIRE'!A101","v":"00:00:00"},{"$f":"'RELEVE BANCAIRE'!H101","v":99},{"$f":"'RELEVE BANCAIRE'!M101","v":51200004},{"$f":"'RELEVE BANCAIRE'!E101","v":0},{"$f":"'RELEVE BANCAIRE'!D101*-1","v":0},{"$f":"'RELEVE BANCAIRE'!C101","v":0}]
[{"$f":"'RELEVE BANCAIRE'!G102","v":"BQ4"},{"$f":"'RELEVE BANCAIRE'!A102","v":"00:00:00"},{"$f":"'RELEVE BANCAIRE'!H102","v":100},{"$f":"'RELEVE BANCAIRE'!M102","v":51200004},{"$f":"'RELEVE BANCAIRE'!E102","v":0},{"$f":"'RELEVE BANCAIRE'!D102*-1","v":0},{"$f":"'RELEVE BANCAIRE'!C102","v":0}]
[{"$f":"'RELEVE BANCAIRE'!G103","v":"BQ4"},{"$f":"'RELEVE BANCAIRE'!A103","v":"00:00:00"},{"$f":"'RELEVE BANCAIRE'!H103","v":101},{"$f":"'RELEVE BANCAIRE'!M103","v":51200004},{"$f":"'RELEVE BANCAIRE'!E103","v":0},{"$f":"'RELEVE BANCAIRE'!D103*-1","v":0},{"$f":"'RELEVE BANCAIRE'!C103","v":0}]
[{"$f":"'RELEVE BANCAIRE'!G104","v":"BQ4"},{"$f":"'RELEVE BANCAIRE'!A104","v":"00:00:00"},{"$f":"'RELEVE BANCAIRE'!H104","v":102},{"$f":"'RELEVE BANCAIRE'!M104","v":51200004},{"$f":"'RELEVE BANCAIRE'!E104","v":0},{"$f":"'RELEVE BANCAIRE'!D104*-1","v":0},{"$f":"'RELEVE BANCAIRE'!C104","v":0}]
[{"$f":"'RELEVE BANCAIRE'!G105","v":"BQ4"},{"$f":"'RELEVE BANCAIRE'!A105","v":"00:00:00"},{"$f":"'RELEVE BANCAIRE'!H105","v":103},{"$f":"'RELEVE BANCAIRE'!M105","v":51200004},{"$f":"'RELEVE BANCAIRE'!E105","v":0},{"$f":"'RELEVE BANCAIRE'!D105*-1","v":0},{"$f":"'RELEVE BANCAIRE'!C105","v":0}]
[{"$f":"'RELEVE BANCAIRE'!G106","v":"BQ4"},{"$f":"'RELEVE BANCAIRE'!A106","v":"00:00:00"},{"$f":"'RELEVE BANCAIRE'!H106","v":104},{"$f":"'RELEVE BANCAIRE'!M106","v":51200004},{"$f":"'RELEVE BANCAIRE'!E106","v":0},{"$f":"'RELEVE BANCAIRE'!D106*-1","v":0},{"$f":"'RELEVE BANCAIRE'!C106","v":0}]
[{"$f":"'RELEVE BANCAIRE'!G107","v":"BQ4"},{"$f":"'RELEVE BANCAIRE'!A107","v":"00:00:00"},{"$f":"'RELEVE BANCAIRE'!H107","v":105},{"$f":"'RELEVE BANCAIRE'!M107","v":51200004},{"$f":"'RELEVE BANCAIRE'!E107","v":0},{"$f":"'RELEVE BANCAIRE'!D107*-1","v":0},{"$f":"'RELEVE BANCAIRE'!C107","v":0}]
[{"$f":"'RELEVE BANCAIRE'!G108","v":"BQ4"},{"$f":"'RELEVE BANCAIRE'!A108","v":"00:00:00"},{"$f":"'RELEVE BANCAIRE'!H108","v":106},{"$f":"'RELEVE BANCAIRE'!M108","v":51200004},{"$f":"'RELEVE BANCAIRE'!E108","v":0},{"$f":"'RELEVE BANCAIRE'!D108*-1","v":0},{"$f":"'RELEVE BANCAIRE'!C108","v":0}]
[{"$f":"'RELEVE BANCAIRE'!G109","v":"BQ4"},{"$f":"'RELEVE BANCAIRE'!A109","v":"00:00:00"},{"$f":"'RELEVE BANCAIRE'!H109","v":107},{"$f":"'RELEVE BANCAIRE'!M109","v":51200004},{"$f":"'RELEVE BANCAIRE'!E109","v":0},{"$f":"'RELEVE BANCAIRE'!D109*-1","v":0},{"$f":"'RELEVE BANCAIRE'!C109","v":0}]
[{"$f":"'RELEVE BANCAIRE'!G110","v":"BQ4"},{"$f":"'RELEVE BANCAIRE'!A110","v":"00:00:00"},{"$f":"'RELEVE BANCAIRE'!H110","v":108},{"$f":"'RELEVE BANCAIRE'!M110","v":51200004},{"$f":"'RELEVE BANCAIRE'!E110","v":0},{"$f":"'RELEVE BANCAIRE'!D110*-1","v":0},{"$f":"'RELEVE BANCAIRE'!C110","v":0}]
[{"$f":"'RELEVE BANCAIRE'!G111","v":"BQ4"},{"$f":"'RELEVE BANCAIRE'!A111","v":"00:00:00"},{"$f":"'RELEVE BANCAIRE'!H111","v":109},{"$f":"'RELEVE BANCAIRE'!M111","v":51200004},{"$f":"'RELEVE BANCAIRE'!E111","v":0},{"$f":"'RELEVE BANCAIRE'!D111*-1","v":0},{"$f":"'RELEVE BANCAIRE'!C111","v":0}]
[{"$f":"'RELEVE BANCAIRE'!G112","v":"BQ4"},{"$f":"'RELEVE BANCAIRE'!A112","v":"00:00:00"},{"$f":"'RELEVE BANCAIRE'!H112","v":110},{"$f":"'RELEVE BANCAIRE'!M112","v":51200004},{"$f":"'RELEVE BANCAIRE'!E112","v":0},{"$f":"'RELEVE BANCAIRE'!D112*-1","v":0},{"$f":"'RELEVE BANCAIRE'!C112","v":0}]
[{"$f":"'RELEVE BANCAIRE'!G113","v":"BQ4"},{"$f":"'RELEVE BANCAIRE'!A113","v":"00:00:00"},{"$f":"'RELEVE BANCAIRE'!H113","v":111},{"$f":"'RELEVE BANCAIRE'!M113","v":51200004},{"$f":"'RELEVE BANCAIRE'!E113","v":0},{"$f":"'RELEVE BANCAIRE'!D113*-1","v":0},{"$f":"'RELEVE BANCAIRE'!C113","v":0}]
[{"$f":"'RELEVE BANCAIRE'!G114","v":"BQ4"},{"$f":"'RELEVE BANCAIRE'!A114","v":"00:00:00"},{"$f":"'RELEVE BANCAIRE'!H114","v":112},{"$f":"'RELEVE BANCAIRE'!M114","v":51200004},{"$f":"'RELEVE BANCAIRE'!E114","v":0},{"$f":"'RELEVE BANCAIRE'!D114*-1","v":0},{"$f":"'RELEVE BANCAIRE'!C114","v":0}]
[{"$f":"'RELEVE BANCAIRE'!G115","v":"BQ4"},{"$f":"'RELEVE BANCAIRE'!A115","v":"00:00:00"},{"$f":"'RELEVE BANCAIRE'!H115","v":113},{"$f":"'RELEVE BANCAIRE'!M115","v":51200004},{"$f":"'RELEVE BANCAIRE'!E115","v":0},{"$f":"'RELEVE BANCAIRE'!D115*-1","v":0},{"$f":"'RELEVE BANCAIRE'!C115","v":0}]
[{"$f":"'RELEVE BANCAIRE'!G116","v":"BQ4"},{"$f":"'RELEVE BANCAIRE'!A116","v":"00:00:00"},{"$f":"'RELEVE BANCAIRE'!H116","v":114},{"$f":"'RELEVE BANCAIRE'!M116","v":51200004},{"$f":"'RELEVE BANCAIRE'!E116","v":0},{"$f":"'RELEVE BANCAIRE'!D116*-1","v":0},{"$f":"'RELEVE BANCAIRE'!C116","v":0}]
[{"$f":"'RELEVE BANCAIRE'!G117","v":"BQ4"},{"$f":"'RELEVE BANCAIRE'!A117","v":"00:00:00"},{"$f":"'RELEVE BANCAIRE'!H117","v":115},{"$f":"'RELEVE BANCAIRE'!M117","v":51200004},{"$f":"'RELEVE BANCAIRE'!E117","v":0},{"$f":"'RELEVE BANCAIRE'!D117*-1","v":0},{"$f":"'RELEVE BANCAIRE'!C117","v":0}]
[{"$f":"'RELEVE BANCAIRE'!G118","v":"BQ4"},{"$f":"'RELEVE BANCAIRE'!A118","v":"00:00:00"},{"$f":"'RELEVE BANCAIRE'!H118","v":116},{"$f":"'RELEVE BANCAIRE'!M118","v":51200004},{"$f":"'RELEVE BANCAIRE'!E118","v":0},{"$f":"'RELEVE BANCAIRE'!D118*-1","v":0},{"$f":"'RELEVE BANCAIRE'!C118","v":0}]
[{"$f":"'RELEVE BANCAIRE'!G119","v":"BQ4"},{"$f":"'RELEVE BANCAIRE'!A119","v":"00:00:00"},{"$f":"'RELEVE BANCAIRE'!H119","v":117},{"$f":"'RELEVE BANCAIRE'!M119","v":51200004},{"$f":"'RELEVE BANCAIRE'!E119","v":0},{"$f":"'RELEVE BANCAIRE'!D119*-1","v":0},{"$f":"'RELEVE BANCAIRE'!C119","v":0}]
[{"$f":"'RELEVE BANCAIRE'!G120","v":"BQ4"},{"$f":"'RELEVE BANCAIRE'!A120","v":"00:00:00"},{"$f":"'RELEVE BANCAIRE'!H120","v":118},{"$f":"'RELEVE BANCAIRE'!M120","v":51200004},{"$f":"'RELEVE BANCAIRE'!E120","v":0},{"$f":"'RELEVE BANCAIRE'!D120*-1","v":0},{"$f":"'RELEVE BANCAIRE'!C120","v":0}]
[{"$f":"'RELEVE BANCAIRE'!G121","v":"BQ4"},{"$f":"'RELEVE BANCAIRE'!A121","v":"00:00:00"},{"$f":"'RELEVE BANCAIRE'!H121","v":119},{"$f":"'RELEVE BANCAIRE'!M121","v":51200004},{"$f":"'RELEVE BANCAIRE'!E121","v":0},{"$f":"'RELEVE BANCAIRE'!D121*-1","v":0},{"$f":"'RELEVE BANCAIRE'!C121","v":0}]
[{"$f":"'RELEVE BANCAIRE'!G122","v":"BQ4"},{"$f":"'RELEVE BANCAIRE'!A122","v":"00:00:00"},{"$f":"'RELEVE BANCAIRE'!H122","v":120},{"$f":"'RELEVE BANCAIRE'!M122","v":51200004},{"$f":"'RELEVE BANCAIRE'!E122","v":0},{"$f":"'RELEVE BANCAIRE'!D122*-1","v":0},{"$f":"'RELEVE BANCAIRE'!C122","v":0}]
[{"$f":"'RELEVE BANCAIRE'!G123","v":"BQ4"},{"$f":"'RELEVE BANCAIRE'!A123","v":"00:00:00"},{"$f":"'RELEVE BANCAIRE'!H123","v":121},{"$f":"'RELEVE BANCAIRE'!M123","v":51200004},{"$f":"'RELEVE BANCAIRE'!E123","v":0},{"$f":"'RELEVE BANCAIRE'!D123*-1","v":0},{"$f":"'RELEVE BANCAIRE'!C123","v":0}]
[{"$f":"'RELEVE BANCAIRE'!G124","v":"BQ4"},{"$f":"'RELEVE BANCAIRE'!A124","v":"00:00:00"},{"$f":"'RELEVE BANCAIRE'!H124","v":122},{"$f":"'RELEVE BANCAIRE'!M124","v":51200004},{"$f":"'RELEVE BANCAIRE'!E124","v":0},{"$f":"'RELEVE BANCAIRE'!D124*-1","v":0},{"$f":"'RELEVE BANCAIRE'!C124","v":0}]
[{"$f":"'RELEVE BANCAIRE'!G125","v":"BQ4"},{"$f":"'RELEVE BANCAIRE'!A125","v":"00:00:00"},{"$f":"'RELEVE BANCAIRE'!H125","v":123},{"$f":"'RELEVE BANCAIRE'!M125","v":51200004},{"$f":"'RELEVE BANCAIRE'!E125","v":0},{"$f":"'RELEVE BANCAIRE'!D125*-1","v":0},{"$f":"'RELEVE BANCAIRE'!C125","v":0}]
[{"$f":"'RELEVE BANCAIRE'!G126","v":"BQ4"},{"$f":"'RELEVE BANCAIRE'!A126","v":"00:00:00"},{"$f":"'RELEVE BANCAIRE'!H126","v":124},{"$f":"'RELEVE BANCAIRE'!M126","v":51200004},{"$f":"'RELEVE BANCAIRE'!E126","v":0},{"$f":"'RELEVE BANCAIRE'!D126*-1","v":0},{"$f":"'RELEVE BANCAIRE'!C126","v":0}]
[{"$f":"'RELEVE BANCAIRE'!G127","v":"BQ4"},{"$f":"'RELEVE BANCAIRE'!A127","v":"00:00:00"},{"$f":"'RELEVE BANCAIRE'!H127","v":125},{"$f":"'RELEVE BANCAIRE'!M127","v":51200004},{"$f":"'RELEVE BANCAIRE'!E127","v":0},{"$f":"'RELEVE BANCAIRE'!D127*-1","v":0},{"$f":"'RELEVE BANCAIRE'!C127","v":0}]
[{"$f":"'RELEVE BANCAIRE'!G128","v":"BQ4"},{"$f":"'RELEVE BANCAIRE'!A128","v":"00:00:00"},{"$f":"'RELEVE BANCAIRE'!H128","v":126},{"$f":"'RELEVE BANCAIRE'!M128","v":51200004},{"$f":"'RELEVE BANCAIRE'!E128","v":0},{"$f":"'RELEVE BANCAIRE'!D128*-1","v":0},{"$f":"'RELEVE BANCAIRE'!C128","v":0}]
[{"$f":"'RELEVE BANCAIRE'!G129","v":"BQ4"},{"$f":"'RELEVE BANCAIRE'!A129","v":"00:00:00"},{"$f":"'RELEVE BANCAIRE'!H129","v":127},{"$f":"'RELEVE BANCAIRE'!M129","v":51200004},{"$f":"'RELEVE BANCAIRE'!E129","v":0},{"$f":"'RELEVE BANCAIRE'!D129*-1","v":0},{"$f":"'RELEVE BANCAIRE'!C129","v":0}]
[{"$f":"'RELEVE BANCAIRE'!G130","v":"BQ4"},{"$f":"'RELEVE BANCAIRE'!A130","v":"00:00:00"},{"$f":"'RELEVE BANCAIRE'!H130","v":128},{"$f":"'RELEVE BANCAIRE'!M130","v":51200004},{"$f":"'RELEVE BANCAIRE'!E130","v":0},{"$f":"'RELEVE BANCAIRE'!D130*-1","v":0},{"$f":"'RELEVE BANCAIRE'!C130","v":0}]
[{"$f":"'RELEVE BANCAIRE'!G131","v":"BQ4"},{"$f":"'RELEVE BANCAIRE'!A131","v":"00:00:00"},{"$f":"'RELEVE BANCAIRE'!H131","v":129},{"$f":"'RELEVE BANCAIRE'!M131","v":51200004},{"$f":"'RELEVE BANCAIRE'!E131","v":0},{"$f":"'RELEVE BANCAIRE'!D131*-1","v":0},{"$f":"'RELEVE BANCAIRE'!C131","v":0}]
[{"$f":"'RELEVE BANCAIRE'!G132","v":"BQ4"},{"$f":"'RELEVE BANCAIRE'!A132","v":"00:00:00"},{"$f":"'RELEVE BANCAIRE'!H132","v":130},{"$f":"'RELEVE BANCAIRE'!M132","v":51200004},{"$f":"'RELEVE BANCAIRE'!E132","v":0},{"$f":"'RELEVE BANCAIRE'!D132*-1","v":0},{"$f":"'RELEVE BANCAIRE'!C132","v":0}]
[{"$f":"'RELEVE BANCAIRE'!G133","v":"BQ4"},{"$f":"'RELEVE BANCAIRE'!A133","v":"00:00:00"},{"$f":"'RELEVE BANCAIRE'!H133","v":131},{"$f":"'RELEVE BANCAIRE'!M133","v":51200004},{"$f":"'RELEVE BANCAIRE'!E133","v":0},{"$f":"'RELEVE BANCAIRE'!D133*-1","v":0},{"$f":"'RELEVE BANCAIRE'!C133","v":0}]
[{"$f":"'RELEVE BANCAIRE'!G134","v":"BQ4"},{"$f":"'RELEVE BANCAIRE'!A134","v":"00:00:00"},{"$f":"'RELEVE BANCAIRE'!H134","v":132},{"$f":"'RELEVE BANCAIRE'!M134","v":51200004},{"$f":"'RELEVE BANCAIRE'!E134","v":0},{"$f":"'RELEVE BANCAIRE'!D134*-1","v":0},{"$f":"'RELEVE BANCAIRE'!C134","v":0}]
[{"$f":"'RELEVE BANCAIRE'!G135","v":"BQ4"},{"$f":"'RELEVE BANCAIRE'!A135","v":"00:00:00"},{"$f":"'RELEVE BANCAIRE'!H135","v":133},{"$f":"'RELEVE BANCAIRE'!M135","v":51200004},{"$f":"'RELEVE BANCAIRE'!E135","v":0},{"$f":"'RELEVE BANCAIRE'!D135*-1","v":0},{"$f":"'RELEVE BANCAIRE'!C135","v":0}]
[{"$f":"'RELEVE BANCAIRE'!G136","v":"BQ4"},{"$f":"'RELEVE BANCAIRE'!A136","v":"00:00:00"},{"$f":"'RELEVE BANCAIRE'!H136","v":134},{"$f":"'RELEVE BANCAIRE'!M136","v":51200004},{"$f":"'RELEVE BANCAIRE'!E136","v":0},{"$f":"'RELEVE BANCAIRE'!D136*-1","v":0},{"$f":"'RELEVE BANCAIRE'!C136","v":0}]
[{"$f":"'RELEVE BANCAIRE'!G137","v":"BQ4"},{"$f":"'RELEVE BANCAIRE'!A137","v":"00:00:00"},{"$f":"'RELEVE BANCAIRE'!H137","v":135},{"$f":"'RELEVE BANCAIRE'!M137","v":51200004},{"$f":"'RELEVE BANCAIRE'!E137","v":0},{"$f":"'RELEVE BANCAIRE'!D137*-1","v":0},{"$f":"'RELEVE BANCAIRE'!C137","v":0}]
[{"$f":"'RELEVE BANCAIRE'!G138","v":"BQ4"},{"$f":"'RELEVE BANCAIRE'!A138","v":"00:00:00"},{"$f":"'RELEVE BANCAIRE'!H138","v":136},{"$f":"'RELEVE BANCAIRE'!M138","v":51200004},{"$f":"'RELEVE BANCAIRE'!E138","v":0},{"$f":"'RELEVE BANCAIRE'!D138*-1","v":0},{"$f":"'RELEVE BANCAIRE'!C138","v":0}]
[{"$f":"'RELEVE BANCAIRE'!G139","v":"BQ4"},{"$f":"'RELEVE BANCAIRE'!A139","v":"00:00:00"},{"$f":"'RELEVE BANCAIRE'!H139","v":137},{"$f":"'RELEVE BANCAIRE'!M139","v":51200004},{"$f":"'RELEVE BANCAIRE'!E139","v":0},{"$f":"'RELEVE BANCAIRE'!D139*-1","v":0},{"$f":"'RELEVE BANCAIRE'!C139","v":0}]
[{"$f":"'RELEVE BANCAIRE'!G140","v":"BQ4"},{"$f":"'RELEVE BANCAIRE'!A140","v":"00:00:00"},{"$f":"'RELEVE BANCAIRE'!H140","v":138},{"$f":"'RELEVE BANCAIRE'!M140","v":51200004},{"$f":"'RELEVE BANCAIRE'!E140","v":0},{"$f":"'RELEVE BANCAIRE'!D140*-1","v":0},{"$f":"'RELEVE BANCAIRE'!C140","v":0}]
[{"$f":"'RELEVE BANCAIRE'!G141","v":"BQ4"},{"$f":"'RELEVE BANCAIRE'!A141","v":"00:00:00"},{"$f":"'RELEVE BANCAIRE'!H141","v":139},{"$f":"'RELEVE BANCAIRE'!M141","v":51200004},{"$f":"'RELEVE BANCAIRE'!E141","v":0},{"$f":"'RELEVE BANCAIRE'!D141*-1","v":0},{"$f":"'RELEVE BANCAIRE'!C141","v":0}]
[{"$f":"'RELEVE BANCAIRE'!G142","v":"BQ4"},{"$f":"'RELEVE BANCAIRE'!A142","v":"00:00:00"},{"$f":"'RELEVE BANCAIRE'!H142","v":140},{"$f":"'RELEVE BANCAIRE'!M142","v":51200004},{"$f":"'RELEVE BANCAIRE'!E142","v":0},{"$f":"'RELEVE BANCAIRE'!D142*-1","v":0},{"$f":"'RELEVE BANCAIRE'!C142","v":0}]
[{"$f":"'RELEVE BANCAIRE'!G143","v":"BQ4"},{"$f":"'RELEVE BANCAIRE'!A143","v":"00:00:00"},{"$f":"'RELEVE BANCAIRE'!H143","v":141},{"$f":"'RELEVE BANCAIRE'!M143","v":51200004},{"$f":"'RELEVE BANCAIRE'!E143","v":0},{"$f":"'RELEVE BANCAIRE'!D143*-1","v":0},{"$f":"'RELEVE BANCAIRE'!C143","v":0}]
[{"$f":"'RELEVE BANCAIRE'!G144","v":"BQ4"},{"$f":"'RELEVE BANCAIRE'!A144","v":"00:00:00"},{"$f":"'RELEVE BANCAIRE'!H144","v":142},{"$f":"'RELEVE BANCAIRE'!M144","v":51200004},{"$f":"'RELEVE BANCAIRE'!E144","v":0},{"$f":"'RELEVE BANCAIRE'!D144*-1","v":0},{"$f":"'RELEVE BANCAIRE'!C144","v":0}]
[{"$f":"'RELEVE BANCAIRE'!G145","v":"BQ4"},{"$f":"'RELEVE BANCAIRE'!A145","v":"00:00:00"},{"$f":"'RELEVE BANCAIRE'!H145","v":143},{"$f":"'RELEVE BANCAIRE'!M145","v":51200004},{"$f":"'RELEVE BANCAIRE'!E145","v":0},{"$f":"'RELEVE BANCAIRE'!D145*-1","v":0},{"$f":"'RELEVE BANCAIRE'!C145","v":0}]
[{"$f":"'RELEVE BANCAIRE'!G146","v":"BQ4"},{"$f":"'RELEVE BANCAIRE'!A146","v":"00:00:00"},{"$f":"'RELEVE BANCAIRE'!H146","v":144},{"$f":"'RELEVE BANCAIRE'!M146","v":51200004},{"$f":"'RELEVE BANCAIRE'!E146","v":0},{"$f":"'RELEVE BANCAIRE'!D146*-1","v":0},{"$f":"'RELEVE BANCAIRE'!C146","v":0}]
[{"$f":"'RELEVE BANCAIRE'!G147","v":"BQ4"},{"$f":"'RELEVE BANCAIRE'!A147","v":"00:00:00"},{"$f":"'RELEVE BANCAIRE'!H147","v":145},{"$f":"'RELEVE BANCAIRE'!M147","v":51200004},{"$f":"'RELEVE BANCAIRE'!E147","v":0},{"$f":"'RELEVE BANCAIRE'!D147*-1","v":0},{"$f":"'RELEVE BANCAIRE'!C147","v":0}]
[{"$f":"'RELEVE BANCAIRE'!G148","v":"BQ4"},{"$f":"'RELEVE BANCAIRE'!A148","v":"00:00:00"},{"$f":"'RELEVE BANCAIRE'!H148","v":146},{"$f":"'RELEVE BANCAIRE'!M148","v":51200004},{"$f":"'RELEVE BANCAIRE'!E148","v":0},{"$f":"'RELEVE BANCAIRE'!D148*-1","v":0},{"$f":"'RELEVE BANCAIRE'!C148","v":0}]
[{"$f":"'RELEVE BANCAIRE'!G149","v":"BQ4"},{"$f":"'RELEVE BANCAIRE'!A149","v":"00:00:00"},{"$f":"'RELEVE BANCAIRE'!H149","v":147},{"$f":"'RELEVE BANCAIRE'!M149","v":51200004},{"$f":"'RELEVE BANCAIRE'!E149","v":0},{"$f":"'RELEVE BANCAIRE'!D149*-1","v":0},{"$f":"'RELEVE BANCAIRE'!C149","v":0}]
[{"$f":"'RELEVE BANCAIRE'!G150","v":"BQ4"},{"$f":"'RELEVE BANCAIRE'!A150","v":"00:00:00"},{"$f":"'RELEVE BANCAIRE'!H150","v":148},{"$f":"'RELEVE BANCAIRE'!M150","v":51200004},{"$f":"'RELEVE BANCAIRE'!E150","v":0},{"$f":"'RELEVE BANCAIRE'!D150*-1","v":0},{"$f":"'RELEVE BANCAIRE'!C150","v":0}]
[{"$f":"'RELEVE BANCAIRE'!G151","v":"BQ4"},{"$f":"'RELEVE BANCAIRE'!A151","v":"00:00:00"},{"$f":"'RELEVE BANCAIRE'!H151","v":149},{"$f":"'RELEVE BANCAIRE'!M151","v":51200004},{"$f":"'RELEVE BANCAIRE'!E151","v":0},{"$f":"'RELEVE BANCAIRE'!D151*-1","v":0},{"$f":"'RELEVE BANCAIRE'!C151","v":0}]
[{"$f":"'RELEVE BANCAIRE'!G152","v":"BQ4"},{"$f":"'RELEVE BANCAIRE'!A152","v":"00:00:00"},{"$f":"'RELEVE BANCAIRE'!H152","v":150},{"$f":"'RELEVE BANCAIRE'!M152","v":51200004},{"$f":"'RELEVE BANCAIRE'!E152","v":0},{"$f":"'RELEVE BANCAIRE'!D152*-1","v":0},{"$f":"'RELEVE BANCAIRE'!C152","v":0}]
[{"$f":"'RELEVE BANCAIRE'!G153","v":"BQ4"},{"$f":"'RELEVE BANCAIRE'!A153","v":"00:00:00"},{"$f":"'RELEVE BANCAIRE'!H153","v":151},{"$f":"'RELEVE BANCAIRE'!M153","v":51200004},{"$f":"'RELEVE BANCAIRE'!E153","v":0},{"$f":"'RELEVE BANCAIRE'!D153*-1","v":0},{"$f":"'RELEVE BANCAIRE'!C153","v":0}]
[{"$f":"'RELEVE BANCAIRE'!G154","v":"BQ4"},{"$f":"'RELEVE BANCAIRE'!A154","v":"00:00:00"},{"$f":"'RELEVE BANCAIRE'!H154","v":152},{"$f":"'RELEVE BANCAIRE'!M154","v":51200004},{"$f":"'RELEVE BANCAIRE'!E154","v":0},{"$f":"'RELEVE BANCAIRE'!D154*-1","v":0},{"$f":"'RELEVE BANCAIRE'!C154","v":0}]
[{"$f":"'RELEVE BANCAIRE'!G155","v":"BQ4"},{"$f":"'RELEVE BANCAIRE'!A155","v":"00:00:00"},{"$f":"'RELEVE BANCAIRE'!H155","v":153},{"$f":"'RELEVE BANCAIRE'!M155","v":51200004},{"$f":"'RELEVE BANCAIRE'!E155","v":0},{"$f":"'RELEVE BANCAIRE'!D155*-1","v":0},{"$f":"'RELEVE BANCAIRE'!C155","v":0}]
[{"$f":"'RELEVE BANCAIRE'!G156","v":"BQ4"},{"$f":"'RELEVE BANCAIRE'!A156","v":"00:00:00"},{"$f":"'RELEVE BANCAIRE'!H156","v":154},{"$f":"'RELEVE BANCAIRE'!M156","v":51200004},{"$f":"'RELEVE BANCAIRE'!E156","v":0},{"$f":"'RELEVE BANCAIRE'!D156*-1","v":0},{"$f":"'RELEVE BANCAIRE'!C156","v":0}]
[{"$f":"'RELEVE BANCAIRE'!G157","v":"BQ4"},{"$f":"'RELEVE BANCAIRE'!A157","v":"00:00:00"},{"$f":"'RELEVE BANCAIRE'!H157","v":155},{"$f":"'RELEVE BANCAIRE'!M157","v":51200004},{"$f":"'RELEVE BANCAIRE'!E157","v":0},{"$f":"'RELEVE BANCAIRE'!D157*-1","v":0},{"$f":"'RELEVE BANCAIRE'!C157","v":0}]
[{"$f":"'RELEVE BANCAIRE'!G158","v":"BQ4"},{"$f":"'RELEVE BANCAIRE'!A158","v":"00:00:00"},{"$f":"'RELEVE BANCAIRE'!H158","v":156},{"$f":"'RELEVE BANCAIRE'!M158","v":51200004},{"$f":"'RELEVE BANCAIRE'!E158","v":0},{"$f":"'RELEVE BANCAIRE'!D158*-1","v":0},{"$f":"'RELEVE BANCAIRE'!C158","v":0}]
[{"$f":"'RELEVE BANCAIRE'!G159","v":"BQ4"},{"$f":"'RELEVE BANCAIRE'!A159","v":"00:00:00"},{"$f":"'RELEVE BANCAIRE'!H159","v":157},{"$f":"'RELEVE BANCAIRE'!M159","v":51200004},{"$f":"'RELEVE BANCAIRE'!E159","v":0},{"$f":"'RELEVE BANCAIRE'!D159*-1","v":0},{"$f":"'RELEVE BANCAIRE'!C159","v":0}]
[{"$f":"'RELEVE BANCAIRE'!G160","v":"BQ4"},{"$f":"'RELEVE BANCAIRE'!A160","v":"00:00:00"},{"$f":"'RELEVE BANCAIRE'!H160","v":158},{"$f":"'RELEVE BANCAIRE'!M160","v":51200004},{"$f":"'RELEVE BANCAIRE'!E160","v":0},{"$f":"'RELEVE BANCAIRE'!D160*-1","v":0},{"$f":"'RELEVE BANCAIRE'!C160","v":0}]
[{"$f":"'RELEVE BANCAIRE'!G161","v":"BQ4"},{"$f":"'RELEVE BANCAIRE'!A161","v":"00:00:00"},{"$f":"'RELEVE BANCAIRE'!H161","v":159},{"$f":"'RELEVE BANCAIRE'!M161","v":51200004},{"$f":"'RELEVE BANCAIRE'!E161","v":0},{"$f":"'RELEVE BANCAIRE'!D161*-1","v":0},{"$f":"'RELEVE BANCAIRE'!C161","v":0}]
[{"$f":"'RELEVE BANCAIRE'!G162","v":"BQ4"},{"$f":"'RELEVE BANCAIRE'!A162","v":"00:00:00"},{"$f":"'RELEVE BANCAIRE'!H162","v":160},{"$f":"'RELEVE BANCAIRE'!M162","v":51200004},{"$f":"'RELEVE BANCAIRE'!E162","v":0},{"$f":"'RELEVE BANCAIRE'!D162*-1","v":0},{"$f":"'RELEVE BANCAIRE'!C162","v":0}]
[{"$f":"'RELEVE BANCAIRE'!G163","v":"BQ4"},{"$f":"'RELEVE BANCAIRE'!A163","v":"00:00:00"},{"$f":"'RELEVE BANCAIRE'!H163","v":161},{"$f":"'RELEVE BANCAIRE'!M163","v":51200004},{"$f":"'RELEVE BANCAIRE'!E163","v":0},{"$f":"'RELEVE BANCAIRE'!D163*-1","v":0},{"$f":"'RELEVE BANCAIRE'!C163","v":0}]
[{"$f":"'RELEVE BANCAIRE'!G164","v":"BQ4"},{"$f":"'RELEVE BANCAIRE'!A164","v":"00:00:00"},{"$f":"'RELEVE BANCAIRE'!H164","v":162},{"$f":"'RELEVE BANCAIRE'!M164","v":51200004},{"$f":"'RELEVE BANCAIRE'!E164","v":0},{"$f":"'RELEVE BANCAIRE'!D164*-1","v":0},{"$f":"'RELEVE BANCAIRE'!C164","v":0}]
[{"$f":"'RELEVE BANCAIRE'!G165","v":"BQ4"},{"$f":"'RELEVE BANCAIRE'!A165","v":"00:00:00"},{"$f":"'RELEVE BANCAIRE'!H165","v":163},{"$f":"'RELEVE BANCAIRE'!M165","v":51200004},{"$f":"'RELEVE BANCAIRE'!E165","v":0},{"$f":"'RELEVE BANCAIRE'!D165*-1","v":0},{"$f":"'RELEVE BANCAIRE'!C165","v":0}]
[{"$f":"'RELEVE BANCAIRE'!G166","v":"BQ4"},{"$f":"'RELEVE BANCAIRE'!A166","v":"00:00:00"},{"$f":"'RELEVE BANCAIRE'!H166","v":164},{"$f":"'RELEVE BANCAIRE'!M166","v":51200004},{"$f":"'RELEVE BANCAIRE'!E166","v":0},{"$f":"'RELEVE BANCAIRE'!D166*-1","v":0},{"$f":"'RELEVE BANCAIRE'!C166","v":0}]
[{"$f":"'RELEVE BANCAIRE'!G167","v":"BQ4"},{"$f":"'RELEVE BANCAIRE'!A167","v":"00:00:00"},{"$f":"'RELEVE BANCAIRE'!H167","v":165},{"$f":"'RELEVE BANCAIRE'!M167","v":51200004},{"$f":"'RELEVE BANCAIRE'!E167","v":0},{"$f":"'RELEVE BANCAIRE'!D167*-1","v":0},{"$f":"'RELEVE BANCAIRE'!C167","v":0}]
[{"$f":"'RELEVE BANCAIRE'!G168","v":"BQ4"},{"$f":"'RELEVE BANCAIRE'!A168","v":"00:00:00"},{"$f":"'RELEVE BANCAIRE'!H168","v":166},{"$f":"'RELEVE BANCAIRE'!M168","v":51200004},{"$f":"'RELEVE BANCAIRE'!E168","v":0},{"$f":"'RELEVE BANCAIRE'!D168*-1","v":0},{"$f":"'RELEVE BANCAIRE'!C168","v":0}]
[{"$f":"'RELEVE BANCAIRE'!G169","v":"BQ4"},{"$f":"'RELEVE BANCAIRE'!A169","v":"00:00:00"},{"$f":"'RELEVE BANCAIRE'!H169","v":167},{"$f":"'RELEVE BANCAIRE'!M169","v":51200004},{"$f":"'RELEVE BANCAIRE'!E169","v":0},{"$f":"'RELEVE BANCAIRE'!D169*-1","v":0},{"$f":"'RELEVE BANCAIRE'!C169","v":0}]
[{"$f":"'RELEVE BANCAIRE'!G170","v":"BQ4"},{"$f":"'RELEVE BANCAIRE'!A170","v":"00:00:00"},{"$f":"'RELEVE BANCAIRE'!H170","v":168},{"$f":"'RELEVE BANCAIRE'!M170","v":51200004},{"$f":"'RELEVE BANCAIRE'!E170","v":0},{"$f":"'RELEVE BANCAIRE'!D170*-1","v":0},{"$f":"'RELEVE BANCAIRE'!C170","v":0}]
[{"$f":"'RELEVE BANCAIRE'!G171","v":"BQ4"},{"$f":"'RELEVE BANCAIRE'!A171","v":"00:00:00"},{"$f":"'RELEVE BANCAIRE'!H171","v":169},{"$f":"'RELEVE BANCAIRE'!M171","v":51200004},{"$f":"'RELEVE BANCAIRE'!E171","v":0},{"$f":"'RELEVE BANCAIRE'!D171*-1","v":0},{"$f":"'RELEVE BANCAIRE'!C171","v":0}]
[{"$f":"'RELEVE BANCAIRE'!G172","v":"BQ4"},{"$f":"'RELEVE BANCAIRE'!A172","v":"00:00:00"},{"$f":"'RELEVE BANCAIRE'!H172","v":170},{"$f":"'RELEVE BANCAIRE'!M172","v":51200004},{"$f":"'RELEVE BANCAIRE'!E172","v":0},{"$f":"'RELEVE BANCAIRE'!D172*-1","v":0},{"$f":"'RELEVE BANCAIRE'!C172","v":0}]
[{"$f":"'RELEVE BANCAIRE'!G173","v":"BQ4"},{"$f":"'RELEVE BANCAIRE'!A173","v":"00:00:00"},{"$f":"'RELEVE BANCAIRE'!H173","v":171},{"$f":"'RELEVE BANCAIRE'!M173","v":51200004},{"$f":"'RELEVE BANCAIRE'!E173","v":{"v":0,"d":"0.00 €"}},{"$f":"'RELEVE BANCAIRE'!D173*-1","v":0},{"$f":"'RELEVE BANCAIRE'!C173","v":0}]
[{"$f":"'RELEVE BANCAIRE'!G174","v":"BQ4"},{"$f":"'RELEVE BANCAIRE'!A174","v":"00:00:00"},{"$f":"'RELEVE BANCAIRE'!H174","v":172},{"$f":"'RELEVE BANCAIRE'!M174","v":51200004},{"$f":"'RELEVE BANCAIRE'!E174","v":0},{"$f":"'RELEVE BANCAIRE'!D174*-1","v":0},{"$f":"'RELEVE BANCAIRE'!C174","v":0}]
[{"$f":"'RELEVE BANCAIRE'!G175","v":"BQ4"},{"$f":"'RELEVE BANCAIRE'!A175","v":"00:00:00"},{"$f":"'RELEVE BANCAIRE'!H175","v":173},{"$f":"'RELEVE BANCAIRE'!M175","v":51200004},{"$f":"'RELEVE BANCAIRE'!E175","v":0},{"$f":"'RELEVE BANCAIRE'!D175*-1","v":0},{"$f":"'RELEVE BANCAIRE'!C175","v":0}]
[{"$f":"'RELEVE BANCAIRE'!G176","v":"BQ4"},{"$f":"'RELEVE BANCAIRE'!A176","v":"00:00:00"},{"$f":"'RELEVE BANCAIRE'!H176","v":174},{"$f":"'RELEVE BANCAIRE'!M176","v":51200004},{"$f":"'RELEVE BANCAIRE'!E176","v":{"v":0,"d":"0.00 €"}},{"$f":"'RELEVE BANCAIRE'!D176*-1","v":0},{"$f":"'RELEVE BANCAIRE'!C176","v":0}]
[{"$f":"'RELEVE BANCAIRE'!G177","v":"BQ4"},{"$f":"'RELEVE BANCAIRE'!A177","v":"00:00:00"},{"$f":"'RELEVE BANCAIRE'!H177","v":175},{"$f":"'RELEVE BANCAIRE'!M177","v":51200004},{"$f":"'RELEVE BANCAIRE'!E177","v":{"v":0,"d":"0.00 €"}},{"$f":"'RELEVE BANCAIRE'!D177*-1","v":0},{"$f":"'RELEVE BANCAIRE'!C177","v":0}]
[{"$f":"'RELEVE BANCAIRE'!G178","v":"BQ4"},{"$f":"'RELEVE BANCAIRE'!A178","v":"00:00:00"},{"$f":"'RELEVE BANCAIRE'!H178","v":176},{"$f":"'RELEVE BANCAIRE'!M178","v":51200004},{"$f":"'RELEVE BANCAIRE'!E178","v":{"v":0,"d":"0.00 €"}},{"$f":"'RELEVE BANCAIRE'!D178*-1","v":0},{"$f":"'RELEVE BANCAIRE'!C178","v":0}]
[{"$f":"'RELEVE BANCAIRE'!G179","v":"BQ4"},{"$f":"'RELEVE BANCAIRE'!A179","v":"00:00:00"},{"$f":"'RELEVE BANCAIRE'!H179","v":177},{"$f":"'RELEVE BANCAIRE'!M179","v":51200004},{"$f":"'RELEVE BANCAIRE'!E179","v":0},{"$f":"'RELEVE BANCAIRE'!D179*-1","v":0},{"$f":"'RELEVE BANCAIRE'!C179","v":0}]
[{"$f":"'RELEVE BANCAIRE'!G180","v":"BQ4"},{"$f":"'RELEVE BANCAIRE'!A180","v":"00:00:00"},{"$f":"'RELEVE BANCAIRE'!H180","v":178},{"$f":"'RELEVE BANCAIRE'!M180","v":51200004},{"$f":"'RELEVE BANCAIRE'!E180","v":0},{"$f":"'RELEVE BANCAIRE'!D180*-1","v":0},{"$f":"'RELEVE BANCAIRE'!C180","v":0}]
[{"$f":"'RELEVE BANCAIRE'!G181","v":"BQ4"},{"$f":"'RELEVE BANCAIRE'!A181","v":"00:00:00"},{"$f":"'RELEVE BANCAIRE'!H181","v":179},{"$f":"'RELEVE BANCAIRE'!M181","v":51200004},{"$f":"'RELEVE BANCAIRE'!E181","v":0},{"$f":"'RELEVE BANCAIRE'!D181*-1","v":0},{"$f":"'RELEVE BANCAIRE'!C181","v":0}]
[{"$f":"'RELEVE BANCAIRE'!G182","v":"BQ4"},{"$f":"'RELEVE BANCAIRE'!A182","v":"00:00:00"},{"$f":"'RELEVE BANCAIRE'!H182","v":180},{"$f":"'RELEVE BANCAIRE'!M182","v":51200004},{"$f":"'RELEVE BANCAIRE'!E182","v":0},{"$f":"'RELEVE BANCAIRE'!D182*-1","v":0},{"$f":"'RELEVE BANCAIRE'!C182","v":0}]
[{"$f":"'RELEVE BANCAIRE'!G183","v":"BQ4"},{"$f":"'RELEVE BANCAIRE'!A183","v":"00:00:00"},{"$f":"'RELEVE BANCAIRE'!H183","v":181},{"$f":"'RELEVE BANCAIRE'!M183","v":51200004},{"$f":"'RELEVE BANCAIRE'!E183","v":0},{"$f":"'RELEVE BANCAIRE'!D183*-1","v":0},{"$f":"'RELEVE BANCAIRE'!C183","v":0}]
[{"$f":"'RELEVE BANCAIRE'!G184","v":"BQ4"},{"$f":"'RELEVE BANCAIRE'!A184","v":"00:00:00"},{"$f":"'RELEVE BANCAIRE'!H184","v":182},{"$f":"'RELEVE BANCAIRE'!M184","v":51200004},{"$f":"'RELEVE BANCAIRE'!E184","v":0},{"$f":"'RELEVE BANCAIRE'!D184*-1","v":0},{"$f":"'RELEVE BANCAIRE'!C184","v":0}]
[{"$f":"'RELEVE BANCAIRE'!G185","v":"BQ4"},{"$f":"'RELEVE BANCAIRE'!A185","v":"00:00:00"},{"$f":"'RELEVE BANCAIRE'!H185","v":183},{"$f":"'RELEVE BANCAIRE'!M185","v":51200004},{"$f":"'RELEVE BANCAIRE'!E185","v":0},{"$f":"'RELEVE BANCAIRE'!D185*-1","v":0},{"$f":"'RELEVE BANCAIRE'!C185","v":0}]
[{"$f":"'RELEVE BANCAIRE'!G186","v":"BQ4"},{"$f":"'RELEVE BANCAIRE'!A186","v":"00:00:00"},{"$f":"'RELEVE BANCAIRE'!H186","v":184},{"$f":"'RELEVE BANCAIRE'!M186","v":51200004},{"$f":"'RELEVE BANCAIRE'!E186","v":0},{"$f":"'RELEVE BANCAIRE'!D186*-1","v":0},{"$f":"'RELEVE BANCAIRE'!C186","v":0}]
[{"$f":"'RELEVE BANCAIRE'!G187","v":"BQ4"},{"$f":"'RELEVE BANCAIRE'!A187","v":"00:00:00"},{"$f":"'RELEVE BANCAIRE'!H187","v":185},{"$f":"'RELEVE BANCAIRE'!M187","v":51200004},{"$f":"'RELEVE BANCAIRE'!E187","v":0},{"$f":"'RELEVE BANCAIRE'!D187*-1","v":0},{"$f":"'RELEVE BANCAIRE'!C187","v":0}]
[{"$f":"'RELEVE BANCAIRE'!G188","v":"BQ4"},{"$f":"'RELEVE BANCAIRE'!A188","v":"00:00:00"},{"$f":"'RELEVE BANCAIRE'!H188","v":186},{"$f":"'RELEVE BANCAIRE'!M188","v":51200004},{"$f":"'RELEVE BANCAIRE'!E188","v":0},{"$f":"'RELEVE BANCAIRE'!D188*-1","v":0},{"$f":"'RELEVE BANCAIRE'!C188","v":0}]
[{"$f":"'RELEVE BANCAIRE'!G189","v":"BQ4"},{"$f":"'RELEVE BANCAIRE'!A189","v":"00:00:00"},{"$f":"'RELEVE BANCAIRE'!H189","v":187},{"$f":"'RELEVE BANCAIRE'!M189","v":51200004},{"$f":"'RELEVE BANCAIRE'!E189","v":0},{"$f":"'RELEVE BANCAIRE'!D189*-1","v":0},{"$f":"'RELEVE BANCAIRE'!C189","v":0}]
[{"$f":"'RELEVE BANCAIRE'!G190","v":"BQ4"},{"$f":"'RELEVE BANCAIRE'!A190","v":"00:00:00"},{"$f":"'RELEVE BANCAIRE'!H190","v":188},{"$f":"'RELEVE BANCAIRE'!M190","v":51200004},{"$f":"'RELEVE BANCAIRE'!E190","v":0},{"$f":"'RELEVE BANCAIRE'!D190*-1","v":0},{"$f":"'RELEVE BANCAIRE'!C190","v":0}]
[{"$f":"'RELEVE BANCAIRE'!G191","v":"BQ4"},{"$f":"'RELEVE BANCAIRE'!A191","v":"00:00:00"},{"$f":"'RELEVE BANCAIRE'!H191","v":189},{"$f":"'RELEVE BANCAIRE'!M191","v":51200004},{"$f":"'RELEVE BANCAIRE'!E191","v":0},{"$f":"'RELEVE BANCAIRE'!D191*-1","v":0},{"$f":"'RELEVE BANCAIRE'!C191","v":0}]
[{"$f":"'RELEVE BANCAIRE'!G192","v":"BQ4"},{"$f":"'RELEVE BANCAIRE'!A192","v":"00:00:00"},{"$f":"'RELEVE BANCAIRE'!H192","v":190},{"$f":"'RELEVE BANCAIRE'!M192","v":51200004},{"$f":"'RELEVE BANCAIRE'!E192","v":0},{"$f":"'RELEVE BANCAIRE'!D192*-1","v":0},{"$f":"'RELEVE BANCAIRE'!C192","v":0}]
[{"$f":"'RELEVE BANCAIRE'!G193","v":"BQ4"},{"$f":"'RELEVE BANCAIRE'!A193","v":"00:00:00"},{"$f":"'RELEVE BANCAIRE'!H193","v":191},{"$f":"'RELEVE BANCAIRE'!M193","v":51200004},{"$f":"'RELEVE BANCAIRE'!E193","v":0},{"$f":"'RELEVE BANCAIRE'!D193*-1","v":0},{"$f":"'RELEVE BANCAIRE'!C193","v":0}]
[{"$f":"'RELEVE BANCAIRE'!G194","v":"BQ4"},{"$f":"'RELEVE BANCAIRE'!A194","v":"00:00:00"},{"$f":"'RELEVE BANCAIRE'!H194","v":192},{"$f":"'RELEVE BANCAIRE'!M194","v":51200004},{"$f":"'RELEVE BANCAIRE'!E194","v":0},{"$f":"'RELEVE BANCAIRE'!D194*-1","v":0},{"$f":"'RELEVE BANCAIRE'!C194","v":0}]
[{"$f":"'RELEVE BANCAIRE'!G195","v":"BQ4"},{"$f":"'RELEVE BANCAIRE'!A195","v":"00:00:00"},{"$f":"'RELEVE BANCAIRE'!H195","v":193},{"$f":"'RELEVE BANCAIRE'!M195","v":51200004},{"$f":"'RELEVE BANCAIRE'!E195","v":0},{"$f":"'RELEVE BANCAIRE'!D195*-1","v":0},{"$f":"'RELEVE BANCAIRE'!C195","v":0}]
[{"$f":"'RELEVE BANCAIRE'!G196","v":"BQ4"},{"$f":"'RELEVE BANCAIRE'!A196","v":"00:00:00"},{"$f":"'RELEVE BANCAIRE'!H196","v":194},{"$f":"'RELEVE BANCAIRE'!M196","v":51200004},{"$f":"'RELEVE BANCAIRE'!E196","v":0},{"$f":"'RELEVE BANCAIRE'!D196*-1","v":0},{"$f":"'RELEVE BANCAIRE'!C196","v":0}]
[{"$f":"'RELEVE BANCAIRE'!G197","v":"BQ4"},{"$f":"'RELEVE BANCAIRE'!A197","v":"00:00:00"},{"$f":"'RELEVE BANCAIRE'!H197","v":195},{"$f":"'RELEVE BANCAIRE'!M197","v":51200004},{"$f":"'RELEVE BANCAIRE'!E197","v":0},{"$f":"'RELEVE BANCAIRE'!D197*-1","v":0},{"$f":"'RELEVE BANCAIRE'!C197","v":0}]
[{"$f":"'RELEVE BANCAIRE'!G198","v":"BQ4"},{"$f":"'RELEVE BANCAIRE'!A198","v":"00:00:00"},{"$f":"'RELEVE BANCAIRE'!H198","v":196},{"$f":"'RELEVE BANCAIRE'!M198","v":51200004},{"$f":"'RELEVE BANCAIRE'!E198","v":0},{"$f":"'RELEVE BANCAIRE'!D198*-1","v":0},{"$f":"'RELEVE BANCAIRE'!C198","v":0}]
[{"$f":"'RELEVE BANCAIRE'!G199","v":"BQ4"},{"$f":"'RELEVE BANCAIRE'!A199","v":"00:00:00"},{"$f":"'RELEVE BANCAIRE'!H199","v":197},{"$f":"'RELEVE BANCAIRE'!M199","v":51200004},{"$f":"'RELEVE BANCAIRE'!E199","v":0},{"$f":"'RELEVE BANCAIRE'!D199*-1","v":0},{"$f":"'RELEVE BANCAIRE'!C199","v":0}]
[{"$f":"'RELEVE BANCAIRE'!G200","v":"BQ4"},{"$f":"'RELEVE BANCAIRE'!A200","v":"00:00:00"},{"$f":"'RELEVE BANCAIRE'!H200","v":198},{"$f":"'RELEVE BANCAIRE'!M200","v":51200004},{"$f":"'RELEVE BANCAIRE'!E200","v":0},{"$f":"'RELEVE BANCAIRE'!D200*-1","v":0},{"$f":"'RELEVE BANCAIRE'!C200","v":0}]
[{"$f":"'RELEVE BANCAIRE'!G201","v":"BQ4"},{"$f":"'RELEVE BANCAIRE'!A201","v":"00:00:00"},{"$f":"'RELEVE BANCAIRE'!H201","v":199},{"$f":"'RELEVE BANCAIRE'!M201","v":51200004},{"$f":"'RELEVE BANCAIRE'!E201","v":0},{"$f":"'RELEVE BANCAIRE'!D201*-1","v":0},{"$f":"'RELEVE BANCAIRE'!C201","v":0}]
[{"$f":"'RELEVE BANCAIRE'!G202","v":"BQ4"},{"$f":"'RELEVE BANCAIRE'!A202","v":"00:00:00"},{"$f":"'RELEVE BANCAIRE'!H202","v":200},{"$f":"'RELEVE BANCAIRE'!M202","v":51200004},{"$f":"'RELEVE BANCAIRE'!E202","v":0},{"$f":"'RELEVE BANCAIRE'!D202*-1","v":0},{"$f":"'RELEVE BANCAIRE'!C202","v":0}]
[{"$f":"'RELEVE BANCAIRE'!G203","v":"BQ4"},{"$f":"'RELEVE BANCAIRE'!A203","v":"00:00:00"},{"$f":"'RELEVE BANCAIRE'!H203","v":201},{"$f":"'RELEVE BANCAIRE'!M203","v":51200004},{"$f":"'RELEVE BANCAIRE'!E203","v":0},{"$f":"'RELEVE BANCAIRE'!D203*-1","v":0},{"$f":"'RELEVE BANCAIRE'!C203","v":0}]
[{"$f":"'RELEVE BANCAIRE'!G204","v":"BQ4"},{"$f":"'RELEVE BANCAIRE'!A204","v":"00:00:00"},{"$f":"'RELEVE BANCAIRE'!H204","v":202},{"$f":"'RELEVE BANCAIRE'!M204","v":51200004},{"$f":"'RELEVE BANCAIRE'!E204","v":0},{"$f":"'RELEVE BANCAIRE'!D204*-1","v":0},{"$f":"'RELEVE BANCAIRE'!C204","v":0}]
[{"$f":"'RELEVE BANCAIRE'!G205","v":"BQ4"},{"$f":"'RELEVE BANCAIRE'!A205","v":"00:00:00"},{"$f":"'RELEVE BANCAIRE'!H205","v":203},{"$f":"'RELEVE BANCAIRE'!M205","v":51200004},{"$f":"'RELEVE BANCAIRE'!E205","v":0},{"$f":"'RELEVE BANCAIRE'!D205*-1","v":0},{"$f":"'RELEVE BANCAIRE'!C205","v":0}]
[{"$f":"'RELEVE BANCAIRE'!G206","v":"BQ4"},{"$f":"'RELEVE BANCAIRE'!A206","v":"00:00:00"},{"$f":"'RELEVE BANCAIRE'!H206","v":204},{"$f":"'RELEVE BANCAIRE'!M206","v":51200004},{"$f":"'RELEVE BANCAIRE'!E206","v":0},{"$f":"'RELEVE BANCAIRE'!D206*-1","v":0},{"$f":"'RELEVE BANCAIRE'!C206","v":0}]
[{"$f":"'RELEVE BANCAIRE'!G207","v":"BQ4"},{"$f":"'RELEVE BANCAIRE'!A207","v":"00:00:00"},{"$f":"'RELEVE BANCAIRE'!H207","v":205},{"$f":"'RELEVE BANCAIRE'!M207","v":51200004},{"$f":"'RELEVE BANCAIRE'!E207","v":0},{"$f":"'RELEVE BANCAIRE'!D207*-1","v":0},{"$f":"'RELEVE BANCAIRE'!C207","v":0}]
[{"$f":"'RELEVE BANCAIRE'!G208","v":"BQ4"},{"$f":"'RELEVE BANCAIRE'!A208","v":"00:00:00"},{"$f":"'RELEVE BANCAIRE'!H208","v":206},{"$f":"'RELEVE BANCAIRE'!M208","v":51200004},{"$f":"'RELEVE BANCAIRE'!E208","v":0},{"$f":"'RELEVE BANCAIRE'!D208*-1","v":0},{"$f":"'RELEVE BANCAIRE'!C208","v":0}]
[{"$f":"'RELEVE BANCAIRE'!G209","v":"BQ4"},{"$f":"'RELEVE BANCAIRE'!A209","v":"00:00:00"},{"$f":"'RELEVE BANCAIRE'!H209","v":207},{"$f":"'RELEVE BANCAIRE'!M209","v":51200004},{"$f":"'RELEVE BANCAIRE'!E209","v":0},{"$f":"'RELEVE BANCAIRE'!D209*-1","v":0},{"$f":"'RELEVE BANCAIRE'!C209","v":0}]
[{"$f":"'RELEVE BANCAIRE'!G210","v":"BQ4"},{"$f":"'RELEVE BANCAIRE'!A210","v":"00:00:00"},{"$f":"'RELEVE BANCAIRE'!H210","v":208},{"$f":"'RELEVE BANCAIRE'!M210","v":51200004},{"$f":"'RELEVE BANCAIRE'!E210","v":0},{"$f":"'RELEVE BANCAIRE'!D210*-1","v":0},{"$f":"'RELEVE BANCAIRE'!C210","v":0}]
[{"$f":"'RELEVE BANCAIRE'!G211","v":"BQ4"},{"$f":"'RELEVE BANCAIRE'!A211","v":"00:00:00"},{"$f":"'RELEVE BANCAIRE'!H211","v":209},{"$f":"'RELEVE BANCAIRE'!M211","v":51200004},{"$f":"'RELEVE BANCAIRE'!E211","v":0},{"$f":"'RELEVE BANCAIRE'!D211*-1","v":0},{"$f":"'RELEVE BANCAIRE'!C211","v":0}]
[{"$f":"'RELEVE BANCAIRE'!G212","v":"BQ4"},{"$f":"'RELEVE BANCAIRE'!A212","v":"00:00:00"},{"$f":"'RELEVE BANCAIRE'!H212","v":210},{"$f":"'RELEVE BANCAIRE'!M212","v":51200004},{"$f":"'RELEVE BANCAIRE'!E212","v":0},{"$f":"'RELEVE BANCAIRE'!D212*-1","v":0},{"$f":"'RELEVE BANCAIRE'!C212","v":0}]
[{"$f":"'RELEVE BANCAIRE'!G213","v":"BQ4"},{"$f":"'RELEVE BANCAIRE'!A213","v":"00:00:00"},{"$f":"'RELEVE BANCAIRE'!H213","v":211},{"$f":"'RELEVE BANCAIRE'!M213","v":51200004},{"$f":"'RELEVE BANCAIRE'!E213","v":0},{"$f":"'RELEVE BANCAIRE'!D213*-1","v":0},{"$f":"'RELEVE BANCAIRE'!C213","v":0}]
[{"$f":"'RELEVE BANCAIRE'!G214","v":"BQ4"},{"$f":"'RELEVE BANCAIRE'!A214","v":"00:00:00"},{"$f":"'RELEVE BANCAIRE'!H214","v":212},{"$f":"'RELEVE BANCAIRE'!M214","v":51200004},{"$f":"'RELEVE BANCAIRE'!E214","v":0},{"$f":"'RELEVE BANCAIRE'!D214*-1","v":0},{"$f":"'RELEVE BANCAIRE'!C214","v":0}]
[{"$f":"'RELEVE BANCAIRE'!G215","v":"BQ4"},{"$f":"'RELEVE BANCAIRE'!A215","v":"00:00:00"},{"$f":"'RELEVE BANCAIRE'!H215","v":213},{"$f":"'RELEVE BANCAIRE'!M215","v":51200004},{"$f":"'RELEVE BANCAIRE'!E215","v":0},{"$f":"'RELEVE BANCAIRE'!D215*-1","v":0},{"$f":"'RELEVE BANCAIRE'!C215","v":0}]
[{"$f":"'RELEVE BANCAIRE'!G216","v":"BQ4"},{"$f":"'RELEVE BANCAIRE'!A216","v":"00:00:00"},{"$f":"'RELEVE BANCAIRE'!H216","v":214},{"$f":"'RELEVE BANCAIRE'!M216","v":51200004},{"$f":"'RELEVE BANCAIRE'!E216","v":0},{"$f":"'RELEVE BANCAIRE'!D216*-1","v":0},{"$f":"'RELEVE BANCAIRE'!C216","v":0}]
[{"$f":"'RELEVE BANCAIRE'!G217","v":"BQ4"},{"$f":"'RELEVE BANCAIRE'!A217","v":"00:00:00"},{"$f":"'RELEVE BANCAIRE'!H217","v":215},{"$f":"'RELEVE BANCAIRE'!M217","v":51200004},{"$f":"'RELEVE BANCAIRE'!E217","v":0},{"$f":"'RELEVE BANCAIRE'!D217*-1","v":0},{"$f":"'RELEVE BANCAIRE'!C217","v":0}]
[{"$f":"'RELEVE BANCAIRE'!G218","v":"BQ4"},{"$f":"'RELEVE BANCAIRE'!A218","v":"00:00:00"},{"$f":"'RELEVE BANCAIRE'!H218","v":216},{"$f":"'RELEVE BANCAIRE'!M218","v":51200004},{"$f":"'RELEVE BANCAIRE'!E218","v":0},{"$f":"'RELEVE BANCAIRE'!D218*-1","v":0},{"$f":"'RELEVE BANCAIRE'!C218","v":0}]
[{"$f":"'RELEVE BANCAIRE'!G219","v":"BQ4"},{"$f":"'RELEVE BANCAIRE'!A219","v":"00:00:00"},{"$f":"'RELEVE BANCAIRE'!H219","v":217},{"$f":"'RELEVE BANCAIRE'!M219","v":51200004},{"$f":"'RELEVE BANCAIRE'!E219","v":0},{"$f":"'RELEVE BANCAIRE'!D219*-1","v":0},{"$f":"'RELEVE BANCAIRE'!C219","v":0}]
[{"$f":"'RELEVE BANCAIRE'!G220","v":"BQ4"},{"$f":"'RELEVE BANCAIRE'!A220","v":"00:00:00"},{"$f":"'RELEVE BANCAIRE'!H220","v":218},{"$f":"'RELEVE BANCAIRE'!M220","v":51200004},{"$f":"'RELEVE BANCAIRE'!E220","v":0},{"$f":"'RELEVE BANCAIRE'!D220*-1","v":0},{"$f":"'RELEVE BANCAIRE'!C220","v":0}]
[{"$f":"'RELEVE BANCAIRE'!G221","v":"BQ4"},{"$f":"'RELEVE BANCAIRE'!A221","v":"00:00:00"},{"$f":"'RELEVE BANCAIRE'!H221","v":219},{"$f":"'RELEVE BANCAIRE'!M221","v":51200004},{"$f":"'RELEVE BANCAIRE'!E221","v":0},{"$f":"'RELEVE BANCAIRE'!D221*-1","v":0},{"$f":"'RELEVE BANCAIRE'!C221","v":0}]
[{"$f":"'RELEVE BANCAIRE'!G222","v":"BQ4"},{"$f":"'RELEVE BANCAIRE'!A222","v":"00:00:00"},{"$f":"'RELEVE BANCAIRE'!H222","v":220},{"$f":"'RELEVE BANCAIRE'!M222","v":51200004},{"$f":"'RELEVE BANCAIRE'!E222","v":0},{"$f":"'RELEVE BANCAIRE'!D222*-1","v":0},{"$f":"'RELEVE BANCAIRE'!C222","v":0}]
[{"$f":"'RELEVE BANCAIRE'!G223","v":"BQ4"},{"$f":"'RELEVE BANCAIRE'!A223","v":"00:00:00"},{"$f":"'RELEVE BANCAIRE'!H223","v":221},{"$f":"'RELEVE BANCAIRE'!M223","v":51200004},{"$f":"'RELEVE BANCAIRE'!E223","v":0},{"$f":"'RELEVE BANCAIRE'!D223*-1","v":0},{"$f":"'RELEVE BANCAIRE'!C223","v":0}]
[{"$f":"'RELEVE BANCAIRE'!G224","v":"BQ4"},{"$f":"'RELEVE BANCAIRE'!A224","v":"00:00:00"},{"$f":"'RELEVE BANCAIRE'!H224","v":222},{"$f":"'RELEVE BANCAIRE'!M224","v":51200004},{"$f":"'RELEVE BANCAIRE'!E224","v":0},{"$f":"'RELEVE BANCAIRE'!D224*-1","v":0},{"$f":"'RELEVE BANCAIRE'!C224","v":0}]
[{"$f":"'RELEVE BANCAIRE'!G225","v":"BQ4"},{"$f":"'RELEVE BANCAIRE'!A225","v":"00:00:00"},{"$f":"'RELEVE BANCAIRE'!H225","v":223},{"$f":"'RELEVE BANCAIRE'!M225","v":51200004},{"$f":"'RELEVE BANCAIRE'!E225","v":0},{"$f":"'RELEVE BANCAIRE'!D225*-1","v":0},{"$f":"'RELEVE BANCAIRE'!C225","v":0}]
[{"$f":"'RELEVE BANCAIRE'!G226","v":"BQ4"},{"$f":"'RELEVE BANCAIRE'!A226","v":"00:00:00"},{"$f":"'RELEVE BANCAIRE'!H226","v":224},{"$f":"'RELEVE BANCAIRE'!M226","v":51200004},{"$f":"'RELEVE BANCAIRE'!E226","v":0},{"$f":"'RELEVE BANCAIRE'!D226*-1","v":0},{"$f":"'RELEVE BANCAIRE'!C226","v":0}]
[{"$f":"'RELEVE BANCAIRE'!G227","v":"BQ4"},{"$f":"'RELEVE BANCAIRE'!A227","v":"00:00:00"},{"$f":"'RELEVE BANCAIRE'!H227","v":225},{"$f":"'RELEVE BANCAIRE'!M227","v":51200004},{"$f":"'RELEVE BANCAIRE'!E227","v":0},{"$f":"'RELEVE BANCAIRE'!D227*-1","v":0},{"$f":"'RELEVE BANCAIRE'!C227","v":0}]
[{"$f":"'RELEVE BANCAIRE'!G228","v":"BQ4"},{"$f":"'RELEVE BANCAIRE'!A228","v":"00:00:00"},{"$f":"'RELEVE BANCAIRE'!H228","v":226},{"$f":"'RELEVE BANCAIRE'!M228","v":51200004},{"$f":"'RELEVE BANCAIRE'!E228","v":0},{"$f":"'RELEVE BANCAIRE'!D228*-1","v":0},{"$f":"'RELEVE BANCAIRE'!C228","v":0}]
[{"$f":"'RELEVE BANCAIRE'!G229","v":"BQ4"},{"$f":"'RELEVE BANCAIRE'!A229","v":"00:00:00"},{"$f":"'RELEVE BANCAIRE'!H229","v":227},{"$f":"'RELEVE BANCAIRE'!M229","v":51200004},{"$f":"'RELEVE BANCAIRE'!E229","v":0},{"$f":"'RELEVE BANCAIRE'!D229*-1","v":0},{"$f":"'RELEVE BANCAIRE'!C229","v":0}]
[{"$f":"'RELEVE BANCAIRE'!G230","v":"BQ4"},{"$f":"'RELEVE BANCAIRE'!A230","v":"00:00:00"},{"$f":"'RELEVE BANCAIRE'!H230","v":228},{"$f":"'RELEVE BANCAIRE'!M230","v":51200004},{"$f":"'RELEVE BANCAIRE'!E230","v":0},{"$f":"'RELEVE BANCAIRE'!D230*-1","v":0},{"$f":"'RELEVE BANCAIRE'!C230","v":0}]
[{"$f":"'RELEVE BANCAIRE'!G231","v":"BQ4"},{"$f":"'RELEVE BANCAIRE'!A231","v":"00:00:00"},{"$f":"'RELEVE BANCAIRE'!H231","v":229},{"$f":"'RELEVE BANCAIRE'!M231","v":51200004},{"$f":"'RELEVE BANCAIRE'!E231","v":0},{"$f":"'RELEVE BANCAIRE'!D231*-1","v":0},{"$f":"'RELEVE BANCAIRE'!C231","v":0}]
[{"$f":"'RELEVE BANCAIRE'!G232","v":"BQ4"},{"$f":"'RELEVE BANCAIRE'!A232","v":"00:00:00"},{"$f":"'RELEVE BANCAIRE'!H232","v":230},{"$f":"'RELEVE BANCAIRE'!M232","v":51200004},{"$f":"'RELEVE BANCAIRE'!E232","v":0},{"$f":"'RELEVE BANCAIRE'!D232*-1","v":0},{"$f":"'RELEVE BANCAIRE'!C232","v":0}]
[{"$f":"'RELEVE BANCAIRE'!G233","v":"BQ4"},{"$f":"'RELEVE BANCAIRE'!A233","v":"00:00:00"},{"$f":"'RELEVE BANCAIRE'!H233","v":231},{"$f":"'RELEVE BANCAIRE'!M233","v":51200004},{"$f":"'RELEVE BANCAIRE'!E233","v":0},{"$f":"'RELEVE BANCAIRE'!D233*-1","v":0},{"$f":"'RELEVE BANCAIRE'!C233","v":0}]
[{"$f":"'RELEVE BANCAIRE'!G234","v":"BQ4"},{"$f":"'RELEVE BANCAIRE'!A234","v":"00:00:00"},{"$f":"'RELEVE BANCAIRE'!H234","v":232},{"$f":"'RELEVE BANCAIRE'!M234","v":51200004},{"$f":"'RELEVE BANCAIRE'!E234","v":0},{"$f":"'RELEVE BANCAIRE'!D234*-1","v":0},{"$f":"'RELEVE BANCAIRE'!C234","v":0}]
[{"$f":"'RELEVE BANCAIRE'!G235","v":"BQ4"},{"$f":"'RELEVE BANCAIRE'!A235","v":"00:00:00"},{"$f":"'RELEVE BANCAIRE'!H235","v":233},{"$f":"'RELEVE BANCAIRE'!M235","v":51200004},{"$f":"'RELEVE BANCAIRE'!E235","v":0},{"$f":"'RELEVE BANCAIRE'!D235*-1","v":0},{"$f":"'RELEVE BANCAIRE'!C235","v":0}]
[{"$f":"'RELEVE BANCAIRE'!G236","v":"BQ4"},{"$f":"'RELEVE BANCAIRE'!A236","v":"00:00:00"},{"$f":"'RELEVE BANCAIRE'!H236","v":234},{"$f":"'RELEVE BANCAIRE'!M236","v":51200004},{"$f":"'RELEVE BANCAIRE'!E236","v":0},{"$f":"'RELEVE BANCAIRE'!D236*-1","v":0},{"$f":"'RELEVE BANCAIRE'!C236","v":0}]
[{"$f":"'RELEVE BANCAIRE'!G237","v":"BQ4"},{"$f":"'RELEVE BANCAIRE'!A237","v":"00:00:00"},{"$f":"'RELEVE BANCAIRE'!H237","v":235},{"$f":"'RELEVE BANCAIRE'!M237","v":51200004},{"$f":"'RELEVE BANCAIRE'!E237","v":0},{"$f":"'RELEVE BANCAIRE'!D237*-1","v":0},{"$f":"'RELEVE BANCAIRE'!C237","v":0}]
[{"$f":"'RELEVE BANCAIRE'!G238","v":"BQ4"},{"$f":"'RELEVE BANCAIRE'!A238","v":"00:00:00"},{"$f":"'RELEVE BANCAIRE'!H238","v":236},{"$f":"'RELEVE BANCAIRE'!M238","v":51200004},{"$f":"'RELEVE BANCAIRE'!E238","v":0},{"$f":"'RELEVE BANCAIRE'!D238*-1","v":0},{"$f":"'RELEVE BANCAIRE'!C238","v":0}]
[{"$f":"'RELEVE BANCAIRE'!G239","v":"BQ4"},{"$f":"'RELEVE BANCAIRE'!A239","v":"00:00:00"},{"$f":"'RELEVE BANCAIRE'!H239","v":237},{"$f":"'RELEVE BANCAIRE'!M239","v":51200004},{"$f":"'RELEVE BANCAIRE'!E239","v":0},{"$f":"'RELEVE BANCAIRE'!D239*-1","v":0},{"$f":"'RELEVE BANCAIRE'!C239","v":0}]
[{"$f":"'RELEVE BANCAIRE'!G240","v":"BQ4"},{"$f":"'RELEVE BANCAIRE'!A240","v":"00:00:00"},{"$f":"'RELEVE BANCAIRE'!H240","v":238},{"$f":"'RELEVE BANCAIRE'!M240","v":51200004},{"$f":"'RELEVE BANCAIRE'!E240","v":0},{"$f":"'RELEVE BANCAIRE'!D240*-1","v":0},{"$f":"'RELEVE BANCAIRE'!C240","v":0}]
[{"$f":"'RELEVE BANCAIRE'!G241","v":"BQ4"},{"$f":"'RELEVE BANCAIRE'!A241","v":"00:00:00"},{"$f":"'RELEVE BANCAIRE'!H241","v":239},{"$f":"'RELEVE BANCAIRE'!M241","v":51200004},{"$f":"'RELEVE BANCAIRE'!E241","v":0},{"$f":"'RELEVE BANCAIRE'!D241*-1","v":0},{"$f":"'RELEVE BANCAIRE'!C241","v":0}]
[{"$f":"'RELEVE BANCAIRE'!G242","v":"BQ4"},{"$f":"'RELEVE BANCAIRE'!A242","v":"00:00:00"},{"$f":"'RELEVE BANCAIRE'!H242","v":240},{"$f":"'RELEVE BANCAIRE'!M242","v":51200004},{"$f":"'RELEVE BANCAIRE'!E242","v":0},{"$f":"'RELEVE BANCAIRE'!D242*-1","v":0},{"$f":"'RELEVE BANCAIRE'!C242","v":0}]
[{"$f":"'RELEVE BANCAIRE'!G243","v":"BQ4"},{"$f":"'RELEVE BANCAIRE'!A243","v":"00:00:00"},{"$f":"'RELEVE BANCAIRE'!H243","v":241},{"$f":"'RELEVE BANCAIRE'!M243","v":51200004},{"$f":"'RELEVE BANCAIRE'!E243","v":0},{"$f":"'RELEVE BANCAIRE'!D243*-1","v":0},{"$f":"'RELEVE BANCAIRE'!C243","v":0}]
[{"$f":"'RELEVE BANCAIRE'!G244","v":"BQ4"},{"$f":"'RELEVE BANCAIRE'!A244","v":"00:00:00"},{"$f":"'RELEVE BANCAIRE'!H244","v":242},{"$f":"'RELEVE BANCAIRE'!M244","v":51200004},{"$f":"'RELEVE BANCAIRE'!E244","v":0},{"$f":"'RELEVE BANCAIRE'!D244*-1","v":0},{"$f":"'RELEVE BANCAIRE'!C244","v":0}]
[{"$f":"'RELEVE BANCAIRE'!G245","v":"BQ4"},{"$f":"'RELEVE BANCAIRE'!A245","v":"00:00:00"},{"$f":"'RELEVE BANCAIRE'!H245","v":243},{"$f":"'RELEVE BANCAIRE'!M245","v":51200004},{"$f":"'RELEVE BANCAIRE'!E245","v":0},{"$f":"'RELEVE BANCAIRE'!D245*-1","v":0},{"$f":"'RELEVE BANCAIRE'!C245","v":0}]
[{"$f":"'RELEVE BANCAIRE'!G246","v":"BQ4"},{"$f":"'RELEVE BANCAIRE'!A246","v":"00:00:00"},{"$f":"'RELEVE BANCAIRE'!H246","v":244},{"$f":"'RELEVE BANCAIRE'!M246","v":51200004},{"$f":"'RELEVE BANCAIRE'!E246","v":0},{"$f":"'RELEVE BANCAIRE'!D246*-1","v":0},{"$f":"'RELEVE BANCAIRE'!C246","v":0}]
[{"$f":"'RELEVE BANCAIRE'!G247","v":"BQ4"},{"$f":"'RELEVE BANCAIRE'!A247","v":"00:00:00"},{"$f":"'RELEVE BANCAIRE'!H247","v":245},{"$f":"'RELEVE BANCAIRE'!M247","v":51200004},{"$f":"'RELEVE BANCAIRE'!E247","v":0},{"$f":"'RELEVE BANCAIRE'!D247*-1","v":0},{"$f":"'RELEVE BANCAIRE'!C247","v":0}]
[{"$f":"'RELEVE BANCAIRE'!G248","v":"BQ4"},{"$f":"'RELEVE BANCAIRE'!A248","v":"00:00:00"},{"$f":"'RELEVE BANCAIRE'!H248","v":246},{"$f":"'RELEVE BANCAIRE'!M248","v":51200004},{"$f":"'RELEVE BANCAIRE'!E248","v":0},{"$f":"'RELEVE BANCAIRE'!D248*-1","v":0},{"$f":"'RELEVE BANCAIRE'!C248","v":0}]
[{"$f":"'RELEVE BANCAIRE'!G249","v":"BQ4"},{"$f":"'RELEVE BANCAIRE'!A249","v":"00:00:00"},{"$f":"'RELEVE BANCAIRE'!H249","v":247},{"$f":"'RELEVE BANCAIRE'!M249","v":51200004},{"$f":"'RELEVE BANCAIRE'!E249","v":0},{"$f":"'RELEVE BANCAIRE'!D249*-1","v":0},{"$f":"'RELEVE BANCAIRE'!C249","v":0}]
[{"$f":"'RELEVE BANCAIRE'!G250","v":"BQ4"},{"$f":"'RELEVE BANCAIRE'!A250","v":"00:00:00"},{"$f":"'RELEVE BANCAIRE'!H250","v":248},{"$f":"'RELEVE BANCAIRE'!M250","v":51200004},{"$f":"'RELEVE BANCAIRE'!E250","v":0},{"$f":"'RELEVE BANCAIRE'!D250*-1","v":0},{"$f":"'RELEVE BANCAIRE'!C250","v":0}]
[{"$f":"'RELEVE BANCAIRE'!G251","v":"BQ4"},{"$f":"'RELEVE BANCAIRE'!A251","v":"00:00:00"},{"$f":"'RELEVE BANCAIRE'!H251","v":249},{"$f":"'RELEVE BANCAIRE'!M251","v":51200004},{"$f":"'RELEVE BANCAIRE'!E251","v":0},{"$f":"'RELEVE BANCAIRE'!D251*-1","v":0},{"$f":"'RELEVE BANCAIRE'!C251","v":0}]
[{"$f":"'RELEVE BANCAIRE'!G252","v":"BQ4"},{"$f":"'RELEVE BANCAIRE'!A252","v":"00:00:00"},{"$f":"'RELEVE BANCAIRE'!H252","v":250},{"$f":"'RELEVE BANCAIRE'!M252","v":51200004},{"$f":"'RELEVE BANCAIRE'!E252","v":0},{"$f":"'RELEVE BANCAIRE'!D252*-1","v":0},{"$f":"'RELEVE BANCAIRE'!C252","v":0}]
[{"$f":"'RELEVE BANCAIRE'!G253","v":"BQ4"},{"$f":"'RELEVE BANCAIRE'!A253","v":"00:00:00"},{"$f":"'RELEVE BANCAIRE'!H253","v":251},{"$f":"'RELEVE BANCAIRE'!M253","v":51200004},{"$f":"'RELEVE BANCAIRE'!E253","v":0},{"$f":"'RELEVE BANCAIRE'!D253*-1","v":0},{"$f":"'RELEVE BANCAIRE'!C253","v":0}]
[{"$f":"'RELEVE BANCAIRE'!G254","v":"BQ4"},{"$f":"'RELEVE BANCAIRE'!A254","v":"00:00:00"},{"$f":"'RELEVE BANCAIRE'!H254","v":252},{"$f":"'RELEVE BANCAIRE'!M254","v":51200004},{"$f":"'RELEVE BANCAIRE'!E254","v":0},{"$f":"'RELEVE BANCAIRE'!D254*-1","v":0},{"$f":"'RELEVE BANCAIRE'!C254","v":0}]
[{"$f":"'RELEVE BANCAIRE'!G255","v":"BQ4"},{"$f":"'RELEVE BANCAIRE'!A255","v":"00:00:00"},{"$f":"'RELEVE BANCAIRE'!H255","v":253},{"$f":"'RELEVE BANCAIRE'!M255","v":51200004},{"$f":"'RELEVE BANCAIRE'!E255","v":0},{"$f":"'RELEVE BANCAIRE'!D255*-1","v":0},{"$f":"'RELEVE BANCAIRE'!C255","v":0}]
[{"$f":"'RELEVE BANCAIRE'!G256","v":"BQ4"},{"$f":"'RELEVE BANCAIRE'!A256","v":"00:00:00"},{"$f":"'RELEVE BANCAIRE'!H256","v":254},{"$f":"'RELEVE BANCAIRE'!M256","v":51200004},{"$f":"'RELEVE BANCAIRE'!E256","v":0},{"$f":"'RELEVE BANCAIRE'!D256*-1","v":0},{"$f":"'RELEVE BANCAIRE'!C256","v":0}]
[{"$f":"'RELEVE BANCAIRE'!G257","v":"BQ4"},{"$f":"'RELEVE BANCAIRE'!A257","v":"00:00:00"},{"$f":"'RELEVE BANCAIRE'!H257","v":255},{"$f":"'RELEVE BANCAIRE'!M257","v":51200004},{"$f":"'RELEVE BANCAIRE'!E257","v":0},{"$f":"'RELEVE BANCAIRE'!D257*-1","v":0},{"$f":"'RELEVE BANCAIRE'!C257","v":0}]
[{"$f":"'RELEVE BANCAIRE'!G258","v":"BQ4"},{"$f":"'RELEVE BANCAIRE'!A258","v":"00:00:00"},{"$f":"'RELEVE BANCAIRE'!H258","v":256},{"$f":"'RELEVE BANCAIRE'!M258","v":51200004},{"$f":"'RELEVE BANCAIRE'!E258","v":0},{"$f":"'RELEVE BANCAIRE'!D258*-1","v":0},{"$f":"'RELEVE BANCAIRE'!C258","v":0}]
[{"$f":"'RELEVE BANCAIRE'!G259","v":"BQ4"},{"$f":"'RELEVE BANCAIRE'!A259","v":"00:00:00"},{"$f":"'RELEVE BANCAIRE'!H259","v":257},{"$f":"'RELEVE BANCAIRE'!M259","v":51200004},{"$f":"'RELEVE BANCAIRE'!E259","v":0},{"$f":"'RELEVE BANCAIRE'!D259*-1","v":0},{"$f":"'RELEVE BANCAIRE'!C259","v":0}]
[{"$f":"'RELEVE BANCAIRE'!G260","v":"BQ4"},{"$f":"'RELEVE BANCAIRE'!A260","v":"00:00:00"},{"$f":"'RELEVE BANCAIRE'!H260","v":258},{"$f":"'RELEVE BANCAIRE'!M260","v":51200004},{"$f":"'RELEVE BANCAIRE'!E260","v":0},{"$f":"'RELEVE BANCAIRE'!D260*-1","v":0},{"$f":"'RELEVE BANCAIRE'!C260","v":0}]
[{"$f":"'RELEVE BANCAIRE'!G261","v":"BQ4"},{"$f":"'RELEVE BANCAIRE'!A261","v":"00:00:00"},{"$f":"'RELEVE BANCAIRE'!H261","v":259},{"$f":"'RELEVE BANCAIRE'!M261","v":51200004},{"$f":"'RELEVE BANCAIRE'!E261","v":0},{"$f":"'RELEVE BANCAIRE'!D261*-1","v":0},{"$f":"'RELEVE BANCAIRE'!C261","v":0}]
[{"$f":"'RELEVE BANCAIRE'!G262","v":"BQ4"},{"$f":"'RELEVE BANCAIRE'!A262","v":"00:00:00"},{"$f":"'RELEVE BANCAIRE'!H262","v":260},{"$f":"'RELEVE BANCAIRE'!M262","v":51200004},{"$f":"'RELEVE BANCAIRE'!E262","v":0},{"$f":"'RELEVE BANCAIRE'!D262*-1","v":0},{"$f":"'RELEVE BANCAIRE'!C262","v":0}]
[{"$f":"'RELEVE BANCAIRE'!G263","v":"BQ4"},{"$f":"'RELEVE BANCAIRE'!A263","v":"00:00:00"},{"$f":"'RELEVE BANCAIRE'!H263","v":261},{"$f":"'RELEVE BANCAIRE'!M263","v":51200004},{"$f":"'RELEVE BANCAIRE'!E263","v":0},{"$f":"'RELEVE BANCAIRE'!D263*-1","v":0},{"$f":"'RELEVE BANCAIRE'!C263","v":0}]
[{"$f":"'RELEVE BANCAIRE'!G264","v":"BQ4"},{"$f":"'RELEVE BANCAIRE'!A264","v":"00:00:00"},{"$f":"'RELEVE BANCAIRE'!H264","v":262},{"$f":"'RELEVE BANCAIRE'!M264","v":51200004},{"$f":"'RELEVE BANCAIRE'!E264","v":0},{"$f":"'RELEVE BANCAIRE'!D264*-1","v":0},{"$f":"'RELEVE BANCAIRE'!C264","v":0}]
[{"$f":"'RELEVE BANCAIRE'!G265","v":"BQ4"},{"$f":"'RELEVE BANCAIRE'!A265","v":"00:00:00"},{"$f":"'RELEVE BANCAIRE'!H265","v":263},{"$f":"'RELEVE BANCAIRE'!M265","v":51200004},{"$f":"'RELEVE BANCAIRE'!E265","v":0},{"$f":"'RELEVE BANCAIRE'!D265*-1","v":0},{"$f":"'RELEVE BANCAIRE'!C265","v":0}]
[{"$f":"'RELEVE BANCAIRE'!G266","v":"BQ4"},{"$f":"'RELEVE BANCAIRE'!A266","v":"00:00:00"},{"$f":"'RELEVE BANCAIRE'!H266","v":264},{"$f":"'RELEVE BANCAIRE'!M266","v":51200004},{"$f":"'RELEVE BANCAIRE'!E266","v":0},{"$f":"'RELEVE BANCAIRE'!D266*-1","v":0},{"$f":"'RELEVE BANCAIRE'!C266","v":0}]
[{"$f":"'RELEVE BANCAIRE'!G267","v":"BQ4"},{"$f":"'RELEVE BANCAIRE'!A267","v":"00:00:00"},{"$f":"'RELEVE BANCAIRE'!H267","v":265},{"$f":"'RELEVE BANCAIRE'!M267","v":51200004},{"$f":"'RELEVE BANCAIRE'!E267","v":0},{"$f":"'RELEVE BANCAIRE'!D267*-1","v":0},{"$f":"'RELEVE BANCAIRE'!C267","v":0}]
[{"$f":"'RELEVE BANCAIRE'!G268","v":"BQ4"},{"$f":"'RELEVE BANCAIRE'!A268","v":"00:00:00"},{"$f":"'RELEVE BANCAIRE'!H268","v":266},{"$f":"'RELEVE BANCAIRE'!M268","v":51200004},{"$f":"'RELEVE BANCAIRE'!E268","v":0},{"$f":"'RELEVE BANCAIRE'!D268*-1","v":0},{"$f":"'RELEVE BANCAIRE'!C268","v":0}]
[{"$f":"'RELEVE BANCAIRE'!G269","v":"BQ4"},{"$f":"'RELEVE BANCAIRE'!A269","v":"00:00:00"},{"$f":"'RELEVE BANCAIRE'!H269","v":267},{"$f":"'RELEVE BANCAIRE'!M269","v":51200004},{"$f":"'RELEVE BANCAIRE'!E269","v":0},{"$f":"'RELEVE BANCAIRE'!D269*-1","v":0},{"$f":"'RELEVE BANCAIRE'!C269","v":0}]
[{"$f":"'RELEVE BANCAIRE'!G270","v":"BQ4"},{"$f":"'RELEVE BANCAIRE'!A270","v":"00:00:00"},{"$f":"'RELEVE BANCAIRE'!H270","v":268},{"$f":"'RELEVE BANCAIRE'!M270","v":51200004},{"$f":"'RELEVE BANCAIRE'!E270","v":0},{"$f":"'RELEVE BANCAIRE'!D270*-1","v":0},{"$f":"'RELEVE BANCAIRE'!C270","v":0}]
[{"$f":"'RELEVE BANCAIRE'!G271","v":"BQ4"},{"$f":"'RELEVE BANCAIRE'!A271","v":"00:00:00"},{"$f":"'RELEVE BANCAIRE'!H271","v":269},{"$f":"'RELEVE BANCAIRE'!M271","v":51200004},{"$f":"'RELEVE BANCAIRE'!E271","v":0},{"$f":"'RELEVE BANCAIRE'!D271*-1","v":0},{"$f":"'RELEVE BANCAIRE'!C271","v":0}]
[{"$f":"'RELEVE BANCAIRE'!G272","v":"BQ4"},{"$f":"'RELEVE BANCAIRE'!A272","v":"00:00:00"},{"$f":"'RELEVE BANCAIRE'!H272","v":270},{"$f":"'RELEVE BANCAIRE'!M272","v":51200004},{"$f":"'RELEVE BANCAIRE'!E272","v":0},{"$f":"'RELEVE BANCAIRE'!D272*-1","v":0},{"$f":"'RELEVE BANCAIRE'!C272","v":0}]
[{"$f":"'RELEVE BANCAIRE'!G273","v":"BQ4"},{"$f":"'RELEVE BANCAIRE'!A273","v":"00:00:00"},{"$f":"'RELEVE BANCAIRE'!H273","v":271},{"$f":"'RELEVE BANCAIRE'!M273","v":51200004},{"$f":"'RELEVE BANCAIRE'!E273","v":0},{"$f":"'RELEVE BANCAIRE'!D273*-1","v":0},{"$f":"'RELEVE BANCAIRE'!C273","v":0}]
[{"$f":"'RELEVE BANCAIRE'!G274","v":"BQ4"},{"$f":"'RELEVE BANCAIRE'!A274","v":"00:00:00"},{"$f":"'RELEVE BANCAIRE'!H274","v":272},{"$f":"'RELEVE BANCAIRE'!M274","v":51200004},{"$f":"'RELEVE BANCAIRE'!E274","v":0},{"$f":"'RELEVE BANCAIRE'!D274*-1","v":0},{"$f":"'RELEVE BANCAIRE'!C274","v":0}]
[{"$f":"'RELEVE BANCAIRE'!G275","v":"BQ4"},{"$f":"'RELEVE BANCAIRE'!A275","v":"00:00:00"},{"$f":"'RELEVE BANCAIRE'!H275","v":273},{"$f":"'RELEVE BANCAIRE'!M275","v":51200004},{"$f":"'RELEVE BANCAIRE'!E275","v":0},{"$f":"'RELEVE BANCAIRE'!D275*-1","v":0},{"$f":"'RELEVE BANCAIRE'!C275","v":0}]
[{"$f":"'RELEVE BANCAIRE'!G276","v":"BQ4"},{"$f":"'RELEVE BANCAIRE'!A276","v":"00:00:00"},{"$f":"'RELEVE BANCAIRE'!H276","v":274},{"$f":"'RELEVE BANCAIRE'!M276","v":51200004},{"$f":"'RELEVE BANCAIRE'!E276","v":0},{"$f":"'RELEVE BANCAIRE'!D276*-1","v":0},{"$f":"'RELEVE BANCAIRE'!C276","v":0}]
[{"$f":"'RELEVE BANCAIRE'!G277","v":"BQ4"},{"$f":"'RELEVE BANCAIRE'!A277","v":"00:00:00"},{"$f":"'RELEVE BANCAIRE'!H277","v":275},{"$f":"'RELEVE BANCAIRE'!M277","v":51200004},{"$f":"'RELEVE BANCAIRE'!E277","v":0},{"$f":"'RELEVE BANCAIRE'!D277*-1","v":0},{"$f":"'RELEVE BANCAIRE'!C277","v":0}]
[{"$f":"'RELEVE BANCAIRE'!G278","v":"BQ4"},{"$f":"'RELEVE BANCAIRE'!A278","v":"00:00:00"},{"$f":"'RELEVE BANCAIRE'!H278","v":276},{"$f":"'RELEVE BANCAIRE'!M278","v":51200004},{"$f":"'RELEVE BANCAIRE'!E278","v":0},{"$f":"'RELEVE BANCAIRE'!D278*-1","v":0},{"$f":"'RELEVE BANCAIRE'!C278","v":0}]
[{"$f":"'RELEVE BANCAIRE'!G279","v":"BQ4"},{"$f":"'RELEVE BANCAIRE'!A279","v":"00:00:00"},{"$f":"'RELEVE BANCAIRE'!H279","v":277},{"$f":"'RELEVE BANCAIRE'!M279","v":51200004},{"$f":"'RELEVE BANCAIRE'!E279","v":0},{"$f":"'RELEVE BANCAIRE'!D279*-1","v":0},{"$f":"'RELEVE BANCAIRE'!C279","v":0}]
[{"$f":"'RELEVE BANCAIRE'!G280","v":"BQ4"},{"$f":"'RELEVE BANCAIRE'!A280","v":"00:00:00"},{"$f":"'RELEVE BANCAIRE'!H280","v":278},{"$f":"'RELEVE BANCAIRE'!M280","v":51200004},{"$f":"'RELEVE BANCAIRE'!E280","v":0},{"$f":"'RELEVE BANCAIRE'!D280*-1","v":0},{"$f":"'RELEVE BANCAIRE'!C280","v":0}]
[{"$f":"'RELEVE BANCAIRE'!G281","v":"BQ4"},{"$f":"'RELEVE BANCAIRE'!A281","v":"00:00:00"},{"$f":"'RELEVE BANCAIRE'!H281","v":279},{"$f":"'RELEVE BANCAIRE'!M281","v":51200004},{"$f":"'RELEVE BANCAIRE'!E281","v":0},{"$f":"'RELEVE BANCAIRE'!D281*-1","v":0},{"$f":"'RELEVE BANCAIRE'!C281","v":0}]
[{"$f":"'RELEVE BANCAIRE'!G282","v":"BQ4"},{"$f":"'RELEVE BANCAIRE'!A282","v":"00:00:00"},{"$f":"'RELEVE BANCAIRE'!H282","v":280},{"$f":"'RELEVE BANCAIRE'!M282","v":51200004},{"$f":"'RELEVE BANCAIRE'!E282","v":0},{"$f":"'RELEVE BANCAIRE'!D282*-1","v":0},{"$f":"'RELEVE BANCAIRE'!C282","v":0}]
[{"$f":"'RELEVE BANCAIRE'!G283","v":"BQ4"},{"$f":"'RELEVE BANCAIRE'!A283","v":"00:00:00"},{"$f":"'RELEVE BANCAIRE'!H283","v":281},{"$f":"'RELEVE BANCAIRE'!M283","v":51200004},{"$f":"'RELEVE BANCAIRE'!E283","v":0},{"$f":"'RELEVE BANCAIRE'!D283*-1","v":0},{"$f":"'RELEVE BANCAIRE'!C283","v":0}]
[{"$f":"'RELEVE BANCAIRE'!G284","v":"BQ4"},{"$f":"'RELEVE BANCAIRE'!A284","v":"00:00:00"},{"$f":"'RELEVE BANCAIRE'!H284","v":282},{"$f":"'RELEVE BANCAIRE'!M284","v":51200004},{"$f":"'RELEVE BANCAIRE'!E284","v":0},{"$f":"'RELEVE BANCAIRE'!D284*-1","v":0},{"$f":"'RELEVE BANCAIRE'!C284","v":0}]
[{"$f":"'RELEVE BANCAIRE'!G285","v":"BQ4"},{"$f":"'RELEVE BANCAIRE'!A285","v":"00:00:00"},{"$f":"'RELEVE BANCAIRE'!H285","v":283},{"$f":"'RELEVE BANCAIRE'!M285","v":51200004},{"$f":"'RELEVE BANCAIRE'!E285","v":0},{"$f":"'RELEVE BANCAIRE'!D285*-1","v":0},{"$f":"'RELEVE BANCAIRE'!C285","v":0}]
[{"$f":"'RELEVE BANCAIRE'!G286","v":"BQ4"},{"$f":"'RELEVE BANCAIRE'!A286","v":"00:00:00"},{"$f":"'RELEVE BANCAIRE'!H286","v":284},{"$f":"'RELEVE BANCAIRE'!M286","v":51200004},{"$f":"'RELEVE BANCAIRE'!E286","v":0},{"$f":"'RELEVE BANCAIRE'!D286*-1","v":0},{"$f":"'RELEVE BANCAIRE'!C286","v":0}]
[{"$f":"'RELEVE BANCAIRE'!G287","v":"BQ4"},{"$f":"'RELEVE BANCAIRE'!A287","v":"00:00:00"},{"$f":"'RELEVE BANCAIRE'!H287","v":285},{"$f":"'RELEVE BANCAIRE'!M287","v":51200004},{"$f":"'RELEVE BANCAIRE'!E287","v":0},{"$f":"'RELEVE BANCAIRE'!D287*-1","v":0},{"$f":"'RELEVE BANCAIRE'!C287","v":0}]
[{"$f":"'RELEVE BANCAIRE'!G288","v":"BQ4"},{"$f":"'RELEVE BANCAIRE'!A288","v":"00:00:00"},{"$f":"'RELEVE BANCAIRE'!H288","v":286},{"$f":"'RELEVE BANCAIRE'!M288","v":51200004},{"$f":"'RELEVE BANCAIRE'!E288","v":0},{"$f":"'RELEVE BANCAIRE'!D288*-1","v":0},{"$f":"'RELEVE BANCAIRE'!C288","v":0}]
[{"$f":"'RELEVE BANCAIRE'!G289","v":"BQ4"},{"$f":"'RELEVE BANCAIRE'!A289","v":"00:00:00"},{"$f":"'RELEVE BANCAIRE'!H289","v":287},{"$f":"'RELEVE BANCAIRE'!M289","v":51200004},{"$f":"'RELEVE BANCAIRE'!E289","v":0},{"$f":"'RELEVE BANCAIRE'!D289*-1","v":0},{"$f":"'RELEVE BANCAIRE'!C289","v":0}]
[{"$f":"'RELEVE BANCAIRE'!G290","v":"BQ4"},{"$f":"'RELEVE BANCAIRE'!A290","v":"00:00:00"},{"$f":"'RELEVE BANCAIRE'!H290","v":288},{"$f":"'RELEVE BANCAIRE'!M290","v":51200004},{"$f":"'RELEVE BANCAIRE'!E290","v":0},{"$f":"'RELEVE BANCAIRE'!D290*-1","v":0},{"$f":"'RELEVE BANCAIRE'!C290","v":0}]
[{"$f":"'RELEVE BANCAIRE'!G291","v":"BQ4"},{"$f":"'RELEVE BANCAIRE'!A291","v":"00:00:00"},{"$f":"'RELEVE BANCAIRE'!H291","v":289},{"$f":"'RELEVE BANCAIRE'!M291","v":51200004},{"$f":"'RELEVE BANCAIRE'!E291","v":0},{"$f":"'RELEVE BANCAIRE'!D291*-1","v":0},{"$f":"'RELEVE BANCAIRE'!C291","v":0}]
[{"$f":"'RELEVE BANCAIRE'!G292","v":"BQ4"},{"$f":"'RELEVE BANCAIRE'!A292","v":"00:00:00"},{"$f":"'RELEVE BANCAIRE'!H292","v":290},{"$f":"'RELEVE BANCAIRE'!M292","v":51200004},{"$f":"'RELEVE BANCAIRE'!E292","v":0},{"$f":"'RELEVE BANCAIRE'!D292*-1","v":0},{"$f":"'RELEVE BANCAIRE'!C292","v":0}]
[{"$f":"'RELEVE BANCAIRE'!G293","v":"BQ4"},{"$f":"'RELEVE BANCAIRE'!A293","v":"00:00:00"},{"$f":"'RELEVE BANCAIRE'!H293","v":291},{"$f":"'RELEVE BANCAIRE'!M293","v":51200004},{"$f":"'RELEVE BANCAIRE'!E293","v":0},{"$f":"'RELEVE BANCAIRE'!D293*-1","v":0},{"$f":"'RELEVE BANCAIRE'!C293","v":0}]
[{"$f":"'RELEVE BANCAIRE'!G294","v":"BQ4"},{"$f":"'RELEVE BANCAIRE'!A294","v":"00:00:00"},{"$f":"'RELEVE BANCAIRE'!H294","v":292},{"$f":"'RELEVE BANCAIRE'!M294","v":51200004},{"$f":"'RELEVE BANCAIRE'!E294","v":0},{"$f":"'RELEVE BANCAIRE'!D294*-1","v":0},{"$f":"'RELEVE BANCAIRE'!C294","v":0}]
[{"$f":"'RELEVE BANCAIRE'!G295","v":"BQ4"},{"$f":"'RELEVE BANCAIRE'!A295","v":"00:00:00"},{"$f":"'RELEVE BANCAIRE'!H295","v":293},{"$f":"'RELEVE BANCAIRE'!M295","v":51200004},{"$f":"'RELEVE BANCAIRE'!E295","v":0},{"$f":"'RELEVE BANCAIRE'!D295*-1","v":0},{"$f":"'RELEVE BANCAIRE'!C295","v":0}]
[{"$f":"'RELEVE BANCAIRE'!G296","v":"BQ4"},{"$f":"'RELEVE BANCAIRE'!A296","v":"00:00:00"},{"$f":"'RELEVE BANCAIRE'!H296","v":294},{"$f":"'RELEVE BANCAIRE'!M296","v":51200004},{"$f":"'RELEVE BANCAIRE'!E296","v":0},{"$f":"'RELEVE BANCAIRE'!D296*-1","v":0},{"$f":"'RELEVE BANCAIRE'!C296","v":0}]
[{"$f":"'RELEVE BANCAIRE'!G297","v":"BQ4"},{"$f":"'RELEVE BANCAIRE'!A297","v":"00:00:00"},{"$f":"'RELEVE BANCAIRE'!H297","v":295},{"$f":"'RELEVE BANCAIRE'!M297","v":51200004},{"$f":"'RELEVE BANCAIRE'!E297","v":0},{"$f":"'RELEVE BANCAIRE'!D297*-1","v":0},{"$f":"'RELEVE BANCAIRE'!C297","v":0}]
[{"$f":"'RELEVE BANCAIRE'!G298","v":"BQ4"},{"$f":"'RELEVE BANCAIRE'!A298","v":"00:00:00"},{"$f":"'RELEVE BANCAIRE'!H298","v":296},{"$f":"'RELEVE BANCAIRE'!M298","v":51200004},{"$f":"'RELEVE BANCAIRE'!E298","v":0},{"$f":"'RELEVE BANCAIRE'!D298*-1","v":0},{"$f":"'RELEVE BANCAIRE'!C298","v":0}]
[{"$f":"'RELEVE BANCAIRE'!G299","v":"BQ4"},{"$f":"'RELEVE BANCAIRE'!A299","v":"00:00:00"},{"$f":"'RELEVE BANCAIRE'!H299","v":297},{"$f":"'RELEVE BANCAIRE'!M299","v":51200004},{"$f":"'RELEVE BANCAIRE'!E299","v":0},{"$f":"'RELEVE BANCAIRE'!D299*-1","v":0},{"$f":"'RELEVE BANCAIRE'!C299","v":0}]
[{"$f":"'RELEVE BANCAIRE'!G300","v":"BQ4"},{"$f":"'RELEVE BANCAIRE'!A300","v":"00:00:00"},{"$f":"'RELEVE BANCAIRE'!H300","v":298},{"$f":"'RELEVE BANCAIRE'!M300","v":51200004},{"$f":"'RELEVE BANCAIRE'!E300","v":0},{"$f":"'RELEVE BANCAIRE'!D300*-1","v":0},{"$f":"'RELEVE BANCAIRE'!C300","v":0}]
[{"$f":"'RELEVE BANCAIRE'!G301","v":"BQ4"},{"$f":"'RELEVE BANCAIRE'!A301","v":"00:00:00"},{"$f":"'RELEVE BANCAIRE'!H301","v":299},{"$f":"'RELEVE BANCAIRE'!M301","v":51200004},{"$f":"'RELEVE BANCAIRE'!E301","v":0},{"$f":"'RELEVE BANCAIRE'!D301*-1","v":0},{"$f":"'RELEVE BANCAIRE'!C301","v":0}]
[{"$f":"'RELEVE BANCAIRE'!G302","v":"BQ4"},{"$f":"'RELEVE BANCAIRE'!A302","v":"00:00:00"},{"$f":"'RELEVE BANCAIRE'!H302","v":300},{"$f":"'RELEVE BANCAIRE'!M302","v":51200004},{"$f":"'RELEVE BANCAIRE'!E302","v":0},{"$f":"'RELEVE BANCAIRE'!D302*-1","v":0},{"$f":"'RELEVE BANCAIRE'!C302","v":0}]
[{"$f":"'RELEVE BANCAIRE'!G303","v":"BQ4"},{"$f":"'RELEVE BANCAIRE'!A303","v":"00:00:00"},{"$f":"'RELEVE BANCAIRE'!H303","v":301},{"$f":"'RELEVE BANCAIRE'!M303","v":51200004},{"$f":"'RELEVE BANCAIRE'!E303","v":0},{"$f":"'RELEVE BANCAIRE'!D303*-1","v":0},{"$f":"'RELEVE BANCAIRE'!C303","v":0}]
[{"$f":"'RELEVE BANCAIRE'!G304","v":"BQ4"},{"$f":"'RELEVE BANCAIRE'!A304","v":"00:00:00"},{"$f":"'RELEVE BANCAIRE'!H304","v":302},{"$f":"'RELEVE BANCAIRE'!M304","v":51200004},{"$f":"'RELEVE BANCAIRE'!E304","v":0},{"$f":"'RELEVE BANCAIRE'!D304*-1","v":0},{"$f":"'RELEVE BANCAIRE'!C304","v":0}]
[{"$f":"'RELEVE BANCAIRE'!G305","v":"BQ4"},{"$f":"'RELEVE BANCAIRE'!A305","v":"00:00:00"},{"$f":"'RELEVE BANCAIRE'!H305","v":303},{"$f":"'RELEVE BANCAIRE'!M305","v":51200004},{"$f":"'RELEVE BANCAIRE'!E305","v":0},{"$f":"'RELEVE BANCAIRE'!D305*-1","v":0},{"$f":"'RELEVE BANCAIRE'!C305","v":0}]
[{"$f":"'RELEVE BANCAIRE'!G306","v":"BQ4"},{"$f":"'RELEVE BANCAIRE'!A306","v":"00:00:00"},{"$f":"'RELEVE BANCAIRE'!H306","v":304},{"$f":"'RELEVE BANCAIRE'!M306","v":51200004},{"$f":"'RELEVE BANCAIRE'!E306","v":0},{"$f":"'RELEVE BANCAIRE'!D306*-1","v":0},{"$f":"'RELEVE BANCAIRE'!C306","v":0}]
[{"$f":"'RELEVE BANCAIRE'!G307","v":"BQ4"},{"$f":"'RELEVE BANCAIRE'!A307","v":"00:00:00"},{"$f":"'RELEVE BANCAIRE'!H307","v":305},{"$f":"'RELEVE BANCAIRE'!M307","v":51200004},{"$f":"'RELEVE BANCAIRE'!E307","v":0},{"$f":"'RELEVE BANCAIRE'!D307*-1","v":0},{"$f":"'RELEVE BANCAIRE'!C307","v":0}]
[{"$f":"'RELEVE BANCAIRE'!G308","v":"BQ4"},{"$f":"'RELEVE BANCAIRE'!A308","v":"00:00:00"},{"$f":"'RELEVE BANCAIRE'!H308","v":306},{"$f":"'RELEVE BANCAIRE'!M308","v":51200004},{"$f":"'RELEVE BANCAIRE'!E308","v":0},{"$f":"'RELEVE BANCAIRE'!D308*-1","v":0},{"$f":"'RELEVE BANCAIRE'!C308","v":0}]
[{"$f":"'RELEVE BANCAIRE'!G309","v":"BQ4"},{"$f":"'RELEVE BANCAIRE'!A309","v":"00:00:00"},{"$f":"'RELEVE BANCAIRE'!H309","v":307},{"$f":"'RELEVE BANCAIRE'!M309","v":51200004},{"$f":"'RELEVE BANCAIRE'!E309","v":0},{"$f":"'RELEVE BANCAIRE'!D309*-1","v":0},{"$f":"'RELEVE BANCAIRE'!C309","v":0}]
[{"$f":"'RELEVE BANCAIRE'!G310","v":"BQ4"},{"$f":"'RELEVE BANCAIRE'!A310","v":"00:00:00"},{"$f":"'RELEVE BANCAIRE'!H310","v":308},{"$f":"'RELEVE BANCAIRE'!M310","v":51200004},{"$f":"'RELEVE BANCAIRE'!E310","v":0},{"$f":"'RELEVE BANCAIRE'!D310*-1","v":0},{"$f":"'RELEVE BANCAIRE'!C310","v":0}]
[{"$f":"'RELEVE BANCAIRE'!G311","v":"BQ4"},{"$f":"'RELEVE BANCAIRE'!A311","v":"00:00:00"},{"$f":"'RELEVE BANCAIRE'!H311","v":309},{"$f":"'RELEVE BANCAIRE'!M311","v":51200004},{"$f":"'RELEVE BANCAIRE'!E311","v":0},{"$f":"'RELEVE BANCAIRE'!D311*-1","v":0},{"$f":"'RELEVE BANCAIRE'!C311","v":0}]
[{"$f":"'RELEVE BANCAIRE'!G312","v":"BQ4"},{"$f":"'RELEVE BANCAIRE'!A312","v":"00:00:00"},{"$f":"'RELEVE BANCAIRE'!H312","v":310},{"$f":"'RELEVE BANCAIRE'!M312","v":51200004},{"$f":"'RELEVE BANCAIRE'!E312","v":0},{"$f":"'RELEVE BANCAIRE'!D312*-1","v":0},{"$f":"'RELEVE BANCAIRE'!C312","v":0}]
[{"$f":"'RELEVE BANCAIRE'!G313","v":"BQ4"},{"$f":"'RELEVE BANCAIRE'!A313","v":"00:00:00"},{"$f":"'RELEVE BANCAIRE'!H313","v":311},{"$f":"'RELEVE BANCAIRE'!M313","v":51200004},{"$f":"'RELEVE BANCAIRE'!E313","v":0},{"$f":"'RELEVE BANCAIRE'!D313*-1","v":0},{"$f":"'RELEVE BANCAIRE'!C313","v":0}]
[{"$f":"'RELEVE BANCAIRE'!G314","v":"BQ4"},{"$f":"'RELEVE BANCAIRE'!A314","v":"00:00:00"},{"$f":"'RELEVE BANCAIRE'!H314","v":312},{"$f":"'RELEVE BANCAIRE'!M314","v":51200004},{"$f":"'RELEVE BANCAIRE'!E314","v":0},{"$f":"'RELEVE BANCAIRE'!D314*-1","v":0},{"$f":"'RELEVE BANCAIRE'!C314","v":0}]
[{"$f":"'RELEVE BANCAIRE'!G315","v":"BQ4"},{"$f":"'RELEVE BANCAIRE'!A315","v":"00:00:00"},{"$f":"'RELEVE BANCAIRE'!H315","v":313},{"$f":"'RELEVE BANCAIRE'!M315","v":51200004},{"$f":"'RELEVE BANCAIRE'!E315","v":0},{"$f":"'RELEVE BANCAIRE'!D315*-1","v":0},{"$f":"'RELEVE BANCAIRE'!C315","v":0}]
[{"$f":"'RELEVE BANCAIRE'!G316","v":"BQ4"},{"$f":"'RELEVE BANCAIRE'!A316","v":"00:00:00"},{"$f":"'RELEVE BANCAIRE'!H316","v":314},{"$f":"'RELEVE BANCAIRE'!M316","v":51200004},{"$f":"'RELEVE BANCAIRE'!E316","v":0},{"$f":"'RELEVE BANCAIRE'!D316*-1","v":0},{"$f":"'RELEVE BANCAIRE'!C316","v":0}]
[{"$f":"'RELEVE BANCAIRE'!G317","v":"BQ4"},{"$f":"'RELEVE BANCAIRE'!A317","v":"00:00:00"},{"$f":"'RELEVE BANCAIRE'!H317","v":315},{"$f":"'RELEVE BANCAIRE'!M317","v":51200004},{"$f":"'RELEVE BANCAIRE'!E317","v":0},{"$f":"'RELEVE BANCAIRE'!D317*-1","v":0},{"$f":"'RELEVE BANCAIRE'!C317","v":0}]
[{"$f":"'RELEVE BANCAIRE'!G318","v":"BQ4"},{"$f":"'RELEVE BANCAIRE'!A318","v":"00:00:00"},{"$f":"'RELEVE BANCAIRE'!H318","v":316},{"$f":"'RELEVE BANCAIRE'!M318","v":51200004},{"$f":"'RELEVE BANCAIRE'!E318","v":0},{"$f":"'RELEVE BANCAIRE'!D318*-1","v":0},{"$f":"'RELEVE BANCAIRE'!C318","v":0}]
[{"$f":"'RELEVE BANCAIRE'!G319","v":"BQ4"},{"$f":"'RELEVE BANCAIRE'!A319","v":"00:00:00"},{"$f":"'RELEVE BANCAIRE'!H319","v":317},{"$f":"'RELEVE BANCAIRE'!M319","v":51200004},{"$f":"'RELEVE BANCAIRE'!E319","v":0},{"$f":"'RELEVE BANCAIRE'!D319*-1","v":0},{"$f":"'RELEVE BANCAIRE'!C319","v":0}]
[{"$f":"'RELEVE BANCAIRE'!G320","v":"BQ4"},{"$f":"'RELEVE BANCAIRE'!A320","v":"00:00:00"},{"$f":"'RELEVE BANCAIRE'!H320","v":318},{"$f":"'RELEVE BANCAIRE'!M320","v":51200004},{"$f":"'RELEVE BANCAIRE'!E320","v":0},{"$f":"'RELEVE BANCAIRE'!D320*-1","v":0},{"$f":"'RELEVE BANCAIRE'!C320","v":0}]
[{"$f":"'RELEVE BANCAIRE'!G321","v":"BQ4"},{"$f":"'RELEVE BANCAIRE'!A321","v":"00:00:00"},{"$f":"'RELEVE BANCAIRE'!H321","v":319},{"$f":"'RELEVE BANCAIRE'!M321","v":51200004},{"$f":"'RELEVE BANCAIRE'!E321","v":0},{"$f":"'RELEVE BANCAIRE'!D321*-1","v":0},{"$f":"'RELEVE BANCAIRE'!C321","v":0}]
[{"$f":"'RELEVE BANCAIRE'!G322","v":"BQ4"},{"$f":"'RELEVE BANCAIRE'!A322","v":"00:00:00"},{"$f":"'RELEVE BANCAIRE'!H322","v":320},{"$f":"'RELEVE BANCAIRE'!M322","v":51200004},{"$f":"'RELEVE BANCAIRE'!E322","v":0},{"$f":"'RELEVE BANCAIRE'!D322*-1","v":0},{"$f":"'RELEVE BANCAIRE'!C322","v":0}]
[{"$f":"'RELEVE BANCAIRE'!G323","v":"BQ4"},{"$f":"'RELEVE BANCAIRE'!A323","v":"00:00:00"},{"$f":"'RELEVE BANCAIRE'!H323","v":321},{"$f":"'RELEVE BANCAIRE'!M323","v":51200004},{"$f":"'RELEVE BANCAIRE'!E323","v":0},{"$f":"'RELEVE BANCAIRE'!D323*-1","v":0},{"$f":"'RELEVE BANCAIRE'!C323","v":0}]
[{"$f":"'RELEVE BANCAIRE'!G324","v":"BQ4"},{"$f":"'RELEVE BANCAIRE'!A324","v":"00:00:00"},{"$f":"'RELEVE BANCAIRE'!H324","v":322},{"$f":"'RELEVE BANCAIRE'!M324","v":51200004},{"$f":"'RELEVE BANCAIRE'!E324","v":0},{"$f":"'RELEVE BANCAIRE'!D324*-1","v":0},{"$f":"'RELEVE BANCAIRE'!C324","v":0}]
[{"$f":"'RELEVE BANCAIRE'!G325","v":"BQ4"},{"$f":"'RELEVE BANCAIRE'!A325","v":"00:00:00"},{"$f":"'RELEVE BANCAIRE'!H325","v":323},{"$f":"'RELEVE BANCAIRE'!M325","v":51200004},{"$f":"'RELEVE BANCAIRE'!E325","v":0},{"$f":"'RELEVE BANCAIRE'!D325*-1","v":0},{"$f":"'RELEVE BANCAIRE'!C325","v":0}]
[{"$f":"'RELEVE BANCAIRE'!G326","v":"BQ4"},{"$f":"'RELEVE BANCAIRE'!A326","v":"00:00:00"},{"$f":"'RELEVE BANCAIRE'!H326","v":324},{"$f":"'RELEVE BANCAIRE'!M326","v":51200004},{"$f":"'RELEVE BANCAIRE'!E326","v":0},{"$f":"'RELEVE BANCAIRE'!D326*-1","v":0},{"$f":"'RELEVE BANCAIRE'!C326","v":0}]
[{"$f":"'RELEVE BANCAIRE'!G327","v":"BQ4"},{"$f":"'RELEVE BANCAIRE'!A327","v":"00:00:00"},{"$f":"'RELEVE BANCAIRE'!H327","v":325},{"$f":"'RELEVE BANCAIRE'!M327","v":51200004},{"$f":"'RELEVE BANCAIRE'!E327","v":0},{"$f":"'RELEVE BANCAIRE'!D327*-1","v":0},{"$f":"'RELEVE BANCAIRE'!C327","v":0}]
[{"$f":"'RELEVE BANCAIRE'!G328","v":"BQ4"},{"$f":"'RELEVE BANCAIRE'!A328","v":"00:00:00"},{"$f":"'RELEVE BANCAIRE'!H328","v":326},{"$f":"'RELEVE BANCAIRE'!M328","v":51200004},{"$f":"'RELEVE BANCAIRE'!E328","v":0},{"$f":"'RELEVE BANCAIRE'!D328*-1","v":0},{"$f":"'RELEVE BANCAIRE'!C328","v":0}]
[{"$f":"'RELEVE BANCAIRE'!G329","v":"BQ4"},{"$f":"'RELEVE BANCAIRE'!A329","v":"00:00:00"},{"$f":"'RELEVE BANCAIRE'!H329","v":327},{"$f":"'RELEVE BANCAIRE'!M329","v":51200004},{"$f":"'RELEVE BANCAIRE'!E329","v":0},{"$f":"'RELEVE BANCAIRE'!D329*-1","v":0},{"$f":"'RELEVE BANCAIRE'!C329","v":0}]
[{"$f":"'RELEVE BANCAIRE'!G330","v":"BQ4"},{"$f":"'RELEVE BANCAIRE'!A330","v":"00:00:00"},{"$f":"'RELEVE BANCAIRE'!H330","v":328},{"$f":"'RELEVE BANCAIRE'!M330","v":51200004},{"$f":"'RELEVE BANCAIRE'!E330","v":0},{"$f":"'RELEVE BANCAIRE'!D330*-1","v":0},{"$f":"'RELEVE BANCAIRE'!C330","v":0}]
[{"$f":"'RELEVE BANCAIRE'!G331","v":"BQ4"},{"$f":"'RELEVE BANCAIRE'!A331","v":"00:00:00"},{"$f":"'RELEVE BANCAIRE'!H331","v":329},{"$f":"'RELEVE BANCAIRE'!M331","v":51200004},{"$f":"'RELEVE BANCAIRE'!E331","v":0},{"$f":"'RELEVE BANCAIRE'!D331*-1","v":0},{"$f":"'RELEVE BANCAIRE'!C331","v":0}]
[{"$f":"'RELEVE BANCAIRE'!G332","v":"BQ4"},{"$f":"'RELEVE BANCAIRE'!A332","v":"00:00:00"},{"$f":"'RELEVE BANCAIRE'!H332","v":330},{"$f":"'RELEVE BANCAIRE'!M332","v":51200004},{"$f":"'RELEVE BANCAIRE'!E332","v":0},{"$f":"'RELEVE BANCAIRE'!D332*-1","v":0},{"$f":"'RELEVE BANCAIRE'!C332","v":0}]
[{"$f":"'RELEVE BANCAIRE'!G333","v":"BQ4"},{"$f":"'RELEVE BANCAIRE'!A333","v":"00:00:00"},{"$f":"'RELEVE BANCAIRE'!H333","v":331},{"$f":"'RELEVE BANCAIRE'!M333","v":51200004},{"$f":"'RELEVE BANCAIRE'!E333","v":0},{"$f":"'RELEVE BANCAIRE'!D333*-1","v":0},{"$f":"'RELEVE BANCAIRE'!C333","v":0}]
[{"$f":"'RELEVE BANCAIRE'!G334","v":"BQ4"},{"$f":"'RELEVE BANCAIRE'!A334","v":"00:00:00"},{"$f":"'RELEVE BANCAIRE'!H334","v":332},{"$f":"'RELEVE BANCAIRE'!M334","v":51200004},{"$f":"'RELEVE BANCAIRE'!E334","v":0},{"$f":"'RELEVE BANCAIRE'!D334*-1","v":0},{"$f":"'RELEVE BANCAIRE'!C334","v":0}]
[{"$f":"'RELEVE BANCAIRE'!G335","v":"BQ4"},{"$f":"'RELEVE BANCAIRE'!A335","v":"00:00:00"},{"$f":"'RELEVE BANCAIRE'!H335","v":333},{"$f":"'RELEVE BANCAIRE'!M335","v":51200004},{"$f":"'RELEVE BANCAIRE'!E335","v":0},{"$f":"'RELEVE BANCAIRE'!D335*-1","v":0},{"$f":"'RELEVE BANCAIRE'!C335","v":0}]
[{"$f":"'RELEVE BANCAIRE'!G336","v":"BQ4"},{"$f":"'RELEVE BANCAIRE'!A336","v":"00:00:00"},{"$f":"'RELEVE BANCAIRE'!H336","v":334},{"$f":"'RELEVE BANCAIRE'!M336","v":51200004},{"$f":"'RELEVE BANCAIRE'!E336","v":0},{"$f":"'RELEVE BANCAIRE'!D336*-1","v":0},{"$f":"'RELEVE BANCAIRE'!C336","v":0}]
[{"$f":"'RELEVE BANCAIRE'!G337","v":"BQ4"},{"$f":"'RELEVE BANCAIRE'!A337","v":"00:00:00"},{"$f":"'RELEVE BANCAIRE'!H337","v":335},{"$f":"'RELEVE BANCAIRE'!M337","v":51200004},{"$f":"'RELEVE BANCAIRE'!E337","v":0},{"$f":"'RELEVE BANCAIRE'!D337*-1","v":0},{"$f":"'RELEVE BANCAIRE'!C337","v":0}]
[{"$f":"'RELEVE BANCAIRE'!G338","v":"BQ4"},{"$f":"'RELEVE BANCAIRE'!A338","v":"00:00:00"},{"$f":"'RELEVE BANCAIRE'!H338","v":336},{"$f":"'RELEVE BANCAIRE'!M338","v":51200004},{"$f":"'RELEVE BANCAIRE'!E338","v":0},{"$f":"'RELEVE BANCAIRE'!D338*-1","v":0},{"$f":"'RELEVE BANCAIRE'!C338","v":0}]
[{"$f":"'RELEVE BANCAIRE'!G339","v":"BQ4"},{"$f":"'RELEVE BANCAIRE'!A339","v":"00:00:00"},{"$f":"'RELEVE BANCAIRE'!H339","v":337},{"$f":"'RELEVE BANCAIRE'!M339","v":51200004},{"$f":"'RELEVE BANCAIRE'!E339","v":0},{"$f":"'RELEVE BANCAIRE'!D339*-1","v":0},{"$f":"'RELEVE BANCAIRE'!C339","v":0}]
[{"$f":"'RELEVE BANCAIRE'!G340","v":"BQ4"},{"$f":"'RELEVE BANCAIRE'!A340","v":"00:00:00"},{"$f":"'RELEVE BANCAIRE'!H340","v":338},{"$f":"'RELEVE BANCAIRE'!M340","v":51200004},{"$f":"'RELEVE BANCAIRE'!E340","v":0},{"$f":"'RELEVE BANCAIRE'!D340*-1","v":0},{"$f":"'RELEVE BANCAIRE'!C340","v":0}]
[{"$f":"'RELEVE BANCAIRE'!G341","v":"BQ4"},{"$f":"'RELEVE BANCAIRE'!A341","v":"00:00:00"},{"$f":"'RELEVE BANCAIRE'!H341","v":339},{"$f":"'RELEVE BANCAIRE'!M341","v":51200004},{"$f":"'RELEVE BANCAIRE'!E341","v":0},{"$f":"'RELEVE BANCAIRE'!D341*-1","v":0},{"$f":"'RELEVE BANCAIRE'!C341","v":0}]
[{"$f":"'RELEVE BANCAIRE'!G342","v":"BQ4"},{"$f":"'RELEVE BANCAIRE'!A342","v":"00:00:00"},{"$f":"'RELEVE BANCAIRE'!H342","v":340},{"$f":"'RELEVE BANCAIRE'!M342","v":51200004},{"$f":"'RELEVE BANCAIRE'!E342","v":0},{"$f":"'RELEVE BANCAIRE'!D342*-1","v":0},{"$f":"'RELEVE BANCAIRE'!C342","v":0}]
[{"$f":"'RELEVE BANCAIRE'!G343","v":"BQ4"},{"$f":"'RELEVE BANCAIRE'!A343","v":"00:00:00"},{"$f":"'RELEVE BANCAIRE'!H343","v":341},{"$f":"'RELEVE BANCAIRE'!M343","v":51200004},{"$f":"'RELEVE BANCAIRE'!E343","v":0},{"$f":"'RELEVE BANCAIRE'!D343*-1","v":0},{"$f":"'RELEVE BANCAIRE'!C343","v":0}]
[{"$f":"'RELEVE BANCAIRE'!G344","v":"BQ4"},{"$f":"'RELEVE BANCAIRE'!A344","v":"00:00:00"},{"$f":"'RELEVE BANCAIRE'!H344","v":342},{"$f":"'RELEVE BANCAIRE'!M344","v":51200004},{"$f":"'RELEVE BANCAIRE'!E344","v":0},{"$f":"'RELEVE BANCAIRE'!D344*-1","v":0},{"$f":"'RELEVE BANCAIRE'!C344","v":0}]
[{"$f":"'RELEVE BANCAIRE'!G345","v":"BQ4"},{"$f":"'RELEVE BANCAIRE'!A345","v":"00:00:00"},{"$f":"'RELEVE BANCAIRE'!H345","v":343},{"$f":"'RELEVE BANCAIRE'!M345","v":51200004},{"$f":"'RELEVE BANCAIRE'!E345","v":0},{"$f":"'RELEVE BANCAIRE'!D345*-1","v":0},{"$f":"'RELEVE BANCAIRE'!C345","v":0}]
[{"$f":"'RELEVE BANCAIRE'!G346","v":"BQ4"},{"$f":"'RELEVE BANCAIRE'!A346","v":"00:00:00"},{"$f":"'RELEVE BANCAIRE'!H346","v":344},{"$f":"'RELEVE BANCAIRE'!M346","v":51200004},{"$f":"'RELEVE BANCAIRE'!E346","v":0},{"$f":"'RELEVE BANCAIRE'!D346*-1","v":0},{"$f":"'RELEVE BANCAIRE'!C346","v":0}]
[{"$f":"'RELEVE BANCAIRE'!G347","v":"BQ4"},{"$f":"'RELEVE BANCAIRE'!A347","v":"00:00:00"},{"$f":"'RELEVE BANCAIRE'!H347","v":345},{"$f":"'RELEVE BANCAIRE'!M347","v":51200004},{"$f":"'RELEVE BANCAIRE'!E347","v":0},{"$f":"'RELEVE BANCAIRE'!D347*-1","v":0},{"$f":"'RELEVE BANCAIRE'!C347","v":0}]
[{"$f":"'RELEVE BANCAIRE'!G348","v":"BQ4"},{"$f":"'RELEVE BANCAIRE'!A348","v":"00:00:00"},{"$f":"'RELEVE BANCAIRE'!H348","v":346},{"$f":"'RELEVE BANCAIRE'!M348","v":51200004},{"$f":"'RELEVE BANCAIRE'!E348","v":0},{"$f":"'RELEVE BANCAIRE'!D348*-1","v":0},{"$f":"'RELEVE BANCAIRE'!C348","v":0}]
[{"$f":"'RELEVE BANCAIRE'!G349","v":"BQ4"},{"$f":"'RELEVE BANCAIRE'!A349","v":"00:00:00"},{"$f":"'RELEVE BANCAIRE'!H349","v":347},{"$f":"'RELEVE BANCAIRE'!M349","v":51200004},{"$f":"'RELEVE BANCAIRE'!E349","v":0},{"$f":"'RELEVE BANCAIRE'!D349*-1","v":0},{"$f":"'RELEVE BANCAIRE'!C349","v":0}]
[{"$f":"'RELEVE BANCAIRE'!G350","v":"BQ4"},{"$f":"'RELEVE BANCAIRE'!A350","v":"00:00:00"},{"$f":"'RELEVE BANCAIRE'!H350","v":348},{"$f":"'RELEVE BANCAIRE'!M350","v":51200004},{"$f":"'RELEVE BANCAIRE'!E350","v":0},{"$f":"'RELEVE BANCAIRE'!D350*-1","v":0},{"$f":"'RELEVE BANCAIRE'!C350","v":0}]
[{"$f":"'RELEVE BANCAIRE'!G351","v":"BQ4"},{"$f":"'RELEVE BANCAIRE'!A351","v":"00:00:00"},{"$f":"'RELEVE BANCAIRE'!H351","v":349},{"$f":"'RELEVE BANCAIRE'!M351","v":51200004},{"$f":"'RELEVE BANCAIRE'!E351","v":0},{"$f":"'RELEVE BANCAIRE'!D351*-1","v":0},{"$f":"'RELEVE BANCAIRE'!C351","v":0}]
[{"$f":"'RELEVE BANCAIRE'!G352","v":"BQ4"},{"$f":"'RELEVE BANCAIRE'!A352","v":"00:00:00"},{"$f":"'RELEVE BANCAIRE'!H352","v":350},{"$f":"'RELEVE BANCAIRE'!M352","v":51200004},{"$f":"'RELEVE BANCAIRE'!E352","v":0},{"$f":"'RELEVE BANCAIRE'!D352*-1","v":0},{"$f":"'RELEVE BANCAIRE'!C352","v":0}]
[{"$f":"'RELEVE BANCAIRE'!G353","v":"BQ4"},{"$f":"'RELEVE BANCAIRE'!A353","v":"00:00:00"},{"$f":"'RELEVE BANCAIRE'!H353","v":351},{"$f":"'RELEVE BANCAIRE'!M353","v":51200004},{"$f":"'RELEVE BANCAIRE'!E353","v":0},{"$f":"'RELEVE BANCAIRE'!D353*-1","v":0},{"$f":"'RELEVE BANCAIRE'!C353","v":0}]
[{"$f":"'RELEVE BANCAIRE'!G354","v":"BQ4"},{"$f":"'RELEVE BANCAIRE'!A354","v":"00:00:00"},{"$f":"'RELEVE BANCAIRE'!H354","v":352},{"$f":"'RELEVE BANCAIRE'!M354","v":51200004},{"$f":"'RELEVE BANCAIRE'!E354","v":0},{"$f":"'RELEVE BANCAIRE'!D354*-1","v":0},{"$f":"'RELEVE BANCAIRE'!C354","v":0}]
[{"$f":"'RELEVE BANCAIRE'!G355","v":"BQ4"},{"$f":"'RELEVE BANCAIRE'!A355","v":"00:00:00"},{"$f":"'RELEVE BANCAIRE'!H355","v":353},{"$f":"'RELEVE BANCAIRE'!M355","v":51200004},{"$f":"'RELEVE BANCAIRE'!E355","v":0},{"$f":"'RELEVE BANCAIRE'!D355*-1","v":0},{"$f":"'RELEVE BANCAIRE'!C355","v":0}]
[{"$f":"'RELEVE BANCAIRE'!G356","v":"BQ4"},{"$f":"'RELEVE BANCAIRE'!A356","v":"00:00:00"},{"$f":"'RELEVE BANCAIRE'!H356","v":354},{"$f":"'RELEVE BANCAIRE'!M356","v":51200004},{"$f":"'RELEVE BANCAIRE'!E356","v":0},{"$f":"'RELEVE BANCAIRE'!D356*-1","v":0},{"$f":"'RELEVE BANCAIRE'!C356","v":0}]
[{"$f":"'RELEVE BANCAIRE'!G357","v":"BQ4"},{"$f":"'RELEVE BANCAIRE'!A357","v":"00:00:00"},{"$f":"'RELEVE BANCAIRE'!H357","v":355},{"$f":"'RELEVE BANCAIRE'!M357","v":51200004},{"$f":"'RELEVE BANCAIRE'!E357","v":0},{"$f":"'RELEVE BANCAIRE'!D357*-1","v":0},{"$f":"'RELEVE BANCAIRE'!C357","v":0}]
[{"$f":"'RELEVE BANCAIRE'!G358","v":"BQ4"},{"$f":"'RELEVE BANCAIRE'!A358","v":"00:00:00"},{"$f":"'RELEVE BANCAIRE'!H358","v":356},{"$f":"'RELEVE BANCAIRE'!M358","v":51200004},{"$f":"'RELEVE BANCAIRE'!E358","v":0},{"$f":"'RELEVE BANCAIRE'!D358*-1","v":0},{"$f":"'RELEVE BANCAIRE'!C358","v":0}]
[{"$f":"'RELEVE BANCAIRE'!G359","v":"BQ4"},{"$f":"'RELEVE BANCAIRE'!A359","v":"00:00:00"},{"$f":"'RELEVE BANCAIRE'!H359","v":357},{"$f":"'RELEVE BANCAIRE'!M359","v":51200004},{"$f":"'RELEVE BANCAIRE'!E359","v":0},{"$f":"'RELEVE BANCAIRE'!D359*-1","v":0},{"$f":"'RELEVE BANCAIRE'!C359","v":0}]
[{"$f":"'RELEVE BANCAIRE'!G360","v":"BQ4"},{"$f":"'RELEVE BANCAIRE'!A360","v":"00:00:00"},{"$f":"'RELEVE BANCAIRE'!H360","v":358},{"$f":"'RELEVE BANCAIRE'!M360","v":51200004},{"$f":"'RELEVE BANCAIRE'!E360","v":0},{"$f":"'RELEVE BANCAIRE'!D360*-1","v":0},{"$f":"'RELEVE BANCAIRE'!C360","v":0}]
[{"$f":"'RELEVE BANCAIRE'!G361","v":"BQ4"},{"$f":"'RELEVE BANCAIRE'!A361","v":"00:00:00"},{"$f":"'RELEVE BANCAIRE'!H361","v":359},{"$f":"'RELEVE BANCAIRE'!M361","v":51200004},{"$f":"'RELEVE BANCAIRE'!E361","v":0},{"$f":"'RELEVE BANCAIRE'!D361*-1","v":0},{"$f":"'RELEVE BANCAIRE'!C361","v":0}]
[{"$f":"'RELEVE BANCAIRE'!G362","v":"BQ4"},{"$f":"'RELEVE BANCAIRE'!A362","v":"00:00:00"},{"$f":"'RELEVE BANCAIRE'!H362","v":360},{"$f":"'RELEVE BANCAIRE'!M362","v":51200004},{"$f":"'RELEVE BANCAIRE'!E362","v":0},{"$f":"'RELEVE BANCAIRE'!D362*-1","v":0},{"$f":"'RELEVE BANCAIRE'!C362","v":0}]
[{"$f":"'RELEVE BANCAIRE'!G363","v":"BQ4"},{"$f":"'RELEVE BANCAIRE'!A363","v":"00:00:00"},{"$f":"'RELEVE BANCAIRE'!H363","v":361},{"$f":"'RELEVE BANCAIRE'!M363","v":51200004},{"$f":"'RELEVE BANCAIRE'!E363","v":0},{"$f":"'RELEVE BANCAIRE'!D363*-1","v":0},{"$f":"'RELEVE BANCAIRE'!C363","v":0}]
[{"$f":"'RELEVE BANCAIRE'!G364","v":"BQ4"},{"$f":"'RELEVE BANCAIRE'!A364","v":"00:00:00"},{"$f":"'RELEVE BANCAIRE'!H364","v":362},{"$f":"'RELEVE BANCAIRE'!M364","v":51200004},{"$f":"'RELEVE BANCAIRE'!E364","v":0},{"$f":"'RELEVE BANCAIRE'!D364*-1","v":0},{"$f":"'RELEVE BANCAIRE'!C364","v":0}]
[{"$f":"'RELEVE BANCAIRE'!G365","v":"BQ4"},{"$f":"'RELEVE BANCAIRE'!A365","v":"00:00:00"},{"$f":"'RELEVE BANCAIRE'!H365","v":363},{"$f":"'RELEVE BANCAIRE'!M365","v":51200004},{"$f":"'RELEVE BANCAIRE'!E365","v":0},{"$f":"'RELEVE BANCAIRE'!D365*-1","v":0},{"$f":"'RELEVE BANCAIRE'!C365","v":0}]
[{"$f":"'RELEVE BANCAIRE'!G366","v":"BQ4"},{"$f":"'RELEVE BANCAIRE'!A366","v":"00:00:00"},{"$f":"'RELEVE BANCAIRE'!H366","v":364},{"$f":"'RELEVE BANCAIRE'!M366","v":51200004},{"$f":"'RELEVE BANCAIRE'!E366","v":0},{"$f":"'RELEVE BANCAIRE'!D366*-1","v":0},{"$f":"'RELEVE BANCAIRE'!C366","v":0}]
[{"$f":"'RELEVE BANCAIRE'!G367","v":"BQ4"},{"$f":"'RELEVE BANCAIRE'!A367","v":"00:00:00"},{"$f":"'RELEVE BANCAIRE'!H367","v":365},{"$f":"'RELEVE BANCAIRE'!M367","v":51200004},{"$f":"'RELEVE BANCAIRE'!E367","v":0},{"$f":"'RELEVE BANCAIRE'!D367*-1","v":0},{"$f":"'RELEVE BANCAIRE'!C367","v":0}]
[{"$f":"'RELEVE BANCAIRE'!G368","v":"BQ4"},{"$f":"'RELEVE BANCAIRE'!A368","v":"00:00:00"},{"$f":"'RELEVE BANCAIRE'!H368","v":366},{"$f":"'RELEVE BANCAIRE'!M368","v":51200004},{"$f":"'RELEVE BANCAIRE'!E368","v":0},{"$f":"'RELEVE BANCAIRE'!D368*-1","v":0},{"$f":"'RELEVE BANCAIRE'!C368","v":0}]
[{"$f":"'RELEVE BANCAIRE'!G369","v":"BQ4"},{"$f":"'RELEVE BANCAIRE'!A369","v":"00:00:00"},{"$f":"'RELEVE BANCAIRE'!H369","v":367},{"$f":"'RELEVE BANCAIRE'!M369","v":51200004},{"$f":"'RELEVE BANCAIRE'!E369","v":0},{"$f":"'RELEVE BANCAIRE'!D369*-1","v":0},{"$f":"'RELEVE BANCAIRE'!C369","v":0}]
[{"$f":"'RELEVE BANCAIRE'!G370","v":"BQ4"},{"$f":"'RELEVE BANCAIRE'!A370","v":"00:00:00"},{"$f":"'RELEVE BANCAIRE'!H370","v":368},{"$f":"'RELEVE BANCAIRE'!M370","v":51200004},{"$f":"'RELEVE BANCAIRE'!E370","v":0},{"$f":"'RELEVE BANCAIRE'!D370*-1","v":0},{"$f":"'RELEVE BANCAIRE'!C370","v":0}]
[{"$f":"'RELEVE BANCAIRE'!G371","v":"BQ4"},{"$f":"'RELEVE BANCAIRE'!A371","v":"00:00:00"},{"$f":"'RELEVE BANCAIRE'!H371","v":369},{"$f":"'RELEVE BANCAIRE'!M371","v":51200004},{"$f":"'RELEVE BANCAIRE'!E371","v":0},{"$f":"'RELEVE BANCAIRE'!D371*-1","v":0},{"$f":"'RELEVE BANCAIRE'!C371","v":0}]
[{"$f":"'RELEVE BANCAIRE'!G372","v":"BQ4"},{"$f":"'RELEVE BANCAIRE'!A372","v":"00:00:00"},{"$f":"'RELEVE BANCAIRE'!H372","v":370},{"$f":"'RELEVE BANCAIRE'!M372","v":51200004},{"$f":"'RELEVE BANCAIRE'!E372","v":0},{"$f":"'RELEVE BANCAIRE'!D372*-1","v":0},{"$f":"'RELEVE BANCAIRE'!C372","v":0}]
[{"$f":"'RELEVE BANCAIRE'!G373","v":"BQ4"},{"$f":"'RELEVE BANCAIRE'!A373","v":"00:00:00"},{"$f":"'RELEVE BANCAIRE'!H373","v":371},{"$f":"'RELEVE BANCAIRE'!M373","v":51200004},{"$f":"'RELEVE BANCAIRE'!E373","v":0},{"$f":"'RELEVE BANCAIRE'!D373*-1","v":0},{"$f":"'RELEVE BANCAIRE'!C373","v":0}]
[{"$f":"'RELEVE BANCAIRE'!G374","v":"BQ4"},{"$f":"'RELEVE BANCAIRE'!A374","v":"00:00:00"},{"$f":"'RELEVE BANCAIRE'!H374","v":372},{"$f":"'RELEVE BANCAIRE'!M374","v":51200004},{"$f":"'RELEVE BANCAIRE'!E374","v":0},{"$f":"'RELEVE BANCAIRE'!D374*-1","v":0},{"$f":"'RELEVE BANCAIRE'!C374","v":0}]
[{"$f":"'RELEVE BANCAIRE'!G375","v":"BQ4"},{"$f":"'RELEVE BANCAIRE'!A375","v":"00:00:00"},{"$f":"'RELEVE BANCAIRE'!H375","v":373},{"$f":"'RELEVE BANCAIRE'!M375","v":51200004},{"$f":"'RELEVE BANCAIRE'!E375","v":0},{"$f":"'RELEVE BANCAIRE'!D375*-1","v":0},{"$f":"'RELEVE BANCAIRE'!C375","v":0}]
[{"$f":"'RELEVE BANCAIRE'!G376","v":"BQ4"},{"$f":"'RELEVE BANCAIRE'!A376","v":"00:00:00"},{"$f":"'RELEVE BANCAIRE'!H376","v":374},{"$f":"'RELEVE BANCAIRE'!M376","v":51200004},{"$f":"'RELEVE BANCAIRE'!E376","v":0},{"$f":"'RELEVE BANCAIRE'!D376*-1","v":0},{"$f":"'RELEVE BANCAIRE'!C376","v":0}]
[{"$f":"'RELEVE BANCAIRE'!G377","v":"BQ4"},{"$f":"'RELEVE BANCAIRE'!A377","v":"00:00:00"},{"$f":"'RELEVE BANCAIRE'!H377","v":375},{"$f":"'RELEVE BANCAIRE'!M377","v":51200004},{"$f":"'RELEVE BANCAIRE'!E377","v":0},{"$f":"'RELEVE BANCAIRE'!D377*-1","v":0},{"$f":"'RELEVE BANCAIRE'!C377","v":0}]
[{"$f":"'RELEVE BANCAIRE'!G378","v":"BQ4"},{"$f":"'RELEVE BANCAIRE'!A378","v":"00:00:00"},{"$f":"'RELEVE BANCAIRE'!H378","v":376},{"$f":"'RELEVE BANCAIRE'!M378","v":51200004},{"$f":"'RELEVE BANCAIRE'!E378","v":0},{"$f":"'RELEVE BANCAIRE'!D378*-1","v":0},{"$f":"'RELEVE BANCAIRE'!C378","v":0}]
[{"$f":"'RELEVE BANCAIRE'!G379","v":"BQ4"},{"$f":"'RELEVE BANCAIRE'!A379","v":"00:00:00"},{"$f":"'RELEVE BANCAIRE'!H379","v":377},{"$f":"'RELEVE BANCAIRE'!M379","v":51200004},{"$f":"'RELEVE BANCAIRE'!E379","v":0},{"$f":"'RELEVE BANCAIRE'!D379*-1","v":0},{"$f":"'RELEVE BANCAIRE'!C379","v":0}]
[{"$f":"'RELEVE BANCAIRE'!G380","v":"BQ4"},{"$f":"'RELEVE BANCAIRE'!A380","v":"00:00:00"},{"$f":"'RELEVE BANCAIRE'!H380","v":378},{"$f":"'RELEVE BANCAIRE'!M380","v":51200004},{"$f":"'RELEVE BANCAIRE'!E380","v":0},{"$f":"'RELEVE BANCAIRE'!D380*-1","v":0},{"$f":"'RELEVE BANCAIRE'!C380","v":0}]
[{"$f":"'RELEVE BANCAIRE'!G381","v":"BQ4"},{"$f":"'RELEVE BANCAIRE'!A381","v":"00:00:00"},{"$f":"'RELEVE BANCAIRE'!H381","v":379},{"$f":"'RELEVE BANCAIRE'!M381","v":51200004},{"$f":"'RELEVE BANCAIRE'!E381","v":0},{"$f":"'RELEVE BANCAIRE'!D381*-1","v":0},{"$f":"'RELEVE BANCAIRE'!C381","v":0}]
[{"$f":"'RELEVE BANCAIRE'!G382","v":"BQ4"},{"$f":"'RELEVE BANCAIRE'!A382","v":"00:00:00"},{"$f":"'RELEVE BANCAIRE'!H382","v":380},{"$f":"'RELEVE BANCAIRE'!M382","v":51200004},{"$f":"'RELEVE BANCAIRE'!E382","v":0},{"$f":"'RELEVE BANCAIRE'!D382*-1","v":0},{"$f":"'RELEVE BANCAIRE'!C382","v":0}]
[{"$f":"'RELEVE BANCAIRE'!G383","v":"BQ4"},{"$f":"'RELEVE BANCAIRE'!A383","v":"00:00:00"},{"$f":"'RELEVE BANCAIRE'!H383","v":381},{"$f":"'RELEVE BANCAIRE'!M383","v":51200004},{"$f":"'RELEVE BANCAIRE'!E383","v":0},{"$f":"'RELEVE BANCAIRE'!D383*-1","v":0},{"$f":"'RELEVE BANCAIRE'!C383","v":0}]
[{"$f":"'RELEVE BANCAIRE'!G384","v":"BQ4"},{"$f":"'RELEVE BANCAIRE'!A384","v":"00:00:00"},{"$f":"'RELEVE BANCAIRE'!H384","v":382},{"$f":"'RELEVE BANCAIRE'!M384","v":51200004},{"$f":"'RELEVE BANCAIRE'!E384","v":0},{"$f":"'RELEVE BANCAIRE'!D384*-1","v":0},{"$f":"'RELEVE BANCAIRE'!C384","v":0}]
[{"$f":"'RELEVE BANCAIRE'!G385","v":"BQ4"},{"$f":"'RELEVE BANCAIRE'!A385","v":"00:00:00"},{"$f":"'RELEVE BANCAIRE'!H385","v":383},{"$f":"'RELEVE BANCAIRE'!M385","v":51200004},{"$f":"'RELEVE BANCAIRE'!E385","v":0},{"$f":"'RELEVE BANCAIRE'!D385*-1","v":0},{"$f":"'RELEVE BANCAIRE'!C385","v":0}]
[{"$f":"'RELEVE BANCAIRE'!G386","v":"BQ4"},{"$f":"'RELEVE BANCAIRE'!A386","v":"00:00:00"},{"$f":"'RELEVE BANCAIRE'!H386","v":384},{"$f":"'RELEVE BANCAIRE'!M386","v":51200004},{"$f":"'RELEVE BANCAIRE'!E386","v":0},{"$f":"'RELEVE BANCAIRE'!D386*-1","v":0},{"$f":"'RELEVE BANCAIRE'!C386","v":0}]
[{"$f":"'RELEVE BANCAIRE'!G387","v":"BQ4"},{"$f":"'RELEVE BANCAIRE'!A387","v":"00:00:00"},{"$f":"'RELEVE BANCAIRE'!H387","v":385},{"$f":"'RELEVE BANCAIRE'!M387","v":51200004},{"$f":"'RELEVE BANCAIRE'!E387","v":0},{"$f":"'RELEVE BANCAIRE'!D387*-1","v":0},{"$f":"'RELEVE BANCAIRE'!C387","v":0}]
[{"$f":"'RELEVE BANCAIRE'!G388","v":"BQ4"},{"$f":"'RELEVE BANCAIRE'!A388","v":"00:00:00"},{"$f":"'RELEVE BANCAIRE'!H388","v":386},{"$f":"'RELEVE BANCAIRE'!M388","v":51200004},{"$f":"'RELEVE BANCAIRE'!E388","v":0},{"$f":"'RELEVE BANCAIRE'!D388*-1","v":0},{"$f":"'RELEVE BANCAIRE'!C388","v":0}]
[{"$f":"'RELEVE BANCAIRE'!G389","v":"BQ4"},{"$f":"'RELEVE BANCAIRE'!A389","v":"00:00:00"},{"$f":"'RELEVE BANCAIRE'!H389","v":387},{"$f":"'RELEVE BANCAIRE'!M389","v":51200004},{"$f":"'RELEVE BANCAIRE'!E389","v":0},{"$f":"'RELEVE BANCAIRE'!D389*-1","v":0},{"$f":"'RELEVE BANCAIRE'!C389","v":0}]
[{"$f":"'RELEVE BANCAIRE'!G390","v":"BQ4"},{"$f":"'RELEVE BANCAIRE'!A390","v":"00:00:00"},{"$f":"'RELEVE BANCAIRE'!H390","v":388},{"$f":"'RELEVE BANCAIRE'!M390","v":51200004},{"$f":"'RELEVE BANCAIRE'!E390","v":0},{"$f":"'RELEVE BANCAIRE'!D390*-1","v":0},{"$f":"'RELEVE BANCAIRE'!C390","v":0}]
[{"$f":"'RELEVE BANCAIRE'!G391","v":"BQ4"},{"$f":"'RELEVE BANCAIRE'!A391","v":"00:00:00"},{"$f":"'RELEVE BANCAIRE'!H391","v":389},{"$f":"'RELEVE BANCAIRE'!M391","v":51200004},{"$f":"'RELEVE BANCAIRE'!E391","v":0},{"$f":"'RELEVE BANCAIRE'!D391*-1","v":0},{"$f":"'RELEVE BANCAIRE'!C391","v":0}]
[{"$f":"'RELEVE BANCAIRE'!G392","v":"BQ4"},{"$f":"'RELEVE BANCAIRE'!A392","v":"00:00:00"},{"$f":"'RELEVE BANCAIRE'!H392","v":390},{"$f":"'RELEVE BANCAIRE'!M392","v":51200004},{"$f":"'RELEVE BANCAIRE'!E392","v":0},{"$f":"'RELEVE BANCAIRE'!D392*-1","v":0},{"$f":"'RELEVE BANCAIRE'!C392","v":0}]
[{"$f":"'RELEVE BANCAIRE'!G393","v":"BQ4"},{"$f":"'RELEVE BANCAIRE'!A393","v":"00:00:00"},{"$f":"'RELEVE BANCAIRE'!H393","v":391},{"$f":"'RELEVE BANCAIRE'!M393","v":51200004},{"$f":"'RELEVE BANCAIRE'!E393","v":0},{"$f":"'RELEVE BANCAIRE'!D393*-1","v":0},{"$f":"'RELEVE BANCAIRE'!C393","v":0}]
[{"$f":"'RELEVE BANCAIRE'!G394","v":"BQ4"},{"$f":"'RELEVE BANCAIRE'!A394","v":"00:00:00"},{"$f":"'RELEVE BANCAIRE'!H394","v":392},{"$f":"'RELEVE BANCAIRE'!M394","v":51200004},{"$f":"'RELEVE BANCAIRE'!E394","v":0},{"$f":"'RELEVE BANCAIRE'!D394*-1","v":0},{"$f":"'RELEVE BANCAIRE'!C394","v":0}]
[{"$f":"'RELEVE BANCAIRE'!G395","v":"BQ4"},{"$f":"'RELEVE BANCAIRE'!A395","v":"00:00:00"},{"$f":"'RELEVE BANCAIRE'!H395","v":393},{"$f":"'RELEVE BANCAIRE'!M395","v":51200004},{"$f":"'RELEVE BANCAIRE'!E395","v":0},{"$f":"'RELEVE BANCAIRE'!D395*-1","v":0},{"$f":"'RELEVE BANCAIRE'!C395","v":0}]
[{"$f":"'RELEVE BANCAIRE'!G396","v":"BQ4"},{"$f":"'RELEVE BANCAIRE'!A396","v":"00:00:00"},{"$f":"'RELEVE BANCAIRE'!H396","v":394},{"$f":"'RELEVE BANCAIRE'!M396","v":51200004},{"$f":"'RELEVE BANCAIRE'!E396","v":0},{"$f":"'RELEVE BANCAIRE'!D396*-1","v":0},{"$f":"'RELEVE BANCAIRE'!C396","v":0}]
[{"$f":"'RELEVE BANCAIRE'!G397","v":"BQ4"},{"$f":"'RELEVE BANCAIRE'!A397","v":"00:00:00"},{"$f":"'RELEVE BANCAIRE'!H397","v":395},{"$f":"'RELEVE BANCAIRE'!M397","v":51200004},{"$f":"'RELEVE BANCAIRE'!E397","v":0},{"$f":"'RELEVE BANCAIRE'!D397*-1","v":0},{"$f":"'RELEVE BANCAIRE'!C397","v":0}]
[{"$f":"'RELEVE BANCAIRE'!G398","v":"BQ4"},{"$f":"'RELEVE BANCAIRE'!A398","v":"00:00:00"},{"$f":"'RELEVE BANCAIRE'!H398","v":396},{"$f":"'RELEVE BANCAIRE'!M398","v":51200004},{"$f":"'RELEVE BANCAIRE'!E398","v":0},{"$f":"'RELEVE BANCAIRE'!D398*-1","v":0},{"$f":"'RELEVE BANCAIRE'!C398","v":0}]
[{"$f":"'RELEVE BANCAIRE'!G399","v":"BQ4"},{"$f":"'RELEVE BANCAIRE'!A399","v":"00:00:00"},{"$f":"'RELEVE BANCAIRE'!H399","v":397},{"$f":"'RELEVE BANCAIRE'!M399","v":51200004},{"$f":"'RELEVE BANCAIRE'!E399","v":0},{"$f":"'RELEVE BANCAIRE'!D399*-1","v":0},{"$f":"'RELEVE BANCAIRE'!C399","v":0}]
[{"$f":"'RELEVE BANCAIRE'!G400","v":"BQ4"},{"$f":"'RELEVE BANCAIRE'!A400","v":"00:00:00"},{"$f":"'RELEVE BANCAIRE'!H400","v":398},{"$f":"'RELEVE BANCAIRE'!M400","v":51200004},{"$f":"'RELEVE BANCAIRE'!E400","v":0},{"$f":"'RELEVE BANCAIRE'!D400*-1","v":0},{"$f":"'RELEVE BANCAIRE'!C400","v":0}]
[{"$f":"'RELEVE BANCAIRE'!G401","v":"BQ4"},{"$f":"'RELEVE BANCAIRE'!A401","v":"00:00:00"},{"$f":"'RELEVE BANCAIRE'!H401","v":399},{"$f":"'RELEVE BANCAIRE'!M401","v":51200004},{"$f":"'RELEVE BANCAIRE'!E401","v":0},{"$f":"'RELEVE BANCAIRE'!D401*-1","v":0},{"$f":"'RELEVE BANCAIRE'!C401","v":0}]
[{"$f":"'RELEVE BANCAIRE'!G402","v":"BQ4"},{"$f":"'RELEVE BANCAIRE'!A402","v":"00:00:00"},{"$f":"'RELEVE BANCAIRE'!H402","v":400},{"$f":"'RELEVE BANCAIRE'!M402","v":51200004},{"$f":"'RELEVE BANCAIRE'!E402","v":0},{"$f":"'RELEVE BANCAIRE'!D402*-1","v":0},{"$f":"'RELEVE BANCAIRE'!C402","v":0}]
[{"$f":"'RELEVE BANCAIRE'!G403","v":"BQ4"},{"$f":"'RELEVE BANCAIRE'!A403","v":"00:00:00"},{"$f":"'RELEVE BANCAIRE'!H403","v":401},{"$f":"'RELEVE BANCAIRE'!M403","v":51200004},{"$f":"'RELEVE BANCAIRE'!E403","v":0},{"$f":"'RELEVE BANCAIRE'!D403*-1","v":0},{"$f":"'RELEVE BANCAIRE'!C403","v":0}]
[{"$f":"'RELEVE BANCAIRE'!G404","v":"BQ4"},{"$f":"'RELEVE BANCAIRE'!A404","v":"00:00:00"},{"$f":"'RELEVE BANCAIRE'!H404","v":402},{"$f":"'RELEVE BANCAIRE'!M404","v":51200004},{"$f":"'RELEVE BANCAIRE'!E404","v":0},{"$f":"'RELEVE BANCAIRE'!D404*-1","v":0},{"$f":"'RELEVE BANCAIRE'!C404","v":0}]
[{"$f":"'RELEVE BANCAIRE'!G405","v":"BQ4"},{"$f":"'RELEVE BANCAIRE'!A405","v":"00:00:00"},{"$f":"'RELEVE BANCAIRE'!H405","v":403},{"$f":"'RELEVE BANCAIRE'!M405","v":51200004},{"$f":"'RELEVE BANCAIRE'!E405","v":0},{"$f":"'RELEVE BANCAIRE'!D405*-1","v":0},{"$f":"'RELEVE BANCAIRE'!C405","v":0}]
[{"$f":"'RELEVE BANCAIRE'!G406","v":"BQ4"},{"$f":"'RELEVE BANCAIRE'!A406","v":"00:00:00"},{"$f":"'RELEVE BANCAIRE'!H406","v":404},{"$f":"'RELEVE BANCAIRE'!M406","v":51200004},{"$f":"'RELEVE BANCAIRE'!E406","v":0},{"$f":"'RELEVE BANCAIRE'!D406*-1","v":0},{"$f":"'RELEVE BANCAIRE'!C406","v":0}]
[{"$f":"'RELEVE BANCAIRE'!G407","v":"BQ4"},{"$f":"'RELEVE BANCAIRE'!A407","v":"00:00:00"},{"$f":"'RELEVE BANCAIRE'!H407","v":405},{"$f":"'RELEVE BANCAIRE'!M407","v":51200004},{"$f":"'RELEVE BANCAIRE'!E407","v":0},{"$f":"'RELEVE BANCAIRE'!D407*-1","v":0},{"$f":"'RELEVE BANCAIRE'!C407","v":0}]
[{"$f":"'RELEVE BANCAIRE'!G408","v":"BQ4"},{"$f":"'RELEVE BANCAIRE'!A408","v":"00:00:00"},{"$f":"'RELEVE BANCAIRE'!H408","v":406},{"$f":"'RELEVE BANCAIRE'!M408","v":51200004},{"$f":"'RELEVE BANCAIRE'!E408","v":0},{"$f":"'RELEVE BANCAIRE'!D408*-1","v":0},{"$f":"'RELEVE BANCAIRE'!C408","v":0}]
[{"$f":"'RELEVE BANCAIRE'!G409","v":"BQ4"},{"$f":"'RELEVE BANCAIRE'!A409","v":"00:00:00"},{"$f":"'RELEVE BANCAIRE'!H409","v":407},{"$f":"'RELEVE BANCAIRE'!M409","v":51200004},{"$f":"'RELEVE BANCAIRE'!E409","v":0},{"$f":"'RELEVE BANCAIRE'!D409*-1","v":0},{"$f":"'RELEVE BANCAIRE'!C409","v":0}]
[{"$f":"'RELEVE BANCAIRE'!G410","v":"BQ4"},{"$f":"'RELEVE BANCAIRE'!A410","v":"00:00:00"},{"$f":"'RELEVE BANCAIRE'!H410","v":408},{"$f":"'RELEVE BANCAIRE'!M410","v":51200004},{"$f":"'RELEVE BANCAIRE'!E410","v":0},{"$f":"'RELEVE BANCAIRE'!D410*-1","v":0},{"$f":"'RELEVE BANCAIRE'!C410","v":0}]
[{"$f":"'RELEVE BANCAIRE'!G411","v":"BQ4"},{"$f":"'RELEVE BANCAIRE'!A411","v":"00:00:00"},{"$f":"'RELEVE BANCAIRE'!H411","v":409},{"$f":"'RELEVE BANCAIRE'!M411","v":51200004},{"$f":"'RELEVE BANCAIRE'!E411","v":0},{"$f":"'RELEVE BANCAIRE'!D411*-1","v":0},{"$f":"'RELEVE BANCAIRE'!C411","v":0}]
[{"$f":"'RELEVE BANCAIRE'!G412","v":"BQ4"},{"$f":"'RELEVE BANCAIRE'!A412","v":"00:00:00"},{"$f":"'RELEVE BANCAIRE'!H412","v":410},{"$f":"'RELEVE BANCAIRE'!M412","v":51200004},{"$f":"'RELEVE BANCAIRE'!E412","v":0},{"$f":"'RELEVE BANCAIRE'!D412*-1","v":0},{"$f":"'RELEVE BANCAIRE'!C412","v":0}]
[{"$f":"'RELEVE BANCAIRE'!G413","v":"BQ4"},{"$f":"'RELEVE BANCAIRE'!A413","v":"00:00:00"},{"$f":"'RELEVE BANCAIRE'!H413","v":411},{"$f":"'RELEVE BANCAIRE'!M413","v":51200004},{"$f":"'RELEVE BANCAIRE'!E413","v":0},{"$f":"'RELEVE BANCAIRE'!D413*-1","v":0},{"$f":"'RELEVE BANCAIRE'!C413","v":0}]
[{"$f":"'RELEVE BANCAIRE'!G414","v":"BQ4"},{"$f":"'RELEVE BANCAIRE'!A414","v":"00:00:00"},{"$f":"'RELEVE BANCAIRE'!H414","v":412},{"$f":"'RELEVE BANCAIRE'!M414","v":51200004},{"$f":"'RELEVE BANCAIRE'!E414","v":0},{"$f":"'RELEVE BANCAIRE'!D414*-1","v":0},{"$f":"'RELEVE BANCAIRE'!C414","v":0}]
[{"$f":"'RELEVE BANCAIRE'!G415","v":"BQ4"},{"$f":"'RELEVE BANCAIRE'!A415","v":"00:00:00"},{"$f":"'RELEVE BANCAIRE'!H415","v":413},{"$f":"'RELEVE BANCAIRE'!M415","v":51200004},{"$f":"'RELEVE BANCAIRE'!E415","v":0},{"$f":"'RELEVE BANCAIRE'!D415*-1","v":0},{"$f":"'RELEVE BANCAIRE'!C415","v":0}]
[{"$f":"'RELEVE BANCAIRE'!G416","v":"BQ4"},{"$f":"'RELEVE BANCAIRE'!A416","v":"00:00:00"},{"$f":"'RELEVE BANCAIRE'!H416","v":414},{"$f":"'RELEVE BANCAIRE'!M416","v":51200004},{"$f":"'RELEVE BANCAIRE'!E416","v":0},{"$f":"'RELEVE BANCAIRE'!D416*-1","v":0},{"$f":"'RELEVE BANCAIRE'!C416","v":0}]
[{"$f":"'RELEVE BANCAIRE'!G417","v":"BQ4"},{"$f":"'RELEVE BANCAIRE'!A417","v":"00:00:00"},{"$f":"'RELEVE BANCAIRE'!H417","v":415},{"$f":"'RELEVE BANCAIRE'!M417","v":51200004},{"$f":"'RELEVE BANCAIRE'!E417","v":0},{"$f":"'RELEVE BANCAIRE'!D417*-1","v":0},{"$f":"'RELEVE BANCAIRE'!C417","v":0}]
[{"$f":"'RELEVE BANCAIRE'!G418","v":"BQ4"},{"$f":"'RELEVE BANCAIRE'!A418","v":"00:00:00"},{"$f":"'RELEVE BANCAIRE'!H418","v":416},{"$f":"'RELEVE BANCAIRE'!M418","v":51200004},{"$f":"'RELEVE BANCAIRE'!E418","v":0},{"$f":"'RELEVE BANCAIRE'!D418*-1","v":0},{"$f":"'RELEVE BANCAIRE'!C418","v":0}]
[{"$f":"'RELEVE BANCAIRE'!G419","v":"BQ4"},{"$f":"'RELEVE BANCAIRE'!A419","v":"00:00:00"},{"$f":"'RELEVE BANCAIRE'!H419","v":417},{"$f":"'RELEVE BANCAIRE'!M419","v":51200004},{"$f":"'RELEVE BANCAIRE'!E419","v":0},{"$f":"'RELEVE BANCAIRE'!D419*-1","v":0},{"$f":"'RELEVE BANCAIRE'!C419","v":0}]
[{"$f":"'RELEVE BANCAIRE'!G420","v":"BQ4"},{"$f":"'RELEVE BANCAIRE'!A420","v":"00:00:00"},{"$f":"'RELEVE BANCAIRE'!H420","v":418},{"$f":"'RELEVE BANCAIRE'!M420","v":51200004},{"$f":"'RELEVE BANCAIRE'!E420","v":0},{"$f":"'RELEVE BANCAIRE'!D420*-1","v":0},{"$f":"'RELEVE BANCAIRE'!C420","v":0}]
[{"$f":"'RELEVE BANCAIRE'!G421","v":"BQ4"},{"$f":"'RELEVE BANCAIRE'!A421","v":"00:00:00"},{"$f":"'RELEVE BANCAIRE'!H421","v":419},{"$f":"'RELEVE BANCAIRE'!M421","v":51200004},{"$f":"'RELEVE BANCAIRE'!E421","v":0},{"$f":"'RELEVE BANCAIRE'!D421*-1","v":0},{"$f":"'RELEVE BANCAIRE'!C421","v":0}]
[{"$f":"'RELEVE BANCAIRE'!G422","v":"BQ4"},{"$f":"'RELEVE BANCAIRE'!A422","v":"00:00:00"},{"$f":"'RELEVE BANCAIRE'!H422","v":420},{"$f":"'RELEVE BANCAIRE'!M422","v":51200004},{"$f":"'RELEVE BANCAIRE'!E422","v":0},{"$f":"'RELEVE BANCAIRE'!D422*-1","v":0},{"$f":"'RELEVE BANCAIRE'!C422","v":0}]
[{"$f":"'RELEVE BANCAIRE'!G423","v":"BQ4"},{"$f":"'RELEVE BANCAIRE'!A423","v":"00:00:00"},{"$f":"'RELEVE BANCAIRE'!H423","v":421},{"$f":"'RELEVE BANCAIRE'!M423","v":51200004},{"$f":"'RELEVE BANCAIRE'!E423","v":0},{"$f":"'RELEVE BANCAIRE'!D423*-1","v":0},{"$f":"'RELEVE BANCAIRE'!C423","v":0}]
[{"$f":"'RELEVE BANCAIRE'!G424","v":"BQ4"},{"$f":"'RELEVE BANCAIRE'!A424","v":"00:00:00"},{"$f":"'RELEVE BANCAIRE'!H424","v":422},{"$f":"'RELEVE BANCAIRE'!M424","v":51200004},{"$f":"'RELEVE BANCAIRE'!E424","v":0},{"$f":"'RELEVE BANCAIRE'!D424*-1","v":0},{"$f":"'RELEVE BANCAIRE'!C424","v":0}]
[{"$f":"'RELEVE BANCAIRE'!G425","v":"BQ4"},{"$f":"'RELEVE BANCAIRE'!A425","v":"00:00:00"},{"$f":"'RELEVE BANCAIRE'!H425","v":423},{"$f":"'RELEVE BANCAIRE'!M425","v":51200004},{"$f":"'RELEVE BANCAIRE'!E425","v":0},{"$f":"'RELEVE BANCAIRE'!D425*-1","v":0},{"$f":"'RELEVE BANCAIRE'!C425","v":0}]
[{"$f":"'RELEVE BANCAIRE'!G426","v":"BQ4"},{"$f":"'RELEVE BANCAIRE'!A426","v":"00:00:00"},{"$f":"'RELEVE BANCAIRE'!H426","v":424},{"$f":"'RELEVE BANCAIRE'!M426","v":51200004},{"$f":"'RELEVE BANCAIRE'!E426","v":0},{"$f":"'RELEVE BANCAIRE'!D426*-1","v":0},{"$f":"'RELEVE BANCAIRE'!C426","v":0}]
[{"$f":"'RELEVE BANCAIRE'!G427","v":"BQ4"},{"$f":"'RELEVE BANCAIRE'!A427","v":"00:00:00"},{"$f":"'RELEVE BANCAIRE'!H427","v":425},{"$f":"'RELEVE BANCAIRE'!M427","v":51200004},{"$f":"'RELEVE BANCAIRE'!E427","v":0},{"$f":"'RELEVE BANCAIRE'!D427*-1","v":0},{"$f":"'RELEVE BANCAIRE'!C427","v":0}]
[{"$f":"'RELEVE BANCAIRE'!G428","v":"BQ4"},{"$f":"'RELEVE BANCAIRE'!A428","v":"00:00:00"},{"$f":"'RELEVE BANCAIRE'!H428","v":426},{"$f":"'RELEVE BANCAIRE'!M428","v":51200004},{"$f":"'RELEVE BANCAIRE'!E428","v":0},{"$f":"'RELEVE BANCAIRE'!D428*-1","v":0},{"$f":"'RELEVE BANCAIRE'!C428","v":0}]
[{"$f":"'RELEVE BANCAIRE'!G429","v":"BQ4"},{"$f":"'RELEVE BANCAIRE'!A429","v":"00:00:00"},{"$f":"'RELEVE BANCAIRE'!H429","v":427},{"$f":"'RELEVE BANCAIRE'!M429","v":51200005},{"$f":"'RELEVE BANCAIRE'!E429","v":0},{"$f":"'RELEVE BANCAIRE'!D429*-1","v":0},{"$f":"'RELEVE BANCAIRE'!C429","v":0}]
[{"$f":"'RELEVE BANCAIRE'!G430","v":"BQ4"},{"$f":"'RELEVE BANCAIRE'!A430","v":"00:00:00"},{"$f":"'RELEVE BANCAIRE'!H430","v":428},{"$f":"'RELEVE BANCAIRE'!M430","v":51200006},{"$f":"'RELEVE BANCAIRE'!E430","v":0},{"$f":"'RELEVE BANCAIRE'!D430*-1","v":0},{"$f":"'RELEVE BANCAIRE'!C430","v":0}]
[{"$f":"'RELEVE BANCAIRE'!G431","v":"BQ4"},{"$f":"'RELEVE BANCAIRE'!A431","v":"00:00:00"},{"$f":"'RELEVE BANCAIRE'!H431","v":429},{"$f":"'RELEVE BANCAIRE'!M431","v":51200007},{"$f":"'RELEVE BANCAIRE'!E431","v":0},{"$f":"'RELEVE BANCAIRE'!D431*-1","v":0},{"$f":"'RELEVE BANCAIRE'!C431","v":0}]
[{"$f":"'RELEVE BANCAIRE'!G432","v":"BQ4"},{"$f":"'RELEVE BANCAIRE'!A432","v":"00:00:00"},{"$f":"'RELEVE BANCAIRE'!H432","v":430},{"$f":"'RELEVE BANCAIRE'!M432","v":51200008},{"$f":"'RELEVE BANCAIRE'!E432","v":0},{"$f":"'RELEVE BANCAIRE'!D432*-1","v":0},{"$f":"'RELEVE BANCAIRE'!C432","v":0}]
[{"$f":"'RELEVE BANCAIRE'!G433","v":"BQ4"},{"$f":"'RELEVE BANCAIRE'!A433","v":"00:00:00"},{"$f":"'RELEVE BANCAIRE'!H433","v":431},{"$f":"'RELEVE BANCAIRE'!M433","v":51200009},{"$f":"'RELEVE BANCAIRE'!E433","v":0},{"$f":"'RELEVE BANCAIRE'!D433*-1","v":0},{"$f":"'RELEVE BANCAIRE'!C433","v":0}]
[{"$f":"'RELEVE BANCAIRE'!G434","v":"BQ4"},{"$f":"'RELEVE BANCAIRE'!A434","v":"00:00:00"},{"$f":"'RELEVE BANCAIRE'!H434","v":432},{"$f":"'RELEVE BANCAIRE'!M434","v":51200010},{"$f":"'RELEVE BANCAIRE'!E434","v":0},{"$f":"'RELEVE BANCAIRE'!D434*-1","v":0},{"$f":"'RELEVE BANCAIRE'!C434","v":0}]
[{"$f":"'RELEVE BANCAIRE'!G435","v":"BQ4"},{"$f":"'RELEVE BANCAIRE'!A435","v":"00:00:00"},{"$f":"'RELEVE BANCAIRE'!H435","v":433},{"$f":"'RELEVE BANCAIRE'!M435","v":51200011},{"$f":"'RELEVE BANCAIRE'!E435","v":0},{"$f":"'RELEVE BANCAIRE'!D435*-1","v":0},{"$f":"'RELEVE BANCAIRE'!C435","v":0}]
[{"$f":"'RELEVE BANCAIRE'!G436","v":"BQ4"},{"$f":"'RELEVE BANCAIRE'!A436","v":"00:00:00"},{"$f":"'RELEVE BANCAIRE'!H436","v":434},{"$f":"'RELEVE BANCAIRE'!M436","v":51200012},{"$f":"'RELEVE BANCAIRE'!E436","v":0},{"$f":"'RELEVE BANCAIRE'!D436*-1","v":0},{"$f":"'RELEVE BANCAIRE'!C436","v":0}]
[{"$f":"'RELEVE BANCAIRE'!G437","v":"BQ4"},{"$f":"'RELEVE BANCAIRE'!A437","v":"00:00:00"},{"$f":"'RELEVE BANCAIRE'!H437","v":435},{"$f":"'RELEVE BANCAIRE'!M437","v":51200013},{"$f":"'RELEVE BANCAIRE'!E437","v":0},{"$f":"'RELEVE BANCAIRE'!D437*-1","v":0},{"$f":"'RELEVE BANCAIRE'!C437","v":0}]
[{"$f":"'RELEVE BANCAIRE'!G438","v":"BQ4"},{"$f":"'RELEVE BANCAIRE'!A438","v":"00:00:00"},{"$f":"'RELEVE BANCAIRE'!H438","v":436},{"$f":"'RELEVE BANCAIRE'!M438","v":51200014},{"$f":"'RELEVE BANCAIRE'!E438","v":0},{"$f":"'RELEVE BANCAIRE'!D438*-1","v":0},{"$f":"'RELEVE BANCAIRE'!C438","v":0}]
[{"$f":"'RELEVE BANCAIRE'!G439","v":"BQ4"},{"$f":"'RELEVE BANCAIRE'!A439","v":"00:00:00"},{"$f":"'RELEVE BANCAIRE'!H439","v":437},{"$f":"'RELEVE BANCAIRE'!M439","v":51200015},{"$f":"'RELEVE BANCAIRE'!E439","v":0},{"$f":"'RELEVE BANCAIRE'!D439*-1","v":0},{"$f":"'RELEVE BANCAIRE'!C439","v":0}]
[{"$f":"'RELEVE BANCAIRE'!G440","v":"BQ4"},{"$f":"'RELEVE BANCAIRE'!A440","v":"00:00:00"},{"$f":"'RELEVE BANCAIRE'!H440","v":438},{"$f":"'RELEVE BANCAIRE'!M440","v":51200016},{"$f":"'RELEVE BANCAIRE'!E440","v":0},{"$f":"'RELEVE BANCAIRE'!D440*-1","v":0},{"$f":"'RELEVE BANCAIRE'!C440","v":0}]
[{"$f":"'RELEVE BANCAIRE'!G441","v":"BQ4"},{"$f":"'RELEVE BANCAIRE'!A441","v":"00:00:00"},{"$f":"'RELEVE BANCAIRE'!H441","v":439},{"$f":"'RELEVE BANCAIRE'!M441","v":51200017},{"$f":"'RELEVE BANCAIRE'!E441","v":0},{"$f":"'RELEVE BANCAIRE'!D441*-1","v":0},{"$f":"'RELEVE BANCAIRE'!C441","v":0}]
[{"$f":"'RELEVE BANCAIRE'!G442","v":"BQ4"},{"$f":"'RELEVE BANCAIRE'!A442","v":"00:00:00"},{"$f":"'RELEVE BANCAIRE'!H442","v":440},{"$f":"'RELEVE BANCAIRE'!M442","v":51200018},{"$f":"'RELEVE BANCAIRE'!E442","v":0},{"$f":"'RELEVE BANCAIRE'!D442*-1","v":0},{"$f":"'RELEVE BANCAIRE'!C442","v":0}]
[{"$f":"'RELEVE BANCAIRE'!G443","v":"BQ4"},{"$f":"'RELEVE BANCAIRE'!A443","v":"00:00:00"},{"$f":"'RELEVE BANCAIRE'!H443","v":441},{"$f":"'RELEVE BANCAIRE'!M443","v":51200019},{"$f":"'RELEVE BANCAIRE'!E443","v":0},{"$f":"'RELEVE BANCAIRE'!D443*-1","v":0},{"$f":"'RELEVE BANCAIRE'!C443","v":0}]
[{"$f":"'RELEVE BANCAIRE'!G444","v":"BQ4"},{"$f":"'RELEVE BANCAIRE'!A444","v":"00:00:00"},{"$f":"'RELEVE BANCAIRE'!H444","v":442},{"$f":"'RELEVE BANCAIRE'!M444","v":51200020},{"$f":"'RELEVE BANCAIRE'!E444","v":0},{"$f":"'RELEVE BANCAIRE'!D444*-1","v":0},{"$f":"'RELEVE BANCAIRE'!C444","v":0}]
[{"$f":"'RELEVE BANCAIRE'!G445","v":"BQ4"},{"$f":"'RELEVE BANCAIRE'!A445","v":"00:00:00"},{"$f":"'RELEVE BANCAIRE'!H445","v":443},{"$f":"'RELEVE BANCAIRE'!M445","v":51200021},{"$f":"'RELEVE BANCAIRE'!E445","v":0},{"$f":"'RELEVE BANCAIRE'!D445*-1","v":0},{"$f":"'RELEVE BANCAIRE'!C445","v":0}]
[{"$f":"'RELEVE BANCAIRE'!G446","v":"BQ4"},{"$f":"'RELEVE BANCAIRE'!A446","v":"00:00:00"},{"$f":"'RELEVE BANCAIRE'!H446","v":444},{"$f":"'RELEVE BANCAIRE'!M446","v":51200022},{"$f":"'RELEVE BANCAIRE'!E446","v":0},{"$f":"'RELEVE BANCAIRE'!D446*-1","v":0},{"$f":"'RELEVE BANCAIRE'!C446","v":0}]
[{"$f":"'RELEVE BANCAIRE'!G447","v":"BQ4"},{"$f":"'RELEVE BANCAIRE'!A447","v":"00:00:00"},{"$f":"'RELEVE BANCAIRE'!H447","v":445},{"$f":"'RELEVE BANCAIRE'!M447","v":51200023},{"$f":"'RELEVE BANCAIRE'!E447","v":0},{"$f":"'RELEVE BANCAIRE'!D447*-1","v":0},{"$f":"'RELEVE BANCAIRE'!C447","v":0}]
[{"$f":"'RELEVE BANCAIRE'!G448","v":"BQ4"},{"$f":"'RELEVE BANCAIRE'!A448","v":"00:00:00"},{"$f":"'RELEVE BANCAIRE'!H448","v":446},{"$f":"'RELEVE BANCAIRE'!M448","v":51200024},{"$f":"'RELEVE BANCAIRE'!E448","v":0},{"$f":"'RELEVE BANCAIRE'!D448*-1","v":0},{"$f":"'RELEVE BANCAIRE'!C448","v":0}]
[{"$f":"'RELEVE BANCAIRE'!G449","v":"BQ4"},{"$f":"'RELEVE BANCAIRE'!A449","v":"00:00:00"},{"$f":"'RELEVE BANCAIRE'!H449","v":447},{"$f":"'RELEVE BANCAIRE'!M449","v":51200025},{"$f":"'RELEVE BANCAIRE'!E449","v":0},{"$f":"'RELEVE BANCAIRE'!D449*-1","v":0},{"$f":"'RELEVE BANCAIRE'!C449","v":0}]
[{"$f":"'RELEVE BANCAIRE'!G450","v":"BQ4"},{"$f":"'RELEVE BANCAIRE'!A450","v":"00:00:00"},{"$f":"'RELEVE BANCAIRE'!H450","v":448},{"$f":"'RELEVE BANCAIRE'!M450","v":51200026},{"$f":"'RELEVE BANCAIRE'!E450","v":0},{"$f":"'RELEVE BANCAIRE'!D450*-1","v":0},{"$f":"'RELEVE BANCAIRE'!C450","v":0}]
[{"$f":"'RELEVE BANCAIRE'!G451","v":"BQ4"},{"$f":"'RELEVE BANCAIRE'!A451","v":"00:00:00"},{"$f":"'RELEVE BANCAIRE'!H451","v":449},{"$f":"'RELEVE BANCAIRE'!M451","v":51200027},{"$f":"'RELEVE BANCAIRE'!E451","v":0},{"$f":"'RELEVE BANCAIRE'!D451*-1","v":0},{"$f":"'RELEVE BANCAIRE'!C451","v":0}]
[{"$f":"'RELEVE BANCAIRE'!G452","v":"BQ4"},{"$f":"'RELEVE BANCAIRE'!A452","v":"00:00:00"},{"$f":"'RELEVE BANCAIRE'!H452","v":450},{"$f":"'RELEVE BANCAIRE'!M452","v":51200028},{"$f":"'RELEVE BANCAIRE'!E452","v":0},{"$f":"'RELEVE BANCAIRE'!D452*-1","v":0},{"$f":"'RELEVE BANCAIRE'!C452","v":0}]
[{"$f":"'RELEVE BANCAIRE'!G453","v":"BQ4"},{"$f":"'RELEVE BANCAIRE'!A453","v":"00:00:00"},{"$f":"'RELEVE BANCAIRE'!H453","v":451},{"$f":"'RELEVE BANCAIRE'!M453","v":51200029},{"$f":"'RELEVE BANCAIRE'!E453","v":0},{"$f":"'RELEVE BANCAIRE'!D453*-1","v":0},{"$f":"'RELEVE BANCAIRE'!C453","v":0}]
[{"$f":"'RELEVE BANCAIRE'!G454","v":"BQ4"},{"$f":"'RELEVE BANCAIRE'!A454","v":"00:00:00"},{"$f":"'RELEVE BANCAIRE'!H454","v":452},{"$f":"'RELEVE BANCAIRE'!M454","v":51200030},{"$f":"'RELEVE BANCAIRE'!E454","v":0},{"$f":"'RELEVE BANCAIRE'!D454*-1","v":0},{"$f":"'RELEVE BANCAIRE'!C454","v":0}]
[{"$f":"'RELEVE BANCAIRE'!G455","v":"BQ4"},{"$f":"'RELEVE BANCAIRE'!A455","v":"00:00:00"},{"$f":"'RELEVE BANCAIRE'!H455","v":453},{"$f":"'RELEVE BANCAIRE'!M455","v":51200031},{"$f":"'RELEVE BANCAIRE'!E455","v":0},{"$f":"'RELEVE BANCAIRE'!D455*-1","v":0},{"$f":"'RELEVE BANCAIRE'!C455","v":0}]
[{"$f":"'RELEVE BANCAIRE'!G456","v":"BQ4"},{"$f":"'RELEVE BANCAIRE'!A456","v":"00:00:00"},{"$f":"'RELEVE BANCAIRE'!H456","v":454},{"$f":"'RELEVE BANCAIRE'!M456","v":51200032},{"$f":"'RELEVE BANCAIRE'!E456","v":0},{"$f":"'RELEVE BANCAIRE'!D456*-1","v":0},{"$f":"'RELEVE BANCAIRE'!C456","v":0}]
[{"$f":"'RELEVE BANCAIRE'!G457","v":"BQ4"},{"$f":"'RELEVE BANCAIRE'!A457","v":"00:00:00"},{"$f":"'RELEVE BANCAIRE'!H457","v":455},{"$f":"'RELEVE BANCAIRE'!M457","v":51200033},{"$f":"'RELEVE BANCAIRE'!E457","v":0},{"$f":"'RELEVE BANCAIRE'!D457*-1","v":0},{"$f":"'RELEVE BANCAIRE'!C457","v":0}]
[{"$f":"'RELEVE BANCAIRE'!G458","v":"BQ4"},{"$f":"'RELEVE BANCAIRE'!A458","v":"00:00:00"},{"$f":"'RELEVE BANCAIRE'!H458","v":456},{"$f":"'RELEVE BANCAIRE'!M458","v":51200034},{"$f":"'RELEVE BANCAIRE'!E458","v":0},{"$f":"'RELEVE BANCAIRE'!D458*-1","v":0},{"$f":"'RELEVE BANCAIRE'!C458","v":0}]
[{"$f":"'RELEVE BANCAIRE'!G459","v":"BQ4"},{"$f":"'RELEVE BANCAIRE'!A459","v":"00:00:00"},{"$f":"'RELEVE BANCAIRE'!H459","v":457},{"$f":"'RELEVE BANCAIRE'!M459","v":51200035},{"$f":"'RELEVE BANCAIRE'!E459","v":0},{"$f":"'RELEVE BANCAIRE'!D459*-1","v":0},{"$f":"'RELEVE BANCAIRE'!C459","v":0}]
[{"$f":"'RELEVE BANCAIRE'!G460","v":"BQ4"},{"$f":"'RELEVE BANCAIRE'!A460","v":"00:00:00"},{"$f":"'RELEVE BANCAIRE'!H460","v":458},{"$f":"'RELEVE BANCAIRE'!M460","v":51200036},{"$f":"'RELEVE BANCAIRE'!E460","v":0},{"$f":"'RELEVE BANCAIRE'!D460*-1","v":0},{"$f":"'RELEVE BANCAIRE'!C460","v":0}]
[{"$f":"'RELEVE BANCAIRE'!G461","v":"BQ4"},{"$f":"'RELEVE BANCAIRE'!A461","v":"00:00:00"},{"$f":"'RELEVE BANCAIRE'!H461","v":459},{"$f":"'RELEVE BANCAIRE'!M461","v":51200037},{"$f":"'RELEVE BANCAIRE'!E461","v":0},{"$f":"'RELEVE BANCAIRE'!D461*-1","v":0},{"$f":"'RELEVE BANCAIRE'!C461","v":0}]
[{"$f":"'RELEVE BANCAIRE'!G462","v":"BQ4"},{"$f":"'RELEVE BANCAIRE'!A462","v":"00:00:00"},{"$f":"'RELEVE BANCAIRE'!H462","v":460},{"$f":"'RELEVE BANCAIRE'!M462","v":51200038},{"$f":"'RELEVE BANCAIRE'!E462","v":0},{"$f":"'RELEVE BANCAIRE'!D462*-1","v":0},{"$f":"'RELEVE BANCAIRE'!C462","v":0}]
[{"$f":"'RELEVE BANCAIRE'!G463","v":"BQ4"},{"$f":"'RELEVE BANCAIRE'!A463","v":"00:00:00"},{"$f":"'RELEVE BANCAIRE'!H463","v":461},{"$f":"'RELEVE BANCAIRE'!M463","v":51200039},{"$f":"'RELEVE BANCAIRE'!E463","v":0},{"$f":"'RELEVE BANCAIRE'!D463*-1","v":0},{"$f":"'RELEVE BANCAIRE'!C463","v":0}]
[{"$f":"'RELEVE BANCAIRE'!G464","v":"BQ4"},{"$f":"'RELEVE BANCAIRE'!A464","v":"00:00:00"},{"$f":"'RELEVE BANCAIRE'!H464","v":462},{"$f":"'RELEVE BANCAIRE'!M464","v":51200040},{"$f":"'RELEVE BANCAIRE'!E464","v":0},{"$f":"'RELEVE BANCAIRE'!D464*-1","v":0},{"$f":"'RELEVE BANCAIRE'!C464","v":0}]
[{"$f":"'RELEVE BANCAIRE'!G465","v":"BQ4"},{"$f":"'RELEVE BANCAIRE'!A465","v":"00:00:00"},{"$f":"'RELEVE BANCAIRE'!H465","v":463},{"$f":"'RELEVE BANCAIRE'!M465","v":51200041},{"$f":"'RELEVE BANCAIRE'!E465","v":0},{"$f":"'RELEVE BANCAIRE'!D465*-1","v":0},{"$f":"'RELEVE BANCAIRE'!C465","v":0}]
[{"$f":"'RELEVE BANCAIRE'!G466","v":"BQ4"},{"$f":"'RELEVE BANCAIRE'!A466","v":"00:00:00"},{"$f":"'RELEVE BANCAIRE'!H466","v":464},{"$f":"'RELEVE BANCAIRE'!M466","v":51200042},{"$f":"'RELEVE BANCAIRE'!E466","v":0},{"$f":"'RELEVE BANCAIRE'!D466*-1","v":0},{"$f":"'RELEVE BANCAIRE'!C466","v":0}]
[{"$f":"'RELEVE BANCAIRE'!G467","v":"BQ4"},{"$f":"'RELEVE BANCAIRE'!A467","v":"00:00:00"},{"$f":"'RELEVE BANCAIRE'!H467","v":465},{"$f":"'RELEVE BANCAIRE'!M467","v":51200043},{"$f":"'RELEVE BANCAIRE'!E467","v":0},{"$f":"'RELEVE BANCAIRE'!D467*-1","v":0},{"$f":"'RELEVE BANCAIRE'!C467","v":0}]
[{"$f":"'RELEVE BANCAIRE'!G468","v":"BQ4"},{"$f":"'RELEVE BANCAIRE'!A468","v":"00:00:00"},{"$f":"'RELEVE BANCAIRE'!H468","v":466},{"$f":"'RELEVE BANCAIRE'!M468","v":51200044},{"$f":"'RELEVE BANCAIRE'!E468","v":0},{"$f":"'RELEVE BANCAIRE'!D468*-1","v":0},{"$f":"'RELEVE BANCAIRE'!C468","v":0}]
[{"$f":"'RELEVE BANCAIRE'!G469","v":"BQ4"},{"$f":"'RELEVE BANCAIRE'!A469","v":"00:00:00"},{"$f":"'RELEVE BANCAIRE'!H469","v":467},{"$f":"'RELEVE BANCAIRE'!M469","v":51200045},{"$f":"'RELEVE BANCAIRE'!E469","v":0},{"$f":"'RELEVE BANCAIRE'!D469*-1","v":0},{"$f":"'RELEVE BANCAIRE'!C469","v":0}]
[{"$f":"'RELEVE BANCAIRE'!G470","v":"BQ4"},{"$f":"'RELEVE BANCAIRE'!A470","v":"00:00:00"},{"$f":"'RELEVE BANCAIRE'!H470","v":468},{"$f":"'RELEVE BANCAIRE'!M470","v":51200046},{"$f":"'RELEVE BANCAIRE'!E470","v":0},{"$f":"'RELEVE BANCAIRE'!D470*-1","v":0},{"$f":"'RELEVE BANCAIRE'!C470","v":0}]
[{"$f":"'RELEVE BANCAIRE'!G471","v":"BQ4"},{"$f":"'RELEVE BANCAIRE'!A471","v":"00:00:00"},{"$f":"'RELEVE BANCAIRE'!H471","v":469},{"$f":"'RELEVE BANCAIRE'!M471","v":51200047},{"$f":"'RELEVE BANCAIRE'!E471","v":0},{"$f":"'RELEVE BANCAIRE'!D471*-1","v":0},{"$f":"'RELEVE BANCAIRE'!C471","v":0}]
[{"$f":"'RELEVE BANCAIRE'!G472","v":"BQ4"},{"$f":"'RELEVE BANCAIRE'!A472","v":"00:00:00"},{"$f":"'RELEVE BANCAIRE'!H472","v":470},{"$f":"'RELEVE BANCAIRE'!M472","v":51200048},{"$f":"'RELEVE BANCAIRE'!E472","v":0},{"$f":"'RELEVE BANCAIRE'!D472*-1","v":0},{"$f":"'RELEVE BANCAIRE'!C472","v":0}]
[{"$f":"'RELEVE BANCAIRE'!G473","v":"BQ4"},{"$f":"'RELEVE BANCAIRE'!A473","v":"00:00:00"},{"$f":"'RELEVE BANCAIRE'!H473","v":471},{"$f":"'RELEVE BANCAIRE'!M473","v":51200049},{"$f":"'RELEVE BANCAIRE'!E473","v":0},{"$f":"'RELEVE BANCAIRE'!D473*-1","v":0},{"$f":"'RELEVE BANCAIRE'!C473","v":0}]
[{"$f":"'RELEVE BANCAIRE'!G474","v":"BQ4"},{"$f":"'RELEVE BANCAIRE'!A474","v":"00:00:00"},{"$f":"'RELEVE BANCAIRE'!H474","v":472},{"$f":"'RELEVE BANCAIRE'!M474","v":51200050},{"$f":"'RELEVE BANCAIRE'!E474","v":0},{"$f":"'RELEVE BANCAIRE'!D474*-1","v":0},{"$f":"'RELEVE BANCAIRE'!C474","v":0}]
[{"$f":"'RELEVE BANCAIRE'!G475","v":"BQ4"},{"$f":"'RELEVE BANCAIRE'!A475","v":"00:00:00"},{"$f":"'RELEVE BANCAIRE'!H475","v":473},{"$f":"'RELEVE BANCAIRE'!M475","v":51200051},{"$f":"'RELEVE BANCAIRE'!E475","v":0},{"$f":"'RELEVE BANCAIRE'!D475*-1","v":0},{"$f":"'RELEVE BANCAIRE'!C475","v":0}]
[{"$f":"'RELEVE BANCAIRE'!G476","v":"BQ4"},{"$f":"'RELEVE BANCAIRE'!A476","v":"00:00:00"},{"$f":"'RELEVE BANCAIRE'!H476","v":474},{"$f":"'RELEVE BANCAIRE'!M476","v":51200052},{"$f":"'RELEVE BANCAIRE'!E476","v":0},{"$f":"'RELEVE BANCAIRE'!D476*-1","v":0},{"$f":"'RELEVE BANCAIRE'!C476","v":0}]
[{"$f":"'RELEVE BANCAIRE'!G477","v":"BQ4"},{"$f":"'RELEVE BANCAIRE'!A477","v":"00:00:00"},{"$f":"'RELEVE BANCAIRE'!H477","v":475},{"$f":"'RELEVE BANCAIRE'!M477","v":51200053},{"$f":"'RELEVE BANCAIRE'!E477","v":0},{"$f":"'RELEVE BANCAIRE'!D477*-1","v":0},{"$f":"'RELEVE BANCAIRE'!C477","v":0}]
[{"$f":"'RELEVE BANCAIRE'!G478","v":"BQ4"},{"$f":"'RELEVE BANCAIRE'!A478","v":"00:00:00"},{"$f":"'RELEVE BANCAIRE'!H478","v":476},{"$f":"'RELEVE BANCAIRE'!M478","v":51200054},{"$f":"'RELEVE BANCAIRE'!E478","v":0},{"$f":"'RELEVE BANCAIRE'!D478*-1","v":0},{"$f":"'RELEVE BANCAIRE'!C478","v":0}]
[{"$f":"'RELEVE BANCAIRE'!G479","v":"BQ4"},{"$f":"'RELEVE BANCAIRE'!A479","v":"00:00:00"},{"$f":"'RELEVE BANCAIRE'!H479","v":477},{"$f":"'RELEVE BANCAIRE'!M479","v":51200055},{"$f":"'RELEVE BANCAIRE'!E479","v":0},{"$f":"'RELEVE BANCAIRE'!D479*-1","v":0},{"$f":"'RELEVE BANCAIRE'!C479","v":0}]
[{"$f":"'RELEVE BANCAIRE'!G480","v":"BQ4"},{"$f":"'RELEVE BANCAIRE'!A480","v":"00:00:00"},{"$f":"'RELEVE BANCAIRE'!H480","v":478},{"$f":"'RELEVE BANCAIRE'!M480","v":51200056},{"$f":"'RELEVE BANCAIRE'!E480","v":0},{"$f":"'RELEVE BANCAIRE'!D480*-1","v":0},{"$f":"'RELEVE BANCAIRE'!C480","v":0}]
[{"$f":"'RELEVE BANCAIRE'!G481","v":"BQ4"},{"$f":"'RELEVE BANCAIRE'!A481","v":"00:00:00"},{"$f":"'RELEVE BANCAIRE'!H481","v":479},{"$f":"'RELEVE BANCAIRE'!M481","v":51200057},{"$f":"'RELEVE BANCAIRE'!E481","v":0},{"$f":"'RELEVE BANCAIRE'!D481*-1","v":0},{"$f":"'RELEVE BANCAIRE'!C481","v":0}]
[{"$f":"'RELEVE BANCAIRE'!G482","v":"BQ4"},{"$f":"'RELEVE BANCAIRE'!A482","v":"00:00:00"},{"$f":"'RELEVE BANCAIRE'!H482","v":480},{"$f":"'RELEVE BANCAIRE'!M482","v":51200058},{"$f":"'RELEVE BANCAIRE'!E482","v":0},{"$f":"'RELEVE BANCAIRE'!D482*-1","v":0},{"$f":"'RELEVE BANCAIRE'!C482","v":0}]
[{"$f":"'RELEVE BANCAIRE'!G483","v":"BQ4"},{"$f":"'RELEVE BANCAIRE'!A483","v":"00:00:00"},{"$f":"'RELEVE BANCAIRE'!H483","v":481},{"$f":"'RELEVE BANCAIRE'!M483","v":51200059},{"$f":"'RELEVE BANCAIRE'!E483","v":0},{"$f":"'RELEVE BANCAIRE'!D483*-1","v":0},{"$f":"'RELEVE BANCAIRE'!C483","v":0}]
[{"$f":"'RELEVE BANCAIRE'!G484","v":"BQ4"},{"$f":"'RELEVE BANCAIRE'!A484","v":"00:00:00"},{"$f":"'RELEVE BANCAIRE'!H484","v":482},{"$f":"'RELEVE BANCAIRE'!M484","v":51200060},{"$f":"'RELEVE BANCAIRE'!E484","v":0},{"$f":"'RELEVE BANCAIRE'!D484*-1","v":0},{"$f":"'RELEVE BANCAIRE'!C484","v":0}]
[{"$f":"'RELEVE BANCAIRE'!G485","v":"BQ4"},{"$f":"'RELEVE BANCAIRE'!A485","v":"00:00:00"},{"$f":"'RELEVE BANCAIRE'!H485","v":483},{"$f":"'RELEVE BANCAIRE'!M485","v":51200061},{"$f":"'RELEVE BANCAIRE'!E485","v":0},{"$f":"'RELEVE BANCAIRE'!D485*-1","v":0},{"$f":"'RELEVE BANCAIRE'!C485","v":0}]
[{"$f":"'RELEVE BANCAIRE'!G486","v":"BQ4"},{"$f":"'RELEVE BANCAIRE'!A486","v":"00:00:00"},{"$f":"'RELEVE BANCAIRE'!H486","v":484},{"$f":"'RELEVE BANCAIRE'!M486","v":51200062},{"$f":"'RELEVE BANCAIRE'!E486","v":0},{"$f":"'RELEVE BANCAIRE'!D486*-1","v":0},{"$f":"'RELEVE BANCAIRE'!C486","v":0}]
[{"$f":"'RELEVE BANCAIRE'!G487","v":"BQ4"},{"$f":"'RELEVE BANCAIRE'!A487","v":"00:00:00"},{"$f":"'RELEVE BANCAIRE'!H487","v":485},{"$f":"'RELEVE BANCAIRE'!M487","v":51200063},{"$f":"'RELEVE BANCAIRE'!E487","v":0},{"$f":"'RELEVE BANCAIRE'!D487*-1","v":0},{"$f":"'RELEVE BANCAIRE'!C487","v":0}]
[{"$f":"'RELEVE BANCAIRE'!G488","v":"BQ4"},{"$f":"'RELEVE BANCAIRE'!A488","v":"00:00:00"},{"$f":"'RELEVE BANCAIRE'!H488","v":486},{"$f":"'RELEVE BANCAIRE'!M488","v":51200064},{"$f":"'RELEVE BANCAIRE'!E488","v":0},{"$f":"'RELEVE BANCAIRE'!D488*-1","v":0},{"$f":"'RELEVE BANCAIRE'!C488","v":0}]
[{"$f":"'RELEVE BANCAIRE'!G489","v":"BQ4"},{"$f":"'RELEVE BANCAIRE'!A489","v":"00:00:00"},{"$f":"'RELEVE BANCAIRE'!H489","v":487},{"$f":"'RELEVE BANCAIRE'!M489","v":51200065},{"$f":"'RELEVE BANCAIRE'!E489","v":0},{"$f":"'RELEVE BANCAIRE'!D489*-1","v":0},{"$f":"'RELEVE BANCAIRE'!C489","v":0}]
[{"$f":"'RELEVE BANCAIRE'!G490","v":"BQ4"},{"$f":"'RELEVE BANCAIRE'!A490","v":"00:00:00"},{"$f":"'RELEVE BANCAIRE'!H490","v":488},{"$f":"'RELEVE BANCAIRE'!M490","v":51200066},{"$f":"'RELEVE BANCAIRE'!E490","v":0},{"$f":"'RELEVE BANCAIRE'!D490*-1","v":0},{"$f":"'RELEVE BANCAIRE'!C490","v":0}]
[{"$f":"'RELEVE BANCAIRE'!G491","v":"BQ4"},{"$f":"'RELEVE BANCAIRE'!A491","v":"00:00:00"},{"$f":"'RELEVE BANCAIRE'!H491","v":489},{"$f":"'RELEVE BANCAIRE'!M491","v":51200067},{"$f":"'RELEVE BANCAIRE'!E491","v":0},{"$f":"'RELEVE BANCAIRE'!D491*-1","v":0},{"$f":"'RELEVE BANCAIRE'!C491","v":0}]
[{"$f":"'RELEVE BANCAIRE'!G492","v":"BQ4"},{"$f":"'RELEVE BANCAIRE'!A492","v":"00:00:00"},{"$f":"'RELEVE BANCAIRE'!H492","v":490},{"$f":"'RELEVE BANCAIRE'!M492","v":51200068},{"$f":"'RELEVE BANCAIRE'!E492","v":0},{"$f":"'RELEVE BANCAIRE'!D492*-1","v":0},{"$f":"'RELEVE BANCAIRE'!C492","v":0}]
[{"$f":"'RELEVE BANCAIRE'!G493","v":"BQ4"},{"$f":"'RELEVE BANCAIRE'!A493","v":"00:00:00"},{"$f":"'RELEVE BANCAIRE'!H493","v":491},{"$f":"'RELEVE BANCAIRE'!M493","v":51200069},{"$f":"'RELEVE BANCAIRE'!E493","v":0},{"$f":"'RELEVE BANCAIRE'!D493*-1","v":0},{"$f":"'RELEVE BANCAIRE'!C493","v":0}]
[{"$f":"'RELEVE BANCAIRE'!G494","v":"BQ4"},{"$f":"'RELEVE BANCAIRE'!A494","v":"00:00:00"},{"$f":"'RELEVE BANCAIRE'!H494","v":492},{"$f":"'RELEVE BANCAIRE'!M494","v":51200070},{"$f":"'RELEVE BANCAIRE'!E494","v":0},{"$f":"'RELEVE BANCAIRE'!D494*-1","v":0},{"$f":"'RELEVE BANCAIRE'!C494","v":0}]
[{"$f":"'RELEVE BANCAIRE'!G495","v":"BQ4"},{"$f":"'RELEVE BANCAIRE'!A495","v":"00:00:00"},{"$f":"'RELEVE BANCAIRE'!H495","v":493},{"$f":"'RELEVE BANCAIRE'!M495","v":51200071},{"$f":"'RELEVE BANCAIRE'!E495","v":0},{"$f":"'RELEVE BANCAIRE'!D495*-1","v":0},{"$f":"'RELEVE BANCAIRE'!C495","v":0}]
[{"$f":"'RELEVE BANCAIRE'!G496","v":"BQ4"},{"$f":"'RELEVE BANCAIRE'!A496","v":"00:00:00"},{"$f":"'RELEVE BANCAIRE'!H496","v":494},{"$f":"'RELEVE BANCAIRE'!M496","v":51200072},{"$f":"'RELEVE BANCAIRE'!E496","v":0},{"$f":"'RELEVE BANCAIRE'!D496*-1","v":0},{"$f":"'RELEVE BANCAIRE'!C496","v":0}]
[{"$f":"'RELEVE BANCAIRE'!G497","v":"BQ4"},{"$f":"'RELEVE BANCAIRE'!A497","v":"00:00:00"},{"$f":"'RELEVE BANCAIRE'!H497","v":495},{"$f":"'RELEVE BANCAIRE'!M497","v":51200073},{"$f":"'RELEVE BANCAIRE'!E497","v":0},{"$f":"'RELEVE BANCAIRE'!D497*-1","v":0},{"$f":"'RELEVE BANCAIRE'!C497","v":0}]
[{"$f":"'RELEVE BANCAIRE'!G498","v":"BQ4"},{"$f":"'RELEVE BANCAIRE'!A498","v":"00:00:00"},{"$f":"'RELEVE BANCAIRE'!H498","v":496},{"$f":"'RELEVE BANCAIRE'!M498","v":51200074},{"$f":"'RELEVE BANCAIRE'!E498","v":0},{"$f":"'RELEVE BANCAIRE'!D498*-1","v":0},{"$f":"'RELEVE BANCAIRE'!C498","v":0}]
[{"$f":"'RELEVE BANCAIRE'!G499","v":"BQ4"},{"$f":"'RELEVE BANCAIRE'!A499","v":"00:00:00"},{"$f":"'RELEVE BANCAIRE'!H499","v":497},{"$f":"'RELEVE BANCAIRE'!M499","v":51200075},{"$f":"'RELEVE BANCAIRE'!E499","v":0},{"$f":"'RELEVE BANCAIRE'!D499*-1","v":0},{"$f":"'RELEVE BANCAIRE'!C499","v":0}]
[{"$f":"'RELEVE BANCAIRE'!G500","v":"BQ4"},{"$f":"'RELEVE BANCAIRE'!A500","v":"00:00:00"},{"$f":"'RELEVE BANCAIRE'!H500","v":498},{"$f":"'RELEVE BANCAIRE'!M500","v":51200076},{"$f":"'RELEVE BANCAIRE'!E500","v":0},{"$f":"'RELEVE BANCAIRE'!D500*-1","v":0},{"$f":"'RELEVE BANCAIRE'!C500","v":0}]
[{"$f":"'RELEVE BANCAIRE'!G501","v":0},{"$f":"'RELEVE BANCAIRE'!A501","v":"00:00:00"},{"$f":"'RELEVE BANCAIRE'!H501","v":0},{"$f":"'RELEVE BANCAIRE'!M501","v":51200004},{"$f":"'RELEVE BANCAIRE'!E501","v":0},{"$f":"'RELEVE BANCAIRE'!D501*-1","v":0},{"$f":"'RELEVE BANCAIRE'!C501","v":0}]
[{"$f":"'RELEVE BANCAIRE'!G502","v":0},{"$f":"'RELEVE BANCAIRE'!A502","v":"00:00:00"},{"$f":"'RELEVE BANCAIRE'!H502","v":0},{"$f":"'RELEVE BANCAIRE'!M502","v":51200004},{"$f":"'RELEVE BANCAIRE'!E502","v":0},{"$f":"'RELEVE BANCAIRE'!D502*-1","v":0},{"$f":"'RELEVE BANCAIRE'!C502","v":0}]
[{"$f":"'RELEVE BANCAIRE'!G503","v":0},{"$f":"'RELEVE BANCAIRE'!A503","v":"00:00:00"},{"$f":"'RELEVE BANCAIRE'!H503","v":0},{"$f":"'RELEVE BANCAIRE'!M503","v":51200004},{"$f":"'RELEVE BANCAIRE'!E503","v":0},{"$f":"'RELEVE BANCAIRE'!D503*-1","v":0},{"$f":"'RELEVE BANCAIRE'!C503","v":0}]
[{"$f":"'RELEVE BANCAIRE'!G504","v":0},{"$f":"'RELEVE BANCAIRE'!A504","v":"00:00:00"},{"$f":"'RELEVE BANCAIRE'!H504","v":0},{"$f":"'RELEVE BANCAIRE'!M504","v":51200004},{"$f":"'RELEVE BANCAIRE'!E504","v":0},{"$f":"'RELEVE BANCAIRE'!D504*-1","v":0},{"$f":"'RELEVE BANCAIRE'!C504","v":0}]
[{"$f":"'RELEVE BANCAIRE'!G505","v":0},{"$f":"'RELEVE BANCAIRE'!A505","v":"00:00:00"},{"$f":"'RELEVE BANCAIRE'!H505","v":0},{"$f":"'RELEVE BANCAIRE'!M505","v":51200004},{"$f":"'RELEVE BANCAIRE'!E505","v":0},{"$f":"'RELEVE BANCAIRE'!D505*-1","v":0},{"$f":"'RELEVE BANCAIRE'!C505","v":0}]
[{"$f":"'RELEVE BANCAIRE'!G506","v":0},{"$f":"'RELEVE BANCAIRE'!A506","v":"00:00:00"},{"$f":"'RELEVE BANCAIRE'!H506","v":0},{"$f":"'RELEVE BANCAIRE'!M506","v":51200004},{"$f":"'RELEVE BANCAIRE'!E506","v":0},{"$f":"'RELEVE BANCAIRE'!D506*-1","v":0},{"$f":"'RELEVE BANCAIRE'!C506","v":0}]
[{"$f":"'RELEVE BANCAIRE'!G507","v":0},{"$f":"'RELEVE BANCAIRE'!A507","v":"00:00:00"},{"$f":"'RELEVE BANCAIRE'!H507","v":0},{"$f":"'RELEVE BANCAIRE'!M507","v":51200004},{"$f":"'RELEVE BANCAIRE'!E507","v":0},{"$f":"'RELEVE BANCAIRE'!D507*-1","v":0},{"$f":"'RELEVE BANCAIRE'!C507","v":0}]
[{"$f":"'RELEVE BANCAIRE'!G508","v":0},{"$f":"'RELEVE BANCAIRE'!A508","v":"00:00:00"},{"$f":"'RELEVE BANCAIRE'!H508","v":0},{"$f":"'RELEVE BANCAIRE'!M508","v":51200004},{"$f":"'RELEVE BANCAIRE'!E508","v":0},{"$f":"'RELEVE BANCAIRE'!D508*-1","v":0},{"$f":"'RELEVE BANCAIRE'!C508","v":0}]
[{"$f":"'RELEVE BANCAIRE'!G509","v":0},{"$f":"'RELEVE BANCAIRE'!A509","v":"00:00:00"},{"$f":"'RELEVE BANCAIRE'!H509","v":0},{"$f":"'RELEVE BANCAIRE'!M509","v":51200004},{"$f":"'RELEVE BANCAIRE'!E509","v":0},{"$f":"'RELEVE BANCAIRE'!D509*-1","v":0},{"$f":"'RELEVE BANCAIRE'!C509","v":0}]
[{"$f":"'RELEVE BANCAIRE'!G510","v":0},{"$f":"'RELEVE BANCAIRE'!A510","v":"00:00:00"},{"$f":"'RELEVE BANCAIRE'!H510","v":0},{"$f":"'RELEVE BANCAIRE'!M510","v":51200004},{"$f":"'RELEVE BANCAIRE'!E510","v":0},{"$f":"'RELEVE BANCAIRE'!D510*-1","v":0},{"$f":"'RELEVE BANCAIRE'!C510","v":0}]
[{"$f":"'RELEVE BANCAIRE'!G511","v":0},{"$f":"'RELEVE BANCAIRE'!A511","v":"00:00:00"},{"$f":"'RELEVE BANCAIRE'!H511","v":0},{"$f":"'RELEVE BANCAIRE'!M511","v":51200004},{"$f":"'RELEVE BANCAIRE'!E511","v":0},{"$f":"'RELEVE BANCAIRE'!D511*-1","v":0},{"$f":"'RELEVE BANCAIRE'!C511","v":0}]
[{"$f":"'RELEVE BANCAIRE'!G512","v":0},{"$f":"'RELEVE BANCAIRE'!A512","v":"00:00:00"},{"$f":"'RELEVE BANCAIRE'!H512","v":0},{"$f":"'RELEVE BANCAIRE'!M512","v":51200004},{"$f":"'RELEVE BANCAIRE'!E512","v":0},{"$f":"'RELEVE BANCAIRE'!D512*-1","v":0},{"$f":"'RELEVE BANCAIRE'!C512","v":0}]
[{"$f":"'RELEVE BANCAIRE'!G513","v":0},{"$f":"'RELEVE BANCAIRE'!A513","v":"00:00:00"},{"$f":"'RELEVE BANCAIRE'!H513","v":0},{"$f":"'RELEVE BANCAIRE'!M513","v":51200004},{"$f":"'RELEVE BANCAIRE'!E513","v":0},{"$f":"'RELEVE BANCAIRE'!D513*-1","v":0},{"$f":"'RELEVE BANCAIRE'!C513","v":0}]
[{"$f":"'RELEVE BANCAIRE'!G514","v":0},{"$f":"'RELEVE BANCAIRE'!A514","v":"00:00:00"},{"$f":"'RELEVE BANCAIRE'!H514","v":0},{"$f":"'RELEVE BANCAIRE'!M514","v":51200004},{"$f":"'RELEVE BANCAIRE'!E514","v":0},{"$f":"'RELEVE BANCAIRE'!D514*-1","v":0},{"$f":"'RELEVE BANCAIRE'!C514","v":0}]
[{"$f":"'RELEVE BANCAIRE'!G515","v":0},{"$f":"'RELEVE BANCAIRE'!A515","v":"00:00:00"},{"$f":"'RELEVE BANCAIRE'!H515","v":0},{"$f":"'RELEVE BANCAIRE'!M515","v":51200004},{"$f":"'RELEVE BANCAIRE'!E515","v":0},{"$f":"'RELEVE BANCAIRE'!D515*-1","v":0},{"$f":"'RELEVE BANCAIRE'!C515","v":0}]
[{"$f":"'RELEVE BANCAIRE'!G516","v":0},{"$f":"'RELEVE BANCAIRE'!A516","v":"00:00:00"},{"$f":"'RELEVE BANCAIRE'!H516","v":0},{"$f":"'RELEVE BANCAIRE'!M516","v":51200004},{"$f":"'RELEVE BANCAIRE'!E516","v":0},{"$f":"'RELEVE BANCAIRE'!D516*-1","v":0},{"$f":"'RELEVE BANCAIRE'!C516","v":0}]
[{"$f":"'RELEVE BANCAIRE'!G517","v":0},{"$f":"'RELEVE BANCAIRE'!A517","v":"00:00:00"},{"$f":"'RELEVE BANCAIRE'!H517","v":0},{"$f":"'RELEVE BANCAIRE'!M517","v":51200004},{"$f":"'RELEVE BANCAIRE'!E517","v":0},{"$f":"'RELEVE BANCAIRE'!D517*-1","v":0},{"$f":"'RELEVE BANCAIRE'!C517","v":0}]
[{"$f":"'RELEVE BANCAIRE'!G518","v":0},{"$f":"'RELEVE BANCAIRE'!A518","v":"00:00:00"},{"$f":"'RELEVE BANCAIRE'!H518","v":0},{"$f":"'RELEVE BANCAIRE'!M518","v":51200004},{"$f":"'RELEVE BANCAIRE'!E518","v":0},{"$f":"'RELEVE BANCAIRE'!D518*-1","v":0},{"$f":"'RELEVE BANCAIRE'!C518","v":0}]
[{"$f":"'RELEVE BANCAIRE'!G519","v":0},{"$f":"'RELEVE BANCAIRE'!A519","v":"00:00:00"},{"$f":"'RELEVE BANCAIRE'!H519","v":0},{"$f":"'RELEVE BANCAIRE'!M519","v":51200004},{"$f":"'RELEVE BANCAIRE'!E519","v":0},{"$f":"'RELEVE BANCAIRE'!D519*-1","v":0},{"$f":"'RELEVE BANCAIRE'!C519","v":0}]
[{"$f":"'RELEVE BANCAIRE'!G520","v":0},{"$f":"'RELEVE BANCAIRE'!A520","v":"00:00:00"},{"$f":"'RELEVE BANCAIRE'!H520","v":0},{"$f":"'RELEVE BANCAIRE'!M520","v":51200004},{"$f":"'RELEVE BANCAIRE'!E520","v":0},{"$f":"'RELEVE BANCAIRE'!D520*-1","v":0},{"$f":"'RELEVE BANCAIRE'!C520","v":0}]
[{"$f":"'RELEVE BANCAIRE'!G521","v":0},{"$f":"'RELEVE BANCAIRE'!A521","v":"00:00:00"},{"$f":"'RELEVE BANCAIRE'!H521","v":0},{"$f":"'RELEVE BANCAIRE'!M521","v":51200004},{"$f":"'RELEVE BANCAIRE'!E521","v":0},{"$f":"'RELEVE BANCAIRE'!D521*-1","v":0},{"$f":"'RELEVE BANCAIRE'!C521","v":0}]
[{"$f":"'RELEVE BANCAIRE'!G522","v":0},{"$f":"'RELEVE BANCAIRE'!A522","v":"00:00:00"},{"$f":"'RELEVE BANCAIRE'!H522","v":0},{"$f":"'RELEVE BANCAIRE'!M522","v":51200004},{"$f":"'RELEVE BANCAIRE'!E522","v":0},{"$f":"'RELEVE BANCAIRE'!D522*-1","v":0},{"$f":"'RELEVE BANCAIRE'!C522","v":0}]
[{"$f":"'RELEVE BANCAIRE'!G523","v":0},{"$f":"'RELEVE BANCAIRE'!A523","v":"00:00:00"},{"$f":"'RELEVE BANCAIRE'!H523","v":0},{"$f":"'RELEVE BANCAIRE'!M523","v":51200004},{"$f":"'RELEVE BANCAIRE'!E523","v":0},{"$f":"'RELEVE BANCAIRE'!D523*-1","v":0},{"$f":"'RELEVE BANCAIRE'!C523","v":0}]
[{"$f":"'RELEVE BANCAIRE'!G524","v":0},{"$f":"'RELEVE BANCAIRE'!A524","v":"00:00:00"},{"$f":"'RELEVE BANCAIRE'!H524","v":0},{"$f":"'RELEVE BANCAIRE'!M524","v":51200004},{"$f":"'RELEVE BANCAIRE'!E524","v":0},{"$f":"'RELEVE BANCAIRE'!D524*-1","v":0},{"$f":"'RELEVE BANCAIRE'!C524","v":0}]
[{"$f":"'RELEVE BANCAIRE'!G525","v":0},{"$f":"'RELEVE BANCAIRE'!A525","v":"00:00:00"},{"$f":"'RELEVE BANCAIRE'!H525","v":0},{"$f":"'RELEVE BANCAIRE'!M525","v":51200004},{"$f":"'RELEVE BANCAIRE'!E525","v":0},{"$f":"'RELEVE BANCAIRE'!D525*-1","v":0},{"$f":"'RELEVE BANCAIRE'!C525","v":0}]
[{"$f":"'RELEVE BANCAIRE'!G526","v":0},{"$f":"'RELEVE BANCAIRE'!A526","v":"00:00:00"},{"$f":"'RELEVE BANCAIRE'!H526","v":0},{"$f":"'RELEVE BANCAIRE'!M526","v":51200004},{"$f":"'RELEVE BANCAIRE'!E526","v":0},{"$f":"'RELEVE BANCAIRE'!D526*-1","v":0},{"$f":"'RELEVE BANCAIRE'!C526","v":0}]
[{"$f":"'RELEVE BANCAIRE'!G527","v":0},{"$f":"'RELEVE BANCAIRE'!A527","v":"00:00:00"},{"$f":"'RELEVE BANCAIRE'!H527","v":0},{"$f":"'RELEVE BANCAIRE'!M527","v":51200004},{"$f":"'RELEVE BANCAIRE'!E527","v":0},{"$f":"'RELEVE BANCAIRE'!D527*-1","v":0},{"$f":"'RELEVE BANCAIRE'!C527","v":0}]
[{"$f":"'RELEVE BANCAIRE'!G528","v":0},{"$f":"'RELEVE BANCAIRE'!A528","v":"00:00:00"},{"$f":"'RELEVE BANCAIRE'!H528","v":0},{"$f":"'RELEVE BANCAIRE'!M528","v":51200004},{"$f":"'RELEVE BANCAIRE'!E528","v":0},{"$f":"'RELEVE BANCAIRE'!D528*-1","v":0},{"$f":"'RELEVE BANCAIRE'!C528","v":0}]
[{"$f":"'RELEVE BANCAIRE'!G529","v":0},{"$f":"'RELEVE BANCAIRE'!A529","v":"00:00:00"},{"$f":"'RELEVE BANCAIRE'!H529","v":0},{"$f":"'RELEVE BANCAIRE'!M529","v":51200004},{"$f":"'RELEVE BANCAIRE'!E529","v":0},{"$f":"'RELEVE BANCAIRE'!D529*-1","v":0},{"$f":"'RELEVE BANCAIRE'!C529","v":0}]
[{"$f":"'RELEVE BANCAIRE'!G530","v":0},{"$f":"'RELEVE BANCAIRE'!A530","v":"00:00:00"},{"$f":"'RELEVE BANCAIRE'!H530","v":0},{"$f":"'RELEVE BANCAIRE'!M530","v":51200004},{"$f":"'RELEVE BANCAIRE'!E530","v":0},{"$f":"'RELEVE BANCAIRE'!D530*-1","v":0},{"$f":"'RELEVE BANCAIRE'!C530","v":0}]
[{"$f":"'RELEVE BANCAIRE'!G531","v":0},{"$f":"'RELEVE BANCAIRE'!A531","v":"00:00:00"},{"$f":"'RELEVE BANCAIRE'!H531","v":0},{"$f":"'RELEVE BANCAIRE'!M531","v":51200004},{"$f":"'RELEVE BANCAIRE'!E531","v":0},{"$f":"'RELEVE BANCAIRE'!D531*-1","v":0},{"$f":"'RELEVE BANCAIRE'!C531","v":0}]
[{"$f":"'RELEVE BANCAIRE'!G532","v":0},{"$f":"'RELEVE BANCAIRE'!A532","v":"00:00:00"},{"$f":"'RELEVE BANCAIRE'!H532","v":0},{"$f":"'RELEVE BANCAIRE'!M532","v":51200004},{"$f":"'RELEVE BANCAIRE'!E532","v":0},{"$f":"'RELEVE BANCAIRE'!D532*-1","v":0},{"$f":"'RELEVE BANCAIRE'!C532","v":0}]
[{"$f":"'RELEVE BANCAIRE'!G533","v":0},{"$f":"'RELEVE BANCAIRE'!A533","v":"00:00:00"},{"$f":"'RELEVE BANCAIRE'!H533","v":0},{"$f":"'RELEVE BANCAIRE'!M533","v":0},{"$f":"'RELEVE BANCAIRE'!E533","v":0},{"$f":"'RELEVE BANCAIRE'!D533*-1","v":0},{"$f":"'RELEVE BANCAIRE'!C533","v":0}]
[{"$f":"'RELEVE BANCAIRE'!G534","v":0},{"$f":"'RELEVE BANCAIRE'!A534","v":"00:00:00"},{"$f":"'RELEVE BANCAIRE'!H534","v":0},{"$f":"'RELEVE BANCAIRE'!M534","v":0},{"$f":"'RELEVE BANCAIRE'!E534","v":0},{"$f":"'RELEVE BANCAIRE'!D534*-1","v":0},{"$f":"'RELEVE BANCAIRE'!C534","v":0}]
[{"$f":"'RELEVE BANCAIRE'!G535","v":0},{"$f":"'RELEVE BANCAIRE'!A535","v":"00:00:00"},{"$f":"'RELEVE BANCAIRE'!H535","v":0},{"$f":"'RELEVE BANCAIRE'!M535","v":0},{"$f":"'RELEVE BANCAIRE'!E535","v":0},{"$f":"'RELEVE BANCAIRE'!D535*-1","v":0},{"$f":"'RELEVE BANCAIRE'!C535","v":0}]
[{"$f":"'RELEVE BANCAIRE'!G536","v":0},{"$f":"'RELEVE BANCAIRE'!A536","v":"00:00:00"},{"$f":"'RELEVE BANCAIRE'!H536","v":0},{"$f":"'RELEVE BANCAIRE'!M536","v":0},{"$f":"'RELEVE BANCAIRE'!E536","v":0},{"$f":"'RELEVE BANCAIRE'!D536*-1","v":0},{"$f":"'RELEVE BANCAIRE'!C536","v":0}]
[{"$f":"'RELEVE BANCAIRE'!G537","v":0},{"$f":"'RELEVE BANCAIRE'!A537","v":"00:00:00"},{"$f":"'RELEVE BANCAIRE'!H537","v":0},{"$f":"'RELEVE BANCAIRE'!M537","v":0},{"$f":"'RELEVE BANCAIRE'!E537","v":0},{"$f":"'RELEVE BANCAIRE'!D537*-1","v":0},{"$f":"'RELEVE BANCAIRE'!C537","v":0}]
[{"$f":"'RELEVE BANCAIRE'!G538","v":0},{"$f":"'RELEVE BANCAIRE'!A538","v":"00:00:00"},{"$f":"'RELEVE BANCAIRE'!H538","v":0},{"$f":"'RELEVE BANCAIRE'!M538","v":0},{"$f":"'RELEVE BANCAIRE'!E538","v":0},{"$f":"'RELEVE BANCAIRE'!D538*-1","v":0},{"$f":"'RELEVE BANCAIRE'!C538","v":0}]
[{"$f":"'RELEVE BANCAIRE'!G539","v":0},{"$f":"'RELEVE BANCAIRE'!A539","v":"00:00:00"},{"$f":"'RELEVE BANCAIRE'!H539","v":0},{"$f":"'RELEVE BANCAIRE'!M539","v":0},{"$f":"'RELEVE BANCAIRE'!E539","v":0},{"$f":"'RELEVE BANCAIRE'!D539*-1","v":0},{"$f":"'RELEVE BANCAIRE'!C539","v":0}]
[{"$f":"'RELEVE BANCAIRE'!G540","v":0},{"$f":"'RELEVE BANCAIRE'!A540","v":"00:00:00"},{"$f":"'RELEVE BANCAIRE'!H540","v":0},{"$f":"'RELEVE BANCAIRE'!M540","v":0},{"$f":"'RELEVE BANCAIRE'!E540","v":0},{"$f":"'RELEVE BANCAIRE'!D540*-1","v":0},{"$f":"'RELEVE BANCAIRE'!C540","v":0}]
[{"$f":"'RELEVE BANCAIRE'!G541","v":0},{"$f":"'RELEVE BANCAIRE'!A541","v":"00:00:00"},{"$f":"'RELEVE BANCAIRE'!H541","v":0},{"$f":"'RELEVE BANCAIRE'!M541","v":0},{"$f":"'RELEVE BANCAIRE'!E541","v":0},{"$f":"'RELEVE BANCAIRE'!D541*-1","v":0},{"$f":"'RELEVE BANCAIRE'!C541","v":0}]
[{"$f":"'RELEVE BANCAIRE'!G542","v":0},{"$f":"'RELEVE BANCAIRE'!A542","v":"00:00:00"},{"$f":"'RELEVE BANCAIRE'!H542","v":0},{"$f":"'RELEVE BANCAIRE'!M542","v":0},{"$f":"'RELEVE BANCAIRE'!E542","v":0},{"$f":"'RELEVE BANCAIRE'!D542*-1","v":0},{"$f":"'RELEVE BANCAIRE'!C542","v":0}]
[{"$f":"'RELEVE BANCAIRE'!G543","v":0},{"$f":"'RELEVE BANCAIRE'!A543","v":"00:00:00"},{"$f":"'RELEVE BANCAIRE'!H543","v":0},{"$f":"'RELEVE BANCAIRE'!M543","v":0},{"$f":"'RELEVE BANCAIRE'!E543","v":0},{"$f":"'RELEVE BANCAIRE'!D543*-1","v":0},{"$f":"'RELEVE BANCAIRE'!C543","v":0}]
[{"$f":"'RELEVE BANCAIRE'!G544","v":0},{"$f":"'RELEVE BANCAIRE'!A544","v":"00:00:00"},{"$f":"'RELEVE BANCAIRE'!H544","v":0},{"$f":"'RELEVE BANCAIRE'!M544","v":0},{"$f":"'RELEVE BANCAIRE'!E544","v":0},{"$f":"'RELEVE BANCAIRE'!D544*-1","v":0},{"$f":"'RELEVE BANCAIRE'!C544","v":0}]
[{"$f":"'RELEVE BANCAIRE'!G545","v":0},{"$f":"'RELEVE BANCAIRE'!A545","v":"00:00:00"},{"$f":"'RELEVE BANCAIRE'!H545","v":0},{"$f":"'RELEVE BANCAIRE'!M545","v":0},{"$f":"'RELEVE BANCAIRE'!E545","v":0},{"$f":"'RELEVE BANCAIRE'!D545*-1","v":0},{"$f":"'RELEVE BANCAIRE'!C545","v":0}]
[{"$f":"'RELEVE BANCAIRE'!G546","v":0},{"$f":"'RELEVE BANCAIRE'!A546","v":"00:00:00"},{"$f":"'RELEVE BANCAIRE'!H546","v":0},{"$f":"'RELEVE BANCAIRE'!M546","v":0},{"$f":"'RELEVE BANCAIRE'!E546","v":0},{"$f":"'RELEVE BANCAIRE'!D546*-1","v":0},{"$f":"'RELEVE BANCAIRE'!C546","v":0}]
[{"$f":"'RELEVE BANCAIRE'!G547","v":0},{"$f":"'RELEVE BANCAIRE'!A547","v":"00:00:00"},{"$f":"'RELEVE BANCAIRE'!H547","v":0},{"$f":"'RELEVE BANCAIRE'!M547","v":0},{"$f":"'RELEVE BANCAIRE'!E547","v":0},{"$f":"'RELEVE BANCAIRE'!D547*-1","v":0},{"$f":"'RELEVE BANCAIRE'!C547","v":0}]
[{"$f":"'RELEVE BANCAIRE'!G548","v":0},{"$f":"'RELEVE BANCAIRE'!A548","v":"00:00:00"},{"$f":"'RELEVE BANCAIRE'!H548","v":0},{"$f":"'RELEVE BANCAIRE'!M548","v":0},{"$f":"'RELEVE BANCAIRE'!E548","v":0},{"$f":"'RELEVE BANCAIRE'!D548*-1","v":0},{"$f":"'RELEVE BANCAIRE'!C548","v":0}]
[{"$f":"'RELEVE BANCAIRE'!G549","v":0},{"$f":"'RELEVE BANCAIRE'!A549","v":"00:00:00"},{"$f":"'RELEVE BANCAIRE'!H549","v":0},{"$f":"'RELEVE BANCAIRE'!M549","v":0},{"$f":"'RELEVE BANCAIRE'!E549","v":0},{"$f":"'RELEVE BANCAIRE'!D549*-1","v":0},{"$f":"'RELEVE BANCAIRE'!C549","v":0}]
[{"$f":"'RELEVE BANCAIRE'!G550","v":0},{"$f":"'RELEVE BANCAIRE'!A550","v":"00:00:00"},{"$f":"'RELEVE BANCAIRE'!H550","v":0},{"$f":"'RELEVE BANCAIRE'!M550","v":0},{"$f":"'RELEVE BANCAIRE'!E550","v":0},{"$f":"'RELEVE BANCAIRE'!D550*-1","v":0},{"$f":"'RELEVE BANCAIRE'!C550","v":0}]
[{"$f":"'RELEVE BANCAIRE'!G551","v":0},{"$f":"'RELEVE BANCAIRE'!A551","v":"00:00:00"},{"$f":"'RELEVE BANCAIRE'!H551","v":0},{"$f":"'RELEVE BANCAIRE'!M551","v":0},{"$f":"'RELEVE BANCAIRE'!E551","v":0},{"$f":"'RELEVE BANCAIRE'!D551*-1","v":0},{"$f":"'RELEVE BANCAIRE'!C551","v":0}]
[{"$f":"'RELEVE BANCAIRE'!G552","v":0},{"$f":"'RELEVE BANCAIRE'!A552","v":"00:00:00"},{"$f":"'RELEVE BANCAIRE'!H552","v":0},{"$f":"'RELEVE BANCAIRE'!M552","v":0},{"$f":"'RELEVE BANCAIRE'!E552","v":0},{"$f":"'RELEVE BANCAIRE'!D552*-1","v":0},{"$f":"'RELEVE BANCAIRE'!C552","v":0}]
[{"$f":"'RELEVE BANCAIRE'!G553","v":0},{"$f":"'RELEVE BANCAIRE'!A553","v":"00:00:00"},{"$f":"'RELEVE BANCAIRE'!H553","v":0},{"$f":"'RELEVE BANCAIRE'!M553","v":0},{"$f":"'RELEVE BANCAIRE'!E553","v":0},{"$f":"'RELEVE BANCAIRE'!D553*-1","v":0},{"$f":"'RELEVE BANCAIRE'!C553","v":0}]
[{"$f":"'RELEVE BANCAIRE'!G554","v":0},{"$f":"'RELEVE BANCAIRE'!A554","v":"00:00:00"},{"$f":"'RELEVE BANCAIRE'!H554","v":0},{"$f":"'RELEVE BANCAIRE'!M554","v":0},{"$f":"'RELEVE BANCAIRE'!E554","v":0},{"$f":"'RELEVE BANCAIRE'!D554*-1","v":0},{"$f":"'RELEVE BANCAIRE'!C554","v":0}]
[{"$f":"'RELEVE BANCAIRE'!G555","v":0},{"$f":"'RELEVE BANCAIRE'!A555","v":"00:00:00"},{"$f":"'RELEVE BANCAIRE'!H555","v":0},{"$f":"'RELEVE BANCAIRE'!M555","v":0},{"$f":"'RELEVE BANCAIRE'!E555","v":0},{"$f":"'RELEVE BANCAIRE'!D555*-1","v":0},{"$f":"'RELEVE BANCAIRE'!C555","v":0}]
[{"$f":"'RELEVE BANCAIRE'!G556","v":0},{"$f":"'RELEVE BANCAIRE'!A556","v":"00:00:00"},{"$f":"'RELEVE BANCAIRE'!H556","v":0},{"$f":"'RELEVE BANCAIRE'!M556","v":0},{"$f":"'RELEVE BANCAIRE'!E556","v":0},{"$f":"'RELEVE BANCAIRE'!D556*-1","v":0},{"$f":"'RELEVE BANCAIRE'!C556","v":0}]
[{"$f":"'RELEVE BANCAIRE'!G557","v":0},{"$f":"'RELEVE BANCAIRE'!A557","v":"00:00:00"},{"$f":"'RELEVE BANCAIRE'!H557","v":0},{"$f":"'RELEVE BANCAIRE'!M557","v":0},{"$f":"'RELEVE BANCAIRE'!E557","v":0},{"$f":"'RELEVE BANCAIRE'!D557*-1","v":0},{"$f":"'RELEVE BANCAIRE'!C557","v":0}]
[{"$f":"'RELEVE BANCAIRE'!G558","v":0},{"$f":"'RELEVE BANCAIRE'!A558","v":"00:00:00"},{"$f":"'RELEVE BANCAIRE'!H558","v":0},{"$f":"'RELEVE BANCAIRE'!M558","v":0},{"$f":"'RELEVE BANCAIRE'!E558","v":0},{"$f":"'RELEVE BANCAIRE'!D558*-1","v":0},{"$f":"'RELEVE BANCAIRE'!C558","v":0}]
[{"$f":"'RELEVE BANCAIRE'!G559","v":0},{"$f":"'RELEVE BANCAIRE'!A559","v":"00:00:00"},{"$f":"'RELEVE BANCAIRE'!H559","v":0},{"$f":"'RELEVE BANCAIRE'!M559","v":0},{"$f":"'RELEVE BANCAIRE'!E559","v":0},{"$f":"'RELEVE BANCAIRE'!D559*-1","v":0},{"$f":"'RELEVE BANCAIRE'!C559","v":0}]
[{"$f":"'RELEVE BANCAIRE'!G560","v":0},{"$f":"'RELEVE BANCAIRE'!A560","v":"00:00:00"},{"$f":"'RELEVE BANCAIRE'!H560","v":0},{"$f":"'RELEVE BANCAIRE'!M560","v":0},{"$f":"'RELEVE BANCAIRE'!E560","v":0},{"$f":"'RELEVE BANCAIRE'!D560*-1","v":0},{"$f":"'RELEVE BANCAIRE'!C560","v":0}]
[{"$f":"'RELEVE BANCAIRE'!G561","v":0},{"$f":"'RELEVE BANCAIRE'!A561","v":"00:00:00"},{"$f":"'RELEVE BANCAIRE'!H561","v":0},{"$f":"'RELEVE BANCAIRE'!M561","v":0},{"$f":"'RELEVE BANCAIRE'!E561","v":0},{"$f":"'RELEVE BANCAIRE'!D561*-1","v":0},{"$f":"'RELEVE BANCAIRE'!C561","v":0}]
[{"$f":"'RELEVE BANCAIRE'!G562","v":0},{"$f":"'RELEVE BANCAIRE'!A562","v":"00:00:00"},{"$f":"'RELEVE BANCAIRE'!H562","v":0},{"$f":"'RELEVE BANCAIRE'!M562","v":0},{"$f":"'RELEVE BANCAIRE'!E562","v":0},{"$f":"'RELEVE BANCAIRE'!D562*-1","v":0},{"$f":"'RELEVE BANCAIRE'!C562","v":0}]
[{"$f":"'RELEVE BANCAIRE'!G563","v":0},{"$f":"'RELEVE BANCAIRE'!A563","v":"00:00:00"},{"$f":"'RELEVE BANCAIRE'!H563","v":0},{"$f":"'RELEVE BANCAIRE'!M563","v":0},{"$f":"'RELEVE BANCAIRE'!E563","v":0},{"$f":"'RELEVE BANCAIRE'!D563*-1","v":0},{"$f":"'RELEVE BANCAIRE'!C563","v":0}]
[{"$f":"'RELEVE BANCAIRE'!G564","v":0},{"$f":"'RELEVE BANCAIRE'!A564","v":"00:00:00"},{"$f":"'RELEVE BANCAIRE'!H564","v":0},{"$f":"'RELEVE BANCAIRE'!M564","v":0},{"$f":"'RELEVE BANCAIRE'!E564","v":0},{"$f":"'RELEVE BANCAIRE'!D564*-1","v":0},{"$f":"'RELEVE BANCAIRE'!C564","v":0}]
[{"$f":"'RELEVE BANCAIRE'!G565","v":0},{"$f":"'RELEVE BANCAIRE'!A565","v":"00:00:00"},{"$f":"'RELEVE BANCAIRE'!H565","v":0},{"$f":"'RELEVE BANCAIRE'!M565","v":0},{"$f":"'RELEVE BANCAIRE'!E565","v":0},{"$f":"'RELEVE BANCAIRE'!D565*-1","v":0},{"$f":"'RELEVE BANCAIRE'!C565","v":0}]
[{"$f":"'RELEVE BANCAIRE'!G566","v":0},{"$f":"'RELEVE BANCAIRE'!A566","v":"00:00:00"},{"$f":"'RELEVE BANCAIRE'!H566","v":0},{"$f":"'RELEVE BANCAIRE'!M566","v":0},{"$f":"'RELEVE BANCAIRE'!E566","v":0},{"$f":"'RELEVE BANCAIRE'!D566*-1","v":0},{"$f":"'RELEVE BANCAIRE'!C566","v":0}]
[{"$f":"'RELEVE BANCAIRE'!G567","v":0},{"$f":"'RELEVE BANCAIRE'!A567","v":"00:00:00"},{"$f":"'RELEVE BANCAIRE'!H567","v":0},{"$f":"'RELEVE BANCAIRE'!M567","v":0},{"$f":"'RELEVE BANCAIRE'!E567","v":0},{"$f":"'RELEVE BANCAIRE'!D567*-1","v":0},{"$f":"'RELEVE BANCAIRE'!C567","v":0}]
[{"$f":"'RELEVE BANCAIRE'!G568","v":0},{"$f":"'RELEVE BANCAIRE'!A568","v":"00:00:00"},{"$f":"'RELEVE BANCAIRE'!H568","v":0},{"$f":"'RELEVE BANCAIRE'!M568","v":0},{"$f":"'RELEVE BANCAIRE'!E568","v":0},{"$f":"'RELEVE BANCAIRE'!D568*-1","v":0},{"$f":"'RELEVE BANCAIRE'!C568","v":0}]
[{"$f":"'RELEVE BANCAIRE'!G569","v":0},{"$f":"'RELEVE BANCAIRE'!A569","v":"00:00:00"},{"$f":"'RELEVE BANCAIRE'!H569","v":0},{"$f":"'RELEVE BANCAIRE'!M569","v":0},{"$f":"'RELEVE BANCAIRE'!E569","v":0},{"$f":"'RELEVE BANCAIRE'!D569*-1","v":0},{"$f":"'RELEVE BANCAIRE'!C569","v":0}]
[{"$f":"'RELEVE BANCAIRE'!G570","v":0},{"$f":"'RELEVE BANCAIRE'!A570","v":"00:00:00"},{"$f":"'RELEVE BANCAIRE'!H570","v":0},{"$f":"'RELEVE BANCAIRE'!M570","v":0},{"$f":"'RELEVE BANCAIRE'!E570","v":0},{"$f":"'RELEVE BANCAIRE'!D570*-1","v":0},{"$f":"'RELEVE BANCAIRE'!C570","v":0}]
[{"$f":"'RELEVE BANCAIRE'!G571","v":0},{"$f":"'RELEVE BANCAIRE'!A571","v":"00:00:00"},{"$f":"'RELEVE BANCAIRE'!H571","v":0},{"$f":"'RELEVE BANCAIRE'!M571","v":0},{"$f":"'RELEVE BANCAIRE'!E571","v":0},{"$f":"'RELEVE BANCAIRE'!D571*-1","v":0},{"$f":"'RELEVE BANCAIRE'!C571","v":0}]
[{"$f":"'RELEVE BANCAIRE'!G572","v":0},{"$f":"'RELEVE BANCAIRE'!A572","v":"00:00:00"},{"$f":"'RELEVE BANCAIRE'!H572","v":0},{"$f":"'RELEVE BANCAIRE'!M572","v":0},{"$f":"'RELEVE BANCAIRE'!E572","v":0},{"$f":"'RELEVE BANCAIRE'!D572*-1","v":0},{"$f":"'RELEVE BANCAIRE'!C572","v":0}]
[{"$f":"'RELEVE BANCAIRE'!G573","v":0},{"$f":"'RELEVE BANCAIRE'!A573","v":"00:00:00"},{"$f":"'RELEVE BANCAIRE'!H573","v":0},{"$f":"'RELEVE BANCAIRE'!M573","v":0},{"$f":"'RELEVE BANCAIRE'!E573","v":0},{"$f":"'RELEVE BANCAIRE'!D573*-1","v":0},{"$f":"'RELEVE BANCAIRE'!C573","v":0}]
[{"$f":"'RELEVE BANCAIRE'!G574","v":0},{"$f":"'RELEVE BANCAIRE'!A574","v":"00:00:00"},{"$f":"'RELEVE BANCAIRE'!H574","v":0},{"$f":"'RELEVE BANCAIRE'!M574","v":0},{"$f":"'RELEVE BANCAIRE'!E574","v":0},{"$f":"'RELEVE BANCAIRE'!D574*-1","v":0},{"$f":"'RELEVE BANCAIRE'!C574","v":0}]
[{"$f":"'RELEVE BANCAIRE'!G575","v":0},{"$f":"'RELEVE BANCAIRE'!A575","v":"00:00:00"},{"$f":"'RELEVE BANCAIRE'!H575","v":0},{"$f":"'RELEVE BANCAIRE'!M575","v":0},{"$f":"'RELEVE BANCAIRE'!E575","v":0},{"$f":"'RELEVE BANCAIRE'!D575*-1","v":0},{"$f":"'RELEVE BANCAIRE'!C575","v":0}]
[{"$f":"'RELEVE BANCAIRE'!G576","v":0},{"$f":"'RELEVE BANCAIRE'!A576","v":"00:00:00"},{"$f":"'RELEVE BANCAIRE'!H576","v":0},{"$f":"'RELEVE BANCAIRE'!M576","v":0},{"$f":"'RELEVE BANCAIRE'!E576","v":0},{"$f":"'RELEVE BANCAIRE'!D576*-1","v":0},{"$f":"'RELEVE BANCAIRE'!C576","v":0}]
[{"$f":"'RELEVE BANCAIRE'!G577","v":0},{"$f":"'RELEVE BANCAIRE'!A577","v":"00:00:00"},{"$f":"'RELEVE BANCAIRE'!H577","v":0},{"$f":"'RELEVE BANCAIRE'!M577","v":0},{"$f":"'RELEVE BANCAIRE'!E577","v":0},{"$f":"'RELEVE BANCAIRE'!D577*-1","v":0},{"$f":"'RELEVE BANCAIRE'!C577","v":0}]
[{"$f":"'RELEVE BANCAIRE'!G578","v":0},{"$f":"'RELEVE BANCAIRE'!A578","v":"00:00:00"},{"$f":"'RELEVE BANCAIRE'!H578","v":0},{"$f":"'RELEVE BANCAIRE'!M578","v":0},{"$f":"'RELEVE BANCAIRE'!E578","v":0},{"$f":"'RELEVE BANCAIRE'!D578*-1","v":0},{"$f":"'RELEVE BANCAIRE'!C578","v":0}]
[{"$f":"'RELEVE BANCAIRE'!G579","v":0},{"$f":"'RELEVE BANCAIRE'!A579","v":"00:00:00"},{"$f":"'RELEVE BANCAIRE'!H579","v":0},{"$f":"'RELEVE BANCAIRE'!M579","v":0},{"$f":"'RELEVE BANCAIRE'!E579","v":0},{"$f":"'RELEVE BANCAIRE'!D579*-1","v":0},{"$f":"'RELEVE BANCAIRE'!C579","v":0}]
[{"$f":"'RELEVE BANCAIRE'!G580","v":0},{"$f":"'RELEVE BANCAIRE'!A580","v":"00:00:00"},{"$f":"'RELEVE BANCAIRE'!H580","v":0},{"$f":"'RELEVE BANCAIRE'!M580","v":0},{"$f":"'RELEVE BANCAIRE'!E580","v":0},{"$f":"'RELEVE BANCAIRE'!D580*-1","v":0},{"$f":"'RELEVE BANCAIRE'!C580","v":0}]
[{"$f":"'RELEVE BANCAIRE'!G581","v":0},{"$f":"'RELEVE BANCAIRE'!A581","v":"00:00:00"},{"$f":"'RELEVE BANCAIRE'!H581","v":0},{"$f":"'RELEVE BANCAIRE'!M581","v":0},{"$f":"'RELEVE BANCAIRE'!E581","v":0},{"$f":"'RELEVE BANCAIRE'!D581*-1","v":0},{"$f":"'RELEVE BANCAIRE'!C581","v":0}]
[{"$f":"'RELEVE BANCAIRE'!G582","v":0},{"$f":"'RELEVE BANCAIRE'!A582","v":"00:00:00"},{"$f":"'RELEVE BANCAIRE'!H582","v":0},{"$f":"'RELEVE BANCAIRE'!M582","v":0},{"$f":"'RELEVE BANCAIRE'!E582","v":0},{"$f":"'RELEVE BANCAIRE'!D582*-1","v":0},{"$f":"'RELEVE BANCAIRE'!C582","v":0}]
[{"$f":"'RELEVE BANCAIRE'!G583","v":0},{"$f":"'RELEVE BANCAIRE'!A583","v":"00:00:00"},{"$f":"'RELEVE BANCAIRE'!H583","v":0},{"$f":"'RELEVE BANCAIRE'!M583","v":0},{"$f":"'RELEVE BANCAIRE'!E583","v":0},{"$f":"'RELEVE BANCAIRE'!D583*-1","v":0},{"$f":"'RELEVE BANCAIRE'!C583","v":0}]
[{"$f":"'RELEVE BANCAIRE'!G584","v":0},{"$f":"'RELEVE BANCAIRE'!A584","v":"00:00:00"},{"$f":"'RELEVE BANCAIRE'!H584","v":0},{"$f":"'RELEVE BANCAIRE'!M584","v":0},{"$f":"'RELEVE BANCAIRE'!E584","v":0},{"$f":"'RELEVE BANCAIRE'!D584*-1","v":0},{"$f":"'RELEVE BANCAIRE'!C584","v":0}]
[{"$f":"'RELEVE BANCAIRE'!G585","v":0},{"$f":"'RELEVE BANCAIRE'!A585","v":"00:00:00"},{"$f":"'RELEVE BANCAIRE'!H585","v":0},{"$f":"'RELEVE BANCAIRE'!M585","v":0},{"$f":"'RELEVE BANCAIRE'!E585","v":0},{"$f":"'RELEVE BANCAIRE'!D585*-1","v":0},{"$f":"'RELEVE BANCAIRE'!C585","v":0}]
[{"$f":"'RELEVE BANCAIRE'!G586","v":0},{"$f":"'RELEVE BANCAIRE'!A586","v":"00:00:00"},{"$f":"'RELEVE BANCAIRE'!H586","v":0},{"$f":"'RELEVE BANCAIRE'!M586","v":0},{"$f":"'RELEVE BANCAIRE'!E586","v":0},{"$f":"'RELEVE BANCAIRE'!D586*-1","v":0},{"$f":"'RELEVE BANCAIRE'!C586","v":0}]
[{"$f":"'RELEVE BANCAIRE'!G587","v":0},{"$f":"'RELEVE BANCAIRE'!A587","v":"00:00:00"},{"$f":"'RELEVE BANCAIRE'!H587","v":0},{"$f":"'RELEVE BANCAIRE'!M587","v":0},{"$f":"'RELEVE BANCAIRE'!E587","v":0},{"$f":"'RELEVE BANCAIRE'!D587*-1","v":0},{"$f":"'RELEVE BANCAIRE'!C587","v":0}]
[{"$f":"'RELEVE BANCAIRE'!G588","v":0},{"$f":"'RELEVE BANCAIRE'!A588","v":"00:00:00"},{"$f":"'RELEVE BANCAIRE'!H588","v":0},{"$f":"'RELEVE BANCAIRE'!M588","v":0},{"$f":"'RELEVE BANCAIRE'!E588","v":0},{"$f":"'RELEVE BANCAIRE'!D588*-1","v":0},{"$f":"'RELEVE BANCAIRE'!C588","v":0}]
[{"$f":"'RELEVE BANCAIRE'!G589","v":0},{"$f":"'RELEVE BANCAIRE'!A589","v":"00:00:00"},{"$f":"'RELEVE BANCAIRE'!H589","v":0},{"$f":"'RELEVE BANCAIRE'!M589","v":0},{"$f":"'RELEVE BANCAIRE'!E589","v":0},{"$f":"'RELEVE BANCAIRE'!D589*-1","v":0},{"$f":"'RELEVE BANCAIRE'!C589","v":0}]
[{"$f":"'RELEVE BANCAIRE'!G590","v":0},{"$f":"'RELEVE BANCAIRE'!A590","v":"00:00:00"},{"$f":"'RELEVE BANCAIRE'!H590","v":0},{"$f":"'RELEVE BANCAIRE'!M590","v":0},{"$f":"'RELEVE BANCAIRE'!E590","v":0},{"$f":"'RELEVE BANCAIRE'!D590*-1","v":0},{"$f":"'RELEVE BANCAIRE'!C590","v":0}]
[{"$f":"'RELEVE BANCAIRE'!G591","v":0},{"$f":"'RELEVE BANCAIRE'!A591","v":"00:00:00"},{"$f":"'RELEVE BANCAIRE'!H591","v":0},{"$f":"'RELEVE BANCAIRE'!M591","v":0},{"$f":"'RELEVE BANCAIRE'!E591","v":0},{"$f":"'RELEVE BANCAIRE'!D591*-1","v":0},{"$f":"'RELEVE BANCAIRE'!C591","v":0}]
[{"$f":"'RELEVE BANCAIRE'!G592","v":0},{"$f":"'RELEVE BANCAIRE'!A592","v":"00:00:00"},{"$f":"'RELEVE BANCAIRE'!H592","v":0},{"$f":"'RELEVE BANCAIRE'!M592","v":0},{"$f":"'RELEVE BANCAIRE'!E592","v":0},{"$f":"'RELEVE BANCAIRE'!D592*-1","v":0},{"$f":"'RELEVE BANCAIRE'!C592","v":0}]
[{"$f":"'RELEVE BANCAIRE'!G593","v":0},{"$f":"'RELEVE BANCAIRE'!A593","v":"00:00:00"},{"$f":"'RELEVE BANCAIRE'!H593","v":0},{"$f":"'RELEVE BANCAIRE'!M593","v":0},{"$f":"'RELEVE BANCAIRE'!E593","v":0},{"$f":"'RELEVE BANCAIRE'!D593*-1","v":0},{"$f":"'RELEVE BANCAIRE'!C593","v":0}]
[{"$f":"'RELEVE BANCAIRE'!G594","v":0},{"$f":"'RELEVE BANCAIRE'!A594","v":"00:00:00"},{"$f":"'RELEVE BANCAIRE'!H594","v":0},{"$f":"'RELEVE BANCAIRE'!M594","v":0},{"$f":"'RELEVE BANCAIRE'!E594","v":0},{"$f":"'RELEVE BANCAIRE'!D594*-1","v":0},{"$f":"'RELEVE BANCAIRE'!C594","v":0}]
[{"$f":"'RELEVE BANCAIRE'!G595","v":0},{"$f":"'RELEVE BANCAIRE'!A595","v":"00:00:00"},{"$f":"'RELEVE BANCAIRE'!H595","v":0},{"$f":"'RELEVE BANCAIRE'!M595","v":0},{"$f":"'RELEVE BANCAIRE'!E595","v":0},{"$f":"'RELEVE BANCAIRE'!D595*-1","v":0},{"$f":"'RELEVE BANCAIRE'!C595","v":0}]
[{"$f":"'RELEVE BANCAIRE'!G596","v":0},{"$f":"'RELEVE BANCAIRE'!A596","v":"00:00:00"},{"$f":"'RELEVE BANCAIRE'!H596","v":0},{"$f":"'RELEVE BANCAIRE'!M596","v":0},{"$f":"'RELEVE BANCAIRE'!E596","v":0},{"$f":"'RELEVE BANCAIRE'!D596*-1","v":0},{"$f":"'RELEVE BANCAIRE'!C596","v":0}]
[{"$f":"'RELEVE BANCAIRE'!G597","v":0},{"$f":"'RELEVE BANCAIRE'!A597","v":"00:00:00"},{"$f":"'RELEVE BANCAIRE'!H597","v":0},{"$f":"'RELEVE BANCAIRE'!M597","v":0},{"$f":"'RELEVE BANCAIRE'!E597","v":0},{"$f":"'RELEVE BANCAIRE'!D597*-1","v":0},{"$f":"'RELEVE BANCAIRE'!C597","v":0}]
[{"$f":"'RELEVE BANCAIRE'!G598","v":0},{"$f":"'RELEVE BANCAIRE'!A598","v":"00:00:00"},{"$f":"'RELEVE BANCAIRE'!H598","v":0},{"$f":"'RELEVE BANCAIRE'!M598","v":0},{"$f":"'RELEVE BANCAIRE'!E598","v":0},{"$f":"'RELEVE BANCAIRE'!D598*-1","v":0},{"$f":"'RELEVE BANCAIRE'!C598","v":0}]
[{"$f":"'RELEVE BANCAIRE'!G599","v":0},{"$f":"'RELEVE BANCAIRE'!A599","v":"00:00:00"},{"$f":"'RELEVE BANCAIRE'!H599","v":0},{"$f":"'RELEVE BANCAIRE'!M599","v":0},{"$f":"'RELEVE BANCAIRE'!E599","v":0},{"$f":"'RELEVE BANCAIRE'!D599*-1","v":0},{"$f":"'RELEVE BANCAIRE'!C599","v":0}]
[{"$f":"'RELEVE BANCAIRE'!G600","v":0},{"$f":"'RELEVE BANCAIRE'!A600","v":"00:00:00"},{"$f":"'RELEVE BANCAIRE'!H600","v":0},{"$f":"'RELEVE BANCAIRE'!M600","v":0},{"$f":"'RELEVE BANCAIRE'!E600","v":0},{"$f":"'RELEVE BANCAIRE'!D600*-1","v":0},{"$f":"'RELEVE BANCAIRE'!C600","v":0}]
[{"$f":"'RELEVE BANCAIRE'!G601","v":0},{"$f":"'RELEVE BANCAIRE'!A601","v":"00:00:00"},{"$f":"'RELEVE BANCAIRE'!H601","v":0},{"$f":"'RELEVE BANCAIRE'!M601","v":0},{"$f":"'RELEVE BANCAIRE'!E601","v":0},{"$f":"'RELEVE BANCAIRE'!D601*-1","v":0},{"$f":"'RELEVE BANCAIRE'!C601","v":0}]
[{"$f":"'RELEVE BANCAIRE'!G602","v":0},{"$f":"'RELEVE BANCAIRE'!A602","v":"00:00:00"},{"$f":"'RELEVE BANCAIRE'!H602","v":0},{"$f":"'RELEVE BANCAIRE'!M602","v":0},{"$f":"'RELEVE BANCAIRE'!E602","v":0},{"$f":"'RELEVE BANCAIRE'!D602*-1","v":0},{"$f":"'RELEVE BANCAIRE'!C602","v":0}]
[{"$f":"'RELEVE BANCAIRE'!G603","v":0},{"$f":"'RELEVE BANCAIRE'!A603","v":"00:00:00"},{"$f":"'RELEVE BANCAIRE'!H603","v":0},{"$f":"'RELEVE BANCAIRE'!M603","v":0},{"$f":"'RELEVE BANCAIRE'!E603","v":0},{"$f":"'RELEVE BANCAIRE'!D603*-1","v":0},{"$f":"'RELEVE BANCAIRE'!C603","v":0}]
[{"$f":"'RELEVE BANCAIRE'!G604","v":0},{"$f":"'RELEVE BANCAIRE'!A604","v":"00:00:00"},{"$f":"'RELEVE BANCAIRE'!H604","v":0},{"$f":"'RELEVE BANCAIRE'!M604","v":0},{"$f":"'RELEVE BANCAIRE'!E604","v":0},{"$f":"'RELEVE BANCAIRE'!D604*-1","v":0},{"$f":"'RELEVE BANCAIRE'!C604","v":0}]
[{"$f":"'RELEVE BANCAIRE'!G605","v":0},{"$f":"'RELEVE BANCAIRE'!A605","v":"00:00:00"},{"$f":"'RELEVE BANCAIRE'!H605","v":0},{"$f":"'RELEVE BANCAIRE'!M605","v":0},{"$f":"'RELEVE BANCAIRE'!E605","v":0},{"$f":"'RELEVE BANCAIRE'!D605*-1","v":0},{"$f":"'RELEVE BANCAIRE'!C605","v":0}]
[{"$f":"'RELEVE BANCAIRE'!G606","v":0},{"$f":"'RELEVE BANCAIRE'!A606","v":"00:00:00"},{"$f":"'RELEVE BANCAIRE'!H606","v":0},{"$f":"'RELEVE BANCAIRE'!M606","v":0},{"$f":"'RELEVE BANCAIRE'!E606","v":0},{"$f":"'RELEVE BANCAIRE'!D606*-1","v":0},{"$f":"'RELEVE BANCAIRE'!C606","v":0}]
[{"$f":"'RELEVE BANCAIRE'!G607","v":0},{"$f":"'RELEVE BANCAIRE'!A607","v":"00:00:00"},{"$f":"'RELEVE BANCAIRE'!H607","v":0},{"$f":"'RELEVE BANCAIRE'!M607","v":0},{"$f":"'RELEVE BANCAIRE'!E607","v":0},{"$f":"'RELEVE BANCAIRE'!D607*-1","v":0},{"$f":"'RELEVE BANCAIRE'!C607","v":0}]
[{"$f":"'RELEVE BANCAIRE'!G608","v":0},{"$f":"'RELEVE BANCAIRE'!A608","v":"00:00:00"},{"$f":"'RELEVE BANCAIRE'!H608","v":0},{"$f":"'RELEVE BANCAIRE'!M608","v":0},{"$f":"'RELEVE BANCAIRE'!E608","v":0},{"$f":"'RELEVE BANCAIRE'!D608*-1","v":0},{"$f":"'RELEVE BANCAIRE'!C608","v":0}]
[{"$f":"'RELEVE BANCAIRE'!G609","v":0},{"$f":"'RELEVE BANCAIRE'!A609","v":"00:00:00"},{"$f":"'RELEVE BANCAIRE'!H609","v":0},{"$f":"'RELEVE BANCAIRE'!M609","v":0},{"$f":"'RELEVE BANCAIRE'!E609","v":0},{"$f":"'RELEVE BANCAIRE'!D609*-1","v":0},{"$f":"'RELEVE BANCAIRE'!C609","v":0}]
[{"$f":"'RELEVE BANCAIRE'!G610","v":0},{"$f":"'RELEVE BANCAIRE'!A610","v":"00:00:00"},{"$f":"'RELEVE BANCAIRE'!H610","v":0},{"$f":"'RELEVE BANCAIRE'!M610","v":0},{"$f":"'RELEVE BANCAIRE'!E610","v":0},{"$f":"'RELEVE BANCAIRE'!D610*-1","v":0},{"$f":"'RELEVE BANCAIRE'!C610","v":0}]
[{"$f":"'RELEVE BANCAIRE'!G611","v":0},{"$f":"'RELEVE BANCAIRE'!A611","v":"00:00:00"},{"$f":"'RELEVE BANCAIRE'!H611","v":0},{"$f":"'RELEVE BANCAIRE'!M611","v":0},{"$f":"'RELEVE BANCAIRE'!E611","v":0},{"$f":"'RELEVE BANCAIRE'!D611*-1","v":0},{"$f":"'RELEVE BANCAIRE'!C611","v":0}]
[{"$f":"'RELEVE BANCAIRE'!G612","v":0},{"$f":"'RELEVE BANCAIRE'!A612","v":"00:00:00"},{"$f":"'RELEVE BANCAIRE'!H612","v":0},{"$f":"'RELEVE BANCAIRE'!M612","v":0},{"$f":"'RELEVE BANCAIRE'!E612","v":0},{"$f":"'RELEVE BANCAIRE'!D612*-1","v":0},{"$f":"'RELEVE BANCAIRE'!C612","v":0}]
[{"$f":"'RELEVE BANCAIRE'!G613","v":0},{"$f":"'RELEVE BANCAIRE'!A613","v":"00:00:00"},{"$f":"'RELEVE BANCAIRE'!H613","v":0},{"$f":"'RELEVE BANCAIRE'!M613","v":0},{"$f":"'RELEVE BANCAIRE'!E613","v":0},{"$f":"'RELEVE BANCAIRE'!D613*-1","v":0},{"$f":"'RELEVE BANCAIRE'!C613","v":0}]
[{"$f":"'RELEVE BANCAIRE'!G614","v":0},{"$f":"'RELEVE BANCAIRE'!A614","v":"00:00:00"},{"$f":"'RELEVE BANCAIRE'!H614","v":0},{"$f":"'RELEVE BANCAIRE'!M614","v":0},{"$f":"'RELEVE BANCAIRE'!E614","v":0},{"$f":"'RELEVE BANCAIRE'!D614*-1","v":0},{"$f":"'RELEVE BANCAIRE'!C614","v":0}]
[{"$f":"'RELEVE BANCAIRE'!G615","v":0},{"$f":"'RELEVE BANCAIRE'!A615","v":"00:00:00"},{"$f":"'RELEVE BANCAIRE'!H615","v":0},{"$f":"'RELEVE BANCAIRE'!M615","v":0},{"$f":"'RELEVE BANCAIRE'!E615","v":0},{"$f":"'RELEVE BANCAIRE'!D615*-1","v":0},{"$f":"'RELEVE BANCAIRE'!C615","v":0}]
[{"$f":"'RELEVE BANCAIRE'!G616","v":0},{"$f":"'RELEVE BANCAIRE'!A616","v":"00:00:00"},{"$f":"'RELEVE BANCAIRE'!H616","v":0},{"$f":"'RELEVE BANCAIRE'!M616","v":0},{"$f":"'RELEVE BANCAIRE'!E616","v":0},{"$f":"'RELEVE BANCAIRE'!D616*-1","v":0},{"$f":"'RELEVE BANCAIRE'!C616","v":0}]
[{"$f":"'RELEVE BANCAIRE'!G617","v":0},{"$f":"'RELEVE BANCAIRE'!A617","v":"00:00:00"},{"$f":"'RELEVE BANCAIRE'!H617","v":0},{"$f":"'RELEVE BANCAIRE'!M617","v":0},{"$f":"'RELEVE BANCAIRE'!E617","v":0},{"$f":"'RELEVE BANCAIRE'!D617*-1","v":0},{"$f":"'RELEVE BANCAIRE'!C617","v":0}]
[{"$f":"'RELEVE BANCAIRE'!G618","v":0},{"$f":"'RELEVE BANCAIRE'!A618","v":"00:00:00"},{"$f":"'RELEVE BANCAIRE'!H618","v":0},{"$f":"'RELEVE BANCAIRE'!M618","v":0},{"$f":"'RELEVE BANCAIRE'!E618","v":0},{"$f":"'RELEVE BANCAIRE'!D618*-1","v":0},{"$f":"'RELEVE BANCAIRE'!C618","v":0}]
[{"$f":"'RELEVE BANCAIRE'!G619","v":0},{"$f":"'RELEVE BANCAIRE'!A619","v":"00:00:00"},{"$f":"'RELEVE BANCAIRE'!H619","v":0},{"$f":"'RELEVE BANCAIRE'!M619","v":0},{"$f":"'RELEVE BANCAIRE'!E619","v":0},{"$f":"'RELEVE BANCAIRE'!D619*-1","v":0},{"$f":"'RELEVE BANCAIRE'!C619","v":0}]
[{"$f":"'RELEVE BANCAIRE'!G620","v":0},{"$f":"'RELEVE BANCAIRE'!A620","v":"00:00:00"},{"$f":"'RELEVE BANCAIRE'!H620","v":0},{"$f":"'RELEVE BANCAIRE'!M620","v":0},{"$f":"'RELEVE BANCAIRE'!E620","v":0},{"$f":"'RELEVE BANCAIRE'!D620*-1","v":0},{"$f":"'RELEVE BANCAIRE'!C620","v":0}]
[{"$f":"'RELEVE BANCAIRE'!G621","v":0},{"$f":"'RELEVE BANCAIRE'!A621","v":"00:00:00"},{"$f":"'RELEVE BANCAIRE'!H621","v":0},{"$f":"'RELEVE BANCAIRE'!M621","v":0},{"$f":"'RELEVE BANCAIRE'!E621","v":0},{"$f":"'RELEVE BANCAIRE'!D621*-1","v":0},{"$f":"'RELEVE BANCAIRE'!C621","v":0}]
[{"$f":"'RELEVE BANCAIRE'!G622","v":0},{"$f":"'RELEVE BANCAIRE'!A622","v":"00:00:00"},{"$f":"'RELEVE BANCAIRE'!H622","v":0},{"$f":"'RELEVE BANCAIRE'!M622","v":0},{"$f":"'RELEVE BANCAIRE'!E622","v":0},{"$f":"'RELEVE BANCAIRE'!D622*-1","v":0},{"$f":"'RELEVE BANCAIRE'!C622","v":0}]
[{"$f":"'RELEVE BANCAIRE'!G623","v":0},{"$f":"'RELEVE BANCAIRE'!A623","v":"00:00:00"},{"$f":"'RELEVE BANCAIRE'!H623","v":0},{"$f":"'RELEVE BANCAIRE'!M623","v":0},{"$f":"'RELEVE BANCAIRE'!E623","v":0},{"$f":"'RELEVE BANCAIRE'!D623*-1","v":0},{"$f":"'RELEVE BANCAIRE'!C623","v":0}]
[{"$f":"'RELEVE BANCAIRE'!G624","v":0},{"$f":"'RELEVE BANCAIRE'!A624","v":"00:00:00"},{"$f":"'RELEVE BANCAIRE'!H624","v":0},{"$f":"'RELEVE BANCAIRE'!M624","v":0},{"$f":"'RELEVE BANCAIRE'!E624","v":0},{"$f":"'RELEVE BANCAIRE'!D624*-1","v":0},{"$f":"'RELEVE BANCAIRE'!C624","v":0}]
[{"$f":"'RELEVE BANCAIRE'!G625","v":0},{"$f":"'RELEVE BANCAIRE'!A625","v":"00:00:00"},{"$f":"'RELEVE BANCAIRE'!H625","v":0},{"$f":"'RELEVE BANCAIRE'!M625","v":0},{"$f":"'RELEVE BANCAIRE'!E625","v":0},{"$f":"'RELEVE BANCAIRE'!D625*-1","v":0},{"$f":"'RELEVE BANCAIRE'!C625","v":0}]
[{"$f":"'RELEVE BANCAIRE'!G626","v":0},{"$f":"'RELEVE BANCAIRE'!A626","v":"00:00:00"},{"$f":"'RELEVE BANCAIRE'!H626","v":0},{"$f":"'RELEVE BANCAIRE'!M626","v":0},{"$f":"'RELEVE BANCAIRE'!E626","v":0},{"$f":"'RELEVE BANCAIRE'!D626*-1","v":0},{"$f":"'RELEVE BANCAIRE'!C626","v":0}]
[{"$f":"'RELEVE BANCAIRE'!G627","v":0},{"$f":"'RELEVE BANCAIRE'!A627","v":"00:00:00"},{"$f":"'RELEVE BANCAIRE'!H627","v":0},{"$f":"'RELEVE BANCAIRE'!M627","v":0},{"$f":"'RELEVE BANCAIRE'!E627","v":0},{"$f":"'RELEVE BANCAIRE'!D627*-1","v":0},{"$f":"'RELEVE BANCAIRE'!C627","v":0}]
[{"$f":"'RELEVE BANCAIRE'!G628","v":0},{"$f":"'RELEVE BANCAIRE'!A628","v":"00:00:00"},{"$f":"'RELEVE BANCAIRE'!H628","v":0},{"$f":"'RELEVE BANCAIRE'!M628","v":0},{"$f":"'RELEVE BANCAIRE'!E628","v":0},{"$f":"'RELEVE BANCAIRE'!D628*-1","v":0},{"$f":"'RELEVE BANCAIRE'!C628","v":0}]
[{"$f":"'RELEVE BANCAIRE'!G629","v":0},{"$f":"'RELEVE BANCAIRE'!A629","v":"00:00:00"},{"$f":"'RELEVE BANCAIRE'!H629","v":0},{"$f":"'RELEVE BANCAIRE'!M629","v":0},{"$f":"'RELEVE BANCAIRE'!E629","v":0},{"$f":"'RELEVE BANCAIRE'!D629*-1","v":0},{"$f":"'RELEVE BANCAIRE'!C629","v":0}]
[{"$f":"'RELEVE BANCAIRE'!G630","v":0},{"$f":"'RELEVE BANCAIRE'!A630","v":"00:00:00"},{"$f":"'RELEVE BANCAIRE'!H630","v":0},{"$f":"'RELEVE BANCAIRE'!M630","v":0},{"$f":"'RELEVE BANCAIRE'!E630","v":0},{"$f":"'RELEVE BANCAIRE'!D630*-1","v":0},{"$f":"'RELEVE BANCAIRE'!C630","v":0}]
[{"$f":"'RELEVE BANCAIRE'!G631","v":0},{"$f":"'RELEVE BANCAIRE'!A631","v":"00:00:00"},{"$f":"'RELEVE BANCAIRE'!H631","v":0},{"$f":"'RELEVE BANCAIRE'!M631","v":0},{"$f":"'RELEVE BANCAIRE'!E631","v":0},{"$f":"'RELEVE BANCAIRE'!D631*-1","v":0},{"$f":"'RELEVE BANCAIRE'!C631","v":0}]
[{"$f":"'RELEVE BANCAIRE'!G632","v":0},{"$f":"'RELEVE BANCAIRE'!A632","v":"00:00:00"},{"$f":"'RELEVE BANCAIRE'!H632","v":0},{"$f":"'RELEVE BANCAIRE'!M632","v":0},{"$f":"'RELEVE BANCAIRE'!E632","v":0},{"$f":"'RELEVE BANCAIRE'!D632*-1","v":0},{"$f":"'RELEVE BANCAIRE'!C632","v":0}]
[{"$f":"'RELEVE BANCAIRE'!G633","v":0},{"$f":"'RELEVE BANCAIRE'!A633","v":"00:00:00"},{"$f":"'RELEVE BANCAIRE'!H633","v":0},{"$f":"'RELEVE BANCAIRE'!M633","v":0},{"$f":"'RELEVE BANCAIRE'!E633","v":0},{"$f":"'RELEVE BANCAIRE'!D633*-1","v":0},{"$f":"'RELEVE BANCAIRE'!C633","v":0}]
[{"$f":"'RELEVE BANCAIRE'!G634","v":0},{"$f":"'RELEVE BANCAIRE'!A634","v":"00:00:00"},{"$f":"'RELEVE BANCAIRE'!H634","v":0},{"$f":"'RELEVE BANCAIRE'!M634","v":0},{"$f":"'RELEVE BANCAIRE'!E634","v":0},{"$f":"'RELEVE BANCAIRE'!D634*-1","v":0},{"$f":"'RELEVE BANCAIRE'!C634","v":0}]
[{"$f":"'RELEVE BANCAIRE'!G635","v":0},{"$f":"'RELEVE BANCAIRE'!A635","v":"00:00:00"},{"$f":"'RELEVE BANCAIRE'!H635","v":0},{"$f":"'RELEVE BANCAIRE'!M635","v":0},{"$f":"'RELEVE BANCAIRE'!E635","v":0},{"$f":"'RELEVE BANCAIRE'!D635*-1","v":0},{"$f":"'RELEVE BANCAIRE'!C635","v":0}]
[{"$f":"'RELEVE BANCAIRE'!G636","v":0},{"$f":"'RELEVE BANCAIRE'!A636","v":"00:00:00"},{"$f":"'RELEVE BANCAIRE'!H636","v":0},{"$f":"'RELEVE BANCAIRE'!M636","v":0},{"$f":"'RELEVE BANCAIRE'!E636","v":0},{"$f":"'RELEVE BANCAIRE'!D636*-1","v":0},{"$f":"'RELEVE BANCAIRE'!C636","v":0}]
[{"$f":"'RELEVE BANCAIRE'!G637","v":0},{"$f":"'RELEVE BANCAIRE'!A637","v":"00:00:00"},{"$f":"'RELEVE BANCAIRE'!H637","v":0},{"$f":"'RELEVE BANCAIRE'!M637","v":0},{"$f":"'RELEVE BANCAIRE'!E637","v":0},{"$f":"'RELEVE BANCAIRE'!D637*-1","v":0},{"$f":"'RELEVE BANCAIRE'!C637","v":0}]
[{"$f":"'RELEVE BANCAIRE'!G638","v":0},{"$f":"'RELEVE BANCAIRE'!A638","v":"00:00:00"},{"$f":"'RELEVE BANCAIRE'!H638","v":0},{"$f":"'RELEVE BANCAIRE'!M638","v":0},{"$f":"'RELEVE BANCAIRE'!E638","v":0},{"$f":"'RELEVE BANCAIRE'!D638*-1","v":0},{"$f":"'RELEVE BANCAIRE'!C638","v":0}]
[{"$f":"'RELEVE BANCAIRE'!G639","v":0},{"$f":"'RELEVE BANCAIRE'!A639","v":"00:00:00"},{"$f":"'RELEVE BANCAIRE'!H639","v":0},{"$f":"'RELEVE BANCAIRE'!M639","v":0},{"$f":"'RELEVE BANCAIRE'!E639","v":0},{"$f":"'RELEVE BANCAIRE'!D639*-1","v":0},{"$f":"'RELEVE BANCAIRE'!C639","v":0}]
[{"$f":"'RELEVE BANCAIRE'!G640","v":0},{"$f":"'RELEVE BANCAIRE'!A640","v":"00:00:00"},{"$f":"'RELEVE BANCAIRE'!H640","v":0},{"$f":"'RELEVE BANCAIRE'!M640","v":0},{"$f":"'RELEVE BANCAIRE'!E640","v":0},{"$f":"'RELEVE BANCAIRE'!D640*-1","v":0},{"$f":"'RELEVE BANCAIRE'!C640","v":0}]
[{"$f":"'RELEVE BANCAIRE'!G641","v":0},{"$f":"'RELEVE BANCAIRE'!A641","v":"00:00:00"},{"$f":"'RELEVE BANCAIRE'!H641","v":0},{"$f":"'RELEVE BANCAIRE'!M641","v":0},{"$f":"'RELEVE BANCAIRE'!E641","v":0},{"$f":"'RELEVE BANCAIRE'!D641*-1","v":0},{"$f":"'RELEVE BANCAIRE'!C641","v":0}]
[{"$f":"'RELEVE BANCAIRE'!G642","v":0},{"$f":"'RELEVE BANCAIRE'!A642","v":"00:00:00"},{"$f":"'RELEVE BANCAIRE'!H642","v":0},{"$f":"'RELEVE BANCAIRE'!M642","v":0},{"$f":"'RELEVE BANCAIRE'!E642","v":0},{"$f":"'RELEVE BANCAIRE'!D642*-1","v":0},{"$f":"'RELEVE BANCAIRE'!C642","v":0}]
[{"$f":"'RELEVE BANCAIRE'!G643","v":0},{"$f":"'RELEVE BANCAIRE'!A643","v":"00:00:00"},{"$f":"'RELEVE BANCAIRE'!H643","v":0},{"$f":"'RELEVE BANCAIRE'!M643","v":0},{"$f":"'RELEVE BANCAIRE'!E643","v":0},{"$f":"'RELEVE BANCAIRE'!D643*-1","v":0},{"$f":"'RELEVE BANCAIRE'!C643","v":0}]
[{"$f":"'RELEVE BANCAIRE'!G644","v":0},{"$f":"'RELEVE BANCAIRE'!A644","v":"00:00:00"},{"$f":"'RELEVE BANCAIRE'!H644","v":0},{"$f":"'RELEVE BANCAIRE'!M644","v":0},{"$f":"'RELEVE BANCAIRE'!E644","v":0},{"$f":"'RELEVE BANCAIRE'!D644*-1","v":0},{"$f":"'RELEVE BANCAIRE'!C644","v":0}]
[{"$f":"'RELEVE BANCAIRE'!G645","v":0},{"$f":"'RELEVE BANCAIRE'!A645","v":"00:00:00"},{"$f":"'RELEVE BANCAIRE'!H645","v":0},{"$f":"'RELEVE BANCAIRE'!M645","v":0},{"$f":"'RELEVE BANCAIRE'!E645","v":0},{"$f":"'RELEVE BANCAIRE'!D645*-1","v":0},{"$f":"'RELEVE BANCAIRE'!C645","v":0}]
[{"$f":"'RELEVE BANCAIRE'!G646","v":0},{"$f":"'RELEVE BANCAIRE'!A646","v":"00:00:00"},{"$f":"'RELEVE BANCAIRE'!H646","v":0},{"$f":"'RELEVE BANCAIRE'!M646","v":0},{"$f":"'RELEVE BANCAIRE'!E646","v":0},{"$f":"'RELEVE BANCAIRE'!D646*-1","v":0},{"$f":"'RELEVE BANCAIRE'!C646","v":0}]
[{"$f":"'RELEVE BANCAIRE'!G647","v":0},{"$f":"'RELEVE BANCAIRE'!A647","v":"00:00:00"},{"$f":"'RELEVE BANCAIRE'!H647","v":0},{"$f":"'RELEVE BANCAIRE'!M647","v":0},{"$f":"'RELEVE BANCAIRE'!E647","v":0},{"$f":"'RELEVE BANCAIRE'!D647*-1","v":0},{"$f":"'RELEVE BANCAIRE'!C647","v":0}]
[{"$f":"'RELEVE BANCAIRE'!G648","v":0},{"$f":"'RELEVE BANCAIRE'!A648","v":"00:00:00"},{"$f":"'RELEVE BANCAIRE'!H648","v":0},{"$f":"'RELEVE BANCAIRE'!M648","v":0},{"$f":"'RELEVE BANCAIRE'!E648","v":0},{"$f":"'RELEVE BANCAIRE'!D648*-1","v":0},{"$f":"'RELEVE BANCAIRE'!C648","v":0}]
[{"$f":"'RELEVE BANCAIRE'!G649","v":0},{"$f":"'RELEVE BANCAIRE'!A649","v":"00:00:00"},{"$f":"'RELEVE BANCAIRE'!H649","v":0},{"$f":"'RELEVE BANCAIRE'!M649","v":0},{"$f":"'RELEVE BANCAIRE'!E649","v":0},{"$f":"'RELEVE BANCAIRE'!D649*-1","v":0},{"$f":"'RELEVE BANCAIRE'!C649","v":0}]
[{"$f":"'RELEVE BANCAIRE'!G650","v":0},{"$f":"'RELEVE BANCAIRE'!A650","v":"00:00:00"},{"$f":"'RELEVE BANCAIRE'!H650","v":0},{"$f":"'RELEVE BANCAIRE'!M650","v":0},{"$f":"'RELEVE BANCAIRE'!E650","v":0},{"$f":"'RELEVE BANCAIRE'!D650*-1","v":0},{"$f":"'RELEVE BANCAIRE'!C650","v":0}]
[{"$f":"'RELEVE BANCAIRE'!G651","v":0},{"$f":"'RELEVE BANCAIRE'!A651","v":"00:00:00"},{"$f":"'RELEVE BANCAIRE'!H651","v":0},{"$f":"'RELEVE BANCAIRE'!M651","v":0},{"$f":"'RELEVE BANCAIRE'!E651","v":0},{"$f":"'RELEVE BANCAIRE'!D651*-1","v":0},{"$f":"'RELEVE BANCAIRE'!C651","v":0}]
[{"$f":"'RELEVE BANCAIRE'!G652","v":0},{"$f":"'RELEVE BANCAIRE'!A652","v":"00:00:00"},{"$f":"'RELEVE BANCAIRE'!H652","v":0},{"$f":"'RELEVE BANCAIRE'!M652","v":0},{"$f":"'RELEVE BANCAIRE'!E652","v":0},{"$f":"'RELEVE BANCAIRE'!D652*-1","v":0},{"$f":"'RELEVE BANCAIRE'!C652","v":0}]
[{"$f":"'RELEVE BANCAIRE'!G653","v":0},{"$f":"'RELEVE BANCAIRE'!A653","v":"00:00:00"},{"$f":"'RELEVE BANCAIRE'!H653","v":0},{"$f":"'RELEVE BANCAIRE'!M653","v":0},{"$f":"'RELEVE BANCAIRE'!E653","v":0},{"$f":"'RELEVE BANCAIRE'!D653*-1","v":0},{"$f":"'RELEVE BANCAIRE'!C653","v":0}]
[{"$f":"'RELEVE BANCAIRE'!G654","v":0},{"$f":"'RELEVE BANCAIRE'!A654","v":"00:00:00"},{"$f":"'RELEVE BANCAIRE'!H654","v":0},{"$f":"'RELEVE BANCAIRE'!M654","v":0},{"$f":"'RELEVE BANCAIRE'!E654","v":0},{"$f":"'RELEVE BANCAIRE'!D654*-1","v":0},{"$f":"'RELEVE BANCAIRE'!C654","v":0}]
[{"$f":"'RELEVE BANCAIRE'!G655","v":0},{"$f":"'RELEVE BANCAIRE'!A655","v":"00:00:00"},{"$f":"'RELEVE BANCAIRE'!H655","v":0},{"$f":"'RELEVE BANCAIRE'!M655","v":0},{"$f":"'RELEVE BANCAIRE'!E655","v":0},{"$f":"'RELEVE BANCAIRE'!D655*-1","v":0},{"$f":"'RELEVE BANCAIRE'!C655","v":0}]
[{"$f":"'RELEVE BANCAIRE'!G656","v":0},{"$f":"'RELEVE BANCAIRE'!A656","v":"00:00:00"},{"$f":"'RELEVE BANCAIRE'!H656","v":0},{"$f":"'RELEVE BANCAIRE'!M656","v":0},{"$f":"'RELEVE BANCAIRE'!E656","v":0},{"$f":"'RELEVE BANCAIRE'!D656*-1","v":0},{"$f":"'RELEVE BANCAIRE'!C656","v":0}]
[{"$f":"'RELEVE BANCAIRE'!G657","v":0},{"$f":"'RELEVE BANCAIRE'!A657","v":"00:00:00"},{"$f":"'RELEVE BANCAIRE'!H657","v":0},{"$f":"'RELEVE BANCAIRE'!M657","v":0},{"$f":"'RELEVE BANCAIRE'!E657","v":0},{"$f":"'RELEVE BANCAIRE'!D657*-1","v":0},{"$f":"'RELEVE BANCAIRE'!C657","v":0}]
[{"$f":"'RELEVE BANCAIRE'!G658","v":0},{"$f":"'RELEVE BANCAIRE'!A658","v":"00:00:00"},{"$f":"'RELEVE BANCAIRE'!H658","v":0},{"$f":"'RELEVE BANCAIRE'!M658","v":0},{"$f":"'RELEVE BANCAIRE'!E658","v":0},{"$f":"'RELEVE BANCAIRE'!D658*-1","v":0},{"$f":"'RELEVE BANCAIRE'!C658","v":0}]
[{"$f":"'RELEVE BANCAIRE'!G659","v":0},{"$f":"'RELEVE BANCAIRE'!A659","v":"00:00:00"},{"$f":"'RELEVE BANCAIRE'!H659","v":0},{"$f":"'RELEVE BANCAIRE'!M659","v":0},{"$f":"'RELEVE BANCAIRE'!E659","v":0},{"$f":"'RELEVE BANCAIRE'!D659*-1","v":0},{"$f":"'RELEVE BANCAIRE'!C659","v":0}]
[{"$f":"'RELEVE BANCAIRE'!G660","v":0},{"$f":"'RELEVE BANCAIRE'!A660","v":"00:00:00"},{"$f":"'RELEVE BANCAIRE'!H660","v":0},{"$f":"'RELEVE BANCAIRE'!M660","v":0},{"$f":"'RELEVE BANCAIRE'!E660","v":0},{"$f":"'RELEVE BANCAIRE'!D660*-1","v":0},{"$f":"'RELEVE BANCAIRE'!C660","v":0}]
[{"$f":"'RELEVE BANCAIRE'!G661","v":0},{"$f":"'RELEVE BANCAIRE'!A661","v":"00:00:00"},{"$f":"'RELEVE BANCAIRE'!H661","v":0},{"$f":"'RELEVE BANCAIRE'!M661","v":0},{"$f":"'RELEVE BANCAIRE'!E661","v":0},{"$f":"'RELEVE BANCAIRE'!D661*-1","v":0},{"$f":"'RELEVE BANCAIRE'!C661","v":0}]
[{"$f":"'RELEVE BANCAIRE'!G662","v":0},{"$f":"'RELEVE BANCAIRE'!A662","v":"00:00:00"},{"$f":"'RELEVE BANCAIRE'!H662","v":0},{"$f":"'RELEVE BANCAIRE'!M662","v":0},{"$f":"'RELEVE BANCAIRE'!E662","v":0},{"$f":"'RELEVE BANCAIRE'!D662*-1","v":0},{"$f":"'RELEVE BANCAIRE'!C662","v":0}]
[{"$f":"'RELEVE BANCAIRE'!G663","v":0},{"$f":"'RELEVE BANCAIRE'!A663","v":"00:00:00"},{"$f":"'RELEVE BANCAIRE'!H663","v":0},{"$f":"'RELEVE BANCAIRE'!M663","v":0},{"$f":"'RELEVE BANCAIRE'!E663","v":0},{"$f":"'RELEVE BANCAIRE'!D663*-1","v":0},{"$f":"'RELEVE BANCAIRE'!C663","v":0}]
[{"$f":"'RELEVE BANCAIRE'!G664","v":0},{"$f":"'RELEVE BANCAIRE'!A664","v":"00:00:00"},{"$f":"'RELEVE BANCAIRE'!H664","v":0},{"$f":"'RELEVE BANCAIRE'!M664","v":0},{"$f":"'RELEVE BANCAIRE'!E664","v":0},{"$f":"'RELEVE BANCAIRE'!D664*-1","v":0},{"$f":"'RELEVE BANCAIRE'!C664","v":0}]
[{"$f":"'RELEVE BANCAIRE'!G665","v":0},{"$f":"'RELEVE BANCAIRE'!A665","v":"00:00:00"},{"$f":"'RELEVE BANCAIRE'!H665","v":0},{"$f":"'RELEVE BANCAIRE'!M665","v":0},{"$f":"'RELEVE BANCAIRE'!E665","v":0},{"$f":"'RELEVE BANCAIRE'!D665*-1","v":0},{"$f":"'RELEVE BANCAIRE'!C665","v":0}]
[{"$f":"'RELEVE BANCAIRE'!G666","v":0},{"$f":"'RELEVE BANCAIRE'!A666","v":"00:00:00"},{"$f":"'RELEVE BANCAIRE'!H666","v":0},{"$f":"'RELEVE BANCAIRE'!M666","v":0},{"$f":"'RELEVE BANCAIRE'!E666","v":0},{"$f":"'RELEVE BANCAIRE'!D666*-1","v":0},{"$f":"'RELEVE BANCAIRE'!C666","v":0}]
[{"$f":"'RELEVE BANCAIRE'!G667","v":0},{"$f":"'RELEVE BANCAIRE'!A667","v":"00:00:00"},{"$f":"'RELEVE BANCAIRE'!H667","v":0},{"$f":"'RELEVE BANCAIRE'!M667","v":0},{"$f":"'RELEVE BANCAIRE'!E667","v":0},{"$f":"'RELEVE BANCAIRE'!D667*-1","v":0},{"$f":"'RELEVE BANCAIRE'!C667","v":0}]
[{"$f":"'RELEVE BANCAIRE'!G668","v":0},{"$f":"'RELEVE BANCAIRE'!A668","v":"00:00:00"},{"$f":"'RELEVE BANCAIRE'!H668","v":0},{"$f":"'RELEVE BANCAIRE'!M668","v":0},{"$f":"'RELEVE BANCAIRE'!E668","v":0},{"$f":"'RELEVE BANCAIRE'!D668*-1","v":0},{"$f":"'RELEVE BANCAIRE'!C668","v":0}]
[{"$f":"'RELEVE BANCAIRE'!G669","v":0},{"$f":"'RELEVE BANCAIRE'!A669","v":"00:00:00"},{"$f":"'RELEVE BANCAIRE'!H669","v":0},{"$f":"'RELEVE BANCAIRE'!M669","v":0},{"$f":"'RELEVE BANCAIRE'!E669","v":0},{"$f":"'RELEVE BANCAIRE'!D669*-1","v":0},{"$f":"'RELEVE BANCAIRE'!C669","v":0}]
[{"$f":"'RELEVE BANCAIRE'!G670","v":0},{"$f":"'RELEVE BANCAIRE'!A670","v":"00:00:00"},{"$f":"'RELEVE BANCAIRE'!H670","v":0},{"$f":"'RELEVE BANCAIRE'!M670","v":0},{"$f":"'RELEVE BANCAIRE'!E670","v":0},{"$f":"'RELEVE BANCAIRE'!D670*-1","v":0},{"$f":"'RELEVE BANCAIRE'!C670","v":0}]
[{"$f":"'RELEVE BANCAIRE'!G671","v":0},{"$f":"'RELEVE BANCAIRE'!A671","v":"00:00:00"},{"$f":"'RELEVE BANCAIRE'!H671","v":0},{"$f":"'RELEVE BANCAIRE'!M671","v":0},{"$f":"'RELEVE BANCAIRE'!E671","v":0},{"$f":"'RELEVE BANCAIRE'!D671*-1","v":0},{"$f":"'RELEVE BANCAIRE'!C671","v":0}]
[{"$f":"'RELEVE BANCAIRE'!G672","v":0},{"$f":"'RELEVE BANCAIRE'!A672","v":"00:00:00"},{"$f":"'RELEVE BANCAIRE'!H672","v":0},{"$f":"'RELEVE BANCAIRE'!M672","v":0},{"$f":"'RELEVE BANCAIRE'!E672","v":0},{"$f":"'RELEVE BANCAIRE'!D672*-1","v":0},{"$f":"'RELEVE BANCAIRE'!C672","v":0}]
[{"$f":"'RELEVE BANCAIRE'!G673","v":0},{"$f":"'RELEVE BANCAIRE'!A673","v":"00:00:00"},{"$f":"'RELEVE BANCAIRE'!H673","v":0},{"$f":"'RELEVE BANCAIRE'!M673","v":0},{"$f":"'RELEVE BANCAIRE'!E673","v":0},{"$f":"'RELEVE BANCAIRE'!D673*-1","v":0},{"$f":"'RELEVE BANCAIRE'!C673","v":0}]
[{"$f":"'RELEVE BANCAIRE'!G674","v":0},{"$f":"'RELEVE BANCAIRE'!A674","v":"00:00:00"},{"$f":"'RELEVE BANCAIRE'!H674","v":0},{"$f":"'RELEVE BANCAIRE'!M674","v":0},{"$f":"'RELEVE BANCAIRE'!E674","v":0},{"$f":"'RELEVE BANCAIRE'!D674*-1","v":0},{"$f":"'RELEVE BANCAIRE'!C674","v":0}]
[{"$f":"'RELEVE BANCAIRE'!G675","v":0},{"$f":"'RELEVE BANCAIRE'!A675","v":"00:00:00"},{"$f":"'RELEVE BANCAIRE'!H675","v":0},{"$f":"'RELEVE BANCAIRE'!M675","v":0},{"$f":"'RELEVE BANCAIRE'!E675","v":0},{"$f":"'RELEVE BANCAIRE'!D675*-1","v":0},{"$f":"'RELEVE BANCAIRE'!C675","v":0}]
[{"$f":"'RELEVE BANCAIRE'!G676","v":0},{"$f":"'RELEVE BANCAIRE'!A676","v":"00:00:00"},{"$f":"'RELEVE BANCAIRE'!H676","v":0},{"$f":"'RELEVE BANCAIRE'!M676","v":0},{"$f":"'RELEVE BANCAIRE'!E676","v":0},{"$f":"'RELEVE BANCAIRE'!D676*-1","v":0},{"$f":"'RELEVE BANCAIRE'!C676","v":0}]
[{"$f":"'RELEVE BANCAIRE'!G677","v":0},{"$f":"'RELEVE BANCAIRE'!A677","v":"00:00:00"},{"$f":"'RELEVE BANCAIRE'!H677","v":0},{"$f":"'RELEVE BANCAIRE'!M677","v":0},{"$f":"'RELEVE BANCAIRE'!E677","v":0},{"$f":"'RELEVE BANCAIRE'!D677*-1","v":0},{"$f":"'RELEVE BANCAIRE'!C677","v":0}]
[{"$f":"'RELEVE BANCAIRE'!G678","v":0},{"$f":"'RELEVE BANCAIRE'!A678","v":"00:00:00"},{"$f":"'RELEVE BANCAIRE'!H678","v":0},{"$f":"'RELEVE BANCAIRE'!M678","v":0},{"$f":"'RELEVE BANCAIRE'!E678","v":0},{"$f":"'RELEVE BANCAIRE'!D678*-1","v":0},{"$f":"'RELEVE BANCAIRE'!C678","v":0}]
[{"$f":"'RELEVE BANCAIRE'!G679","v":0},{"$f":"'RELEVE BANCAIRE'!A679","v":"00:00:00"},{"$f":"'RELEVE BANCAIRE'!H679","v":0},{"$f":"'RELEVE BANCAIRE'!M679","v":0},{"$f":"'RELEVE BANCAIRE'!E679","v":0},{"$f":"'RELEVE BANCAIRE'!D679*-1","v":0},{"$f":"'RELEVE BANCAIRE'!C679","v":0}]
[{"$f":"'RELEVE BANCAIRE'!G680","v":0},{"$f":"'RELEVE BANCAIRE'!A680","v":"00:00:00"},{"$f":"'RELEVE BANCAIRE'!H680","v":0},{"$f":"'RELEVE BANCAIRE'!M680","v":0},{"$f":"'RELEVE BANCAIRE'!E680","v":0},{"$f":"'RELEVE BANCAIRE'!D680*-1","v":0},{"$f":"'RELEVE BANCAIRE'!C680","v":0}]
[{"$f":"'RELEVE BANCAIRE'!G681","v":0},{"$f":"'RELEVE BANCAIRE'!A681","v":"00:00:00"},{"$f":"'RELEVE BANCAIRE'!H681","v":0},{"$f":"'RELEVE BANCAIRE'!M681","v":0},{"$f":"'RELEVE BANCAIRE'!E681","v":0},{"$f":"'RELEVE BANCAIRE'!D681*-1","v":0},{"$f":"'RELEVE BANCAIRE'!C681","v":0}]
[{"$f":"'RELEVE BANCAIRE'!G682","v":0},{"$f":"'RELEVE BANCAIRE'!A682","v":"00:00:00"},{"$f":"'RELEVE BANCAIRE'!H682","v":0},{"$f":"'RELEVE BANCAIRE'!M682","v":0},{"$f":"'RELEVE BANCAIRE'!E682","v":0},{"$f":"'RELEVE BANCAIRE'!D682*-1","v":0},{"$f":"'RELEVE BANCAIRE'!C682","v":0}]
[{"$f":"'RELEVE BANCAIRE'!G683","v":0},{"$f":"'RELEVE BANCAIRE'!A683","v":"00:00:00"},{"$f":"'RELEVE BANCAIRE'!H683","v":0},{"$f":"'RELEVE BANCAIRE'!M683","v":0},{"$f":"'RELEVE BANCAIRE'!E683","v":0},{"$f":"'RELEVE BANCAIRE'!D683*-1","v":0},{"$f":"'RELEVE BANCAIRE'!C683","v":0}]
[{"$f":"'RELEVE BANCAIRE'!G684","v":0},{"$f":"'RELEVE BANCAIRE'!A684","v":"00:00:00"},{"$f":"'RELEVE BANCAIRE'!H684","v":0},{"$f":"'RELEVE BANCAIRE'!M684","v":0},{"$f":"'RELEVE BANCAIRE'!E684","v":0},{"$f":"'RELEVE BANCAIRE'!D684*-1","v":0},{"$f":"'RELEVE BANCAIRE'!C684","v":0}]
[{"$f":"'RELEVE BANCAIRE'!G685","v":0},{"$f":"'RELEVE BANCAIRE'!A685","v":"00:00:00"},{"$f":"'RELEVE BANCAIRE'!H685","v":0},{"$f":"'RELEVE BANCAIRE'!M685","v":0},{"$f":"'RELEVE BANCAIRE'!E685","v":0},{"$f":"'RELEVE BANCAIRE'!D685*-1","v":0},{"$f":"'RELEVE BANCAIRE'!C685","v":0}]
[{"$f":"'RELEVE BANCAIRE'!G686","v":0},{"$f":"'RELEVE BANCAIRE'!A686","v":"00:00:00"},{"$f":"'RELEVE BANCAIRE'!H686","v":0},{"$f":"'RELEVE BANCAIRE'!M686","v":0},{"$f":"'RELEVE BANCAIRE'!E686","v":0},{"$f":"'RELEVE BANCAIRE'!D686*-1","v":0},{"$f":"'RELEVE BANCAIRE'!C686","v":0}]
[{"$f":"'RELEVE BANCAIRE'!G687","v":0},{"$f":"'RELEVE BANCAIRE'!A687","v":"00:00:00"},{"$f":"'RELEVE BANCAIRE'!H687","v":0},{"$f":"'RELEVE BANCAIRE'!M687","v":0},{"$f":"'RELEVE BANCAIRE'!E687","v":0},{"$f":"'RELEVE BANCAIRE'!D687*-1","v":0},{"$f":"'RELEVE BANCAIRE'!C687","v":0}]
[{"$f":"'RELEVE BANCAIRE'!G688","v":0},{"$f":"'RELEVE BANCAIRE'!A688","v":"00:00:00"},{"$f":"'RELEVE BANCAIRE'!H688","v":0},{"$f":"'RELEVE BANCAIRE'!M688","v":0},{"$f":"'RELEVE BANCAIRE'!E688","v":0},{"$f":"'RELEVE BANCAIRE'!D688*-1","v":0},{"$f":"'RELEVE BANCAIRE'!C688","v":0}]
[{"$f":"'RELEVE BANCAIRE'!G689","v":0},{"$f":"'RELEVE BANCAIRE'!A689","v":"00:00:00"},{"$f":"'RELEVE BANCAIRE'!H689","v":0},{"$f":"'RELEVE BANCAIRE'!M689","v":0},{"$f":"'RELEVE BANCAIRE'!E689","v":0},{"$f":"'RELEVE BANCAIRE'!D689*-1","v":0},{"$f":"'RELEVE BANCAIRE'!C689","v":0}]
[{"$f":"'RELEVE BANCAIRE'!G690","v":0},{"$f":"'RELEVE BANCAIRE'!A690","v":"00:00:00"},{"$f":"'RELEVE BANCAIRE'!H690","v":0},{"$f":"'RELEVE BANCAIRE'!M690","v":0},{"$f":"'RELEVE BANCAIRE'!E690","v":0},{"$f":"'RELEVE BANCAIRE'!D690*-1","v":0},{"$f":"'RELEVE BANCAIRE'!C690","v":0}]
[{"$f":"'RELEVE BANCAIRE'!G691","v":0},{"$f":"'RELEVE BANCAIRE'!A691","v":"00:00:00"},{"$f":"'RELEVE BANCAIRE'!H691","v":0},{"$f":"'RELEVE BANCAIRE'!M691","v":0},{"$f":"'RELEVE BANCAIRE'!E691","v":0},{"$f":"'RELEVE BANCAIRE'!D691*-1","v":0},{"$f":"'RELEVE BANCAIRE'!C691","v":0}]
[{"$f":"'RELEVE BANCAIRE'!G692","v":0},{"$f":"'RELEVE BANCAIRE'!A692","v":"00:00:00"},{"$f":"'RELEVE BANCAIRE'!H692","v":0},{"$f":"'RELEVE BANCAIRE'!M692","v":0},{"$f":"'RELEVE BANCAIRE'!E692","v":0},{"$f":"'RELEVE BANCAIRE'!D692*-1","v":0},{"$f":"'RELEVE BANCAIRE'!C692","v":0}]
[{"$f":"'RELEVE BANCAIRE'!G693","v":0},{"$f":"'RELEVE BANCAIRE'!A693","v":"00:00:00"},{"$f":"'RELEVE BANCAIRE'!H693","v":0},{"$f":"'RELEVE BANCAIRE'!M693","v":0},{"$f":"'RELEVE BANCAIRE'!E693","v":0},{"$f":"'RELEVE BANCAIRE'!D693*-1","v":0},{"$f":"'RELEVE BANCAIRE'!C693","v":0}]
[{"$f":"'RELEVE BANCAIRE'!G694","v":0},{"$f":"'RELEVE BANCAIRE'!A694","v":"00:00:00"},{"$f":"'RELEVE BANCAIRE'!H694","v":0},{"$f":"'RELEVE BANCAIRE'!M694","v":0},{"$f":"'RELEVE BANCAIRE'!E694","v":0},{"$f":"'RELEVE BANCAIRE'!D694*-1","v":0},{"$f":"'RELEVE BANCAIRE'!C694","v":0}]
[{"$f":"'RELEVE BANCAIRE'!G695","v":0},{"$f":"'RELEVE BANCAIRE'!A695","v":"00:00:00"},{"$f":"'RELEVE BANCAIRE'!H695","v":0},{"$f":"'RELEVE BANCAIRE'!M695","v":0},{"$f":"'RELEVE BANCAIRE'!E695","v":0},{"$f":"'RELEVE BANCAIRE'!D695*-1","v":0},{"$f":"'RELEVE BANCAIRE'!C695","v":0}]
[{"$f":"'RELEVE BANCAIRE'!G696","v":0},{"$f":"'RELEVE BANCAIRE'!A696","v":"00:00:00"},{"$f":"'RELEVE BANCAIRE'!H696","v":0},{"$f":"'RELEVE BANCAIRE'!M696","v":0},{"$f":"'RELEVE BANCAIRE'!E696","v":0},{"$f":"'RELEVE BANCAIRE'!D696*-1","v":0},{"$f":"'RELEVE BANCAIRE'!C696","v":0}]
[{"$f":"'RELEVE BANCAIRE'!G697","v":0},{"$f":"'RELEVE BANCAIRE'!A697","v":"00:00:00"},{"$f":"'RELEVE BANCAIRE'!H697","v":0},{"$f":"'RELEVE BANCAIRE'!M697","v":0},{"$f":"'RELEVE BANCAIRE'!E697","v":0},{"$f":"'RELEVE BANCAIRE'!D697*-1","v":0},{"$f":"'RELEVE BANCAIRE'!C697","v":0}]
[{"$f":"'RELEVE BANCAIRE'!G698","v":0},{"$f":"'RELEVE BANCAIRE'!A698","v":"00:00:00"},{"$f":"'RELEVE BANCAIRE'!H698","v":0},{"$f":"'RELEVE BANCAIRE'!M698","v":0},{"$f":"'RELEVE BANCAIRE'!E698","v":0},{"$f":"'RELEVE BANCAIRE'!D698*-1","v":0},{"$f":"'RELEVE BANCAIRE'!C698","v":0}]
[{"$f":"'RELEVE BANCAIRE'!G699","v":0},{"$f":"'RELEVE BANCAIRE'!A699","v":"00:00:00"},{"$f":"'RELEVE BANCAIRE'!H699","v":0},{"$f":"'RELEVE BANCAIRE'!M699","v":0},{"$f":"'RELEVE BANCAIRE'!E699","v":0},{"$f":"'RELEVE BANCAIRE'!D699*-1","v":0},{"$f":"'RELEVE BANCAIRE'!C699","v":0}]
[{"$f":"'RELEVE BANCAIRE'!G700","v":0},{"$f":"'RELEVE BANCAIRE'!A700","v":"00:00:00"},{"$f":"'RELEVE BANCAIRE'!H700","v":0},{"$f":"'RELEVE BANCAIRE'!M700","v":0},{"$f":"'RELEVE BANCAIRE'!E700","v":0},{"$f":"'RELEVE BANCAIRE'!D700*-1","v":0},{"$f":"'RELEVE BANCAIRE'!C700","v":0}]
[{"$f":"'RELEVE BANCAIRE'!G701","v":0},{"$f":"'RELEVE BANCAIRE'!A701","v":"00:00:00"},{"$f":"'RELEVE BANCAIRE'!H701","v":0},{"$f":"'RELEVE BANCAIRE'!M701","v":0},{"$f":"'RELEVE BANCAIRE'!E701","v":0},{"$f":"'RELEVE BANCAIRE'!D701*-1","v":0},{"$f":"'RELEVE BANCAIRE'!C701","v":0}]
[{"$f":"'RELEVE BANCAIRE'!G702","v":0},{"$f":"'RELEVE BANCAIRE'!A702","v":"00:00:00"},{"$f":"'RELEVE BANCAIRE'!H702","v":0},{"$f":"'RELEVE BANCAIRE'!M702","v":0},{"$f":"'RELEVE BANCAIRE'!E702","v":0},{"$f":"'RELEVE BANCAIRE'!D702*-1","v":0},{"$f":"'RELEVE BANCAIRE'!C702","v":0}]
[{"$f":"'RELEVE BANCAIRE'!G703","v":0},{"$f":"'RELEVE BANCAIRE'!A703","v":"00:00:00"},{"$f":"'RELEVE BANCAIRE'!H703","v":0},{"$f":"'RELEVE BANCAIRE'!M703","v":0},{"$f":"'RELEVE BANCAIRE'!E703","v":0},{"$f":"'RELEVE BANCAIRE'!D703*-1","v":0},{"$f":"'RELEVE BANCAIRE'!C703","v":0}]
[{"$f":"'RELEVE BANCAIRE'!G704","v":0},{"$f":"'RELEVE BANCAIRE'!A704","v":"00:00:00"},{"$f":"'RELEVE BANCAIRE'!H704","v":0},{"$f":"'RELEVE BANCAIRE'!M704","v":0},{"$f":"'RELEVE BANCAIRE'!E704","v":0},{"$f":"'RELEVE BANCAIRE'!D704*-1","v":0},{"$f":"'RELEVE BANCAIRE'!C704","v":0}]

{"sheet":"ECRITURES P2","index":3,"n_rows":992,"n_cols":9,"rows_kept":992}
["journal","date","piece","compte gen","debit","credit","N°FACT","analytique","compte tiers"]
[{"$f":"'RELEVE BANCAIRE'!G3","v":"BQ4"},{"$f":"'RELEVE BANCAIRE'!A3","v":"2023-05-12"},{"$f":"'RELEVE BANCAIRE'!H3","v":1},{"$f":"'RELEVE BANCAIRE'!J3","v":40110000},{"$f":"'RELEVE BANCAIRE'!D3*-1","v":-1000},{"$f":"'RELEVE BANCAIRE'!E3","v":{"v":0,"d":"0.00 €"}},{"$f":"'RELEVE BANCAIRE'!C3","v":"PASSIONFROID"},{"$f":"IF(LEFT(D2,1)=\"6\",'RELEVE BANCAIRE'!$O$2,\"\")","v":""},{"$f":"'RELEVE BANCAIRE'!K3","v":"FPASSIONFROIDAMB"}]
[{"$f":"'RELEVE BANCAIRE'!G4","v":"BQ4"},{"$f":"'RELEVE BANCAIRE'!A4","v":"2023-05-18"},{"$f":"'RELEVE BANCAIRE'!H4","v":2},{"$f":"'RELEVE BANCAIRE'!J4","v":40110000},{"$f":"'RELEVE BANCAIRE'!D4*-1","v":-100},{"$f":"'RELEVE BANCAIRE'!E4","v":0},{"$f":"'RELEVE BANCAIRE'!C4","v":"ORANGE"},{"$f":"IF(LEFT(D3,1)=\"6\",'RELEVE BANCAIRE'!$O$2,\"\")","v":""},{"$f":"'RELEVE BANCAIRE'!K4","v":"FORANGEAMB"}]
[{"$f":"'RELEVE BANCAIRE'!G5","v":"BQ4"},{"$f":"'RELEVE BANCAIRE'!A5","v":"2023-05-19"},{"$f":"'RELEVE BANCAIRE'!H5","v":3},{"$f":"'RELEVE BANCAIRE'!J5","v":51160004},{"$f":"'RELEVE BANCAIRE'!D5*-1","v":0},{"$f":"'RELEVE BANCAIRE'!E5","v":5000},{"$f":"'RELEVE BANCAIRE'!C5","v":"VIREMENT"},{"$f":"IF(LEFT(D4,1)=\"6\",'RELEVE BANCAIRE'!$O$2,\"\")","v":""},{"$f":"'RELEVE BANCAIRE'!K5","v":""}]
[{"$f":"'RELEVE BANCAIRE'!G6","v":"BQ4"},{"$f":"'RELEVE BANCAIRE'!A6","v":"2023-05-21"},{"$f":"'RELEVE BANCAIRE'!H6","v":4},{"$f":"'RELEVE BANCAIRE'!J6","v":51160004},{"$f":"'RELEVE BANCAIRE'!D6*-1","v":0},{"$f":"'RELEVE BANCAIRE'!E6","v":12000},{"$f":"'RELEVE BANCAIRE'!C6","v":"VIREMENT"},{"$f":"IF(LEFT(D5,1)=\"6\",'RELEVE BANCAIRE'!$O$2,\"\")","v":""},{"$f":"'RELEVE BANCAIRE'!K6","v":""}]
[{"$f":"'RELEVE BANCAIRE'!G7","v":"BQ4"},{"$f":"'RELEVE BANCAIRE'!A7","v":"00:00:00"},{"$f":"'RELEVE BANCAIRE'!H7","v":5},{"$f":"'RELEVE BANCAIRE'!J7","v":"47100000"},{"$f":"'RELEVE BANCAIRE'!D7*-1","v":0},{"$f":"'RELEVE BANCAIRE'!E7","v":0},{"$f":"'RELEVE BANCAIRE'!C7","v":0},{"$f":"IF(LEFT(D6,1)=\"6\",'RELEVE BANCAIRE'!$O$2,\"\")","v":""},{"$f":"'RELEVE BANCAIRE'!K7","v":""}]
[{"$f":"'RELEVE BANCAIRE'!G8","v":"BQ4"},{"$f":"'RELEVE BANCAIRE'!A8","v":"00:00:00"},{"$f":"'RELEVE BANCAIRE'!H8","v":6},{"$f":"'RELEVE BANCAIRE'!J8","v":"47100000"},{"$f":"'RELEVE BANCAIRE'!D8*-1","v":0},{"$f":"'RELEVE BANCAIRE'!E8","v":0},{"$f":"'RELEVE BANCAIRE'!C8","v":0},{"$f":"IF(LEFT(D7,1)=\"6\",'RELEVE BANCAIRE'!$O$2,\"\")","v":""},{"$f":"'RELEVE BANCAIRE'!K8","v":""}]
[{"$f":"'RELEVE BANCAIRE'!G9","v":"BQ4"},{"$f":"'RELEVE BANCAIRE'!A9","v":"00:00:00"},{"$f":"'RELEVE BANCAIRE'!H9","v":7},{"$f":"'RELEVE BANCAIRE'!J9","v":"47100000"},{"$f":"'RELEVE BANCAIRE'!D9*-1","v":0},{"$f":"'RELEVE BANCAIRE'!E9","v":0},{"$f":"'RELEVE BANCAIRE'!C9","v":0},{"$f":"IF(LEFT(D8,1)=\"6\",'RELEVE BANCAIRE'!$O$2,\"\")","v":""},{"$f":"'RELEVE BANCAIRE'!K9","v":""}]
[{"$f":"'RELEVE BANCAIRE'!G10","v":"BQ4"},{"$f":"'RELEVE BANCAIRE'!A10","v":"00:00:00"},{"$f":"'RELEVE BANCAIRE'!H10","v":8},{"$f":"'RELEVE BANCAIRE'!J10","v":"47100000"},{"$f":"'RELEVE BANCAIRE'!D10*-1","v":0},{"$f":"'RELEVE BANCAIRE'!E10","v":0},{"$f":"'RELEVE BANCAIRE'!C10","v":0},{"$f":"IF(LEFT(D9,1)=\"6\",'RELEVE BANCAIRE'!$O$2,\"\")","v":""},{"$f":"'RELEVE BANCAIRE'!K10","v":""}]
[{"$f":"'RELEVE BANCAIRE'!G11","v":"BQ4"},{"$f":"'RELEVE BANCAIRE'!A11","v":"00:00:00"},{"$f":"'RELEVE BANCAIRE'!H11","v":9},{"$f":"'RELEVE BANCAIRE'!J11","v":"47100000"},{"$f":"'RELEVE BANCAIRE'!D11*-1","v":0},{"$f":"'RELEVE BANCAIRE'!E11","v":0},{"$f":"'RELEVE BANCAIRE'!C11","v":0},{"$f":"IF(LEFT(D10,1)=\"6\",'RELEVE BANCAIRE'!$O$2,\"\")","v":""},{"$f":"'RELEVE BANCAIRE'!K11","v":""}]
[{"$f":"'RELEVE BANCAIRE'!G12","v":"BQ4"},{"$f":"'RELEVE BANCAIRE'!A12","v":"00:00:00"},{"$f":"'RELEVE BANCAIRE'!H12","v":10},{"$f":"'RELEVE BANCAIRE'!J12","v":"47100000"},{"$f":"'RELEVE BANCAIRE'!D12*-1","v":0},{"$f":"'RELEVE BANCAIRE'!E12","v":0},{"$f":"'RELEVE BANCAIRE'!C12","v":0},{"$f":"IF(LEFT(D11,1)=\"6\",'RELEVE BANCAIRE'!$O$2,\"\")","v":""},{"$f":"'RELEVE BANCAIRE'!K12","v":""}]
[{"$f":"'RELEVE BANCAIRE'!G13","v":"BQ4"},{"$f":"'RELEVE BANCAIRE'!A13","v":"00:00:00"},{"$f":"'RELEVE BANCAIRE'!H13","v":11},{"$f":"'RELEVE BANCAIRE'!J13","v":"47100000"},{"$f":"'RELEVE BANCAIRE'!D13*-1","v":0},{"$f":"'RELEVE BANCAIRE'!E13","v":0},{"$f":"'RELEVE BANCAIRE'!C13","v":0},{"$f":"IF(LEFT(D12,1)=\"6\",'RELEVE BANCAIRE'!$O$2,\"\")","v":""},{"$f":"'RELEVE BANCAIRE'!K13","v":""}]
[{"$f":"'RELEVE BANCAIRE'!G14","v":"BQ4"},{"$f":"'RELEVE BANCAIRE'!A14","v":"00:00:00"},{"$f":"'RELEVE BANCAIRE'!H14","v":12},{"$f":"'RELEVE BANCAIRE'!J14","v":"47100000"},{"$f":"'RELEVE BANCAIRE'!D14*-1","v":0},{"$f":"'RELEVE BANCAIRE'!E14","v":0},{"$f":"'RELEVE BANCAIRE'!C14","v":0},{"$f":"IF(LEFT(D13,1)=\"6\",'RELEVE BANCAIRE'!$O$2,\"\")","v":""},{"$f":"'RELEVE BANCAIRE'!K14","v":""}]
[{"$f":"'RELEVE BANCAIRE'!G15","v":"BQ4"},{"$f":"'RELEVE BANCAIRE'!A15","v":"00:00:00"},{"$f":"'RELEVE BANCAIRE'!H15","v":13},{"$f":"'RELEVE BANCAIRE'!J15","v":"47100000"},{"$f":"'RELEVE BANCAIRE'!D15*-1","v":0},{"$f":"'RELEVE BANCAIRE'!E15","v":0},{"$f":"'RELEVE BANCAIRE'!C15","v":0},{"$f":"IF(LEFT(D14,1)=\"6\",'RELEVE BANCAIRE'!$O$2,\"\")","v":""},{"$f":"'RELEVE BANCAIRE'!K15","v":""}]
[{"$f":"'RELEVE BANCAIRE'!G16","v":"BQ4"},{"$f":"'RELEVE BANCAIRE'!A16","v":"00:00:00"},{"$f":"'RELEVE BANCAIRE'!H16","v":14},{"$f":"'RELEVE BANCAIRE'!J16","v":"47100000"},{"$f":"'RELEVE BANCAIRE'!D16*-1","v":0},{"$f":"'RELEVE BANCAIRE'!E16","v":0},{"$f":"'RELEVE BANCAIRE'!C16","v":0},{"$f":"IF(LEFT(D15,1)=\"6\",'RELEVE BANCAIRE'!$O$2,\"\")","v":""},{"$f":"'RELEVE BANCAIRE'!K16","v":""}]
[{"$f":"'RELEVE BANCAIRE'!G17","v":"BQ4"},{"$f":"'RELEVE BANCAIRE'!A17","v":"00:00:00"},{"$f":"'RELEVE BANCAIRE'!H17","v":15},{"$f":"'RELEVE BANCAIRE'!J17","v":"47100000"},{"$f":"'RELEVE BANCAIRE'!D17*-1","v":0},{"$f":"'RELEVE BANCAIRE'!E17","v":0},{"$f":"'RELEVE BANCAIRE'!C17","v":0},{"$f":"IF(LEFT(D16,1)=\"6\",'RELEVE BANCAIRE'!$O$2,\"\")","v":""},{"$f":"'RELEVE BANCAIRE'!K17","v":""}]
[{"$f":"'RELEVE BANCAIRE'!G18","v":"BQ4"},{"$f":"'RELEVE BANCAIRE'!A18","v":"00:00:00"},{"$f":"'RELEVE BANCAIRE'!H18","v":16},{"$f":"'RELEVE BANCAIRE'!J18","v":"47100000"},{"$f":"'RELEVE BANCAIRE'!D18*-1","v":0},{"$f":"'RELEVE BANCAIRE'!E18","v":0},{"$f":"'RELEVE BANCAIRE'!C18","v":0},{"$f":"IF(LEFT(D17,1)=\"6\",'RELEVE BANCAIRE'!$O$2,\"\")","v":""},{"$f":"'RELEVE BANCAIRE'!K18","v":""}]
[{"$f":"'RELEVE BANCAIRE'!G19","v":"BQ4"},{"$f":"'RELEVE BANCAIRE'!A19","v":"00:00:00"},{"$f":"'RELEVE BANCAIRE'!H19","v":17},{"$f":"'RELEVE BANCAIRE'!J19","v":"47100000"},{"$f":"'RELEVE BANCAIRE'!D19*-1","v":0},{"$f":"'RELEVE BANCAIRE'!E19","v":0},{"$f":"'RELEVE BANCAIRE'!C19","v":0},{"$f":"IF(LEFT(D18,1)=\"6\",'RELEVE BANCAIRE'!$O$2,\"\")","v":""},{"$f":"'RELEVE BANCAIRE'!K19","v":""}]
[{"$f":"'RELEVE BANCAIRE'!G20","v":"BQ4"},{"$f":"'RELEVE BANCAIRE'!A20","v":"00:00:00"},{"$f":"'RELEVE BANCAIRE'!H20","v":18},{"$f":"'RELEVE BANCAIRE'!J20","v":"47100000"},{"$f":"'RELEVE BANCAIRE'!D20*-1","v":0},{"$f":"'RELEVE BANCAIRE'!E20","v":0},{"$f":"'RELEVE BANCAIRE'!C20","v":0},{"$f":"IF(LEFT(D19,1)=\"6\",'RELEVE BANCAIRE'!$O$2,\"\")","v":""},{"$f":"'RELEVE BANCAIRE'!K20","v":""}]
[{"$f":"'RELEVE BANCAIRE'!G21","v":"BQ4"},{"$f":"'RELEVE BANCAIRE'!A21","v":"00:00:00"},{"$f":"'RELEVE BANCAIRE'!H21","v":19},{"$f":"'RELEVE BANCAIRE'!J21","v":"47100000"},{"$f":"'RELEVE BANCAIRE'!D21*-1","v":0},{"$f":"'RELEVE BANCAIRE'!E21","v":0},{"$f":"'RELEVE BANCAIRE'!C21","v":0},{"$f":"IF(LEFT(D20,1)=\"6\",'RELEVE BANCAIRE'!$O$2,\"\")","v":""},{"$f":"'RELEVE BANCAIRE'!K21","v":""}]
[{"$f":"'RELEVE BANCAIRE'!G22","v":"BQ4"},{"$f":"'RELEVE BANCAIRE'!A22","v":"00:00:00"},{"$f":"'RELEVE BANCAIRE'!H22","v":20},{"$f":"'RELEVE BANCAIRE'!J22","v":"47100000"},{"$f":"'RELEVE BANCAIRE'!D22*-1","v":0},{"$f":"'RELEVE BANCAIRE'!E22","v":0},{"$f":"'RELEVE BANCAIRE'!C22","v":0},{"$f":"IF(LEFT(D21,1)=\"6\",'RELEVE BANCAIRE'!$O$2,\"\")","v":""},{"$f":"'RELEVE BANCAIRE'!K22","v":""}]
[{"$f":"'RELEVE BANCAIRE'!G23","v":"BQ4"},{"$f":"'RELEVE BANCAIRE'!A23","v":"00:00:00"},{"$f":"'RELEVE BANCAIRE'!H23","v":21},{"$f":"'RELEVE BANCAIRE'!J23","v":"47100000"},{"$f":"'RELEVE BANCAIRE'!D23*-1","v":0},{"$f":"'RELEVE BANCAIRE'!E23","v":0},{"$f":"'RELEVE BANCAIRE'!C23","v":0},{"$f":"IF(LEFT(D22,1)=\"6\",'RELEVE BANCAIRE'!$O$2,\"\")","v":""},{"$f":"'RELEVE BANCAIRE'!K23","v":""}]
[{"$f":"'RELEVE BANCAIRE'!G24","v":"BQ4"},{"$f":"'RELEVE BANCAIRE'!A24","v":"00:00:00"},{"$f":"'RELEVE BANCAIRE'!H24","v":22},{"$f":"'RELEVE BANCAIRE'!J24","v":"47100000"},{"$f":"'RELEVE BANCAIRE'!D24*-1","v":0},{"$f":"'RELEVE BANCAIRE'!E24","v":0},{"$f":"'RELEVE BANCAIRE'!C24","v":0},{"$f":"IF(LEFT(D23,1)=\"6\",'RELEVE BANCAIRE'!$O$2,\"\")","v":""},{"$f":"'RELEVE BANCAIRE'!K24","v":""}]
[{"$f":"'RELEVE BANCAIRE'!G25","v":"BQ4"},{"$f":"'RELEVE BANCAIRE'!A25","v":"00:00:00"},{"$f":"'RELEVE BANCAIRE'!H25","v":23},{"$f":"'RELEVE BANCAIRE'!J25","v":"47100000"},{"$f":"'RELEVE BANCAIRE'!D25*-1","v":0},{"$f":"'RELEVE BANCAIRE'!E25","v":0},{"$f":"'RELEVE BANCAIRE'!C25","v":0},{"$f":"IF(LEFT(D24,1)=\"6\",'RELEVE BANCAIRE'!$O$2,\"\")","v":""},{"$f":"'RELEVE BANCAIRE'!K25","v":""}]
[{"$f":"'RELEVE BANCAIRE'!G26","v":"BQ4"},{"$f":"'RELEVE BANCAIRE'!A26","v":"00:00:00"},{"$f":"'RELEVE BANCAIRE'!H26","v":24},{"$f":"'RELEVE BANCAIRE'!J26","v":"47100000"},{"$f":"'RELEVE BANCAIRE'!D26*-1","v":0},{"$f":"'RELEVE BANCAIRE'!E26","v":0},{"$f":"'RELEVE BANCAIRE'!C26","v":0},{"$f":"IF(LEFT(D25,1)=\"6\",'RELEVE BANCAIRE'!$O$2,\"\")","v":""},{"$f":"'RELEVE BANCAIRE'!K26","v":""}]
[{"$f":"'RELEVE BANCAIRE'!G27","v":"BQ4"},{"$f":"'RELEVE BANCAIRE'!A27","v":"00:00:00"},{"$f":"'RELEVE BANCAIRE'!H27","v":25},{"$f":"'RELEVE BANCAIRE'!J27","v":"47100000"},{"$f":"'RELEVE BANCAIRE'!D27*-1","v":0},{"$f":"'RELEVE BANCAIRE'!E27","v":0},{"$f":"'RELEVE BANCAIRE'!C27","v":0},{"$f":"IF(LEFT(D26,1)=\"6\",'RELEVE BANCAIRE'!$O$2,\"\")","v":""},{"$f":"'RELEVE BANCAIRE'!K27","v":""}]
[{"$f":"'RELEVE BANCAIRE'!G28","v":"BQ4"},{"$f":"'RELEVE BANCAIRE'!A28","v":"00:00:00"},{"$f":"'RELEVE BANCAIRE'!H28","v":26},{"$f":"'RELEVE BANCAIRE'!J28","v":"47100000"},{"$f":"'RELEVE BANCAIRE'!D28*-1","v":0},{"$f":"'RELEVE BANCAIRE'!E28","v":0},{"$f":"'RELEVE BANCAIRE'!C28","v":0},{"$f":"IF(LEFT(D27,1)=\"6\",'RELEVE BANCAIRE'!$O$2,\"\")","v":""},{"$f":"'RELEVE BANCAIRE'!K28","v":""}]
[{"$f":"'RELEVE BANCAIRE'!G29","v":"BQ4"},{"$f":"'RELEVE BANCAIRE'!A29","v":"00:00:00"},{"$f":"'RELEVE BANCAIRE'!H29","v":27},{"$f":"'RELEVE BANCAIRE'!J29","v":"47100000"},{"$f":"'RELEVE BANCAIRE'!D29*-1","v":0},{"$f":"'RELEVE BANCAIRE'!E29","v":0},{"$f":"'RELEVE BANCAIRE'!C29","v":0},{"$f":"IF(LEFT(D28,1)=\"6\",'RELEVE BANCAIRE'!$O$2,\"\")","v":""},{"$f":"'RELEVE BANCAIRE'!K29","v":""}]
[{"$f":"'RELEVE BANCAIRE'!G30","v":"BQ4"},{"$f":"'RELEVE BANCAIRE'!A30","v":"00:00:00"},{"$f":"'RELEVE BANCAIRE'!H30","v":28},{"$f":"'RELEVE BANCAIRE'!J30","v":"47100000"},{"$f":"'RELEVE BANCAIRE'!D30*-1","v":0},{"$f":"'RELEVE BANCAIRE'!E30","v":0},{"$f":"'RELEVE BANCAIRE'!C30","v":0},{"$f":"IF(LEFT(D29,1)=\"6\",'RELEVE BANCAIRE'!$O$2,\"\")","v":""},{"$f":"'RELEVE BANCAIRE'!K30","v":""}]
[{"$f":"'RELEVE BANCAIRE'!G31","v":"BQ4"},{"$f":"'RELEVE BANCAIRE'!A31","v":"00:00:00"},{"$f":"'RELEVE BANCAIRE'!H31","v":29},{"$f":"'RELEVE BANCAIRE'!J31","v":"47100000"},{"$f":"'RELEVE BANCAIRE'!D31*-1","v":0},{"$f":"'RELEVE BANCAIRE'!E31","v":0},{"$f":"'RELEVE BANCAIRE'!C31","v":0},{"$f":"IF(LEFT(D30,1)=\"6\",'RELEVE BANCAIRE'!$O$2,\"\")","v":""},{"$f":"'RELEVE BANCAIRE'!K31","v":""}]
[{"$f":"'RELEVE BANCAIRE'!G32","v":"BQ4"},{"$f":"'RELEVE BANCAIRE'!A32","v":"00:00:00"},{"$f":"'RELEVE BANCAIRE'!H32","v":30},{"$f":"'RELEVE BANCAIRE'!J32","v":"47100000"},{"$f":"'RELEVE BANCAIRE'!D32*-1","v":0},{"$f":"'RELEVE BANCAIRE'!E32","v":0},{"$f":"'RELEVE BANCAIRE'!C32","v":0},{"$f":"IF(LEFT(D31,1)=\"6\",'RELEVE BANCAIRE'!$O$2,\"\")","v":""},{"$f":"'RELEVE BANCAIRE'!K32","v":""}]
[{"$f":"'RELEVE BANCAIRE'!G33","v":"BQ4"},{"$f":"'RELEVE BANCAIRE'!A33","v":"00:00:00"},{"$f":"'RELEVE BANCAIRE'!H33","v":31},{"$f":"'RELEVE BANCAIRE'!J33","v":"47100000"},{"$f":"'RELEVE BANCAIRE'!D33*-1","v":0},{"$f":"'RELEVE BANCAIRE'!E33","v":0},{"$f":"'RELEVE BANCAIRE'!C33","v":0},{"$f":"IF(LEFT(D32,1)=\"6\",'RELEVE BANCAIRE'!$O$2,\"\")","v":""},{"$f":"'RELEVE BANCAIRE'!K33","v":""}]
[{"$f":"'RELEVE BANCAIRE'!G34","v":"BQ4"},{"$f":"'RELEVE BANCAIRE'!A34","v":"00:00:00"},{"$f":"'RELEVE BANCAIRE'!H34","v":32},{"$f":"'RELEVE BANCAIRE'!J34","v":"47100000"},{"$f":"'RELEVE BANCAIRE'!D34*-1","v":0},{"$f":"'RELEVE BANCAIRE'!E34","v":0},{"$f":"'RELEVE BANCAIRE'!C34","v":0},{"$f":"IF(LEFT(D33,1)=\"6\",'RELEVE BANCAIRE'!$O$2,\"\")","v":""},{"$f":"'RELEVE BANCAIRE'!K34","v":""}]
[{"$f":"'RELEVE BANCAIRE'!G35","v":"BQ4"},{"$f":"'RELEVE BANCAIRE'!A35","v":"00:00:00"},{"$f":"'RELEVE BANCAIRE'!H35","v":33},{"$f":"'RELEVE BANCAIRE'!J35","v":"47100000"},{"$f":"'RELEVE BANCAIRE'!D35*-1","v":0},{"$f":"'RELEVE BANCAIRE'!E35","v":0},{"$f":"'RELEVE BANCAIRE'!C35","v":0},{"$f":"IF(LEFT(D34,1)=\"6\",'RELEVE BANCAIRE'!$O$2,\"\")","v":""},{"$f":"'RELEVE BANCAIRE'!K35","v":""}]
[{"$f":"'RELEVE BANCAIRE'!G36","v":"BQ4"},{"$f":"'RELEVE BANCAIRE'!A36","v":"00:00:00"},{"$f":"'RELEVE BANCAIRE'!H36","v":34},{"$f":"'RELEVE BANCAIRE'!J36","v":"47100000"},{"$f":"'RELEVE BANCAIRE'!D36*-1","v":0},{"$f":"'RELEVE BANCAIRE'!E36","v":0},{"$f":"'RELEVE BANCAIRE'!C36","v":0},{"$f":"IF(LEFT(D35,1)=\"6\",'RELEVE BANCAIRE'!$O$2,\"\")","v":""},{"$f":"'RELEVE BANCAIRE'!K36","v":""}]
[{"$f":"'RELEVE BANCAIRE'!G37","v":"BQ4"},{"$f":"'RELEVE BANCAIRE'!A37","v":"00:00:00"},{"$f":"'RELEVE BANCAIRE'!H37","v":35},{"$f":"'RELEVE BANCAIRE'!J37","v":"47100000"},{"$f":"'RELEVE BANCAIRE'!D37*-1","v":0},{"$f":"'RELEVE BANCAIRE'!E37","v":0},{"$f":"'RELEVE BANCAIRE'!C37","v":0},{"$f":"IF(LEFT(D36,1)=\"6\",'RELEVE BANCAIRE'!$O$2,\"\")","v":""},{"$f":"'RELEVE BANCAIRE'!K37","v":""}]
[{"$f":"'RELEVE BANCAIRE'!G38","v":"BQ4"},{"$f":"'RELEVE BANCAIRE'!A38","v":"00:00:00"},{"$f":"'RELEVE BANCAIRE'!H38","v":36},{"$f":"'RELEVE BANCAIRE'!J38","v":"47100000"},{"$f":"'RELEVE BANCAIRE'!D38*-1","v":0},{"$f":"'RELEVE BANCAIRE'!E38","v":0},{"$f":"'RELEVE BANCAIRE'!C38","v":0},{"$f":"IF(LEFT(D37,1)=\"6\",'RELEVE BANCAIRE'!$O$2,\"\")","v":""},{"$f":"'RELEVE BANCAIRE'!K38","v":""}]
[{"$f":"'RELEVE BANCAIRE'!G39","v":"BQ4"},{"$f":"'RELEVE BANCAIRE'!A39","v":"00:00:00"},{"$f":"'RELEVE BANCAIRE'!H39","v":37},{"$f":"'RELEVE BANCAIRE'!J39","v":"47100000"},{"$f":"'RELEVE BANCAIRE'!D39*-1","v":0},{"$f":"'RELEVE BANCAIRE'!E39","v":0},{"$f":"'RELEVE BANCAIRE'!C39","v":0},{"$f":"IF(LEFT(D38,1)=\"6\",'RELEVE BANCAIRE'!$O$2,\"\")","v":""},{"$f":"'RELEVE BANCAIRE'!K39","v":""}]
[{"$f":"'RELEVE BANCAIRE'!G40","v":"BQ4"},{"$f":"'RELEVE BANCAIRE'!A40","v":"00:00:00"},{"$f":"'RELEVE BANCAIRE'!H40","v":38},{"$f":"'RELEVE BANCAIRE'!J40","v":"47100000"},{"$f":"'RELEVE BANCAIRE'!D40*-1","v":0},{"$f":"'RELEVE BANCAIRE'!E40","v":0},{"$f":"'RELEVE BANCAIRE'!C40","v":0},{"$f":"IF(LEFT(D39,1)=\"6\",'RELEVE BANCAIRE'!$O$2,\"\")","v":""},{"$f":"'RELEVE BANCAIRE'!K40","v":""}]
[{"$f":"'RELEVE BANCAIRE'!G41","v":"BQ4"},{"$f":"'RELEVE BANCAIRE'!A41","v":"00:00:00"},{"$f":"'RELEVE BANCAIRE'!H41","v":39},{"$f":"'RELEVE BANCAIRE'!J41","v":"47100000"},{"$f":"'RELEVE BANCAIRE'!D41*-1","v":0},{"$f":"'RELEVE BANCAIRE'!E41","v":0},{"$f":"'RELEVE BANCAIRE'!C41","v":0},{"$f":"IF(LEFT(D40,1)=\"6\",'RELEVE BANCAIRE'!$O$2,\"\")","v":""},{"$f":"'RELEVE BANCAIRE'!K41","v":""}]
[{"$f":"'RELEVE BANCAIRE'!G42","v":"BQ4"},{"$f":"'RELEVE BANCAIRE'!A42","v":"00:00:00"},{"$f":"'RELEVE BANCAIRE'!H42","v":40},{"$f":"'RELEVE BANCAIRE'!J42","v":"47100000"},{"$f":"'RELEVE BANCAIRE'!D42*-1","v":0},{"$f":"'RELEVE BANCAIRE'!E42","v":0},{"$f":"'RELEVE BANCAIRE'!C42","v":0},{"$f":"IF(LEFT(D41,1)=\"6\",'RELEVE BANCAIRE'!$O$2,\"\")","v":""},{"$f":"'RELEVE BANCAIRE'!K42","v":""}]
[{"$f":"'RELEVE BANCAIRE'!G43","v":"BQ4"},{"$f":"'RELEVE BANCAIRE'!A43","v":"00:00:00"},{"$f":"'RELEVE BANCAIRE'!H43","v":41},{"$f":"'RELEVE BANCAIRE'!J43","v":"47100000"},{"$f":"'RELEVE BANCAIRE'!D43*-1","v":0},{"$f":"'RELEVE BANCAIRE'!E43","v":0},{"$f":"'RELEVE BANCAIRE'!C43","v":0},{"$f":"IF(LEFT(D42,1)=\"6\",'RELEVE BANCAIRE'!$O$2,\"\")","v":""},{"$f":"'RELEVE BANCAIRE'!K43","v":""}]
[{"$f":"'RELEVE BANCAIRE'!G44","v":"BQ4"},{"$f":"'RELEVE BANCAIRE'!A44","v":"00:00:00"},{"$f":"'RELEVE BANCAIRE'!H44","v":42},{"$f":"'RELEVE BANCAIRE'!J44","v":"47100000"},{"$f":"'RELEVE BANCAIRE'!D44*-1","v":0},{"$f":"'RELEVE BANCAIRE'!E44","v":0},{"$f":"'RELEVE BANCAIRE'!C44","v":0},{"$f":"IF(LEFT(D43,1)=\"6\",'RELEVE BANCAIRE'!$O$2,\"\")","v":""},{"$f":"'RELEVE BANCAIRE'!K44","v":""}]
[{"$f":"'RELEVE BANCAIRE'!G45","v":"BQ4"},{"$f":"'RELEVE BANCAIRE'!A45","v":"00:00:00"},{"$f":"'RELEVE BANCAIRE'!H45","v":43},{"$f":"'RELEVE BANCAIRE'!J45","v":"47100000"},{"$f":"'RELEVE BANCAIRE'!D45*-1","v":0},{"$f":"'RELEVE BANCAIRE'!E45","v":0},{"$f":"'RELEVE BANCAIRE'!C45","v":0},{"$f":"IF(LEFT(D44,1)=\"6\",'RELEVE BANCAIRE'!$O$2,\"\")","v":""},{"$f":"'RELEVE BANCAIRE'!K45","v":""}]
[{"$f":"'RELEVE BANCAIRE'!G46","v":"BQ4"},{"$f":"'RELEVE BANCAIRE'!A46","v":"00:00:00"},{"$f":"'RELEVE BANCAIRE'!H46","v":44},{"$f":"'RELEVE BANCAIRE'!J46","v":"47100000"},{"$f":"'RELEVE BANCAIRE'!D46*-1","v":0},{"$f":"'RELEVE BANCAIRE'!E46","v":0},{"$f":"'RELEVE BANCAIRE'!C46","v":0},{"$f":"IF(LEFT(D45,1)=\"6\",'RELEVE BANCAIRE'!$O$2,\"\")","v":""},{"$f":"'RELEVE BANCAIRE'!K46","v":""}]
[{"$f":"'RELEVE BANCAIRE'!G47","v":"BQ4"},{"$f":"'RELEVE BANCAIRE'!A47","v":"00:00:00"},{"$f":"'RELEVE BANCAIRE'!H47","v":45},{"$f":"'RELEVE BANCAIRE'!J47","v":"47100000"},{"$f":"'RELEVE BANCAIRE'!D47*-1","v":0},{"$f":"'RELEVE BANCAIRE'!E47","v":0},{"$f":"'RELEVE BANCAIRE'!C47","v":0},{"$f":"IF(LEFT(D46,1)=\"6\",'RELEVE BANCAIRE'!$O$2,\"\")","v":""},{"$f":"'RELEVE BANCAIRE'!K47","v":""}]
[{"$f":"'RELEVE BANCAIRE'!G48","v":"BQ4"},{"$f":"'RELEVE BANCAIRE'!A48","v":"00:00:00"},{"$f":"'RELEVE BANCAIRE'!H48","v":46},{"$f":"'RELEVE BANCAIRE'!J48","v":"47100000"},{"$f":"'RELEVE BANCAIRE'!D48*-1","v":0},{"$f":"'RELEVE BANCAIRE'!E48","v":0},{"$f":"'RELEVE BANCAIRE'!C48","v":0},{"$f":"IF(LEFT(D47,1)=\"6\",'RELEVE BANCAIRE'!$O$2,\"\")","v":""},{"$f":"'RELEVE BANCAIRE'!K48","v":""}]
[{"$f":"'RELEVE BANCAIRE'!G49","v":"BQ4"},{"$f":"'RELEVE BANCAIRE'!A49","v":"00:00:00"},{"$f":"'RELEVE BANCAIRE'!H49","v":47},{"$f":"'RELEVE BANCAIRE'!J49","v":"47100000"},{"$f":"'RELEVE BANCAIRE'!D49*-1","v":0},{"$f":"'RELEVE BANCAIRE'!E49","v":0},{"$f":"'RELEVE BANCAIRE'!C49","v":0},{"$f":"IF(LEFT(D48,1)=\"6\",'RELEVE BANCAIRE'!$O$2,\"\")","v":""},{"$f":"'RELEVE BANCAIRE'!K49","v":""}]
[{"$f":"'RELEVE BANCAIRE'!G50","v":"BQ4"},{"$f":"'RELEVE BANCAIRE'!A50","v":"00:00:00"},{"$f":"'RELEVE BANCAIRE'!H50","v":48},{"$f":"'RELEVE BANCAIRE'!J50","v":"47100000"},{"$f":"'RELEVE BANCAIRE'!D50*-1","v":0},{"$f":"'RELEVE BANCAIRE'!E50","v":0},{"$f":"'RELEVE BANCAIRE'!C50","v":0},{"$f":"IF(LEFT(D49,1)=\"6\",'RELEVE BANCAIRE'!$O$2,\"\")","v":""},{"$f":"'RELEVE BANCAIRE'!K50","v":""}]
[{"$f":"'RELEVE BANCAIRE'!G51","v":"BQ4"},{"$f":"'RELEVE BANCAIRE'!A51","v":"00:00:00"},{"$f":"'RELEVE BANCAIRE'!H51","v":49},{"$f":"'RELEVE BANCAIRE'!J51","v":"47100000"},{"$f":"'RELEVE BANCAIRE'!D51*-1","v":0},{"$f":"'RELEVE BANCAIRE'!E51","v":0},{"$f":"'RELEVE BANCAIRE'!C51","v":0},{"$f":"IF(LEFT(D50,1)=\"6\",'RELEVE BANCAIRE'!$O$2,\"\")","v":""},{"$f":"'RELEVE BANCAIRE'!K51","v":""}]
[{"$f":"'RELEVE BANCAIRE'!G52","v":"BQ4"},{"$f":"'RELEVE BANCAIRE'!A52","v":"00:00:00"},{"$f":"'RELEVE BANCAIRE'!H52","v":50},{"$f":"'RELEVE BANCAIRE'!J52","v":"47100000"},{"$f":"'RELEVE BANCAIRE'!D52*-1","v":0},{"$f":"'RELEVE BANCAIRE'!E52","v":0},{"$f":"'RELEVE BANCAIRE'!C52","v":0},{"$f":"IF(LEFT(D51,1)=\"6\",'RELEVE BANCAIRE'!$O$2,\"\")","v":""},{"$f":"'RELEVE BANCAIRE'!K52","v":""}]
[{"$f":"'RELEVE BANCAIRE'!G53","v":"BQ4"},{"$f":"'RELEVE BANCAIRE'!A53","v":"00:00:00"},{"$f":"'RELEVE BANCAIRE'!H53","v":51},{"$f":"'RELEVE BANCAIRE'!J53","v":"47100000"},{"$f":"'RELEVE BANCAIRE'!D53*-1","v":0},{"$f":"'RELEVE BANCAIRE'!E53","v":0},{"$f":"'RELEVE BANCAIRE'!C53","v":0},{"$f":"IF(LEFT(D52,1)=\"6\",'RELEVE BANCAIRE'!$O$2,\"\")","v":""},{"$f":"'RELEVE BANCAIRE'!K53","v":""}]
[{"$f":"'RELEVE BANCAIRE'!G54","v":"BQ4"},{"$f":"'RELEVE BANCAIRE'!A54","v":"00:00:00"},{"$f":"'RELEVE BANCAIRE'!H54","v":52},{"$f":"'RELEVE BANCAIRE'!J54","v":"47100000"},{"$f":"'RELEVE BANCAIRE'!D54*-1","v":0},{"$f":"'RELEVE BANCAIRE'!E54","v":0},{"$f":"'RELEVE BANCAIRE'!C54","v":0},{"$f":"IF(LEFT(D53,1)=\"6\",'RELEVE BANCAIRE'!$O$2,\"\")","v":""},{"$f":"'RELEVE BANCAIRE'!K54","v":""}]
[{"$f":"'RELEVE BANCAIRE'!G55","v":"BQ4"},{"$f":"'RELEVE BANCAIRE'!A55","v":"00:00:00"},{"$f":"'RELEVE BANCAIRE'!H55","v":53},{"$f":"'RELEVE BANCAIRE'!J55","v":"47100000"},{"$f":"'RELEVE BANCAIRE'!D55*-1","v":0},{"$f":"'RELEVE BANCAIRE'!E55","v":0},{"$f":"'RELEVE BANCAIRE'!C55","v":0},{"$f":"IF(LEFT(D54,1)=\"6\",'RELEVE BANCAIRE'!$O$2,\"\")","v":""},{"$f":"'RELEVE BANCAIRE'!K55","v":""}]
[{"$f":"'RELEVE BANCAIRE'!G56","v":"BQ4"},{"$f":"'RELEVE BANCAIRE'!A56","v":"00:00:00"},{"$f":"'RELEVE BANCAIRE'!H56","v":54},{"$f":"'RELEVE BANCAIRE'!J56","v":"47100000"},{"$f":"'RELEVE BANCAIRE'!D56*-1","v":0},{"$f":"'RELEVE BANCAIRE'!E56","v":0},{"$f":"'RELEVE BANCAIRE'!C56","v":0},{"$f":"IF(LEFT(D55,1)=\"6\",'RELEVE BANCAIRE'!$O$2,\"\")","v":""},{"$f":"'RELEVE BANCAIRE'!K56","v":""}]
[{"$f":"'RELEVE BANCAIRE'!G57","v":"BQ4"},{"$f":"'RELEVE BANCAIRE'!A57","v":"00:00:00"},{"$f":"'RELEVE BANCAIRE'!H57","v":55},{"$f":"'RELEVE BANCAIRE'!J57","v":"47100000"},{"$f":"'RELEVE BANCAIRE'!D57*-1","v":0},{"$f":"'RELEVE BANCAIRE'!E57","v":0},{"$f":"'RELEVE BANCAIRE'!C57","v":0},{"$f":"IF(LEFT(D56,1)=\"6\",'RELEVE BANCAIRE'!$O$2,\"\")","v":""},{"$f":"'RELEVE BANCAIRE'!K57","v":""}]
[{"$f":"'RELEVE BANCAIRE'!G58","v":"BQ4"},{"$f":"'RELEVE BANCAIRE'!A58","v":"00:00:00"},{"$f":"'RELEVE BANCAIRE'!H58","v":56},{"$f":"'RELEVE BANCAIRE'!J58","v":"47100000"},{"$f":"'RELEVE BANCAIRE'!D58*-1","v":0},{"$f":"'RELEVE BANCAIRE'!E58","v":0},{"$f":"'RELEVE BANCAIRE'!C58","v":0},{"$f":"IF(LEFT(D57,1)=\"6\",'RELEVE BANCAIRE'!$O$2,\"\")","v":""},{"$f":"'RELEVE BANCAIRE'!K58","v":""}]
[{"$f":"'RELEVE BANCAIRE'!G59","v":"BQ4"},{"$f":"'RELEVE BANCAIRE'!A59","v":"00:00:00"},{"$f":"'RELEVE BANCAIRE'!H59","v":57},{"$f":"'RELEVE BANCAIRE'!J59","v":"47100000"},{"$f":"'RELEVE BANCAIRE'!D59*-1","v":0},{"$f":"'RELEVE BANCAIRE'!E59","v":0},{"$f":"'RELEVE BANCAIRE'!C59","v":0},{"$f":"IF(LEFT(D58,1)=\"6\",'RELEVE BANCAIRE'!$O$2,\"\")","v":""},{"$f":"'RELEVE BANCAIRE'!K59","v":""}]
[{"$f":"'RELEVE BANCAIRE'!G60","v":"BQ4"},{"$f":"'RELEVE BANCAIRE'!A60","v":"00:00:00"},{"$f":"'RELEVE BANCAIRE'!H60","v":58},{"$f":"'RELEVE BANCAIRE'!J60","v":"47100000"},{"$f":"'RELEVE BANCAIRE'!D60*-1","v":0},{"$f":"'RELEVE BANCAIRE'!E60","v":0},{"$f":"'RELEVE BANCAIRE'!C60","v":0},{"$f":"IF(LEFT(D59,1)=\"6\",'RELEVE BANCAIRE'!$O$2,\"\")","v":""},{"$f":"'RELEVE BANCAIRE'!K60","v":""}]
[{"$f":"'RELEVE BANCAIRE'!G61","v":"BQ4"},{"$f":"'RELEVE BANCAIRE'!A61","v":"00:00:00"},{"$f":"'RELEVE BANCAIRE'!H61","v":59},{"$f":"'RELEVE BANCAIRE'!J61","v":"47100000"},{"$f":"'RELEVE BANCAIRE'!D61*-1","v":0},{"$f":"'RELEVE BANCAIRE'!E61","v":0},{"$f":"'RELEVE BANCAIRE'!C61","v":0},{"$f":"IF(LEFT(D60,1)=\"6\",'RELEVE BANCAIRE'!$O$2,\"\")","v":""},{"$f":"'RELEVE BANCAIRE'!K61","v":""}]
[{"$f":"'RELEVE BANCAIRE'!G62","v":"BQ4"},{"$f":"'RELEVE BANCAIRE'!A62","v":"00:00:00"},{"$f":"'RELEVE BANCAIRE'!H62","v":60},{"$f":"'RELEVE BANCAIRE'!J62","v":"47100000"},{"$f":"'RELEVE BANCAIRE'!D62*-1","v":0},{"$f":"'RELEVE BANCAIRE'!E62","v":0},{"$f":"'RELEVE BANCAIRE'!C62","v":0},{"$f":"IF(LEFT(D61,1)=\"6\",'RELEVE BANCAIRE'!$O$2,\"\")","v":""},{"$f":"'RELEVE BANCAIRE'!K62","v":""}]
[{"$f":"'RELEVE BANCAIRE'!G63","v":"BQ4"},{"$f":"'RELEVE BANCAIRE'!A63","v":"00:00:00"},{"$f":"'RELEVE BANCAIRE'!H63","v":61},{"$f":"'RELEVE BANCAIRE'!J63","v":"47100000"},{"$f":"'RELEVE BANCAIRE'!D63*-1","v":0},{"$f":"'RELEVE BANCAIRE'!E63","v":0},{"$f":"'RELEVE BANCAIRE'!C63","v":0},{"$f":"IF(LEFT(D62,1)=\"6\",'RELEVE BANCAIRE'!$O$2,\"\")","v":""},{"$f":"'RELEVE BANCAIRE'!K63","v":""}]
[{"$f":"'RELEVE BANCAIRE'!G64","v":"BQ4"},{"$f":"'RELEVE BANCAIRE'!A64","v":"00:00:00"},{"$f":"'RELEVE BANCAIRE'!H64","v":62},{"$f":"'RELEVE BANCAIRE'!J64","v":"47100000"},{"$f":"'RELEVE BANCAIRE'!D64*-1","v":0},{"$f":"'RELEVE BANCAIRE'!E64","v":0},{"$f":"'RELEVE BANCAIRE'!C64","v":0},{"$f":"IF(LEFT(D63,1)=\"6\",'RELEVE BANCAIRE'!$O$2,\"\")","v":""},{"$f":"'RELEVE BANCAIRE'!K64","v":""}]
[{"$f":"'RELEVE BANCAIRE'!G65","v":"BQ4"},{"$f":"'RELEVE BANCAIRE'!A65","v":"00:00:00"},{"$f":"'RELEVE BANCAIRE'!H65","v":63},{"$f":"'RELEVE BANCAIRE'!J65","v":"47100000"},{"$f":"'RELEVE BANCAIRE'!D65*-1","v":0},{"$f":"'RELEVE BANCAIRE'!E65","v":0},{"$f":"'RELEVE BANCAIRE'!C65","v":0},{"$f":"IF(LEFT(D64,1)=\"6\",'RELEVE BANCAIRE'!$O$2,\"\")","v":""},{"$f":"'RELEVE BANCAIRE'!K65","v":""}]
[{"$f":"'RELEVE BANCAIRE'!G66","v":"BQ4"},{"$f":"'RELEVE BANCAIRE'!A66","v":"00:00:00"},{"$f":"'RELEVE BANCAIRE'!H66","v":64},{"$f":"'RELEVE BANCAIRE'!J66","v":"47100000"},{"$f":"'RELEVE BANCAIRE'!D66*-1","v":0},{"$f":"'RELEVE BANCAIRE'!E66","v":0},{"$f":"'RELEVE BANCAIRE'!C66","v":0},{"$f":"IF(LEFT(D65,1)=\"6\",'RELEVE BANCAIRE'!$O$2,\"\")","v":""},{"$f":"'RELEVE BANCAIRE'!K66","v":""}]
[{"$f":"'RELEVE BANCAIRE'!G67","v":"BQ4"},{"$f":"'RELEVE BANCAIRE'!A67","v":"00:00:00"},{"$f":"'RELEVE BANCAIRE'!H67","v":65},{"$f":"'RELEVE BANCAIRE'!J67","v":"47100000"},{"$f":"'RELEVE BANCAIRE'!D67*-1","v":0},{"$f":"'RELEVE BANCAIRE'!E67","v":0},{"$f":"'RELEVE BANCAIRE'!C67","v":0},{"$f":"IF(LEFT(D66,1)=\"6\",'RELEVE BANCAIRE'!$O$2,\"\")","v":""},{"$f":"'RELEVE BANCAIRE'!K67","v":""}]
[{"$f":"'RELEVE BANCAIRE'!G68","v":"BQ4"},{"$f":"'RELEVE BANCAIRE'!A68","v":"00:00:00"},{"$f":"'RELEVE BANCAIRE'!H68","v":66},{"$f":"'RELEVE BANCAIRE'!J68","v":"47100000"},{"$f":"'RELEVE BANCAIRE'!D68*-1","v":0},{"$f":"'RELEVE BANCAIRE'!E68","v":0},{"$f":"'RELEVE BANCAIRE'!C68","v":0},{"$f":"IF(LEFT(D67,1)=\"6\",'RELEVE BANCAIRE'!$O$2,\"\")","v":""},{"$f":"'RELEVE BANCAIRE'!K68","v":""}]
[{"$f":"'RELEVE BANCAIRE'!G69","v":"BQ4"},{"$f":"'RELEVE BANCAIRE'!A69","v":"00:00:00"},{"$f":"'RELEVE BANCAIRE'!H69","v":67},{"$f":"'RELEVE BANCAIRE'!J69","v":"47100000"},{"$f":"'RELEVE BANCAIRE'!D69*-1","v":0},{"$f":"'RELEVE BANCAIRE'!E69","v":0},{"$f":"'RELEVE BANCAIRE'!C69","v":0},{"$f":"IF(LEFT(D68,1)=\"6\",'RELEVE BANCAIRE'!$O$2,\"\")","v":""},{"$f":"'RELEVE BANCAIRE'!K69","v":""}]
[{"$f":"'RELEVE BANCAIRE'!G70","v":"BQ4"},{"$f":"'RELEVE BANCAIRE'!A70","v":"00:00:00"},{"$f":"'RELEVE BANCAIRE'!H70","v":68},{"$f":"'RELEVE BANCAIRE'!J70","v":"47100000"},{"$f":"'RELEVE BANCAIRE'!D70*-1","v":0},{"$f":"'RELEVE BANCAIRE'!E70","v":0},{"$f":"'RELEVE BANCAIRE'!C70","v":0},{"$f":"IF(LEFT(D69,1)=\"6\",'RELEVE BANCAIRE'!$O$2,\"\")","v":""},{"$f":"'RELEVE BANCAIRE'!K70","v":""}]
[{"$f":"'RELEVE BANCAIRE'!G71","v":"BQ4"},{"$f":"'RELEVE BANCAIRE'!A71","v":"00:00:00"},{"$f":"'RELEVE BANCAIRE'!H71","v":69},{"$f":"'RELEVE BANCAIRE'!J71","v":"47100000"},{"$f":"'RELEVE BANCAIRE'!D71*-1","v":0},{"$f":"'RELEVE BANCAIRE'!E71","v":0},{"$f":"'RELEVE BANCAIRE'!C71","v":0},{"$f":"IF(LEFT(D70,1)=\"6\",'RELEVE BANCAIRE'!$O$2,\"\")","v":""},{"$f":"'RELEVE BANCAIRE'!K71","v":""}]
[{"$f":"'RELEVE BANCAIRE'!G72","v":"BQ4"},{"$f":"'RELEVE BANCAIRE'!A72","v":"00:00:00"},{"$f":"'RELEVE BANCAIRE'!H72","v":70},{"$f":"'RELEVE BANCAIRE'!J72","v":"47100000"},{"$f":"'RELEVE BANCAIRE'!D72*-1","v":0},{"$f":"'RELEVE BANCAIRE'!E72","v":0},{"$f":"'RELEVE BANCAIRE'!C72","v":0},{"$f":"IF(LEFT(D71,1)=\"6\",'RELEVE BANCAIRE'!$O$2,\"\")","v":""},{"$f":"'RELEVE BANCAIRE'!K72","v":""}]
[{"$f":"'RELEVE BANCAIRE'!G73","v":"BQ4"},{"$f":"'RELEVE BANCAIRE'!A73","v":"00:00:00"},{"$f":"'RELEVE BANCAIRE'!H73","v":71},{"$f":"'RELEVE BANCAIRE'!J73","v":"47100000"},{"$f":"'RELEVE BANCAIRE'!D73*-1","v":0},{"$f":"'RELEVE BANCAIRE'!E73","v":0},{"$f":"'RELEVE BANCAIRE'!C73","v":0},{"$f":"IF(LEFT(D72,1)=\"6\",'RELEVE BANCAIRE'!$O$2,\"\")","v":""},{"$f":"'RELEVE BANCAIRE'!K73","v":""}]
[{"$f":"'RELEVE BANCAIRE'!G74","v":"BQ4"},{"$f":"'RELEVE BANCAIRE'!A74","v":"00:00:00"},{"$f":"'RELEVE BANCAIRE'!H74","v":72},{"$f":"'RELEVE BANCAIRE'!J74","v":"47100000"},{"$f":"'RELEVE BANCAIRE'!D74*-1","v":0},{"$f":"'RELEVE BANCAIRE'!E74","v":0},{"$f":"'RELEVE BANCAIRE'!C74","v":0},{"$f":"IF(LEFT(D73,1)=\"6\",'RELEVE BANCAIRE'!$O$2,\"\")","v":""},{"$f":"'RELEVE BANCAIRE'!K74","v":""}]
[{"$f":"'RELEVE BANCAIRE'!G75","v":"BQ4"},{"$f":"'RELEVE BANCAIRE'!A75","v":"00:00:00"},{"$f":"'RELEVE BANCAIRE'!H75","v":73},{"$f":"'RELEVE BANCAIRE'!J75","v":"47100000"},{"$f":"'RELEVE BANCAIRE'!D75*-1","v":0},{"$f":"'RELEVE BANCAIRE'!E75","v":0},{"$f":"'RELEVE BANCAIRE'!C75","v":0},{"$f":"IF(LEFT(D74,1)=\"6\",'RELEVE BANCAIRE'!$O$2,\"\")","v":""},{"$f":"'RELEVE BANCAIRE'!K75","v":""}]
[{"$f":"'RELEVE BANCAIRE'!G76","v":"BQ4"},{"$f":"'RELEVE BANCAIRE'!A76","v":"00:00:00"},{"$f":"'RELEVE BANCAIRE'!H76","v":74},{"$f":"'RELEVE BANCAIRE'!J76","v":"47100000"},{"$f":"'RELEVE BANCAIRE'!D76*-1","v":0},{"$f":"'RELEVE BANCAIRE'!E76","v":0},{"$f":"'RELEVE BANCAIRE'!C76","v":0},{"$f":"IF(LEFT(D75,1)=\"6\",'RELEVE BANCAIRE'!$O$2,\"\")","v":""},{"$f":"'RELEVE BANCAIRE'!K76","v":""}]
[{"$f":"'RELEVE BANCAIRE'!G77","v":"BQ4"},{"$f":"'RELEVE BANCAIRE'!A77","v":"00:00:00"},{"$f":"'RELEVE BANCAIRE'!H77","v":75},{"$f":"'RELEVE BANCAIRE'!J77","v":"47100000"},{"$f":"'RELEVE BANCAIRE'!D77*-1","v":0},{"$f":"'RELEVE BANCAIRE'!E77","v":0},{"$f":"'RELEVE BANCAIRE'!C77","v":0},{"$f":"IF(LEFT(D76,1)=\"6\",'RELEVE BANCAIRE'!$O$2,\"\")","v":""},{"$f":"'RELEVE BANCAIRE'!K77","v":""}]
[{"$f":"'RELEVE BANCAIRE'!G78","v":"BQ4"},{"$f":"'RELEVE BANCAIRE'!A78","v":"00:00:00"},{"$f":"'RELEVE BANCAIRE'!H78","v":76},{"$f":"'RELEVE BANCAIRE'!J78","v":"47100000"},{"$f":"'RELEVE BANCAIRE'!D78*-1","v":0},{"$f":"'RELEVE BANCAIRE'!E78","v":0},{"$f":"'RELEVE BANCAIRE'!C78","v":0},{"$f":"IF(LEFT(D77,1)=\"6\",'RELEVE BANCAIRE'!$O$2,\"\")","v":""},{"$f":"'RELEVE BANCAIRE'!K78","v":""}]
[{"$f":"'RELEVE BANCAIRE'!G79","v":"BQ4"},{"$f":"'RELEVE BANCAIRE'!A79","v":"00:00:00"},{"$f":"'RELEVE BANCAIRE'!H79","v":77},{"$f":"'RELEVE BANCAIRE'!J79","v":"47100000"},{"$f":"'RELEVE BANCAIRE'!D79*-1","v":0},{"$f":"'RELEVE BANCAIRE'!E79","v":0},{"$f":"'RELEVE BANCAIRE'!C79","v":0},{"$f":"IF(LEFT(D78,1)=\"6\",'RELEVE BANCAIRE'!$O$2,\"\")","v":""},{"$f":"'RELEVE BANCAIRE'!K79","v":""}]
[{"$f":"'RELEVE BANCAIRE'!G80","v":"BQ4"},{"$f":"'RELEVE BANCAIRE'!A80","v":"00:00:00"},{"$f":"'RELEVE BANCAIRE'!H80","v":78},{"$f":"'RELEVE BANCAIRE'!J80","v":"47100000"},{"$f":"'RELEVE BANCAIRE'!D80*-1","v":0},{"$f":"'RELEVE BANCAIRE'!E80","v":0},{"$f":"'RELEVE BANCAIRE'!C80","v":0},{"$f":"IF(LEFT(D79,1)=\"6\",'RELEVE BANCAIRE'!$O$2,\"\")","v":""},{"$f":"'RELEVE BANCAIRE'!K80","v":""}]
[{"$f":"'RELEVE BANCAIRE'!G81","v":"BQ4"},{"$f":"'RELEVE BANCAIRE'!A81","v":"00:00:00"},{"$f":"'RELEVE BANCAIRE'!H81","v":79},{"$f":"'RELEVE BANCAIRE'!J81","v":"47100000"},{"$f":"'RELEVE BANCAIRE'!D81*-1","v":0},{"$f":"'RELEVE BANCAIRE'!E81","v":0},{"$f":"'RELEVE BANCAIRE'!C81","v":0},{"$f":"IF(LEFT(D80,1)=\"6\",'RELEVE BANCAIRE'!$O$2,\"\")","v":""},{"$f":"'RELEVE BANCAIRE'!K81","v":""}]
[{"$f":"'RELEVE BANCAIRE'!G82","v":"BQ4"},{"$f":"'RELEVE BANCAIRE'!A82","v":"00:00:00"},{"$f":"'RELEVE BANCAIRE'!H82","v":80},{"$f":"'RELEVE BANCAIRE'!J82","v":"47100000"},{"$f":"'RELEVE BANCAIRE'!D82*-1","v":0},{"$f":"'RELEVE BANCAIRE'!E82","v":0},{"$f":"'RELEVE BANCAIRE'!C82","v":0},{"$f":"IF(LEFT(D81,1)=\"6\",'RELEVE BANCAIRE'!$O$2,\"\")","v":""},{"$f":"'RELEVE BANCAIRE'!K82","v":""}]
[{"$f":"'RELEVE BANCAIRE'!G83","v":"BQ4"},{"$f":"'RELEVE BANCAIRE'!A83","v":"00:00:00"},{"$f":"'RELEVE BANCAIRE'!H83","v":81},{"$f":"'RELEVE BANCAIRE'!J83","v":"47100000"},{"$f":"'RELEVE BANCAIRE'!D83*-1","v":0},{"$f":"'RELEVE BANCAIRE'!E83","v":0},{"$f":"'RELEVE BANCAIRE'!C83","v":0},{"$f":"IF(LEFT(D82,1)=\"6\",'RELEVE BANCAIRE'!$O$2,\"\")","v":""},{"$f":"'RELEVE BANCAIRE'!K83","v":""}]
[{"$f":"'RELEVE BANCAIRE'!G84","v":"BQ4"},{"$f":"'RELEVE BANCAIRE'!A84","v":"00:00:00"},{"$f":"'RELEVE BANCAIRE'!H84","v":82},{"$f":"'RELEVE BANCAIRE'!J84","v":"47100000"},{"$f":"'RELEVE BANCAIRE'!D84*-1","v":0},{"$f":"'RELEVE BANCAIRE'!E84","v":0},{"$f":"'RELEVE BANCAIRE'!C84","v":0},{"$f":"IF(LEFT(D83,1)=\"6\",'RELEVE BANCAIRE'!$O$2,\"\")","v":""},{"$f":"'RELEVE BANCAIRE'!K84","v":""}]
[{"$f":"'RELEVE BANCAIRE'!G85","v":"BQ4"},{"$f":"'RELEVE BANCAIRE'!A85","v":"00:00:00"},{"$f":"'RELEVE BANCAIRE'!H85","v":83},{"$f":"'RELEVE BANCAIRE'!J85","v":"47100000"},{"$f":"'RELEVE BANCAIRE'!D85*-1","v":0},{"$f":"'RELEVE BANCAIRE'!E85","v":0},{"$f":"'RELEVE BANCAIRE'!C85","v":0},{"$f":"IF(LEFT(D84,1)=\"6\",'RELEVE BANCAIRE'!$O$2,\"\")","v":""},{"$f":"'RELEVE BANCAIRE'!K85","v":""}]
[{"$f":"'RELEVE BANCAIRE'!G86","v":"BQ4"},{"$f":"'RELEVE BANCAIRE'!A86","v":"00:00:00"},{"$f":"'RELEVE BANCAIRE'!H86","v":84},{"$f":"'RELEVE BANCAIRE'!J86","v":"47100000"},{"$f":"'RELEVE BANCAIRE'!D86*-1","v":0},{"$f":"'RELEVE BANCAIRE'!E86","v":0},{"$f":"'RELEVE BANCAIRE'!C86","v":0},{"$f":"IF(LEFT(D85,1)=\"6\",'RELEVE BANCAIRE'!$O$2,\"\")","v":""},{"$f":"'RELEVE BANCAIRE'!K86","v":""}]
[{"$f":"'RELEVE BANCAIRE'!G87","v":"BQ4"},{"$f":"'RELEVE BANCAIRE'!A87","v":"00:00:00"},{"$f":"'RELEVE BANCAIRE'!H87","v":85},{"$f":"'RELEVE BANCAIRE'!J87","v":"47100000"},{"$f":"'RELEVE BANCAIRE'!D87*-1","v":0},{"$f":"'RELEVE BANCAIRE'!E87","v":0},{"$f":"'RELEVE BANCAIRE'!C87","v":0},{"$f":"IF(LEFT(D86,1)=\"6\",'RELEVE BANCAIRE'!$O$2,\"\")","v":""},{"$f":"'RELEVE BANCAIRE'!K87","v":""}]
[{"$f":"'RELEVE BANCAIRE'!G88","v":"BQ4"},{"$f":"'RELEVE BANCAIRE'!A88","v":"00:00:00"},{"$f":"'RELEVE BANCAIRE'!H88","v":86},{"$f":"'RELEVE BANCAIRE'!J88","v":"47100000"},{"$f":"'RELEVE BANCAIRE'!D88*-1","v":0},{"$f":"'RELEVE BANCAIRE'!E88","v":0},{"$f":"'RELEVE BANCAIRE'!C88","v":0},{"$f":"IF(LEFT(D87,1)=\"6\",'RELEVE BANCAIRE'!$O$2,\"\")","v":""},{"$f":"'RELEVE BANCAIRE'!K88","v":""}]
[{"$f":"'RELEVE BANCAIRE'!G89","v":"BQ4"},{"$f":"'RELEVE BANCAIRE'!A89","v":"00:00:00"},{"$f":"'RELEVE BANCAIRE'!H89","v":87},{"$f":"'RELEVE BANCAIRE'!J89","v":"47100000"},{"$f":"'RELEVE BANCAIRE'!D89*-1","v":0},{"$f":"'RELEVE BANCAIRE'!E89","v":0},{"$f":"'RELEVE BANCAIRE'!C89","v":0},{"$f":"IF(LEFT(D88,1)=\"6\",'RELEVE BANCAIRE'!$O$2,\"\")","v":""},{"$f":"'RELEVE BANCAIRE'!K89","v":""}]
[{"$f":"'RELEVE BANCAIRE'!G90","v":"BQ4"},{"$f":"'RELEVE BANCAIRE'!A90","v":"00:00:00"},{"$f":"'RELEVE BANCAIRE'!H90","v":88},{"$f":"'RELEVE BANCAIRE'!J90","v":"47100000"},{"$f":"'RELEVE BANCAIRE'!D90*-1","v":0},{"$f":"'RELEVE BANCAIRE'!E90","v":0},{"$f":"'RELEVE BANCAIRE'!C90","v":0},{"$f":"IF(LEFT(D89,1)=\"6\",'RELEVE BANCAIRE'!$O$2,\"\")","v":""},{"$f":"'RELEVE BANCAIRE'!K90","v":""}]
[{"$f":"'RELEVE BANCAIRE'!G91","v":"BQ4"},{"$f":"'RELEVE BANCAIRE'!A91","v":"00:00:00"},{"$f":"'RELEVE BANCAIRE'!H91","v":89},{"$f":"'RELEVE BANCAIRE'!J91","v":"47100000"},{"$f":"'RELEVE BANCAIRE'!D91*-1","v":0},{"$f":"'RELEVE BANCAIRE'!E91","v":0},{"$f":"'RELEVE BANCAIRE'!C91","v":0},{"$f":"IF(LEFT(D90,1)=\"6\",'RELEVE BANCAIRE'!$O$2,\"\")","v":""},{"$f":"'RELEVE BANCAIRE'!K91","v":""}]
[{"$f":"'RELEVE BANCAIRE'!G92","v":"BQ4"},{"$f":"'RELEVE BANCAIRE'!A92","v":"00:00:00"},{"$f":"'RELEVE BANCAIRE'!H92","v":90},{"$f":"'RELEVE BANCAIRE'!J92","v":"47100000"},{"$f":"'RELEVE BANCAIRE'!D92*-1","v":0},{"$f":"'RELEVE BANCAIRE'!E92","v":0},{"$f":"'RELEVE BANCAIRE'!C92","v":0},{"$f":"IF(LEFT(D91,1)=\"6\",'RELEVE BANCAIRE'!$O$2,\"\")","v":""},{"$f":"'RELEVE BANCAIRE'!K92","v":""}]
[{"$f":"'RELEVE BANCAIRE'!G93","v":"BQ4"},{"$f":"'RELEVE BANCAIRE'!A93","v":"00:00:00"},{"$f":"'RELEVE BANCAIRE'!H93","v":91},{"$f":"'RELEVE BANCAIRE'!J93","v":"47100000"},{"$f":"'RELEVE BANCAIRE'!D93*-1","v":0},{"$f":"'RELEVE BANCAIRE'!E93","v":0},{"$f":"'RELEVE BANCAIRE'!C93","v":0},{"$f":"IF(LEFT(D92,1)=\"6\",'RELEVE BANCAIRE'!$O$2,\"\")","v":""},{"$f":"'RELEVE BANCAIRE'!K93","v":""}]
[{"$f":"'RELEVE BANCAIRE'!G94","v":"BQ4"},{"$f":"'RELEVE BANCAIRE'!A94","v":"00:00:00"},{"$f":"'RELEVE BANCAIRE'!H94","v":92},{"$f":"'RELEVE BANCAIRE'!J94","v":"47100000"},{"$f":"'RELEVE BANCAIRE'!D94*-1","v":0},{"$f":"'RELEVE BANCAIRE'!E94","v":0},{"$f":"'RELEVE BANCAIRE'!C94","v":0},{"$f":"IF(LEFT(D93,1)=\"6\",'RELEVE BANCAIRE'!$O$2,\"\")","v":""},{"$f":"'RELEVE BANCAIRE'!K94","v":""}]
[{"$f":"'RELEVE BANCAIRE'!G95","v":"BQ4"},{"$f":"'RELEVE BANCAIRE'!A95","v":"00:00:00"},{"$f":"'RELEVE BANCAIRE'!H95","v":93},{"$f":"'RELEVE BANCAIRE'!J95","v":"47100000"},{"$f":"'RELEVE BANCAIRE'!D95*-1","v":0},{"$f":"'RELEVE BANCAIRE'!E95","v":0},{"$f":"'RELEVE BANCAIRE'!C95","v":0},{"$f":"IF(LEFT(D94,1)=\"6\",'RELEVE BANCAIRE'!$O$2,\"\")","v":""},{"$f":"'RELEVE BANCAIRE'!K95","v":""}]
[{"$f":"'RELEVE BANCAIRE'!G96","v":"BQ4"},{"$f":"'RELEVE BANCAIRE'!A96","v":"00:00:00"},{"$f":"'RELEVE BANCAIRE'!H96","v":94},{"$f":"'RELEVE BANCAIRE'!J96","v":"47100000"},{"$f":"'RELEVE BANCAIRE'!D96*-1","v":0},{"$f":"'RELEVE BANCAIRE'!E96","v":0},{"$f":"'RELEVE BANCAIRE'!C96","v":0},{"$f":"IF(LEFT(D95,1)=\"6\",'RELEVE BANCAIRE'!$O$2,\"\")","v":""},{"$f":"'RELEVE BANCAIRE'!K96","v":""}]
[{"$f":"'RELEVE BANCAIRE'!G97","v":"BQ4"},{"$f":"'RELEVE BANCAIRE'!A97","v":"00:00:00"},{"$f":"'RELEVE BANCAIRE'!H97","v":95},{"$f":"'RELEVE BANCAIRE'!J97","v":"47100000"},{"$f":"'RELEVE BANCAIRE'!D97*-1","v":0},{"$f":"'RELEVE BANCAIRE'!E97","v":0},{"$f":"'RELEVE BANCAIRE'!C97","v":0},{"$f":"IF(LEFT(D96,1)=\"6\",'RELEVE BANCAIRE'!$O$2,\"\")","v":""},{"$f":"'RELEVE BANCAIRE'!K97","v":""}]
[{"$f":"'RELEVE BANCAIRE'!G98","v":"BQ4"},{"$f":"'RELEVE BANCAIRE'!A98","v":"00:00:00"},{"$f":"'RELEVE BANCAIRE'!H98","v":96},{"$f":"'RELEVE BANCAIRE'!J98","v":"47100000"},{"$f":"'RELEVE BANCAIRE'!D98*-1","v":0},{"$f":"'RELEVE BANCAIRE'!E98","v":0},{"$f":"'RELEVE BANCAIRE'!C98","v":0},{"$f":"IF(LEFT(D97,1)=\"6\",'RELEVE BANCAIRE'!$O$2,\"\")","v":""},{"$f":"'RELEVE BANCAIRE'!K98","v":""}]
[{"$f":"'RELEVE BANCAIRE'!G99","v":"BQ4"},{"$f":"'RELEVE BANCAIRE'!A99","v":"00:00:00"},{"$f":"'RELEVE BANCAIRE'!H99","v":97},{"$f":"'RELEVE BANCAIRE'!J99","v":"47100000"},{"$f":"'RELEVE BANCAIRE'!D99*-1","v":0},{"$f":"'RELEVE BANCAIRE'!E99","v":0},{"$f":"'RELEVE BANCAIRE'!C99","v":0},{"$f":"IF(LEFT(D98,1)=\"6\",'RELEVE BANCAIRE'!$O$2,\"\")","v":""},{"$f":"'RELEVE BANCAIRE'!K99","v":""}]
[{"$f":"'RELEVE BANCAIRE'!G100","v":"BQ4"},{"$f":"'RELEVE BANCAIRE'!A100","v":"00:00:00"},{"$f":"'RELEVE BANCAIRE'!H100","v":98},{"$f":"'RELEVE BANCAIRE'!J100","v":"47100000"},{"$f":"'RELEVE BANCAIRE'!D100*-1","v":0},{"$f":"'RELEVE BANCAIRE'!E100","v":0},{"$f":"'RELEVE BANCAIRE'!C100","v":0},{"$f":"IF(LEFT(D99,1)=\"6\",'RELEVE BANCAIRE'!$O$2,\"\")","v":""},{"$f":"'RELEVE BANCAIRE'!K100","v":""}]
[{"$f":"'RELEVE BANCAIRE'!G101","v":"BQ4"},{"$f":"'RELEVE BANCAIRE'!A101","v":"00:00:00"},{"$f":"'RELEVE BANCAIRE'!H101","v":99},{"$f":"'RELEVE BANCAIRE'!J101","v":"47100000"},{"$f":"'RELEVE BANCAIRE'!D101*-1","v":0},{"$f":"'RELEVE BANCAIRE'!E101","v":0},{"$f":"'RELEVE BANCAIRE'!C101","v":0},{"$f":"IF(LEFT(D100,1)=\"6\",'RELEVE BANCAIRE'!$O$2,\"\")","v":""},{"$f":"'RELEVE BANCAIRE'!K101","v":""}]
[{"$f":"'RELEVE BANCAIRE'!G102","v":"BQ4"},{"$f":"'RELEVE BANCAIRE'!A102","v":"00:00:00"},{"$f":"'RELEVE BANCAIRE'!H102","v":100},{"$f":"'RELEVE BANCAIRE'!J102","v":"47100000"},{"$f":"'RELEVE BANCAIRE'!D102*-1","v":0},{"$f":"'RELEVE BANCAIRE'!E102","v":0},{"$f":"'RELEVE BANCAIRE'!C102","v":0},{"$f":"IF(LEFT(D101,1)=\"6\",'RELEVE BANCAIRE'!$O$2,\"\")","v":""},{"$f":"'RELEVE BANCAIRE'!K102","v":""}]
[{"$f":"'RELEVE BANCAIRE'!G103","v":"BQ4"},{"$f":"'RELEVE BANCAIRE'!A103","v":"00:00:00"},{"$f":"'RELEVE BANCAIRE'!H103","v":101},{"$f":"'RELEVE BANCAIRE'!J103","v":"47100000"},{"$f":"'RELEVE BANCAIRE'!D103*-1","v":0},{"$f":"'RELEVE BANCAIRE'!E103","v":0},{"$f":"'RELEVE BANCAIRE'!C103","v":0},{"$f":"IF(LEFT(D102,1)=\"6\",'RELEVE BANCAIRE'!$O$2,\"\")","v":""},{"$f":"'RELEVE BANCAIRE'!K103","v":""}]
[{"$f":"'RELEVE BANCAIRE'!G104","v":"BQ4"},{"$f":"'RELEVE BANCAIRE'!A104","v":"00:00:00"},{"$f":"'RELEVE BANCAIRE'!H104","v":102},{"$f":"'RELEVE BANCAIRE'!J104","v":"47100000"},{"$f":"'RELEVE BANCAIRE'!D104*-1","v":0},{"$f":"'RELEVE BANCAIRE'!E104","v":0},{"$f":"'RELEVE BANCAIRE'!C104","v":0},{"$f":"IF(LEFT(D103,1)=\"6\",'RELEVE BANCAIRE'!$O$2,\"\")","v":""},{"$f":"'RELEVE BANCAIRE'!K104","v":""}]
[{"$f":"'RELEVE BANCAIRE'!G105","v":"BQ4"},{"$f":"'RELEVE BANCAIRE'!A105","v":"00:00:00"},{"$f":"'RELEVE BANCAIRE'!H105","v":103},{"$f":"'RELEVE BANCAIRE'!J105","v":"47100000"},{"$f":"'RELEVE BANCAIRE'!D105*-1","v":0},{"$f":"'RELEVE BANCAIRE'!E105","v":0},{"$f":"'RELEVE BANCAIRE'!C105","v":0},{"$f":"IF(LEFT(D104,1)=\"6\",'RELEVE BANCAIRE'!$O$2,\"\")","v":""},{"$f":"'RELEVE BANCAIRE'!K105","v":""}]
[{"$f":"'RELEVE BANCAIRE'!G106","v":"BQ4"},{"$f":"'RELEVE BANCAIRE'!A106","v":"00:00:00"},{"$f":"'RELEVE BANCAIRE'!H106","v":104},{"$f":"'RELEVE BANCAIRE'!J106","v":"47100000"},{"$f":"'RELEVE BANCAIRE'!D106*-1","v":0},{"$f":"'RELEVE BANCAIRE'!E106","v":0},{"$f":"'RELEVE BANCAIRE'!C106","v":0},{"$f":"IF(LEFT(D105,1)=\"6\",'RELEVE BANCAIRE'!$O$2,\"\")","v":""},{"$f":"'RELEVE BANCAIRE'!K106","v":""}]
[{"$f":"'RELEVE BANCAIRE'!G107","v":"BQ4"},{"$f":"'RELEVE BANCAIRE'!A107","v":"00:00:00"},{"$f":"'RELEVE BANCAIRE'!H107","v":105},{"$f":"'RELEVE BANCAIRE'!J107","v":"47100000"},{"$f":"'RELEVE BANCAIRE'!D107*-1","v":0},{"$f":"'RELEVE BANCAIRE'!E107","v":0},{"$f":"'RELEVE BANCAIRE'!C107","v":0},{"$f":"IF(LEFT(D106,1)=\"6\",'RELEVE BANCAIRE'!$O$2,\"\")","v":""},{"$f":"'RELEVE BANCAIRE'!K107","v":""}]
[{"$f":"'RELEVE BANCAIRE'!G108","v":"BQ4"},{"$f":"'RELEVE BANCAIRE'!A108","v":"00:00:00"},{"$f":"'RELEVE BANCAIRE'!H108","v":106},{"$f":"'RELEVE BANCAIRE'!J108","v":"47100000"},{"$f":"'RELEVE BANCAIRE'!D108*-1","v":0},{"$f":"'RELEVE BANCAIRE'!E108","v":0},{"$f":"'RELEVE BANCAIRE'!C108","v":0},{"$f":"IF(LEFT(D107,1)=\"6\",'RELEVE BANCAIRE'!$O$2,\"\")","v":""},{"$f":"'RELEVE BANCAIRE'!K108","v":""}]
[{"$f":"'RELEVE BANCAIRE'!G109","v":"BQ4"},{"$f":"'RELEVE BANCAIRE'!A109","v":"00:00:00"},{"$f":"'RELEVE BANCAIRE'!H109","v":107},{"$f":"'RELEVE BANCAIRE'!J109","v":"47100000"},{"$f":"'RELEVE BANCAIRE'!D109*-1","v":0},{"$f":"'RELEVE BANCAIRE'!E109","v":0},{"$f":"'RELEVE BANCAIRE'!C109","v":0},{"$f":"IF(LEFT(D108,1)=\"6\",'RELEVE BANCAIRE'!$O$2,\"\")","v":""},{"$f":"'RELEVE BANCAIRE'!K109","v":""}]
[{"$f":"'RELEVE BANCAIRE'!G110","v":"BQ4"},{"$f":"'RELEVE BANCAIRE'!A110","v":"00:00:00"},{"$f":"'RELEVE BANCAIRE'!H110","v":108},{"$f":"'RELEVE BANCAIRE'!J110","v":"47100000"},{"$f":"'RELEVE BANCAIRE'!D110*-1","v":0},{"$f":"'RELEVE BANCAIRE'!E110","v":0},{"$f":"'RELEVE BANCAIRE'!C110","v":0},{"$f":"IF(LEFT(D109,1)=\"6\",'RELEVE BANCAIRE'!$O$2,\"\")","v":""},{"$f":"'RELEVE BANCAIRE'!K110","v":""}]
[{"$f":"'RELEVE BANCAIRE'!G111","v":"BQ4"},{"$f":"'RELEVE BANCAIRE'!A111","v":"00:00:00"},{"$f":"'RELEVE BANCAIRE'!H111","v":109},{"$f":"'RELEVE BANCAIRE'!J111","v":"47100000"},{"$f":"'RELEVE BANCAIRE'!D111*-1","v":0},{"$f":"'RELEVE BANCAIRE'!E111","v":0},{"$f":"'RELEVE BANCAIRE'!C111","v":0},{"$f":"IF(LEFT(D110,1)=\"6\",'RELEVE BANCAIRE'!$O$2,\"\")","v":""},{"$f":"'RELEVE BANCAIRE'!K111","v":""}]
[{"$f":"'RELEVE BANCAIRE'!G112","v":"BQ4"},{"$f":"'RELEVE BANCAIRE'!A112","v":"00:00:00"},{"$f":"'RELEVE BANCAIRE'!H112","v":110},{"$f":"'RELEVE BANCAIRE'!J112","v":"47100000"},{"$f":"'RELEVE BANCAIRE'!D112*-1","v":0},{"$f":"'RELEVE BANCAIRE'!E112","v":0},{"$f":"'RELEVE BANCAIRE'!C112","v":0},{"$f":"IF(LEFT(D111,1)=\"6\",'RELEVE BANCAIRE'!$O$2,\"\")","v":""},{"$f":"'RELEVE BANCAIRE'!K112","v":""}]
[{"$f":"'RELEVE BANCAIRE'!G113","v":"BQ4"},{"$f":"'RELEVE BANCAIRE'!A113","v":"00:00:00"},{"$f":"'RELEVE BANCAIRE'!H113","v":111},{"$f":"'RELEVE BANCAIRE'!J113","v":"47100000"},{"$f":"'RELEVE BANCAIRE'!D113*-1","v":0},{"$f":"'RELEVE BANCAIRE'!E113","v":0},{"$f":"'RELEVE BANCAIRE'!C113","v":0},{"$f":"IF(LEFT(D112,1)=\"6\",'RELEVE BANCAIRE'!$O$2,\"\")","v":""},{"$f":"'RELEVE BANCAIRE'!K113","v":""}]
[{"$f":"'RELEVE BANCAIRE'!G114","v":"BQ4"},{"$f":"'RELEVE BANCAIRE'!A114","v":"00:00:00"},{"$f":"'RELEVE BANCAIRE'!H114","v":112},{"$f":"'RELEVE BANCAIRE'!J114","v":"47100000"},{"$f":"'RELEVE BANCAIRE'!D114*-1","v":0},{"$f":"'RELEVE BANCAIRE'!E114","v":0},{"$f":"'RELEVE BANCAIRE'!C114","v":0},{"$f":"IF(LEFT(D113,1)=\"6\",'RELEVE BANCAIRE'!$O$2,\"\")","v":""},{"$f":"'RELEVE BANCAIRE'!K114","v":""}]
[{"$f":"'RELEVE BANCAIRE'!G115","v":"BQ4"},{"$f":"'RELEVE BANCAIRE'!A115","v":"00:00:00"},{"$f":"'RELEVE BANCAIRE'!H115","v":113},{"$f":"'RELEVE BANCAIRE'!J115","v":"47100000"},{"$f":"'RELEVE BANCAIRE'!D115*-1","v":0},{"$f":"'RELEVE BANCAIRE'!E115","v":0},{"$f":"'RELEVE BANCAIRE'!C115","v":0},{"$f":"IF(LEFT(D114,1)=\"6\",'RELEVE BANCAIRE'!$O$2,\"\")","v":""},{"$f":"'RELEVE BANCAIRE'!K115","v":""}]
[{"$f":"'RELEVE BANCAIRE'!G116","v":"BQ4"},{"$f":"'RELEVE BANCAIRE'!A116","v":"00:00:00"},{"$f":"'RELEVE BANCAIRE'!H116","v":114},{"$f":"'RELEVE BANCAIRE'!J116","v":"47100000"},{"$f":"'RELEVE BANCAIRE'!D116*-1","v":0},{"$f":"'RELEVE BANCAIRE'!E116","v":0},{"$f":"'RELEVE BANCAIRE'!C116","v":0},{"$f":"IF(LEFT(D115,1)=\"6\",'RELEVE BANCAIRE'!$O$2,\"\")","v":""},{"$f":"'RELEVE BANCAIRE'!K116","v":""}]
[{"$f":"'RELEVE BANCAIRE'!G117","v":"BQ4"},{"$f":"'RELEVE BANCAIRE'!A117","v":"00:00:00"},{"$f":"'RELEVE BANCAIRE'!H117","v":115},{"$f":"'RELEVE BANCAIRE'!J117","v":"47100000"},{"$f":"'RELEVE BANCAIRE'!D117*-1","v":0},{"$f":"'RELEVE BANCAIRE'!E117","v":0},{"$f":"'RELEVE BANCAIRE'!C117","v":0},{"$f":"IF(LEFT(D116,1)=\"6\",'RELEVE BANCAIRE'!$O$2,\"\")","v":""},{"$f":"'RELEVE BANCAIRE'!K117","v":""}]
[{"$f":"'RELEVE BANCAIRE'!G118","v":"BQ4"},{"$f":"'RELEVE BANCAIRE'!A118","v":"00:00:00"},{"$f":"'RELEVE BANCAIRE'!H118","v":116},{"$f":"'RELEVE BANCAIRE'!J118","v":"47100000"},{"$f":"'RELEVE BANCAIRE'!D118*-1","v":0},{"$f":"'RELEVE BANCAIRE'!E118","v":0},{"$f":"'RELEVE BANCAIRE'!C118","v":0},{"$f":"IF(LEFT(D117,1)=\"6\",'RELEVE BANCAIRE'!$O$2,\"\")","v":""},{"$f":"'RELEVE BANCAIRE'!K118","v":""}]
[{"$f":"'RELEVE BANCAIRE'!G119","v":"BQ4"},{"$f":"'RELEVE BANCAIRE'!A119","v":"00:00:00"},{"$f":"'RELEVE BANCAIRE'!H119","v":117},{"$f":"'RELEVE BANCAIRE'!J119","v":"47100000"},{"$f":"'RELEVE BANCAIRE'!D119*-1","v":0},{"$f":"'RELEVE BANCAIRE'!E119","v":0},{"$f":"'RELEVE BANCAIRE'!C119","v":0},{"$f":"IF(LEFT(D118,1)=\"6\",'RELEVE BANCAIRE'!$O$2,\"\")","v":""},{"$f":"'RELEVE BANCAIRE'!K119","v":""}]
[{"$f":"'RELEVE BANCAIRE'!G120","v":"BQ4"},{"$f":"'RELEVE BANCAIRE'!A120","v":"00:00:00"},{"$f":"'RELEVE BANCAIRE'!H120","v":118},{"$f":"'RELEVE BANCAIRE'!J120","v":"47100000"},{"$f":"'RELEVE BANCAIRE'!D120*-1","v":0},{"$f":"'RELEVE BANCAIRE'!E120","v":0},{"$f":"'RELEVE BANCAIRE'!C120","v":0},{"$f":"IF(LEFT(D119,1)=\"6\",'RELEVE BANCAIRE'!$O$2,\"\")","v":""},{"$f":"'RELEVE BANCAIRE'!K120","v":""}]
[{"$f":"'RELEVE BANCAIRE'!G121","v":"BQ4"},{"$f":"'RELEVE BANCAIRE'!A121","v":"00:00:00"},{"$f":"'RELEVE BANCAIRE'!H121","v":119},{"$f":"'RELEVE BANCAIRE'!J121","v":"47100000"},{"$f":"'RELEVE BANCAIRE'!D121*-1","v":0},{"$f":"'RELEVE BANCAIRE'!E121","v":0},{"$f":"'RELEVE BANCAIRE'!C121","v":0},{"$f":"IF(LEFT(D120,1)=\"6\",'RELEVE BANCAIRE'!$O$2,\"\")","v":""},{"$f":"'RELEVE BANCAIRE'!K121","v":""}]
[{"$f":"'RELEVE BANCAIRE'!G122","v":"BQ4"},{"$f":"'RELEVE BANCAIRE'!A122","v":"00:00:00"},{"$f":"'RELEVE BANCAIRE'!H122","v":120},{"$f":"'RELEVE BANCAIRE'!J122","v":"47100000"},{"$f":"'RELEVE BANCAIRE'!D122*-1","v":0},{"$f":"'RELEVE BANCAIRE'!E122","v":0},{"$f":"'RELEVE BANCAIRE'!C122","v":0},{"$f":"IF(LEFT(D121,1)=\"6\",'RELEVE BANCAIRE'!$O$2,\"\")","v":""},{"$f":"'RELEVE BANCAIRE'!K122","v":""}]
[{"$f":"'RELEVE BANCAIRE'!G123","v":"BQ4"},{"$f":"'RELEVE BANCAIRE'!A123","v":"00:00:00"},{"$f":"'RELEVE BANCAIRE'!H123","v":121},{"$f":"'RELEVE BANCAIRE'!J123","v":"47100000"},{"$f":"'RELEVE BANCAIRE'!D123*-1","v":0},{"$f":"'RELEVE BANCAIRE'!E123","v":0},{"$f":"'RELEVE BANCAIRE'!C123","v":0},{"$f":"IF(LEFT(D122,1)=\"6\",'RELEVE BANCAIRE'!$O$2,\"\")","v":""},{"$f":"'RELEVE BANCAIRE'!K123","v":""}]
[{"$f":"'RELEVE BANCAIRE'!G124","v":"BQ4"},{"$f":"'RELEVE BANCAIRE'!A124","v":"00:00:00"},{"$f":"'RELEVE BANCAIRE'!H124","v":122},{"$f":"'RELEVE BANCAIRE'!J124","v":"47100000"},{"$f":"'RELEVE BANCAIRE'!D124*-1","v":0},{"$f":"'RELEVE BANCAIRE'!E124","v":0},{"$f":"'RELEVE BANCAIRE'!C124","v":0},{"$f":"IF(LEFT(D123,1)=\"6\",'RELEVE BANCAIRE'!$O$2,\"\")","v":""},{"$f":"'RELEVE BANCAIRE'!K124","v":""}]
[{"$f":"'RELEVE BANCAIRE'!G125","v":"BQ4"},{"$f":"'RELEVE BANCAIRE'!A125","v":"00:00:00"},{"$f":"'RELEVE BANCAIRE'!H125","v":123},{"$f":"'RELEVE BANCAIRE'!J125","v":"47100000"},{"$f":"'RELEVE BANCAIRE'!D125*-1","v":0},{"$f":"'RELEVE BANCAIRE'!E125","v":0},{"$f":"'RELEVE BANCAIRE'!C125","v":0},{"$f":"IF(LEFT(D124,1)=\"6\",'RELEVE BANCAIRE'!$O$2,\"\")","v":""},{"$f":"'RELEVE BANCAIRE'!K125","v":""}]
[{"$f":"'RELEVE BANCAIRE'!G126","v":"BQ4"},{"$f":"'RELEVE BANCAIRE'!A126","v":"00:00:00"},{"$f":"'RELEVE BANCAIRE'!H126","v":124},{"$f":"'RELEVE BANCAIRE'!J126","v":"47100000"},{"$f":"'RELEVE BANCAIRE'!D126*-1","v":0},{"$f":"'RELEVE BANCAIRE'!E126","v":0},{"$f":"'RELEVE BANCAIRE'!C126","v":0},{"$f":"IF(LEFT(D125,1)=\"6\",'RELEVE BANCAIRE'!$O$2,\"\")","v":""},{"$f":"'RELEVE BANCAIRE'!K126","v":""}]
[{"$f":"'RELEVE BANCAIRE'!G127","v":"BQ4"},{"$f":"'RELEVE BANCAIRE'!A127","v":"00:00:00"},{"$f":"'RELEVE BANCAIRE'!H127","v":125},{"$f":"'RELEVE BANCAIRE'!J127","v":"47100000"},{"$f":"'RELEVE BANCAIRE'!D127*-1","v":0},{"$f":"'RELEVE BANCAIRE'!E127","v":0},{"$f":"'RELEVE BANCAIRE'!C127","v":0},{"$f":"IF(LEFT(D126,1)=\"6\",'RELEVE BANCAIRE'!$O$2,\"\")","v":""},{"$f":"'RELEVE BANCAIRE'!K127","v":""}]
[{"$f":"'RELEVE BANCAIRE'!G128","v":"BQ4"},{"$f":"'RELEVE BANCAIRE'!A128","v":"00:00:00"},{"$f":"'RELEVE BANCAIRE'!H128","v":126},{"$f":"'RELEVE BANCAIRE'!J128","v":"47100000"},{"$f":"'RELEVE BANCAIRE'!D128*-1","v":0},{"$f":"'RELEVE BANCAIRE'!E128","v":0},{"$f":"'RELEVE BANCAIRE'!C128","v":0},{"$f":"IF(LEFT(D127,1)=\"6\",'RELEVE BANCAIRE'!$O$2,\"\")","v":""},{"$f":"'RELEVE BANCAIRE'!K128","v":""}]
[{"$f":"'RELEVE BANCAIRE'!G129","v":"BQ4"},{"$f":"'RELEVE BANCAIRE'!A129","v":"00:00:00"},{"$f":"'RELEVE BANCAIRE'!H129","v":127},{"$f":"'RELEVE BANCAIRE'!J129","v":"47100000"},{"$f":"'RELEVE BANCAIRE'!D129*-1","v":0},{"$f":"'RELEVE BANCAIRE'!E129","v":0},{"$f":"'RELEVE BANCAIRE'!C129","v":0},{"$f":"IF(LEFT(D128,1)=\"6\",'RELEVE BANCAIRE'!$O$2,\"\")","v":""},{"$f":"'RELEVE BANCAIRE'!K129","v":""}]
[{"$f":"'RELEVE BANCAIRE'!G130","v":"BQ4"},{"$f":"'RELEVE BANCAIRE'!A130","v":"00:00:00"},{"$f":"'RELEVE BANCAIRE'!H130","v":128},{"$f":"'RELEVE BANCAIRE'!J130","v":"47100000"},{"$f":"'RELEVE BANCAIRE'!D130*-1","v":0},{"$f":"'RELEVE BANCAIRE'!E130","v":0},{"$f":"'RELEVE BANCAIRE'!C130","v":0},{"$f":"IF(LEFT(D129,1)=\"6\",'RELEVE BANCAIRE'!$O$2,\"\")","v":""},{"$f":"'RELEVE BANCAIRE'!K130","v":""}]
[{"$f":"'RELEVE BANCAIRE'!G131","v":"BQ4"},{"$f":"'RELEVE BANCAIRE'!A131","v":"00:00:00"},{"$f":"'RELEVE BANCAIRE'!H131","v":129},{"$f":"'RELEVE BANCAIRE'!J131","v":"47100000"},{"$f":"'RELEVE BANCAIRE'!D131*-1","v":0},{"$f":"'RELEVE BANCAIRE'!E131","v":0},{"$f":"'RELEVE BANCAIRE'!C131","v":0},{"$f":"IF(LEFT(D130,1)=\"6\",'RELEVE BANCAIRE'!$O$2,\"\")","v":""},{"$f":"'RELEVE BANCAIRE'!K131","v":""}]
[{"$f":"'RELEVE BANCAIRE'!G132","v":"BQ4"},{"$f":"'RELEVE BANCAIRE'!A132","v":"00:00:00"},{"$f":"'RELEVE BANCAIRE'!H132","v":130},{"$f":"'RELEVE BANCAIRE'!J132","v":"47100000"},{"$f":"'RELEVE BANCAIRE'!D132*-1","v":0},{"$f":"'RELEVE BANCAIRE'!E132","v":0},{"$f":"'RELEVE BANCAIRE'!C132","v":0},{"$f":"IF(LEFT(D131,1)=\"6\",'RELEVE BANCAIRE'!$O$2,\"\")","v":""},{"$f":"'RELEVE BANCAIRE'!K132","v":""}]
[{"$f":"'RELEVE BANCAIRE'!G133","v":"BQ4"},{"$f":"'RELEVE BANCAIRE'!A133","v":"00:00:00"},{"$f":"'RELEVE BANCAIRE'!H133","v":131},{"$f":"'RELEVE BANCAIRE'!J133","v":"47100000"},{"$f":"'RELEVE BANCAIRE'!D133*-1","v":0},{"$f":"'RELEVE BANCAIRE'!E133","v":0},{"$f":"'RELEVE BANCAIRE'!C133","v":0},{"$f":"IF(LEFT(D132,1)=\"6\",'RELEVE BANCAIRE'!$O$2,\"\")","v":""},{"$f":"'RELEVE BANCAIRE'!K133","v":""}]
[{"$f":"'RELEVE BANCAIRE'!G134","v":"BQ4"},{"$f":"'RELEVE BANCAIRE'!A134","v":"00:00:00"},{"$f":"'RELEVE BANCAIRE'!H134","v":132},{"$f":"'RELEVE BANCAIRE'!J134","v":"47100000"},{"$f":"'RELEVE BANCAIRE'!D134*-1","v":0},{"$f":"'RELEVE BANCAIRE'!E134","v":0},{"$f":"'RELEVE BANCAIRE'!C134","v":0},{"$f":"IF(LEFT(D133,1)=\"6\",'RELEVE BANCAIRE'!$O$2,\"\")","v":""},{"$f":"'RELEVE BANCAIRE'!K134","v":""}]
[{"$f":"'RELEVE BANCAIRE'!G135","v":"BQ4"},{"$f":"'RELEVE BANCAIRE'!A135","v":"00:00:00"},{"$f":"'RELEVE BANCAIRE'!H135","v":133},{"$f":"'RELEVE BANCAIRE'!J135","v":"47100000"},{"$f":"'RELEVE BANCAIRE'!D135*-1","v":0},{"$f":"'RELEVE BANCAIRE'!E135","v":0},{"$f":"'RELEVE BANCAIRE'!C135","v":0},{"$f":"IF(LEFT(D134,1)=\"6\",'RELEVE BANCAIRE'!$O$2,\"\")","v":""},{"$f":"'RELEVE BANCAIRE'!K135","v":""}]
[{"$f":"'RELEVE BANCAIRE'!G136","v":"BQ4"},{"$f":"'RELEVE BANCAIRE'!A136","v":"00:00:00"},{"$f":"'RELEVE BANCAIRE'!H136","v":134},{"$f":"'RELEVE BANCAIRE'!J136","v":"47100000"},{"$f":"'RELEVE BANCAIRE'!D136*-1","v":0},{"$f":"'RELEVE BANCAIRE'!E136","v":0},{"$f":"'RELEVE BANCAIRE'!C136","v":0},{"$f":"IF(LEFT(D135,1)=\"6\",'RELEVE BANCAIRE'!$O$2,\"\")","v":""},{"$f":"'RELEVE BANCAIRE'!K136","v":""}]
[{"$f":"'RELEVE BANCAIRE'!G137","v":"BQ4"},{"$f":"'RELEVE BANCAIRE'!A137","v":"00:00:00"},{"$f":"'RELEVE BANCAIRE'!H137","v":135},{"$f":"'RELEVE BANCAIRE'!J137","v":"47100000"},{"$f":"'RELEVE BANCAIRE'!D137*-1","v":0},{"$f":"'RELEVE BANCAIRE'!E137","v":0},{"$f":"'RELEVE BANCAIRE'!C137","v":0},{"$f":"IF(LEFT(D136,1)=\"6\",'RELEVE BANCAIRE'!$O$2,\"\")","v":""},{"$f":"'RELEVE BANCAIRE'!K137","v":""}]
[{"$f":"'RELEVE BANCAIRE'!G138","v":"BQ4"},{"$f":"'RELEVE BANCAIRE'!A138","v":"00:00:00"},{"$f":"'RELEVE BANCAIRE'!H138","v":136},{"$f":"'RELEVE BANCAIRE'!J138","v":"47100000"},{"$f":"'RELEVE BANCAIRE'!D138*-1","v":0},{"$f":"'RELEVE BANCAIRE'!E138","v":0},{"$f":"'RELEVE BANCAIRE'!C138","v":0},{"$f":"IF(LEFT(D137,1)=\"6\",'RELEVE BANCAIRE'!$O$2,\"\")","v":""},{"$f":"'RELEVE BANCAIRE'!K138","v":""}]
[{"$f":"'RELEVE BANCAIRE'!G139","v":"BQ4"},{"$f":"'RELEVE BANCAIRE'!A139","v":"00:00:00"},{"$f":"'RELEVE BANCAIRE'!H139","v":137},{"$f":"'RELEVE BANCAIRE'!J139","v":"47100000"},{"$f":"'RELEVE BANCAIRE'!D139*-1","v":0},{"$f":"'RELEVE BANCAIRE'!E139","v":0},{"$f":"'RELEVE BANCAIRE'!C139","v":0},{"$f":"IF(LEFT(D138,1)=\"6\",'RELEVE BANCAIRE'!$O$2,\"\")","v":""},{"$f":"'RELEVE BANCAIRE'!K139","v":""}]
[{"$f":"'RELEVE BANCAIRE'!G140","v":"BQ4"},{"$f":"'RELEVE BANCAIRE'!A140","v":"00:00:00"},{"$f":"'RELEVE BANCAIRE'!H140","v":138},{"$f":"'RELEVE BANCAIRE'!J140","v":"47100000"},{"$f":"'RELEVE BANCAIRE'!D140*-1","v":0},{"$f":"'RELEVE BANCAIRE'!E140","v":0},{"$f":"'RELEVE BANCAIRE'!C140","v":0},{"$f":"IF(LEFT(D139,1)=\"6\",'RELEVE BANCAIRE'!$O$2,\"\")","v":""},{"$f":"'RELEVE BANCAIRE'!K140","v":""}]
[{"$f":"'RELEVE BANCAIRE'!G141","v":"BQ4"},{"$f":"'RELEVE BANCAIRE'!A141","v":"00:00:00"},{"$f":"'RELEVE BANCAIRE'!H141","v":139},{"$f":"'RELEVE BANCAIRE'!J141","v":"47100000"},{"$f":"'RELEVE BANCAIRE'!D141*-1","v":0},{"$f":"'RELEVE BANCAIRE'!E141","v":0},{"$f":"'RELEVE BANCAIRE'!C141","v":0},{"$f":"IF(LEFT(D140,1)=\"6\",'RELEVE BANCAIRE'!$O$2,\"\")","v":""},{"$f":"'RELEVE BANCAIRE'!K141","v":""}]
[{"$f":"'RELEVE BANCAIRE'!G142","v":"BQ4"},{"$f":"'RELEVE BANCAIRE'!A142","v":"00:00:00"},{"$f":"'RELEVE BANCAIRE'!H142","v":140},{"$f":"'RELEVE BANCAIRE'!J142","v":"47100000"},{"$f":"'RELEVE BANCAIRE'!D142*-1","v":0},{"$f":"'RELEVE BANCAIRE'!E142","v":0},{"$f":"'RELEVE BANCAIRE'!C142","v":0},{"$f":"IF(LEFT(D141,1)=\"6\",'RELEVE BANCAIRE'!$O$2,\"\")","v":""},{"$f":"'RELEVE BANCAIRE'!K142","v":""}]
[{"$f":"'RELEVE BANCAIRE'!G143","v":"BQ4"},{"$f":"'RELEVE BANCAIRE'!A143","v":"00:00:00"},{"$f":"'RELEVE BANCAIRE'!H143","v":141},{"$f":"'RELEVE BANCAIRE'!J143","v":"47100000"},{"$f":"'RELEVE BANCAIRE'!D143*-1","v":0},{"$f":"'RELEVE BANCAIRE'!E143","v":0},{"$f":"'RELEVE BANCAIRE'!C143","v":0},{"$f":"IF(LEFT(D142,1)=\"6\",'RELEVE BANCAIRE'!$O$2,\"\")","v":""},{"$f":"'RELEVE BANCAIRE'!K143","v":""}]
[{"$f":"'RELEVE BANCAIRE'!G144","v":"BQ4"},{"$f":"'RELEVE BANCAIRE'!A144","v":"00:00:00"},{"$f":"'RELEVE BANCAIRE'!H144","v":142},{"$f":"'RELEVE BANCAIRE'!J144","v":"47100000"},{"$f":"'RELEVE BANCAIRE'!D144*-1","v":0},{"$f":"'RELEVE BANCAIRE'!E144","v":0},{"$f":"'RELEVE BANCAIRE'!C144","v":0},{"$f":"IF(LEFT(D143,1)=\"6\",'RELEVE BANCAIRE'!$O$2,\"\")","v":""},{"$f":"'RELEVE BANCAIRE'!K144","v":""}]
[{"$f":"'RELEVE BANCAIRE'!G145","v":"BQ4"},{"$f":"'RELEVE BANCAIRE'!A145","v":"00:00:00"},{"$f":"'RELEVE BANCAIRE'!H145","v":143},{"$f":"'RELEVE BANCAIRE'!J145","v":"47100000"},{"$f":"'RELEVE BANCAIRE'!D145*-1","v":0},{"$f":"'RELEVE BANCAIRE'!E145","v":0},{"$f":"'RELEVE BANCAIRE'!C145","v":0},{"$f":"IF(LEFT(D144,1)=\"6\",'RELEVE BANCAIRE'!$O$2,\"\")","v":""},{"$f":"'RELEVE BANCAIRE'!K145","v":""}]
[{"$f":"'RELEVE BANCAIRE'!G146","v":"BQ4"},{"$f":"'RELEVE BANCAIRE'!A146","v":"00:00:00"},{"$f":"'RELEVE BANCAIRE'!H146","v":144},{"$f":"'RELEVE BANCAIRE'!J146","v":"47100000"},{"$f":"'RELEVE BANCAIRE'!D146*-1","v":0},{"$f":"'RELEVE BANCAIRE'!E146","v":0},{"$f":"'RELEVE BANCAIRE'!C146","v":0},{"$f":"IF(LEFT(D145,1)=\"6\",'RELEVE BANCAIRE'!$O$2,\"\")","v":""},{"$f":"'RELEVE BANCAIRE'!K146","v":""}]
[{"$f":"'RELEVE BANCAIRE'!G147","v":"BQ4"},{"$f":"'RELEVE BANCAIRE'!A147","v":"00:00:00"},{"$f":"'RELEVE BANCAIRE'!H147","v":145},{"$f":"'RELEVE BANCAIRE'!J147","v":"47100000"},{"$f":"'RELEVE BANCAIRE'!D147*-1","v":0},{"$f":"'RELEVE BANCAIRE'!E147","v":0},{"$f":"'RELEVE BANCAIRE'!C147","v":0},{"$f":"IF(LEFT(D146,1)=\"6\",'RELEVE BANCAIRE'!$O$2,\"\")","v":""},{"$f":"'RELEVE BANCAIRE'!K147","v":""}]
[{"$f":"'RELEVE BANCAIRE'!G148","v":"BQ4"},{"$f":"'RELEVE BANCAIRE'!A148","v":"00:00:00"},{"$f":"'RELEVE BANCAIRE'!H148","v":146},{"$f":"'RELEVE BANCAIRE'!J148","v":"47100000"},{"$f":"'RELEVE BANCAIRE'!D148*-1","v":0},{"$f":"'RELEVE BANCAIRE'!E148","v":0},{"$f":"'RELEVE BANCAIRE'!C148","v":0},{"$f":"IF(LEFT(D147,1)=\"6\",'RELEVE BANCAIRE'!$O$2,\"\")","v":""},{"$f":"'RELEVE BANCAIRE'!K148","v":""}]
[{"$f":"'RELEVE BANCAIRE'!G149","v":"BQ4"},{"$f":"'RELEVE BANCAIRE'!A149","v":"00:00:00"},{"$f":"'RELEVE BANCAIRE'!H149","v":147},{"$f":"'RELEVE BANCAIRE'!J149","v":"47100000"},{"$f":"'RELEVE BANCAIRE'!D149*-1","v":0},{"$f":"'RELEVE BANCAIRE'!E149","v":0},{"$f":"'RELEVE BANCAIRE'!C149","v":0},{"$f":"IF(LEFT(D148,1)=\"6\",'RELEVE BANCAIRE'!$O$2,\"\")","v":""},{"$f":"'RELEVE BANCAIRE'!K149","v":""}]
[{"$f":"'RELEVE BANCAIRE'!G150","v":"BQ4"},{"$f":"'RELEVE BANCAIRE'!A150","v":"00:00:00"},{"$f":"'RELEVE BANCAIRE'!H150","v":148},{"$f":"'RELEVE BANCAIRE'!J150","v":"47100000"},{"$f":"'RELEVE BANCAIRE'!D150*-1","v":0},{"$f":"'RELEVE BANCAIRE'!E150","v":0},{"$f":"'RELEVE BANCAIRE'!C150","v":0},{"$f":"IF(LEFT(D149,1)=\"6\",'RELEVE BANCAIRE'!$O$2,\"\")","v":""},{"$f":"'RELEVE BANCAIRE'!K150","v":""}]
[{"$f":"'RELEVE BANCAIRE'!G151","v":"BQ4"},{"$f":"'RELEVE BANCAIRE'!A151","v":"00:00:00"},{"$f":"'RELEVE BANCAIRE'!H151","v":149},{"$f":"'RELEVE BANCAIRE'!J151","v":"47100000"},{"$f":"'RELEVE BANCAIRE'!D151*-1","v":0},{"$f":"'RELEVE BANCAIRE'!E151","v":0},{"$f":"'RELEVE BANCAIRE'!C151","v":0},{"$f":"IF(LEFT(D150,1)=\"6\",'RELEVE BANCAIRE'!$O$2,\"\")","v":""},{"$f":"'RELEVE BANCAIRE'!K151","v":""}]
[{"$f":"'RELEVE BANCAIRE'!G152","v":"BQ4"},{"$f":"'RELEVE BANCAIRE'!A152","v":"00:00:00"},{"$f":"'RELEVE BANCAIRE'!H152","v":150},{"$f":"'RELEVE BANCAIRE'!J152","v":"47100000"},{"$f":"'RELEVE BANCAIRE'!D152*-1","v":0},{"$f":"'RELEVE BANCAIRE'!E152","v":0},{"$f":"'RELEVE BANCAIRE'!C152","v":0},{"$f":"IF(LEFT(D151,1)=\"6\",'RELEVE BANCAIRE'!$O$2,\"\")","v":""},{"$f":"'RELEVE BANCAIRE'!K152","v":""}]
[{"$f":"'RELEVE BANCAIRE'!G153","v":"BQ4"},{"$f":"'RELEVE BANCAIRE'!A153","v":"00:00:00"},{"$f":"'RELEVE BANCAIRE'!H153","v":151},{"$f":"'RELEVE BANCAIRE'!J153","v":"47100000"},{"$f":"'RELEVE BANCAIRE'!D153*-1","v":0},{"$f":"'RELEVE BANCAIRE'!E153","v":0},{"$f":"'RELEVE BANCAIRE'!C153","v":0},{"$f":"IF(LEFT(D152,1)=\"6\",'RELEVE BANCAIRE'!$O$2,\"\")","v":""},{"$f":"'RELEVE BANCAIRE'!K153","v":""}]
[{"$f":"'RELEVE BANCAIRE'!G154","v":"BQ4"},{"$f":"'RELEVE BANCAIRE'!A154","v":"00:00:00"},{"$f":"'RELEVE BANCAIRE'!H154","v":152},{"$f":"'RELEVE BANCAIRE'!J154","v":"47100000"},{"$f":"'RELEVE BANCAIRE'!D154*-1","v":0},{"$f":"'RELEVE BANCAIRE'!E154","v":0},{"$f":"'RELEVE BANCAIRE'!C154","v":0},{"$f":"IF(LEFT(D153,1)=\"6\",'RELEVE BANCAIRE'!$O$2,\"\")","v":""},{"$f":"'RELEVE BANCAIRE'!K154","v":""}]
[{"$f":"'RELEVE BANCAIRE'!G155","v":"BQ4"},{"$f":"'RELEVE BANCAIRE'!A155","v":"00:00:00"},{"$f":"'RELEVE BANCAIRE'!H155","v":153},{"$f":"'RELEVE BANCAIRE'!J155","v":"47100000"},{"$f":"'RELEVE BANCAIRE'!D155*-1","v":0},{"$f":"'RELEVE BANCAIRE'!E155","v":0},{"$f":"'RELEVE BANCAIRE'!C155","v":0},{"$f":"IF(LEFT(D154,1)=\"6\",'RELEVE BANCAIRE'!$O$2,\"\")","v":""},{"$f":"'RELEVE BANCAIRE'!K155","v":""}]
[{"$f":"'RELEVE BANCAIRE'!G156","v":"BQ4"},{"$f":"'RELEVE BANCAIRE'!A156","v":"00:00:00"},{"$f":"'RELEVE BANCAIRE'!H156","v":154},{"$f":"'RELEVE BANCAIRE'!J156","v":"47100000"},{"$f":"'RELEVE BANCAIRE'!D156*-1","v":0},{"$f":"'RELEVE BANCAIRE'!E156","v":0},{"$f":"'RELEVE BANCAIRE'!C156","v":0},{"$f":"IF(LEFT(D155,1)=\"6\",'RELEVE BANCAIRE'!$O$2,\"\")","v":""},{"$f":"'RELEVE BANCAIRE'!K156","v":""}]
[{"$f":"'RELEVE BANCAIRE'!G157","v":"BQ4"},{"$f":"'RELEVE BANCAIRE'!A157","v":"00:00:00"},{"$f":"'RELEVE BANCAIRE'!H157","v":155},{"$f":"'RELEVE BANCAIRE'!J157","v":"47100000"},{"$f":"'RELEVE BANCAIRE'!D157*-1","v":0},{"$f":"'RELEVE BANCAIRE'!E157","v":0},{"$f":"'RELEVE BANCAIRE'!C157","v":0},{"$f":"IF(LEFT(D156,1)=\"6\",'RELEVE BANCAIRE'!$O$2,\"\")","v":""},{"$f":"'RELEVE BANCAIRE'!K157","v":""}]
[{"$f":"'RELEVE BANCAIRE'!G158","v":"BQ4"},{"$f":"'RELEVE BANCAIRE'!A158","v":"00:00:00"},{"$f":"'RELEVE BANCAIRE'!H158","v":156},{"$f":"'RELEVE BANCAIRE'!J158","v":"47100000"},{"$f":"'RELEVE BANCAIRE'!D158*-1","v":0},{"$f":"'RELEVE BANCAIRE'!E158","v":0},{"$f":"'RELEVE BANCAIRE'!C158","v":0},{"$f":"IF(LEFT(D157,1)=\"6\",'RELEVE BANCAIRE'!$O$2,\"\")","v":""},{"$f":"'RELEVE BANCAIRE'!K158","v":""}]
[{"$f":"'RELEVE BANCAIRE'!G159","v":"BQ4"},{"$f":"'RELEVE BANCAIRE'!A159","v":"00:00:00"},{"$f":"'RELEVE BANCAIRE'!H159","v":157},{"$f":"'RELEVE BANCAIRE'!J159","v":"47100000"},{"$f":"'RELEVE BANCAIRE'!D159*-1","v":0},{"$f":"'RELEVE BANCAIRE'!E159","v":0},{"$f":"'RELEVE BANCAIRE'!C159","v":0},{"$f":"IF(LEFT(D158,1)=\"6\",'RELEVE BANCAIRE'!$O$2,\"\")","v":""},{"$f":"'RELEVE BANCAIRE'!K159","v":""}]
[{"$f":"'RELEVE BANCAIRE'!G160","v":"BQ4"},{"$f":"'RELEVE BANCAIRE'!A160","v":"00:00:00"},{"$f":"'RELEVE BANCAIRE'!H160","v":158},{"$f":"'RELEVE BANCAIRE'!J160","v":"47100000"},{"$f":"'RELEVE BANCAIRE'!D160*-1","v":0},{"$f":"'RELEVE BANCAIRE'!E160","v":0},{"$f":"'RELEVE BANCAIRE'!C160","v":0},{"$f":"IF(LEFT(D159,1)=\"6\",'RELEVE BANCAIRE'!$O$2,\"\")","v":""},{"$f":"'RELEVE BANCAIRE'!K160","v":""}]
[{"$f":"'RELEVE BANCAIRE'!G161","v":"BQ4"},{"$f":"'RELEVE BANCAIRE'!A161","v":"00:00:00"},{"$f":"'RELEVE BANCAIRE'!H161","v":159},{"$f":"'RELEVE BANCAIRE'!J161","v":"47100000"},{"$f":"'RELEVE BANCAIRE'!D161*-1","v":0},{"$f":"'RELEVE BANCAIRE'!E161","v":0},{"$f":"'RELEVE BANCAIRE'!C161","v":0},{"$f":"IF(LEFT(D160,1)=\"6\",'RELEVE BANCAIRE'!$O$2,\"\")","v":""},{"$f":"'RELEVE BANCAIRE'!K161","v":""}]
[{"$f":"'RELEVE BANCAIRE'!G162","v":"BQ4"},{"$f":"'RELEVE BANCAIRE'!A162","v":"00:00:00"},{"$f":"'RELEVE BANCAIRE'!H162","v":160},{"$f":"'RELEVE BANCAIRE'!J162","v":"47100000"},{"$f":"'RELEVE BANCAIRE'!D162*-1","v":0},{"$f":"'RELEVE BANCAIRE'!E162","v":0},{"$f":"'RELEVE BANCAIRE'!C162","v":0},{"$f":"IF(LEFT(D161,1)=\"6\",'RELEVE BANCAIRE'!$O$2,\"\")","v":""},{"$f":"'RELEVE BANCAIRE'!K162","v":""}]
[{"$f":"'RELEVE BANCAIRE'!G163","v":"BQ4"},{"$f":"'RELEVE BANCAIRE'!A163","v":"00:00:00"},{"$f":"'RELEVE BANCAIRE'!H163","v":161},{"$f":"'RELEVE BANCAIRE'!J163","v":"47100000"},{"$f":"'RELEVE BANCAIRE'!D163*-1","v":0},{"$f":"'RELEVE BANCAIRE'!E163","v":0},{"$f":"'RELEVE BANCAIRE'!C163","v":0},{"$f":"IF(LEFT(D162,1)=\"6\",'RELEVE BANCAIRE'!$O$2,\"\")","v":""},{"$f":"'RELEVE BANCAIRE'!K163","v":""}]
[{"$f":"'RELEVE BANCAIRE'!G164","v":"BQ4"},{"$f":"'RELEVE BANCAIRE'!A164","v":"00:00:00"},{"$f":"'RELEVE BANCAIRE'!H164","v":162},{"$f":"'RELEVE BANCAIRE'!J164","v":"47100000"},{"$f":"'RELEVE BANCAIRE'!D164*-1","v":0},{"$f":"'RELEVE BANCAIRE'!E164","v":0},{"$f":"'RELEVE BANCAIRE'!C164","v":0},{"$f":"IF(LEFT(D163,1)=\"6\",'RELEVE BANCAIRE'!$O$2,\"\")","v":""},{"$f":"'RELEVE BANCAIRE'!K164","v":""}]
[{"$f":"'RELEVE BANCAIRE'!G165","v":"BQ4"},{"$f":"'RELEVE BANCAIRE'!A165","v":"00:00:00"},{"$f":"'RELEVE BANCAIRE'!H165","v":163},{"$f":"'RELEVE BANCAIRE'!J165","v":"47100000"},{"$f":"'RELEVE BANCAIRE'!D165*-1","v":0},{"$f":"'RELEVE BANCAIRE'!E165","v":0},{"$f":"'RELEVE BANCAIRE'!C165","v":0},{"$f":"IF(LEFT(D164,1)=\"6\",'RELEVE BANCAIRE'!$O$2,\"\")","v":""},{"$f":"'RELEVE BANCAIRE'!K165","v":""}]
[{"$f":"'RELEVE BANCAIRE'!G166","v":"BQ4"},{"$f":"'RELEVE BANCAIRE'!A166","v":"00:00:00"},{"$f":"'RELEVE BANCAIRE'!H166","v":164},{"$f":"'RELEVE BANCAIRE'!J166","v":"47100000"},{"$f":"'RELEVE BANCAIRE'!D166*-1","v":0},{"$f":"'RELEVE BANCAIRE'!E166","v":0},{"$f":"'RELEVE BANCAIRE'!C166","v":0},{"$f":"IF(LEFT(D165,1)=\"6\",'RELEVE BANCAIRE'!$O$2,\"\")","v":""},{"$f":"'RELEVE BANCAIRE'!K166","v":""}]
[{"$f":"'RELEVE BANCAIRE'!G167","v":"BQ4"},{"$f":"'RELEVE BANCAIRE'!A167","v":"00:00:00"},{"$f":"'RELEVE BANCAIRE'!H167","v":165},{"$f":"'RELEVE BANCAIRE'!J167","v":"47100000"},{"$f":"'RELEVE BANCAIRE'!D167*-1","v":0},{"$f":"'RELEVE BANCAIRE'!E167","v":0},{"$f":"'RELEVE BANCAIRE'!C167","v":0},{"$f":"IF(LEFT(D166,1)=\"6\",'RELEVE BANCAIRE'!$O$2,\"\")","v":""},{"$f":"'RELEVE BANCAIRE'!K167","v":""}]
[{"$f":"'RELEVE BANCAIRE'!G168","v":"BQ4"},{"$f":"'RELEVE BANCAIRE'!A168","v":"00:00:00"},{"$f":"'RELEVE BANCAIRE'!H168","v":166},{"$f":"'RELEVE BANCAIRE'!J168","v":"47100000"},{"$f":"'RELEVE BANCAIRE'!D168*-1","v":0},{"$f":"'RELEVE BANCAIRE'!E168","v":0},{"$f":"'RELEVE BANCAIRE'!C168","v":0},{"$f":"IF(LEFT(D167,1)=\"6\",'RELEVE BANCAIRE'!$O$2,\"\")","v":""},{"$f":"'RELEVE BANCAIRE'!K168","v":""}]
[{"$f":"'RELEVE BANCAIRE'!G169","v":"BQ4"},{"$f":"'RELEVE BANCAIRE'!A169","v":"00:00:00"},{"$f":"'RELEVE BANCAIRE'!H169","v":167},{"$f":"'RELEVE BANCAIRE'!J169","v":"47100000"},{"$f":"'RELEVE BANCAIRE'!D169*-1","v":0},{"$f":"'RELEVE BANCAIRE'!E169","v":0},{"$f":"'RELEVE BANCAIRE'!C169","v":0},{"$f":"IF(LEFT(D168,1)=\"6\",'RELEVE BANCAIRE'!$O$2,\"\")","v":""},{"$f":"'RELEVE BANCAIRE'!K169","v":""}]
[{"$f":"'RELEVE BANCAIRE'!G170","v":"BQ4"},{"$f":"'RELEVE BANCAIRE'!A170","v":"00:00:00"},{"$f":"'RELEVE BANCAIRE'!H170","v":168},{"$f":"'RELEVE BANCAIRE'!J170","v":"47100000"},{"$f":"'RELEVE BANCAIRE'!D170*-1","v":0},{"$f":"'RELEVE BANCAIRE'!E170","v":0},{"$f":"'RELEVE BANCAIRE'!C170","v":0},{"$f":"IF(LEFT(D169,1)=\"6\",'RELEVE BANCAIRE'!$O$2,\"\")","v":""},{"$f":"'RELEVE BANCAIRE'!K170","v":""}]
[{"$f":"'RELEVE BANCAIRE'!G171","v":"BQ4"},{"$f":"'RELEVE BANCAIRE'!A171","v":"00:00:00"},{"$f":"'RELEVE BANCAIRE'!H171","v":169},{"$f":"'RELEVE BANCAIRE'!J171","v":"47100000"},{"$f":"'RELEVE BANCAIRE'!D171*-1","v":0},{"$f":"'RELEVE BANCAIRE'!E171","v":0},{"$f":"'RELEVE BANCAIRE'!C171","v":0},{"$f":"IF(LEFT(D170,1)=\"6\",'RELEVE BANCAIRE'!$O$2,\"\")","v":""},{"$f":"'RELEVE BANCAIRE'!K171","v":""}]
[{"$f":"'RELEVE BANCAIRE'!G172","v":"BQ4"},{"$f":"'RELEVE BANCAIRE'!A172","v":"00:00:00"},{"$f":"'RELEVE BANCAIRE'!H172","v":170},{"$f":"'RELEVE BANCAIRE'!J172","v":"47100000"},{"$f":"'RELEVE BANCAIRE'!D172*-1","v":0},{"$f":"'RELEVE BANCAIRE'!E172","v":0},{"$f":"'RELEVE BANCAIRE'!C172","v":0},{"$f":"IF(LEFT(D171,1)=\"6\",'RELEVE BANCAIRE'!$O$2,\"\")","v":""},{"$f":"'RELEVE BANCAIRE'!K172","v":""}]
[{"$f":"'RELEVE BANCAIRE'!G173","v":"BQ4"},{"$f":"'RELEVE BANCAIRE'!A173","v":"00:00:00"},{"$f":"'RELEVE BANCAIRE'!H173","v":171},{"$f":"'RELEVE BANCAIRE'!J173","v":"47100000"},{"$f":"'RELEVE BANCAIRE'!D173*-1","v":0},{"$f":"'RELEVE BANCAIRE'!E173","v":{"v":0,"d":"0.00 €"}},{"$f":"'RELEVE BANCAIRE'!C173","v":0},{"$f":"IF(LEFT(D172,1)=\"6\",'RELEVE BANCAIRE'!$O$2,\"\")","v":""},{"$f":"'RELEVE BANCAIRE'!K173","v":""}]
[{"$f":"'RELEVE BANCAIRE'!G174","v":"BQ4"},{"$f":"'RELEVE BANCAIRE'!A174","v":"00:00:00"},{"$f":"'RELEVE BANCAIRE'!H174","v":172},{"$f":"'RELEVE BANCAIRE'!J174","v":"47100000"},{"$f":"'RELEVE BANCAIRE'!D174*-1","v":0},{"$f":"'RELEVE BANCAIRE'!E174","v":0},{"$f":"'RELEVE BANCAIRE'!C174","v":0},{"$f":"IF(LEFT(D173,1)=\"6\",'RELEVE BANCAIRE'!$O$2,\"\")","v":""},{"$f":"'RELEVE BANCAIRE'!K174","v":""}]
[{"$f":"'RELEVE BANCAIRE'!G175","v":"BQ4"},{"$f":"'RELEVE BANCAIRE'!A175","v":"00:00:00"},{"$f":"'RELEVE BANCAIRE'!H175","v":173},{"$f":"'RELEVE BANCAIRE'!J175","v":"47100000"},{"$f":"'RELEVE BANCAIRE'!D175*-1","v":0},{"$f":"'RELEVE BANCAIRE'!E175","v":0},{"$f":"'RELEVE BANCAIRE'!C175","v":0},{"$f":"IF(LEFT(D174,1)=\"6\",'RELEVE BANCAIRE'!$O$2,\"\")","v":""},{"$f":"'RELEVE BANCAIRE'!K175","v":""}]
[{"$f":"'RELEVE BANCAIRE'!G176","v":"BQ4"},{"$f":"'RELEVE BANCAIRE'!A176","v":"00:00:00"},{"$f":"'RELEVE BANCAIRE'!H176","v":174},{"$f":"'RELEVE BANCAIRE'!J176","v":"47100000"},{"$f":"'RELEVE BANCAIRE'!D176*-1","v":0},{"$f":"'RELEVE BANCAIRE'!E176","v":{"v":0,"d":"0.00 €"}},{"$f":"'RELEVE BANCAIRE'!C176","v":0},{"$f":"IF(LEFT(D175,1)=\"6\",'RELEVE BANCAIRE'!$O$2,\"\")","v":""},{"$f":"'RELEVE BANCAIRE'!K176","v":""}]
[{"$f":"'RELEVE BANCAIRE'!G177","v":"BQ4"},{"$f":"'RELEVE BANCAIRE'!A177","v":"00:00:00"},{"$f":"'RELEVE BANCAIRE'!H177","v":175},{"$f":"'RELEVE BANCAIRE'!J177","v":"47100000"},{"$f":"'RELEVE BANCAIRE'!D177*-1","v":0},{"$f":"'RELEVE BANCAIRE'!E177","v":{"v":0,"d":"0.00 €"}},{"$f":"'RELEVE BANCAIRE'!C177","v":0},{"$f":"IF(LEFT(D176,1)=\"6\",'RELEVE BANCAIRE'!$O$2,\"\")","v":""},{"$f":"'RELEVE BANCAIRE'!K177","v":""}]
[{"$f":"'RELEVE BANCAIRE'!G178","v":"BQ4"},{"$f":"'RELEVE BANCAIRE'!A178","v":"00:00:00"},{"$f":"'RELEVE BANCAIRE'!H178","v":176},{"$f":"'RELEVE BANCAIRE'!J178","v":"47100000"},{"$f":"'RELEVE BANCAIRE'!D178*-1","v":0},{"$f":"'RELEVE BANCAIRE'!E178","v":{"v":0,"d":"0.00 €"}},{"$f":"'RELEVE BANCAIRE'!C178","v":0},{"$f":"IF(LEFT(D177,1)=\"6\",'RELEVE BANCAIRE'!$O$2,\"\")","v":""},{"$f":"'RELEVE BANCAIRE'!K178","v":""}]
[{"$f":"'RELEVE BANCAIRE'!G179","v":"BQ4"},{"$f":"'RELEVE BANCAIRE'!A179","v":"00:00:00"},{"$f":"'RELEVE BANCAIRE'!H179","v":177},{"$f":"'RELEVE BANCAIRE'!J179","v":"47100000"},{"$f":"'RELEVE BANCAIRE'!D179*-1","v":0},{"$f":"'RELEVE BANCAIRE'!E179","v":0},{"$f":"'RELEVE BANCAIRE'!C179","v":0},{"$f":"IF(LEFT(D178,1)=\"6\",'RELEVE BANCAIRE'!$O$2,\"\")","v":""},{"$f":"'RELEVE BANCAIRE'!K179","v":""}]
[{"$f":"'RELEVE BANCAIRE'!G180","v":"BQ4"},{"$f":"'RELEVE BANCAIRE'!A180","v":"00:00:00"},{"$f":"'RELEVE BANCAIRE'!H180","v":178},{"$f":"'RELEVE BANCAIRE'!J180","v":"47100000"},{"$f":"'RELEVE BANCAIRE'!D180*-1","v":0},{"$f":"'RELEVE BANCAIRE'!E180","v":0},{"$f":"'RELEVE BANCAIRE'!C180","v":0},{"$f":"IF(LEFT(D179,1)=\"6\",'RELEVE BANCAIRE'!$O$2,\"\")","v":""},{"$f":"'RELEVE BANCAIRE'!K180","v":""}]
[{"$f":"'RELEVE BANCAIRE'!G181","v":"BQ4"},{"$f":"'RELEVE BANCAIRE'!A181","v":"00:00:00"},{"$f":"'RELEVE BANCAIRE'!H181","v":179},{"$f":"'RELEVE BANCAIRE'!J181","v":"47100000"},{"$f":"'RELEVE BANCAIRE'!D181*-1","v":0},{"$f":"'RELEVE BANCAIRE'!E181","v":0},{"$f":"'RELEVE BANCAIRE'!C181","v":0},{"$f":"IF(LEFT(D180,1)=\"6\",'RELEVE BANCAIRE'!$O$2,\"\")","v":""},{"$f":"'RELEVE BANCAIRE'!K181","v":""}]
[{"$f":"'RELEVE BANCAIRE'!G182","v":"BQ4"},{"$f":"'RELEVE BANCAIRE'!A182","v":"00:00:00"},{"$f":"'RELEVE BANCAIRE'!H182","v":180},{"$f":"'RELEVE BANCAIRE'!J182","v":"47100000"},{"$f":"'RELEVE BANCAIRE'!D182*-1","v":0},{"$f":"'RELEVE BANCAIRE'!E182","v":0},{"$f":"'RELEVE BANCAIRE'!C182","v":0},{"$f":"IF(LEFT(D181,1)=\"6\",'RELEVE BANCAIRE'!$O$2,\"\")","v":""},{"$f":"'RELEVE BANCAIRE'!K182","v":""}]
[{"$f":"'RELEVE BANCAIRE'!G183","v":"BQ4"},{"$f":"'RELEVE BANCAIRE'!A183","v":"00:00:00"},{"$f":"'RELEVE BANCAIRE'!H183","v":181},{"$f":"'RELEVE BANCAIRE'!J183","v":"47100000"},{"$f":"'RELEVE BANCAIRE'!D183*-1","v":0},{"$f":"'RELEVE BANCAIRE'!E183","v":0},{"$f":"'RELEVE BANCAIRE'!C183","v":0},{"$f":"IF(LEFT(D182,1)=\"6\",'RELEVE BANCAIRE'!$O$2,\"\")","v":""},{"$f":"'RELEVE BANCAIRE'!K183","v":""}]
[{"$f":"'RELEVE BANCAIRE'!G184","v":"BQ4"},{"$f":"'RELEVE BANCAIRE'!A184","v":"00:00:00"},{"$f":"'RELEVE BANCAIRE'!H184","v":182},{"$f":"'RELEVE BANCAIRE'!J184","v":"47100000"},{"$f":"'RELEVE BANCAIRE'!D184*-1","v":0},{"$f":"'RELEVE BANCAIRE'!E184","v":0},{"$f":"'RELEVE BANCAIRE'!C184","v":0},{"$f":"IF(LEFT(D183,1)=\"6\",'RELEVE BANCAIRE'!$O$2,\"\")","v":""},{"$f":"'RELEVE BANCAIRE'!K184","v":""}]
[{"$f":"'RELEVE BANCAIRE'!G185","v":"BQ4"},{"$f":"'RELEVE BANCAIRE'!A185","v":"00:00:00"},{"$f":"'RELEVE BANCAIRE'!H185","v":183},{"$f":"'RELEVE BANCAIRE'!J185","v":"47100000"},{"$f":"'RELEVE BANCAIRE'!D185*-1","v":0},{"$f":"'RELEVE BANCAIRE'!E185","v":0},{"$f":"'RELEVE BANCAIRE'!C185","v":0},{"$f":"IF(LEFT(D184,1)=\"6\",'RELEVE BANCAIRE'!$O$2,\"\")","v":""},{"$f":"'RELEVE BANCAIRE'!K185","v":""}]
[{"$f":"'RELEVE BANCAIRE'!G186","v":"BQ4"},{"$f":"'RELEVE BANCAIRE'!A186","v":"00:00:00"},{"$f":"'RELEVE BANCAIRE'!H186","v":184},{"$f":"'RELEVE BANCAIRE'!J186","v":"47100000"},{"$f":"'RELEVE BANCAIRE'!D186*-1","v":0},{"$f":"'RELEVE BANCAIRE'!E186","v":0},{"$f":"'RELEVE BANCAIRE'!C186","v":0},{"$f":"IF(LEFT(D185,1)=\"6\",'RELEVE BANCAIRE'!$O$2,\"\")","v":""},{"$f":"'RELEVE BANCAIRE'!K186","v":""}]
[{"$f":"'RELEVE BANCAIRE'!G187","v":"BQ4"},{"$f":"'RELEVE BANCAIRE'!A187","v":"00:00:00"},{"$f":"'RELEVE BANCAIRE'!H187","v":185},{"$f":"'RELEVE BANCAIRE'!J187","v":"47100000"},{"$f":"'RELEVE BANCAIRE'!D187*-1","v":0},{"$f":"'RELEVE BANCAIRE'!E187","v":0},{"$f":"'RELEVE BANCAIRE'!C187","v":0},{"$f":"IF(LEFT(D186,1)=\"6\",'RELEVE BANCAIRE'!$O$2,\"\")","v":""},{"$f":"'RELEVE BANCAIRE'!K187","v":""}]
[{"$f":"'RELEVE BANCAIRE'!G188","v":"BQ4"},{"$f":"'RELEVE BANCAIRE'!A188","v":"00:00:00"},{"$f":"'RELEVE BANCAIRE'!H188","v":186},{"$f":"'RELEVE BANCAIRE'!J188","v":"47100000"},{"$f":"'RELEVE BANCAIRE'!D188*-1","v":0},{"$f":"'RELEVE BANCAIRE'!E188","v":0},{"$f":"'RELEVE BANCAIRE'!C188","v":0},{"$f":"IF(LEFT(D187,1)=\"6\",'RELEVE BANCAIRE'!$O$2,\"\")","v":""},{"$f":"'RELEVE BANCAIRE'!K188","v":""}]
[{"$f":"'RELEVE BANCAIRE'!G189","v":"BQ4"},{"$f":"'RELEVE BANCAIRE'!A189","v":"00:00:00"},{"$f":"'RELEVE BANCAIRE'!H189","v":187},{"$f":"'RELEVE BANCAIRE'!J189","v":"47100000"},{"$f":"'RELEVE BANCAIRE'!D189*-1","v":0},{"$f":"'RELEVE BANCAIRE'!E189","v":0},{"$f":"'RELEVE BANCAIRE'!C189","v":0},{"$f":"IF(LEFT(D188,1)=\"6\",'RELEVE BANCAIRE'!$O$2,\"\")","v":""},{"$f":"'RELEVE BANCAIRE'!K189","v":""}]
[{"$f":"'RELEVE BANCAIRE'!G190","v":"BQ4"},{"$f":"'RELEVE BANCAIRE'!A190","v":"00:00:00"},{"$f":"'RELEVE BANCAIRE'!H190","v":188},{"$f":"'RELEVE BANCAIRE'!J190","v":"47100000"},{"$f":"'RELEVE BANCAIRE'!D190*-1","v":0},{"$f":"'RELEVE BANCAIRE'!E190","v":0},{"$f":"'RELEVE BANCAIRE'!C190","v":0},{"$f":"IF(LEFT(D189,1)=\"6\",'RELEVE BANCAIRE'!$O$2,\"\")","v":""},{"$f":"'RELEVE BANCAIRE'!K190","v":""}]
[{"$f":"'RELEVE BANCAIRE'!G191","v":"BQ4"},{"$f":"'RELEVE BANCAIRE'!A191","v":"00:00:00"},{"$f":"'RELEVE BANCAIRE'!H191","v":189},{"$f":"'RELEVE BANCAIRE'!J191","v":"47100000"},{"$f":"'RELEVE BANCAIRE'!D191*-1","v":0},{"$f":"'RELEVE BANCAIRE'!E191","v":0},{"$f":"'RELEVE BANCAIRE'!C191","v":0},{"$f":"IF(LEFT(D190,1)=\"6\",'RELEVE BANCAIRE'!$O$2,\"\")","v":""},{"$f":"'RELEVE BANCAIRE'!K191","v":""}]
[{"$f":"'RELEVE BANCAIRE'!G192","v":"BQ4"},{"$f":"'RELEVE BANCAIRE'!A192","v":"00:00:00"},{"$f":"'RELEVE BANCAIRE'!H192","v":190},{"$f":"'RELEVE BANCAIRE'!J192","v":"47100000"},{"$f":"'RELEVE BANCAIRE'!D192*-1","v":0},{"$f":"'RELEVE BANCAIRE'!E192","v":0},{"$f":"'RELEVE BANCAIRE'!C192","v":0},{"$f":"IF(LEFT(D191,1)=\"6\",'RELEVE BANCAIRE'!$O$2,\"\")","v":""},{"$f":"'RELEVE BANCAIRE'!K192","v":""}]
[{"$f":"'RELEVE BANCAIRE'!G193","v":"BQ4"},{"$f":"'RELEVE BANCAIRE'!A193","v":"00:00:00"},{"$f":"'RELEVE BANCAIRE'!H193","v":191},{"$f":"'RELEVE BANCAIRE'!J193","v":"47100000"},{"$f":"'RELEVE BANCAIRE'!D193*-1","v":0},{"$f":"'RELEVE BANCAIRE'!E193","v":0},{"$f":"'RELEVE BANCAIRE'!C193","v":0},{"$f":"IF(LEFT(D192,1)=\"6\",'RELEVE BANCAIRE'!$O$2,\"\")","v":""},{"$f":"'RELEVE BANCAIRE'!K193","v":""}]
[{"$f":"'RELEVE BANCAIRE'!G194","v":"BQ4"},{"$f":"'RELEVE BANCAIRE'!A194","v":"00:00:00"},{"$f":"'RELEVE BANCAIRE'!H194","v":192},{"$f":"'RELEVE BANCAIRE'!J194","v":"47100000"},{"$f":"'RELEVE BANCAIRE'!D194*-1","v":0},{"$f":"'RELEVE BANCAIRE'!E194","v":0},{"$f":"'RELEVE BANCAIRE'!C194","v":0},{"$f":"IF(LEFT(D193,1)=\"6\",'RELEVE BANCAIRE'!$O$2,\"\")","v":""},{"$f":"'RELEVE BANCAIRE'!K194","v":""}]
[{"$f":"'RELEVE BANCAIRE'!G195","v":"BQ4"},{"$f":"'RELEVE BANCAIRE'!A195","v":"00:00:00"},{"$f":"'RELEVE BANCAIRE'!H195","v":193},{"$f":"'RELEVE BANCAIRE'!J195","v":"47100000"},{"$f":"'RELEVE BANCAIRE'!D195*-1","v":0},{"$f":"'RELEVE BANCAIRE'!E195","v":0},{"$f":"'RELEVE BANCAIRE'!C195","v":0},{"$f":"IF(LEFT(D194,1)=\"6\",'RELEVE BANCAIRE'!$O$2,\"\")","v":""},{"$f":"'RELEVE BANCAIRE'!K195","v":""}]
[{"$f":"'RELEVE BANCAIRE'!G196","v":"BQ4"},{"$f":"'RELEVE BANCAIRE'!A196","v":"00:00:00"},{"$f":"'RELEVE BANCAIRE'!H196","v":194},{"$f":"'RELEVE BANCAIRE'!J196","v":"47100000"},{"$f":"'RELEVE BANCAIRE'!D196*-1","v":0},{"$f":"'RELEVE BANCAIRE'!E196","v":0},{"$f":"'RELEVE BANCAIRE'!C196","v":0},{"$f":"IF(LEFT(D195,1)=\"6\",'RELEVE BANCAIRE'!$O$2,\"\")","v":""},{"$f":"'RELEVE BANCAIRE'!K196","v":""}]
[{"$f":"'RELEVE BANCAIRE'!G197","v":"BQ4"},{"$f":"'RELEVE BANCAIRE'!A197","v":"00:00:00"},{"$f":"'RELEVE BANCAIRE'!H197","v":195},{"$f":"'RELEVE BANCAIRE'!J197","v":"47100000"},{"$f":"'RELEVE BANCAIRE'!D197*-1","v":0},{"$f":"'RELEVE BANCAIRE'!E197","v":0},{"$f":"'RELEVE BANCAIRE'!C197","v":0},{"$f":"IF(LEFT(D196,1)=\"6\",'RELEVE BANCAIRE'!$O$2,\"\")","v":""},{"$f":"'RELEVE BANCAIRE'!K197","v":""}]
[{"$f":"'RELEVE BANCAIRE'!G198","v":"BQ4"},{"$f":"'RELEVE BANCAIRE'!A198","v":"00:00:00"},{"$f":"'RELEVE BANCAIRE'!H198","v":196},{"$f":"'RELEVE BANCAIRE'!J198","v":"47100000"},{"$f":"'RELEVE BANCAIRE'!D198*-1","v":0},{"$f":"'RELEVE BANCAIRE'!E198","v":0},{"$f":"'RELEVE BANCAIRE'!C198","v":0},{"$f":"IF(LEFT(D197,1)=\"6\",'RELEVE BANCAIRE'!$O$2,\"\")","v":""},{"$f":"'RELEVE BANCAIRE'!K198","v":""}]
[{"$f":"'RELEVE BANCAIRE'!G199","v":"BQ4"},{"$f":"'RELEVE BANCAIRE'!A199","v":"00:00:00"},{"$f":"'RELEVE BANCAIRE'!H199","v":197},{"$f":"'RELEVE BANCAIRE'!J199","v":"47100000"},{"$f":"'RELEVE BANCAIRE'!D199*-1","v":0},{"$f":"'RELEVE BANCAIRE'!E199","v":0},{"$f":"'RELEVE BANCAIRE'!C199","v":0},{"$f":"IF(LEFT(D198,1)=\"6\",'RELEVE BANCAIRE'!$O$2,\"\")","v":""},{"$f":"'RELEVE BANCAIRE'!K199","v":""}]
[{"$f":"'RELEVE BANCAIRE'!G200","v":"BQ4"},{"$f":"'RELEVE BANCAIRE'!A200","v":"00:00:00"},{"$f":"'RELEVE BANCAIRE'!H200","v":198},{"$f":"'RELEVE BANCAIRE'!J200","v":"47100000"},{"$f":"'RELEVE BANCAIRE'!D200*-1","v":0},{"$f":"'RELEVE BANCAIRE'!E200","v":0},{"$f":"'RELEVE BANCAIRE'!C200","v":0},{"$f":"IF(LEFT(D199,1)=\"6\",'RELEVE BANCAIRE'!$O$2,\"\")","v":""},{"$f":"'RELEVE BANCAIRE'!K200","v":""}]
[{"$f":"'RELEVE BANCAIRE'!G201","v":"BQ4"},{"$f":"'RELEVE BANCAIRE'!A201","v":"00:00:00"},{"$f":"'RELEVE BANCAIRE'!H201","v":199},{"$f":"'RELEVE BANCAIRE'!J201","v":"47100000"},{"$f":"'RELEVE BANCAIRE'!D201*-1","v":0},{"$f":"'RELEVE BANCAIRE'!E201","v":0},{"$f":"'RELEVE BANCAIRE'!C201","v":0},{"$f":"IF(LEFT(D200,1)=\"6\",'RELEVE BANCAIRE'!$O$2,\"\")","v":""},{"$f":"'RELEVE BANCAIRE'!K201","v":""}]
[{"$f":"'RELEVE BANCAIRE'!G202","v":"BQ4"},{"$f":"'RELEVE BANCAIRE'!A202","v":"00:00:00"},{"$f":"'RELEVE BANCAIRE'!H202","v":200},{"$f":"'RELEVE BANCAIRE'!J202","v":"47100000"},{"$f":"'RELEVE BANCAIRE'!D202*-1","v":0},{"$f":"'RELEVE BANCAIRE'!E202","v":0},{"$f":"'RELEVE BANCAIRE'!C202","v":0},{"$f":"IF(LEFT(D201,1)=\"6\",'RELEVE BANCAIRE'!$O$2,\"\")","v":""},{"$f":"'RELEVE BANCAIRE'!K202","v":""}]
[{"$f":"'RELEVE BANCAIRE'!G203","v":"BQ4"},{"$f":"'RELEVE BANCAIRE'!A203","v":"00:00:00"},{"$f":"'RELEVE BANCAIRE'!H203","v":201},{"$f":"'RELEVE BANCAIRE'!J203","v":"47100000"},{"$f":"'RELEVE BANCAIRE'!D203*-1","v":0},{"$f":"'RELEVE BANCAIRE'!E203","v":0},{"$f":"'RELEVE BANCAIRE'!C203","v":0},{"$f":"IF(LEFT(D202,1)=\"6\",'RELEVE BANCAIRE'!$O$2,\"\")","v":""},{"$f":"'RELEVE BANCAIRE'!K203","v":""}]
[{"$f":"'RELEVE BANCAIRE'!G204","v":"BQ4"},{"$f":"'RELEVE BANCAIRE'!A204","v":"00:00:00"},{"$f":"'RELEVE BANCAIRE'!H204","v":202},{"$f":"'RELEVE BANCAIRE'!J204","v":"47100000"},{"$f":"'RELEVE BANCAIRE'!D204*-1","v":0},{"$f":"'RELEVE BANCAIRE'!E204","v":0},{"$f":"'RELEVE BANCAIRE'!C204","v":0},{"$f":"IF(LEFT(D203,1)=\"6\",'RELEVE BANCAIRE'!$O$2,\"\")","v":""},{"$f":"'RELEVE BANCAIRE'!K204","v":""}]
[{"$f":"'RELEVE BANCAIRE'!G205","v":"BQ4"},{"$f":"'RELEVE BANCAIRE'!A205","v":"00:00:00"},{"$f":"'RELEVE BANCAIRE'!H205","v":203},{"$f":"'RELEVE BANCAIRE'!J205","v":"47100000"},{"$f":"'RELEVE BANCAIRE'!D205*-1","v":0},{"$f":"'RELEVE BANCAIRE'!E205","v":0},{"$f":"'RELEVE BANCAIRE'!C205","v":0},{"$f":"IF(LEFT(D204,1)=\"6\",'RELEVE BANCAIRE'!$O$2,\"\")","v":""},{"$f":"'RELEVE BANCAIRE'!K205","v":""}]
[{"$f":"'RELEVE BANCAIRE'!G206","v":"BQ4"},{"$f":"'RELEVE BANCAIRE'!A206","v":"00:00:00"},{"$f":"'RELEVE BANCAIRE'!H206","v":204},{"$f":"'RELEVE BANCAIRE'!J206","v":"47100000"},{"$f":"'RELEVE BANCAIRE'!D206*-1","v":0},{"$f":"'RELEVE BANCAIRE'!E206","v":0},{"$f":"'RELEVE BANCAIRE'!C206","v":0},{"$f":"IF(LEFT(D205,1)=\"6\",'RELEVE BANCAIRE'!$O$2,\"\")","v":""},{"$f":"'RELEVE BANCAIRE'!K206","v":""}]
[{"$f":"'RELEVE BANCAIRE'!G207","v":"BQ4"},{"$f":"'RELEVE BANCAIRE'!A207","v":"00:00:00"},{"$f":"'RELEVE BANCAIRE'!H207","v":205},{"$f":"'RELEVE BANCAIRE'!J207","v":"47100000"},{"$f":"'RELEVE BANCAIRE'!D207*-1","v":0},{"$f":"'RELEVE BANCAIRE'!E207","v":0},{"$f":"'RELEVE BANCAIRE'!C207","v":0},{"$f":"IF(LEFT(D206,1)=\"6\",'RELEVE BANCAIRE'!$O$2,\"\")","v":""},{"$f":"'RELEVE BANCAIRE'!K207","v":""}]
[{"$f":"'RELEVE BANCAIRE'!G208","v":"BQ4"},{"$f":"'RELEVE BANCAIRE'!A208","v":"00:00:00"},{"$f":"'RELEVE BANCAIRE'!H208","v":206},{"$f":"'RELEVE BANCAIRE'!J208","v":"47100000"},{"$f":"'RELEVE BANCAIRE'!D208*-1","v":0},{"$f":"'RELEVE BANCAIRE'!E208","v":0},{"$f":"'RELEVE BANCAIRE'!C208","v":0},{"$f":"IF(LEFT(D207,1)=\"6\",'RELEVE BANCAIRE'!$O$2,\"\")","v":""},{"$f":"'RELEVE BANCAIRE'!K208","v":""}]
[{"$f":"'RELEVE BANCAIRE'!G209","v":"BQ4"},{"$f":"'RELEVE BANCAIRE'!A209","v":"00:00:00"},{"$f":"'RELEVE BANCAIRE'!H209","v":207},{"$f":"'RELEVE BANCAIRE'!J209","v":"47100000"},{"$f":"'RELEVE BANCAIRE'!D209*-1","v":0},{"$f":"'RELEVE BANCAIRE'!E209","v":0},{"$f":"'RELEVE BANCAIRE'!C209","v":0},{"$f":"IF(LEFT(D208,1)=\"6\",'RELEVE BANCAIRE'!$O$2,\"\")","v":""},{"$f":"'RELEVE BANCAIRE'!K209","v":""}]
[{"$f":"'RELEVE BANCAIRE'!G210","v":"BQ4"},{"$f":"'RELEVE BANCAIRE'!A210","v":"00:00:00"},{"$f":"'RELEVE BANCAIRE'!H210","v":208},{"$f":"'RELEVE BANCAIRE'!J210","v":"47100000"},{"$f":"'RELEVE BANCAIRE'!D210*-1","v":0},{"$f":"'RELEVE BANCAIRE'!E210","v":0},{"$f":"'RELEVE BANCAIRE'!C210","v":0},{"$f":"IF(LEFT(D209,1)=\"6\",'RELEVE BANCAIRE'!$O$2,\"\")","v":""},{"$f":"'RELEVE BANCAIRE'!K210","v":""}]
[{"$f":"'RELEVE BANCAIRE'!G211","v":"BQ4"},{"$f":"'RELEVE BANCAIRE'!A211","v":"00:00:00"},{"$f":"'RELEVE BANCAIRE'!H211","v":209},{"$f":"'RELEVE BANCAIRE'!J211","v":"47100000"},{"$f":"'RELEVE BANCAIRE'!D211*-1","v":0},{"$f":"'RELEVE BANCAIRE'!E211","v":0},{"$f":"'RELEVE BANCAIRE'!C211","v":0},{"$f":"IF(LEFT(D210,1)=\"6\",'RELEVE BANCAIRE'!$O$2,\"\")","v":""},{"$f":"'RELEVE BANCAIRE'!K211","v":""}]
[{"$f":"'RELEVE BANCAIRE'!G212","v":"BQ4"},{"$f":"'RELEVE BANCAIRE'!A212","v":"00:00:00"},{"$f":"'RELEVE BANCAIRE'!H212","v":210},{"$f":"'RELEVE BANCAIRE'!J212","v":"47100000"},{"$f":"'RELEVE BANCAIRE'!D212*-1","v":0},{"$f":"'RELEVE BANCAIRE'!E212","v":0},{"$f":"'RELEVE BANCAIRE'!C212","v":0},{"$f":"IF(LEFT(D211,1)=\"6\",'RELEVE BANCAIRE'!$O$2,\"\")","v":""},{"$f":"'RELEVE BANCAIRE'!K212","v":""}]
[{"$f":"'RELEVE BANCAIRE'!G213","v":"BQ4"},{"$f":"'RELEVE BANCAIRE'!A213","v":"00:00:00"},{"$f":"'RELEVE BANCAIRE'!H213","v":211},{"$f":"'RELEVE BANCAIRE'!J213","v":"47100000"},{"$f":"'RELEVE BANCAIRE'!D213*-1","v":0},{"$f":"'RELEVE BANCAIRE'!E213","v":0},{"$f":"'RELEVE BANCAIRE'!C213","v":0},{"$f":"IF(LEFT(D212,1)=\"6\",'RELEVE BANCAIRE'!$O$2,\"\")","v":""},{"$f":"'RELEVE BANCAIRE'!K213","v":""}]
[{"$f":"'RELEVE BANCAIRE'!G214","v":"BQ4"},{"$f":"'RELEVE BANCAIRE'!A214","v":"00:00:00"},{"$f":"'RELEVE BANCAIRE'!H214","v":212},{"$f":"'RELEVE BANCAIRE'!J214","v":"47100000"},{"$f":"'RELEVE BANCAIRE'!D214*-1","v":0},{"$f":"'RELEVE BANCAIRE'!E214","v":0},{"$f":"'RELEVE BANCAIRE'!C214","v":0},{"$f":"IF(LEFT(D213,1)=\"6\",'RELEVE BANCAIRE'!$O$2,\"\")","v":""},{"$f":"'RELEVE BANCAIRE'!K214","v":""}]
[{"$f":"'RELEVE BANCAIRE'!G215","v":"BQ4"},{"$f":"'RELEVE BANCAIRE'!A215","v":"00:00:00"},{"$f":"'RELEVE BANCAIRE'!H215","v":213},{"$f":"'RELEVE BANCAIRE'!J215","v":"47100000"},{"$f":"'RELEVE BANCAIRE'!D215*-1","v":0},{"$f":"'RELEVE BANCAIRE'!E215","v":0},{"$f":"'RELEVE BANCAIRE'!C215","v":0},{"$f":"IF(LEFT(D214,1)=\"6\",'RELEVE BANCAIRE'!$O$2,\"\")","v":""},{"$f":"'RELEVE BANCAIRE'!K215","v":""}]
[{"$f":"'RELEVE BANCAIRE'!G216","v":"BQ4"},{"$f":"'RELEVE BANCAIRE'!A216","v":"00:00:00"},{"$f":"'RELEVE BANCAIRE'!H216","v":214},{"$f":"'RELEVE BANCAIRE'!J216","v":"47100000"},{"$f":"'RELEVE BANCAIRE'!D216*-1","v":0},{"$f":"'RELEVE BANCAIRE'!E216","v":0},{"$f":"'RELEVE BANCAIRE'!C216","v":0},{"$f":"IF(LEFT(D215,1)=\"6\",'RELEVE BANCAIRE'!$O$2,\"\")","v":""},{"$f":"'RELEVE BANCAIRE'!K216","v":""}]
[{"$f":"'RELEVE BANCAIRE'!G217","v":"BQ4"},{"$f":"'RELEVE BANCAIRE'!A217","v":"00:00:00"},{"$f":"'RELEVE BANCAIRE'!H217","v":215},{"$f":"'RELEVE BANCAIRE'!J217","v":"47100000"},{"$f":"'RELEVE BANCAIRE'!D217*-1","v":0},{"$f":"'RELEVE BANCAIRE'!E217","v":0},{"$f":"'RELEVE BANCAIRE'!C217","v":0},{"$f":"IF(LEFT(D216,1)=\"6\",'RELEVE BANCAIRE'!$O$2,\"\")","v":""},{"$f":"'RELEVE BANCAIRE'!K217","v":""}]
[{"$f":"'RELEVE BANCAIRE'!G218","v":"BQ4"},{"$f":"'RELEVE BANCAIRE'!A218","v":"00:00:00"},{"$f":"'RELEVE BANCAIRE'!H218","v":216},{"$f":"'RELEVE BANCAIRE'!J218","v":"47100000"},{"$f":"'RELEVE BANCAIRE'!D218*-1","v":0},{"$f":"'RELEVE BANCAIRE'!E218","v":0},{"$f":"'RELEVE BANCAIRE'!C218","v":0},{"$f":"IF(LEFT(D217,1)=\"6\",'RELEVE BANCAIRE'!$O$2,\"\")","v":""},{"$f":"'RELEVE BANCAIRE'!K218","v":""}]
[{"$f":"'RELEVE BANCAIRE'!G219","v":"BQ4"},{"$f":"'RELEVE BANCAIRE'!A219","v":"00:00:00"},{"$f":"'RELEVE BANCAIRE'!H219","v":217},{"$f":"'RELEVE BANCAIRE'!J219","v":"47100000"},{"$f":"'RELEVE BANCAIRE'!D219*-1","v":0},{"$f":"'RELEVE BANCAIRE'!E219","v":0},{"$f":"'RELEVE BANCAIRE'!C219","v":0},{"$f":"IF(LEFT(D218,1)=\"6\",'RELEVE BANCAIRE'!$O$2,\"\")","v":""},{"$f":"'RELEVE BANCAIRE'!K219","v":""}]
[{"$f":"'RELEVE BANCAIRE'!G220","v":"BQ4"},{"$f":"'RELEVE BANCAIRE'!A220","v":"00:00:00"},{"$f":"'RELEVE BANCAIRE'!H220","v":218},{"$f":"'RELEVE BANCAIRE'!J220","v":"47100000"},{"$f":"'RELEVE BANCAIRE'!D220*-1","v":0},{"$f":"'RELEVE BANCAIRE'!E220","v":0},{"$f":"'RELEVE BANCAIRE'!C220","v":0},{"$f":"IF(LEFT(D219,1)=\"6\",'RELEVE BANCAIRE'!$O$2,\"\")","v":""},{"$f":"'RELEVE BANCAIRE'!K220","v":""}]
[{"$f":"'RELEVE BANCAIRE'!G221","v":"BQ4"},{"$f":"'RELEVE BANCAIRE'!A221","v":"00:00:00"},{"$f":"'RELEVE BANCAIRE'!H221","v":219},{"$f":"'RELEVE BANCAIRE'!J221","v":"47100000"},{"$f":"'RELEVE BANCAIRE'!D221*-1","v":0},{"$f":"'RELEVE BANCAIRE'!E221","v":0},{"$f":"'RELEVE BANCAIRE'!C221","v":0},{"$f":"IF(LEFT(D220,1)=\"6\",'RELEVE BANCAIRE'!$O$2,\"\")","v":""},{"$f":"'RELEVE BANCAIRE'!K221","v":""}]
[{"$f":"'RELEVE BANCAIRE'!G222","v":"BQ4"},{"$f":"'RELEVE BANCAIRE'!A222","v":"00:00:00"},{"$f":"'RELEVE BANCAIRE'!H222","v":220},{"$f":"'RELEVE BANCAIRE'!J222","v":"47100000"},{"$f":"'RELEVE BANCAIRE'!D222*-1","v":0},{"$f":"'RELEVE BANCAIRE'!E222","v":0},{"$f":"'RELEVE BANCAIRE'!C222","v":0},{"$f":"IF(LEFT(D221,1)=\"6\",'RELEVE BANCAIRE'!$O$2,\"\")","v":""},{"$f":"'RELEVE BANCAIRE'!K222","v":""}]
[{"$f":"'RELEVE BANCAIRE'!G223","v":"BQ4"},{"$f":"'RELEVE BANCAIRE'!A223","v":"00:00:00"},{"$f":"'RELEVE BANCAIRE'!H223","v":221},{"$f":"'RELEVE BANCAIRE'!J223","v":"47100000"},{"$f":"'RELEVE BANCAIRE'!D223*-1","v":0},{"$f":"'RELEVE BANCAIRE'!E223","v":0},{"$f":"'RELEVE BANCAIRE'!C223","v":0},{"$f":"IF(LEFT(D222,1)=\"6\",'RELEVE BANCAIRE'!$O$2,\"\")","v":""},{"$f":"'RELEVE BANCAIRE'!K223","v":""}]
[{"$f":"'RELEVE BANCAIRE'!G224","v":"BQ4"},{"$f":"'RELEVE BANCAIRE'!A224","v":"00:00:00"},{"$f":"'RELEVE BANCAIRE'!H224","v":222},{"$f":"'RELEVE BANCAIRE'!J224","v":"47100000"},{"$f":"'RELEVE BANCAIRE'!D224*-1","v":0},{"$f":"'RELEVE BANCAIRE'!E224","v":0},{"$f":"'RELEVE BANCAIRE'!C224","v":0},{"$f":"IF(LEFT(D223,1)=\"6\",'RELEVE BANCAIRE'!$O$2,\"\")","v":""},{"$f":"'RELEVE BANCAIRE'!K224","v":""}]
[{"$f":"'RELEVE BANCAIRE'!G225","v":"BQ4"},{"$f":"'RELEVE BANCAIRE'!A225","v":"00:00:00"},{"$f":"'RELEVE BANCAIRE'!H225","v":223},{"$f":"'RELEVE BANCAIRE'!J225","v":"47100000"},{"$f":"'RELEVE BANCAIRE'!D225*-1","v":0},{"$f":"'RELEVE BANCAIRE'!E225","v":0},{"$f":"'RELEVE BANCAIRE'!C225","v":0},{"$f":"IF(LEFT(D224,1)=\"6\",'RELEVE BANCAIRE'!$O$2,\"\")","v":""},{"$f":"'RELEVE BANCAIRE'!K225","v":""}]
[{"$f":"'RELEVE BANCAIRE'!G226","v":"BQ4"},{"$f":"'RELEVE BANCAIRE'!A226","v":"00:00:00"},{"$f":"'RELEVE BANCAIRE'!H226","v":224},{"$f":"'RELEVE BANCAIRE'!J226","v":"47100000"},{"$f":"'RELEVE BANCAIRE'!D226*-1","v":0},{"$f":"'RELEVE BANCAIRE'!E226","v":0},{"$f":"'RELEVE BANCAIRE'!C226","v":0},{"$f":"IF(LEFT(D225,1)=\"6\",'RELEVE BANCAIRE'!$O$2,\"\")","v":""},{"$f":"'RELEVE BANCAIRE'!K226","v":""}]
[{"$f":"'RELEVE BANCAIRE'!G227","v":"BQ4"},{"$f":"'RELEVE BANCAIRE'!A227","v":"00:00:00"},{"$f":"'RELEVE BANCAIRE'!H227","v":225},{"$f":"'RELEVE BANCAIRE'!J227","v":"47100000"},{"$f":"'RELEVE BANCAIRE'!D227*-1","v":0},{"$f":"'RELEVE BANCAIRE'!E227","v":0},{"$f":"'RELEVE BANCAIRE'!C227","v":0},{"$f":"IF(LEFT(D226,1)=\"6\",'RELEVE BANCAIRE'!$O$2,\"\")","v":""},{"$f":"'RELEVE BANCAIRE'!K227","v":""}]
[{"$f":"'RELEVE BANCAIRE'!G228","v":"BQ4"},{"$f":"'RELEVE BANCAIRE'!A228","v":"00:00:00"},{"$f":"'RELEVE BANCAIRE'!H228","v":226},{"$f":"'RELEVE BANCAIRE'!J228","v":"47100000"},{"$f":"'RELEVE BANCAIRE'!D228*-1","v":0},{"$f":"'RELEVE BANCAIRE'!E228","v":0},{"$f":"'RELEVE BANCAIRE'!C228","v":0},{"$f":"IF(LEFT(D227,1)=\"6\",'RELEVE BANCAIRE'!$O$2,\"\")","v":""},{"$f":"'RELEVE BANCAIRE'!K228","v":""}]
[{"$f":"'RELEVE BANCAIRE'!G229","v":"BQ4"},{"$f":"'RELEVE BANCAIRE'!A229","v":"00:00:00"},{"$f":"'RELEVE BANCAIRE'!H229","v":227},{"$f":"'RELEVE BANCAIRE'!J229","v":"47100000"},{"$f":"'RELEVE BANCAIRE'!D229*-1","v":0},{"$f":"'RELEVE BANCAIRE'!E229","v":0},{"$f":"'RELEVE BANCAIRE'!C229","v":0},{"$f":"IF(LEFT(D228,1)=\"6\",'RELEVE BANCAIRE'!$O$2,\"\")","v":""},{"$f":"'RELEVE BANCAIRE'!K229","v":""}]
[{"$f":"'RELEVE BANCAIRE'!G230","v":"BQ4"},{"$f":"'RELEVE BANCAIRE'!A230","v":"00:00:00"},{"$f":"'RELEVE BANCAIRE'!H230","v":228},{"$f":"'RELEVE BANCAIRE'!J230","v":"47100000"},{"$f":"'RELEVE BANCAIRE'!D230*-1","v":0},{"$f":"'RELEVE BANCAIRE'!E230","v":0},{"$f":"'RELEVE BANCAIRE'!C230","v":0},{"$f":"IF(LEFT(D229,1)=\"6\",'RELEVE BANCAIRE'!$O$2,\"\")","v":""},{"$f":"'RELEVE BANCAIRE'!K230","v":""}]
[{"$f":"'RELEVE BANCAIRE'!G231","v":"BQ4"},{"$f":"'RELEVE BANCAIRE'!A231","v":"00:00:00"},{"$f":"'RELEVE BANCAIRE'!H231","v":229},{"$f":"'RELEVE BANCAIRE'!J231","v":"47100000"},{"$f":"'RELEVE BANCAIRE'!D231*-1","v":0},{"$f":"'RELEVE BANCAIRE'!E231","v":0},{"$f":"'RELEVE BANCAIRE'!C231","v":0},{"$f":"IF(LEFT(D230,1)=\"6\",'RELEVE BANCAIRE'!$O$2,\"\")","v":""},{"$f":"'RELEVE BANCAIRE'!K231","v":""}]
[{"$f":"'RELEVE BANCAIRE'!G232","v":"BQ4"},{"$f":"'RELEVE BANCAIRE'!A232","v":"00:00:00"},{"$f":"'RELEVE BANCAIRE'!H232","v":230},{"$f":"'RELEVE BANCAIRE'!J232","v":"47100000"},{"$f":"'RELEVE BANCAIRE'!D232*-1","v":0},{"$f":"'RELEVE BANCAIRE'!E232","v":0},{"$f":"'RELEVE BANCAIRE'!C232","v":0},{"$f":"IF(LEFT(D231,1)=\"6\",'RELEVE BANCAIRE'!$O$2,\"\")","v":""},{"$f":"'RELEVE BANCAIRE'!K232","v":""}]
[{"$f":"'RELEVE BANCAIRE'!G233","v":"BQ4"},{"$f":"'RELEVE BANCAIRE'!A233","v":"00:00:00"},{"$f":"'RELEVE BANCAIRE'!H233","v":231},{"$f":"'RELEVE BANCAIRE'!J233","v":"47100000"},{"$f":"'RELEVE BANCAIRE'!D233*-1","v":0},{"$f":"'RELEVE BANCAIRE'!E233","v":0},{"$f":"'RELEVE BANCAIRE'!C233","v":0},{"$f":"IF(LEFT(D232,1)=\"6\",'RELEVE BANCAIRE'!$O$2,\"\")","v":""},{"$f":"'RELEVE BANCAIRE'!K233","v":""}]
[{"$f":"'RELEVE BANCAIRE'!G234","v":"BQ4"},{"$f":"'RELEVE BANCAIRE'!A234","v":"00:00:00"},{"$f":"'RELEVE BANCAIRE'!H234","v":232},{"$f":"'RELEVE BANCAIRE'!J234","v":"47100000"},{"$f":"'RELEVE BANCAIRE'!D234*-1","v":0},{"$f":"'RELEVE BANCAIRE'!E234","v":0},{"$f":"'RELEVE BANCAIRE'!C234","v":0},{"$f":"IF(LEFT(D233,1)=\"6\",'RELEVE BANCAIRE'!$O$2,\"\")","v":""},{"$f":"'RELEVE BANCAIRE'!K234","v":""}]
[{"$f":"'RELEVE BANCAIRE'!G235","v":"BQ4"},{"$f":"'RELEVE BANCAIRE'!A235","v":"00:00:00"},{"$f":"'RELEVE BANCAIRE'!H235","v":233},{"$f":"'RELEVE BANCAIRE'!J235","v":"47100000"},{"$f":"'RELEVE BANCAIRE'!D235*-1","v":0},{"$f":"'RELEVE BANCAIRE'!E235","v":0},{"$f":"'RELEVE BANCAIRE'!C235","v":0},{"$f":"IF(LEFT(D234,1)=\"6\",'RELEVE BANCAIRE'!$O$2,\"\")","v":""},{"$f":"'RELEVE BANCAIRE'!K235","v":""}]
[{"$f":"'RELEVE BANCAIRE'!G236","v":"BQ4"},{"$f":"'RELEVE BANCAIRE'!A236","v":"00:00:00"},{"$f":"'RELEVE BANCAIRE'!H236","v":234},{"$f":"'RELEVE BANCAIRE'!J236","v":"47100000"},{"$f":"'RELEVE BANCAIRE'!D236*-1","v":0},{"$f":"'RELEVE BANCAIRE'!E236","v":0},{"$f":"'RELEVE BANCAIRE'!C236","v":0},{"$f":"IF(LEFT(D235,1)=\"6\",'RELEVE BANCAIRE'!$O$2,\"\")","v":""},{"$f":"'RELEVE BANCAIRE'!K236","v":""}]
[{"$f":"'RELEVE BANCAIRE'!G237","v":"BQ4"},{"$f":"'RELEVE BANCAIRE'!A237","v":"00:00:00"},{"$f":"'RELEVE BANCAIRE'!H237","v":235},{"$f":"'RELEVE BANCAIRE'!J237","v":"47100000"},{"$f":"'RELEVE BANCAIRE'!D237*-1","v":0},{"$f":"'RELEVE BANCAIRE'!E237","v":0},{"$f":"'RELEVE BANCAIRE'!C237","v":0},{"$f":"IF(LEFT(D236,1)=\"6\",'RELEVE BANCAIRE'!$O$2,\"\")","v":""},{"$f":"'RELEVE BANCAIRE'!K237","v":""}]
[{"$f":"'RELEVE BANCAIRE'!G238","v":"BQ4"},{"$f":"'RELEVE BANCAIRE'!A238","v":"00:00:00"},{"$f":"'RELEVE BANCAIRE'!H238","v":236},{"$f":"'RELEVE BANCAIRE'!J238","v":"47100000"},{"$f":"'RELEVE BANCAIRE'!D238*-1","v":0},{"$f":"'RELEVE BANCAIRE'!E238","v":0},{"$f":"'RELEVE BANCAIRE'!C238","v":0},{"$f":"IF(LEFT(D237,1)=\"6\",'RELEVE BANCAIRE'!$O$2,\"\")","v":""},{"$f":"'RELEVE BANCAIRE'!K238","v":""}]
[{"$f":"'RELEVE BANCAIRE'!G239","v":"BQ4"},{"$f":"'RELEVE BANCAIRE'!A239","v":"00:00:00"},{"$f":"'RELEVE BANCAIRE'!H239","v":237},{"$f":"'RELEVE BANCAIRE'!J239","v":"47100000"},{"$f":"'RELEVE BANCAIRE'!D239*-1","v":0},{"$f":"'RELEVE BANCAIRE'!E239","v":0},{"$f":"'RELEVE BANCAIRE'!C239","v":0},{"$f":"IF(LEFT(D238,1)=\"6\",'RELEVE BANCAIRE'!$O$2,\"\")","v":""},{"$f":"'RELEVE BANCAIRE'!K239","v":""}]
[{"$f":"'RELEVE BANCAIRE'!G240","v":"BQ4"},{"$f":"'RELEVE BANCAIRE'!A240","v":"00:00:00"},{"$f":"'RELEVE BANCAIRE'!H240","v":238},{"$f":"'RELEVE BANCAIRE'!J240","v":"47100000"},{"$f":"'RELEVE BANCAIRE'!D240*-1","v":0},{"$f":"'RELEVE BANCAIRE'!E240","v":0},{"$f":"'RELEVE BANCAIRE'!C240","v":0},{"$f":"IF(LEFT(D239,1)=\"6\",'RELEVE BANCAIRE'!$O$2,\"\")","v":""},{"$f":"'RELEVE BANCAIRE'!K240","v":""}]
[{"$f":"'RELEVE BANCAIRE'!G241","v":"BQ4"},{"$f":"'RELEVE BANCAIRE'!A241","v":"00:00:00"},{"$f":"'RELEVE BANCAIRE'!H241","v":239},{"$f":"'RELEVE BANCAIRE'!J241","v":"47100000"},{"$f":"'RELEVE BANCAIRE'!D241*-1","v":0},{"$f":"'RELEVE BANCAIRE'!E241","v":0},{"$f":"'RELEVE BANCAIRE'!C241","v":0},{"$f":"IF(LEFT(D240,1)=\"6\",'RELEVE BANCAIRE'!$O$2,\"\")","v":""},{"$f":"'RELEVE BANCAIRE'!K241","v":""}]
[{"$f":"'RELEVE BANCAIRE'!G242","v":"BQ4"},{"$f":"'RELEVE BANCAIRE'!A242","v":"00:00:00"},{"$f":"'RELEVE BANCAIRE'!H242","v":240},{"$f":"'RELEVE BANCAIRE'!J242","v":"47100000"},{"$f":"'RELEVE BANCAIRE'!D242*-1","v":0},{"$f":"'RELEVE BANCAIRE'!E242","v":0},{"$f":"'RELEVE BANCAIRE'!C242","v":0},{"$f":"IF(LEFT(D241,1)=\"6\",'RELEVE BANCAIRE'!$O$2,\"\")","v":""},{"$f":"'RELEVE BANCAIRE'!K242","v":""}]
[{"$f":"'RELEVE BANCAIRE'!G243","v":"BQ4"},{"$f":"'RELEVE BANCAIRE'!A243","v":"00:00:00"},{"$f":"'RELEVE BANCAIRE'!H243","v":241},{"$f":"'RELEVE BANCAIRE'!J243","v":"47100000"},{"$f":"'RELEVE BANCAIRE'!D243*-1","v":0},{"$f":"'RELEVE BANCAIRE'!E243","v":0},{"$f":"'RELEVE BANCAIRE'!C243","v":0},{"$f":"IF(LEFT(D242,1)=\"6\",'RELEVE BANCAIRE'!$O$2,\"\")","v":""},{"$f":"'RELEVE BANCAIRE'!K243","v":""}]
[{"$f":"'RELEVE BANCAIRE'!G244","v":"BQ4"},{"$f":"'RELEVE BANCAIRE'!A244","v":"00:00:00"},{"$f":"'RELEVE BANCAIRE'!H244","v":242},{"$f":"'RELEVE BANCAIRE'!J244","v":"47100000"},{"$f":"'RELEVE BANCAIRE'!D244*-1","v":0},{"$f":"'RELEVE BANCAIRE'!E244","v":0},{"$f":"'RELEVE BANCAIRE'!C244","v":0},{"$f":"IF(LEFT(D243,1)=\"6\",'RELEVE BANCAIRE'!$O$2,\"\")","v":""},{"$f":"'RELEVE BANCAIRE'!K244","v":""}]
[{"$f":"'RELEVE BANCAIRE'!G245","v":"BQ4"},{"$f":"'RELEVE BANCAIRE'!A245","v":"00:00:00"},{"$f":"'RELEVE BANCAIRE'!H245","v":243},{"$f":"'RELEVE BANCAIRE'!J245","v":"47100000"},{"$f":"'RELEVE BANCAIRE'!D245*-1","v":0},{"$f":"'RELEVE BANCAIRE'!E245","v":0},{"$f":"'RELEVE BANCAIRE'!C245","v":0},{"$f":"IF(LEFT(D244,1)=\"6\",'RELEVE BANCAIRE'!$O$2,\"\")","v":""},{"$f":"'RELEVE BANCAIRE'!K245","v":""}]
[{"$f":"'RELEVE BANCAIRE'!G246","v":"BQ4"},{"$f":"'RELEVE BANCAIRE'!A246","v":"00:00:00"},{"$f":"'RELEVE BANCAIRE'!H246","v":244},{"$f":"'RELEVE BANCAIRE'!J246","v":"47100000"},{"$f":"'RELEVE BANCAIRE'!D246*-1","v":0},{"$f":"'RELEVE BANCAIRE'!E246","v":0},{"$f":"'RELEVE BANCAIRE'!C246","v":0},{"$f":"IF(LEFT(D245,1)=\"6\",'RELEVE BANCAIRE'!$O$2,\"\")","v":""},{"$f":"'RELEVE BANCAIRE'!K246","v":""}]
[{"$f":"'RELEVE BANCAIRE'!G247","v":"BQ4"},{"$f":"'RELEVE BANCAIRE'!A247","v":"00:00:00"},{"$f":"'RELEVE BANCAIRE'!H247","v":245},{"$f":"'RELEVE BANCAIRE'!J247","v":"47100000"},{"$f":"'RELEVE BANCAIRE'!D247*-1","v":0},{"$f":"'RELEVE BANCAIRE'!E247","v":0},{"$f":"'RELEVE BANCAIRE'!C247","v":0},{"$f":"IF(LEFT(D246,1)=\"6\",'RELEVE BANCAIRE'!$O$2,\"\")","v":""},{"$f":"'RELEVE BANCAIRE'!K247","v":""}]
[{"$f":"'RELEVE BANCAIRE'!G248","v":"BQ4"},{"$f":"'RELEVE BANCAIRE'!A248","v":"00:00:00"},{"$f":"'RELEVE BANCAIRE'!H248","v":246},{"$f":"'RELEVE BANCAIRE'!J248","v":"47100000"},{"$f":"'RELEVE BANCAIRE'!D248*-1","v":0},{"$f":"'RELEVE BANCAIRE'!E248","v":0},{"$f":"'RELEVE BANCAIRE'!C248","v":0},{"$f":"IF(LEFT(D247,1)=\"6\",'RELEVE BANCAIRE'!$O$2,\"\")","v":""},{"$f":"'RELEVE BANCAIRE'!K248","v":""}]
[{"$f":"'RELEVE BANCAIRE'!G249","v":"BQ4"},{"$f":"'RELEVE BANCAIRE'!A249","v":"00:00:00"},{"$f":"'RELEVE BANCAIRE'!H249","v":247},{"$f":"'RELEVE BANCAIRE'!J249","v":"47100000"},{"$f":"'RELEVE BANCAIRE'!D249*-1","v":0},{"$f":"'RELEVE BANCAIRE'!E249","v":0},{"$f":"'RELEVE BANCAIRE'!C249","v":0},{"$f":"IF(LEFT(D248,1)=\"6\",'RELEVE BANCAIRE'!$O$2,\"\")","v":""},{"$f":"'RELEVE BANCAIRE'!K249","v":""}]
[{"$f":"'RELEVE BANCAIRE'!G250","v":"BQ4"},{"$f":"'RELEVE BANCAIRE'!A250","v":"00:00:00"},{"$f":"'RELEVE BANCAIRE'!H250","v":248},{"$f":"'RELEVE BANCAIRE'!J250","v":"47100000"},{"$f":"'RELEVE BANCAIRE'!D250*-1","v":0},{"$f":"'RELEVE BANCAIRE'!E250","v":0},{"$f":"'RELEVE BANCAIRE'!C250","v":0},{"$f":"IF(LEFT(D249,1)=\"6\",'RELEVE BANCAIRE'!$O$2,\"\")","v":""},{"$f":"'RELEVE BANCAIRE'!K250","v":""}]
[{"$f":"'RELEVE BANCAIRE'!G251","v":"BQ4"},{"$f":"'RELEVE BANCAIRE'!A251","v":"00:00:00"},{"$f":"'RELEVE BANCAIRE'!H251","v":249},{"$f":"'RELEVE BANCAIRE'!J251","v":"47100000"},{"$f":"'RELEVE BANCAIRE'!D251*-1","v":0},{"$f":"'RELEVE BANCAIRE'!E251","v":0},{"$f":"'RELEVE BANCAIRE'!C251","v":0},{"$f":"IF(LEFT(D250,1)=\"6\",'RELEVE BANCAIRE'!$O$2,\"\")","v":""},{"$f":"'RELEVE BANCAIRE'!K251","v":""}]
[{"$f":"'RELEVE BANCAIRE'!G252","v":"BQ4"},{"$f":"'RELEVE BANCAIRE'!A252","v":"00:00:00"},{"$f":"'RELEVE BANCAIRE'!H252","v":250},{"$f":"'RELEVE BANCAIRE'!J252","v":"47100000"},{"$f":"'RELEVE BANCAIRE'!D252*-1","v":0},{"$f":"'RELEVE BANCAIRE'!E252","v":0},{"$f":"'RELEVE BANCAIRE'!C252","v":0},{"$f":"IF(LEFT(D251,1)=\"6\",'RELEVE BANCAIRE'!$O$2,\"\")","v":""},{"$f":"'RELEVE BANCAIRE'!K252","v":""}]
[{"$f":"'RELEVE BANCAIRE'!G253","v":"BQ4"},{"$f":"'RELEVE BANCAIRE'!A253","v":"00:00:00"},{"$f":"'RELEVE BANCAIRE'!H253","v":251},{"$f":"'RELEVE BANCAIRE'!J253","v":"47100000"},{"$f":"'RELEVE BANCAIRE'!D253*-1","v":0},{"$f":"'RELEVE BANCAIRE'!E253","v":0},{"$f":"'RELEVE BANCAIRE'!C253","v":0},{"$f":"IF(LEFT(D252,1)=\"6\",'RELEVE BANCAIRE'!$O$2,\"\")","v":""},{"$f":"'RELEVE BANCAIRE'!K253","v":""}]
[{"$f":"'RELEVE BANCAIRE'!G254","v":"BQ4"},{"$f":"'RELEVE BANCAIRE'!A254","v":"00:00:00"},{"$f":"'RELEVE BANCAIRE'!H254","v":252},{"$f":"'RELEVE BANCAIRE'!J254","v":"47100000"},{"$f":"'RELEVE BANCAIRE'!D254*-1","v":0},{"$f":"'RELEVE BANCAIRE'!E254","v":0},{"$f":"'RELEVE BANCAIRE'!C254","v":0},{"$f":"IF(LEFT(D253,1)=\"6\",'RELEVE BANCAIRE'!$O$2,\"\")","v":""},{"$f":"'RELEVE BANCAIRE'!K254","v":""}]
[{"$f":"'RELEVE BANCAIRE'!G255","v":"BQ4"},{"$f":"'RELEVE BANCAIRE'!A255","v":"00:00:00"},{"$f":"'RELEVE BANCAIRE'!H255","v":253},{"$f":"'RELEVE BANCAIRE'!J255","v":"47100000"},{"$f":"'RELEVE BANCAIRE'!D255*-1","v":0},{"$f":"'RELEVE BANCAIRE'!E255","v":0},{"$f":"'RELEVE BANCAIRE'!C255","v":0},{"$f":"IF(LEFT(D254,1)=\"6\",'RELEVE BANCAIRE'!$O$2,\"\")","v":""},{"$f":"'RELEVE BANCAIRE'!K255","v":""}]
[{"$f":"'RELEVE BANCAIRE'!G256","v":"BQ4"},{"$f":"'RELEVE BANCAIRE'!A256","v":"00:00:00"},{"$f":"'RELEVE BANCAIRE'!H256","v":254},{"$f":"'RELEVE BANCAIRE'!J256","v":"47100000"},{"$f":"'RELEVE BANCAIRE'!D256*-1","v":0},{"$f":"'RELEVE BANCAIRE'!E256","v":0},{"$f":"'RELEVE BANCAIRE'!C256","v":0},{"$f":"IF(LEFT(D255,1)=\"6\",'RELEVE BANCAIRE'!$O$2,\"\")","v":""},{"$f":"'RELEVE BANCAIRE'!K256","v":""}]
[{"$f":"'RELEVE BANCAIRE'!G257","v":"BQ4"},{"$f":"'RELEVE BANCAIRE'!A257","v":"00:00:00"},{"$f":"'RELEVE BANCAIRE'!H257","v":255},{"$f":"'RELEVE BANCAIRE'!J257","v":"47100000"},{"$f":"'RELEVE BANCAIRE'!D257*-1","v":0},{"$f":"'RELEVE BANCAIRE'!E257","v":0},{"$f":"'RELEVE BANCAIRE'!C257","v":0},{"$f":"IF(LEFT(D256,1)=\"6\",'RELEVE BANCAIRE'!$O$2,\"\")","v":""},{"$f":"'RELEVE BANCAIRE'!K257","v":""}]
[{"$f":"'RELEVE BANCAIRE'!G258","v":"BQ4"},{"$f":"'RELEVE BANCAIRE'!A258","v":"00:00:00"},{"$f":"'RELEVE BANCAIRE'!H258","v":256},{"$f":"'RELEVE BANCAIRE'!J258","v":"47100000"},{"$f":"'RELEVE BANCAIRE'!D258*-1","v":0},{"$f":"'RELEVE BANCAIRE'!E258","v":0},{"$f":"'RELEVE BANCAIRE'!C258","v":0},{"$f":"IF(LEFT(D257,1)=\"6\",'RELEVE BANCAIRE'!$O$2,\"\")","v":""},{"$f":"'RELEVE BANCAIRE'!K258","v":""}]
[{"$f":"'RELEVE BANCAIRE'!G259","v":"BQ4"},{"$f":"'RELEVE BANCAIRE'!A259","v":"00:00:00"},{"$f":"'RELEVE BANCAIRE'!H259","v":257},{"$f":"'RELEVE BANCAIRE'!J259","v":"47100000"},{"$f":"'RELEVE BANCAIRE'!D259*-1","v":0},{"$f":"'RELEVE BANCAIRE'!E259","v":0},{"$f":"'RELEVE BANCAIRE'!C259","v":0},{"$f":"IF(LEFT(D258,1)=\"6\",'RELEVE BANCAIRE'!$O$2,\"\")","v":""},{"$f":"'RELEVE BANCAIRE'!K259","v":""}]
[{"$f":"'RELEVE BANCAIRE'!G260","v":"BQ4"},{"$f":"'RELEVE BANCAIRE'!A260","v":"00:00:00"},{"$f":"'RELEVE BANCAIRE'!H260","v":258},{"$f":"'RELEVE BANCAIRE'!J260","v":"47100000"},{"$f":"'RELEVE BANCAIRE'!D260*-1","v":0},{"$f":"'RELEVE BANCAIRE'!E260","v":0},{"$f":"'RELEVE BANCAIRE'!C260","v":0},{"$f":"IF(LEFT(D259,1)=\"6\",'RELEVE BANCAIRE'!$O$2,\"\")","v":""},{"$f":"'RELEVE BANCAIRE'!K260","v":""}]
[{"$f":"'RELEVE BANCAIRE'!G261","v":"BQ4"},{"$f":"'RELEVE BANCAIRE'!A261","v":"00:00:00"},{"$f":"'RELEVE BANCAIRE'!H261","v":259},{"$f":"'RELEVE BANCAIRE'!J261","v":"47100000"},{"$f":"'RELEVE BANCAIRE'!D261*-1","v":0},{"$f":"'RELEVE BANCAIRE'!E261","v":0},{"$f":"'RELEVE BANCAIRE'!C261","v":0},{"$f":"IF(LEFT(D260,1)=\"6\",'RELEVE BANCAIRE'!$O$2,\"\")","v":""},{"$f":"'RELEVE BANCAIRE'!K261","v":""}]
[{"$f":"'RELEVE BANCAIRE'!G262","v":"BQ4"},{"$f":"'RELEVE BANCAIRE'!A262","v":"00:00:00"},{"$f":"'RELEVE BANCAIRE'!H262","v":260},{"$f":"'RELEVE BANCAIRE'!J262","v":"47100000"},{"$f":"'RELEVE BANCAIRE'!D262*-1","v":0},{"$f":"'RELEVE BANCAIRE'!E262","v":0},{"$f":"'RELEVE BANCAIRE'!C262","v":0},{"$f":"IF(LEFT(D261,1)=\"6\",'RELEVE BANCAIRE'!$O$2,\"\")","v":""},{"$f":"'RELEVE BANCAIRE'!K262","v":""}]
[{"$f":"'RELEVE BANCAIRE'!G263","v":"BQ4"},{"$f":"'RELEVE BANCAIRE'!A263","v":"00:00:00"},{"$f":"'RELEVE BANCAIRE'!H263","v":261},{"$f":"'RELEVE BANCAIRE'!J263","v":"47100000"},{"$f":"'RELEVE BANCAIRE'!D263*-1","v":0},{"$f":"'RELEVE BANCAIRE'!E263","v":0},{"$f":"'RELEVE BANCAIRE'!C263","v":0},{"$f":"IF(LEFT(D262,1)=\"6\",'RELEVE BANCAIRE'!$O$2,\"\")","v":""},{"$f":"'RELEVE BANCAIRE'!K263","v":""}]
[{"$f":"'RELEVE BANCAIRE'!G264","v":"BQ4"},{"$f":"'RELEVE BANCAIRE'!A264","v":"00:00:00"},{"$f":"'RELEVE BANCAIRE'!H264","v":262},{"$f":"'RELEVE BANCAIRE'!J264","v":"47100000"},{"$f":"'RELEVE BANCAIRE'!D264*-1","v":0},{"$f":"'RELEVE BANCAIRE'!E264","v":0},{"$f":"'RELEVE BANCAIRE'!C264","v":0},{"$f":"IF(LEFT(D263,1)=\"6\",'RELEVE BANCAIRE'!$O$2,\"\")","v":""},{"$f":"'RELEVE BANCAIRE'!K264","v":""}]
[{"$f":"'RELEVE BANCAIRE'!G265","v":"BQ4"},{"$f":"'RELEVE BANCAIRE'!A265","v":"00:00:00"},{"$f":"'RELEVE BANCAIRE'!H265","v":263},{"$f":"'RELEVE BANCAIRE'!J265","v":"47100000"},{"$f":"'RELEVE BANCAIRE'!D265*-1","v":0},{"$f":"'RELEVE BANCAIRE'!E265","v":0},{"$f":"'RELEVE BANCAIRE'!C265","v":0},{"$f":"IF(LEFT(D264,1)=\"6\",'RELEVE BANCAIRE'!$O$2,\"\")","v":""},{"$f":"'RELEVE BANCAIRE'!K265","v":""}]
[{"$f":"'RELEVE BANCAIRE'!G266","v":"BQ4"},{"$f":"'RELEVE BANCAIRE'!A266","v":"00:00:00"},{"$f":"'RELEVE BANCAIRE'!H266","v":264},{"$f":"'RELEVE BANCAIRE'!J266","v":"47100000"},{"$f":"'RELEVE BANCAIRE'!D266*-1","v":0},{"$f":"'RELEVE BANCAIRE'!E266","v":0},{"$f":"'RELEVE BANCAIRE'!C266","v":0},{"$f":"IF(LEFT(D265,1)=\"6\",'RELEVE BANCAIRE'!$O$2,\"\")","v":""},{"$f":"'RELEVE BANCAIRE'!K266","v":""}]
[{"$f":"'RELEVE BANCAIRE'!G267","v":"BQ4"},{"$f":"'RELEVE BANCAIRE'!A267","v":"00:00:00"},{"$f":"'RELEVE BANCAIRE'!H267","v":265},{"$f":"'RELEVE BANCAIRE'!J267","v":"47100000"},{"$f":"'RELEVE BANCAIRE'!D267*-1","v":0},{"$f":"'RELEVE BANCAIRE'!E267","v":0},{"$f":"'RELEVE BANCAIRE'!C267","v":0},{"$f":"IF(LEFT(D266,1)=\"6\",'RELEVE BANCAIRE'!$O$2,\"\")","v":""},{"$f":"'RELEVE BANCAIRE'!K267","v":""}]
[{"$f":"'RELEVE BANCAIRE'!G268","v":"BQ4"},{"$f":"'RELEVE BANCAIRE'!A268","v":"00:00:00"},{"$f":"'RELEVE BANCAIRE'!H268","v":266},{"$f":"'RELEVE BANCAIRE'!J268","v":"47100000"},{"$f":"'RELEVE BANCAIRE'!D268*-1","v":0},{"$f":"'RELEVE BANCAIRE'!E268","v":0},{"$f":"'RELEVE BANCAIRE'!C268","v":0},{"$f":"IF(LEFT(D267,1)=\"6\",'RELEVE BANCAIRE'!$O$2,\"\")","v":""},{"$f":"'RELEVE BANCAIRE'!K268","v":""}]
[{"$f":"'RELEVE BANCAIRE'!G269","v":"BQ4"},{"$f":"'RELEVE BANCAIRE'!A269","v":"00:00:00"},{"$f":"'RELEVE BANCAIRE'!H269","v":267},{"$f":"'RELEVE BANCAIRE'!J269","v":"47100000"},{"$f":"'RELEVE BANCAIRE'!D269*-1","v":0},{"$f":"'RELEVE BANCAIRE'!E269","v":0},{"$f":"'RELEVE BANCAIRE'!C269","v":0},{"$f":"IF(LEFT(D268,1)=\"6\",'RELEVE BANCAIRE'!$O$2,\"\")","v":""},{"$f":"'RELEVE BANCAIRE'!K269","v":""}]
[{"$f":"'RELEVE BANCAIRE'!G270","v":"BQ4"},{"$f":"'RELEVE BANCAIRE'!A270","v":"00:00:00"},{"$f":"'RELEVE BANCAIRE'!H270","v":268},{"$f":"'RELEVE BANCAIRE'!J270","v":"47100000"},{"$f":"'RELEVE BANCAIRE'!D270*-1","v":0},{"$f":"'RELEVE BANCAIRE'!E270","v":0},{"$f":"'RELEVE BANCAIRE'!C270","v":0},{"$f":"IF(LEFT(D269,1)=\"6\",'RELEVE BANCAIRE'!$O$2,\"\")","v":""},{"$f":"'RELEVE BANCAIRE'!K270","v":""}]
[{"$f":"'RELEVE BANCAIRE'!G271","v":"BQ4"},{"$f":"'RELEVE BANCAIRE'!A271","v":"00:00:00"},{"$f":"'RELEVE BANCAIRE'!H271","v":269},{"$f":"'RELEVE BANCAIRE'!J271","v":"47100000"},{"$f":"'RELEVE BANCAIRE'!D271*-1","v":0},{"$f":"'RELEVE BANCAIRE'!E271","v":0},{"$f":"'RELEVE BANCAIRE'!C271","v":0},{"$f":"IF(LEFT(D270,1)=\"6\",'RELEVE BANCAIRE'!$O$2,\"\")","v":""},{"$f":"'RELEVE BANCAIRE'!K271","v":""}]
[{"$f":"'RELEVE BANCAIRE'!G272","v":"BQ4"},{"$f":"'RELEVE BANCAIRE'!A272","v":"00:00:00"},{"$f":"'RELEVE BANCAIRE'!H272","v":270},{"$f":"'RELEVE BANCAIRE'!J272","v":"47100000"},{"$f":"'RELEVE BANCAIRE'!D272*-1","v":0},{"$f":"'RELEVE BANCAIRE'!E272","v":0},{"$f":"'RELEVE BANCAIRE'!C272","v":0},{"$f":"IF(LEFT(D271,1)=\"6\",'RELEVE BANCAIRE'!$O$2,\"\")","v":""},{"$f":"'RELEVE BANCAIRE'!K272","v":""}]
[{"$f":"'RELEVE BANCAIRE'!G273","v":"BQ4"},{"$f":"'RELEVE BANCAIRE'!A273","v":"00:00:00"},{"$f":"'RELEVE BANCAIRE'!H273","v":271},{"$f":"'RELEVE BANCAIRE'!J273","v":"47100000"},{"$f":"'RELEVE BANCAIRE'!D273*-1","v":0},{"$f":"'RELEVE BANCAIRE'!E273","v":0},{"$f":"'RELEVE BANCAIRE'!C273","v":0},{"$f":"IF(LEFT(D272,1)=\"6\",'RELEVE BANCAIRE'!$O$2,\"\")","v":""},{"$f":"'RELEVE BANCAIRE'!K273","v":""}]
[{"$f":"'RELEVE BANCAIRE'!G274","v":"BQ4"},{"$f":"'RELEVE BANCAIRE'!A274","v":"00:00:00"},{"$f":"'RELEVE BANCAIRE'!H274","v":272},{"$f":"'RELEVE BANCAIRE'!J274","v":"47100000"},{"$f":"'RELEVE BANCAIRE'!D274*-1","v":0},{"$f":"'RELEVE BANCAIRE'!E274","v":0},{"$f":"'RELEVE BANCAIRE'!C274","v":0},{"$f":"IF(LEFT(D273,1)=\"6\",'RELEVE BANCAIRE'!$O$2,\"\")","v":""},{"$f":"'RELEVE BANCAIRE'!K274","v":""}]
[{"$f":"'RELEVE BANCAIRE'!G275","v":"BQ4"},{"$f":"'RELEVE BANCAIRE'!A275","v":"00:00:00"},{"$f":"'RELEVE BANCAIRE'!H275","v":273},{"$f":"'RELEVE BANCAIRE'!J275","v":"47100000"},{"$f":"'RELEVE BANCAIRE'!D275*-1","v":0},{"$f":"'RELEVE BANCAIRE'!E275","v":0},{"$f":"'RELEVE BANCAIRE'!C275","v":0},{"$f":"IF(LEFT(D274,1)=\"6\",'RELEVE BANCAIRE'!$O$2,\"\")","v":""},{"$f":"'RELEVE BANCAIRE'!K275","v":""}]
[{"$f":"'RELEVE BANCAIRE'!G276","v":"BQ4"},{"$f":"'RELEVE BANCAIRE'!A276","v":"00:00:00"},{"$f":"'RELEVE BANCAIRE'!H276","v":274},{"$f":"'RELEVE BANCAIRE'!J276","v":"47100000"},{"$f":"'RELEVE BANCAIRE'!D276*-1","v":0},{"$f":"'RELEVE BANCAIRE'!E276","v":0},{"$f":"'RELEVE BANCAIRE'!C276","v":0},{"$f":"IF(LEFT(D275,1)=\"6\",'RELEVE BANCAIRE'!$O$2,\"\")","v":""},{"$f":"'RELEVE BANCAIRE'!K276","v":""}]
[{"$f":"'RELEVE BANCAIRE'!G277","v":"BQ4"},{"$f":"'RELEVE BANCAIRE'!A277","v":"00:00:00"},{"$f":"'RELEVE BANCAIRE'!H277","v":275},{"$f":"'RELEVE BANCAIRE'!J277","v":"47100000"},{"$f":"'RELEVE BANCAIRE'!D277*-1","v":0},{"$f":"'RELEVE BANCAIRE'!E277","v":0},{"$f":"'RELEVE BANCAIRE'!C277","v":0},{"$f":"IF(LEFT(D276,1)=\"6\",'RELEVE BANCAIRE'!$O$2,\"\")","v":""},{"$f":"'RELEVE BANCAIRE'!K277","v":""}]
[{"$f":"'RELEVE BANCAIRE'!G278","v":"BQ4"},{"$f":"'RELEVE BANCAIRE'!A278","v":"00:00:00"},{"$f":"'RELEVE BANCAIRE'!H278","v":276},{"$f":"'RELEVE BANCAIRE'!J278","v":"47100000"},{"$f":"'RELEVE BANCAIRE'!D278*-1","v":0},{"$f":"'RELEVE BANCAIRE'!E278","v":0},{"$f":"'RELEVE BANCAIRE'!C278","v":0},{"$f":"IF(LEFT(D277,1)=\"6\",'RELEVE BANCAIRE'!$O$2,\"\")","v":""},{"$f":"'RELEVE BANCAIRE'!K278","v":""}]
[{"$f":"'RELEVE BANCAIRE'!G279","v":"BQ4"},{"$f":"'RELEVE BANCAIRE'!A279","v":"00:00:00"},{"$f":"'RELEVE BANCAIRE'!H279","v":277},{"$f":"'RELEVE BANCAIRE'!J279","v":"47100000"},{"$f":"'RELEVE BANCAIRE'!D279*-1","v":0},{"$f":"'RELEVE BANCAIRE'!E279","v":0},{"$f":"'RELEVE BANCAIRE'!C279","v":0},{"$f":"IF(LEFT(D278,1)=\"6\",'RELEVE BANCAIRE'!$O$2,\"\")","v":""},{"$f":"'RELEVE BANCAIRE'!K279","v":""}]
[{"$f":"'RELEVE BANCAIRE'!G280","v":"BQ4"},{"$f":"'RELEVE BANCAIRE'!A280","v":"00:00:00"},{"$f":"'RELEVE BANCAIRE'!H280","v":278},{"$f":"'RELEVE BANCAIRE'!J280","v":"47100000"},{"$f":"'RELEVE BANCAIRE'!D280*-1","v":0},{"$f":"'RELEVE BANCAIRE'!E280","v":0},{"$f":"'RELEVE BANCAIRE'!C280","v":0},{"$f":"IF(LEFT(D279,1)=\"6\",'RELEVE BANCAIRE'!$O$2,\"\")","v":""},{"$f":"'RELEVE BANCAIRE'!K280","v":""}]
[{"$f":"'RELEVE BANCAIRE'!G281","v":"BQ4"},{"$f":"'RELEVE BANCAIRE'!A281","v":"00:00:00"},{"$f":"'RELEVE BANCAIRE'!H281","v":279},{"$f":"'RELEVE BANCAIRE'!J281","v":"47100000"},{"$f":"'RELEVE BANCAIRE'!D281*-1","v":0},{"$f":"'RELEVE BANCAIRE'!E281","v":0},{"$f":"'RELEVE BANCAIRE'!C281","v":0},{"$f":"IF(LEFT(D280,1)=\"6\",'RELEVE BANCAIRE'!$O$2,\"\")","v":""},{"$f":"'RELEVE BANCAIRE'!K281","v":""}]
[{"$f":"'RELEVE BANCAIRE'!G282","v":"BQ4"},{"$f":"'RELEVE BANCAIRE'!A282","v":"00:00:00"},{"$f":"'RELEVE BANCAIRE'!H282","v":280},{"$f":"'RELEVE BANCAIRE'!J282","v":"47100000"},{"$f":"'RELEVE BANCAIRE'!D282*-1","v":0},{"$f":"'RELEVE BANCAIRE'!E282","v":0},{"$f":"'RELEVE BANCAIRE'!C282","v":0},{"$f":"IF(LEFT(D281,1)=\"6\",'RELEVE BANCAIRE'!$O$2,\"\")","v":""},{"$f":"'RELEVE BANCAIRE'!K282","v":""}]
[{"$f":"'RELEVE BANCAIRE'!G283","v":"BQ4"},{"$f":"'RELEVE BANCAIRE'!A283","v":"00:00:00"},{"$f":"'RELEVE BANCAIRE'!H283","v":281},{"$f":"'RELEVE BANCAIRE'!J283","v":"47100000"},{"$f":"'RELEVE BANCAIRE'!D283*-1","v":0},{"$f":"'RELEVE BANCAIRE'!E283","v":0},{"$f":"'RELEVE BANCAIRE'!C283","v":0},{"$f":"IF(LEFT(D282,1)=\"6\",'RELEVE BANCAIRE'!$O$2,\"\")","v":""},{"$f":"'RELEVE BANCAIRE'!K283","v":""}]
[{"$f":"'RELEVE BANCAIRE'!G284","v":"BQ4"},{"$f":"'RELEVE BANCAIRE'!A284","v":"00:00:00"},{"$f":"'RELEVE BANCAIRE'!H284","v":282},{"$f":"'RELEVE BANCAIRE'!J284","v":"47100000"},{"$f":"'RELEVE BANCAIRE'!D284*-1","v":0},{"$f":"'RELEVE BANCAIRE'!E284","v":0},{"$f":"'RELEVE BANCAIRE'!C284","v":0},{"$f":"IF(LEFT(D283,1)=\"6\",'RELEVE BANCAIRE'!$O$2,\"\")","v":""},{"$f":"'RELEVE BANCAIRE'!K284","v":""}]
[{"$f":"'RELEVE BANCAIRE'!G285","v":"BQ4"},{"$f":"'RELEVE BANCAIRE'!A285","v":"00:00:00"},{"$f":"'RELEVE BANCAIRE'!H285","v":283},{"$f":"'RELEVE BANCAIRE'!J285","v":"47100000"},{"$f":"'RELEVE BANCAIRE'!D285*-1","v":0},{"$f":"'RELEVE BANCAIRE'!E285","v":0},{"$f":"'RELEVE BANCAIRE'!C285","v":0},{"$f":"IF(LEFT(D284,1)=\"6\",'RELEVE BANCAIRE'!$O$2,\"\")","v":""},{"$f":"'RELEVE BANCAIRE'!K285","v":""}]
[{"$f":"'RELEVE BANCAIRE'!G286","v":"BQ4"},{"$f":"'RELEVE BANCAIRE'!A286","v":"00:00:00"},{"$f":"'RELEVE BANCAIRE'!H286","v":284},{"$f":"'RELEVE BANCAIRE'!J286","v":"47100000"},{"$f":"'RELEVE BANCAIRE'!D286*-1","v":0},{"$f":"'RELEVE BANCAIRE'!E286","v":0},{"$f":"'RELEVE BANCAIRE'!C286","v":0},{"$f":"IF(LEFT(D285,1)=\"6\",'RELEVE BANCAIRE'!$O$2,\"\")","v":""},{"$f":"'RELEVE BANCAIRE'!K286","v":""}]
[{"$f":"'RELEVE BANCAIRE'!G287","v":"BQ4"},{"$f":"'RELEVE BANCAIRE'!A287","v":"00:00:00"},{"$f":"'RELEVE BANCAIRE'!H287","v":285},{"$f":"'RELEVE BANCAIRE'!J287","v":"47100000"},{"$f":"'RELEVE BANCAIRE'!D287*-1","v":0},{"$f":"'RELEVE BANCAIRE'!E287","v":0},{"$f":"'RELEVE BANCAIRE'!C287","v":0},{"$f":"IF(LEFT(D286,1)=\"6\",'RELEVE BANCAIRE'!$O$2,\"\")","v":""},{"$f":"'RELEVE BANCAIRE'!K287","v":""}]
[{"$f":"'RELEVE BANCAIRE'!G288","v":"BQ4"},{"$f":"'RELEVE BANCAIRE'!A288","v":"00:00:00"},{"$f":"'RELEVE BANCAIRE'!H288","v":286},{"$f":"'RELEVE BANCAIRE'!J288","v":"47100000"},{"$f":"'RELEVE BANCAIRE'!D288*-1","v":0},{"$f":"'RELEVE BANCAIRE'!E288","v":0},{"$f":"'RELEVE BANCAIRE'!C288","v":0},{"$f":"IF(LEFT(D287,1)=\"6\",'RELEVE BANCAIRE'!$O$2,\"\")","v":""},{"$f":"'RELEVE BANCAIRE'!K288","v":""}]
[{"$f":"'RELEVE BANCAIRE'!G289","v":"BQ4"},{"$f":"'RELEVE BANCAIRE'!A289","v":"00:00:00"},{"$f":"'RELEVE BANCAIRE'!H289","v":287},{"$f":"'RELEVE BANCAIRE'!J289","v":"47100000"},{"$f":"'RELEVE BANCAIRE'!D289*-1","v":0},{"$f":"'RELEVE BANCAIRE'!E289","v":0},{"$f":"'RELEVE BANCAIRE'!C289","v":0},{"$f":"IF(LEFT(D288,1)=\"6\",'RELEVE BANCAIRE'!$O$2,\"\")","v":""},{"$f":"'RELEVE BANCAIRE'!K289","v":""}]
[{"$f":"'RELEVE BANCAIRE'!G290","v":"BQ4"},{"$f":"'RELEVE BANCAIRE'!A290","v":"00:00:00"},{"$f":"'RELEVE BANCAIRE'!H290","v":288},{"$f":"'RELEVE BANCAIRE'!J290","v":"47100000"},{"$f":"'RELEVE BANCAIRE'!D290*-1","v":0},{"$f":"'RELEVE BANCAIRE'!E290","v":0},{"$f":"'RELEVE BANCAIRE'!C290","v":0},{"$f":"IF(LEFT(D289,1)=\"6\",'RELEVE BANCAIRE'!$O$2,\"\")","v":""},{"$f":"'RELEVE BANCAIRE'!K290","v":""}]
[{"$f":"'RELEVE BANCAIRE'!G291","v":"BQ4"},{"$f":"'RELEVE BANCAIRE'!A291","v":"00:00:00"},{"$f":"'RELEVE BANCAIRE'!H291","v":289},{"$f":"'RELEVE BANCAIRE'!J291","v":"47100000"},{"$f":"'RELEVE BANCAIRE'!D291*-1","v":0},{"$f":"'RELEVE BANCAIRE'!E291","v":0},{"$f":"'RELEVE BANCAIRE'!C291","v":0},{"$f":"IF(LEFT(D290,1)=\"6\",'RELEVE BANCAIRE'!$O$2,\"\")","v":""},{"$f":"'RELEVE BANCAIRE'!K291","v":""}]
[{"$f":"'RELEVE BANCAIRE'!G292","v":"BQ4"},{"$f":"'RELEVE BANCAIRE'!A292","v":"00:00:00"},{"$f":"'RELEVE BANCAIRE'!H292","v":290},{"$f":"'RELEVE BANCAIRE'!J292","v":"47100000"},{"$f":"'RELEVE BANCAIRE'!D292*-1","v":0},{"$f":"'RELEVE BANCAIRE'!E292","v":0},{"$f":"'RELEVE BANCAIRE'!C292","v":0},{"$f":"IF(LEFT(D291,1)=\"6\",'RELEVE BANCAIRE'!$O$2,\"\")","v":""},{"$f":"'RELEVE BANCAIRE'!K292","v":""}]
[{"$f":"'RELEVE BANCAIRE'!G293","v":"BQ4"},{"$f":"'RELEVE BANCAIRE'!A293","v":"00:00:00"},{"$f":"'RELEVE BANCAIRE'!H293","v":291},{"$f":"'RELEVE BANCAIRE'!J293","v":"47100000"},{"$f":"'RELEVE BANCAIRE'!D293*-1","v":0},{"$f":"'RELEVE BANCAIRE'!E293","v":0},{"$f":"'RELEVE BANCAIRE'!C293","v":0},{"$f":"IF(LEFT(D292,1)=\"6\",'RELEVE BANCAIRE'!$O$2,\"\")","v":""},{"$f":"'RELEVE BANCAIRE'!K293","v":""}]
[{"$f":"'RELEVE BANCAIRE'!G294","v":"BQ4"},{"$f":"'RELEVE BANCAIRE'!A294","v":"00:00:00"},{"$f":"'RELEVE BANCAIRE'!H294","v":292},{"$f":"'RELEVE BANCAIRE'!J294","v":"47100000"},{"$f":"'RELEVE BANCAIRE'!D294*-1","v":0},{"$f":"'RELEVE BANCAIRE'!E294","v":0},{"$f":"'RELEVE BANCAIRE'!C294","v":0},{"$f":"IF(LEFT(D293,1)=\"6\",'RELEVE BANCAIRE'!$O$2,\"\")","v":""},{"$f":"'RELEVE BANCAIRE'!K294","v":""}]
[{"$f":"'RELEVE BANCAIRE'!G295","v":"BQ4"},{"$f":"'RELEVE BANCAIRE'!A295","v":"00:00:00"},{"$f":"'RELEVE BANCAIRE'!H295","v":293},{"$f":"'RELEVE BANCAIRE'!J295","v":"47100000"},{"$f":"'RELEVE BANCAIRE'!D295*-1","v":0},{"$f":"'RELEVE BANCAIRE'!E295","v":0},{"$f":"'RELEVE BANCAIRE'!C295","v":0},{"$f":"IF(LEFT(D294,1)=\"6\",'RELEVE BANCAIRE'!$O$2,\"\")","v":""},{"$f":"'RELEVE BANCAIRE'!K295","v":""}]
[{"$f":"'RELEVE BANCAIRE'!G296","v":"BQ4"},{"$f":"'RELEVE BANCAIRE'!A296","v":"00:00:00"},{"$f":"'RELEVE BANCAIRE'!H296","v":294},{"$f":"'RELEVE BANCAIRE'!J296","v":"47100000"},{"$f":"'RELEVE BANCAIRE'!D296*-1","v":0},{"$f":"'RELEVE BANCAIRE'!E296","v":0},{"$f":"'RELEVE BANCAIRE'!C296","v":0},{"$f":"IF(LEFT(D295,1)=\"6\",'RELEVE BANCAIRE'!$O$2,\"\")","v":""},{"$f":"'RELEVE BANCAIRE'!K296","v":""}]
[{"$f":"'RELEVE BANCAIRE'!G297","v":"BQ4"},{"$f":"'RELEVE BANCAIRE'!A297","v":"00:00:00"},{"$f":"'RELEVE BANCAIRE'!H297","v":295},{"$f":"'RELEVE BANCAIRE'!J297","v":"47100000"},{"$f":"'RELEVE BANCAIRE'!D297*-1","v":0},{"$f":"'RELEVE BANCAIRE'!E297","v":0},{"$f":"'RELEVE BANCAIRE'!C297","v":0},{"$f":"IF(LEFT(D296,1)=\"6\",'RELEVE BANCAIRE'!$O$2,\"\")","v":""},{"$f":"'RELEVE BANCAIRE'!K297","v":""}]
[{"$f":"'RELEVE BANCAIRE'!G298","v":"BQ4"},{"$f":"'RELEVE BANCAIRE'!A298","v":"00:00:00"},{"$f":"'RELEVE BANCAIRE'!H298","v":296},{"$f":"'RELEVE BANCAIRE'!J298","v":"47100000"},{"$f":"'RELEVE BANCAIRE'!D298*-1","v":0},{"$f":"'RELEVE BANCAIRE'!E298","v":0},{"$f":"'RELEVE BANCAIRE'!C298","v":0},{"$f":"IF(LEFT(D297,1)=\"6\",'RELEVE BANCAIRE'!$O$2,\"\")","v":""},{"$f":"'RELEVE BANCAIRE'!K298","v":""}]
[{"$f":"'RELEVE BANCAIRE'!G299","v":"BQ4"},{"$f":"'RELEVE BANCAIRE'!A299","v":"00:00:00"},{"$f":"'RELEVE BANCAIRE'!H299","v":297},{"$f":"'RELEVE BANCAIRE'!J299","v":"47100000"},{"$f":"'RELEVE BANCAIRE'!D299*-1","v":0},{"$f":"'RELEVE BANCAIRE'!E299","v":0},{"$f":"'RELEVE BANCAIRE'!C299","v":0},{"$f":"IF(LEFT(D298,1)=\"6\",'RELEVE BANCAIRE'!$O$2,\"\")","v":""},{"$f":"'RELEVE BANCAIRE'!K299","v":""}]
[{"$f":"'RELEVE BANCAIRE'!G300","v":"BQ4"},{"$f":"'RELEVE BANCAIRE'!A300","v":"00:00:00"},{"$f":"'RELEVE BANCAIRE'!H300","v":298},{"$f":"'RELEVE BANCAIRE'!J300","v":"47100000"},{"$f":"'RELEVE BANCAIRE'!D300*-1","v":0},{"$f":"'RELEVE BANCAIRE'!E300","v":0},{"$f":"'RELEVE BANCAIRE'!C300","v":0},{"$f":"IF(LEFT(D299,1)=\"6\",'RELEVE BANCAIRE'!$O$2,\"\")","v":""},{"$f":"'RELEVE BANCAIRE'!K300","v":""}]
[{"$f":"'RELEVE BANCAIRE'!G301","v":"BQ4"},{"$f":"'RELEVE BANCAIRE'!A301","v":"00:00:00"},{"$f":"'RELEVE BANCAIRE'!H301","v":299},{"$f":"'RELEVE BANCAIRE'!J301","v":"47100000"},{"$f":"'RELEVE BANCAIRE'!D301*-1","v":0},{"$f":"'RELEVE BANCAIRE'!E301","v":0},{"$f":"'RELEVE BANCAIRE'!C301","v":0},{"$f":"IF(LEFT(D300,1)=\"6\",'RELEVE BANCAIRE'!$O$2,\"\")","v":""},{"$f":"'RELEVE BANCAIRE'!K301","v":""}]
[{"$f":"'RELEVE BANCAIRE'!G302","v":"BQ4"},{"$f":"'RELEVE BANCAIRE'!A302","v":"00:00:00"},{"$f":"'RELEVE BANCAIRE'!H302","v":300},{"$f":"'RELEVE BANCAIRE'!J302","v":"47100000"},{"$f":"'RELEVE BANCAIRE'!D302*-1","v":0},{"$f":"'RELEVE BANCAIRE'!E302","v":0},{"$f":"'RELEVE BANCAIRE'!C302","v":0},{"$f":"IF(LEFT(D301,1)=\"6\",'RELEVE BANCAIRE'!$O$2,\"\")","v":""},{"$f":"'RELEVE BANCAIRE'!K302","v":""}]
[{"$f":"'RELEVE BANCAIRE'!G303","v":"BQ4"},{"$f":"'RELEVE BANCAIRE'!A303","v":"00:00:00"},{"$f":"'RELEVE BANCAIRE'!H303","v":301},{"$f":"'RELEVE BANCAIRE'!J303","v":"47100000"},{"$f":"'RELEVE BANCAIRE'!D303*-1","v":0},{"$f":"'RELEVE BANCAIRE'!E303","v":0},{"$f":"'RELEVE BANCAIRE'!C303","v":0},{"$f":"IF(LEFT(D302,1)=\"6\",'RELEVE BANCAIRE'!$O$2,\"\")","v":""},{"$f":"'RELEVE BANCAIRE'!K303","v":""}]
[{"$f":"'RELEVE BANCAIRE'!G304","v":"BQ4"},{"$f":"'RELEVE BANCAIRE'!A304","v":"00:00:00"},{"$f":"'RELEVE BANCAIRE'!H304","v":302},{"$f":"'RELEVE BANCAIRE'!J304","v":"47100000"},{"$f":"'RELEVE BANCAIRE'!D304*-1","v":0},{"$f":"'RELEVE BANCAIRE'!E304","v":0},{"$f":"'RELEVE BANCAIRE'!C304","v":0},{"$f":"IF(LEFT(D303,1)=\"6\",'RELEVE BANCAIRE'!$O$2,\"\")","v":""},{"$f":"'RELEVE BANCAIRE'!K304","v":""}]
[{"$f":"'RELEVE BANCAIRE'!G305","v":"BQ4"},{"$f":"'RELEVE BANCAIRE'!A305","v":"00:00:00"},{"$f":"'RELEVE BANCAIRE'!H305","v":303},{"$f":"'RELEVE BANCAIRE'!J305","v":"47100000"},{"$f":"'RELEVE BANCAIRE'!D305*-1","v":0},{"$f":"'RELEVE BANCAIRE'!E305","v":0},{"$f":"'RELEVE BANCAIRE'!C305","v":0},{"$f":"IF(LEFT(D304,1)=\"6\",'RELEVE BANCAIRE'!$O$2,\"\")","v":""},{"$f":"'RELEVE BANCAIRE'!K305","v":""}]
[{"$f":"'RELEVE BANCAIRE'!G306","v":"BQ4"},{"$f":"'RELEVE BANCAIRE'!A306","v":"00:00:00"},{"$f":"'RELEVE BANCAIRE'!H306","v":304},{"$f":"'RELEVE BANCAIRE'!J306","v":"47100000"},{"$f":"'RELEVE BANCAIRE'!D306*-1","v":0},{"$f":"'RELEVE BANCAIRE'!E306","v":0},{"$f":"'RELEVE BANCAIRE'!C306","v":0},{"$f":"IF(LEFT(D305,1)=\"6\",'RELEVE BANCAIRE'!$O$2,\"\")","v":""},{"$f":"'RELEVE BANCAIRE'!K306","v":""}]
[{"$f":"'RELEVE BANCAIRE'!G307","v":"BQ4"},{"$f":"'RELEVE BANCAIRE'!A307","v":"00:00:00"},{"$f":"'RELEVE BANCAIRE'!H307","v":305},{"$f":"'RELEVE BANCAIRE'!J307","v":"47100000"},{"$f":"'RELEVE BANCAIRE'!D307*-1","v":0},{"$f":"'RELEVE BANCAIRE'!E307","v":0},{"$f":"'RELEVE BANCAIRE'!C307","v":0},{"$f":"IF(LEFT(D306,1)=\"6\",'RELEVE BANCAIRE'!$O$2,\"\")","v":""},{"$f":"'RELEVE BANCAIRE'!K307","v":""}]
[{"$f":"'RELEVE BANCAIRE'!G308","v":"BQ4"},{"$f":"'RELEVE BANCAIRE'!A308","v":"00:00:00"},{"$f":"'RELEVE BANCAIRE'!H308","v":306},{"$f":"'RELEVE BANCAIRE'!J308","v":"47100000"},{"$f":"'RELEVE BANCAIRE'!D308*-1","v":0},{"$f":"'RELEVE BANCAIRE'!E308","v":0},{"$f":"'RELEVE BANCAIRE'!C308","v":0},{"$f":"IF(LEFT(D307,1)=\"6\",'RELEVE BANCAIRE'!$O$2,\"\")","v":""},{"$f":"'RELEVE BANCAIRE'!K308","v":""}]
[{"$f":"'RELEVE BANCAIRE'!G309","v":"BQ4"},{"$f":"'RELEVE BANCAIRE'!A309","v":"00:00:00"},{"$f":"'RELEVE BANCAIRE'!H309","v":307},{"$f":"'RELEVE BANCAIRE'!J309","v":"47100000"},{"$f":"'RELEVE BANCAIRE'!D309*-1","v":0},{"$f":"'RELEVE BANCAIRE'!E309","v":0},{"$f":"'RELEVE BANCAIRE'!C309","v":0},{"$f":"IF(LEFT(D308,1)=\"6\",'RELEVE BANCAIRE'!$O$2,\"\")","v":""},{"$f":"'RELEVE BANCAIRE'!K309","v":""}]
[{"$f":"'RELEVE BANCAIRE'!G310","v":"BQ4"},{"$f":"'RELEVE BANCAIRE'!A310","v":"00:00:00"},{"$f":"'RELEVE BANCAIRE'!H310","v":308},{"$f":"'RELEVE BANCAIRE'!J310","v":"47100000"},{"$f":"'RELEVE BANCAIRE'!D310*-1","v":0},{"$f":"'RELEVE BANCAIRE'!E310","v":0},{"$f":"'RELEVE BANCAIRE'!C310","v":0},{"$f":"IF(LEFT(D309,1)=\"6\",'RELEVE BANCAIRE'!$O$2,\"\")","v":""},{"$f":"'RELEVE BANCAIRE'!K310","v":""}]
[{"$f":"'RELEVE BANCAIRE'!G311","v":"BQ4"},{"$f":"'RELEVE BANCAIRE'!A311","v":"00:00:00"},{"$f":"'RELEVE BANCAIRE'!H311","v":309},{"$f":"'RELEVE BANCAIRE'!J311","v":"47100000"},{"$f":"'RELEVE BANCAIRE'!D311*-1","v":0},{"$f":"'RELEVE BANCAIRE'!E311","v":0},{"$f":"'RELEVE BANCAIRE'!C311","v":0},{"$f":"IF(LEFT(D310,1)=\"6\",'RELEVE BANCAIRE'!$O$2,\"\")","v":""},{"$f":"'RELEVE BANCAIRE'!K311","v":""}]
[{"$f":"'RELEVE BANCAIRE'!G312","v":"BQ4"},{"$f":"'RELEVE BANCAIRE'!A312","v":"00:00:00"},{"$f":"'RELEVE BANCAIRE'!H312","v":310},{"$f":"'RELEVE BANCAIRE'!J312","v":"47100000"},{"$f":"'RELEVE BANCAIRE'!D312*-1","v":0},{"$f":"'RELEVE BANCAIRE'!E312","v":0},{"$f":"'RELEVE BANCAIRE'!C312","v":0},{"$f":"IF(LEFT(D311,1)=\"6\",'RELEVE BANCAIRE'!$O$2,\"\")","v":""},{"$f":"'RELEVE BANCAIRE'!K312","v":""}]
[{"$f":"'RELEVE BANCAIRE'!G313","v":"BQ4"},{"$f":"'RELEVE BANCAIRE'!A313","v":"00:00:00"},{"$f":"'RELEVE BANCAIRE'!H313","v":311},{"$f":"'RELEVE BANCAIRE'!J313","v":"47100000"},{"$f":"'RELEVE BANCAIRE'!D313*-1","v":0},{"$f":"'RELEVE BANCAIRE'!E313","v":0},{"$f":"'RELEVE BANCAIRE'!C313","v":0},{"$f":"IF(LEFT(D312,1)=\"6\",'RELEVE BANCAIRE'!$O$2,\"\")","v":""},{"$f":"'RELEVE BANCAIRE'!K313","v":""}]
[{"$f":"'RELEVE BANCAIRE'!G314","v":"BQ4"},{"$f":"'RELEVE BANCAIRE'!A314","v":"00:00:00"},{"$f":"'RELEVE BANCAIRE'!H314","v":312},{"$f":"'RELEVE BANCAIRE'!J314","v":"47100000"},{"$f":"'RELEVE BANCAIRE'!D314*-1","v":0},{"$f":"'RELEVE BANCAIRE'!E314","v":0},{"$f":"'RELEVE BANCAIRE'!C314","v":0},{"$f":"IF(LEFT(D313,1)=\"6\",'RELEVE BANCAIRE'!$O$2,\"\")","v":""},{"$f":"'RELEVE BANCAIRE'!K314","v":""}]
[{"$f":"'RELEVE BANCAIRE'!G315","v":"BQ4"},{"$f":"'RELEVE BANCAIRE'!A315","v":"00:00:00"},{"$f":"'RELEVE BANCAIRE'!H315","v":313},{"$f":"'RELEVE BANCAIRE'!J315","v":"47100000"},{"$f":"'RELEVE BANCAIRE'!D315*-1","v":0},{"$f":"'RELEVE BANCAIRE'!E315","v":0},{"$f":"'RELEVE BANCAIRE'!C315","v":0},{"$f":"IF(LEFT(D314,1)=\"6\",'RELEVE BANCAIRE'!$O$2,\"\")","v":""},{"$f":"'RELEVE BANCAIRE'!K315","v":""}]
[{"$f":"'RELEVE BANCAIRE'!G316","v":"BQ4"},{"$f":"'RELEVE BANCAIRE'!A316","v":"00:00:00"},{"$f":"'RELEVE BANCAIRE'!H316","v":314},{"$f":"'RELEVE BANCAIRE'!J316","v":"47100000"},{"$f":"'RELEVE BANCAIRE'!D316*-1","v":0},{"$f":"'RELEVE BANCAIRE'!E316","v":0},{"$f":"'RELEVE BANCAIRE'!C316","v":0},{"$f":"IF(LEFT(D315,1)=\"6\",'RELEVE BANCAIRE'!$O$2,\"\")","v":""},{"$f":"'RELEVE BANCAIRE'!K316","v":""}]
[{"$f":"'RELEVE BANCAIRE'!G317","v":"BQ4"},{"$f":"'RELEVE BANCAIRE'!A317","v":"00:00:00"},{"$f":"'RELEVE BANCAIRE'!H317","v":315},{"$f":"'RELEVE BANCAIRE'!J317","v":"47100000"},{"$f":"'RELEVE BANCAIRE'!D317*-1","v":0},{"$f":"'RELEVE BANCAIRE'!E317","v":0},{"$f":"'RELEVE BANCAIRE'!C317","v":0},{"$f":"IF(LEFT(D316,1)=\"6\",'RELEVE BANCAIRE'!$O$2,\"\")","v":""},{"$f":"'RELEVE BANCAIRE'!K317","v":""}]
[{"$f":"'RELEVE BANCAIRE'!G318","v":"BQ4"},{"$f":"'RELEVE BANCAIRE'!A318","v":"00:00:00"},{"$f":"'RELEVE BANCAIRE'!H318","v":316},{"$f":"'RELEVE BANCAIRE'!J318","v":"47100000"},{"$f":"'RELEVE BANCAIRE'!D318*-1","v":0},{"$f":"'RELEVE BANCAIRE'!E318","v":0},{"$f":"'RELEVE BANCAIRE'!C318","v":0},{"$f":"IF(LEFT(D317,1)=\"6\",'RELEVE BANCAIRE'!$O$2,\"\")","v":""},{"$f":"'RELEVE BANCAIRE'!K318","v":""}]
[{"$f":"'RELEVE BANCAIRE'!G319","v":"BQ4"},{"$f":"'RELEVE BANCAIRE'!A319","v":"00:00:00"},{"$f":"'RELEVE BANCAIRE'!H319","v":317},{"$f":"'RELEVE BANCAIRE'!J319","v":"47100000"},{"$f":"'RELEVE BANCAIRE'!D319*-1","v":0},{"$f":"'RELEVE BANCAIRE'!E319","v":0},{"$f":"'RELEVE BANCAIRE'!C319","v":0},{"$f":"IF(LEFT(D318,1)=\"6\",'RELEVE BANCAIRE'!$O$2,\"\")","v":""},{"$f":"'RELEVE BANCAIRE'!K319","v":""}]
[{"$f":"'RELEVE BANCAIRE'!G320","v":"BQ4"},{"$f":"'RELEVE BANCAIRE'!A320","v":"00:00:00"},{"$f":"'RELEVE BANCAIRE'!H320","v":318},{"$f":"'RELEVE BANCAIRE'!J320","v":"47100000"},{"$f":"'RELEVE BANCAIRE'!D320*-1","v":0},{"$f":"'RELEVE BANCAIRE'!E320","v":0},{"$f":"'RELEVE BANCAIRE'!C320","v":0},{"$f":"IF(LEFT(D319,1)=\"6\",'RELEVE BANCAIRE'!$O$2,\"\")","v":""},{"$f":"'RELEVE BANCAIRE'!K320","v":""}]
[{"$f":"'RELEVE BANCAIRE'!G321","v":"BQ4"},{"$f":"'RELEVE BANCAIRE'!A321","v":"00:00:00"},{"$f":"'RELEVE BANCAIRE'!H321","v":319},{"$f":"'RELEVE BANCAIRE'!J321","v":"47100000"},{"$f":"'RELEVE BANCAIRE'!D321*-1","v":0},{"$f":"'RELEVE BANCAIRE'!E321","v":0},{"$f":"'RELEVE BANCAIRE'!C321","v":0},{"$f":"IF(LEFT(D320,1)=\"6\",'RELEVE BANCAIRE'!$O$2,\"\")","v":""},{"$f":"'RELEVE BANCAIRE'!K321","v":""}]
[{"$f":"'RELEVE BANCAIRE'!G322","v":"BQ4"},{"$f":"'RELEVE BANCAIRE'!A322","v":"00:00:00"},{"$f":"'RELEVE BANCAIRE'!H322","v":320},{"$f":"'RELEVE BANCAIRE'!J322","v":"47100000"},{"$f":"'RELEVE BANCAIRE'!D322*-1","v":0},{"$f":"'RELEVE BANCAIRE'!E322","v":0},{"$f":"'RELEVE BANCAIRE'!C322","v":0},{"$f":"IF(LEFT(D321,1)=\"6\",'RELEVE BANCAIRE'!$O$2,\"\")","v":""},{"$f":"'RELEVE BANCAIRE'!K322","v":""}]
[{"$f":"'RELEVE BANCAIRE'!G323","v":"BQ4"},{"$f":"'RELEVE BANCAIRE'!A323","v":"00:00:00"},{"$f":"'RELEVE BANCAIRE'!H323","v":321},{"$f":"'RELEVE BANCAIRE'!J323","v":"47100000"},{"$f":"'RELEVE BANCAIRE'!D323*-1","v":0},{"$f":"'RELEVE BANCAIRE'!E323","v":0},{"$f":"'RELEVE BANCAIRE'!C323","v":0},{"$f":"IF(LEFT(D322,1)=\"6\",'RELEVE BANCAIRE'!$O$2,\"\")","v":""},{"$f":"'RELEVE BANCAIRE'!K323","v":""}]
[{"$f":"'RELEVE BANCAIRE'!G324","v":"BQ4"},{"$f":"'RELEVE BANCAIRE'!A324","v":"00:00:00"},{"$f":"'RELEVE BANCAIRE'!H324","v":322},{"$f":"'RELEVE BANCAIRE'!J324","v":"47100000"},{"$f":"'RELEVE BANCAIRE'!D324*-1","v":0},{"$f":"'RELEVE BANCAIRE'!E324","v":0},{"$f":"'RELEVE BANCAIRE'!C324","v":0},{"$f":"IF(LEFT(D323,1)=\"6\",'RELEVE BANCAIRE'!$O$2,\"\")","v":""},{"$f":"'RELEVE BANCAIRE'!K324","v":""}]
[{"$f":"'RELEVE BANCAIRE'!G325","v":"BQ4"},{"$f":"'RELEVE BANCAIRE'!A325","v":"00:00:00"},{"$f":"'RELEVE BANCAIRE'!H325","v":323},{"$f":"'RELEVE BANCAIRE'!J325","v":"47100000"},{"$f":"'RELEVE BANCAIRE'!D325*-1","v":0},{"$f":"'RELEVE BANCAIRE'!E325","v":0},{"$f":"'RELEVE BANCAIRE'!C325","v":0},{"$f":"IF(LEFT(D324,1)=\"6\",'RELEVE BANCAIRE'!$O$2,\"\")","v":""},{"$f":"'RELEVE BANCAIRE'!K325","v":""}]
[{"$f":"'RELEVE BANCAIRE'!G326","v":"BQ4"},{"$f":"'RELEVE BANCAIRE'!A326","v":"00:00:00"},{"$f":"'RELEVE BANCAIRE'!H326","v":324},{"$f":"'RELEVE BANCAIRE'!J326","v":"47100000"},{"$f":"'RELEVE BANCAIRE'!D326*-1","v":0},{"$f":"'RELEVE BANCAIRE'!E326","v":0},{"$f":"'RELEVE BANCAIRE'!C326","v":0},{"$f":"IF(LEFT(D325,1)=\"6\",'RELEVE BANCAIRE'!$O$2,\"\")","v":""},{"$f":"'RELEVE BANCAIRE'!K326","v":""}]
[{"$f":"'RELEVE BANCAIRE'!G327","v":"BQ4"},{"$f":"'RELEVE BANCAIRE'!A327","v":"00:00:00"},{"$f":"'RELEVE BANCAIRE'!H327","v":325},{"$f":"'RELEVE BANCAIRE'!J327","v":"47100000"},{"$f":"'RELEVE BANCAIRE'!D327*-1","v":0},{"$f":"'RELEVE BANCAIRE'!E327","v":0},{"$f":"'RELEVE BANCAIRE'!C327","v":0},{"$f":"IF(LEFT(D326,1)=\"6\",'RELEVE BANCAIRE'!$O$2,\"\")","v":""},{"$f":"'RELEVE BANCAIRE'!K327","v":""}]
[{"$f":"'RELEVE BANCAIRE'!G328","v":"BQ4"},{"$f":"'RELEVE BANCAIRE'!A328","v":"00:00:00"},{"$f":"'RELEVE BANCAIRE'!H328","v":326},{"$f":"'RELEVE BANCAIRE'!J328","v":"47100000"},{"$f":"'RELEVE BANCAIRE'!D328*-1","v":0},{"$f":"'RELEVE BANCAIRE'!E328","v":0},{"$f":"'RELEVE BANCAIRE'!C328","v":0},{"$f":"IF(LEFT(D327,1)=\"6\",'RELEVE BANCAIRE'!$O$2,\"\")","v":""},{"$f":"'RELEVE BANCAIRE'!K328","v":""}]
[{"$f":"'RELEVE BANCAIRE'!G329","v":"BQ4"},{"$f":"'RELEVE BANCAIRE'!A329","v":"00:00:00"},{"$f":"'RELEVE BANCAIRE'!H329","v":327},{"$f":"'RELEVE BANCAIRE'!J329","v":"47100000"},{"$f":"'RELEVE BANCAIRE'!D329*-1","v":0},{"$f":"'RELEVE BANCAIRE'!E329","v":0},{"$f":"'RELEVE BANCAIRE'!C329","v":0},{"$f":"IF(LEFT(D328,1)=\"6\",'RELEVE BANCAIRE'!$O$2,\"\")","v":""},{"$f":"'RELEVE BANCAIRE'!K329","v":""}]
[{"$f":"'RELEVE BANCAIRE'!G330","v":"BQ4"},{"$f":"'RELEVE BANCAIRE'!A330","v":"00:00:00"},{"$f":"'RELEVE BANCAIRE'!H330","v":328},{"$f":"'RELEVE BANCAIRE'!J330","v":"47100000"},{"$f":"'RELEVE BANCAIRE'!D330*-1","v":0},{"$f":"'RELEVE BANCAIRE'!E330","v":0},{"$f":"'RELEVE BANCAIRE'!C330","v":0},{"$f":"IF(LEFT(D329,1)=\"6\",'RELEVE BANCAIRE'!$O$2,\"\")","v":""},{"$f":"'RELEVE BANCAIRE'!K330","v":""}]
[{"$f":"'RELEVE BANCAIRE'!G331","v":"BQ4"},{"$f":"'RELEVE BANCAIRE'!A331","v":"00:00:00"},{"$f":"'RELEVE BANCAIRE'!H331","v":329},{"$f":"'RELEVE BANCAIRE'!J331","v":"47100000"},{"$f":"'RELEVE BANCAIRE'!D331*-1","v":0},{"$f":"'RELEVE BANCAIRE'!E331","v":0},{"$f":"'RELEVE BANCAIRE'!C331","v":0},{"$f":"IF(LEFT(D330,1)=\"6\",'RELEVE BANCAIRE'!$O$2,\"\")","v":""},{"$f":"'RELEVE BANCAIRE'!K331","v":""}]
[{"$f":"'RELEVE BANCAIRE'!G332","v":"BQ4"},{"$f":"'RELEVE BANCAIRE'!A332","v":"00:00:00"},{"$f":"'RELEVE BANCAIRE'!H332","v":330},{"$f":"'RELEVE BANCAIRE'!J332","v":"47100000"},{"$f":"'RELEVE BANCAIRE'!D332*-1","v":0},{"$f":"'RELEVE BANCAIRE'!E332","v":0},{"$f":"'RELEVE BANCAIRE'!C332","v":0},{"$f":"IF(LEFT(D331,1)=\"6\",'RELEVE BANCAIRE'!$O$2,\"\")","v":""},{"$f":"'RELEVE BANCAIRE'!K332","v":""}]
[{"$f":"'RELEVE BANCAIRE'!G333","v":"BQ4"},{"$f":"'RELEVE BANCAIRE'!A333","v":"00:00:00"},{"$f":"'RELEVE BANCAIRE'!H333","v":331},{"$f":"'RELEVE BANCAIRE'!J333","v":"47100000"},{"$f":"'RELEVE BANCAIRE'!D333*-1","v":0},{"$f":"'RELEVE BANCAIRE'!E333","v":0},{"$f":"'RELEVE BANCAIRE'!C333","v":0},{"$f":"IF(LEFT(D332,1)=\"6\",'RELEVE BANCAIRE'!$O$2,\"\")","v":""},{"$f":"'RELEVE BANCAIRE'!K333","v":""}]
[{"$f":"'RELEVE BANCAIRE'!G334","v":"BQ4"},{"$f":"'RELEVE BANCAIRE'!A334","v":"00:00:00"},{"$f":"'RELEVE BANCAIRE'!H334","v":332},{"$f":"'RELEVE BANCAIRE'!J334","v":"47100000"},{"$f":"'RELEVE BANCAIRE'!D334*-1","v":0},{"$f":"'RELEVE BANCAIRE'!E334","v":0},{"$f":"'RELEVE BANCAIRE'!C334","v":0},{"$f":"IF(LEFT(D333,1)=\"6\",'RELEVE BANCAIRE'!$O$2,\"\")","v":""},{"$f":"'RELEVE BANCAIRE'!K334","v":""}]
[{"$f":"'RELEVE BANCAIRE'!G335","v":"BQ4"},{"$f":"'RELEVE BANCAIRE'!A335","v":"00:00:00"},{"$f":"'RELEVE BANCAIRE'!H335","v":333},{"$f":"'RELEVE BANCAIRE'!J335","v":"47100000"},{"$f":"'RELEVE BANCAIRE'!D335*-1","v":0},{"$f":"'RELEVE BANCAIRE'!E335","v":0},{"$f":"'RELEVE BANCAIRE'!C335","v":0},{"$f":"IF(LEFT(D334,1)=\"6\",'RELEVE BANCAIRE'!$O$2,\"\")","v":""},{"$f":"'RELEVE BANCAIRE'!K335","v":""}]
[{"$f":"'RELEVE BANCAIRE'!G336","v":"BQ4"},{"$f":"'RELEVE BANCAIRE'!A336","v":"00:00:00"},{"$f":"'RELEVE BANCAIRE'!H336","v":334},{"$f":"'RELEVE BANCAIRE'!J336","v":"47100000"},{"$f":"'RELEVE BANCAIRE'!D336*-1","v":0},{"$f":"'RELEVE BANCAIRE'!E336","v":0},{"$f":"'RELEVE BANCAIRE'!C336","v":0},{"$f":"IF(LEFT(D335,1)=\"6\",'RELEVE BANCAIRE'!$O$2,\"\")","v":""},{"$f":"'RELEVE BANCAIRE'!K336","v":""}]
[{"$f":"'RELEVE BANCAIRE'!G337","v":"BQ4"},{"$f":"'RELEVE BANCAIRE'!A337","v":"00:00:00"},{"$f":"'RELEVE BANCAIRE'!H337","v":335},{"$f":"'RELEVE BANCAIRE'!J337","v":"47100000"},{"$f":"'RELEVE BANCAIRE'!D337*-1","v":0},{"$f":"'RELEVE BANCAIRE'!E337","v":0},{"$f":"'RELEVE BANCAIRE'!C337","v":0},{"$f":"IF(LEFT(D336,1)=\"6\",'RELEVE BANCAIRE'!$O$2,\"\")","v":""},{"$f":"'RELEVE BANCAIRE'!K337","v":""}]
[{"$f":"'RELEVE BANCAIRE'!G338","v":"BQ4"},{"$f":"'RELEVE BANCAIRE'!A338","v":"00:00:00"},{"$f":"'RELEVE BANCAIRE'!H338","v":336},{"$f":"'RELEVE BANCAIRE'!J338","v":"47100000"},{"$f":"'RELEVE BANCAIRE'!D338*-1","v":0},{"$f":"'RELEVE BANCAIRE'!E338","v":0},{"$f":"'RELEVE BANCAIRE'!C338","v":0},{"$f":"IF(LEFT(D337,1)=\"6\",'RELEVE BANCAIRE'!$O$2,\"\")","v":""},{"$f":"'RELEVE BANCAIRE'!K338","v":""}]
[{"$f":"'RELEVE BANCAIRE'!G339","v":"BQ4"},{"$f":"'RELEVE BANCAIRE'!A339","v":"00:00:00"},{"$f":"'RELEVE BANCAIRE'!H339","v":337},{"$f":"'RELEVE BANCAIRE'!J339","v":"47100000"},{"$f":"'RELEVE BANCAIRE'!D339*-1","v":0},{"$f":"'RELEVE BANCAIRE'!E339","v":0},{"$f":"'RELEVE BANCAIRE'!C339","v":0},{"$f":"IF(LEFT(D338,1)=\"6\",'RELEVE BANCAIRE'!$O$2,\"\")","v":""},{"$f":"'RELEVE BANCAIRE'!K339","v":""}]
[{"$f":"'RELEVE BANCAIRE'!G340","v":"BQ4"},{"$f":"'RELEVE BANCAIRE'!A340","v":"00:00:00"},{"$f":"'RELEVE BANCAIRE'!H340","v":338},{"$f":"'RELEVE BANCAIRE'!J340","v":"47100000"},{"$f":"'RELEVE BANCAIRE'!D340*-1","v":0},{"$f":"'RELEVE BANCAIRE'!E340","v":0},{"$f":"'RELEVE BANCAIRE'!C340","v":0},{"$f":"IF(LEFT(D339,1)=\"6\",'RELEVE BANCAIRE'!$O$2,\"\")","v":""},{"$f":"'RELEVE BANCAIRE'!K340","v":""}]
[{"$f":"'RELEVE BANCAIRE'!G341","v":"BQ4"},{"$f":"'RELEVE BANCAIRE'!A341","v":"00:00:00"},{"$f":"'RELEVE BANCAIRE'!H341","v":339},{"$f":"'RELEVE BANCAIRE'!J341","v":"47100000"},{"$f":"'RELEVE BANCAIRE'!D341*-1","v":0},{"$f":"'RELEVE BANCAIRE'!E341","v":0},{"$f":"'RELEVE BANCAIRE'!C341","v":0},{"$f":"IF(LEFT(D340,1)=\"6\",'RELEVE BANCAIRE'!$O$2,\"\")","v":""},{"$f":"'RELEVE BANCAIRE'!K341","v":""}]
[{"$f":"'RELEVE BANCAIRE'!G342","v":"BQ4"},{"$f":"'RELEVE BANCAIRE'!A342","v":"00:00:00"},{"$f":"'RELEVE BANCAIRE'!H342","v":340},{"$f":"'RELEVE BANCAIRE'!J342","v":"47100000"},{"$f":"'RELEVE BANCAIRE'!D342*-1","v":0},{"$f":"'RELEVE BANCAIRE'!E342","v":0},{"$f":"'RELEVE BANCAIRE'!C342","v":0},{"$f":"IF(LEFT(D341,1)=\"6\",'RELEVE BANCAIRE'!$O$2,\"\")","v":""},{"$f":"'RELEVE BANCAIRE'!K342","v":""}]
[{"$f":"'RELEVE BANCAIRE'!G343","v":"BQ4"},{"$f":"'RELEVE BANCAIRE'!A343","v":"00:00:00"},{"$f":"'RELEVE BANCAIRE'!H343","v":341},{"$f":"'RELEVE BANCAIRE'!J343","v":"47100000"},{"$f":"'RELEVE BANCAIRE'!D343*-1","v":0},{"$f":"'RELEVE BANCAIRE'!E343","v":0},{"$f":"'RELEVE BANCAIRE'!C343","v":0},{"$f":"IF(LEFT(D342,1)=\"6\",'RELEVE BANCAIRE'!$O$2,\"\")","v":""},{"$f":"'RELEVE BANCAIRE'!K343","v":""}]
[{"$f":"'RELEVE BANCAIRE'!G344","v":"BQ4"},{"$f":"'RELEVE BANCAIRE'!A344","v":"00:00:00"},{"$f":"'RELEVE BANCAIRE'!H344","v":342},{"$f":"'RELEVE BANCAIRE'!J344","v":"47100000"},{"$f":"'RELEVE BANCAIRE'!D344*-1","v":0},{"$f":"'RELEVE BANCAIRE'!E344","v":0},{"$f":"'RELEVE BANCAIRE'!C344","v":0},{"$f":"IF(LEFT(D343,1)=\"6\",'RELEVE BANCAIRE'!$O$2,\"\")","v":""},{"$f":"'RELEVE BANCAIRE'!K344","v":""}]
[{"$f":"'RELEVE BANCAIRE'!G345","v":"BQ4"},{"$f":"'RELEVE BANCAIRE'!A345","v":"00:00:00"},{"$f":"'RELEVE BANCAIRE'!H345","v":343},{"$f":"'RELEVE BANCAIRE'!J345","v":"47100000"},{"$f":"'RELEVE BANCAIRE'!D345*-1","v":0},{"$f":"'RELEVE BANCAIRE'!E345","v":0},{"$f":"'RELEVE BANCAIRE'!C345","v":0},{"$f":"IF(LEFT(D344,1)=\"6\",'RELEVE BANCAIRE'!$O$2,\"\")","v":""},{"$f":"'RELEVE BANCAIRE'!K345","v":""}]
[{"$f":"'RELEVE BANCAIRE'!G346","v":"BQ4"},{"$f":"'RELEVE BANCAIRE'!A346","v":"00:00:00"},{"$f":"'RELEVE BANCAIRE'!H346","v":344},{"$f":"'RELEVE BANCAIRE'!J346","v":"47100000"},{"$f":"'RELEVE BANCAIRE'!D346*-1","v":0},{"$f":"'RELEVE BANCAIRE'!E346","v":0},{"$f":"'RELEVE BANCAIRE'!C346","v":0},{"$f":"IF(LEFT(D345,1)=\"6\",'RELEVE BANCAIRE'!$O$2,\"\")","v":""},{"$f":"'RELEVE BANCAIRE'!K346","v":""}]
[{"$f":"'RELEVE BANCAIRE'!G347","v":"BQ4"},{"$f":"'RELEVE BANCAIRE'!A347","v":"00:00:00"},{"$f":"'RELEVE BANCAIRE'!H347","v":345},{"$f":"'RELEVE BANCAIRE'!J347","v":"47100000"},{"$f":"'RELEVE BANCAIRE'!D347*-1","v":0},{"$f":"'RELEVE BANCAIRE'!E347","v":0},{"$f":"'RELEVE BANCAIRE'!C347","v":0},{"$f":"IF(LEFT(D346,1)=\"6\",'RELEVE BANCAIRE'!$O$2,\"\")","v":""},{"$f":"'RELEVE BANCAIRE'!K347","v":""}]
[{"$f":"'RELEVE BANCAIRE'!G348","v":"BQ4"},{"$f":"'RELEVE BANCAIRE'!A348","v":"00:00:00"},{"$f":"'RELEVE BANCAIRE'!H348","v":346},{"$f":"'RELEVE BANCAIRE'!J348","v":"47100000"},{"$f":"'RELEVE BANCAIRE'!D348*-1","v":0},{"$f":"'RELEVE BANCAIRE'!E348","v":0},{"$f":"'RELEVE BANCAIRE'!C348","v":0},{"$f":"IF(LEFT(D347,1)=\"6\",'RELEVE BANCAIRE'!$O$2,\"\")","v":""},{"$f":"'RELEVE BANCAIRE'!K348","v":""}]
[{"$f":"'RELEVE BANCAIRE'!G349","v":"BQ4"},{"$f":"'RELEVE BANCAIRE'!A349","v":"00:00:00"},{"$f":"'RELEVE BANCAIRE'!H349","v":347},{"$f":"'RELEVE BANCAIRE'!J349","v":"47100000"},{"$f":"'RELEVE BANCAIRE'!D349*-1","v":0},{"$f":"'RELEVE BANCAIRE'!E349","v":0},{"$f":"'RELEVE BANCAIRE'!C349","v":0},{"$f":"IF(LEFT(D348,1)=\"6\",'RELEVE BANCAIRE'!$O$2,\"\")","v":""},{"$f":"'RELEVE BANCAIRE'!K349","v":""}]
[{"$f":"'RELEVE BANCAIRE'!G350","v":"BQ4"},{"$f":"'RELEVE BANCAIRE'!A350","v":"00:00:00"},{"$f":"'RELEVE BANCAIRE'!H350","v":348},{"$f":"'RELEVE BANCAIRE'!J350","v":"47100000"},{"$f":"'RELEVE BANCAIRE'!D350*-1","v":0},{"$f":"'RELEVE BANCAIRE'!E350","v":0},{"$f":"'RELEVE BANCAIRE'!C350","v":0},{"$f":"IF(LEFT(D349,1)=\"6\",'RELEVE BANCAIRE'!$O$2,\"\")","v":""},{"$f":"'RELEVE BANCAIRE'!K350","v":""}]
[{"$f":"'RELEVE BANCAIRE'!G351","v":"BQ4"},{"$f":"'RELEVE BANCAIRE'!A351","v":"00:00:00"},{"$f":"'RELEVE BANCAIRE'!H351","v":349},{"$f":"'RELEVE BANCAIRE'!J351","v":"47100000"},{"$f":"'RELEVE BANCAIRE'!D351*-1","v":0},{"$f":"'RELEVE BANCAIRE'!E351","v":0},{"$f":"'RELEVE BANCAIRE'!C351","v":0},{"$f":"IF(LEFT(D350,1)=\"6\",'RELEVE BANCAIRE'!$O$2,\"\")","v":""},{"$f":"'RELEVE BANCAIRE'!K351","v":""}]
[{"$f":"'RELEVE BANCAIRE'!G352","v":"BQ4"},{"$f":"'RELEVE BANCAIRE'!A352","v":"00:00:00"},{"$f":"'RELEVE BANCAIRE'!H352","v":350},{"$f":"'RELEVE BANCAIRE'!J352","v":"47100000"},{"$f":"'RELEVE BANCAIRE'!D352*-1","v":0},{"$f":"'RELEVE BANCAIRE'!E352","v":0},{"$f":"'RELEVE BANCAIRE'!C352","v":0},{"$f":"IF(LEFT(D351,1)=\"6\",'RELEVE BANCAIRE'!$O$2,\"\")","v":""},{"$f":"'RELEVE BANCAIRE'!K352","v":""}]
[{"$f":"'RELEVE BANCAIRE'!G353","v":"BQ4"},{"$f":"'RELEVE BANCAIRE'!A353","v":"00:00:00"},{"$f":"'RELEVE BANCAIRE'!H353","v":351},{"$f":"'RELEVE BANCAIRE'!J353","v":"47100000"},{"$f":"'RELEVE BANCAIRE'!D353*-1","v":0},{"$f":"'RELEVE BANCAIRE'!E353","v":0},{"$f":"'RELEVE BANCAIRE'!C353","v":0},{"$f":"IF(LEFT(D352,1)=\"6\",'RELEVE BANCAIRE'!$O$2,\"\")","v":""},{"$f":"'RELEVE BANCAIRE'!K353","v":""}]
[{"$f":"'RELEVE BANCAIRE'!G354","v":"BQ4"},{"$f":"'RELEVE BANCAIRE'!A354","v":"00:00:00"},{"$f":"'RELEVE BANCAIRE'!H354","v":352},{"$f":"'RELEVE BANCAIRE'!J354","v":"47100000"},{"$f":"'RELEVE BANCAIRE'!D354*-1","v":0},{"$f":"'RELEVE BANCAIRE'!E354","v":0},{"$f":"'RELEVE BANCAIRE'!C354","v":0},{"$f":"IF(LEFT(D353,1)=\"6\",'RELEVE BANCAIRE'!$O$2,\"\")","v":""},{"$f":"'RELEVE BANCAIRE'!K354","v":""}]
[{"$f":"'RELEVE BANCAIRE'!G355","v":"BQ4"},{"$f":"'RELEVE BANCAIRE'!A355","v":"00:00:00"},{"$f":"'RELEVE BANCAIRE'!H355","v":353},{"$f":"'RELEVE BANCAIRE'!J355","v":"47100000"},{"$f":"'RELEVE BANCAIRE'!D355*-1","v":0},{"$f":"'RELEVE BANCAIRE'!E355","v":0},{"$f":"'RELEVE BANCAIRE'!C355","v":0},{"$f":"IF(LEFT(D354,1)=\"6\",'RELEVE BANCAIRE'!$O$2,\"\")","v":""},{"$f":"'RELEVE BANCAIRE'!K355","v":""}]
[{"$f":"'RELEVE BANCAIRE'!G356","v":"BQ4"},{"$f":"'RELEVE BANCAIRE'!A356","v":"00:00:00"},{"$f":"'RELEVE BANCAIRE'!H356","v":354},{"$f":"'RELEVE BANCAIRE'!J356","v":"47100000"},{"$f":"'RELEVE BANCAIRE'!D356*-1","v":0},{"$f":"'RELEVE BANCAIRE'!E356","v":0},{"$f":"'RELEVE BANCAIRE'!C356","v":0},{"$f":"IF(LEFT(D355,1)=\"6\",'RELEVE BANCAIRE'!$O$2,\"\")","v":""},{"$f":"'RELEVE BANCAIRE'!K356","v":""}]
[{"$f":"'RELEVE BANCAIRE'!G357","v":"BQ4"},{"$f":"'RELEVE BANCAIRE'!A357","v":"00:00:00"},{"$f":"'RELEVE BANCAIRE'!H357","v":355},{"$f":"'RELEVE BANCAIRE'!J357","v":"47100000"},{"$f":"'RELEVE BANCAIRE'!D357*-1","v":0},{"$f":"'RELEVE BANCAIRE'!E357","v":0},{"$f":"'RELEVE BANCAIRE'!C357","v":0},{"$f":"IF(LEFT(D356,1)=\"6\",'RELEVE BANCAIRE'!$O$2,\"\")","v":""},{"$f":"'RELEVE BANCAIRE'!K357","v":""}]
[{"$f":"'RELEVE BANCAIRE'!G358","v":"BQ4"},{"$f":"'RELEVE BANCAIRE'!A358","v":"00:00:00"},{"$f":"'RELEVE BANCAIRE'!H358","v":356},{"$f":"'RELEVE BANCAIRE'!J358","v":"47100000"},{"$f":"'RELEVE BANCAIRE'!D358*-1","v":0},{"$f":"'RELEVE BANCAIRE'!E358","v":0},{"$f":"'RELEVE BANCAIRE'!C358","v":0},{"$f":"IF(LEFT(D357,1)=\"6\",'RELEVE BANCAIRE'!$O$2,\"\")","v":""},{"$f":"'RELEVE BANCAIRE'!K358","v":""}]
[{"$f":"'RELEVE BANCAIRE'!G359","v":"BQ4"},{"$f":"'RELEVE BANCAIRE'!A359","v":"00:00:00"},{"$f":"'RELEVE BANCAIRE'!H359","v":357},{"$f":"'RELEVE BANCAIRE'!J359","v":"47100000"},{"$f":"'RELEVE BANCAIRE'!D359*-1","v":0},{"$f":"'RELEVE BANCAIRE'!E359","v":0},{"$f":"'RELEVE BANCAIRE'!C359","v":0},{"$f":"IF(LEFT(D358,1)=\"6\",'RELEVE BANCAIRE'!$O$2,\"\")","v":""},{"$f":"'RELEVE BANCAIRE'!K359","v":""}]
[{"$f":"'RELEVE BANCAIRE'!G360","v":"BQ4"},{"$f":"'RELEVE BANCAIRE'!A360","v":"00:00:00"},{"$f":"'RELEVE BANCAIRE'!H360","v":358},{"$f":"'RELEVE BANCAIRE'!J360","v":"47100000"},{"$f":"'RELEVE BANCAIRE'!D360*-1","v":0},{"$f":"'RELEVE BANCAIRE'!E360","v":0},{"$f":"'RELEVE BANCAIRE'!C360","v":0},{"$f":"IF(LEFT(D359,1)=\"6\",'RELEVE BANCAIRE'!$O$2,\"\")","v":""},{"$f":"'RELEVE BANCAIRE'!K360","v":""}]
[{"$f":"'RELEVE BANCAIRE'!G361","v":"BQ4"},{"$f":"'RELEVE BANCAIRE'!A361","v":"00:00:00"},{"$f":"'RELEVE BANCAIRE'!H361","v":359},{"$f":"'RELEVE BANCAIRE'!J361","v":"47100000"},{"$f":"'RELEVE BANCAIRE'!D361*-1","v":0},{"$f":"'RELEVE BANCAIRE'!E361","v":0},{"$f":"'RELEVE BANCAIRE'!C361","v":0},{"$f":"IF(LEFT(D360,1)=\"6\",'RELEVE BANCAIRE'!$O$2,\"\")","v":""},{"$f":"'RELEVE BANCAIRE'!K361","v":""}]
[{"$f":"'RELEVE BANCAIRE'!G362","v":"BQ4"},{"$f":"'RELEVE BANCAIRE'!A362","v":"00:00:00"},{"$f":"'RELEVE BANCAIRE'!H362","v":360},{"$f":"'RELEVE BANCAIRE'!J362","v":"47100000"},{"$f":"'RELEVE BANCAIRE'!D362*-1","v":0},{"$f":"'RELEVE BANCAIRE'!E362","v":0},{"$f":"'RELEVE BANCAIRE'!C362","v":0},{"$f":"IF(LEFT(D361,1)=\"6\",'RELEVE BANCAIRE'!$O$2,\"\")","v":""},{"$f":"'RELEVE BANCAIRE'!K362","v":""}]
[{"$f":"'RELEVE BANCAIRE'!G363","v":"BQ4"},{"$f":"'RELEVE BANCAIRE'!A363","v":"00:00:00"},{"$f":"'RELEVE BANCAIRE'!H363","v":361},{"$f":"'RELEVE BANCAIRE'!J363","v":"47100000"},{"$f":"'RELEVE BANCAIRE'!D363*-1","v":0},{"$f":"'RELEVE BANCAIRE'!E363","v":0},{"$f":"'RELEVE BANCAIRE'!C363","v":0},{"$f":"IF(LEFT(D362,1)=\"6\",'RELEVE BANCAIRE'!$O$2,\"\")","v":""},{"$f":"'RELEVE BANCAIRE'!K363","v":""}]
[{"$f":"'RELEVE BANCAIRE'!G364","v":"BQ4"},{"$f":"'RELEVE BANCAIRE'!A364","v":"00:00:00"},{"$f":"'RELEVE BANCAIRE'!H364","v":362},{"$f":"'RELEVE BANCAIRE'!J364","v":"47100000"},{"$f":"'RELEVE BANCAIRE'!D364*-1","v":0},{"$f":"'RELEVE BANCAIRE'!E364","v":0},{"$f":"'RELEVE BANCAIRE'!C364","v":0},{"$f":"IF(LEFT(D363,1)=\"6\",'RELEVE BANCAIRE'!$O$2,\"\")","v":""},{"$f":"'RELEVE BANCAIRE'!K364","v":""}]
[{"$f":"'RELEVE BANCAIRE'!G365","v":"BQ4"},{"$f":"'RELEVE BANCAIRE'!A365","v":"00:00:00"},{"$f":"'RELEVE BANCAIRE'!H365","v":363},{"$f":"'RELEVE BANCAIRE'!J365","v":"47100000"},{"$f":"'RELEVE BANCAIRE'!D365*-1","v":0},{"$f":"'RELEVE BANCAIRE'!E365","v":0},{"$f":"'RELEVE BANCAIRE'!C365","v":0},{"$f":"IF(LEFT(D364,1)=\"6\",'RELEVE BANCAIRE'!$O$2,\"\")","v":""},{"$f":"'RELEVE BANCAIRE'!K365","v":""}]
[{"$f":"'RELEVE BANCAIRE'!G366","v":"BQ4"},{"$f":"'RELEVE BANCAIRE'!A366","v":"00:00:00"},{"$f":"'RELEVE BANCAIRE'!H366","v":364},{"$f":"'RELEVE BANCAIRE'!J366","v":"47100000"},{"$f":"'RELEVE BANCAIRE'!D366*-1","v":0},{"$f":"'RELEVE BANCAIRE'!E366","v":0},{"$f":"'RELEVE BANCAIRE'!C366","v":0},{"$f":"IF(LEFT(D365,1)=\"6\",'RELEVE BANCAIRE'!$O$2,\"\")","v":""},{"$f":"'RELEVE BANCAIRE'!K366","v":""}]
[{"$f":"'RELEVE BANCAIRE'!G367","v":"BQ4"},{"$f":"'RELEVE BANCAIRE'!A367","v":"00:00:00"},{"$f":"'RELEVE BANCAIRE'!H367","v":365},{"$f":"'RELEVE BANCAIRE'!J367","v":"47100000"},{"$f":"'RELEVE BANCAIRE'!D367*-1","v":0},{"$f":"'RELEVE BANCAIRE'!E367","v":0},{"$f":"'RELEVE BANCAIRE'!C367","v":0},{"$f":"IF(LEFT(D366,1)=\"6\",'RELEVE BANCAIRE'!$O$2,\"\")","v":""},{"$f":"'RELEVE BANCAIRE'!K367","v":""}]
[{"$f":"'RELEVE BANCAIRE'!G368","v":"BQ4"},{"$f":"'RELEVE BANCAIRE'!A368","v":"00:00:00"},{"$f":"'RELEVE BANCAIRE'!H368","v":366},{"$f":"'RELEVE BANCAIRE'!J368","v":"47100000"},{"$f":"'RELEVE BANCAIRE'!D368*-1","v":0},{"$f":"'RELEVE BANCAIRE'!E368","v":0},{"$f":"'RELEVE BANCAIRE'!C368","v":0},{"$f":"IF(LEFT(D367,1)=\"6\",'RELEVE BANCAIRE'!$O$2,\"\")","v":""},{"$f":"'RELEVE BANCAIRE'!K368","v":""}]
[{"$f":"'RELEVE BANCAIRE'!G369","v":"BQ4"},{"$f":"'RELEVE BANCAIRE'!A369","v":"00:00:00"},{"$f":"'RELEVE BANCAIRE'!H369","v":367},{"$f":"'RELEVE BANCAIRE'!J369","v":"47100000"},{"$f":"'RELEVE BANCAIRE'!D369*-1","v":0},{"$f":"'RELEVE BANCAIRE'!E369","v":0},{"$f":"'RELEVE BANCAIRE'!C369","v":0},{"$f":"IF(LEFT(D368,1)=\"6\",'RELEVE BANCAIRE'!$O$2,\"\")","v":""},{"$f":"'RELEVE BANCAIRE'!K369","v":""}]
[{"$f":"'RELEVE BANCAIRE'!G370","v":"BQ4"},{"$f":"'RELEVE BANCAIRE'!A370","v":"00:00:00"},{"$f":"'RELEVE BANCAIRE'!H370","v":368},{"$f":"'RELEVE BANCAIRE'!J370","v":"47100000"},{"$f":"'RELEVE BANCAIRE'!D370*-1","v":0},{"$f":"'RELEVE BANCAIRE'!E370","v":0},{"$f":"'RELEVE BANCAIRE'!C370","v":0},{"$f":"IF(LEFT(D369,1)=\"6\",'RELEVE BANCAIRE'!$O$2,\"\")","v":""},{"$f":"'RELEVE BANCAIRE'!K370","v":""}]
[{"$f":"'RELEVE BANCAIRE'!G371","v":"BQ4"},{"$f":"'RELEVE BANCAIRE'!A371","v":"00:00:00"},{"$f":"'RELEVE BANCAIRE'!H371","v":369},{"$f":"'RELEVE BANCAIRE'!J371","v":"47100000"},{"$f":"'RELEVE BANCAIRE'!D371*-1","v":0},{"$f":"'RELEVE BANCAIRE'!E371","v":0},{"$f":"'RELEVE BANCAIRE'!C371","v":0},{"$f":"IF(LEFT(D370,1)=\"6\",'RELEVE BANCAIRE'!$O$2,\"\")","v":""},{"$f":"'RELEVE BANCAIRE'!K371","v":""}]
[{"$f":"'RELEVE BANCAIRE'!G372","v":"BQ4"},{"$f":"'RELEVE BANCAIRE'!A372","v":"00:00:00"},{"$f":"'RELEVE BANCAIRE'!H372","v":370},{"$f":"'RELEVE BANCAIRE'!J372","v":"47100000"},{"$f":"'RELEVE BANCAIRE'!D372*-1","v":0},{"$f":"'RELEVE BANCAIRE'!E372","v":0},{"$f":"'RELEVE BANCAIRE'!C372","v":0},{"$f":"IF(LEFT(D371,1)=\"6\",'RELEVE BANCAIRE'!$O$2,\"\")","v":""},{"$f":"'RELEVE BANCAIRE'!K372","v":""}]
[{"$f":"'RELEVE BANCAIRE'!G373","v":"BQ4"},{"$f":"'RELEVE BANCAIRE'!A373","v":"00:00:00"},{"$f":"'RELEVE BANCAIRE'!H373","v":371},{"$f":"'RELEVE BANCAIRE'!J373","v":"47100000"},{"$f":"'RELEVE BANCAIRE'!D373*-1","v":0},{"$f":"'RELEVE BANCAIRE'!E373","v":0},{"$f":"'RELEVE BANCAIRE'!C373","v":0},{"$f":"IF(LEFT(D372,1)=\"6\",'RELEVE BANCAIRE'!$O$2,\"\")","v":""},{"$f":"'RELEVE BANCAIRE'!K373","v":""}]
[{"$f":"'RELEVE BANCAIRE'!G374","v":"BQ4"},{"$f":"'RELEVE BANCAIRE'!A374","v":"00:00:00"},{"$f":"'RELEVE BANCAIRE'!H374","v":372},{"$f":"'RELEVE BANCAIRE'!J374","v":"47100000"},{"$f":"'RELEVE BANCAIRE'!D374*-1","v":0},{"$f":"'RELEVE BANCAIRE'!E374","v":0},{"$f":"'RELEVE BANCAIRE'!C374","v":0},{"$f":"IF(LEFT(D373,1)=\"6\",'RELEVE BANCAIRE'!$O$2,\"\")","v":""},{"$f":"'RELEVE BANCAIRE'!K374","v":""}]
[{"$f":"'RELEVE BANCAIRE'!G375","v":"BQ4"},{"$f":"'RELEVE BANCAIRE'!A375","v":"00:00:00"},{"$f":"'RELEVE BANCAIRE'!H375","v":373},{"$f":"'RELEVE BANCAIRE'!J375","v":"47100000"},{"$f":"'RELEVE BANCAIRE'!D375*-1","v":0},{"$f":"'RELEVE BANCAIRE'!E375","v":0},{"$f":"'RELEVE BANCAIRE'!C375","v":0},{"$f":"IF(LEFT(D374,1)=\"6\",'RELEVE BANCAIRE'!$O$2,\"\")","v":""},{"$f":"'RELEVE BANCAIRE'!K375","v":""}]
[{"$f":"'RELEVE BANCAIRE'!G376","v":"BQ4"},{"$f":"'RELEVE BANCAIRE'!A376","v":"00:00:00"},{"$f":"'RELEVE BANCAIRE'!H376","v":374},{"$f":"'RELEVE BANCAIRE'!J376","v":"47100000"},{"$f":"'RELEVE BANCAIRE'!D376*-1","v":0},{"$f":"'RELEVE BANCAIRE'!E376","v":0},{"$f":"'RELEVE BANCAIRE'!C376","v":0},{"$f":"IF(LEFT(D375,1)=\"6\",'RELEVE BANCAIRE'!$O$2,\"\")","v":""},{"$f":"'RELEVE BANCAIRE'!K376","v":""}]
[{"$f":"'RELEVE BANCAIRE'!G377","v":"BQ4"},{"$f":"'RELEVE BANCAIRE'!A377","v":"00:00:00"},{"$f":"'RELEVE BANCAIRE'!H377","v":375},{"$f":"'RELEVE BANCAIRE'!J377","v":"47100000"},{"$f":"'RELEVE BANCAIRE'!D377*-1","v":0},{"$f":"'RELEVE BANCAIRE'!E377","v":0},{"$f":"'RELEVE BANCAIRE'!C377","v":0},{"$f":"IF(LEFT(D376,1)=\"6\",'RELEVE BANCAIRE'!$O$2,\"\")","v":""},{"$f":"'RELEVE BANCAIRE'!K377","v":""}]
[{"$f":"'RELEVE BANCAIRE'!G378","v":"BQ4"},{"$f":"'RELEVE BANCAIRE'!A378","v":"00:00:00"},{"$f":"'RELEVE BANCAIRE'!H378","v":376},{"$f":"'RELEVE BANCAIRE'!J378","v":"47100000"},{"$f":"'RELEVE BANCAIRE'!D378*-1","v":0},{"$f":"'RELEVE BANCAIRE'!E378","v":0},{"$f":"'RELEVE BANCAIRE'!C378","v":0},{"$f":"IF(LEFT(D377,1)=\"6\",'RELEVE BANCAIRE'!$O$2,\"\")","v":""},{"$f":"'RELEVE BANCAIRE'!K378","v":""}]
[{"$f":"'RELEVE BANCAIRE'!G379","v":"BQ4"},{"$f":"'RELEVE BANCAIRE'!A379","v":"00:00:00"},{"$f":"'RELEVE BANCAIRE'!H379","v":377},{"$f":"'RELEVE BANCAIRE'!J379","v":"47100000"},{"$f":"'RELEVE BANCAIRE'!D379*-1","v":0},{"$f":"'RELEVE BANCAIRE'!E379","v":0},{"$f":"'RELEVE BANCAIRE'!C379","v":0},{"$f":"IF(LEFT(D378,1)=\"6\",'RELEVE BANCAIRE'!$O$2,\"\")","v":""},{"$f":"'RELEVE BANCAIRE'!K379","v":""}]
[{"$f":"'RELEVE BANCAIRE'!G380","v":"BQ4"},{"$f":"'RELEVE BANCAIRE'!A380","v":"00:00:00"},{"$f":"'RELEVE BANCAIRE'!H380","v":378},{"$f":"'RELEVE BANCAIRE'!J380","v":"47100000"},{"$f":"'RELEVE BANCAIRE'!D380*-1","v":0},{"$f":"'RELEVE BANCAIRE'!E380","v":0},{"$f":"'RELEVE BANCAIRE'!C380","v":0},{"$f":"IF(LEFT(D379,1)=\"6\",'RELEVE BANCAIRE'!$O$2,\"\")","v":""},{"$f":"'RELEVE BANCAIRE'!K380","v":""}]
[{"$f":"'RELEVE BANCAIRE'!G381","v":"BQ4"},{"$f":"'RELEVE BANCAIRE'!A381","v":"00:00:00"},{"$f":"'RELEVE BANCAIRE'!H381","v":379},{"$f":"'RELEVE BANCAIRE'!J381","v":"47100000"},{"$f":"'RELEVE BANCAIRE'!D381*-1","v":0},{"$f":"'RELEVE BANCAIRE'!E381","v":0},{"$f":"'RELEVE BANCAIRE'!C381","v":0},{"$f":"IF(LEFT(D380,1)=\"6\",'RELEVE BANCAIRE'!$O$2,\"\")","v":""},{"$f":"'RELEVE BANCAIRE'!K381","v":""}]
[{"$f":"'RELEVE BANCAIRE'!G382","v":"BQ4"},{"$f":"'RELEVE BANCAIRE'!A382","v":"00:00:00"},{"$f":"'RELEVE BANCAIRE'!H382","v":380},{"$f":"'RELEVE BANCAIRE'!J382","v":"47100000"},{"$f":"'RELEVE BANCAIRE'!D382*-1","v":0},{"$f":"'RELEVE BANCAIRE'!E382","v":0},{"$f":"'RELEVE BANCAIRE'!C382","v":0},{"$f":"IF(LEFT(D381,1)=\"6\",'RELEVE BANCAIRE'!$O$2,\"\")","v":""},{"$f":"'RELEVE BANCAIRE'!K382","v":""}]
[{"$f":"'RELEVE BANCAIRE'!G383","v":"BQ4"},{"$f":"'RELEVE BANCAIRE'!A383","v":"00:00:00"},{"$f":"'RELEVE BANCAIRE'!H383","v":381},{"$f":"'RELEVE BANCAIRE'!J383","v":"47100000"},{"$f":"'RELEVE BANCAIRE'!D383*-1","v":0},{"$f":"'RELEVE BANCAIRE'!E383","v":0},{"$f":"'RELEVE BANCAIRE'!C383","v":0},{"$f":"IF(LEFT(D382,1)=\"6\",'RELEVE BANCAIRE'!$O$2,\"\")","v":""},{"$f":"'RELEVE BANCAIRE'!K383","v":""}]
[{"$f":"'RELEVE BANCAIRE'!G384","v":"BQ4"},{"$f":"'RELEVE BANCAIRE'!A384","v":"00:00:00"},{"$f":"'RELEVE BANCAIRE'!H384","v":382},{"$f":"'RELEVE BANCAIRE'!J384","v":"47100000"},{"$f":"'RELEVE BANCAIRE'!D384*-1","v":0},{"$f":"'RELEVE BANCAIRE'!E384","v":0},{"$f":"'RELEVE BANCAIRE'!C384","v":0},{"$f":"IF(LEFT(D383,1)=\"6\",'RELEVE BANCAIRE'!$O$2,\"\")","v":""},{"$f":"'RELEVE BANCAIRE'!K384","v":""}]
[{"$f":"'RELEVE BANCAIRE'!G385","v":"BQ4"},{"$f":"'RELEVE BANCAIRE'!A385","v":"00:00:00"},{"$f":"'RELEVE BANCAIRE'!H385","v":383},{"$f":"'RELEVE BANCAIRE'!J385","v":"47100000"},{"$f":"'RELEVE BANCAIRE'!D385*-1","v":0},{"$f":"'RELEVE BANCAIRE'!E385","v":0},{"$f":"'RELEVE BANCAIRE'!C385","v":0},{"$f":"IF(LEFT(D384,1)=\"6\",'RELEVE BANCAIRE'!$O$2,\"\")","v":""},{"$f":"'RELEVE BANCAIRE'!K385","v":""}]
[{"$f":"'RELEVE BANCAIRE'!G386","v":"BQ4"},{"$f":"'RELEVE BANCAIRE'!A386","v":"00:00:00"},{"$f":"'RELEVE BANCAIRE'!H386","v":384},{"$f":"'RELEVE BANCAIRE'!J386","v":"47100000"},{"$f":"'RELEVE BANCAIRE'!D386*-1","v":0},{"$f":"'RELEVE BANCAIRE'!E386","v":0},{"$f":"'RELEVE BANCAIRE'!C386","v":0},{"$f":"IF(LEFT(D385,1)=\"6\",'RELEVE BANCAIRE'!$O$2,\"\")","v":""},{"$f":"'RELEVE BANCAIRE'!K386","v":""}]
[{"$f":"'RELEVE BANCAIRE'!G387","v":"BQ4"},{"$f":"'RELEVE BANCAIRE'!A387","v":"00:00:00"},{"$f":"'RELEVE BANCAIRE'!H387","v":385},{"$f":"'RELEVE BANCAIRE'!J387","v":"47100000"},{"$f":"'RELEVE BANCAIRE'!D387*-1","v":0},{"$f":"'RELEVE BANCAIRE'!E387","v":0},{"$f":"'RELEVE BANCAIRE'!C387","v":0},{"$f":"IF(LEFT(D386,1)=\"6\",'RELEVE BANCAIRE'!$O$2,\"\")","v":""},{"$f":"'RELEVE BANCAIRE'!K387","v":""}]
[{"$f":"'RELEVE BANCAIRE'!G388","v":"BQ4"},{"$f":"'RELEVE BANCAIRE'!A388","v":"00:00:00"},{"$f":"'RELEVE BANCAIRE'!H388","v":386},{"$f":"'RELEVE BANCAIRE'!J388","v":"47100000"},{"$f":"'RELEVE BANCAIRE'!D388*-1","v":0},{"$f":"'RELEVE BANCAIRE'!E388","v":0},{"$f":"'RELEVE BANCAIRE'!C388","v":0},{"$f":"IF(LEFT(D387,1)=\"6\",'RELEVE BANCAIRE'!$O$2,\"\")","v":""},{"$f":"'RELEVE BANCAIRE'!K388","v":""}]
[{"$f":"'RELEVE BANCAIRE'!G389","v":"BQ4"},{"$f":"'RELEVE BANCAIRE'!A389","v":"00:00:00"},{"$f":"'RELEVE BANCAIRE'!H389","v":387},{"$f":"'RELEVE BANCAIRE'!J389","v":"47100000"},{"$f":"'RELEVE BANCAIRE'!D389*-1","v":0},{"$f":"'RELEVE BANCAIRE'!E389","v":0},{"$f":"'RELEVE BANCAIRE'!C389","v":0},{"$f":"IF(LEFT(D388,1)=\"6\",'RELEVE BANCAIRE'!$O$2,\"\")","v":""},{"$f":"'RELEVE BANCAIRE'!K389","v":""}]
[{"$f":"'RELEVE BANCAIRE'!G390","v":"BQ4"},{"$f":"'RELEVE BANCAIRE'!A390","v":"00:00:00"},{"$f":"'RELEVE BANCAIRE'!H390","v":388},{"$f":"'RELEVE BANCAIRE'!J390","v":"47100000"},{"$f":"'RELEVE BANCAIRE'!D390*-1","v":0},{"$f":"'RELEVE BANCAIRE'!E390","v":0},{"$f":"'RELEVE BANCAIRE'!C390","v":0},{"$f":"IF(LEFT(D389,1)=\"6\",'RELEVE BANCAIRE'!$O$2,\"\")","v":""},{"$f":"'RELEVE BANCAIRE'!K390","v":""}]
[{"$f":"'RELEVE BANCAIRE'!G391","v":"BQ4"},{"$f":"'RELEVE BANCAIRE'!A391","v":"00:00:00"},{"$f":"'RELEVE BANCAIRE'!H391","v":389},{"$f":"'RELEVE BANCAIRE'!J391","v":"47100000"},{"$f":"'RELEVE BANCAIRE'!D391*-1","v":0},{"$f":"'RELEVE BANCAIRE'!E391","v":0},{"$f":"'RELEVE BANCAIRE'!C391","v":0},{"$f":"IF(LEFT(D390,1)=\"6\",'RELEVE BANCAIRE'!$O$2,\"\")","v":""},{"$f":"'RELEVE BANCAIRE'!K391","v":""}]
[{"$f":"'RELEVE BANCAIRE'!G392","v":"BQ4"},{"$f":"'RELEVE BANCAIRE'!A392","v":"00:00:00"},{"$f":"'RELEVE BANCAIRE'!H392","v":390},{"$f":"'RELEVE BANCAIRE'!J392","v":"47100000"},{"$f":"'RELEVE BANCAIRE'!D392*-1","v":0},{"$f":"'RELEVE BANCAIRE'!E392","v":0},{"$f":"'RELEVE BANCAIRE'!C392","v":0},{"$f":"IF(LEFT(D391,1)=\"6\",'RELEVE BANCAIRE'!$O$2,\"\")","v":""},{"$f":"'RELEVE BANCAIRE'!K392","v":""}]
[{"$f":"'RELEVE BANCAIRE'!G393","v":"BQ4"},{"$f":"'RELEVE BANCAIRE'!A393","v":"00:00:00"},{"$f":"'RELEVE BANCAIRE'!H393","v":391},{"$f":"'RELEVE BANCAIRE'!J393","v":"47100000"},{"$f":"'RELEVE BANCAIRE'!D393*-1","v":0},{"$f":"'RELEVE BANCAIRE'!E393","v":0},{"$f":"'RELEVE BANCAIRE'!C393","v":0},{"$f":"IF(LEFT(D392,1)=\"6\",'RELEVE BANCAIRE'!$O$2,\"\")","v":""},{"$f":"'RELEVE BANCAIRE'!K393","v":""}]
[{"$f":"'RELEVE BANCAIRE'!G394","v":"BQ4"},{"$f":"'RELEVE BANCAIRE'!A394","v":"00:00:00"},{"$f":"'RELEVE BANCAIRE'!H394","v":392},{"$f":"'RELEVE BANCAIRE'!J394","v":"47100000"},{"$f":"'RELEVE BANCAIRE'!D394*-1","v":0},{"$f":"'RELEVE BANCAIRE'!E394","v":0},{"$f":"'RELEVE BANCAIRE'!C394","v":0},{"$f":"IF(LEFT(D393,1)=\"6\",'RELEVE BANCAIRE'!$O$2,\"\")","v":""},{"$f":"'RELEVE BANCAIRE'!K394","v":""}]
[{"$f":"'RELEVE BANCAIRE'!G395","v":"BQ4"},{"$f":"'RELEVE BANCAIRE'!A395","v":"00:00:00"},{"$f":"'RELEVE BANCAIRE'!H395","v":393},{"$f":"'RELEVE BANCAIRE'!J395","v":"47100000"},{"$f":"'RELEVE BANCAIRE'!D395*-1","v":0},{"$f":"'RELEVE BANCAIRE'!E395","v":0},{"$f":"'RELEVE BANCAIRE'!C395","v":0},{"$f":"IF(LEFT(D394,1)=\"6\",'RELEVE BANCAIRE'!$O$2,\"\")","v":""},{"$f":"'RELEVE BANCAIRE'!K395","v":""}]
[{"$f":"'RELEVE BANCAIRE'!G396","v":"BQ4"},{"$f":"'RELEVE BANCAIRE'!A396","v":"00:00:00"},{"$f":"'RELEVE BANCAIRE'!H396","v":394},{"$f":"'RELEVE BANCAIRE'!J396","v":"47100000"},{"$f":"'RELEVE BANCAIRE'!D396*-1","v":0},{"$f":"'RELEVE BANCAIRE'!E396","v":0},{"$f":"'RELEVE BANCAIRE'!C396","v":0},{"$f":"IF(LEFT(D395,1)=\"6\",'RELEVE BANCAIRE'!$O$2,\"\")","v":""},{"$f":"'RELEVE BANCAIRE'!K396","v":""}]
[{"$f":"'RELEVE BANCAIRE'!G397","v":"BQ4"},{"$f":"'RELEVE BANCAIRE'!A397","v":"00:00:00"},{"$f":"'RELEVE BANCAIRE'!H397","v":395},{"$f":"'RELEVE BANCAIRE'!J397","v":"47100000"},{"$f":"'RELEVE BANCAIRE'!D397*-1","v":0},{"$f":"'RELEVE BANCAIRE'!E397","v":0},{"$f":"'RELEVE BANCAIRE'!C397","v":0},{"$f":"IF(LEFT(D396,1)=\"6\",'RELEVE BANCAIRE'!$O$2,\"\")","v":""},{"$f":"'RELEVE BANCAIRE'!K397","v":""}]
[{"$f":"'RELEVE BANCAIRE'!G398","v":"BQ4"},{"$f":"'RELEVE BANCAIRE'!A398","v":"00:00:00"},{"$f":"'RELEVE BANCAIRE'!H398","v":396},{"$f":"'RELEVE BANCAIRE'!J398","v":"47100000"},{"$f":"'RELEVE BANCAIRE'!D398*-1","v":0},{"$f":"'RELEVE BANCAIRE'!E398","v":0},{"$f":"'RELEVE BANCAIRE'!C398","v":0},{"$f":"IF(LEFT(D397,1)=\"6\",'RELEVE BANCAIRE'!$O$2,\"\")","v":""},{"$f":"'RELEVE BANCAIRE'!K398","v":""}]
[{"$f":"'RELEVE BANCAIRE'!G399","v":"BQ4"},{"$f":"'RELEVE BANCAIRE'!A399","v":"00:00:00"},{"$f":"'RELEVE BANCAIRE'!H399","v":397},{"$f":"'RELEVE BANCAIRE'!J399","v":"47100000"},{"$f":"'RELEVE BANCAIRE'!D399*-1","v":0},{"$f":"'RELEVE BANCAIRE'!E399","v":0},{"$f":"'RELEVE BANCAIRE'!C399","v":0},{"$f":"IF(LEFT(D398,1)=\"6\",'RELEVE BANCAIRE'!$O$2,\"\")","v":""},{"$f":"'RELEVE BANCAIRE'!K399","v":""}]
[{"$f":"'RELEVE BANCAIRE'!G400","v":"BQ4"},{"$f":"'RELEVE BANCAIRE'!A400","v":"00:00:00"},{"$f":"'RELEVE BANCAIRE'!H400","v":398},{"$f":"'RELEVE BANCAIRE'!J400","v":"47100000"},{"$f":"'RELEVE BANCAIRE'!D400*-1","v":0},{"$f":"'RELEVE BANCAIRE'!E400","v":0},{"$f":"'RELEVE BANCAIRE'!C400","v":0},{"$f":"IF(LEFT(D399,1)=\"6\",'RELEVE BANCAIRE'!$O$2,\"\")","v":""},{"$f":"'RELEVE BANCAIRE'!K400","v":""}]
[{"$f":"'RELEVE BANCAIRE'!G401","v":"BQ4"},{"$f":"'RELEVE BANCAIRE'!A401","v":"00:00:00"},{"$f":"'RELEVE BANCAIRE'!H401","v":399},{"$f":"'RELEVE BANCAIRE'!J401","v":"47100000"},{"$f":"'RELEVE BANCAIRE'!D401*-1","v":0},{"$f":"'RELEVE BANCAIRE'!E401","v":0},{"$f":"'RELEVE BANCAIRE'!C401","v":0},{"$f":"IF(LEFT(D400,1)=\"6\",'RELEVE BANCAIRE'!$O$2,\"\")","v":""},{"$f":"'RELEVE BANCAIRE'!K401","v":""}]
[{"$f":"'RELEVE BANCAIRE'!G402","v":"BQ4"},{"$f":"'RELEVE BANCAIRE'!A402","v":"00:00:00"},{"$f":"'RELEVE BANCAIRE'!H402","v":400},{"$f":"'RELEVE BANCAIRE'!J402","v":"47100000"},{"$f":"'RELEVE BANCAIRE'!D402*-1","v":0},{"$f":"'RELEVE BANCAIRE'!E402","v":0},{"$f":"'RELEVE BANCAIRE'!C402","v":0},{"$f":"IF(LEFT(D401,1)=\"6\",'RELEVE BANCAIRE'!$O$2,\"\")","v":""},{"$f":"'RELEVE BANCAIRE'!K402","v":""}]
[{"$f":"'RELEVE BANCAIRE'!G403","v":"BQ4"},{"$f":"'RELEVE BANCAIRE'!A403","v":"00:00:00"},{"$f":"'RELEVE BANCAIRE'!H403","v":401},{"$f":"'RELEVE BANCAIRE'!J403","v":"47100000"},{"$f":"'RELEVE BANCAIRE'!D403*-1","v":0},{"$f":"'RELEVE BANCAIRE'!E403","v":0},{"$f":"'RELEVE BANCAIRE'!C403","v":0},{"$f":"IF(LEFT(D402,1)=\"6\",'RELEVE BANCAIRE'!$O$2,\"\")","v":""},{"$f":"'RELEVE BANCAIRE'!K403","v":""}]
[{"$f":"'RELEVE BANCAIRE'!G404","v":"BQ4"},{"$f":"'RELEVE BANCAIRE'!A404","v":"00:00:00"},{"$f":"'RELEVE BANCAIRE'!H404","v":402},{"$f":"'RELEVE BANCAIRE'!J404","v":"47100000"},{"$f":"'RELEVE BANCAIRE'!D404*-1","v":0},{"$f":"'RELEVE BANCAIRE'!E404","v":0},{"$f":"'RELEVE BANCAIRE'!C404","v":0},{"$f":"IF(LEFT(D403,1)=\"6\",'RELEVE BANCAIRE'!$O$2,\"\")","v":""},{"$f":"'RELEVE BANCAIRE'!K404","v":""}]
[{"$f":"'RELEVE BANCAIRE'!G405","v":"BQ4"},{"$f":"'RELEVE BANCAIRE'!A405","v":"00:00:00"},{"$f":"'RELEVE BANCAIRE'!H405","v":403},{"$f":"'RELEVE BANCAIRE'!J405","v":"47100000"},{"$f":"'RELEVE BANCAIRE'!D405*-1","v":0},{"$f":"'RELEVE BANCAIRE'!E405","v":0},{"$f":"'RELEVE BANCAIRE'!C405","v":0},{"$f":"IF(LEFT(D404,1)=\"6\",'RELEVE BANCAIRE'!$O$2,\"\")","v":""},{"$f":"'RELEVE BANCAIRE'!K405","v":""}]
[{"$f":"'RELEVE BANCAIRE'!G406","v":"BQ4"},{"$f":"'RELEVE BANCAIRE'!A406","v":"00:00:00"},{"$f":"'RELEVE BANCAIRE'!H406","v":404},{"$f":"'RELEVE BANCAIRE'!J406","v":"47100000"},{"$f":"'RELEVE BANCAIRE'!D406*-1","v":0},{"$f":"'RELEVE BANCAIRE'!E406","v":0},{"$f":"'RELEVE BANCAIRE'!C406","v":0},{"$f":"IF(LEFT(D405,1)=\"6\",'RELEVE BANCAIRE'!$O$2,\"\")","v":""},{"$f":"'RELEVE BANCAIRE'!K406","v":""}]
[{"$f":"'RELEVE BANCAIRE'!G407","v":"BQ4"},{"$f":"'RELEVE BANCAIRE'!A407","v":"00:00:00"},{"$f":"'RELEVE BANCAIRE'!H407","v":405},{"$f":"'RELEVE BANCAIRE'!J407","v":"47100000"},{"$f":"'RELEVE BANCAIRE'!D407*-1","v":0},{"$f":"'RELEVE BANCAIRE'!E407","v":0},{"$f":"'RELEVE BANCAIRE'!C407","v":0},{"$f":"IF(LEFT(D406,1)=\"6\",'RELEVE BANCAIRE'!$O$2,\"\")","v":""},{"$f":"'RELEVE BANCAIRE'!K407","v":""}]
[{"$f":"'RELEVE BANCAIRE'!G408","v":"BQ4"},{"$f":"'RELEVE BANCAIRE'!A408","v":"00:00:00"},{"$f":"'RELEVE BANCAIRE'!H408","v":406},{"$f":"'RELEVE BANCAIRE'!J408","v":"47100000"},{"$f":"'RELEVE BANCAIRE'!D408*-1","v":0},{"$f":"'RELEVE BANCAIRE'!E408","v":0},{"$f":"'RELEVE BANCAIRE'!C408","v":0},{"$f":"IF(LEFT(D407,1)=\"6\",'RELEVE BANCAIRE'!$O$2,\"\")","v":""},{"$f":"'RELEVE BANCAIRE'!K408","v":""}]
[{"$f":"'RELEVE BANCAIRE'!G409","v":"BQ4"},{"$f":"'RELEVE BANCAIRE'!A409","v":"00:00:00"},{"$f":"'RELEVE BANCAIRE'!H409","v":407},{"$f":"'RELEVE BANCAIRE'!J409","v":"47100000"},{"$f":"'RELEVE BANCAIRE'!D409*-1","v":0},{"$f":"'RELEVE BANCAIRE'!E409","v":0},{"$f":"'RELEVE BANCAIRE'!C409","v":0},{"$f":"IF(LEFT(D408,1)=\"6\",'RELEVE BANCAIRE'!$O$2,\"\")","v":""},{"$f":"'RELEVE BANCAIRE'!K409","v":""}]
[{"$f":"'RELEVE BANCAIRE'!G410","v":"BQ4"},{"$f":"'RELEVE BANCAIRE'!A410","v":"00:00:00"},{"$f":"'RELEVE BANCAIRE'!H410","v":408},{"$f":"'RELEVE BANCAIRE'!J410","v":"47100000"},{"$f":"'RELEVE BANCAIRE'!D410*-1","v":0},{"$f":"'RELEVE BANCAIRE'!E410","v":0},{"$f":"'RELEVE BANCAIRE'!C410","v":0},{"$f":"IF(LEFT(D409,1)=\"6\",'RELEVE BANCAIRE'!$O$2,\"\")","v":""},{"$f":"'RELEVE BANCAIRE'!K410","v":""}]
[{"$f":"'RELEVE BANCAIRE'!G411","v":"BQ4"},{"$f":"'RELEVE BANCAIRE'!A411","v":"00:00:00"},{"$f":"'RELEVE BANCAIRE'!H411","v":409},{"$f":"'RELEVE BANCAIRE'!J411","v":"47100000"},{"$f":"'RELEVE BANCAIRE'!D411*-1","v":0},{"$f":"'RELEVE BANCAIRE'!E411","v":0},{"$f":"'RELEVE BANCAIRE'!C411","v":0},{"$f":"IF(LEFT(D410,1)=\"6\",'RELEVE BANCAIRE'!$O$2,\"\")","v":""},{"$f":"'RELEVE BANCAIRE'!K411","v":""}]
[{"$f":"'RELEVE BANCAIRE'!G412","v":"BQ4"},{"$f":"'RELEVE BANCAIRE'!A412","v":"00:00:00"},{"$f":"'RELEVE BANCAIRE'!H412","v":410},{"$f":"'RELEVE BANCAIRE'!J412","v":"47100000"},{"$f":"'RELEVE BANCAIRE'!D412*-1","v":0},{"$f":"'RELEVE BANCAIRE'!E412","v":0},{"$f":"'RELEVE BANCAIRE'!C412","v":0},{"$f":"IF(LEFT(D411,1)=\"6\",'RELEVE BANCAIRE'!$O$2,\"\")","v":""},{"$f":"'RELEVE BANCAIRE'!K412","v":""}]
[{"$f":"'RELEVE BANCAIRE'!G413","v":"BQ4"},{"$f":"'RELEVE BANCAIRE'!A413","v":"00:00:00"},{"$f":"'RELEVE BANCAIRE'!H413","v":411},{"$f":"'RELEVE BANCAIRE'!J413","v":"47100000"},{"$f":"'RELEVE BANCAIRE'!D413*-1","v":0},{"$f":"'RELEVE BANCAIRE'!E413","v":0},{"$f":"'RELEVE BANCAIRE'!C413","v":0},{"$f":"IF(LEFT(D412,1)=\"6\",'RELEVE BANCAIRE'!$O$2,\"\")","v":""},{"$f":"'RELEVE BANCAIRE'!K413","v":""}]
[{"$f":"'RELEVE BANCAIRE'!G414","v":"BQ4"},{"$f":"'RELEVE BANCAIRE'!A414","v":"00:00:00"},{"$f":"'RELEVE BANCAIRE'!H414","v":412},{"$f":"'RELEVE BANCAIRE'!J414","v":"47100000"},{"$f":"'RELEVE BANCAIRE'!D414*-1","v":0},{"$f":"'RELEVE BANCAIRE'!E414","v":0},{"$f":"'RELEVE BANCAIRE'!C414","v":0},{"$f":"IF(LEFT(D413,1)=\"6\",'RELEVE BANCAIRE'!$O$2,\"\")","v":""},{"$f":"'RELEVE BANCAIRE'!K414","v":""}]
[{"$f":"'RELEVE BANCAIRE'!G415","v":"BQ4"},{"$f":"'RELEVE BANCAIRE'!A415","v":"00:00:00"},{"$f":"'RELEVE BANCAIRE'!H415","v":413},{"$f":"'RELEVE BANCAIRE'!J415","v":"47100000"},{"$f":"'RELEVE BANCAIRE'!D415*-1","v":0},{"$f":"'RELEVE BANCAIRE'!E415","v":0},{"$f":"'RELEVE BANCAIRE'!C415","v":0},{"$f":"IF(LEFT(D414,1)=\"6\",'RELEVE BANCAIRE'!$O$2,\"\")","v":""},{"$f":"'RELEVE BANCAIRE'!K415","v":""}]
[{"$f":"'RELEVE BANCAIRE'!G416","v":"BQ4"},{"$f":"'RELEVE BANCAIRE'!A416","v":"00:00:00"},{"$f":"'RELEVE BANCAIRE'!H416","v":414},{"$f":"'RELEVE BANCAIRE'!J416","v":"47100000"},{"$f":"'RELEVE BANCAIRE'!D416*-1","v":0},{"$f":"'RELEVE BANCAIRE'!E416","v":0},{"$f":"'RELEVE BANCAIRE'!C416","v":0},{"$f":"IF(LEFT(D415,1)=\"6\",'RELEVE BANCAIRE'!$O$2,\"\")","v":""},{"$f":"'RELEVE BANCAIRE'!K416","v":""}]
[{"$f":"'RELEVE BANCAIRE'!G417","v":"BQ4"},{"$f":"'RELEVE BANCAIRE'!A417","v":"00:00:00"},{"$f":"'RELEVE BANCAIRE'!H417","v":415},{"$f":"'RELEVE BANCAIRE'!J417","v":"47100000"},{"$f":"'RELEVE BANCAIRE'!D417*-1","v":0},{"$f":"'RELEVE BANCAIRE'!E417","v":0},{"$f":"'RELEVE BANCAIRE'!C417","v":0},{"$f":"IF(LEFT(D416,1)=\"6\",'RELEVE BANCAIRE'!$O$2,\"\")","v":""},{"$f":"'RELEVE BANCAIRE'!K417","v":""}]
[{"$f":"'RELEVE BANCAIRE'!G418","v":"BQ4"},{"$f":"'RELEVE BANCAIRE'!A418","v":"00:00:00"},{"$f":"'RELEVE BANCAIRE'!H418","v":416},{"$f":"'RELEVE BANCAIRE'!J418","v":"47100000"},{"$f":"'RELEVE BANCAIRE'!D418*-1","v":0},{"$f":"'RELEVE BANCAIRE'!E418","v":0},{"$f":"'RELEVE BANCAIRE'!C418","v":0},{"$f":"IF(LEFT(D417,1)=\"6\",'RELEVE BANCAIRE'!$O$2,\"\")","v":""},{"$f":"'RELEVE BANCAIRE'!K418","v":""}]
[{"$f":"'RELEVE BANCAIRE'!G419","v":"BQ4"},{"$f":"'RELEVE BANCAIRE'!A419","v":"00:00:00"},{"$f":"'RELEVE BANCAIRE'!H419","v":417},{"$f":"'RELEVE BANCAIRE'!J419","v":"47100000"},{"$f":"'RELEVE BANCAIRE'!D419*-1","v":0},{"$f":"'RELEVE BANCAIRE'!E419","v":0},{"$f":"'RELEVE BANCAIRE'!C419","v":0},{"$f":"IF(LEFT(D418,1)=\"6\",'RELEVE BANCAIRE'!$O$2,\"\")","v":""},{"$f":"'RELEVE BANCAIRE'!K419","v":""}]
[{"$f":"'RELEVE BANCAIRE'!G420","v":"BQ4"},{"$f":"'RELEVE BANCAIRE'!A420","v":"00:00:00"},{"$f":"'RELEVE BANCAIRE'!H420","v":418},{"$f":"'RELEVE BANCAIRE'!J420","v":"47100000"},{"$f":"'RELEVE BANCAIRE'!D420*-1","v":0},{"$f":"'RELEVE BANCAIRE'!E420","v":0},{"$f":"'RELEVE BANCAIRE'!C420","v":0},{"$f":"IF(LEFT(D419,1)=\"6\",'RELEVE BANCAIRE'!$O$2,\"\")","v":""},{"$f":"'RELEVE BANCAIRE'!K420","v":""}]
[{"$f":"'RELEVE BANCAIRE'!G421","v":"BQ4"},{"$f":"'RELEVE BANCAIRE'!A421","v":"00:00:00"},{"$f":"'RELEVE BANCAIRE'!H421","v":419},{"$f":"'RELEVE BANCAIRE'!J421","v":"47100000"},{"$f":"'RELEVE BANCAIRE'!D421*-1","v":0},{"$f":"'RELEVE BANCAIRE'!E421","v":0},{"$f":"'RELEVE BANCAIRE'!C421","v":0},{"$f":"IF(LEFT(D420,1)=\"6\",'RELEVE BANCAIRE'!$O$2,\"\")","v":""},{"$f":"'RELEVE BANCAIRE'!K421","v":""}]
[{"$f":"'RELEVE BANCAIRE'!G422","v":"BQ4"},{"$f":"'RELEVE BANCAIRE'!A422","v":"00:00:00"},{"$f":"'RELEVE BANCAIRE'!H422","v":420},{"$f":"'RELEVE BANCAIRE'!J422","v":"47100000"},{"$f":"'RELEVE BANCAIRE'!D422*-1","v":0},{"$f":"'RELEVE BANCAIRE'!E422","v":0},{"$f":"'RELEVE BANCAIRE'!C422","v":0},{"$f":"IF(LEFT(D421,1)=\"6\",'RELEVE BANCAIRE'!$O$2,\"\")","v":""},{"$f":"'RELEVE BANCAIRE'!K422","v":""}]
[{"$f":"'RELEVE BANCAIRE'!G423","v":"BQ4"},{"$f":"'RELEVE BANCAIRE'!A423","v":"00:00:00"},{"$f":"'RELEVE BANCAIRE'!H423","v":421},{"$f":"'RELEVE BANCAIRE'!J423","v":"47100000"},{"$f":"'RELEVE BANCAIRE'!D423*-1","v":0},{"$f":"'RELEVE BANCAIRE'!E423","v":0},{"$f":"'RELEVE BANCAIRE'!C423","v":0},{"$f":"IF(LEFT(D422,1)=\"6\",'RELEVE BANCAIRE'!$O$2,\"\")","v":""},{"$f":"'RELEVE BANCAIRE'!K423","v":""}]
[{"$f":"'RELEVE BANCAIRE'!G424","v":"BQ4"},{"$f":"'RELEVE BANCAIRE'!A424","v":"00:00:00"},{"$f":"'RELEVE BANCAIRE'!H424","v":422},{"$f":"'RELEVE BANCAIRE'!J424","v":"47100000"},{"$f":"'RELEVE BANCAIRE'!D424*-1","v":0},{"$f":"'RELEVE BANCAIRE'!E424","v":0},{"$f":"'RELEVE BANCAIRE'!C424","v":0},{"$f":"IF(LEFT(D423,1)=\"6\",'RELEVE BANCAIRE'!$O$2,\"\")","v":""},{"$f":"'RELEVE BANCAIRE'!K424","v":""}]
[{"$f":"'RELEVE BANCAIRE'!G425","v":"BQ4"},{"$f":"'RELEVE BANCAIRE'!A425","v":"00:00:00"},{"$f":"'RELEVE BANCAIRE'!H425","v":423},{"$f":"'RELEVE BANCAIRE'!J425","v":"47100000"},{"$f":"'RELEVE BANCAIRE'!D425*-1","v":0},{"$f":"'RELEVE BANCAIRE'!E425","v":0},{"$f":"'RELEVE BANCAIRE'!C425","v":0},{"$f":"IF(LEFT(D424,1)=\"6\",'RELEVE BANCAIRE'!$O$2,\"\")","v":""},{"$f":"'RELEVE BANCAIRE'!K425","v":""}]
[{"$f":"'RELEVE BANCAIRE'!G426","v":"BQ4"},{"$f":"'RELEVE BANCAIRE'!A426","v":"00:00:00"},{"$f":"'RELEVE BANCAIRE'!H426","v":424},{"$f":"'RELEVE BANCAIRE'!J426","v":"47100000"},{"$f":"'RELEVE BANCAIRE'!D426*-1","v":0},{"$f":"'RELEVE BANCAIRE'!E426","v":0},{"$f":"'RELEVE BANCAIRE'!C426","v":0},{"$f":"IF(LEFT(D425,1)=\"6\",'RELEVE BANCAIRE'!$O$2,\"\")","v":""},{"$f":"'RELEVE BANCAIRE'!K426","v":""}]
[{"$f":"'RELEVE BANCAIRE'!G427","v":"BQ4"},{"$f":"'RELEVE BANCAIRE'!A427","v":"00:00:00"},{"$f":"'RELEVE BANCAIRE'!H427","v":425},{"$f":"'RELEVE BANCAIRE'!J427","v":"47100000"},{"$f":"'RELEVE BANCAIRE'!D427*-1","v":0},{"$f":"'RELEVE BANCAIRE'!E427","v":0},{"$f":"'RELEVE BANCAIRE'!C427","v":0},{"$f":"IF(LEFT(D426,1)=\"6\",'RELEVE BANCAIRE'!$O$2,\"\")","v":""},{"$f":"'RELEVE BANCAIRE'!K427","v":""}]
[{"$f":"'RELEVE BANCAIRE'!G428","v":"BQ4"},{"$f":"'RELEVE BANCAIRE'!A428","v":"00:00:00"},{"$f":"'RELEVE BANCAIRE'!H428","v":426},{"$f":"'RELEVE BANCAIRE'!J428","v":"47100000"},{"$f":"'RELEVE BANCAIRE'!D428*-1","v":0},{"$f":"'RELEVE BANCAIRE'!E428","v":0},{"$f":"'RELEVE BANCAIRE'!C428","v":0},{"$f":"IF(LEFT(D427,1)=\"6\",'RELEVE BANCAIRE'!$O$2,\"\")","v":""},{"$f":"'RELEVE BANCAIRE'!K428","v":""}]
[{"$f":"'RELEVE BANCAIRE'!G429","v":"BQ4"},{"$f":"'RELEVE BANCAIRE'!A429","v":"00:00:00"},{"$f":"'RELEVE BANCAIRE'!H429","v":427},{"$f":"'RELEVE BANCAIRE'!J429","v":"47100000"},{"$f":"'RELEVE BANCAIRE'!D429*-1","v":0},{"$f":"'RELEVE BANCAIRE'!E429","v":0},{"$f":"'RELEVE BANCAIRE'!C429","v":0},{"$f":"IF(LEFT(D428,1)=\"6\",'RELEVE BANCAIRE'!$O$2,\"\")","v":""},{"$f":"'RELEVE BANCAIRE'!K429","v":""}]
[{"$f":"'RELEVE BANCAIRE'!G430","v":"BQ4"},{"$f":"'RELEVE BANCAIRE'!A430","v":"00:00:00"},{"$f":"'RELEVE BANCAIRE'!H430","v":428},{"$f":"'RELEVE BANCAIRE'!J430","v":"47100000"},{"$f":"'RELEVE BANCAIRE'!D430*-1","v":0},{"$f":"'RELEVE BANCAIRE'!E430","v":0},{"$f":"'RELEVE BANCAIRE'!C430","v":0},{"$f":"IF(LEFT(D429,1)=\"6\",'RELEVE BANCAIRE'!$O$2,\"\")","v":""},{"$f":"'RELEVE BANCAIRE'!K430","v":""}]
[{"$f":"'RELEVE BANCAIRE'!G431","v":"BQ4"},{"$f":"'RELEVE BANCAIRE'!A431","v":"00:00:00"},{"$f":"'RELEVE BANCAIRE'!H431","v":429},{"$f":"'RELEVE BANCAIRE'!J431","v":"47100000"},{"$f":"'RELEVE BANCAIRE'!D431*-1","v":0},{"$f":"'RELEVE BANCAIRE'!E431","v":0},{"$f":"'RELEVE BANCAIRE'!C431","v":0},{"$f":"IF(LEFT(D430,1)=\"6\",'RELEVE BANCAIRE'!$O$2,\"\")","v":""},{"$f":"'RELEVE BANCAIRE'!K431","v":""}]
[{"$f":"'RELEVE BANCAIRE'!G432","v":"BQ4"},{"$f":"'RELEVE BANCAIRE'!A432","v":"00:00:00"},{"$f":"'RELEVE BANCAIRE'!H432","v":430},{"$f":"'RELEVE BANCAIRE'!J432","v":"47100000"},{"$f":"'RELEVE BANCAIRE'!D432*-1","v":0},{"$f":"'RELEVE BANCAIRE'!E432","v":0},{"$f":"'RELEVE BANCAIRE'!C432","v":0},{"$f":"IF(LEFT(D431,1)=\"6\",'RELEVE BANCAIRE'!$O$2,\"\")","v":""},{"$f":"'RELEVE BANCAIRE'!K432","v":""}]
[{"$f":"'RELEVE BANCAIRE'!G433","v":"BQ4"},{"$f":"'RELEVE BANCAIRE'!A433","v":"00:00:00"},{"$f":"'RELEVE BANCAIRE'!H433","v":431},{"$f":"'RELEVE BANCAIRE'!J433","v":"47100000"},{"$f":"'RELEVE BANCAIRE'!D433*-1","v":0},{"$f":"'RELEVE BANCAIRE'!E433","v":0},{"$f":"'RELEVE BANCAIRE'!C433","v":0},{"$f":"IF(LEFT(D432,1)=\"6\",'RELEVE BANCAIRE'!$O$2,\"\")","v":""},{"$f":"'RELEVE BANCAIRE'!K433","v":""}]
[{"$f":"'RELEVE BANCAIRE'!G434","v":"BQ4"},{"$f":"'RELEVE BANCAIRE'!A434","v":"00:00:00"},{"$f":"'RELEVE BANCAIRE'!H434","v":432},{"$f":"'RELEVE BANCAIRE'!J434","v":"47100000"},{"$f":"'RELEVE BANCAIRE'!D434*-1","v":0},{"$f":"'RELEVE BANCAIRE'!E434","v":0},{"$f":"'RELEVE BANCAIRE'!C434","v":0},{"$f":"IF(LEFT(D433,1)=\"6\",'RELEVE BANCAIRE'!$O$2,\"\")","v":""},{"$f":"'RELEVE BANCAIRE'!K434","v":""}]
[{"$f":"'RELEVE BANCAIRE'!G435","v":"BQ4"},{"$f":"'RELEVE BANCAIRE'!A435","v":"00:00:00"},{"$f":"'RELEVE BANCAIRE'!H435","v":433},{"$f":"'RELEVE BANCAIRE'!J435","v":"47100000"},{"$f":"'RELEVE BANCAIRE'!D435*-1","v":0},{"$f":"'RELEVE BANCAIRE'!E435","v":0},{"$f":"'RELEVE BANCAIRE'!C435","v":0},{"$f":"IF(LEFT(D434,1)=\"6\",'RELEVE BANCAIRE'!$O$2,\"\")","v":""},{"$f":"'RELEVE BANCAIRE'!K435","v":""}]
[{"$f":"'RELEVE BANCAIRE'!G436","v":"BQ4"},{"$f":"'RELEVE BANCAIRE'!A436","v":"00:00:00"},{"$f":"'RELEVE BANCAIRE'!H436","v":434},{"$f":"'RELEVE BANCAIRE'!J436","v":"47100000"},{"$f":"'RELEVE BANCAIRE'!D436*-1","v":0},{"$f":"'RELEVE BANCAIRE'!E436","v":0},{"$f":"'RELEVE BANCAIRE'!C436","v":0},{"$f":"IF(LEFT(D435,1)=\"6\",'RELEVE BANCAIRE'!$O$2,\"\")","v":""},{"$f":"'RELEVE BANCAIRE'!K436","v":""}]
[{"$f":"'RELEVE BANCAIRE'!G437","v":"BQ4"},{"$f":"'RELEVE BANCAIRE'!A437","v":"00:00:00"},{"$f":"'RELEVE BANCAIRE'!H437","v":435},{"$f":"'RELEVE BANCAIRE'!J437","v":"47100000"},{"$f":"'RELEVE BANCAIRE'!D437*-1","v":0},{"$f":"'RELEVE BANCAIRE'!E437","v":0},{"$f":"'RELEVE BANCAIRE'!C437","v":0},{"$f":"IF(LEFT(D436,1)=\"6\",'RELEVE BANCAIRE'!$O$2,\"\")","v":""},{"$f":"'RELEVE BANCAIRE'!K437","v":""}]
[{"$f":"'RELEVE BANCAIRE'!G438","v":"BQ4"},{"$f":"'RELEVE BANCAIRE'!A438","v":"00:00:00"},{"$f":"'RELEVE BANCAIRE'!H438","v":436},{"$f":"'RELEVE BANCAIRE'!J438","v":"47100000"},{"$f":"'RELEVE BANCAIRE'!D438*-1","v":0},{"$f":"'RELEVE BANCAIRE'!E438","v":0},{"$f":"'RELEVE BANCAIRE'!C438","v":0},{"$f":"IF(LEFT(D437,1)=\"6\",'RELEVE BANCAIRE'!$O$2,\"\")","v":""},{"$f":"'RELEVE BANCAIRE'!K438","v":""}]
[{"$f":"'RELEVE BANCAIRE'!G439","v":"BQ4"},{"$f":"'RELEVE BANCAIRE'!A439","v":"00:00:00"},{"$f":"'RELEVE BANCAIRE'!H439","v":437},{"$f":"'RELEVE BANCAIRE'!J439","v":"47100000"},{"$f":"'RELEVE BANCAIRE'!D439*-1","v":0},{"$f":"'RELEVE BANCAIRE'!E439","v":0},{"$f":"'RELEVE BANCAIRE'!C439","v":0},{"$f":"IF(LEFT(D438,1)=\"6\",'RELEVE BANCAIRE'!$O$2,\"\")","v":""},{"$f":"'RELEVE BANCAIRE'!K439","v":""}]
[{"$f":"'RELEVE BANCAIRE'!G440","v":"BQ4"},{"$f":"'RELEVE BANCAIRE'!A440","v":"00:00:00"},{"$f":"'RELEVE BANCAIRE'!H440","v":438},{"$f":"'RELEVE BANCAIRE'!J440","v":"47100000"},{"$f":"'RELEVE BANCAIRE'!D440*-1","v":0},{"$f":"'RELEVE BANCAIRE'!E440","v":0},{"$f":"'RELEVE BANCAIRE'!C440","v":0},{"$f":"IF(LEFT(D439,1)=\"6\",'RELEVE BANCAIRE'!$O$2,\"\")","v":""},{"$f":"'RELEVE BANCAIRE'!K440","v":""}]
[{"$f":"'RELEVE BANCAIRE'!G441","v":"BQ4"},{"$f":"'RELEVE BANCAIRE'!A441","v":"00:00:00"},{"$f":"'RELEVE BANCAIRE'!H441","v":439},{"$f":"'RELEVE BANCAIRE'!J441","v":"47100000"},{"$f":"'RELEVE BANCAIRE'!D441*-1","v":0},{"$f":"'RELEVE BANCAIRE'!E441","v":0},{"$f":"'RELEVE BANCAIRE'!C441","v":0},{"$f":"IF(LEFT(D440,1)=\"6\",'RELEVE BANCAIRE'!$O$2,\"\")","v":""},{"$f":"'RELEVE BANCAIRE'!K441","v":""}]
[{"$f":"'RELEVE BANCAIRE'!G442","v":"BQ4"},{"$f":"'RELEVE BANCAIRE'!A442","v":"00:00:00"},{"$f":"'RELEVE BANCAIRE'!H442","v":440},{"$f":"'RELEVE BANCAIRE'!J442","v":"47100000"},{"$f":"'RELEVE BANCAIRE'!D442*-1","v":0},{"$f":"'RELEVE BANCAIRE'!E442","v":0},{"$f":"'RELEVE BANCAIRE'!C442","v":0},{"$f":"IF(LEFT(D441,1)=\"6\",'RELEVE BANCAIRE'!$O$2,\"\")","v":""},{"$f":"'RELEVE BANCAIRE'!K442","v":""}]
[{"$f":"'RELEVE BANCAIRE'!G443","v":"BQ4"},{"$f":"'RELEVE BANCAIRE'!A443","v":"00:00:00"},{"$f":"'RELEVE BANCAIRE'!H443","v":441},{"$f":"'RELEVE BANCAIRE'!J443","v":"47100000"},{"$f":"'RELEVE BANCAIRE'!D443*-1","v":0},{"$f":"'RELEVE BANCAIRE'!E443","v":0},{"$f":"'RELEVE BANCAIRE'!C443","v":0},{"$f":"IF(LEFT(D442,1)=\"6\",'RELEVE BANCAIRE'!$O$2,\"\")","v":""},{"$f":"'RELEVE BANCAIRE'!K443","v":""}]
[{"$f":"'RELEVE BANCAIRE'!G444","v":"BQ4"},{"$f":"'RELEVE BANCAIRE'!A444","v":"00:00:00"},{"$f":"'RELEVE BANCAIRE'!H444","v":442},{"$f":"'RELEVE BANCAIRE'!J444","v":"47100000"},{"$f":"'RELEVE BANCAIRE'!D444*-1","v":0},{"$f":"'RELEVE BANCAIRE'!E444","v":0},{"$f":"'RELEVE BANCAIRE'!C444","v":0},{"$f":"IF(LEFT(D443,1)=\"6\",'RELEVE BANCAIRE'!$O$2,\"\")","v":""},{"$f":"'RELEVE BANCAIRE'!K444","v":""}]
[{"$f":"'RELEVE BANCAIRE'!G445","v":"BQ4"},{"$f":"'RELEVE BANCAIRE'!A445","v":"00:00:00"},{"$f":"'RELEVE BANCAIRE'!H445","v":443},{"$f":"'RELEVE BANCAIRE'!J445","v":"47100000"},{"$f":"'RELEVE BANCAIRE'!D445*-1","v":0},{"$f":"'RELEVE BANCAIRE'!E445","v":0},{"$f":"'RELEVE BANCAIRE'!C445","v":0},{"$f":"IF(LEFT(D444,1)=\"6\",'RELEVE BANCAIRE'!$O$2,\"\")","v":""},{"$f":"'RELEVE BANCAIRE'!K445","v":""}]
[{"$f":"'RELEVE BANCAIRE'!G446","v":"BQ4"},{"$f":"'RELEVE BANCAIRE'!A446","v":"00:00:00"},{"$f":"'RELEVE BANCAIRE'!H446","v":444},{"$f":"'RELEVE BANCAIRE'!J446","v":"47100000"},{"$f":"'RELEVE BANCAIRE'!D446*-1","v":0},{"$f":"'RELEVE BANCAIRE'!E446","v":0},{"$f":"'RELEVE BANCAIRE'!C446","v":0},{"$f":"IF(LEFT(D445,1)=\"6\",'RELEVE BANCAIRE'!$O$2,\"\")","v":""},{"$f":"'RELEVE BANCAIRE'!K446","v":""}]
[{"$f":"'RELEVE BANCAIRE'!G447","v":"BQ4"},{"$f":"'RELEVE BANCAIRE'!A447","v":"00:00:00"},{"$f":"'RELEVE BANCAIRE'!H447","v":445},{"$f":"'RELEVE BANCAIRE'!J447","v":"47100000"},{"$f":"'RELEVE BANCAIRE'!D447*-1","v":0},{"$f":"'RELEVE BANCAIRE'!E447","v":0},{"$f":"'RELEVE BANCAIRE'!C447","v":0},{"$f":"IF(LEFT(D446,1)=\"6\",'RELEVE BANCAIRE'!$O$2,\"\")","v":""},{"$f":"'RELEVE BANCAIRE'!K447","v":""}]
[{"$f":"'RELEVE BANCAIRE'!G448","v":"BQ4"},{"$f":"'RELEVE BANCAIRE'!A448","v":"00:00:00"},{"$f":"'RELEVE BANCAIRE'!H448","v":446},{"$f":"'RELEVE BANCAIRE'!J448","v":"47100000"},{"$f":"'RELEVE BANCAIRE'!D448*-1","v":0},{"$f":"'RELEVE BANCAIRE'!E448","v":0},{"$f":"'RELEVE BANCAIRE'!C448","v":0},{"$f":"IF(LEFT(D447,1)=\"6\",'RELEVE BANCAIRE'!$O$2,\"\")","v":""},{"$f":"'RELEVE BANCAIRE'!K448","v":""}]
[{"$f":"'RELEVE BANCAIRE'!G449","v":"BQ4"},{"$f":"'RELEVE BANCAIRE'!A449","v":"00:00:00"},{"$f":"'RELEVE BANCAIRE'!H449","v":447},{"$f":"'RELEVE BANCAIRE'!J449","v":"47100000"},{"$f":"'RELEVE BANCAIRE'!D449*-1","v":0},{"$f":"'RELEVE BANCAIRE'!E449","v":0},{"$f":"'RELEVE BANCAIRE'!C449","v":0},{"$f":"IF(LEFT(D448,1)=\"6\",'RELEVE BANCAIRE'!$O$2,\"\")","v":""},{"$f":"'RELEVE BANCAIRE'!K449","v":""}]
[{"$f":"'RELEVE BANCAIRE'!G450","v":"BQ4"},{"$f":"'RELEVE BANCAIRE'!A450","v":"00:00:00"},{"$f":"'RELEVE BANCAIRE'!H450","v":448},{"$f":"'RELEVE BANCAIRE'!J450","v":"47100000"},{"$f":"'RELEVE BANCAIRE'!D450*-1","v":0},{"$f":"'RELEVE BANCAIRE'!E450","v":0},{"$f":"'RELEVE BANCAIRE'!C450","v":0},{"$f":"IF(LEFT(D449,1)=\"6\",'RELEVE BANCAIRE'!$O$2,\"\")","v":""},{"$f":"'RELEVE BANCAIRE'!K450","v":""}]
[{"$f":"'RELEVE BANCAIRE'!G451","v":"BQ4"},{"$f":"'RELEVE BANCAIRE'!A451","v":"00:00:00"},{"$f":"'RELEVE BANCAIRE'!H451","v":449},{"$f":"'RELEVE BANCAIRE'!J451","v":"47100000"},{"$f":"'RELEVE BANCAIRE'!D451*-1","v":0},{"$f":"'RELEVE BANCAIRE'!E451","v":0},{"$f":"'RELEVE BANCAIRE'!C451","v":0},{"$f":"IF(LEFT(D450,1)=\"6\",'RELEVE BANCAIRE'!$O$2,\"\")","v":""},{"$f":"'RELEVE BANCAIRE'!K451","v":""}]
[{"$f":"'RELEVE BANCAIRE'!G452","v":"BQ4"},{"$f":"'RELEVE BANCAIRE'!A452","v":"00:00:00"},{"$f":"'RELEVE BANCAIRE'!H452","v":450},{"$f":"'RELEVE BANCAIRE'!J452","v":"47100000"},{"$f":"'RELEVE BANCAIRE'!D452*-1","v":0},{"$f":"'RELEVE BANCAIRE'!E452","v":0},{"$f":"'RELEVE BANCAIRE'!C452","v":0},{"$f":"IF(LEFT(D451,1)=\"6\",'RELEVE BANCAIRE'!$O$2,\"\")","v":""},{"$f":"'RELEVE BANCAIRE'!K452","v":""}]
[{"$f":"'RELEVE BANCAIRE'!G453","v":"BQ4"},{"$f":"'RELEVE BANCAIRE'!A453","v":"00:00:00"},{"$f":"'RELEVE BANCAIRE'!H453","v":451},{"$f":"'RELEVE BANCAIRE'!J453","v":"47100000"},{"$f":"'RELEVE BANCAIRE'!D453*-1","v":0},{"$f":"'RELEVE BANCAIRE'!E453","v":0},{"$f":"'RELEVE BANCAIRE'!C453","v":0},{"$f":"IF(LEFT(D452,1)=\"6\",'RELEVE BANCAIRE'!$O$2,\"\")","v":""},{"$f":"'RELEVE BANCAIRE'!K453","v":""}]
[{"$f":"'RELEVE BANCAIRE'!G454","v":"BQ4"},{"$f":"'RELEVE BANCAIRE'!A454","v":"00:00:00"},{"$f":"'RELEVE BANCAIRE'!H454","v":452},{"$f":"'RELEVE BANCAIRE'!J454","v":"47100000"},{"$f":"'RELEVE BANCAIRE'!D454*-1","v":0},{"$f":"'RELEVE BANCAIRE'!E454","v":0},{"$f":"'RELEVE BANCAIRE'!C454","v":0},{"$f":"IF(LEFT(D453,1)=\"6\",'RELEVE BANCAIRE'!$O$2,\"\")","v":""},{"$f":"'RELEVE BANCAIRE'!K454","v":""}]
[{"$f":"'RELEVE BANCAIRE'!G455","v":"BQ4"},{"$f":"'RELEVE BANCAIRE'!A455","v":"00:00:00"},{"$f":"'RELEVE BANCAIRE'!H455","v":453},{"$f":"'RELEVE BANCAIRE'!J455","v":"47100000"},{"$f":"'RELEVE BANCAIRE'!D455*-1","v":0},{"$f":"'RELEVE BANCAIRE'!E455","v":0},{"$f":"'RELEVE BANCAIRE'!C455","v":0},{"$f":"IF(LEFT(D454,1)=\"6\",'RELEVE BANCAIRE'!$O$2,\"\")","v":""},{"$f":"'RELEVE BANCAIRE'!K455","v":""}]
[{"$f":"'RELEVE BANCAIRE'!G456","v":"BQ4"},{"$f":"'RELEVE BANCAIRE'!A456","v":"00:00:00"},{"$f":"'RELEVE BANCAIRE'!H456","v":454},{"$f":"'RELEVE BANCAIRE'!J456","v":"47100000"},{"$f":"'RELEVE BANCAIRE'!D456*-1","v":0},{"$f":"'RELEVE BANCAIRE'!E456","v":0},{"$f":"'RELEVE BANCAIRE'!C456","v":0},{"$f":"IF(LEFT(D455,1)=\"6\",'RELEVE BANCAIRE'!$O$2,\"\")","v":""},{"$f":"'RELEVE BANCAIRE'!K456","v":""}]
[{"$f":"'RELEVE BANCAIRE'!G457","v":"BQ4"},{"$f":"'RELEVE BANCAIRE'!A457","v":"00:00:00"},{"$f":"'RELEVE BANCAIRE'!H457","v":455},{"$f":"'RELEVE BANCAIRE'!J457","v":"47100000"},{"$f":"'RELEVE BANCAIRE'!D457*-1","v":0},{"$f":"'RELEVE BANCAIRE'!E457","v":0},{"$f":"'RELEVE BANCAIRE'!C457","v":0},{"$f":"IF(LEFT(D456,1)=\"6\",'RELEVE BANCAIRE'!$O$2,\"\")","v":""},{"$f":"'RELEVE BANCAIRE'!K457","v":""}]
[{"$f":"'RELEVE BANCAIRE'!G458","v":"BQ4"},{"$f":"'RELEVE BANCAIRE'!A458","v":"00:00:00"},{"$f":"'RELEVE BANCAIRE'!H458","v":456},{"$f":"'RELEVE BANCAIRE'!J458","v":"47100000"},{"$f":"'RELEVE BANCAIRE'!D458*-1","v":0},{"$f":"'RELEVE BANCAIRE'!E458","v":0},{"$f":"'RELEVE BANCAIRE'!C458","v":0},{"$f":"IF(LEFT(D457,1)=\"6\",'RELEVE BANCAIRE'!$O$2,\"\")","v":""},{"$f":"'RELEVE BANCAIRE'!K458","v":""}]
[{"$f":"'RELEVE BANCAIRE'!G459","v":"BQ4"},{"$f":"'RELEVE BANCAIRE'!A459","v":"00:00:00"},{"$f":"'RELEVE BANCAIRE'!H459","v":457},{"$f":"'RELEVE BANCAIRE'!J459","v":"47100000"},{"$f":"'RELEVE BANCAIRE'!D459*-1","v":0},{"$f":"'RELEVE BANCAIRE'!E459","v":0},{"$f":"'RELEVE BANCAIRE'!C459","v":0},{"$f":"IF(LEFT(D458,1)=\"6\",'RELEVE BANCAIRE'!$O$2,\"\")","v":""},{"$f":"'RELEVE BANCAIRE'!K459","v":""}]
[{"$f":"'RELEVE BANCAIRE'!G460","v":"BQ4"},{"$f":"'RELEVE BANCAIRE'!A460","v":"00:00:00"},{"$f":"'RELEVE BANCAIRE'!H460","v":458},{"$f":"'RELEVE BANCAIRE'!J460","v":"47100000"},{"$f":"'RELEVE BANCAIRE'!D460*-1","v":0},{"$f":"'RELEVE BANCAIRE'!E460","v":0},{"$f":"'RELEVE BANCAIRE'!C460","v":0},{"$f":"IF(LEFT(D459,1)=\"6\",'RELEVE BANCAIRE'!$O$2,\"\")","v":""},{"$f":"'RELEVE BANCAIRE'!K460","v":""}]
[{"$f":"'RELEVE BANCAIRE'!G461","v":"BQ4"},{"$f":"'RELEVE BANCAIRE'!A461","v":"00:00:00"},{"$f":"'RELEVE BANCAIRE'!H461","v":459},{"$f":"'RELEVE BANCAIRE'!J461","v":"47100000"},{"$f":"'RELEVE BANCAIRE'!D461*-1","v":0},{"$f":"'RELEVE BANCAIRE'!E461","v":0},{"$f":"'RELEVE BANCAIRE'!C461","v":0},{"$f":"IF(LEFT(D460,1)=\"6\",'RELEVE BANCAIRE'!$O$2,\"\")","v":""},{"$f":"'RELEVE BANCAIRE'!K461","v":""}]
[{"$f":"'RELEVE BANCAIRE'!G462","v":"BQ4"},{"$f":"'RELEVE BANCAIRE'!A462","v":"00:00:00"},{"$f":"'RELEVE BANCAIRE'!H462","v":460},{"$f":"'RELEVE BANCAIRE'!J462","v":"47100000"},{"$f":"'RELEVE BANCAIRE'!D462*-1","v":0},{"$f":"'RELEVE BANCAIRE'!E462","v":0},{"$f":"'RELEVE BANCAIRE'!C462","v":0},{"$f":"IF(LEFT(D461,1)=\"6\",'RELEVE BANCAIRE'!$O$2,\"\")","v":""},{"$f":"'RELEVE BANCAIRE'!K462","v":""}]
[{"$f":"'RELEVE BANCAIRE'!G463","v":"BQ4"},{"$f":"'RELEVE BANCAIRE'!A463","v":"00:00:00"},{"$f":"'RELEVE BANCAIRE'!H463","v":461},{"$f":"'RELEVE BANCAIRE'!J463","v":"47100000"},{"$f":"'RELEVE BANCAIRE'!D463*-1","v":0},{"$f":"'RELEVE BANCAIRE'!E463","v":0},{"$f":"'RELEVE BANCAIRE'!C463","v":0},{"$f":"IF(LEFT(D462,1)=\"6\",'RELEVE BANCAIRE'!$O$2,\"\")","v":""},{"$f":"'RELEVE BANCAIRE'!K463","v":""}]
[{"$f":"'RELEVE BANCAIRE'!G464","v":"BQ4"},{"$f":"'RELEVE BANCAIRE'!A464","v":"00:00:00"},{"$f":"'RELEVE BANCAIRE'!H464","v":462},{"$f":"'RELEVE BANCAIRE'!J464","v":"47100000"},{"$f":"'RELEVE BANCAIRE'!D464*-1","v":0},{"$f":"'RELEVE BANCAIRE'!E464","v":0},{"$f":"'RELEVE BANCAIRE'!C464","v":0},{"$f":"IF(LEFT(D463,1)=\"6\",'RELEVE BANCAIRE'!$O$2,\"\")","v":""},{"$f":"'RELEVE BANCAIRE'!K464","v":""}]
[{"$f":"'RELEVE BANCAIRE'!G465","v":"BQ4"},{"$f":"'RELEVE BANCAIRE'!A465","v":"00:00:00"},{"$f":"'RELEVE BANCAIRE'!H465","v":463},{"$f":"'RELEVE BANCAIRE'!J465","v":"47100000"},{"$f":"'RELEVE BANCAIRE'!D465*-1","v":0},{"$f":"'RELEVE BANCAIRE'!E465","v":0},{"$f":"'RELEVE BANCAIRE'!C465","v":0},{"$f":"IF(LEFT(D464,1)=\"6\",'RELEVE BANCAIRE'!$O$2,\"\")","v":""},{"$f":"'RELEVE BANCAIRE'!K465","v":""}]
[{"$f":"'RELEVE BANCAIRE'!G466","v":"BQ4"},{"$f":"'RELEVE BANCAIRE'!A466","v":"00:00:00"},{"$f":"'RELEVE BANCAIRE'!H466","v":464},{"$f":"'RELEVE BANCAIRE'!J466","v":"47100000"},{"$f":"'RELEVE BANCAIRE'!D466*-1","v":0},{"$f":"'RELEVE BANCAIRE'!E466","v":0},{"$f":"'RELEVE BANCAIRE'!C466","v":0},{"$f":"IF(LEFT(D465,1)=\"6\",'RELEVE BANCAIRE'!$O$2,\"\")","v":""},{"$f":"'RELEVE BANCAIRE'!K466","v":""}]
[{"$f":"'RELEVE BANCAIRE'!G467","v":"BQ4"},{"$f":"'RELEVE BANCAIRE'!A467","v":"00:00:00"},{"$f":"'RELEVE BANCAIRE'!H467","v":465},{"$f":"'RELEVE BANCAIRE'!J467","v":"47100000"},{"$f":"'RELEVE BANCAIRE'!D467*-1","v":0},{"$f":"'RELEVE BANCAIRE'!E467","v":0},{"$f":"'RELEVE BANCAIRE'!C467","v":0},{"$f":"IF(LEFT(D466,1)=\"6\",'RELEVE BANCAIRE'!$O$2,\"\")","v":""},{"$f":"'RELEVE BANCAIRE'!K467","v":""}]
[{"$f":"'RELEVE BANCAIRE'!G468","v":"BQ4"},{"$f":"'RELEVE BANCAIRE'!A468","v":"00:00:00"},{"$f":"'RELEVE BANCAIRE'!H468","v":466},{"$f":"'RELEVE BANCAIRE'!J468","v":"47100000"},{"$f":"'RELEVE BANCAIRE'!D468*-1","v":0},{"$f":"'RELEVE BANCAIRE'!E468","v":0},{"$f":"'RELEVE BANCAIRE'!C468","v":0},{"$f":"IF(LEFT(D467,1)=\"6\",'RELEVE BANCAIRE'!$O$2,\"\")","v":""},{"$f":"'RELEVE BANCAIRE'!K468","v":""}]
[{"$f":"'RELEVE BANCAIRE'!G469","v":"BQ4"},{"$f":"'RELEVE BANCAIRE'!A469","v":"00:00:00"},{"$f":"'RELEVE BANCAIRE'!H469","v":467},{"$f":"'RELEVE BANCAIRE'!J469","v":"47100000"},{"$f":"'RELEVE BANCAIRE'!D469*-1","v":0},{"$f":"'RELEVE BANCAIRE'!E469","v":0},{"$f":"'RELEVE BANCAIRE'!C469","v":0},{"$f":"IF(LEFT(D468,1)=\"6\",'RELEVE BANCAIRE'!$O$2,\"\")","v":""},{"$f":"'RELEVE BANCAIRE'!K469","v":""}]
[{"$f":"'RELEVE BANCAIRE'!G470","v":"BQ4"},{"$f":"'RELEVE BANCAIRE'!A470","v":"00:00:00"},{"$f":"'RELEVE BANCAIRE'!H470","v":468},{"$f":"'RELEVE BANCAIRE'!J470","v":"47100000"},{"$f":"'RELEVE BANCAIRE'!D470*-1","v":0},{"$f":"'RELEVE BANCAIRE'!E470","v":0},{"$f":"'RELEVE BANCAIRE'!C470","v":0},{"$f":"IF(LEFT(D469,1)=\"6\",'RELEVE BANCAIRE'!$O$2,\"\")","v":""},{"$f":"'RELEVE BANCAIRE'!K470","v":""}]
[{"$f":"'RELEVE BANCAIRE'!G471","v":"BQ4"},{"$f":"'RELEVE BANCAIRE'!A471","v":"00:00:00"},{"$f":"'RELEVE BANCAIRE'!H471","v":469},{"$f":"'RELEVE BANCAIRE'!J471","v":"47100000"},{"$f":"'RELEVE BANCAIRE'!D471*-1","v":0},{"$f":"'RELEVE BANCAIRE'!E471","v":0},{"$f":"'RELEVE BANCAIRE'!C471","v":0},{"$f":"IF(LEFT(D470,1)=\"6\",'RELEVE BANCAIRE'!$O$2,\"\")","v":""},{"$f":"'RELEVE BANCAIRE'!K471","v":""}]
[{"$f":"'RELEVE BANCAIRE'!G472","v":"BQ4"},{"$f":"'RELEVE BANCAIRE'!A472","v":"00:00:00"},{"$f":"'RELEVE BANCAIRE'!H472","v":470},{"$f":"'RELEVE BANCAIRE'!J472","v":"47100000"},{"$f":"'RELEVE BANCAIRE'!D472*-1","v":0},{"$f":"'RELEVE BANCAIRE'!E472","v":0},{"$f":"'RELEVE BANCAIRE'!C472","v":0},{"$f":"IF(LEFT(D471,1)=\"6\",'RELEVE BANCAIRE'!$O$2,\"\")","v":""},{"$f":"'RELEVE BANCAIRE'!K472","v":""}]
[{"$f":"'RELEVE BANCAIRE'!G473","v":"BQ4"},{"$f":"'RELEVE BANCAIRE'!A473","v":"00:00:00"},{"$f":"'RELEVE BANCAIRE'!H473","v":471},{"$f":"'RELEVE BANCAIRE'!J473","v":"47100000"},{"$f":"'RELEVE BANCAIRE'!D473*-1","v":0},{"$f":"'RELEVE BANCAIRE'!E473","v":0},{"$f":"'RELEVE BANCAIRE'!C473","v":0},{"$f":"IF(LEFT(D472,1)=\"6\",'RELEVE BANCAIRE'!$O$2,\"\")","v":""},{"$f":"'RELEVE BANCAIRE'!K473","v":""}]
[{"$f":"'RELEVE BANCAIRE'!G474","v":"BQ4"},{"$f":"'RELEVE BANCAIRE'!A474","v":"00:00:00"},{"$f":"'RELEVE BANCAIRE'!H474","v":472},{"$f":"'RELEVE BANCAIRE'!J474","v":"47100000"},{"$f":"'RELEVE BANCAIRE'!D474*-1","v":0},{"$f":"'RELEVE BANCAIRE'!E474","v":0},{"$f":"'RELEVE BANCAIRE'!C474","v":0},{"$f":"IF(LEFT(D473,1)=\"6\",'RELEVE BANCAIRE'!$O$2,\"\")","v":""},{"$f":"'RELEVE BANCAIRE'!K474","v":""}]
[{"$f":"'RELEVE BANCAIRE'!G475","v":"BQ4"},{"$f":"'RELEVE BANCAIRE'!A475","v":"00:00:00"},{"$f":"'RELEVE BANCAIRE'!H475","v":473},{"$f":"'RELEVE BANCAIRE'!J475","v":"47100000"},{"$f":"'RELEVE BANCAIRE'!D475*-1","v":0},{"$f":"'RELEVE BANCAIRE'!E475","v":0},{"$f":"'RELEVE BANCAIRE'!C475","v":0},{"$f":"IF(LEFT(D474,1)=\"6\",'RELEVE BANCAIRE'!$O$2,\"\")","v":""},{"$f":"'RELEVE BANCAIRE'!K475","v":""}]
[{"$f":"'RELEVE BANCAIRE'!G476","v":"BQ4"},{"$f":"'RELEVE BANCAIRE'!A476","v":"00:00:00"},{"$f":"'RELEVE BANCAIRE'!H476","v":474},{"$f":"'RELEVE BANCAIRE'!J476","v":"47100000"},{"$f":"'RELEVE BANCAIRE'!D476*-1","v":0},{"$f":"'RELEVE BANCAIRE'!E476","v":0},{"$f":"'RELEVE BANCAIRE'!C476","v":0},{"$f":"IF(LEFT(D475,1)=\"6\",'RELEVE BANCAIRE'!$O$2,\"\")","v":""},{"$f":"'RELEVE BANCAIRE'!K476","v":""}]
[{"$f":"'RELEVE BANCAIRE'!G477","v":"BQ4"},{"$f":"'RELEVE BANCAIRE'!A477","v":"00:00:00"},{"$f":"'RELEVE BANCAIRE'!H477","v":475},{"$f":"'RELEVE BANCAIRE'!J477","v":"47100000"},{"$f":"'RELEVE BANCAIRE'!D477*-1","v":0},{"$f":"'RELEVE BANCAIRE'!E477","v":0},{"$f":"'RELEVE BANCAIRE'!C477","v":0},{"$f":"IF(LEFT(D476,1)=\"6\",'RELEVE BANCAIRE'!$O$2,\"\")","v":""},{"$f":"'RELEVE BANCAIRE'!K477","v":""}]
[{"$f":"'RELEVE BANCAIRE'!G478","v":"BQ4"},{"$f":"'RELEVE BANCAIRE'!A478","v":"00:00:00"},{"$f":"'RELEVE BANCAIRE'!H478","v":476},{"$f":"'RELEVE BANCAIRE'!J478","v":"47100000"},{"$f":"'RELEVE BANCAIRE'!D478*-1","v":0},{"$f":"'RELEVE BANCAIRE'!E478","v":0},{"$f":"'RELEVE BANCAIRE'!C478","v":0},{"$f":"IF(LEFT(D477,1)=\"6\",'RELEVE BANCAIRE'!$O$2,\"\")","v":""},{"$f":"'RELEVE BANCAIRE'!K478","v":""}]
[{"$f":"'RELEVE BANCAIRE'!G479","v":"BQ4"},{"$f":"'RELEVE BANCAIRE'!A479","v":"00:00:00"},{"$f":"'RELEVE BANCAIRE'!H479","v":477},{"$f":"'RELEVE BANCAIRE'!J479","v":"47100000"},{"$f":"'RELEVE BANCAIRE'!D479*-1","v":0},{"$f":"'RELEVE BANCAIRE'!E479","v":0},{"$f":"'RELEVE BANCAIRE'!C479","v":0},{"$f":"IF(LEFT(D478,1)=\"6\",'RELEVE BANCAIRE'!$O$2,\"\")","v":""},{"$f":"'RELEVE BANCAIRE'!K479","v":""}]
[{"$f":"'RELEVE BANCAIRE'!G480","v":"BQ4"},{"$f":"'RELEVE BANCAIRE'!A480","v":"00:00:00"},{"$f":"'RELEVE BANCAIRE'!H480","v":478},{"$f":"'RELEVE BANCAIRE'!J480","v":"47100000"},{"$f":"'RELEVE BANCAIRE'!D480*-1","v":0},{"$f":"'RELEVE BANCAIRE'!E480","v":0},{"$f":"'RELEVE BANCAIRE'!C480","v":0},{"$f":"IF(LEFT(D479,1)=\"6\",'RELEVE BANCAIRE'!$O$2,\"\")","v":""},{"$f":"'RELEVE BANCAIRE'!K480","v":""}]
[{"$f":"'RELEVE BANCAIRE'!G481","v":"BQ4"},{"$f":"'RELEVE BANCAIRE'!A481","v":"00:00:00"},{"$f":"'RELEVE BANCAIRE'!H481","v":479},{"$f":"'RELEVE BANCAIRE'!J481","v":"47100000"},{"$f":"'RELEVE BANCAIRE'!D481*-1","v":0},{"$f":"'RELEVE BANCAIRE'!E481","v":0},{"$f":"'RELEVE BANCAIRE'!C481","v":0},{"$f":"IF(LEFT(D480,1)=\"6\",'RELEVE BANCAIRE'!$O$2,\"\")","v":""},{"$f":"'RELEVE BANCAIRE'!K481","v":""}]
[{"$f":"'RELEVE BANCAIRE'!G482","v":"BQ4"},{"$f":"'RELEVE BANCAIRE'!A482","v":"00:00:00"},{"$f":"'RELEVE BANCAIRE'!H482","v":480},{"$f":"'RELEVE BANCAIRE'!J482","v":"47100000"},{"$f":"'RELEVE BANCAIRE'!D482*-1","v":0},{"$f":"'RELEVE BANCAIRE'!E482","v":0},{"$f":"'RELEVE BANCAIRE'!C482","v":0},{"$f":"IF(LEFT(D481,1)=\"6\",'RELEVE BANCAIRE'!$O$2,\"\")","v":""},{"$f":"'RELEVE BANCAIRE'!K482","v":""}]
[{"$f":"'RELEVE BANCAIRE'!G483","v":"BQ4"},{"$f":"'RELEVE BANCAIRE'!A483","v":"00:00:00"},{"$f":"'RELEVE BANCAIRE'!H483","v":481},{"$f":"'RELEVE BANCAIRE'!J483","v":"47100000"},{"$f":"'RELEVE BANCAIRE'!D483*-1","v":0},{"$f":"'RELEVE BANCAIRE'!E483","v":0},{"$f":"'RELEVE BANCAIRE'!C483","v":0},{"$f":"IF(LEFT(D482,1)=\"6\",'RELEVE BANCAIRE'!$O$2,\"\")","v":""},{"$f":"'RELEVE BANCAIRE'!K483","v":""}]
[{"$f":"'RELEVE BANCAIRE'!G484","v":"BQ4"},{"$f":"'RELEVE BANCAIRE'!A484","v":"00:00:00"},{"$f":"'RELEVE BANCAIRE'!H484","v":482},{"$f":"'RELEVE BANCAIRE'!J484","v":"47100000"},{"$f":"'RELEVE BANCAIRE'!D484*-1","v":0},{"$f":"'RELEVE BANCAIRE'!E484","v":0},{"$f":"'RELEVE BANCAIRE'!C484","v":0},{"$f":"IF(LEFT(D483,1)=\"6\",'RELEVE BANCAIRE'!$O$2,\"\")","v":""},{"$f":"'RELEVE BANCAIRE'!K484","v":""}]
[{"$f":"'RELEVE BANCAIRE'!G485","v":"BQ4"},{"$f":"'RELEVE BANCAIRE'!A485","v":"00:00:00"},{"$f":"'RELEVE BANCAIRE'!H485","v":483},{"$f":"'RELEVE BANCAIRE'!J485","v":"47100000"},{"$f":"'RELEVE BANCAIRE'!D485*-1","v":0},{"$f":"'RELEVE BANCAIRE'!E485","v":0},{"$f":"'RELEVE BANCAIRE'!C485","v":0},{"$f":"IF(LEFT(D484,1)=\"6\",'RELEVE BANCAIRE'!$O$2,\"\")","v":""},{"$f":"'RELEVE BANCAIRE'!K485","v":""}]
[{"$f":"'RELEVE BANCAIRE'!G486","v":"BQ4"},{"$f":"'RELEVE BANCAIRE'!A486","v":"00:00:00"},{"$f":"'RELEVE BANCAIRE'!H486","v":484},{"$f":"'RELEVE BANCAIRE'!J486","v":"47100000"},{"$f":"'RELEVE BANCAIRE'!D486*-1","v":0},{"$f":"'RELEVE BANCAIRE'!E486","v":0},{"$f":"'RELEVE BANCAIRE'!C486","v":0},{"$f":"IF(LEFT(D485,1)=\"6\",'RELEVE BANCAIRE'!$O$2,\"\")","v":""},{"$f":"'RELEVE BANCAIRE'!K486","v":""}]
[{"$f":"'RELEVE BANCAIRE'!G487","v":"BQ4"},{"$f":"'RELEVE BANCAIRE'!A487","v":"00:00:00"},{"$f":"'RELEVE BANCAIRE'!H487","v":485},{"$f":"'RELEVE BANCAIRE'!J487","v":"47100000"},{"$f":"'RELEVE BANCAIRE'!D487*-1","v":0},{"$f":"'RELEVE BANCAIRE'!E487","v":0},{"$f":"'RELEVE BANCAIRE'!C487","v":0},{"$f":"IF(LEFT(D486,1)=\"6\",'RELEVE BANCAIRE'!$O$2,\"\")","v":""},{"$f":"'RELEVE BANCAIRE'!K487","v":""}]
[{"$f":"'RELEVE BANCAIRE'!G488","v":"BQ4"},{"$f":"'RELEVE BANCAIRE'!A488","v":"00:00:00"},{"$f":"'RELEVE BANCAIRE'!H488","v":486},{"$f":"'RELEVE BANCAIRE'!J488","v":"47100000"},{"$f":"'RELEVE BANCAIRE'!D488*-1","v":0},{"$f":"'RELEVE BANCAIRE'!E488","v":0},{"$f":"'RELEVE BANCAIRE'!C488","v":0},{"$f":"IF(LEFT(D487,1)=\"6\",'RELEVE BANCAIRE'!$O$2,\"\")","v":""},{"$f":"'RELEVE BANCAIRE'!K488","v":""}]
[{"$f":"'RELEVE BANCAIRE'!G489","v":"BQ4"},{"$f":"'RELEVE BANCAIRE'!A489","v":"00:00:00"},{"$f":"'RELEVE BANCAIRE'!H489","v":487},{"$f":"'RELEVE BANCAIRE'!J489","v":"47100000"},{"$f":"'RELEVE BANCAIRE'!D489*-1","v":0},{"$f":"'RELEVE BANCAIRE'!E489","v":0},{"$f":"'RELEVE BANCAIRE'!C489","v":0},{"$f":"IF(LEFT(D488,1)=\"6\",'RELEVE BANCAIRE'!$O$2,\"\")","v":""},{"$f":"'RELEVE BANCAIRE'!K489","v":""}]
[{"$f":"'RELEVE BANCAIRE'!G490","v":"BQ4"},{"$f":"'RELEVE BANCAIRE'!A490","v":"00:00:00"},{"$f":"'RELEVE BANCAIRE'!H490","v":488},{"$f":"'RELEVE BANCAIRE'!J490","v":"47100000"},{"$f":"'RELEVE BANCAIRE'!D490*-1","v":0},{"$f":"'RELEVE BANCAIRE'!E490","v":0},{"$f":"'RELEVE BANCAIRE'!C490","v":0},{"$f":"IF(LEFT(D489,1)=\"6\",'RELEVE BANCAIRE'!$O$2,\"\")","v":""},{"$f":"'RELEVE BANCAIRE'!K490","v":""}]
[{"$f":"'RELEVE BANCAIRE'!G491","v":"BQ4"},{"$f":"'RELEVE BANCAIRE'!A491","v":"00:00:00"},{"$f":"'RELEVE BANCAIRE'!H491","v":489},{"$f":"'RELEVE BANCAIRE'!J491","v":"47100000"},{"$f":"'RELEVE BANCAIRE'!D491*-1","v":0},{"$f":"'RELEVE BANCAIRE'!E491","v":0},{"$f":"'RELEVE BANCAIRE'!C491","v":0},{"$f":"IF(LEFT(D490,1)=\"6\",'RELEVE BANCAIRE'!$O$2,\"\")","v":""},{"$f":"'RELEVE BANCAIRE'!K491","v":""}]
[{"$f":"'RELEVE BANCAIRE'!G492","v":"BQ4"},{"$f":"'RELEVE BANCAIRE'!A492","v":"00:00:00"},{"$f":"'RELEVE BANCAIRE'!H492","v":490},{"$f":"'RELEVE BANCAIRE'!J492","v":"47100000"},{"$f":"'RELEVE BANCAIRE'!D492*-1","v":0},{"$f":"'RELEVE BANCAIRE'!E492","v":0},{"$f":"'RELEVE BANCAIRE'!C492","v":0},{"$f":"IF(LEFT(D491,1)=\"6\",'RELEVE BANCAIRE'!$O$2,\"\")","v":""},{"$f":"'RELEVE BANCAIRE'!K492","v":""}]
[{"$f":"'RELEVE BANCAIRE'!G493","v":"BQ4"},{"$f":"'RELEVE BANCAIRE'!A493","v":"00:00:00"},{"$f":"'RELEVE BANCAIRE'!H493","v":491},{"$f":"'RELEVE BANCAIRE'!J493","v":"47100000"},{"$f":"'RELEVE BANCAIRE'!D493*-1","v":0},{"$f":"'RELEVE BANCAIRE'!E493","v":0},{"$f":"'RELEVE BANCAIRE'!C493","v":0},{"$f":"IF(LEFT(D492,1)=\"6\",'RELEVE BANCAIRE'!$O$2,\"\")","v":""},{"$f":"'RELEVE BANCAIRE'!K493","v":""}]
[{"$f":"'RELEVE BANCAIRE'!G494","v":"BQ4"},{"$f":"'RELEVE BANCAIRE'!A494","v":"00:00:00"},{"$f":"'RELEVE BANCAIRE'!H494","v":492},{"$f":"'RELEVE BANCAIRE'!J494","v":"47100000"},{"$f":"'RELEVE BANCAIRE'!D494*-1","v":0},{"$f":"'RELEVE BANCAIRE'!E494","v":0},{"$f":"'RELEVE BANCAIRE'!C494","v":0},{"$f":"IF(LEFT(D493,1)=\"6\",'RELEVE BANCAIRE'!$O$2,\"\")","v":""},{"$f":"'RELEVE BANCAIRE'!K494","v":""}]
[{"$f":"'RELEVE BANCAIRE'!G495","v":"BQ4"},{"$f":"'RELEVE BANCAIRE'!A495","v":"00:00:00"},{"$f":"'RELEVE BANCAIRE'!H495","v":493},{"$f":"'RELEVE BANCAIRE'!J495","v":"47100000"},{"$f":"'RELEVE BANCAIRE'!D495*-1","v":0},{"$f":"'RELEVE BANCAIRE'!E495","v":0},{"$f":"'RELEVE BANCAIRE'!C495","v":0},{"$f":"IF(LEFT(D494,1)=\"6\",'RELEVE BANCAIRE'!$O$2,\"\")","v":""},{"$f":"'RELEVE BANCAIRE'!K495","v":""}]
[{"$f":"'RELEVE BANCAIRE'!G496","v":"BQ4"},{"$f":"'RELEVE BANCAIRE'!A496","v":"00:00:00"},{"$f":"'RELEVE BANCAIRE'!H496","v":494},{"$f":"'RELEVE BANCAIRE'!J496","v":"47100000"},{"$f":"'RELEVE BANCAIRE'!D496*-1","v":0},{"$f":"'RELEVE BANCAIRE'!E496","v":0},{"$f":"'RELEVE BANCAIRE'!C496","v":0},{"$f":"IF(LEFT(D495,1)=\"6\",'RELEVE BANCAIRE'!$O$2,\"\")","v":""},{"$f":"'RELEVE BANCAIRE'!K496","v":""}]
[{"$f":"'RELEVE BANCAIRE'!G497","v":"BQ4"},{"$f":"'RELEVE BANCAIRE'!A497","v":"00:00:00"},{"$f":"'RELEVE BANCAIRE'!H497","v":495},{"$f":"'RELEVE BANCAIRE'!J497","v":"47100000"},{"$f":"'RELEVE BANCAIRE'!D497*-1","v":0},{"$f":"'RELEVE BANCAIRE'!E497","v":0},{"$f":"'RELEVE BANCAIRE'!C497","v":0},{"$f":"IF(LEFT(D496,1)=\"6\",'RELEVE BANCAIRE'!$O$2,\"\")","v":""},{"$f":"'RELEVE BANCAIRE'!K497","v":""}]
[{"$f":"'RELEVE BANCAIRE'!G498","v":"BQ4"},{"$f":"'RELEVE BANCAIRE'!A498","v":"00:00:00"},{"$f":"'RELEVE BANCAIRE'!H498","v":496},{"$f":"'RELEVE BANCAIRE'!J498","v":"47100000"},{"$f":"'RELEVE BANCAIRE'!D498*-1","v":0},{"$f":"'RELEVE BANCAIRE'!E498","v":0},{"$f":"'RELEVE BANCAIRE'!C498","v":0},{"$f":"IF(LEFT(D497,1)=\"6\",'RELEVE BANCAIRE'!$O$2,\"\")","v":""},{"$f":"'RELEVE BANCAIRE'!K498","v":""}]
[{"$f":"'RELEVE BANCAIRE'!G499","v":"BQ4"},{"$f":"'RELEVE BANCAIRE'!A499","v":"00:00:00"},{"$f":"'RELEVE BANCAIRE'!H499","v":497},{"$f":"'RELEVE BANCAIRE'!J499","v":"47100000"},{"$f":"'RELEVE BANCAIRE'!D499*-1","v":0},{"$f":"'RELEVE BANCAIRE'!E499","v":0},{"$f":"'RELEVE BANCAIRE'!C499","v":0},{"$f":"IF(LEFT(D498,1)=\"6\",'RELEVE BANCAIRE'!$O$2,\"\")","v":""},{"$f":"'RELEVE BANCAIRE'!K499","v":""}]
[{"$f":"'RELEVE BANCAIRE'!G500","v":"BQ4"},{"$f":"'RELEVE BANCAIRE'!A500","v":"00:00:00"},{"$f":"'RELEVE BANCAIRE'!H500","v":498},{"$f":"'RELEVE BANCAIRE'!J500","v":"47100000"},{"$f":"'RELEVE BANCAIRE'!D500*-1","v":0},{"$f":"'RELEVE BANCAIRE'!E500","v":0},{"$f":"'RELEVE BANCAIRE'!C500","v":0},{"$f":"IF(LEFT(D499,1)=\"6\",'RELEVE BANCAIRE'!$O$2,\"\")","v":""},{"$f":"'RELEVE BANCAIRE'!K500","v":""}]
[{"$f":"'RELEVE BANCAIRE'!G501","v":0},{"$f":"'RELEVE BANCAIRE'!A501","v":"00:00:00"},{"$f":"'RELEVE BANCAIRE'!H501","v":0},{"$f":"'RELEVE BANCAIRE'!J501","v":0},{"$f":"'RELEVE BANCAIRE'!D501*-1","v":0},{"$f":"'RELEVE BANCAIRE'!E501","v":0},{"$f":"'RELEVE BANCAIRE'!C501","v":0},{"$f":"IF(LEFT(D500,1)=\"6\",'RELEVE BANCAIRE'!$O$2,\"\")","v":""},{"$f":"'RELEVE BANCAIRE'!K501","v":0}]
[{"$f":"'RELEVE BANCAIRE'!G502","v":0},{"$f":"'RELEVE BANCAIRE'!A502","v":"00:00:00"},{"$f":"'RELEVE BANCAIRE'!H502","v":0},{"$f":"'RELEVE BANCAIRE'!J502","v":0},{"$f":"'RELEVE BANCAIRE'!D502*-1","v":0},{"$f":"'RELEVE BANCAIRE'!E502","v":0},{"$f":"'RELEVE BANCAIRE'!C502","v":0},{"$f":"IF(LEFT(D501,1)=\"6\",'RELEVE BANCAIRE'!$O$2,\"\")","v":""},{"$f":"'RELEVE BANCAIRE'!K502","v":0}]
[{"$f":"'RELEVE BANCAIRE'!G503","v":0},{"$f":"'RELEVE BANCAIRE'!A503","v":"00:00:00"},{"$f":"'RELEVE BANCAIRE'!H503","v":0},{"$f":"'RELEVE BANCAIRE'!J503","v":0},{"$f":"'RELEVE BANCAIRE'!D503*-1","v":0},{"$f":"'RELEVE BANCAIRE'!E503","v":0},{"$f":"'RELEVE BANCAIRE'!C503","v":0},{"$f":"IF(LEFT(D502,1)=\"6\",'RELEVE BANCAIRE'!$O$2,\"\")","v":""},{"$f":"'RELEVE BANCAIRE'!K503","v":0}]
[{"$f":"'RELEVE BANCAIRE'!G504","v":0},{"$f":"'RELEVE BANCAIRE'!A504","v":"00:00:00"},{"$f":"'RELEVE BANCAIRE'!H504","v":0},{"$f":"'RELEVE BANCAIRE'!J504","v":0},{"$f":"'RELEVE BANCAIRE'!D504*-1","v":0},{"$f":"'RELEVE BANCAIRE'!E504","v":0},{"$f":"'RELEVE BANCAIRE'!C504","v":0},{"$f":"IF(LEFT(D503,1)=\"6\",'RELEVE BANCAIRE'!$O$2,\"\")","v":""},{"$f":"'RELEVE BANCAIRE'!K504","v":0}]
[{"$f":"'RELEVE BANCAIRE'!G505","v":0},{"$f":"'RELEVE BANCAIRE'!A505","v":"00:00:00"},{"$f":"'RELEVE BANCAIRE'!H505","v":0},{"$f":"'RELEVE BANCAIRE'!J505","v":0},{"$f":"'RELEVE BANCAIRE'!D505*-1","v":0},{"$f":"'RELEVE BANCAIRE'!E505","v":0},{"$f":"'RELEVE BANCAIRE'!C505","v":0},{"$f":"IF(LEFT(D504,1)=\"6\",'RELEVE BANCAIRE'!$O$2,\"\")","v":""},{"$f":"'RELEVE BANCAIRE'!K505","v":0}]
[{"$f":"'RELEVE BANCAIRE'!G506","v":0},{"$f":"'RELEVE BANCAIRE'!A506","v":"00:00:00"},{"$f":"'RELEVE BANCAIRE'!H506","v":0},{"$f":"'RELEVE BANCAIRE'!J506","v":0},{"$f":"'RELEVE BANCAIRE'!D506*-1","v":0},{"$f":"'RELEVE BANCAIRE'!E506","v":0},{"$f":"'RELEVE BANCAIRE'!C506","v":0},{"$f":"IF(LEFT(D505,1)=\"6\",'RELEVE BANCAIRE'!$O$2,\"\")","v":""},{"$f":"'RELEVE BANCAIRE'!K506","v":0}]
[{"$f":"'RELEVE BANCAIRE'!G507","v":0},{"$f":"'RELEVE BANCAIRE'!A507","v":"00:00:00"},{"$f":"'RELEVE BANCAIRE'!H507","v":0},{"$f":"'RELEVE BANCAIRE'!J507","v":0},{"$f":"'RELEVE BANCAIRE'!D507*-1","v":0},{"$f":"'RELEVE BANCAIRE'!E507","v":0},{"$f":"'RELEVE BANCAIRE'!C507","v":0},{"$f":"IF(LEFT(D506,1)=\"6\",'RELEVE BANCAIRE'!$O$2,\"\")","v":""},{"$f":"'RELEVE BANCAIRE'!K507","v":0}]
[{"$f":"'RELEVE BANCAIRE'!G508","v":0},{"$f":"'RELEVE BANCAIRE'!A508","v":"00:00:00"},{"$f":"'RELEVE BANCAIRE'!H508","v":0},{"$f":"'RELEVE BANCAIRE'!J508","v":0},{"$f":"'RELEVE BANCAIRE'!D508*-1","v":0},{"$f":"'RELEVE BANCAIRE'!E508","v":0},{"$f":"'RELEVE BANCAIRE'!C508","v":0},{"$f":"IF(LEFT(D507,1)=\"6\",'RELEVE BANCAIRE'!$O$2,\"\")","v":""},{"$f":"'RELEVE BANCAIRE'!K508","v":0}]
[{"$f":"'RELEVE BANCAIRE'!G509","v":0},{"$f":"'RELEVE BANCAIRE'!A509","v":"00:00:00"},{"$f":"'RELEVE BANCAIRE'!H509","v":0},{"$f":"'RELEVE BANCAIRE'!J509","v":0},{"$f":"'RELEVE BANCAIRE'!D509*-1","v":0},{"$f":"'RELEVE BANCAIRE'!E509","v":0},{"$f":"'RELEVE BANCAIRE'!C509","v":0},{"$f":"IF(LEFT(D508,1)=\"6\",'RELEVE BANCAIRE'!$O$2,\"\")","v":""},{"$f":"'RELEVE BANCAIRE'!K509","v":0}]
[{"$f":"'RELEVE BANCAIRE'!G510","v":0},{"$f":"'RELEVE BANCAIRE'!A510","v":"00:00:00"},{"$f":"'RELEVE BANCAIRE'!H510","v":0},{"$f":"'RELEVE BANCAIRE'!J510","v":0},{"$f":"'RELEVE BANCAIRE'!D510*-1","v":0},{"$f":"'RELEVE BANCAIRE'!E510","v":0},{"$f":"'RELEVE BANCAIRE'!C510","v":0},{"$f":"IF(LEFT(D509,1)=\"6\",'RELEVE BANCAIRE'!$O$2,\"\")","v":""},{"$f":"'RELEVE BANCAIRE'!K510","v":0}]
[{"$f":"'RELEVE BANCAIRE'!G511","v":0},{"$f":"'RELEVE BANCAIRE'!A511","v":"00:00:00"},{"$f":"'RELEVE BANCAIRE'!H511","v":0},{"$f":"'RELEVE BANCAIRE'!J511","v":0},{"$f":"'RELEVE BANCAIRE'!D511*-1","v":0},{"$f":"'RELEVE BANCAIRE'!E511","v":0},{"$f":"'RELEVE BANCAIRE'!C511","v":0},{"$f":"IF(LEFT(D510,1)=\"6\",'RELEVE BANCAIRE'!$O$2,\"\")","v":""},{"$f":"'RELEVE BANCAIRE'!K511","v":0}]
[{"$f":"'RELEVE BANCAIRE'!G512","v":0},{"$f":"'RELEVE BANCAIRE'!A512","v":"00:00:00"},{"$f":"'RELEVE BANCAIRE'!H512","v":0},{"$f":"'RELEVE BANCAIRE'!J512","v":0},{"$f":"'RELEVE BANCAIRE'!D512*-1","v":0},{"$f":"'RELEVE BANCAIRE'!E512","v":0},{"$f":"'RELEVE BANCAIRE'!C512","v":0},{"$f":"IF(LEFT(D511,1)=\"6\",'RELEVE BANCAIRE'!$O$2,\"\")","v":""},{"$f":"'RELEVE BANCAIRE'!K512","v":0}]
[{"$f":"'RELEVE BANCAIRE'!G513","v":0},{"$f":"'RELEVE BANCAIRE'!A513","v":"00:00:00"},{"$f":"'RELEVE BANCAIRE'!H513","v":0},{"$f":"'RELEVE BANCAIRE'!J513","v":0},{"$f":"'RELEVE BANCAIRE'!D513*-1","v":0},{"$f":"'RELEVE BANCAIRE'!E513","v":0},{"$f":"'RELEVE BANCAIRE'!C513","v":0},{"$f":"IF(LEFT(D512,1)=\"6\",'RELEVE BANCAIRE'!$O$2,\"\")","v":""},{"$f":"'RELEVE BANCAIRE'!K513","v":0}]
[{"$f":"'RELEVE BANCAIRE'!G514","v":0},{"$f":"'RELEVE BANCAIRE'!A514","v":"00:00:00"},{"$f":"'RELEVE BANCAIRE'!H514","v":0},{"$f":"'RELEVE BANCAIRE'!J514","v":0},{"$f":"'RELEVE BANCAIRE'!D514*-1","v":0},{"$f":"'RELEVE BANCAIRE'!E514","v":0},{"$f":"'RELEVE BANCAIRE'!C514","v":0},{"$f":"IF(LEFT(D513,1)=\"6\",'RELEVE BANCAIRE'!$O$2,\"\")","v":""},{"$f":"'RELEVE BANCAIRE'!K514","v":0}]
[{"$f":"'RELEVE BANCAIRE'!G515","v":0},{"$f":"'RELEVE BANCAIRE'!A515","v":"00:00:00"},{"$f":"'RELEVE BANCAIRE'!H515","v":0},{"$f":"'RELEVE BANCAIRE'!J515","v":0},{"$f":"'RELEVE BANCAIRE'!D515*-1","v":0},{"$f":"'RELEVE BANCAIRE'!E515","v":0},{"$f":"'RELEVE BANCAIRE'!C515","v":0},{"$f":"IF(LEFT(D514,1)=\"6\",'RELEVE BANCAIRE'!$O$2,\"\")","v":""},{"$f":"'RELEVE BANCAIRE'!K515","v":0}]
[{"$f":"'RELEVE BANCAIRE'!G516","v":0},{"$f":"'RELEVE BANCAIRE'!A516","v":"00:00:00"},{"$f":"'RELEVE BANCAIRE'!H516","v":0},{"$f":"'RELEVE BANCAIRE'!J516","v":0},{"$f":"'RELEVE BANCAIRE'!D516*-1","v":0},{"$f":"'RELEVE BANCAIRE'!E516","v":0},{"$f":"'RELEVE BANCAIRE'!C516","v":0},{"$f":"IF(LEFT(D515,1)=\"6\",'RELEVE BANCAIRE'!$O$2,\"\")","v":""},{"$f":"'RELEVE BANCAIRE'!K516","v":0}]
[{"$f":"'RELEVE BANCAIRE'!G517","v":0},{"$f":"'RELEVE BANCAIRE'!A517","v":"00:00:00"},{"$f":"'RELEVE BANCAIRE'!H517","v":0},{"$f":"'RELEVE BANCAIRE'!J517","v":0},{"$f":"'RELEVE BANCAIRE'!D517*-1","v":0},{"$f":"'RELEVE BANCAIRE'!E517","v":0},{"$f":"'RELEVE BANCAIRE'!C517","v":0},{"$f":"IF(LEFT(D516,1)=\"6\",'RELEVE BANCAIRE'!$O$2,\"\")","v":""},{"$f":"'RELEVE BANCAIRE'!K517","v":0}]
[{"$f":"'RELEVE BANCAIRE'!G518","v":0},{"$f":"'RELEVE BANCAIRE'!A518","v":"00:00:00"},{"$f":"'RELEVE BANCAIRE'!H518","v":0},{"$f":"'RELEVE BANCAIRE'!J518","v":0},{"$f":"'RELEVE BANCAIRE'!D518*-1","v":0},{"$f":"'RELEVE BANCAIRE'!E518","v":0},{"$f":"'RELEVE BANCAIRE'!C518","v":0},{"$f":"IF(LEFT(D517,1)=\"6\",'RELEVE BANCAIRE'!$O$2,\"\")","v":""},{"$f":"'RELEVE BANCAIRE'!K518","v":0}]
[{"$f":"'RELEVE BANCAIRE'!G519","v":0},{"$f":"'RELEVE BANCAIRE'!A519","v":"00:00:00"},{"$f":"'RELEVE BANCAIRE'!H519","v":0},{"$f":"'RELEVE BANCAIRE'!J519","v":0},{"$f":"'RELEVE BANCAIRE'!D519*-1","v":0},{"$f":"'RELEVE BANCAIRE'!E519","v":0},{"$f":"'RELEVE BANCAIRE'!C519","v":0},{"$f":"IF(LEFT(D518,1)=\"6\",'RELEVE BANCAIRE'!$O$2,\"\")","v":""},{"$f":"'RELEVE BANCAIRE'!K519","v":0}]
[{"$f":"'RELEVE BANCAIRE'!G520","v":0},{"$f":"'RELEVE BANCAIRE'!A520","v":"00:00:00"},{"$f":"'RELEVE BANCAIRE'!H520","v":0},{"$f":"'RELEVE BANCAIRE'!J520","v":0},{"$f":"'RELEVE BANCAIRE'!D520*-1","v":0},{"$f":"'RELEVE BANCAIRE'!E520","v":0},{"$f":"'RELEVE BANCAIRE'!C520","v":0},{"$f":"IF(LEFT(D519,1)=\"6\",'RELEVE BANCAIRE'!$O$2,\"\")","v":""},{"$f":"'RELEVE BANCAIRE'!K520","v":0}]
[{"$f":"'RELEVE BANCAIRE'!G521","v":0},{"$f":"'RELEVE BANCAIRE'!A521","v":"00:00:00"},{"$f":"'RELEVE BANCAIRE'!H521","v":0},{"$f":"'RELEVE BANCAIRE'!J521","v":0},{"$f":"'RELEVE BANCAIRE'!D521*-1","v":0},{"$f":"'RELEVE BANCAIRE'!E521","v":0},{"$f":"'RELEVE BANCAIRE'!C521","v":0},{"$f":"IF(LEFT(D520,1)=\"6\",'RELEVE BANCAIRE'!$O$2,\"\")","v":""},{"$f":"'RELEVE BANCAIRE'!K521","v":0}]
[{"$f":"'RELEVE BANCAIRE'!G522","v":0},{"$f":"'RELEVE BANCAIRE'!A522","v":"00:00:00"},{"$f":"'RELEVE BANCAIRE'!H522","v":0},{"$f":"'RELEVE BANCAIRE'!J522","v":0},{"$f":"'RELEVE BANCAIRE'!D522*-1","v":0},{"$f":"'RELEVE BANCAIRE'!E522","v":0},{"$f":"'RELEVE BANCAIRE'!C522","v":0},{"$f":"IF(LEFT(D521,1)=\"6\",'RELEVE BANCAIRE'!$O$2,\"\")","v":""},{"$f":"'RELEVE BANCAIRE'!K522","v":0}]
[{"$f":"'RELEVE BANCAIRE'!G523","v":0},{"$f":"'RELEVE BANCAIRE'!A523","v":"00:00:00"},{"$f":"'RELEVE BANCAIRE'!H523","v":0},{"$f":"'RELEVE BANCAIRE'!J523","v":0},{"$f":"'RELEVE BANCAIRE'!D523*-1","v":0},{"$f":"'RELEVE BANCAIRE'!E523","v":0},{"$f":"'RELEVE BANCAIRE'!C523","v":0},{"$f":"IF(LEFT(D522,1)=\"6\",'RELEVE BANCAIRE'!$O$2,\"\")","v":""},{"$f":"'RELEVE BANCAIRE'!K523","v":0}]
[{"$f":"'RELEVE BANCAIRE'!G524","v":0},{"$f":"'RELEVE BANCAIRE'!A524","v":"00:00:00"},{"$f":"'RELEVE BANCAIRE'!H524","v":0},{"$f":"'RELEVE BANCAIRE'!J524","v":0},{"$f":"'RELEVE BANCAIRE'!D524*-1","v":0},{"$f":"'RELEVE BANCAIRE'!E524","v":0},{"$f":"'RELEVE BANCAIRE'!C524","v":0},{"$f":"IF(LEFT(D523,1)=\"6\",'RELEVE BANCAIRE'!$O$2,\"\")","v":""},{"$f":"'RELEVE BANCAIRE'!K524","v":0}]
[{"$f":"'RELEVE BANCAIRE'!G525","v":0},{"$f":"'RELEVE BANCAIRE'!A525","v":"00:00:00"},{"$f":"'RELEVE BANCAIRE'!H525","v":0},{"$f":"'RELEVE BANCAIRE'!J525","v":0},{"$f":"'RELEVE BANCAIRE'!D525*-1","v":0},{"$f":"'RELEVE BANCAIRE'!E525","v":0},{"$f":"'RELEVE BANCAIRE'!C525","v":0},{"$f":"IF(LEFT(D524,1)=\"6\",'RELEVE BANCAIRE'!$O$2,\"\")","v":""},{"$f":"'RELEVE BANCAIRE'!K525","v":0}]
[{"$f":"'RELEVE BANCAIRE'!G526","v":0},{"$f":"'RELEVE BANCAIRE'!A526","v":"00:00:00"},{"$f":"'RELEVE BANCAIRE'!H526","v":0},{"$f":"'RELEVE BANCAIRE'!J526","v":0},{"$f":"'RELEVE BANCAIRE'!D526*-1","v":0},{"$f":"'RELEVE BANCAIRE'!E526","v":0},{"$f":"'RELEVE BANCAIRE'!C526","v":0},{"$f":"IF(LEFT(D525,1)=\"6\",'RELEVE BANCAIRE'!$O$2,\"\")","v":""},{"$f":"'RELEVE BANCAIRE'!K526","v":0}]
[{"$f":"'RELEVE BANCAIRE'!G527","v":0},{"$f":"'RELEVE BANCAIRE'!A527","v":"00:00:00"},{"$f":"'RELEVE BANCAIRE'!H527","v":0},{"$f":"'RELEVE BANCAIRE'!J527","v":0},{"$f":"'RELEVE BANCAIRE'!D527*-1","v":0},{"$f":"'RELEVE BANCAIRE'!E527","v":0},{"$f":"'RELEVE BANCAIRE'!C527","v":0},{"$f":"IF(LEFT(D526,1)=\"6\",'RELEVE BANCAIRE'!$O$2,\"\")","v":""},{"$f":"'RELEVE BANCAIRE'!K527","v":0}]
[{"$f":"'RELEVE BANCAIRE'!G528","v":0},{"$f":"'RELEVE BANCAIRE'!A528","v":"00:00:00"},{"$f":"'RELEVE BANCAIRE'!H528","v":0},{"$f":"'RELEVE BANCAIRE'!J528","v":0},{"$f":"'RELEVE BANCAIRE'!D528*-1","v":0},{"$f":"'RELEVE BANCAIRE'!E528","v":0},{"$f":"'RELEVE BANCAIRE'!C528","v":0},{"$f":"IF(LEFT(D527,1)=\"6\",'RELEVE BANCAIRE'!$O$2,\"\")","v":""},{"$f":"'RELEVE BANCAIRE'!K528","v":0}]
[{"$f":"'RELEVE BANCAIRE'!G529","v":0},{"$f":"'RELEVE BANCAIRE'!A529","v":"00:00:00"},{"$f":"'RELEVE BANCAIRE'!H529","v":0},{"$f":"'RELEVE BANCAIRE'!J529","v":0},{"$f":"'RELEVE BANCAIRE'!D529*-1","v":0},{"$f":"'RELEVE BANCAIRE'!E529","v":0},{"$f":"'RELEVE BANCAIRE'!C529","v":0},{"$f":"IF(LEFT(D528,1)=\"6\",'RELEVE BANCAIRE'!$O$2,\"\")","v":""},{"$f":"'RELEVE BANCAIRE'!K529","v":0}]
[{"$f":"'RELEVE BANCAIRE'!G530","v":0},{"$f":"'RELEVE BANCAIRE'!A530","v":"00:00:00"},{"$f":"'RELEVE BANCAIRE'!H530","v":0},{"$f":"'RELEVE BANCAIRE'!J530","v":0},{"$f":"'RELEVE BANCAIRE'!D530*-1","v":0},{"$f":"'RELEVE BANCAIRE'!E530","v":0},{"$f":"'RELEVE BANCAIRE'!C530","v":0},{"$f":"IF(LEFT(D529,1)=\"6\",'RELEVE BANCAIRE'!$O$2,\"\")","v":""},{"$f":"'RELEVE BANCAIRE'!K530","v":0}]
[{"$f":"'RELEVE BANCAIRE'!G531","v":0},{"$f":"'RELEVE BANCAIRE'!A531","v":"00:00:00"},{"$f":"'RELEVE BANCAIRE'!H531","v":0},{"$f":"'RELEVE BANCAIRE'!J531","v":0},{"$f":"'RELEVE BANCAIRE'!D531*-1","v":0},{"$f":"'RELEVE BANCAIRE'!E531","v":0},{"$f":"'RELEVE BANCAIRE'!C531","v":0},{"$f":"IF(LEFT(D530,1)=\"6\",'RELEVE BANCAIRE'!$O$2,\"\")","v":""},{"$f":"'RELEVE BANCAIRE'!K531","v":0}]
[{"$f":"'RELEVE BANCAIRE'!G532","v":0},{"$f":"'RELEVE BANCAIRE'!A532","v":"00:00:00"},{"$f":"'RELEVE BANCAIRE'!H532","v":0},{"$f":"'RELEVE BANCAIRE'!J532","v":0},{"$f":"'RELEVE BANCAIRE'!D532*-1","v":0},{"$f":"'RELEVE BANCAIRE'!E532","v":0},{"$f":"'RELEVE BANCAIRE'!C532","v":0},{"$f":"IF(LEFT(D531,1)=\"6\",'RELEVE BANCAIRE'!$O$2,\"\")","v":""},{"$f":"'RELEVE BANCAIRE'!K532","v":0}]
[{"$f":"'RELEVE BANCAIRE'!G533","v":0},{"$f":"'RELEVE BANCAIRE'!A533","v":"00:00:00"},{"$f":"'RELEVE BANCAIRE'!H533","v":0},{"$f":"'RELEVE BANCAIRE'!J533","v":0},{"$f":"'RELEVE BANCAIRE'!D533*-1","v":0},{"$f":"'RELEVE BANCAIRE'!E533","v":0},{"$f":"'RELEVE BANCAIRE'!C533","v":0},{"$f":"IF(LEFT(D532,1)=\"6\",'RELEVE BANCAIRE'!$O$2,\"\")","v":""},{"$f":"'RELEVE BANCAIRE'!K533","v":0}]
[{"$f":"'RELEVE BANCAIRE'!G534","v":0},{"$f":"'RELEVE BANCAIRE'!A534","v":"00:00:00"},{"$f":"'RELEVE BANCAIRE'!H534","v":0},{"$f":"'RELEVE BANCAIRE'!J534","v":0},{"$f":"'RELEVE BANCAIRE'!D534*-1","v":0},{"$f":"'RELEVE BANCAIRE'!E534","v":0},{"$f":"'RELEVE BANCAIRE'!C534","v":0},{"$f":"IF(LEFT(D533,1)=\"6\",'RELEVE BANCAIRE'!$O$2,\"\")","v":""},{"$f":"'RELEVE BANCAIRE'!K534","v":0}]
[{"$f":"'RELEVE BANCAIRE'!G535","v":0},{"$f":"'RELEVE BANCAIRE'!A535","v":"00:00:00"},{"$f":"'RELEVE BANCAIRE'!H535","v":0},{"$f":"'RELEVE BANCAIRE'!J535","v":0},{"$f":"'RELEVE BANCAIRE'!D535*-1","v":0},{"$f":"'RELEVE BANCAIRE'!E535","v":0},{"$f":"'RELEVE BANCAIRE'!C535","v":0},{"$f":"IF(LEFT(D534,1)=\"6\",'RELEVE BANCAIRE'!$O$2,\"\")","v":""},{"$f":"'RELEVE BANCAIRE'!K535","v":0}]
[{"$f":"'RELEVE BANCAIRE'!G536","v":0},{"$f":"'RELEVE BANCAIRE'!A536","v":"00:00:00"},{"$f":"'RELEVE BANCAIRE'!H536","v":0},{"$f":"'RELEVE BANCAIRE'!J536","v":0},{"$f":"'RELEVE BANCAIRE'!D536*-1","v":0},{"$f":"'RELEVE BANCAIRE'!E536","v":0},{"$f":"'RELEVE BANCAIRE'!C536","v":0},{"$f":"IF(LEFT(D535,1)=\"6\",'RELEVE BANCAIRE'!$O$2,\"\")","v":""},{"$f":"'RELEVE BANCAIRE'!K536","v":0}]
[{"$f":"'RELEVE BANCAIRE'!G537","v":0},{"$f":"'RELEVE BANCAIRE'!A537","v":"00:00:00"},{"$f":"'RELEVE BANCAIRE'!H537","v":0},{"$f":"'RELEVE BANCAIRE'!J537","v":0},{"$f":"'RELEVE BANCAIRE'!D537*-1","v":0},{"$f":"'RELEVE BANCAIRE'!E537","v":0},{"$f":"'RELEVE BANCAIRE'!C537","v":0},{"$f":"IF(LEFT(D536,1)=\"6\",'RELEVE BANCAIRE'!$O$2,\"\")","v":""},{"$f":"'RELEVE BANCAIRE'!K537","v":0}]
[{"$f":"'RELEVE BANCAIRE'!G538","v":0},{"$f":"'RELEVE BANCAIRE'!A538","v":"00:00:00"},{"$f":"'RELEVE BANCAIRE'!H538","v":0},{"$f":"'RELEVE BANCAIRE'!J538","v":0},{"$f":"'RELEVE BANCAIRE'!D538*-1","v":0},{"$f":"'RELEVE BANCAIRE'!E538","v":0},{"$f":"'RELEVE BANCAIRE'!C538","v":0},{"$f":"IF(LEFT(D537,1)=\"6\",'RELEVE BANCAIRE'!$O$2,\"\")","v":""},{"$f":"'RELEVE BANCAIRE'!K538","v":0}]
[{"$f":"'RELEVE BANCAIRE'!G539","v":0},{"$f":"'RELEVE BANCAIRE'!A539","v":"00:00:00"},{"$f":"'RELEVE BANCAIRE'!H539","v":0},{"$f":"'RELEVE BANCAIRE'!J539","v":0},{"$f":"'RELEVE BANCAIRE'!D539*-1","v":0},{"$f":"'RELEVE BANCAIRE'!E539","v":0},{"$f":"'RELEVE BANCAIRE'!C539","v":0},{"$f":"IF(LEFT(D538,1)=\"6\",'RELEVE BANCAIRE'!$O$2,\"\")","v":""},{"$f":"'RELEVE BANCAIRE'!K539","v":0}]
[{"$f":"'RELEVE BANCAIRE'!G540","v":0},{"$f":"'RELEVE BANCAIRE'!A540","v":"00:00:00"},{"$f":"'RELEVE BANCAIRE'!H540","v":0},{"$f":"'RELEVE BANCAIRE'!J540","v":0},{"$f":"'RELEVE BANCAIRE'!D540*-1","v":0},{"$f":"'RELEVE BANCAIRE'!E540","v":0},{"$f":"'RELEVE BANCAIRE'!C540","v":0},{"$f":"IF(LEFT(D539,1)=\"6\",'RELEVE BANCAIRE'!$O$2,\"\")","v":""},{"$f":"'RELEVE BANCAIRE'!K540","v":0}]
[{"$f":"'RELEVE BANCAIRE'!G541","v":0},{"$f":"'RELEVE BANCAIRE'!A541","v":"00:00:00"},{"$f":"'RELEVE BANCAIRE'!H541","v":0},{"$f":"'RELEVE BANCAIRE'!J541","v":0},{"$f":"'RELEVE BANCAIRE'!D541*-1","v":0},{"$f":"'RELEVE BANCAIRE'!E541","v":0},{"$f":"'RELEVE BANCAIRE'!C541","v":0},{"$f":"IF(LEFT(D540,1)=\"6\",'RELEVE BANCAIRE'!$O$2,\"\")","v":""},{"$f":"'RELEVE BANCAIRE'!K541","v":0}]
[{"$f":"'RELEVE BANCAIRE'!G542","v":0},{"$f":"'RELEVE BANCAIRE'!A542","v":"00:00:00"},{"$f":"'RELEVE BANCAIRE'!H542","v":0},{"$f":"'RELEVE BANCAIRE'!J542","v":0},{"$f":"'RELEVE BANCAIRE'!D542*-1","v":0},{"$f":"'RELEVE BANCAIRE'!E542","v":0},{"$f":"'RELEVE BANCAIRE'!C542","v":0},{"$f":"IF(LEFT(D541,1)=\"6\",'RELEVE BANCAIRE'!$O$2,\"\")","v":""},{"$f":"'RELEVE BANCAIRE'!K542","v":0}]
[{"$f":"'RELEVE BANCAIRE'!G543","v":0},{"$f":"'RELEVE BANCAIRE'!A543","v":"00:00:00"},{"$f":"'RELEVE BANCAIRE'!H543","v":0},{"$f":"'RELEVE BANCAIRE'!J543","v":0},{"$f":"'RELEVE BANCAIRE'!D543*-1","v":0},{"$f":"'RELEVE BANCAIRE'!E543","v":0},{"$f":"'RELEVE BANCAIRE'!C543","v":0},{"$f":"IF(LEFT(D542,1)=\"6\",'RELEVE BANCAIRE'!$O$2,\"\")","v":""},{"$f":"'RELEVE BANCAIRE'!K543","v":0}]
[{"$f":"'RELEVE BANCAIRE'!G544","v":0},{"$f":"'RELEVE BANCAIRE'!A544","v":"00:00:00"},{"$f":"'RELEVE BANCAIRE'!H544","v":0},{"$f":"'RELEVE BANCAIRE'!J544","v":0},{"$f":"'RELEVE BANCAIRE'!D544*-1","v":0},{"$f":"'RELEVE BANCAIRE'!E544","v":0},{"$f":"'RELEVE BANCAIRE'!C544","v":0},{"$f":"IF(LEFT(D543,1)=\"6\",'RELEVE BANCAIRE'!$O$2,\"\")","v":""},{"$f":"'RELEVE BANCAIRE'!K544","v":0}]
[{"$f":"'RELEVE BANCAIRE'!G545","v":0},{"$f":"'RELEVE BANCAIRE'!A545","v":"00:00:00"},{"$f":"'RELEVE BANCAIRE'!H545","v":0},{"$f":"'RELEVE BANCAIRE'!J545","v":0},{"$f":"'RELEVE BANCAIRE'!D545*-1","v":0},{"$f":"'RELEVE BANCAIRE'!E545","v":0},{"$f":"'RELEVE BANCAIRE'!C545","v":0},{"$f":"IF(LEFT(D544,1)=\"6\",'RELEVE BANCAIRE'!$O$2,\"\")","v":""},{"$f":"'RELEVE BANCAIRE'!K545","v":0}]
[{"$f":"'RELEVE BANCAIRE'!G546","v":0},{"$f":"'RELEVE BANCAIRE'!A546","v":"00:00:00"},{"$f":"'RELEVE BANCAIRE'!H546","v":0},{"$f":"'RELEVE BANCAIRE'!J546","v":0},{"$f":"'RELEVE BANCAIRE'!D546*-1","v":0},{"$f":"'RELEVE BANCAIRE'!E546","v":0},{"$f":"'RELEVE BANCAIRE'!C546","v":0},{"$f":"IF(LEFT(D545,1)=\"6\",'RELEVE BANCAIRE'!$O$2,\"\")","v":""},{"$f":"'RELEVE BANCAIRE'!K546","v":0}]
[{"$f":"'RELEVE BANCAIRE'!G547","v":0},{"$f":"'RELEVE BANCAIRE'!A547","v":"00:00:00"},{"$f":"'RELEVE BANCAIRE'!H547","v":0},{"$f":"'RELEVE BANCAIRE'!J547","v":0},{"$f":"'RELEVE BANCAIRE'!D547*-1","v":0},{"$f":"'RELEVE BANCAIRE'!E547","v":0},{"$f":"'RELEVE BANCAIRE'!C547","v":0},{"$f":"IF(LEFT(D546,1)=\"6\",'RELEVE BANCAIRE'!$O$2,\"\")","v":""},{"$f":"'RELEVE BANCAIRE'!K547","v":0}]
[{"$f":"'RELEVE BANCAIRE'!G548","v":0},{"$f":"'RELEVE BANCAIRE'!A548","v":"00:00:00"},{"$f":"'RELEVE BANCAIRE'!H548","v":0},{"$f":"'RELEVE BANCAIRE'!J548","v":0},{"$f":"'RELEVE BANCAIRE'!D548*-1","v":0},{"$f":"'RELEVE BANCAIRE'!E548","v":0},{"$f":"'RELEVE BANCAIRE'!C548","v":0},{"$f":"IF(LEFT(D547,1)=\"6\",'RELEVE BANCAIRE'!$O$2,\"\")","v":""},{"$f":"'RELEVE BANCAIRE'!K548","v":0}]
[{"$f":"'RELEVE BANCAIRE'!G549","v":0},{"$f":"'RELEVE BANCAIRE'!A549","v":"00:00:00"},{"$f":"'RELEVE BANCAIRE'!H549","v":0},{"$f":"'RELEVE BANCAIRE'!J549","v":0},{"$f":"'RELEVE BANCAIRE'!D549*-1","v":0},{"$f":"'RELEVE BANCAIRE'!E549","v":0},{"$f":"'RELEVE BANCAIRE'!C549","v":0},{"$f":"IF(LEFT(D548,1)=\"6\",'RELEVE BANCAIRE'!$O$2,\"\")","v":""},{"$f":"'RELEVE BANCAIRE'!K549","v":0}]
[{"$f":"'RELEVE BANCAIRE'!G550","v":0},{"$f":"'RELEVE BANCAIRE'!A550","v":"00:00:00"},{"$f":"'RELEVE BANCAIRE'!H550","v":0},{"$f":"'RELEVE BANCAIRE'!J550","v":0},{"$f":"'RELEVE BANCAIRE'!D550*-1","v":0},{"$f":"'RELEVE BANCAIRE'!E550","v":0},{"$f":"'RELEVE BANCAIRE'!C550","v":0},{"$f":"IF(LEFT(D549,1)=\"6\",'RELEVE BANCAIRE'!$O$2,\"\")","v":""},{"$f":"'RELEVE BANCAIRE'!K550","v":0}]
[{"$f":"'RELEVE BANCAIRE'!G551","v":0},{"$f":"'RELEVE BANCAIRE'!A551","v":"00:00:00"},{"$f":"'RELEVE BANCAIRE'!H551","v":0},{"$f":"'RELEVE BANCAIRE'!J551","v":0},{"$f":"'RELEVE BANCAIRE'!D551*-1","v":0},{"$f":"'RELEVE BANCAIRE'!E551","v":0},{"$f":"'RELEVE BANCAIRE'!C551","v":0},{"$f":"IF(LEFT(D550,1)=\"6\",'RELEVE BANCAIRE'!$O$2,\"\")","v":""},{"$f":"'RELEVE BANCAIRE'!K551","v":0}]
[{"$f":"'RELEVE BANCAIRE'!G552","v":0},{"$f":"'RELEVE BANCAIRE'!A552","v":"00:00:00"},{"$f":"'RELEVE BANCAIRE'!H552","v":0},{"$f":"'RELEVE BANCAIRE'!J552","v":0},{"$f":"'RELEVE BANCAIRE'!D552*-1","v":0},{"$f":"'RELEVE BANCAIRE'!E552","v":0},{"$f":"'RELEVE BANCAIRE'!C552","v":0},{"$f":"IF(LEFT(D551,1)=\"6\",'RELEVE BANCAIRE'!$O$2,\"\")","v":""},{"$f":"'RELEVE BANCAIRE'!K552","v":0}]
[{"$f":"'RELEVE BANCAIRE'!G553","v":0},{"$f":"'RELEVE BANCAIRE'!A553","v":"00:00:00"},{"$f":"'RELEVE BANCAIRE'!H553","v":0},{"$f":"'RELEVE BANCAIRE'!J553","v":0},{"$f":"'RELEVE BANCAIRE'!D553*-1","v":0},{"$f":"'RELEVE BANCAIRE'!E553","v":0},{"$f":"'RELEVE BANCAIRE'!C553","v":0},{"$f":"IF(LEFT(D552,1)=\"6\",'RELEVE BANCAIRE'!$O$2,\"\")","v":""},{"$f":"'RELEVE BANCAIRE'!K553","v":0}]
[{"$f":"'RELEVE BANCAIRE'!G554","v":0},{"$f":"'RELEVE BANCAIRE'!A554","v":"00:00:00"},{"$f":"'RELEVE BANCAIRE'!H554","v":0},{"$f":"'RELEVE BANCAIRE'!J554","v":0},{"$f":"'RELEVE BANCAIRE'!D554*-1","v":0},{"$f":"'RELEVE BANCAIRE'!E554","v":0},{"$f":"'RELEVE BANCAIRE'!C554","v":0},{"$f":"IF(LEFT(D553,1)=\"6\",'RELEVE BANCAIRE'!$O$2,\"\")","v":""},{"$f":"'RELEVE BANCAIRE'!K554","v":0}]
[{"$f":"'RELEVE BANCAIRE'!G555","v":0},{"$f":"'RELEVE BANCAIRE'!A555","v":"00:00:00"},{"$f":"'RELEVE BANCAIRE'!H555","v":0},{"$f":"'RELEVE BANCAIRE'!J555","v":0},{"$f":"'RELEVE BANCAIRE'!D555*-1","v":0},{"$f":"'RELEVE BANCAIRE'!E555","v":0},{"$f":"'RELEVE BANCAIRE'!C555","v":0},{"$f":"IF(LEFT(D554,1)=\"6\",'RELEVE BANCAIRE'!$O$2,\"\")","v":""},{"$f":"'RELEVE BANCAIRE'!K555","v":0}]
[{"$f":"'RELEVE BANCAIRE'!G556","v":0},{"$f":"'RELEVE BANCAIRE'!A556","v":"00:00:00"},{"$f":"'RELEVE BANCAIRE'!H556","v":0},{"$f":"'RELEVE BANCAIRE'!J556","v":0},{"$f":"'RELEVE BANCAIRE'!D556*-1","v":0},{"$f":"'RELEVE BANCAIRE'!E556","v":0},{"$f":"'RELEVE BANCAIRE'!C556","v":0},{"$f":"IF(LEFT(D555,1)=\"6\",'RELEVE BANCAIRE'!$O$2,\"\")","v":""},{"$f":"'RELEVE BANCAIRE'!K556","v":0}]
[{"$f":"'RELEVE BANCAIRE'!G557","v":0},{"$f":"'RELEVE BANCAIRE'!A557","v":"00:00:00"},{"$f":"'RELEVE BANCAIRE'!H557","v":0},{"$f":"'RELEVE BANCAIRE'!J557","v":0},{"$f":"'RELEVE BANCAIRE'!D557*-1","v":0},{"$f":"'RELEVE BANCAIRE'!E557","v":0},{"$f":"'RELEVE BANCAIRE'!C557","v":0},{"$f":"IF(LEFT(D556,1)=\"6\",'RELEVE BANCAIRE'!$O$2,\"\")","v":""},{"$f":"'RELEVE BANCAIRE'!K557","v":0}]
[{"$f":"'RELEVE BANCAIRE'!G558","v":0},{"$f":"'RELEVE BANCAIRE'!A558","v":"00:00:00"},{"$f":"'RELEVE BANCAIRE'!H558","v":0},{"$f":"'RELEVE BANCAIRE'!J558","v":0},{"$f":"'RELEVE BANCAIRE'!D558*-1","v":0},{"$f":"'RELEVE BANCAIRE'!E558","v":0},{"$f":"'RELEVE BANCAIRE'!C558","v":0},{"$f":"IF(LEFT(D557,1)=\"6\",'RELEVE BANCAIRE'!$O$2,\"\")","v":""},{"$f":"'RELEVE BANCAIRE'!K558","v":0}]
[{"$f":"'RELEVE BANCAIRE'!G559","v":0},{"$f":"'RELEVE BANCAIRE'!A559","v":"00:00:00"},{"$f":"'RELEVE BANCAIRE'!H559","v":0},{"$f":"'RELEVE BANCAIRE'!J559","v":0},{"$f":"'RELEVE BANCAIRE'!D559*-1","v":0},{"$f":"'RELEVE BANCAIRE'!E559","v":0},{"$f":"'RELEVE BANCAIRE'!C559","v":0},{"$f":"IF(LEFT(D558,1)=\"6\",'RELEVE BANCAIRE'!$O$2,\"\")","v":""},{"$f":"'RELEVE BANCAIRE'!K559","v":0}]
[{"$f":"'RELEVE BANCAIRE'!G560","v":0},{"$f":"'RELEVE BANCAIRE'!A560","v":"00:00:00"},{"$f":"'RELEVE BANCAIRE'!H560","v":0},{"$f":"'RELEVE BANCAIRE'!J560","v":0},{"$f":"'RELEVE BANCAIRE'!D560*-1","v":0},{"$f":"'RELEVE BANCAIRE'!E560","v":0},{"$f":"'RELEVE BANCAIRE'!C560","v":0},{"$f":"IF(LEFT(D559,1)=\"6\",'RELEVE BANCAIRE'!$O$2,\"\")","v":""},{"$f":"'RELEVE BANCAIRE'!K560","v":0}]
[{"$f":"'RELEVE BANCAIRE'!G561","v":0},{"$f":"'RELEVE BANCAIRE'!A561","v":"00:00:00"},{"$f":"'RELEVE BANCAIRE'!H561","v":0},{"$f":"'RELEVE BANCAIRE'!J561","v":0},{"$f":"'RELEVE BANCAIRE'!D561*-1","v":0},{"$f":"'RELEVE BANCAIRE'!E561","v":0},{"$f":"'RELEVE BANCAIRE'!C561","v":0},{"$f":"IF(LEFT(D560,1)=\"6\",'RELEVE BANCAIRE'!$O$2,\"\")","v":""},{"$f":"'RELEVE BANCAIRE'!K561","v":0}]
[{"$f":"'RELEVE BANCAIRE'!G562","v":0},{"$f":"'RELEVE BANCAIRE'!A562","v":"00:00:00"},{"$f":"'RELEVE BANCAIRE'!H562","v":0},{"$f":"'RELEVE BANCAIRE'!J562","v":0},{"$f":"'RELEVE BANCAIRE'!D562*-1","v":0},{"$f":"'RELEVE BANCAIRE'!E562","v":0},{"$f":"'RELEVE BANCAIRE'!C562","v":0},{"$f":"IF(LEFT(D561,1)=\"6\",'RELEVE BANCAIRE'!$O$2,\"\")","v":""},{"$f":"'RELEVE BANCAIRE'!K562","v":0}]
[{"$f":"'RELEVE BANCAIRE'!G563","v":0},{"$f":"'RELEVE BANCAIRE'!A563","v":"00:00:00"},{"$f":"'RELEVE BANCAIRE'!H563","v":0},{"$f":"'RELEVE BANCAIRE'!J563","v":0},{"$f":"'RELEVE BANCAIRE'!D563*-1","v":0},{"$f":"'RELEVE BANCAIRE'!E563","v":0},{"$f":"'RELEVE BANCAIRE'!C563","v":0},{"$f":"IF(LEFT(D562,1)=\"6\",'RELEVE BANCAIRE'!$O$2,\"\")","v":""},{"$f":"'RELEVE BANCAIRE'!K563","v":0}]
[{"$f":"'RELEVE BANCAIRE'!G564","v":0},{"$f":"'RELEVE BANCAIRE'!A564","v":"00:00:00"},{"$f":"'RELEVE BANCAIRE'!H564","v":0},{"$f":"'RELEVE BANCAIRE'!J564","v":0},{"$f":"'RELEVE BANCAIRE'!D564*-1","v":0},{"$f":"'RELEVE BANCAIRE'!E564","v":0},{"$f":"'RELEVE BANCAIRE'!C564","v":0},{"$f":"IF(LEFT(D563,1)=\"6\",'RELEVE BANCAIRE'!$O$2,\"\")","v":""},{"$f":"'RELEVE BANCAIRE'!K564","v":0}]
[{"$f":"'RELEVE BANCAIRE'!G565","v":0},{"$f":"'RELEVE BANCAIRE'!A565","v":"00:00:00"},{"$f":"'RELEVE BANCAIRE'!H565","v":0},{"$f":"'RELEVE BANCAIRE'!J565","v":0},{"$f":"'RELEVE BANCAIRE'!D565*-1","v":0},{"$f":"'RELEVE BANCAIRE'!E565","v":0},{"$f":"'RELEVE BANCAIRE'!C565","v":0},{"$f":"IF(LEFT(D564,1)=\"6\",'RELEVE BANCAIRE'!$O$2,\"\")","v":""},{"$f":"'RELEVE BANCAIRE'!K565","v":0}]
[{"$f":"'RELEVE BANCAIRE'!G566","v":0},{"$f":"'RELEVE BANCAIRE'!A566","v":"00:00:00"},{"$f":"'RELEVE BANCAIRE'!H566","v":0},{"$f":"'RELEVE BANCAIRE'!J566","v":0},{"$f":"'RELEVE BANCAIRE'!D566*-1","v":0},{"$f":"'RELEVE BANCAIRE'!E566","v":0},{"$f":"'RELEVE BANCAIRE'!C566","v":0},{"$f":"IF(LEFT(D565,1)=\"6\",'RELEVE BANCAIRE'!$O$2,\"\")","v":""},{"$f":"'RELEVE BANCAIRE'!K566","v":0}]
[{"$f":"'RELEVE BANCAIRE'!G567","v":0},{"$f":"'RELEVE BANCAIRE'!A567","v":"00:00:00"},{"$f":"'RELEVE BANCAIRE'!H567","v":0},{"$f":"'RELEVE BANCAIRE'!J567","v":0},{"$f":"'RELEVE BANCAIRE'!D567*-1","v":0},{"$f":"'RELEVE BANCAIRE'!E567","v":0},{"$f":"'RELEVE BANCAIRE'!C567","v":0},{"$f":"IF(LEFT(D566,1)=\"6\",'RELEVE BANCAIRE'!$O$2,\"\")","v":""},{"$f":"'RELEVE BANCAIRE'!K567","v":0}]
[{"$f":"'RELEVE BANCAIRE'!G568","v":0},{"$f":"'RELEVE BANCAIRE'!A568","v":"00:00:00"},{"$f":"'RELEVE BANCAIRE'!H568","v":0},{"$f":"'RELEVE BANCAIRE'!J568","v":0},{"$f":"'RELEVE BANCAIRE'!D568*-1","v":0},{"$f":"'RELEVE BANCAIRE'!E568","v":0},{"$f":"'RELEVE BANCAIRE'!C568","v":0},{"$f":"IF(LEFT(D567,1)=\"6\",'RELEVE BANCAIRE'!$O$2,\"\")","v":""},{"$f":"'RELEVE BANCAIRE'!K568","v":0}]
[{"$f":"'RELEVE BANCAIRE'!G569","v":0},{"$f":"'RELEVE BANCAIRE'!A569","v":"00:00:00"},{"$f":"'RELEVE BANCAIRE'!H569","v":0},{"$f":"'RELEVE BANCAIRE'!J569","v":0},{"$f":"'RELEVE BANCAIRE'!D569*-1","v":0},{"$f":"'RELEVE BANCAIRE'!E569","v":0},{"$f":"'RELEVE BANCAIRE'!C569","v":0},{"$f":"IF(LEFT(D568,1)=\"6\",'RELEVE BANCAIRE'!$O$2,\"\")","v":""},{"$f":"'RELEVE BANCAIRE'!K569","v":0}]
[{"$f":"'RELEVE BANCAIRE'!G570","v":0},{"$f":"'RELEVE BANCAIRE'!A570","v":"00:00:00"},{"$f":"'RELEVE BANCAIRE'!H570","v":0},{"$f":"'RELEVE BANCAIRE'!J570","v":0},{"$f":"'RELEVE BANCAIRE'!D570*-1","v":0},{"$f":"'RELEVE BANCAIRE'!E570","v":0},{"$f":"'RELEVE BANCAIRE'!C570","v":0},{"$f":"IF(LEFT(D569,1)=\"6\",'RELEVE BANCAIRE'!$O$2,\"\")","v":""},{"$f":"'RELEVE BANCAIRE'!K570","v":0}]
[{"$f":"'RELEVE BANCAIRE'!G571","v":0},{"$f":"'RELEVE BANCAIRE'!A571","v":"00:00:00"},{"$f":"'RELEVE BANCAIRE'!H571","v":0},{"$f":"'RELEVE BANCAIRE'!J571","v":0},{"$f":"'RELEVE BANCAIRE'!D571*-1","v":0},{"$f":"'RELEVE BANCAIRE'!E571","v":0},{"$f":"'RELEVE BANCAIRE'!C571","v":0},{"$f":"IF(LEFT(D570,1)=\"6\",'RELEVE BANCAIRE'!$O$2,\"\")","v":""},{"$f":"'RELEVE BANCAIRE'!K571","v":0}]
[{"$f":"'RELEVE BANCAIRE'!G572","v":0},{"$f":"'RELEVE BANCAIRE'!A572","v":"00:00:00"},{"$f":"'RELEVE BANCAIRE'!H572","v":0},{"$f":"'RELEVE BANCAIRE'!J572","v":0},{"$f":"'RELEVE BANCAIRE'!D572*-1","v":0},{"$f":"'RELEVE BANCAIRE'!E572","v":0},{"$f":"'RELEVE BANCAIRE'!C572","v":0},{"$f":"IF(LEFT(D571,1)=\"6\",'RELEVE BANCAIRE'!$O$2,\"\")","v":""},{"$f":"'RELEVE BANCAIRE'!K572","v":0}]
[{"$f":"'RELEVE BANCAIRE'!G573","v":0},{"$f":"'RELEVE BANCAIRE'!A573","v":"00:00:00"},{"$f":"'RELEVE BANCAIRE'!H573","v":0},{"$f":"'RELEVE BANCAIRE'!J573","v":0},{"$f":"'RELEVE BANCAIRE'!D573*-1","v":0},{"$f":"'RELEVE BANCAIRE'!E573","v":0},{"$f":"'RELEVE BANCAIRE'!C573","v":0},{"$f":"IF(LEFT(D572,1)=\"6\",'RELEVE BANCAIRE'!$O$2,\"\")","v":""},{"$f":"'RELEVE BANCAIRE'!K573","v":0}]
[{"$f":"'RELEVE BANCAIRE'!G574","v":0},{"$f":"'RELEVE BANCAIRE'!A574","v":"00:00:00"},{"$f":"'RELEVE BANCAIRE'!H574","v":0},{"$f":"'RELEVE BANCAIRE'!J574","v":0},{"$f":"'RELEVE BANCAIRE'!D574*-1","v":0},{"$f":"'RELEVE BANCAIRE'!E574","v":0},{"$f":"'RELEVE BANCAIRE'!C574","v":0},{"$f":"IF(LEFT(D573,1)=\"6\",'RELEVE BANCAIRE'!$O$2,\"\")","v":""},{"$f":"'RELEVE BANCAIRE'!K574","v":0}]
[{"$f":"'RELEVE BANCAIRE'!G575","v":0},{"$f":"'RELEVE BANCAIRE'!A575","v":"00:00:00"},{"$f":"'RELEVE BANCAIRE'!H575","v":0},{"$f":"'RELEVE BANCAIRE'!J575","v":0},{"$f":"'RELEVE BANCAIRE'!D575*-1","v":0},{"$f":"'RELEVE BANCAIRE'!E575","v":0},{"$f":"'RELEVE BANCAIRE'!C575","v":0},{"$f":"IF(LEFT(D574,1)=\"6\",'RELEVE BANCAIRE'!$O$2,\"\")","v":""},{"$f":"'RELEVE BANCAIRE'!K575","v":0}]
[{"$f":"'RELEVE BANCAIRE'!G576","v":0},{"$f":"'RELEVE BANCAIRE'!A576","v":"00:00:00"},{"$f":"'RELEVE BANCAIRE'!H576","v":0},{"$f":"'RELEVE BANCAIRE'!J576","v":0},{"$f":"'RELEVE BANCAIRE'!D576*-1","v":0},{"$f":"'RELEVE BANCAIRE'!E576","v":0},{"$f":"'RELEVE BANCAIRE'!C576","v":0},{"$f":"IF(LEFT(D575,1)=\"6\",'RELEVE BANCAIRE'!$O$2,\"\")","v":""},{"$f":"'RELEVE BANCAIRE'!K576","v":0}]
[{"$f":"'RELEVE BANCAIRE'!G577","v":0},{"$f":"'RELEVE BANCAIRE'!A577","v":"00:00:00"},{"$f":"'RELEVE BANCAIRE'!H577","v":0},{"$f":"'RELEVE BANCAIRE'!J577","v":0},{"$f":"'RELEVE BANCAIRE'!D577*-1","v":0},{"$f":"'RELEVE BANCAIRE'!E577","v":0},{"$f":"'RELEVE BANCAIRE'!C577","v":0},{"$f":"IF(LEFT(D576,1)=\"6\",'RELEVE BANCAIRE'!$O$2,\"\")","v":""},{"$f":"'RELEVE BANCAIRE'!K577","v":0}]
[{"$f":"'RELEVE BANCAIRE'!G578","v":0},{"$f":"'RELEVE BANCAIRE'!A578","v":"00:00:00"},{"$f":"'RELEVE BANCAIRE'!H578","v":0},{"$f":"'RELEVE BANCAIRE'!J578","v":0},{"$f":"'RELEVE BANCAIRE'!D578*-1","v":0},{"$f":"'RELEVE BANCAIRE'!E578","v":0},{"$f":"'RELEVE BANCAIRE'!C578","v":0},{"$f":"IF(LEFT(D577,1)=\"6\",'RELEVE BANCAIRE'!$O$2,\"\")","v":""},{"$f":"'RELEVE BANCAIRE'!K578","v":0}]
[{"$f":"'RELEVE BANCAIRE'!G579","v":0},{"$f":"'RELEVE BANCAIRE'!A579","v":"00:00:00"},{"$f":"'RELEVE BANCAIRE'!H579","v":0},{"$f":"'RELEVE BANCAIRE'!J579","v":0},{"$f":"'RELEVE BANCAIRE'!D579*-1","v":0},{"$f":"'RELEVE BANCAIRE'!E579","v":0},{"$f":"'RELEVE BANCAIRE'!C579","v":0},{"$f":"IF(LEFT(D578,1)=\"6\",'RELEVE BANCAIRE'!$O$2,\"\")","v":""},{"$f":"'RELEVE BANCAIRE'!K579","v":0}]
[{"$f":"'RELEVE BANCAIRE'!G580","v":0},{"$f":"'RELEVE BANCAIRE'!A580","v":"00:00:00"},{"$f":"'RELEVE BANCAIRE'!H580","v":0},{"$f":"'RELEVE BANCAIRE'!J580","v":0},{"$f":"'RELEVE BANCAIRE'!D580*-1","v":0},{"$f":"'RELEVE BANCAIRE'!E580","v":0},{"$f":"'RELEVE BANCAIRE'!C580","v":0},{"$f":"IF(LEFT(D579,1)=\"6\",'RELEVE BANCAIRE'!$O$2,\"\")","v":""},{"$f":"'RELEVE BANCAIRE'!K580","v":0}]
[{"$f":"'RELEVE BANCAIRE'!G581","v":0},{"$f":"'RELEVE BANCAIRE'!A581","v":"00:00:00"},{"$f":"'RELEVE BANCAIRE'!H581","v":0},{"$f":"'RELEVE BANCAIRE'!J581","v":0},{"$f":"'RELEVE BANCAIRE'!D581*-1","v":0},{"$f":"'RELEVE BANCAIRE'!E581","v":0},{"$f":"'RELEVE BANCAIRE'!C581","v":0},{"$f":"IF(LEFT(D580,1)=\"6\",'RELEVE BANCAIRE'!$O$2,\"\")","v":""},{"$f":"'RELEVE BANCAIRE'!K581","v":0}]
[{"$f":"'RELEVE BANCAIRE'!G582","v":0},{"$f":"'RELEVE BANCAIRE'!A582","v":"00:00:00"},{"$f":"'RELEVE BANCAIRE'!H582","v":0},{"$f":"'RELEVE BANCAIRE'!J582","v":0},{"$f":"'RELEVE BANCAIRE'!D582*-1","v":0},{"$f":"'RELEVE BANCAIRE'!E582","v":0},{"$f":"'RELEVE BANCAIRE'!C582","v":0},{"$f":"IF(LEFT(D581,1)=\"6\",'RELEVE BANCAIRE'!$O$2,\"\")","v":""},{"$f":"'RELEVE BANCAIRE'!K582","v":0}]
[{"$f":"'RELEVE BANCAIRE'!G583","v":0},{"$f":"'RELEVE BANCAIRE'!A583","v":"00:00:00"},{"$f":"'RELEVE BANCAIRE'!H583","v":0},{"$f":"'RELEVE BANCAIRE'!J583","v":0},{"$f":"'RELEVE BANCAIRE'!D583*-1","v":0},{"$f":"'RELEVE BANCAIRE'!E583","v":0},{"$f":"'RELEVE BANCAIRE'!C583","v":0},{"$f":"IF(LEFT(D582,1)=\"6\",'RELEVE BANCAIRE'!$O$2,\"\")","v":""},{"$f":"'RELEVE BANCAIRE'!K583","v":0}]
[{"$f":"'RELEVE BANCAIRE'!G584","v":0},{"$f":"'RELEVE BANCAIRE'!A584","v":"00:00:00"},{"$f":"'RELEVE BANCAIRE'!H584","v":0},{"$f":"'RELEVE BANCAIRE'!J584","v":0},{"$f":"'RELEVE BANCAIRE'!D584*-1","v":0},{"$f":"'RELEVE BANCAIRE'!E584","v":0},{"$f":"'RELEVE BANCAIRE'!C584","v":0},{"$f":"IF(LEFT(D583,1)=\"6\",'RELEVE BANCAIRE'!$O$2,\"\")","v":""},{"$f":"'RELEVE BANCAIRE'!K584","v":0}]
[{"$f":"'RELEVE BANCAIRE'!G585","v":0},{"$f":"'RELEVE BANCAIRE'!A585","v":"00:00:00"},{"$f":"'RELEVE BANCAIRE'!H585","v":0},{"$f":"'RELEVE BANCAIRE'!J585","v":0},{"$f":"'RELEVE BANCAIRE'!D585*-1","v":0},{"$f":"'RELEVE BANCAIRE'!E585","v":0},{"$f":"'RELEVE BANCAIRE'!C585","v":0},{"$f":"IF(LEFT(D584,1)=\"6\",'RELEVE BANCAIRE'!$O$2,\"\")","v":""},{"$f":"'RELEVE BANCAIRE'!K585","v":0}]
[{"$f":"'RELEVE BANCAIRE'!G586","v":0},{"$f":"'RELEVE BANCAIRE'!A586","v":"00:00:00"},{"$f":"'RELEVE BANCAIRE'!H586","v":0},{"$f":"'RELEVE BANCAIRE'!J586","v":0},{"$f":"'RELEVE BANCAIRE'!D586*-1","v":0},{"$f":"'RELEVE BANCAIRE'!E586","v":0},{"$f":"'RELEVE BANCAIRE'!C586","v":0},{"$f":"IF(LEFT(D585,1)=\"6\",'RELEVE BANCAIRE'!$O$2,\"\")","v":""},{"$f":"'RELEVE BANCAIRE'!K586","v":0}]
[{"$f":"'RELEVE BANCAIRE'!G587","v":0},{"$f":"'RELEVE BANCAIRE'!A587","v":"00:00:00"},{"$f":"'RELEVE BANCAIRE'!H587","v":0},{"$f":"'RELEVE BANCAIRE'!J587","v":0},{"$f":"'RELEVE BANCAIRE'!D587*-1","v":0},{"$f":"'RELEVE BANCAIRE'!E587","v":0},{"$f":"'RELEVE BANCAIRE'!C587","v":0},{"$f":"IF(LEFT(D586,1)=\"6\",'RELEVE BANCAIRE'!$O$2,\"\")","v":""},{"$f":"'RELEVE BANCAIRE'!K587","v":0}]
[{"$f":"'RELEVE BANCAIRE'!G588","v":0},{"$f":"'RELEVE BANCAIRE'!A588","v":"00:00:00"},{"$f":"'RELEVE BANCAIRE'!H588","v":0},{"$f":"'RELEVE BANCAIRE'!J588","v":0},{"$f":"'RELEVE BANCAIRE'!D588*-1","v":0},{"$f":"'RELEVE BANCAIRE'!E588","v":0},{"$f":"'RELEVE BANCAIRE'!C588","v":0},{"$f":"IF(LEFT(D587,1)=\"6\",'RELEVE BANCAIRE'!$O$2,\"\")","v":""},{"$f":"'RELEVE BANCAIRE'!K588","v":0}]
[{"$f":"'RELEVE BANCAIRE'!G589","v":0},{"$f":"'RELEVE BANCAIRE'!A589","v":"00:00:00"},{"$f":"'RELEVE BANCAIRE'!H589","v":0},{"$f":"'RELEVE BANCAIRE'!J589","v":0},{"$f":"'RELEVE BANCAIRE'!D589*-1","v":0},{"$f":"'RELEVE BANCAIRE'!E589","v":0},{"$f":"'RELEVE BANCAIRE'!C589","v":0},{"$f":"IF(LEFT(D588,1)=\"6\",'RELEVE BANCAIRE'!$O$2,\"\")","v":""},{"$f":"'RELEVE BANCAIRE'!K589","v":0}]
[{"$f":"'RELEVE BANCAIRE'!G590","v":0},{"$f":"'RELEVE BANCAIRE'!A590","v":"00:00:00"},{"$f":"'RELEVE BANCAIRE'!H590","v":0},{"$f":"'RELEVE BANCAIRE'!J590","v":0},{"$f":"'RELEVE BANCAIRE'!D590*-1","v":0},{"$f":"'RELEVE BANCAIRE'!E590","v":0},{"$f":"'RELEVE BANCAIRE'!C590","v":0},{"$f":"IF(LEFT(D589,1)=\"6\",'RELEVE BANCAIRE'!$O$2,\"\")","v":""},{"$f":"'RELEVE BANCAIRE'!K590","v":0}]
[{"$f":"'RELEVE BANCAIRE'!G591","v":0},{"$f":"'RELEVE BANCAIRE'!A591","v":"00:00:00"},{"$f":"'RELEVE BANCAIRE'!H591","v":0},{"$f":"'RELEVE BANCAIRE'!J591","v":0},{"$f":"'RELEVE BANCAIRE'!D591*-1","v":0},{"$f":"'RELEVE BANCAIRE'!E591","v":0},{"$f":"'RELEVE BANCAIRE'!C591","v":0},{"$f":"IF(LEFT(D590,1)=\"6\",'RELEVE BANCAIRE'!$O$2,\"\")","v":""},{"$f":"'RELEVE BANCAIRE'!K591","v":0}]
[{"$f":"'RELEVE BANCAIRE'!G592","v":0},{"$f":"'RELEVE BANCAIRE'!A592","v":"00:00:00"},{"$f":"'RELEVE BANCAIRE'!H592","v":0},{"$f":"'RELEVE BANCAIRE'!J592","v":0},{"$f":"'RELEVE BANCAIRE'!D592*-1","v":0},{"$f":"'RELEVE BANCAIRE'!E592","v":0},{"$f":"'RELEVE BANCAIRE'!C592","v":0},{"$f":"IF(LEFT(D591,1)=\"6\",'RELEVE BANCAIRE'!$O$2,\"\")","v":""},{"$f":"'RELEVE BANCAIRE'!K592","v":0}]
[{"$f":"'RELEVE BANCAIRE'!G593","v":0},{"$f":"'RELEVE BANCAIRE'!A593","v":"00:00:00"},{"$f":"'RELEVE BANCAIRE'!H593","v":0},{"$f":"'RELEVE BANCAIRE'!J593","v":0},{"$f":"'RELEVE BANCAIRE'!D593*-1","v":0},{"$f":"'RELEVE BANCAIRE'!E593","v":0},{"$f":"'RELEVE BANCAIRE'!C593","v":0},{"$f":"IF(LEFT(D592,1)=\"6\",'RELEVE BANCAIRE'!$O$2,\"\")","v":""},{"$f":"'RELEVE BANCAIRE'!K593","v":0}]
[{"$f":"'RELEVE BANCAIRE'!G594","v":0},{"$f":"'RELEVE BANCAIRE'!A594","v":"00:00:00"},{"$f":"'RELEVE BANCAIRE'!H594","v":0},{"$f":"'RELEVE BANCAIRE'!J594","v":0},{"$f":"'RELEVE BANCAIRE'!D594*-1","v":0},{"$f":"'RELEVE BANCAIRE'!E594","v":0},{"$f":"'RELEVE BANCAIRE'!C594","v":0},{"$f":"IF(LEFT(D593,1)=\"6\",'RELEVE BANCAIRE'!$O$2,\"\")","v":""},{"$f":"'RELEVE BANCAIRE'!K594","v":0}]
[{"$f":"'RELEVE BANCAIRE'!G595","v":0},{"$f":"'RELEVE BANCAIRE'!A595","v":"00:00:00"},{"$f":"'RELEVE BANCAIRE'!H595","v":0},{"$f":"'RELEVE BANCAIRE'!J595","v":0},{"$f":"'RELEVE BANCAIRE'!D595*-1","v":0},{"$f":"'RELEVE BANCAIRE'!E595","v":0},{"$f":"'RELEVE BANCAIRE'!C595","v":0},{"$f":"IF(LEFT(D594,1)=\"6\",'RELEVE BANCAIRE'!$O$2,\"\")","v":""},{"$f":"'RELEVE BANCAIRE'!K595","v":0}]
[{"$f":"'RELEVE BANCAIRE'!G596","v":0},{"$f":"'RELEVE BANCAIRE'!A596","v":"00:00:00"},{"$f":"'RELEVE BANCAIRE'!H596","v":0},{"$f":"'RELEVE BANCAIRE'!J596","v":0},{"$f":"'RELEVE BANCAIRE'!D596*-1","v":0},{"$f":"'RELEVE BANCAIRE'!E596","v":0},{"$f":"'RELEVE BANCAIRE'!C596","v":0},{"$f":"IF(LEFT(D595,1)=\"6\",'RELEVE BANCAIRE'!$O$2,\"\")","v":""},{"$f":"'RELEVE BANCAIRE'!K596","v":0}]
[{"$f":"'RELEVE BANCAIRE'!G597","v":0},{"$f":"'RELEVE BANCAIRE'!A597","v":"00:00:00"},{"$f":"'RELEVE BANCAIRE'!H597","v":0},{"$f":"'RELEVE BANCAIRE'!J597","v":0},{"$f":"'RELEVE BANCAIRE'!D597*-1","v":0},{"$f":"'RELEVE BANCAIRE'!E597","v":0},{"$f":"'RELEVE BANCAIRE'!C597","v":0},{"$f":"IF(LEFT(D596,1)=\"6\",'RELEVE BANCAIRE'!$O$2,\"\")","v":""},{"$f":"'RELEVE BANCAIRE'!K597","v":0}]
[{"$f":"'RELEVE BANCAIRE'!G598","v":0},{"$f":"'RELEVE BANCAIRE'!A598","v":"00:00:00"},{"$f":"'RELEVE BANCAIRE'!H598","v":0},{"$f":"'RELEVE BANCAIRE'!J598","v":0},{"$f":"'RELEVE BANCAIRE'!D598*-1","v":0},{"$f":"'RELEVE BANCAIRE'!E598","v":0},{"$f":"'RELEVE BANCAIRE'!C598","v":0},{"$f":"IF(LEFT(D597,1)=\"6\",'RELEVE BANCAIRE'!$O$2,\"\")","v":""},{"$f":"'RELEVE BANCAIRE'!K598","v":0}]
[{"$f":"'RELEVE BANCAIRE'!G599","v":0},{"$f":"'RELEVE BANCAIRE'!A599","v":"00:00:00"},{"$f":"'RELEVE BANCAIRE'!H599","v":0},{"$f":"'RELEVE BANCAIRE'!J599","v":0},{"$f":"'RELEVE BANCAIRE'!D599*-1","v":0},{"$f":"'RELEVE BANCAIRE'!E599","v":0},{"$f":"'RELEVE BANCAIRE'!C599","v":0},{"$f":"IF(LEFT(D598,1)=\"6\",'RELEVE BANCAIRE'!$O$2,\"\")","v":""},{"$f":"'RELEVE BANCAIRE'!K599","v":0}]
[{"$f":"'RELEVE BANCAIRE'!G600","v":0},{"$f":"'RELEVE BANCAIRE'!A600","v":"00:00:00"},{"$f":"'RELEVE BANCAIRE'!H600","v":0},{"$f":"'RELEVE BANCAIRE'!J600","v":0},{"$f":"'RELEVE BANCAIRE'!D600*-1","v":0},{"$f":"'RELEVE BANCAIRE'!E600","v":0},{"$f":"'RELEVE BANCAIRE'!C600","v":0},{"$f":"IF(LEFT(D599,1)=\"6\",'RELEVE BANCAIRE'!$O$2,\"\")","v":""},{"$f":"'RELEVE BANCAIRE'!K600","v":0}]
[{"$f":"'RELEVE BANCAIRE'!G601","v":0},{"$f":"'RELEVE BANCAIRE'!A601","v":"00:00:00"},{"$f":"'RELEVE BANCAIRE'!H601","v":0},{"$f":"'RELEVE BANCAIRE'!J601","v":0},{"$f":"'RELEVE BANCAIRE'!D601*-1","v":0},{"$f":"'RELEVE BANCAIRE'!E601","v":0},{"$f":"'RELEVE BANCAIRE'!C601","v":0},{"$f":"IF(LEFT(D600,1)=\"6\",'RELEVE BANCAIRE'!$O$2,\"\")","v":""},{"$f":"'RELEVE BANCAIRE'!K601","v":0}]
[{"$f":"'RELEVE BANCAIRE'!G602","v":0},{"$f":"'RELEVE BANCAIRE'!A602","v":"00:00:00"},{"$f":"'RELEVE BANCAIRE'!H602","v":0},{"$f":"'RELEVE BANCAIRE'!J602","v":0},{"$f":"'RELEVE BANCAIRE'!D602*-1","v":0},{"$f":"'RELEVE BANCAIRE'!E602","v":0},{"$f":"'RELEVE BANCAIRE'!C602","v":0},{"$f":"IF(LEFT(D601,1)=\"6\",'RELEVE BANCAIRE'!$O$2,\"\")","v":""},{"$f":"'RELEVE BANCAIRE'!K602","v":0}]
[{"$f":"'RELEVE BANCAIRE'!G603","v":0},{"$f":"'RELEVE BANCAIRE'!A603","v":"00:00:00"},{"$f":"'RELEVE BANCAIRE'!H603","v":0},{"$f":"'RELEVE BANCAIRE'!J603","v":0},{"$f":"'RELEVE BANCAIRE'!D603*-1","v":0},{"$f":"'RELEVE BANCAIRE'!E603","v":0},{"$f":"'RELEVE BANCAIRE'!C603","v":0},{"$f":"IF(LEFT(D602,1)=\"6\",'RELEVE BANCAIRE'!$O$2,\"\")","v":""},{"$f":"'RELEVE BANCAIRE'!K603","v":0}]
[{"$f":"'RELEVE BANCAIRE'!G604","v":0},{"$f":"'RELEVE BANCAIRE'!A604","v":"00:00:00"},{"$f":"'RELEVE BANCAIRE'!H604","v":0},{"$f":"'RELEVE BANCAIRE'!J604","v":0},{"$f":"'RELEVE BANCAIRE'!D604*-1","v":0},{"$f":"'RELEVE BANCAIRE'!E604","v":0},{"$f":"'RELEVE BANCAIRE'!C604","v":0},{"$f":"IF(LEFT(D603,1)=\"6\",'RELEVE BANCAIRE'!$O$2,\"\")","v":""},{"$f":"'RELEVE BANCAIRE'!K604","v":0}]
[{"$f":"'RELEVE BANCAIRE'!G605","v":0},{"$f":"'RELEVE BANCAIRE'!A605","v":"00:00:00"},{"$f":"'RELEVE BANCAIRE'!H605","v":0},{"$f":"'RELEVE BANCAIRE'!J605","v":0},{"$f":"'RELEVE BANCAIRE'!D605*-1","v":0},{"$f":"'RELEVE BANCAIRE'!E605","v":0},{"$f":"'RELEVE BANCAIRE'!C605","v":0},{"$f":"IF(LEFT(D604,1)=\"6\",'RELEVE BANCAIRE'!$O$2,\"\")","v":""},{"$f":"'RELEVE BANCAIRE'!K605","v":0}]
[{"$f":"'RELEVE BANCAIRE'!G606","v":0},{"$f":"'RELEVE BANCAIRE'!A606","v":"00:00:00"},{"$f":"'RELEVE BANCAIRE'!H606","v":0},{"$f":"'RELEVE BANCAIRE'!J606","v":0},{"$f":"'RELEVE BANCAIRE'!D606*-1","v":0},{"$f":"'RELEVE BANCAIRE'!E606","v":0},{"$f":"'RELEVE BANCAIRE'!C606","v":0},{"$f":"IF(LEFT(D605,1)=\"6\",'RELEVE BANCAIRE'!$O$2,\"\")","v":""},{"$f":"'RELEVE BANCAIRE'!K606","v":0}]
[{"$f":"'RELEVE BANCAIRE'!G607","v":0},{"$f":"'RELEVE BANCAIRE'!A607","v":"00:00:00"},{"$f":"'RELEVE BANCAIRE'!H607","v":0},{"$f":"'RELEVE BANCAIRE'!J607","v":0},{"$f":"'RELEVE BANCAIRE'!D607*-1","v":0},{"$f":"'RELEVE BANCAIRE'!E607","v":0},{"$f":"'RELEVE BANCAIRE'!C607","v":0},{"$f":"IF(LEFT(D606,1)=\"6\",'RELEVE BANCAIRE'!$O$2,\"\")","v":""},{"$f":"'RELEVE BANCAIRE'!K607","v":0}]
[{"$f":"'RELEVE BANCAIRE'!G608","v":0},{"$f":"'RELEVE BANCAIRE'!A608","v":"00:00:00"},{"$f":"'RELEVE BANCAIRE'!H608","v":0},{"$f":"'RELEVE BANCAIRE'!J608","v":0},{"$f":"'RELEVE BANCAIRE'!D608*-1","v":0},{"$f":"'RELEVE BANCAIRE'!E608","v":0},{"$f":"'RELEVE BANCAIRE'!C608","v":0},{"$f":"IF(LEFT(D607,1)=\"6\",'RELEVE BANCAIRE'!$O$2,\"\")","v":""},{"$f":"'RELEVE BANCAIRE'!K608","v":0}]
[{"$f":"'RELEVE BANCAIRE'!G609","v":0},{"$f":"'RELEVE BANCAIRE'!A609","v":"00:00:00"},{"$f":"'RELEVE BANCAIRE'!H609","v":0},{"$f":"'RELEVE BANCAIRE'!J609","v":0},{"$f":"'RELEVE BANCAIRE'!D609*-1","v":0},{"$f":"'RELEVE BANCAIRE'!E609","v":0},{"$f":"'RELEVE BANCAIRE'!C609","v":0},{"$f":"IF(LEFT(D608,1)=\"6\",'RELEVE BANCAIRE'!$O$2,\"\")","v":""},{"$f":"'RELEVE BANCAIRE'!K609","v":0}]
[{"$f":"'RELEVE BANCAIRE'!G610","v":0},{"$f":"'RELEVE BANCAIRE'!A610","v":"00:00:00"},{"$f":"'RELEVE BANCAIRE'!H610","v":0},{"$f":"'RELEVE BANCAIRE'!J610","v":0},{"$f":"'RELEVE BANCAIRE'!D610*-1","v":0},{"$f":"'RELEVE BANCAIRE'!E610","v":0},{"$f":"'RELEVE BANCAIRE'!C610","v":0},{"$f":"IF(LEFT(D609,1)=\"6\",'RELEVE BANCAIRE'!$O$2,\"\")","v":""},{"$f":"'RELEVE BANCAIRE'!K610","v":0}]
[{"$f":"'RELEVE BANCAIRE'!G611","v":0},{"$f":"'RELEVE BANCAIRE'!A611","v":"00:00:00"},{"$f":"'RELEVE BANCAIRE'!H611","v":0},{"$f":"'RELEVE BANCAIRE'!J611","v":0},{"$f":"'RELEVE BANCAIRE'!D611*-1","v":0},{"$f":"'RELEVE BANCAIRE'!E611","v":0},{"$f":"'RELEVE BANCAIRE'!C611","v":0},{"$f":"IF(LEFT(D610,1)=\"6\",'RELEVE BANCAIRE'!$O$2,\"\")","v":""},{"$f":"'RELEVE BANCAIRE'!K611","v":0}]
[{"$f":"'RELEVE BANCAIRE'!G612","v":0},{"$f":"'RELEVE BANCAIRE'!A612","v":"00:00:00"},{"$f":"'RELEVE BANCAIRE'!H612","v":0},{"$f":"'RELEVE BANCAIRE'!J612","v":0},{"$f":"'RELEVE BANCAIRE'!D612*-1","v":0},{"$f":"'RELEVE BANCAIRE'!E612","v":0},{"$f":"'RELEVE BANCAIRE'!C612","v":0},{"$f":"IF(LEFT(D611,1)=\"6\",'RELEVE BANCAIRE'!$O$2,\"\")","v":""},{"$f":"'RELEVE BANCAIRE'!K612","v":0}]
[{"$f":"'RELEVE BANCAIRE'!G613","v":0},{"$f":"'RELEVE BANCAIRE'!A613","v":"00:00:00"},{"$f":"'RELEVE BANCAIRE'!H613","v":0},{"$f":"'RELEVE BANCAIRE'!J613","v":0},{"$f":"'RELEVE BANCAIRE'!D613*-1","v":0},{"$f":"'RELEVE BANCAIRE'!E613","v":0},{"$f":"'RELEVE BANCAIRE'!C613","v":0},{"$f":"IF(LEFT(D612,1)=\"6\",'RELEVE BANCAIRE'!$O$2,\"\")","v":""},{"$f":"'RELEVE BANCAIRE'!K613","v":0}]
[{"$f":"'RELEVE BANCAIRE'!G614","v":0},{"$f":"'RELEVE BANCAIRE'!A614","v":"00:00:00"},{"$f":"'RELEVE BANCAIRE'!H614","v":0},{"$f":"'RELEVE BANCAIRE'!J614","v":0},{"$f":"'RELEVE BANCAIRE'!D614*-1","v":0},{"$f":"'RELEVE BANCAIRE'!E614","v":0},{"$f":"'RELEVE BANCAIRE'!C614","v":0},{"$f":"IF(LEFT(D613,1)=\"6\",'RELEVE BANCAIRE'!$O$2,\"\")","v":""},{"$f":"'RELEVE BANCAIRE'!K614","v":0}]
[{"$f":"'RELEVE BANCAIRE'!G615","v":0},{"$f":"'RELEVE BANCAIRE'!A615","v":"00:00:00"},{"$f":"'RELEVE BANCAIRE'!H615","v":0},{"$f":"'RELEVE BANCAIRE'!J615","v":0},{"$f":"'RELEVE BANCAIRE'!D615*-1","v":0},{"$f":"'RELEVE BANCAIRE'!E615","v":0},{"$f":"'RELEVE BANCAIRE'!C615","v":0},{"$f":"IF(LEFT(D614,1)=\"6\",'RELEVE BANCAIRE'!$O$2,\"\")","v":""},{"$f":"'RELEVE BANCAIRE'!K615","v":0}]
[{"$f":"'RELEVE BANCAIRE'!G616","v":0},{"$f":"'RELEVE BANCAIRE'!A616","v":"00:00:00"},{"$f":"'RELEVE BANCAIRE'!H616","v":0},{"$f":"'RELEVE BANCAIRE'!J616","v":0},{"$f":"'RELEVE BANCAIRE'!D616*-1","v":0},{"$f":"'RELEVE BANCAIRE'!E616","v":0},{"$f":"'RELEVE BANCAIRE'!C616","v":0},{"$f":"IF(LEFT(D615,1)=\"6\",'RELEVE BANCAIRE'!$O$2,\"\")","v":""},{"$f":"'RELEVE BANCAIRE'!K616","v":0}]
[{"$f":"'RELEVE BANCAIRE'!G617","v":0},{"$f":"'RELEVE BANCAIRE'!A617","v":"00:00:00"},{"$f":"'RELEVE BANCAIRE'!H617","v":0},{"$f":"'RELEVE BANCAIRE'!J617","v":0},{"$f":"'RELEVE BANCAIRE'!D617*-1","v":0},{"$f":"'RELEVE BANCAIRE'!E617","v":0},{"$f":"'RELEVE BANCAIRE'!C617","v":0},{"$f":"IF(LEFT(D616,1)=\"6\",'RELEVE BANCAIRE'!$O$2,\"\")","v":""},{"$f":"'RELEVE BANCAIRE'!K617","v":0}]
[{"$f":"'RELEVE BANCAIRE'!G618","v":0},{"$f":"'RELEVE BANCAIRE'!A618","v":"00:00:00"},{"$f":"'RELEVE BANCAIRE'!H618","v":0},{"$f":"'RELEVE BANCAIRE'!J618","v":0},{"$f":"'RELEVE BANCAIRE'!D618*-1","v":0},{"$f":"'RELEVE BANCAIRE'!E618","v":0},{"$f":"'RELEVE BANCAIRE'!C618","v":0},{"$f":"IF(LEFT(D617,1)=\"6\",'RELEVE BANCAIRE'!$O$2,\"\")","v":""},{"$f":"'RELEVE BANCAIRE'!K618","v":0}]
[{"$f":"'RELEVE BANCAIRE'!G619","v":0},{"$f":"'RELEVE BANCAIRE'!A619","v":"00:00:00"},{"$f":"'RELEVE BANCAIRE'!H619","v":0},{"$f":"'RELEVE BANCAIRE'!J619","v":0},{"$f":"'RELEVE BANCAIRE'!D619*-1","v":0},{"$f":"'RELEVE BANCAIRE'!E619","v":0},{"$f":"'RELEVE BANCAIRE'!C619","v":0},{"$f":"IF(LEFT(D618,1)=\"6\",'RELEVE BANCAIRE'!$O$2,\"\")","v":""},{"$f":"'RELEVE BANCAIRE'!K619","v":0}]
[{"$f":"'RELEVE BANCAIRE'!G620","v":0},{"$f":"'RELEVE BANCAIRE'!A620","v":"00:00:00"},{"$f":"'RELEVE BANCAIRE'!H620","v":0},{"$f":"'RELEVE BANCAIRE'!J620","v":0},{"$f":"'RELEVE BANCAIRE'!D620*-1","v":0},{"$f":"'RELEVE BANCAIRE'!E620","v":0},{"$f":"'RELEVE BANCAIRE'!C620","v":0},{"$f":"IF(LEFT(D619,1)=\"6\",'RELEVE BANCAIRE'!$O$2,\"\")","v":""},{"$f":"'RELEVE BANCAIRE'!K620","v":0}]
[{"$f":"'RELEVE BANCAIRE'!G621","v":0},{"$f":"'RELEVE BANCAIRE'!A621","v":"00:00:00"},{"$f":"'RELEVE BANCAIRE'!H621","v":0},{"$f":"'RELEVE BANCAIRE'!J621","v":0},{"$f":"'RELEVE BANCAIRE'!D621*-1","v":0},{"$f":"'RELEVE BANCAIRE'!E621","v":0},{"$f":"'RELEVE BANCAIRE'!C621","v":0},{"$f":"IF(LEFT(D620,1)=\"6\",'RELEVE BANCAIRE'!$O$2,\"\")","v":""},{"$f":"'RELEVE BANCAIRE'!K621","v":0}]
[{"$f":"'RELEVE BANCAIRE'!G622","v":0},{"$f":"'RELEVE BANCAIRE'!A622","v":"00:00:00"},{"$f":"'RELEVE BANCAIRE'!H622","v":0},{"$f":"'RELEVE BANCAIRE'!J622","v":0},{"$f":"'RELEVE BANCAIRE'!D622*-1","v":0},{"$f":"'RELEVE BANCAIRE'!E622","v":0},{"$f":"'RELEVE BANCAIRE'!C622","v":0},{"$f":"IF(LEFT(D621,1)=\"6\",'RELEVE BANCAIRE'!$O$2,\"\")","v":""},{"$f":"'RELEVE BANCAIRE'!K622","v":0}]
[{"$f":"'RELEVE BANCAIRE'!G623","v":0},{"$f":"'RELEVE BANCAIRE'!A623","v":"00:00:00"},{"$f":"'RELEVE BANCAIRE'!H623","v":0},{"$f":"'RELEVE BANCAIRE'!J623","v":0},{"$f":"'RELEVE BANCAIRE'!D623*-1","v":0},{"$f":"'RELEVE BANCAIRE'!E623","v":0},{"$f":"'RELEVE BANCAIRE'!C623","v":0},{"$f":"IF(LEFT(D622,1)=\"6\",'RELEVE BANCAIRE'!$O$2,\"\")","v":""},{"$f":"'RELEVE BANCAIRE'!K623","v":0}]
[{"$f":"'RELEVE BANCAIRE'!G624","v":0},{"$f":"'RELEVE BANCAIRE'!A624","v":"00:00:00"},{"$f":"'RELEVE BANCAIRE'!H624","v":0},{"$f":"'RELEVE BANCAIRE'!J624","v":0},{"$f":"'RELEVE BANCAIRE'!D624*-1","v":0},{"$f":"'RELEVE BANCAIRE'!E624","v":0},{"$f":"'RELEVE BANCAIRE'!C624","v":0},{"$f":"IF(LEFT(D623,1)=\"6\",'RELEVE BANCAIRE'!$O$2,\"\")","v":""},{"$f":"'RELEVE BANCAIRE'!K624","v":0}]
[{"$f":"'RELEVE BANCAIRE'!G625","v":0},{"$f":"'RELEVE BANCAIRE'!A625","v":"00:00:00"},{"$f":"'RELEVE BANCAIRE'!H625","v":0},{"$f":"'RELEVE BANCAIRE'!J625","v":0},{"$f":"'RELEVE BANCAIRE'!D625*-1","v":0},{"$f":"'RELEVE BANCAIRE'!E625","v":0},{"$f":"'RELEVE BANCAIRE'!C625","v":0},{"$f":"IF(LEFT(D624,1)=\"6\",'RELEVE BANCAIRE'!$O$2,\"\")","v":""},{"$f":"'RELEVE BANCAIRE'!K625","v":0}]
[{"$f":"'RELEVE BANCAIRE'!G626","v":0},{"$f":"'RELEVE BANCAIRE'!A626","v":"00:00:00"},{"$f":"'RELEVE BANCAIRE'!H626","v":0},{"$f":"'RELEVE BANCAIRE'!J626","v":0},{"$f":"'RELEVE BANCAIRE'!D626*-1","v":0},{"$f":"'RELEVE BANCAIRE'!E626","v":0},{"$f":"'RELEVE BANCAIRE'!C626","v":0},{"$f":"IF(LEFT(D625,1)=\"6\",'RELEVE BANCAIRE'!$O$2,\"\")","v":""},{"$f":"'RELEVE BANCAIRE'!K626","v":0}]
[{"$f":"'RELEVE BANCAIRE'!G627","v":0},{"$f":"'RELEVE BANCAIRE'!A627","v":"00:00:00"},{"$f":"'RELEVE BANCAIRE'!H627","v":0},{"$f":"'RELEVE BANCAIRE'!J627","v":0},{"$f":"'RELEVE BANCAIRE'!D627*-1","v":0},{"$f":"'RELEVE BANCAIRE'!E627","v":0},{"$f":"'RELEVE BANCAIRE'!C627","v":0},{"$f":"IF(LEFT(D626,1)=\"6\",'RELEVE BANCAIRE'!$O$2,\"\")","v":""},{"$f":"'RELEVE BANCAIRE'!K627","v":0}]
[{"$f":"'RELEVE BANCAIRE'!G628","v":0},{"$f":"'RELEVE BANCAIRE'!A628","v":"00:00:00"},{"$f":"'RELEVE BANCAIRE'!H628","v":0},{"$f":"'RELEVE BANCAIRE'!J628","v":0},{"$f":"'RELEVE BANCAIRE'!D628*-1","v":0},{"$f":"'RELEVE BANCAIRE'!E628","v":0},{"$f":"'RELEVE BANCAIRE'!C628","v":0},{"$f":"IF(LEFT(D627,1)=\"6\",'RELEVE BANCAIRE'!$O$2,\"\")","v":""},{"$f":"'RELEVE BANCAIRE'!K628","v":0}]
[{"$f":"'RELEVE BANCAIRE'!G629","v":0},{"$f":"'RELEVE BANCAIRE'!A629","v":"00:00:00"},{"$f":"'RELEVE BANCAIRE'!H629","v":0},{"$f":"'RELEVE BANCAIRE'!J629","v":0},{"$f":"'RELEVE BANCAIRE'!D629*-1","v":0},{"$f":"'RELEVE BANCAIRE'!E629","v":0},{"$f":"'RELEVE BANCAIRE'!C629","v":0},{"$f":"IF(LEFT(D628,1)=\"6\",'RELEVE BANCAIRE'!$O$2,\"\")","v":""},{"$f":"'RELEVE BANCAIRE'!K629","v":0}]
[{"$f":"'RELEVE BANCAIRE'!G630","v":0},{"$f":"'RELEVE BANCAIRE'!A630","v":"00:00:00"},{"$f":"'RELEVE BANCAIRE'!H630","v":0},{"$f":"'RELEVE BANCAIRE'!J630","v":0},{"$f":"'RELEVE BANCAIRE'!D630*-1","v":0},{"$f":"'RELEVE BANCAIRE'!E630","v":0},{"$f":"'RELEVE BANCAIRE'!C630","v":0},{"$f":"IF(LEFT(D629,1)=\"6\",'RELEVE BANCAIRE'!$O$2,\"\")","v":""},{"$f":"'RELEVE BANCAIRE'!K630","v":0}]
[{"$f":"'RELEVE BANCAIRE'!G631","v":0},{"$f":"'RELEVE BANCAIRE'!A631","v":"00:00:00"},{"$f":"'RELEVE BANCAIRE'!H631","v":0},{"$f":"'RELEVE BANCAIRE'!J631","v":0},{"$f":"'RELEVE BANCAIRE'!D631*-1","v":0},{"$f":"'RELEVE BANCAIRE'!E631","v":0},{"$f":"'RELEVE BANCAIRE'!C631","v":0},{"$f":"IF(LEFT(D630,1)=\"6\",'RELEVE BANCAIRE'!$O$2,\"\")","v":""},{"$f":"'RELEVE BANCAIRE'!K631","v":0}]
[{"$f":"'RELEVE BANCAIRE'!G632","v":0},{"$f":"'RELEVE BANCAIRE'!A632","v":"00:00:00"},{"$f":"'RELEVE BANCAIRE'!H632","v":0},{"$f":"'RELEVE BANCAIRE'!J632","v":0},{"$f":"'RELEVE BANCAIRE'!D632*-1","v":0},{"$f":"'RELEVE BANCAIRE'!E632","v":0},{"$f":"'RELEVE BANCAIRE'!C632","v":0},{"$f":"IF(LEFT(D631,1)=\"6\",'RELEVE BANCAIRE'!$O$2,\"\")","v":""},{"$f":"'RELEVE BANCAIRE'!K632","v":0}]
[{"$f":"'RELEVE BANCAIRE'!G633","v":0},{"$f":"'RELEVE BANCAIRE'!A633","v":"00:00:00"},{"$f":"'RELEVE BANCAIRE'!H633","v":0},{"$f":"'RELEVE BANCAIRE'!J633","v":0},{"$f":"'RELEVE BANCAIRE'!D633*-1","v":0},{"$f":"'RELEVE BANCAIRE'!E633","v":0},{"$f":"'RELEVE BANCAIRE'!C633","v":0},{"$f":"IF(LEFT(D632,1)=\"6\",'RELEVE BANCAIRE'!$O$2,\"\")","v":""},{"$f":"'RELEVE BANCAIRE'!K633","v":0}]
[{"$f":"'RELEVE BANCAIRE'!G634","v":0},{"$f":"'RELEVE BANCAIRE'!A634","v":"00:00:00"},{"$f":"'RELEVE BANCAIRE'!H634","v":0},{"$f":"'RELEVE BANCAIRE'!J634","v":0},{"$f":"'RELEVE BANCAIRE'!D634*-1","v":0},{"$f":"'RELEVE BANCAIRE'!E634","v":0},{"$f":"'RELEVE BANCAIRE'!C634","v":0},{"$f":"IF(LEFT(D633,1)=\"6\",'RELEVE BANCAIRE'!$O$2,\"\")","v":""},{"$f":"'RELEVE BANCAIRE'!K634","v":0}]
[{"$f":"'RELEVE BANCAIRE'!G635","v":0},{"$f":"'RELEVE BANCAIRE'!A635","v":"00:00:00"},{"$f":"'RELEVE BANCAIRE'!H635","v":0},{"$f":"'RELEVE BANCAIRE'!J635","v":0},{"$f":"'RELEVE BANCAIRE'!D635*-1","v":0},{"$f":"'RELEVE BANCAIRE'!E635","v":0},{"$f":"'RELEVE BANCAIRE'!C635","v":0},{"$f":"IF(LEFT(D634,1)=\"6\",'RELEVE BANCAIRE'!$O$2,\"\")","v":""},{"$f":"'RELEVE BANCAIRE'!K635","v":0}]
[{"$f":"'RELEVE BANCAIRE'!G636","v":0},{"$f":"'RELEVE BANCAIRE'!A636","v":"00:00:00"},{"$f":"'RELEVE BANCAIRE'!H636","v":0},{"$f":"'RELEVE BANCAIRE'!J636","v":0},{"$f":"'RELEVE BANCAIRE'!D636*-1","v":0},{"$f":"'RELEVE BANCAIRE'!E636","v":0},{"$f":"'RELEVE BANCAIRE'!C636","v":0},{"$f":"IF(LEFT(D635,1)=\"6\",'RELEVE BANCAIRE'!$O$2,\"\")","v":""},{"$f":"'RELEVE BANCAIRE'!K636","v":0}]
[{"$f":"'RELEVE BANCAIRE'!G637","v":0},{"$f":"'RELEVE BANCAIRE'!A637","v":"00:00:00"},{"$f":"'RELEVE BANCAIRE'!H637","v":0},{"$f":"'RELEVE BANCAIRE'!J637","v":0},{"$f":"'RELEVE BANCAIRE'!D637*-1","v":0},{"$f":"'RELEVE BANCAIRE'!E637","v":0},{"$f":"'RELEVE BANCAIRE'!C637","v":0},{"$f":"IF(LEFT(D636,1)=\"6\",'RELEVE BANCAIRE'!$O$2,\"\")","v":""},{"$f":"'RELEVE BANCAIRE'!K637","v":0}]
[{"$f":"'RELEVE BANCAIRE'!G638","v":0},{"$f":"'RELEVE BANCAIRE'!A638","v":"00:00:00"},{"$f":"'RELEVE BANCAIRE'!H638","v":0},{"$f":"'RELEVE BANCAIRE'!J638","v":0},{"$f":"'RELEVE BANCAIRE'!D638*-1","v":0},{"$f":"'RELEVE BANCAIRE'!E638","v":0},{"$f":"'RELEVE BANCAIRE'!C638","v":0},{"$f":"IF(LEFT(D637,1)=\"6\",'RELEVE BANCAIRE'!$O$2,\"\")","v":""},{"$f":"'RELEVE BANCAIRE'!K638","v":0}]
[{"$f":"'RELEVE BANCAIRE'!G639","v":0},{"$f":"'RELEVE BANCAIRE'!A639","v":"00:00:00"},{"$f":"'RELEVE BANCAIRE'!H639","v":0},{"$f":"'RELEVE BANCAIRE'!J639","v":0},{"$f":"'RELEVE BANCAIRE'!D639*-1","v":0},{"$f":"'RELEVE BANCAIRE'!E639","v":0},{"$f":"'RELEVE BANCAIRE'!C639","v":0},{"$f":"IF(LEFT(D638,1)=\"6\",'RELEVE BANCAIRE'!$O$2,\"\")","v":""},{"$f":"'RELEVE BANCAIRE'!K639","v":0}]
[{"$f":"'RELEVE BANCAIRE'!G640","v":0},{"$f":"'RELEVE BANCAIRE'!A640","v":"00:00:00"},{"$f":"'RELEVE BANCAIRE'!H640","v":0},{"$f":"'RELEVE BANCAIRE'!J640","v":0},{"$f":"'RELEVE BANCAIRE'!D640*-1","v":0},{"$f":"'RELEVE BANCAIRE'!E640","v":0},{"$f":"'RELEVE BANCAIRE'!C640","v":0},{"$f":"IF(LEFT(D639,1)=\"6\",'RELEVE BANCAIRE'!$O$2,\"\")","v":""},{"$f":"'RELEVE BANCAIRE'!K640","v":0}]
[{"$f":"'RELEVE BANCAIRE'!G641","v":0},{"$f":"'RELEVE BANCAIRE'!A641","v":"00:00:00"},{"$f":"'RELEVE BANCAIRE'!H641","v":0},{"$f":"'RELEVE BANCAIRE'!J641","v":0},{"$f":"'RELEVE BANCAIRE'!D641*-1","v":0},{"$f":"'RELEVE BANCAIRE'!E641","v":0},{"$f":"'RELEVE BANCAIRE'!C641","v":0},{"$f":"IF(LEFT(D640,1)=\"6\",'RELEVE BANCAIRE'!$O$2,\"\")","v":""},{"$f":"'RELEVE BANCAIRE'!K641","v":0}]
[{"$f":"'RELEVE BANCAIRE'!G642","v":0},{"$f":"'RELEVE BANCAIRE'!A642","v":"00:00:00"},{"$f":"'RELEVE BANCAIRE'!H642","v":0},{"$f":"'RELEVE BANCAIRE'!J642","v":0},{"$f":"'RELEVE BANCAIRE'!D642*-1","v":0},{"$f":"'RELEVE BANCAIRE'!E642","v":0},{"$f":"'RELEVE BANCAIRE'!C642","v":0},{"$f":"IF(LEFT(D641,1)=\"6\",'RELEVE BANCAIRE'!$O$2,\"\")","v":""},{"$f":"'RELEVE BANCAIRE'!K642","v":0}]
[{"$f":"'RELEVE BANCAIRE'!G643","v":0},{"$f":"'RELEVE BANCAIRE'!A643","v":"00:00:00"},{"$f":"'RELEVE BANCAIRE'!H643","v":0},{"$f":"'RELEVE BANCAIRE'!J643","v":0},{"$f":"'RELEVE BANCAIRE'!D643*-1","v":0},{"$f":"'RELEVE BANCAIRE'!E643","v":0},{"$f":"'RELEVE BANCAIRE'!C643","v":0},{"$f":"IF(LEFT(D642,1)=\"6\",'RELEVE BANCAIRE'!$O$2,\"\")","v":""},{"$f":"'RELEVE BANCAIRE'!K643","v":0}]
[{"$f":"'RELEVE BANCAIRE'!G644","v":0},{"$f":"'RELEVE BANCAIRE'!A644","v":"00:00:00"},{"$f":"'RELEVE BANCAIRE'!H644","v":0},{"$f":"'RELEVE BANCAIRE'!J644","v":0},{"$f":"'RELEVE BANCAIRE'!D644*-1","v":0},{"$f":"'RELEVE BANCAIRE'!E644","v":0},{"$f":"'RELEVE BANCAIRE'!C644","v":0},{"$f":"IF(LEFT(D643,1)=\"6\",'RELEVE BANCAIRE'!$O$2,\"\")","v":""},{"$f":"'RELEVE BANCAIRE'!K644","v":0}]
[{"$f":"'RELEVE BANCAIRE'!G645","v":0},{"$f":"'RELEVE BANCAIRE'!A645","v":"00:00:00"},{"$f":"'RELEVE BANCAIRE'!H645","v":0},{"$f":"'RELEVE BANCAIRE'!J645","v":0},{"$f":"'RELEVE BANCAIRE'!D645*-1","v":0},{"$f":"'RELEVE BANCAIRE'!E645","v":0},{"$f":"'RELEVE BANCAIRE'!C645","v":0},{"$f":"IF(LEFT(D644,1)=\"6\",'RELEVE BANCAIRE'!$O$2,\"\")","v":""},{"$f":"'RELEVE BANCAIRE'!K645","v":0}]
[{"$f":"'RELEVE BANCAIRE'!G646","v":0},{"$f":"'RELEVE BANCAIRE'!A646","v":"00:00:00"},{"$f":"'RELEVE BANCAIRE'!H646","v":0},{"$f":"'RELEVE BANCAIRE'!J646","v":0},{"$f":"'RELEVE BANCAIRE'!D646*-1","v":0},{"$f":"'RELEVE BANCAIRE'!E646","v":0},{"$f":"'RELEVE BANCAIRE'!C646","v":0},{"$f":"IF(LEFT(D645,1)=\"6\",'RELEVE BANCAIRE'!$O$2,\"\")","v":""},{"$f":"'RELEVE BANCAIRE'!K646","v":0}]
[{"$f":"'RELEVE BANCAIRE'!G647","v":0},{"$f":"'RELEVE BANCAIRE'!A647","v":"00:00:00"},{"$f":"'RELEVE BANCAIRE'!H647","v":0},{"$f":"'RELEVE BANCAIRE'!J647","v":0},{"$f":"'RELEVE BANCAIRE'!D647*-1","v":0},{"$f":"'RELEVE BANCAIRE'!E647","v":0},{"$f":"'RELEVE BANCAIRE'!C647","v":0},{"$f":"IF(LEFT(D646,1)=\"6\",'RELEVE BANCAIRE'!$O$2,\"\")","v":""},{"$f":"'RELEVE BANCAIRE'!K647","v":0}]
[{"$f":"'RELEVE BANCAIRE'!G648","v":0},{"$f":"'RELEVE BANCAIRE'!A648","v":"00:00:00"},{"$f":"'RELEVE BANCAIRE'!H648","v":0},{"$f":"'RELEVE BANCAIRE'!J648","v":0},{"$f":"'RELEVE BANCAIRE'!D648*-1","v":0},{"$f":"'RELEVE BANCAIRE'!E648","v":0},{"$f":"'RELEVE BANCAIRE'!C648","v":0},{"$f":"IF(LEFT(D647,1)=\"6\",'RELEVE BANCAIRE'!$O$2,\"\")","v":""},{"$f":"'RELEVE BANCAIRE'!K648","v":0}]
[{"$f":"'RELEVE BANCAIRE'!G649","v":0},{"$f":"'RELEVE BANCAIRE'!A649","v":"00:00:00"},{"$f":"'RELEVE BANCAIRE'!H649","v":0},{"$f":"'RELEVE BANCAIRE'!J649","v":0},{"$f":"'RELEVE BANCAIRE'!D649*-1","v":0},{"$f":"'RELEVE BANCAIRE'!E649","v":0},{"$f":"'RELEVE BANCAIRE'!C649","v":0},{"$f":"IF(LEFT(D648,1)=\"6\",'RELEVE BANCAIRE'!$O$2,\"\")","v":""},{"$f":"'RELEVE BANCAIRE'!K649","v":0}]
[{"$f":"'RELEVE BANCAIRE'!G650","v":0},{"$f":"'RELEVE BANCAIRE'!A650","v":"00:00:00"},{"$f":"'RELEVE BANCAIRE'!H650","v":0},{"$f":"'RELEVE BANCAIRE'!J650","v":0},{"$f":"'RELEVE BANCAIRE'!D650*-1","v":0},{"$f":"'RELEVE BANCAIRE'!E650","v":0},{"$f":"'RELEVE BANCAIRE'!C650","v":0},{"$f":"IF(LEFT(D649,1)=\"6\",'RELEVE BANCAIRE'!$O$2,\"\")","v":""},{"$f":"'RELEVE BANCAIRE'!K650","v":0}]
[{"$f":"'RELEVE BANCAIRE'!G651","v":0},{"$f":"'RELEVE BANCAIRE'!A651","v":"00:00:00"},{"$f":"'RELEVE BANCAIRE'!H651","v":0},{"$f":"'RELEVE BANCAIRE'!J651","v":0},{"$f":"'RELEVE BANCAIRE'!D651*-1","v":0},{"$f":"'RELEVE BANCAIRE'!E651","v":0},{"$f":"'RELEVE BANCAIRE'!C651","v":0},{"$f":"IF(LEFT(D650,1)=\"6\",'RELEVE BANCAIRE'!$O$2,\"\")","v":""},{"$f":"'RELEVE BANCAIRE'!K651","v":0}]
[{"$f":"'RELEVE BANCAIRE'!G652","v":0},{"$f":"'RELEVE BANCAIRE'!A652","v":"00:00:00"},{"$f":"'RELEVE BANCAIRE'!H652","v":0},{"$f":"'RELEVE BANCAIRE'!J652","v":0},{"$f":"'RELEVE BANCAIRE'!D652*-1","v":0},{"$f":"'RELEVE BANCAIRE'!E652","v":0},{"$f":"'RELEVE BANCAIRE'!C652","v":0},{"$f":"IF(LEFT(D651,1)=\"6\",'RELEVE BANCAIRE'!$O$2,\"\")","v":""},{"$f":"'RELEVE BANCAIRE'!K652","v":0}]
[{"$f":"'RELEVE BANCAIRE'!G653","v":0},{"$f":"'RELEVE BANCAIRE'!A653","v":"00:00:00"},{"$f":"'RELEVE BANCAIRE'!H653","v":0},{"$f":"'RELEVE BANCAIRE'!J653","v":0},{"$f":"'RELEVE BANCAIRE'!D653*-1","v":0},{"$f":"'RELEVE BANCAIRE'!E653","v":0},{"$f":"'RELEVE BANCAIRE'!C653","v":0},{"$f":"IF(LEFT(D652,1)=\"6\",'RELEVE BANCAIRE'!$O$2,\"\")","v":""},{"$f":"'RELEVE BANCAIRE'!K653","v":0}]
[{"$f":"'RELEVE BANCAIRE'!G654","v":0},{"$f":"'RELEVE BANCAIRE'!A654","v":"00:00:00"},{"$f":"'RELEVE BANCAIRE'!H654","v":0},{"$f":"'RELEVE BANCAIRE'!J654","v":0},{"$f":"'RELEVE BANCAIRE'!D654*-1","v":0},{"$f":"'RELEVE BANCAIRE'!E654","v":0},{"$f":"'RELEVE BANCAIRE'!C654","v":0},{"$f":"IF(LEFT(D653,1)=\"6\",'RELEVE BANCAIRE'!$O$2,\"\")","v":""},{"$f":"'RELEVE BANCAIRE'!K654","v":0}]
[{"$f":"'RELEVE BANCAIRE'!G655","v":0},{"$f":"'RELEVE BANCAIRE'!A655","v":"00:00:00"},{"$f":"'RELEVE BANCAIRE'!H655","v":0},{"$f":"'RELEVE BANCAIRE'!J655","v":0},{"$f":"'RELEVE BANCAIRE'!D655*-1","v":0},{"$f":"'RELEVE BANCAIRE'!E655","v":0},{"$f":"'RELEVE BANCAIRE'!C655","v":0},{"$f":"IF(LEFT(D654,1)=\"6\",'RELEVE BANCAIRE'!$O$2,\"\")","v":""},{"$f":"'RELEVE BANCAIRE'!K655","v":0}]
[{"$f":"'RELEVE BANCAIRE'!G656","v":0},{"$f":"'RELEVE BANCAIRE'!A656","v":"00:00:00"},{"$f":"'RELEVE BANCAIRE'!H656","v":0},{"$f":"'RELEVE BANCAIRE'!J656","v":0},{"$f":"'RELEVE BANCAIRE'!D656*-1","v":0},{"$f":"'RELEVE BANCAIRE'!E656","v":0},{"$f":"'RELEVE BANCAIRE'!C656","v":0},{"$f":"IF(LEFT(D655,1)=\"6\",'RELEVE BANCAIRE'!$O$2,\"\")","v":""},{"$f":"'RELEVE BANCAIRE'!K656","v":0}]
[{"$f":"'RELEVE BANCAIRE'!G657","v":0},{"$f":"'RELEVE BANCAIRE'!A657","v":"00:00:00"},{"$f":"'RELEVE BANCAIRE'!H657","v":0},{"$f":"'RELEVE BANCAIRE'!J657","v":0},{"$f":"'RELEVE BANCAIRE'!D657*-1","v":0},{"$f":"'RELEVE BANCAIRE'!E657","v":0},{"$f":"'RELEVE BANCAIRE'!C657","v":0},{"$f":"IF(LEFT(D656,1)=\"6\",'RELEVE BANCAIRE'!$O$2,\"\")","v":""},{"$f":"'RELEVE BANCAIRE'!K657","v":0}]
[{"$f":"'RELEVE BANCAIRE'!G658","v":0},{"$f":"'RELEVE BANCAIRE'!A658","v":"00:00:00"},{"$f":"'RELEVE BANCAIRE'!H658","v":0},{"$f":"'RELEVE BANCAIRE'!J658","v":0},{"$f":"'RELEVE BANCAIRE'!D658*-1","v":0},{"$f":"'RELEVE BANCAIRE'!E658","v":0},{"$f":"'RELEVE BANCAIRE'!C658","v":0},{"$f":"IF(LEFT(D657,1)=\"6\",'RELEVE BANCAIRE'!$O$2,\"\")","v":""},{"$f":"'RELEVE BANCAIRE'!K658","v":0}]
[{"$f":"'RELEVE BANCAIRE'!G659","v":0},{"$f":"'RELEVE BANCAIRE'!A659","v":"00:00:00"},{"$f":"'RELEVE BANCAIRE'!H659","v":0},{"$f":"'RELEVE BANCAIRE'!J659","v":0},{"$f":"'RELEVE BANCAIRE'!D659*-1","v":0},{"$f":"'RELEVE BANCAIRE'!E659","v":0},{"$f":"'RELEVE BANCAIRE'!C659","v":0},{"$f":"IF(LEFT(D658,1)=\"6\",'RELEVE BANCAIRE'!$O$2,\"\")","v":""},{"$f":"'RELEVE BANCAIRE'!K659","v":0}]
[{"$f":"'RELEVE BANCAIRE'!G660","v":0},{"$f":"'RELEVE BANCAIRE'!A660","v":"00:00:00"},{"$f":"'RELEVE BANCAIRE'!H660","v":0},{"$f":"'RELEVE BANCAIRE'!J660","v":0},{"$f":"'RELEVE BANCAIRE'!D660*-1","v":0},{"$f":"'RELEVE BANCAIRE'!E660","v":0},{"$f":"'RELEVE BANCAIRE'!C660","v":0},{"$f":"IF(LEFT(D659,1)=\"6\",'RELEVE BANCAIRE'!$O$2,\"\")","v":""},{"$f":"'RELEVE BANCAIRE'!K660","v":0}]
[{"$f":"'RELEVE BANCAIRE'!G661","v":0},{"$f":"'RELEVE BANCAIRE'!A661","v":"00:00:00"},{"$f":"'RELEVE BANCAIRE'!H661","v":0},{"$f":"'RELEVE BANCAIRE'!J661","v":0},{"$f":"'RELEVE BANCAIRE'!D661*-1","v":0},{"$f":"'RELEVE BANCAIRE'!E661","v":0},{"$f":"'RELEVE BANCAIRE'!C661","v":0},{"$f":"IF(LEFT(D660,1)=\"6\",'RELEVE BANCAIRE'!$O$2,\"\")","v":""},{"$f":"'RELEVE BANCAIRE'!K661","v":0}]
[{"$f":"'RELEVE BANCAIRE'!G662","v":0},{"$f":"'RELEVE BANCAIRE'!A662","v":"00:00:00"},{"$f":"'RELEVE BANCAIRE'!H662","v":0},{"$f":"'RELEVE BANCAIRE'!J662","v":0},{"$f":"'RELEVE BANCAIRE'!D662*-1","v":0},{"$f":"'RELEVE BANCAIRE'!E662","v":0},{"$f":"'RELEVE BANCAIRE'!C662","v":0},{"$f":"IF(LEFT(D661,1)=\"6\",'RELEVE BANCAIRE'!$O$2,\"\")","v":""},{"$f":"'RELEVE BANCAIRE'!K662","v":0}]
[{"$f":"'RELEVE BANCAIRE'!G663","v":0},{"$f":"'RELEVE BANCAIRE'!A663","v":"00:00:00"},{"$f":"'RELEVE BANCAIRE'!H663","v":0},{"$f":"'RELEVE BANCAIRE'!J663","v":0},{"$f":"'RELEVE BANCAIRE'!D663*-1","v":0},{"$f":"'RELEVE BANCAIRE'!E663","v":0},{"$f":"'RELEVE BANCAIRE'!C663","v":0},{"$f":"IF(LEFT(D662,1)=\"6\",'RELEVE BANCAIRE'!$O$2,\"\")","v":""},{"$f":"'RELEVE BANCAIRE'!K663","v":0}]
[{"$f":"'RELEVE BANCAIRE'!G664","v":0},{"$f":"'RELEVE BANCAIRE'!A664","v":"00:00:00"},{"$f":"'RELEVE BANCAIRE'!H664","v":0},{"$f":"'RELEVE BANCAIRE'!J664","v":0},{"$f":"'RELEVE BANCAIRE'!D664*-1","v":0},{"$f":"'RELEVE BANCAIRE'!E664","v":0},{"$f":"'RELEVE BANCAIRE'!C664","v":0},{"$f":"IF(LEFT(D663,1)=\"6\",'RELEVE BANCAIRE'!$O$2,\"\")","v":""},{"$f":"'RELEVE BANCAIRE'!K664","v":0}]
[{"$f":"'RELEVE BANCAIRE'!G665","v":0},{"$f":"'RELEVE BANCAIRE'!A665","v":"00:00:00"},{"$f":"'RELEVE BANCAIRE'!H665","v":0},{"$f":"'RELEVE BANCAIRE'!J665","v":0},{"$f":"'RELEVE BANCAIRE'!D665*-1","v":0},{"$f":"'RELEVE BANCAIRE'!E665","v":0},{"$f":"'RELEVE BANCAIRE'!C665","v":0},{"$f":"IF(LEFT(D664,1)=\"6\",'RELEVE BANCAIRE'!$O$2,\"\")","v":""},{"$f":"'RELEVE BANCAIRE'!K665","v":0}]
[{"$f":"'RELEVE BANCAIRE'!G666","v":0},{"$f":"'RELEVE BANCAIRE'!A666","v":"00:00:00"},{"$f":"'RELEVE BANCAIRE'!H666","v":0},{"$f":"'RELEVE BANCAIRE'!J666","v":0},{"$f":"'RELEVE BANCAIRE'!D666*-1","v":0},{"$f":"'RELEVE BANCAIRE'!E666","v":0},{"$f":"'RELEVE BANCAIRE'!C666","v":0},{"$f":"IF(LEFT(D665,1)=\"6\",'RELEVE BANCAIRE'!$O$2,\"\")","v":""},{"$f":"'RELEVE BANCAIRE'!K666","v":0}]
[{"$f":"'RELEVE BANCAIRE'!G667","v":0},{"$f":"'RELEVE BANCAIRE'!A667","v":"00:00:00"},{"$f":"'RELEVE BANCAIRE'!H667","v":0},{"$f":"'RELEVE BANCAIRE'!J667","v":0},{"$f":"'RELEVE BANCAIRE'!D667*-1","v":0},{"$f":"'RELEVE BANCAIRE'!E667","v":0},{"$f":"'RELEVE BANCAIRE'!C667","v":0},{"$f":"IF(LEFT(D666,1)=\"6\",'RELEVE BANCAIRE'!$O$2,\"\")","v":""},{"$f":"'RELEVE BANCAIRE'!K667","v":0}]
[{"$f":"'RELEVE BANCAIRE'!G668","v":0},{"$f":"'RELEVE BANCAIRE'!A668","v":"00:00:00"},{"$f":"'RELEVE BANCAIRE'!H668","v":0},{"$f":"'RELEVE BANCAIRE'!J668","v":0},{"$f":"'RELEVE BANCAIRE'!D668*-1","v":0},{"$f":"'RELEVE BANCAIRE'!E668","v":0},{"$f":"'RELEVE BANCAIRE'!C668","v":0},{"$f":"IF(LEFT(D667,1)=\"6\",'RELEVE BANCAIRE'!$O$2,\"\")","v":""},{"$f":"'RELEVE BANCAIRE'!K668","v":0}]
[{"$f":"'RELEVE BANCAIRE'!G669","v":0},{"$f":"'RELEVE BANCAIRE'!A669","v":"00:00:00"},{"$f":"'RELEVE BANCAIRE'!H669","v":0},{"$f":"'RELEVE BANCAIRE'!J669","v":0},{"$f":"'RELEVE BANCAIRE'!D669*-1","v":0},{"$f":"'RELEVE BANCAIRE'!E669","v":0},{"$f":"'RELEVE BANCAIRE'!C669","v":0},{"$f":"IF(LEFT(D668,1)=\"6\",'RELEVE BANCAIRE'!$O$2,\"\")","v":""},{"$f":"'RELEVE BANCAIRE'!K669","v":0}]
[{"$f":"'RELEVE BANCAIRE'!G670","v":0},{"$f":"'RELEVE BANCAIRE'!A670","v":"00:00:00"},{"$f":"'RELEVE BANCAIRE'!H670","v":0},{"$f":"'RELEVE BANCAIRE'!J670","v":0},{"$f":"'RELEVE BANCAIRE'!D670*-1","v":0},{"$f":"'RELEVE BANCAIRE'!E670","v":0},{"$f":"'RELEVE BANCAIRE'!C670","v":0},{"$f":"IF(LEFT(D669,1)=\"6\",'RELEVE BANCAIRE'!$O$2,\"\")","v":""},{"$f":"'RELEVE BANCAIRE'!K670","v":0}]
[{"$f":"'RELEVE BANCAIRE'!G671","v":0},{"$f":"'RELEVE BANCAIRE'!A671","v":"00:00:00"},{"$f":"'RELEVE BANCAIRE'!H671","v":0},{"$f":"'RELEVE BANCAIRE'!J671","v":0},{"$f":"'RELEVE BANCAIRE'!D671*-1","v":0},{"$f":"'RELEVE BANCAIRE'!E671","v":0},{"$f":"'RELEVE BANCAIRE'!C671","v":0},{"$f":"IF(LEFT(D670,1)=\"6\",'RELEVE BANCAIRE'!$O$2,\"\")","v":""},{"$f":"'RELEVE BANCAIRE'!K671","v":0}]
[{"$f":"'RELEVE BANCAIRE'!G672","v":0},{"$f":"'RELEVE BANCAIRE'!A672","v":"00:00:00"},{"$f":"'RELEVE BANCAIRE'!H672","v":0},{"$f":"'RELEVE BANCAIRE'!J672","v":0},{"$f":"'RELEVE BANCAIRE'!D672*-1","v":0},{"$f":"'RELEVE BANCAIRE'!E672","v":0},{"$f":"'RELEVE BANCAIRE'!C672","v":0},{"$f":"IF(LEFT(D671,1)=\"6\",'RELEVE BANCAIRE'!$O$2,\"\")","v":""},{"$f":"'RELEVE BANCAIRE'!K672","v":0}]
[{"$f":"'RELEVE BANCAIRE'!G673","v":0},{"$f":"'RELEVE BANCAIRE'!A673","v":"00:00:00"},{"$f":"'RELEVE BANCAIRE'!H673","v":0},{"$f":"'RELEVE BANCAIRE'!J673","v":0},{"$f":"'RELEVE BANCAIRE'!D673*-1","v":0},{"$f":"'RELEVE BANCAIRE'!E673","v":0},{"$f":"'RELEVE BANCAIRE'!C673","v":0},{"$f":"IF(LEFT(D672,1)=\"6\",'RELEVE BANCAIRE'!$O$2,\"\")","v":""},{"$f":"'RELEVE BANCAIRE'!K673","v":0}]
[{"$f":"'RELEVE BANCAIRE'!G674","v":0},{"$f":"'RELEVE BANCAIRE'!A674","v":"00:00:00"},{"$f":"'RELEVE BANCAIRE'!H674","v":0},{"$f":"'RELEVE BANCAIRE'!J674","v":0},{"$f":"'RELEVE BANCAIRE'!D674*-1","v":0},{"$f":"'RELEVE BANCAIRE'!E674","v":0},{"$f":"'RELEVE BANCAIRE'!C674","v":0},{"$f":"IF(LEFT(D673,1)=\"6\",'RELEVE BANCAIRE'!$O$2,\"\")","v":""},{"$f":"'RELEVE BANCAIRE'!K674","v":0}]
[{"$f":"'RELEVE BANCAIRE'!G675","v":0},{"$f":"'RELEVE BANCAIRE'!A675","v":"00:00:00"},{"$f":"'RELEVE BANCAIRE'!H675","v":0},{"$f":"'RELEVE BANCAIRE'!J675","v":0},{"$f":"'RELEVE BANCAIRE'!D675*-1","v":0},{"$f":"'RELEVE BANCAIRE'!E675","v":0},{"$f":"'RELEVE BANCAIRE'!C675","v":0},{"$f":"IF(LEFT(D674,1)=\"6\",'RELEVE BANCAIRE'!$O$2,\"\")","v":""},{"$f":"'RELEVE BANCAIRE'!K675","v":0}]
[{"$f":"'RELEVE BANCAIRE'!G676","v":0},{"$f":"'RELEVE BANCAIRE'!A676","v":"00:00:00"},{"$f":"'RELEVE BANCAIRE'!H676","v":0},{"$f":"'RELEVE BANCAIRE'!J676","v":0},{"$f":"'RELEVE BANCAIRE'!D676*-1","v":0},{"$f":"'RELEVE BANCAIRE'!E676","v":0},{"$f":"'RELEVE BANCAIRE'!C676","v":0},{"$f":"IF(LEFT(D675,1)=\"6\",'RELEVE BANCAIRE'!$O$2,\"\")","v":""},{"$f":"'RELEVE BANCAIRE'!K676","v":0}]
[{"$f":"'RELEVE BANCAIRE'!G677","v":0},{"$f":"'RELEVE BANCAIRE'!A677","v":"00:00:00"},{"$f":"'RELEVE BANCAIRE'!H677","v":0},{"$f":"'RELEVE BANCAIRE'!J677","v":0},{"$f":"'RELEVE BANCAIRE'!D677*-1","v":0},{"$f":"'RELEVE BANCAIRE'!E677","v":0},{"$f":"'RELEVE BANCAIRE'!C677","v":0},{"$f":"IF(LEFT(D676,1)=\"6\",'RELEVE BANCAIRE'!$O$2,\"\")","v":""},{"$f":"'RELEVE BANCAIRE'!K677","v":0}]
[{"$f":"'RELEVE BANCAIRE'!G678","v":0},{"$f":"'RELEVE BANCAIRE'!A678","v":"00:00:00"},{"$f":"'RELEVE BANCAIRE'!H678","v":0},{"$f":"'RELEVE BANCAIRE'!J678","v":0},{"$f":"'RELEVE BANCAIRE'!D678*-1","v":0},{"$f":"'RELEVE BANCAIRE'!E678","v":0},{"$f":"'RELEVE BANCAIRE'!C678","v":0},{"$f":"IF(LEFT(D677,1)=\"6\",'RELEVE BANCAIRE'!$O$2,\"\")","v":""},{"$f":"'RELEVE BANCAIRE'!K678","v":0}]
[{"$f":"'RELEVE BANCAIRE'!G679","v":0},{"$f":"'RELEVE BANCAIRE'!A679","v":"00:00:00"},{"$f":"'RELEVE BANCAIRE'!H679","v":0},{"$f":"'RELEVE BANCAIRE'!J679","v":0},{"$f":"'RELEVE BANCAIRE'!D679*-1","v":0},{"$f":"'RELEVE BANCAIRE'!E679","v":0},{"$f":"'RELEVE BANCAIRE'!C679","v":0},{"$f":"IF(LEFT(D678,1)=\"6\",'RELEVE BANCAIRE'!$O$2,\"\")","v":""},{"$f":"'RELEVE BANCAIRE'!K679","v":0}]
[{"$f":"'RELEVE BANCAIRE'!G680","v":0},{"$f":"'RELEVE BANCAIRE'!A680","v":"00:00:00"},{"$f":"'RELEVE BANCAIRE'!H680","v":0},{"$f":"'RELEVE BANCAIRE'!J680","v":0},{"$f":"'RELEVE BANCAIRE'!D680*-1","v":0},{"$f":"'RELEVE BANCAIRE'!E680","v":0},{"$f":"'RELEVE BANCAIRE'!C680","v":0},{"$f":"IF(LEFT(D679,1)=\"6\",'RELEVE BANCAIRE'!$O$2,\"\")","v":""},{"$f":"'RELEVE BANCAIRE'!K680","v":0}]
[{"$f":"'RELEVE BANCAIRE'!G681","v":0},{"$f":"'RELEVE BANCAIRE'!A681","v":"00:00:00"},{"$f":"'RELEVE BANCAIRE'!H681","v":0},{"$f":"'RELEVE BANCAIRE'!J681","v":0},{"$f":"'RELEVE BANCAIRE'!D681*-1","v":0},{"$f":"'RELEVE BANCAIRE'!E681","v":0},{"$f":"'RELEVE BANCAIRE'!C681","v":0},{"$f":"IF(LEFT(D680,1)=\"6\",'RELEVE BANCAIRE'!$O$2,\"\")","v":""},{"$f":"'RELEVE BANCAIRE'!K681","v":0}]
[{"$f":"'RELEVE BANCAIRE'!G682","v":0},{"$f":"'RELEVE BANCAIRE'!A682","v":"00:00:00"},{"$f":"'RELEVE BANCAIRE'!H682","v":0},{"$f":"'RELEVE BANCAIRE'!J682","v":0},{"$f":"'RELEVE BANCAIRE'!D682*-1","v":0},{"$f":"'RELEVE BANCAIRE'!E682","v":0},{"$f":"'RELEVE BANCAIRE'!C682","v":0},{"$f":"IF(LEFT(D681,1)=\"6\",'RELEVE BANCAIRE'!$O$2,\"\")","v":""},{"$f":"'RELEVE BANCAIRE'!K682","v":0}]
[{"$f":"'RELEVE BANCAIRE'!G683","v":0},{"$f":"'RELEVE BANCAIRE'!A683","v":"00:00:00"},{"$f":"'RELEVE BANCAIRE'!H683","v":0},{"$f":"'RELEVE BANCAIRE'!J683","v":0},{"$f":"'RELEVE BANCAIRE'!D683*-1","v":0},{"$f":"'RELEVE BANCAIRE'!E683","v":0},{"$f":"'RELEVE BANCAIRE'!C683","v":0},{"$f":"IF(LEFT(D682,1)=\"6\",'RELEVE BANCAIRE'!$O$2,\"\")","v":""},{"$f":"'RELEVE BANCAIRE'!K683","v":0}]
[{"$f":"'RELEVE BANCAIRE'!G684","v":0},{"$f":"'RELEVE BANCAIRE'!A684","v":"00:00:00"},{"$f":"'RELEVE BANCAIRE'!H684","v":0},{"$f":"'RELEVE BANCAIRE'!J684","v":0},{"$f":"'RELEVE BANCAIRE'!D684*-1","v":0},{"$f":"'RELEVE BANCAIRE'!E684","v":0},{"$f":"'RELEVE BANCAIRE'!C684","v":0},{"$f":"IF(LEFT(D683,1)=\"6\",'RELEVE BANCAIRE'!$O$2,\"\")","v":""},{"$f":"'RELEVE BANCAIRE'!K684","v":0}]
[{"$f":"'RELEVE BANCAIRE'!G685","v":0},{"$f":"'RELEVE BANCAIRE'!A685","v":"00:00:00"},{"$f":"'RELEVE BANCAIRE'!H685","v":0},{"$f":"'RELEVE BANCAIRE'!J685","v":0},{"$f":"'RELEVE BANCAIRE'!D685*-1","v":0},{"$f":"'RELEVE BANCAIRE'!E685","v":0},{"$f":"'RELEVE BANCAIRE'!C685","v":0},{"$f":"IF(LEFT(D684,1)=\"6\",'RELEVE BANCAIRE'!$O$2,\"\")","v":""},{"$f":"'RELEVE BANCAIRE'!K685","v":0}]
[{"$f":"'RELEVE BANCAIRE'!G686","v":0},{"$f":"'RELEVE BANCAIRE'!A686","v":"00:00:00"},{"$f":"'RELEVE BANCAIRE'!H686","v":0},{"$f":"'RELEVE BANCAIRE'!J686","v":0},{"$f":"'RELEVE BANCAIRE'!D686*-1","v":0},{"$f":"'RELEVE BANCAIRE'!E686","v":0},{"$f":"'RELEVE BANCAIRE'!C686","v":0},{"$f":"IF(LEFT(D685,1)=\"6\",'RELEVE BANCAIRE'!$O$2,\"\")","v":""},{"$f":"'RELEVE BANCAIRE'!K686","v":0}]
[{"$f":"'RELEVE BANCAIRE'!G687","v":0},{"$f":"'RELEVE BANCAIRE'!A687","v":"00:00:00"},{"$f":"'RELEVE BANCAIRE'!H687","v":0},{"$f":"'RELEVE BANCAIRE'!J687","v":0},{"$f":"'RELEVE BANCAIRE'!D687*-1","v":0},{"$f":"'RELEVE BANCAIRE'!E687","v":0},{"$f":"'RELEVE BANCAIRE'!C687","v":0},{"$f":"IF(LEFT(D686,1)=\"6\",'RELEVE BANCAIRE'!$O$2,\"\")","v":""},{"$f":"'RELEVE BANCAIRE'!K687","v":0}]
[{"$f":"'RELEVE BANCAIRE'!G688","v":0},{"$f":"'RELEVE BANCAIRE'!A688","v":"00:00:00"},{"$f":"'RELEVE BANCAIRE'!H688","v":0},{"$f":"'RELEVE BANCAIRE'!J688","v":0},{"$f":"'RELEVE BANCAIRE'!D688*-1","v":0},{"$f":"'RELEVE BANCAIRE'!E688","v":0},{"$f":"'RELEVE BANCAIRE'!C688","v":0},{"$f":"IF(LEFT(D687,1)=\"6\",'RELEVE BANCAIRE'!$O$2,\"\")","v":""},{"$f":"'RELEVE BANCAIRE'!K688","v":0}]
[{"$f":"'RELEVE BANCAIRE'!G689","v":0},{"$f":"'RELEVE BANCAIRE'!A689","v":"00:00:00"},{"$f":"'RELEVE BANCAIRE'!H689","v":0},{"$f":"'RELEVE BANCAIRE'!J689","v":0},{"$f":"'RELEVE BANCAIRE'!D689*-1","v":0},{"$f":"'RELEVE BANCAIRE'!E689","v":0},{"$f":"'RELEVE BANCAIRE'!C689","v":0},{"$f":"IF(LEFT(D688,1)=\"6\",'RELEVE BANCAIRE'!$O$2,\"\")","v":""},{"$f":"'RELEVE BANCAIRE'!K689","v":0}]
[{"$f":"'RELEVE BANCAIRE'!G690","v":0},{"$f":"'RELEVE BANCAIRE'!A690","v":"00:00:00"},{"$f":"'RELEVE BANCAIRE'!H690","v":0},{"$f":"'RELEVE BANCAIRE'!J690","v":0},{"$f":"'RELEVE BANCAIRE'!D690*-1","v":0},{"$f":"'RELEVE BANCAIRE'!E690","v":0},{"$f":"'RELEVE BANCAIRE'!C690","v":0},{"$f":"IF(LEFT(D689,1)=\"6\",'RELEVE BANCAIRE'!$O$2,\"\")","v":""},{"$f":"'RELEVE BANCAIRE'!K690","v":0}]
[{"$f":"'RELEVE BANCAIRE'!G691","v":0},{"$f":"'RELEVE BANCAIRE'!A691","v":"00:00:00"},{"$f":"'RELEVE BANCAIRE'!H691","v":0},{"$f":"'RELEVE BANCAIRE'!J691","v":0},{"$f":"'RELEVE BANCAIRE'!D691*-1","v":0},{"$f":"'RELEVE BANCAIRE'!E691","v":0},{"$f":"'RELEVE BANCAIRE'!C691","v":0},{"$f":"IF(LEFT(D690,1)=\"6\",'RELEVE BANCAIRE'!$O$2,\"\")","v":""},{"$f":"'RELEVE BANCAIRE'!K691","v":0}]
[{"$f":"'RELEVE BANCAIRE'!G692","v":0},{"$f":"'RELEVE BANCAIRE'!A692","v":"00:00:00"},{"$f":"'RELEVE BANCAIRE'!H692","v":0},{"$f":"'RELEVE BANCAIRE'!J692","v":0},{"$f":"'RELEVE BANCAIRE'!D692*-1","v":0},{"$f":"'RELEVE BANCAIRE'!E692","v":0},{"$f":"'RELEVE BANCAIRE'!C692","v":0},{"$f":"IF(LEFT(D691,1)=\"6\",'RELEVE BANCAIRE'!$O$2,\"\")","v":""},{"$f":"'RELEVE BANCAIRE'!K692","v":0}]
[{"$f":"'RELEVE BANCAIRE'!G693","v":0},{"$f":"'RELEVE BANCAIRE'!A693","v":"00:00:00"},{"$f":"'RELEVE BANCAIRE'!H693","v":0},{"$f":"'RELEVE BANCAIRE'!J693","v":0},{"$f":"'RELEVE BANCAIRE'!D693*-1","v":0},{"$f":"'RELEVE BANCAIRE'!E693","v":0},{"$f":"'RELEVE BANCAIRE'!C693","v":0},{"$f":"IF(LEFT(D692,1)=\"6\",'RELEVE BANCAIRE'!$O$2,\"\")","v":""},{"$f":"'RELEVE BANCAIRE'!K693","v":0}]
[{"$f":"'RELEVE BANCAIRE'!G694","v":0},{"$f":"'RELEVE BANCAIRE'!A694","v":"00:00:00"},{"$f":"'RELEVE BANCAIRE'!H694","v":0},{"$f":"'RELEVE BANCAIRE'!J694","v":0},{"$f":"'RELEVE BANCAIRE'!D694*-1","v":0},{"$f":"'RELEVE BANCAIRE'!E694","v":0},{"$f":"'RELEVE BANCAIRE'!C694","v":0},{"$f":"IF(LEFT(D693,1)=\"6\",'RELEVE BANCAIRE'!$O$2,\"\")","v":""},{"$f":"'RELEVE BANCAIRE'!K694","v":0}]
[{"$f":"'RELEVE BANCAIRE'!G695","v":0},{"$f":"'RELEVE BANCAIRE'!A695","v":"00:00:00"},{"$f":"'RELEVE BANCAIRE'!H695","v":0},{"$f":"'RELEVE BANCAIRE'!J695","v":0},{"$f":"'RELEVE BANCAIRE'!D695*-1","v":0},{"$f":"'RELEVE BANCAIRE'!E695","v":0},{"$f":"'RELEVE BANCAIRE'!C695","v":0},{"$f":"IF(LEFT(D694,1)=\"6\",'RELEVE BANCAIRE'!$O$2,\"\")","v":""},{"$f":"'RELEVE BANCAIRE'!K695","v":0}]
[{"$f":"'RELEVE BANCAIRE'!G696","v":0},{"$f":"'RELEVE BANCAIRE'!A696","v":"00:00:00"},{"$f":"'RELEVE BANCAIRE'!H696","v":0},{"$f":"'RELEVE BANCAIRE'!J696","v":0},{"$f":"'RELEVE BANCAIRE'!D696*-1","v":0},{"$f":"'RELEVE BANCAIRE'!E696","v":0},{"$f":"'RELEVE BANCAIRE'!C696","v":0},{"$f":"IF(LEFT(D695,1)=\"6\",'RELEVE BANCAIRE'!$O$2,\"\")","v":""},{"$f":"'RELEVE BANCAIRE'!K696","v":0}]
[{"$f":"'RELEVE BANCAIRE'!G697","v":0},{"$f":"'RELEVE BANCAIRE'!A697","v":"00:00:00"},{"$f":"'RELEVE BANCAIRE'!H697","v":0},{"$f":"'RELEVE BANCAIRE'!J697","v":0},{"$f":"'RELEVE BANCAIRE'!D697*-1","v":0},{"$f":"'RELEVE BANCAIRE'!E697","v":0},{"$f":"'RELEVE BANCAIRE'!C697","v":0},{"$f":"IF(LEFT(D696,1)=\"6\",'RELEVE BANCAIRE'!$O$2,\"\")","v":""},{"$f":"'RELEVE BANCAIRE'!K697","v":0}]
[{"$f":"'RELEVE BANCAIRE'!G698","v":0},{"$f":"'RELEVE BANCAIRE'!A698","v":"00:00:00"},{"$f":"'RELEVE BANCAIRE'!H698","v":0},{"$f":"'RELEVE BANCAIRE'!J698","v":0},{"$f":"'RELEVE BANCAIRE'!D698*-1","v":0},{"$f":"'RELEVE BANCAIRE'!E698","v":0},{"$f":"'RELEVE BANCAIRE'!C698","v":0},{"$f":"IF(LEFT(D697,1)=\"6\",'RELEVE BANCAIRE'!$O$2,\"\")","v":""},{"$f":"'RELEVE BANCAIRE'!K698","v":0}]
[{"$f":"'RELEVE BANCAIRE'!G699","v":0},{"$f":"'RELEVE BANCAIRE'!A699","v":"00:00:00"},{"$f":"'RELEVE BANCAIRE'!H699","v":0},{"$f":"'RELEVE BANCAIRE'!J699","v":0},{"$f":"'RELEVE BANCAIRE'!D699*-1","v":0},{"$f":"'RELEVE BANCAIRE'!E699","v":0},{"$f":"'RELEVE BANCAIRE'!C699","v":0},{"$f":"IF(LEFT(D698,1)=\"6\",'RELEVE BANCAIRE'!$O$2,\"\")","v":""},{"$f":"'RELEVE BANCAIRE'!K699","v":0}]
[{"$f":"'RELEVE BANCAIRE'!G700","v":0},{"$f":"'RELEVE BANCAIRE'!A700","v":"00:00:00"},{"$f":"'RELEVE BANCAIRE'!H700","v":0},{"$f":"'RELEVE BANCAIRE'!J700","v":0},{"$f":"'RELEVE BANCAIRE'!D700*-1","v":0},{"$f":"'RELEVE BANCAIRE'!E700","v":0},{"$f":"'RELEVE BANCAIRE'!C700","v":0},{"$f":"IF(LEFT(D699,1)=\"6\",'RELEVE BANCAIRE'!$O$2,\"\")","v":""},{"$f":"'RELEVE BANCAIRE'!K700","v":0}]
[{"$f":"'RELEVE BANCAIRE'!G701","v":0},{"$f":"'RELEVE BANCAIRE'!A701","v":"00:00:00"},{"$f":"'RELEVE BANCAIRE'!H701","v":0},{"$f":"'RELEVE BANCAIRE'!J701","v":0},{"$f":"'RELEVE BANCAIRE'!D701*-1","v":0},{"$f":"'RELEVE BANCAIRE'!E701","v":0},{"$f":"'RELEVE BANCAIRE'!C701","v":0},{"$f":"IF(LEFT(D700,1)=\"6\",'RELEVE BANCAIRE'!$O$2,\"\")","v":""},{"$f":"'RELEVE BANCAIRE'!K701","v":0}]
[{"$f":"'RELEVE BANCAIRE'!G702","v":0},{"$f":"'RELEVE BANCAIRE'!A702","v":"00:00:00"},{"$f":"'RELEVE BANCAIRE'!H702","v":0},{"$f":"'RELEVE BANCAIRE'!J702","v":0},{"$f":"'RELEVE BANCAIRE'!D702*-1","v":0},{"$f":"'RELEVE BANCAIRE'!E702","v":0},{"$f":"'RELEVE BANCAIRE'!C702","v":0},{"$f":"IF(LEFT(D701,1)=\"6\",'RELEVE BANCAIRE'!$O$2,\"\")","v":""},{"$f":"'RELEVE BANCAIRE'!K702","v":0}]
[{"$f":"'RELEVE BANCAIRE'!G703","v":0},{"$f":"'RELEVE BANCAIRE'!A703","v":"00:00:00"},{"$f":"'RELEVE BANCAIRE'!H703","v":0},{"$f":"'RELEVE BANCAIRE'!J703","v":0},{"$f":"'RELEVE BANCAIRE'!D703*-1","v":0},{"$f":"'RELEVE BANCAIRE'!E703","v":0},{"$f":"'RELEVE BANCAIRE'!C703","v":0},{"$f":"IF(LEFT(D702,1)=\"6\",'RELEVE BANCAIRE'!$O$2,\"\")","v":""},{"$f":"'RELEVE BANCAIRE'!K703","v":0}]
[{"$f":"'RELEVE BANCAIRE'!G704","v":0},{"$f":"'RELEVE BANCAIRE'!A704","v":"00:00:00"},{"$f":"'RELEVE BANCAIRE'!H704","v":0},{"$f":"'RELEVE BANCAIRE'!J704","v":0},{"$f":"'RELEVE BANCAIRE'!D704*-1","v":0},{"$f":"'RELEVE BANCAIRE'!E704","v":0},{"$f":"'RELEVE BANCAIRE'!C704","v":0},{"$f":"IF(LEFT(D703,1)=\"6\",'RELEVE BANCAIRE'!$O$2,\"\")","v":""},{"$f":"'RELEVE BANCAIRE'!K704","v":0}]
[{"$f":"'RELEVE BANCAIRE'!G705","v":0},{"$f":"'RELEVE BANCAIRE'!A705","v":"00:00:00"},{"$f":"'RELEVE BANCAIRE'!H705","v":0},{"$f":"'RELEVE BANCAIRE'!J705","v":0},{"$f":"'RELEVE BANCAIRE'!D705*-1","v":0},{"$f":"'RELEVE BANCAIRE'!E705","v":0},{"$f":"'RELEVE BANCAIRE'!C705","v":0},{"$f":"IF(LEFT(D704,1)=\"6\",'RELEVE BANCAIRE'!$O$2,\"\")","v":""},{"$f":"'RELEVE BANCAIRE'!K705","v":0}]
[{"$f":"'RELEVE BANCAIRE'!G706","v":0},{"$f":"'RELEVE BANCAIRE'!A706","v":"00:00:00"},{"$f":"'RELEVE BANCAIRE'!H706","v":0},{"$f":"'RELEVE BANCAIRE'!J706","v":0},{"$f":"'RELEVE BANCAIRE'!D706*-1","v":0},{"$f":"'RELEVE BANCAIRE'!E706","v":0},{"$f":"'RELEVE BANCAIRE'!C706","v":0},{"$f":"IF(LEFT(D705,1)=\"6\",'RELEVE BANCAIRE'!$O$2,\"\")","v":""},{"$f":"'RELEVE BANCAIRE'!K706","v":0}]
[{"$f":"'RELEVE BANCAIRE'!G707","v":0},{"$f":"'RELEVE BANCAIRE'!A707","v":"00:00:00"},{"$f":"'RELEVE BANCAIRE'!H707","v":0},{"$f":"'RELEVE BANCAIRE'!J707","v":0},{"$f":"'RELEVE BANCAIRE'!D707*-1","v":0},{"$f":"'RELEVE BANCAIRE'!E707","v":0},{"$f":"'RELEVE BANCAIRE'!C707","v":0},{"$f":"IF(LEFT(D706,1)=\"6\",'RELEVE BANCAIRE'!$O$2,\"\")","v":""},{"$f":"'RELEVE BANCAIRE'!K707","v":0}]
[{"$f":"'RELEVE BANCAIRE'!G708","v":0},{"$f":"'RELEVE BANCAIRE'!A708","v":"00:00:00"},{"$f":"'RELEVE BANCAIRE'!H708","v":0},{"$f":"'RELEVE BANCAIRE'!J708","v":0},{"$f":"'RELEVE BANCAIRE'!D708*-1","v":0},{"$f":"'RELEVE BANCAIRE'!E708","v":0},{"$f":"'RELEVE BANCAIRE'!C708","v":0},{"$f":"IF(LEFT(D707,1)=\"6\",'RELEVE BANCAIRE'!$O$2,\"\")","v":""},{"$f":"'RELEVE BANCAIRE'!K708","v":0}]
[{"$f":"'RELEVE BANCAIRE'!G709","v":0},{"$f":"'RELEVE BANCAIRE'!A709","v":"00:00:00"},{"$f":"'RELEVE BANCAIRE'!H709","v":0},{"$f":"'RELEVE BANCAIRE'!J709","v":0},{"$f":"'RELEVE BANCAIRE'!D709*-1","v":0},{"$f":"'RELEVE BANCAIRE'!E709","v":0},{"$f":"'RELEVE BANCAIRE'!C709","v":0},{"$f":"IF(LEFT(D708,1)=\"6\",'RELEVE BANCAIRE'!$O$2,\"\")","v":""},{"$f":"'RELEVE BANCAIRE'!K709","v":0}]
[{"$f":"'RELEVE BANCAIRE'!G710","v":0},{"$f":"'RELEVE BANCAIRE'!A710","v":"00:00:00"},{"$f":"'RELEVE BANCAIRE'!H710","v":0},{"$f":"'RELEVE BANCAIRE'!J710","v":0},{"$f":"'RELEVE BANCAIRE'!D710*-1","v":0},{"$f":"'RELEVE BANCAIRE'!E710","v":0},{"$f":"'RELEVE BANCAIRE'!C710","v":0},{"$f":"IF(LEFT(D709,1)=\"6\",'RELEVE BANCAIRE'!$O$2,\"\")","v":""},{"$f":"'RELEVE BANCAIRE'!K710","v":0}]
[{"$f":"'RELEVE BANCAIRE'!G711","v":0},{"$f":"'RELEVE BANCAIRE'!A711","v":"00:00:00"},{"$f":"'RELEVE BANCAIRE'!H711","v":0},{"$f":"'RELEVE BANCAIRE'!J711","v":0},{"$f":"'RELEVE BANCAIRE'!D711*-1","v":0},{"$f":"'RELEVE BANCAIRE'!E711","v":0},{"$f":"'RELEVE BANCAIRE'!C711","v":0},{"$f":"IF(LEFT(D710,1)=\"6\",'RELEVE BANCAIRE'!$O$2,\"\")","v":""},{"$f":"'RELEVE BANCAIRE'!K711","v":0}]
[{"$f":"'RELEVE BANCAIRE'!G712","v":0},{"$f":"'RELEVE BANCAIRE'!A712","v":"00:00:00"},{"$f":"'RELEVE BANCAIRE'!H712","v":0},{"$f":"'RELEVE BANCAIRE'!J712","v":0},{"$f":"'RELEVE BANCAIRE'!D712*-1","v":0},{"$f":"'RELEVE BANCAIRE'!E712","v":0},{"$f":"'RELEVE BANCAIRE'!C712","v":0},{"$f":"IF(LEFT(D711,1)=\"6\",'RELEVE BANCAIRE'!$O$2,\"\")","v":""},{"$f":"'RELEVE BANCAIRE'!K712","v":0}]
[{"$f":"'RELEVE BANCAIRE'!G713","v":0},{"$f":"'RELEVE BANCAIRE'!A713","v":"00:00:00"},{"$f":"'RELEVE BANCAIRE'!H713","v":0},{"$f":"'RELEVE BANCAIRE'!J713","v":0},{"$f":"'RELEVE BANCAIRE'!D713*-1","v":0},{"$f":"'RELEVE BANCAIRE'!E713","v":0},{"$f":"'RELEVE BANCAIRE'!C713","v":0},{"$f":"IF(LEFT(D712,1)=\"6\",'RELEVE BANCAIRE'!$O$2,\"\")","v":""},{"$f":"'RELEVE BANCAIRE'!K713","v":0}]
[{"$f":"'RELEVE BANCAIRE'!G714","v":0},{"$f":"'RELEVE BANCAIRE'!A714","v":"00:00:00"},{"$f":"'RELEVE BANCAIRE'!H714","v":0},{"$f":"'RELEVE BANCAIRE'!J714","v":0},{"$f":"'RELEVE BANCAIRE'!D714*-1","v":0},{"$f":"'RELEVE BANCAIRE'!E714","v":0},{"$f":"'RELEVE BANCAIRE'!C714","v":0},{"$f":"IF(LEFT(D713,1)=\"6\",'RELEVE BANCAIRE'!$O$2,\"\")","v":""},{"$f":"'RELEVE BANCAIRE'!K714","v":0}]
[{"$f":"'RELEVE BANCAIRE'!G715","v":0},{"$f":"'RELEVE BANCAIRE'!A715","v":"00:00:00"},{"$f":"'RELEVE BANCAIRE'!H715","v":0},{"$f":"'RELEVE BANCAIRE'!J715","v":0},{"$f":"'RELEVE BANCAIRE'!D715*-1","v":0},{"$f":"'RELEVE BANCAIRE'!E715","v":0},{"$f":"'RELEVE BANCAIRE'!C715","v":0},{"$f":"IF(LEFT(D714,1)=\"6\",'RELEVE BANCAIRE'!$O$2,\"\")","v":""},{"$f":"'RELEVE BANCAIRE'!K715","v":0}]
[{"$f":"'RELEVE BANCAIRE'!G716","v":0},{"$f":"'RELEVE BANCAIRE'!A716","v":"00:00:00"},{"$f":"'RELEVE BANCAIRE'!H716","v":0},{"$f":"'RELEVE BANCAIRE'!J716","v":0},{"$f":"'RELEVE BANCAIRE'!D716*-1","v":0},{"$f":"'RELEVE BANCAIRE'!E716","v":0},{"$f":"'RELEVE BANCAIRE'!C716","v":0},{"$f":"IF(LEFT(D715,1)=\"6\",'RELEVE BANCAIRE'!$O$2,\"\")","v":""},{"$f":"'RELEVE BANCAIRE'!K716","v":0}]
[{"$f":"'RELEVE BANCAIRE'!G717","v":0},{"$f":"'RELEVE BANCAIRE'!A717","v":"00:00:00"},{"$f":"'RELEVE BANCAIRE'!H717","v":0},{"$f":"'RELEVE BANCAIRE'!J717","v":0},{"$f":"'RELEVE BANCAIRE'!D717*-1","v":0},{"$f":"'RELEVE BANCAIRE'!E717","v":0},{"$f":"'RELEVE BANCAIRE'!C717","v":0},{"$f":"IF(LEFT(D716,1)=\"6\",'RELEVE BANCAIRE'!$O$2,\"\")","v":""},{"$f":"'RELEVE BANCAIRE'!K717","v":0}]
[{"$f":"'RELEVE BANCAIRE'!G718","v":0},{"$f":"'RELEVE BANCAIRE'!A718","v":"00:00:00"},{"$f":"'RELEVE BANCAIRE'!H718","v":0},{"$f":"'RELEVE BANCAIRE'!J718","v":0},{"$f":"'RELEVE BANCAIRE'!D718*-1","v":0},{"$f":"'RELEVE BANCAIRE'!E718","v":0},{"$f":"'RELEVE BANCAIRE'!C718","v":0},{"$f":"IF(LEFT(D717,1)=\"6\",'RELEVE BANCAIRE'!$O$2,\"\")","v":""},{"$f":"'RELEVE BANCAIRE'!K718","v":0}]
[{"$f":"'RELEVE BANCAIRE'!G719","v":0},{"$f":"'RELEVE BANCAIRE'!A719","v":"00:00:00"},{"$f":"'RELEVE BANCAIRE'!H719","v":0},{"$f":"'RELEVE BANCAIRE'!J719","v":0},{"$f":"'RELEVE BANCAIRE'!D719*-1","v":0},{"$f":"'RELEVE BANCAIRE'!E719","v":0},{"$f":"'RELEVE BANCAIRE'!C719","v":0},{"$f":"IF(LEFT(D718,1)=\"6\",'RELEVE BANCAIRE'!$O$2,\"\")","v":""},{"$f":"'RELEVE BANCAIRE'!K719","v":0}]
[{"$f":"'RELEVE BANCAIRE'!G720","v":0},{"$f":"'RELEVE BANCAIRE'!A720","v":"00:00:00"},{"$f":"'RELEVE BANCAIRE'!H720","v":0},{"$f":"'RELEVE BANCAIRE'!J720","v":0},{"$f":"'RELEVE BANCAIRE'!D720*-1","v":0},{"$f":"'RELEVE BANCAIRE'!E720","v":0},{"$f":"'RELEVE BANCAIRE'!C720","v":0},{"$f":"IF(LEFT(D719,1)=\"6\",'RELEVE BANCAIRE'!$O$2,\"\")","v":""},{"$f":"'RELEVE BANCAIRE'!K720","v":0}]
[{"$f":"'RELEVE BANCAIRE'!G721","v":0},{"$f":"'RELEVE BANCAIRE'!A721","v":"00:00:00"},{"$f":"'RELEVE BANCAIRE'!H721","v":0},{"$f":"'RELEVE BANCAIRE'!J721","v":0},{"$f":"'RELEVE BANCAIRE'!D721*-1","v":0},{"$f":"'RELEVE BANCAIRE'!E721","v":0},{"$f":"'RELEVE BANCAIRE'!C721","v":0},{"$f":"IF(LEFT(D720,1)=\"6\",'RELEVE BANCAIRE'!$O$2,\"\")","v":""},{"$f":"'RELEVE BANCAIRE'!K721","v":0}]
[{"$f":"'RELEVE BANCAIRE'!G722","v":0},{"$f":"'RELEVE BANCAIRE'!A722","v":"00:00:00"},{"$f":"'RELEVE BANCAIRE'!H722","v":0},{"$f":"'RELEVE BANCAIRE'!J722","v":0},{"$f":"'RELEVE BANCAIRE'!D722*-1","v":0},{"$f":"'RELEVE BANCAIRE'!E722","v":0},{"$f":"'RELEVE BANCAIRE'!C722","v":0},{"$f":"IF(LEFT(D721,1)=\"6\",'RELEVE BANCAIRE'!$O$2,\"\")","v":""},{"$f":"'RELEVE BANCAIRE'!K722","v":0}]
[{"$f":"'RELEVE BANCAIRE'!G723","v":0},{"$f":"'RELEVE BANCAIRE'!A723","v":"00:00:00"},{"$f":"'RELEVE BANCAIRE'!H723","v":0},{"$f":"'RELEVE BANCAIRE'!J723","v":0},{"$f":"'RELEVE BANCAIRE'!D723*-1","v":0},{"$f":"'RELEVE BANCAIRE'!E723","v":0},{"$f":"'RELEVE BANCAIRE'!C723","v":0},{"$f":"IF(LEFT(D722,1)=\"6\",'RELEVE BANCAIRE'!$O$2,\"\")","v":""},{"$f":"'RELEVE BANCAIRE'!K723","v":0}]
[{"$f":"'RELEVE BANCAIRE'!G724","v":0},{"$f":"'RELEVE BANCAIRE'!A724","v":"00:00:00"},{"$f":"'RELEVE BANCAIRE'!H724","v":0},{"$f":"'RELEVE BANCAIRE'!J724","v":0},{"$f":"'RELEVE BANCAIRE'!D724*-1","v":0},{"$f":"'RELEVE BANCAIRE'!E724","v":0},{"$f":"'RELEVE BANCAIRE'!C724","v":0},{"$f":"IF(LEFT(D723,1)=\"6\",'RELEVE BANCAIRE'!$O$2,\"\")","v":""},{"$f":"'RELEVE BANCAIRE'!K724","v":0}]
[{"$f":"'RELEVE BANCAIRE'!G725","v":0},{"$f":"'RELEVE BANCAIRE'!A725","v":"00:00:00"},{"$f":"'RELEVE BANCAIRE'!H725","v":0},{"$f":"'RELEVE BANCAIRE'!J725","v":0},{"$f":"'RELEVE BANCAIRE'!D725*-1","v":0},{"$f":"'RELEVE BANCAIRE'!E725","v":0},{"$f":"'RELEVE BANCAIRE'!C725","v":0},{"$f":"IF(LEFT(D724,1)=\"6\",'RELEVE BANCAIRE'!$O$2,\"\")","v":""},{"$f":"'RELEVE BANCAIRE'!K725","v":0}]
[{"$f":"'RELEVE BANCAIRE'!G726","v":0},{"$f":"'RELEVE BANCAIRE'!A726","v":"00:00:00"},{"$f":"'RELEVE BANCAIRE'!H726","v":0},{"$f":"'RELEVE BANCAIRE'!J726","v":0},{"$f":"'RELEVE BANCAIRE'!D726*-1","v":0},{"$f":"'RELEVE BANCAIRE'!E726","v":0},{"$f":"'RELEVE BANCAIRE'!C726","v":0},{"$f":"IF(LEFT(D725,1)=\"6\",'RELEVE BANCAIRE'!$O$2,\"\")","v":""},{"$f":"'RELEVE BANCAIRE'!K726","v":0}]
[{"$f":"'RELEVE BANCAIRE'!G727","v":0},{"$f":"'RELEVE BANCAIRE'!A727","v":"00:00:00"},{"$f":"'RELEVE BANCAIRE'!H727","v":0},{"$f":"'RELEVE BANCAIRE'!J727","v":0},{"$f":"'RELEVE BANCAIRE'!D727*-1","v":0},{"$f":"'RELEVE BANCAIRE'!E727","v":0},{"$f":"'RELEVE BANCAIRE'!C727","v":0},{"$f":"IF(LEFT(D726,1)=\"6\",'RELEVE BANCAIRE'!$O$2,\"\")","v":""},{"$f":"'RELEVE BANCAIRE'!K727","v":0}]
[{"$f":"'RELEVE BANCAIRE'!G728","v":0},{"$f":"'RELEVE BANCAIRE'!A728","v":"00:00:00"},{"$f":"'RELEVE BANCAIRE'!H728","v":0},{"$f":"'RELEVE BANCAIRE'!J728","v":0},{"$f":"'RELEVE BANCAIRE'!D728*-1","v":0},{"$f":"'RELEVE BANCAIRE'!E728","v":0},{"$f":"'RELEVE BANCAIRE'!C728","v":0},{"$f":"IF(LEFT(D727,1)=\"6\",'RELEVE BANCAIRE'!$O$2,\"\")","v":""},{"$f":"'RELEVE BANCAIRE'!K728","v":0}]
[{"$f":"'RELEVE BANCAIRE'!G729","v":0},{"$f":"'RELEVE BANCAIRE'!A729","v":"00:00:00"},{"$f":"'RELEVE BANCAIRE'!H729","v":0},{"$f":"'RELEVE BANCAIRE'!J729","v":0},{"$f":"'RELEVE BANCAIRE'!D729*-1","v":0},{"$f":"'RELEVE BANCAIRE'!E729","v":0},{"$f":"'RELEVE BANCAIRE'!C729","v":0},{"$f":"IF(LEFT(D728,1)=\"6\",'RELEVE BANCAIRE'!$O$2,\"\")","v":""},{"$f":"'RELEVE BANCAIRE'!K729","v":0}]
[{"$f":"'RELEVE BANCAIRE'!G730","v":0},{"$f":"'RELEVE BANCAIRE'!A730","v":"00:00:00"},{"$f":"'RELEVE BANCAIRE'!H730","v":0},{"$f":"'RELEVE BANCAIRE'!J730","v":0},{"$f":"'RELEVE BANCAIRE'!D730*-1","v":0},{"$f":"'RELEVE BANCAIRE'!E730","v":0},{"$f":"'RELEVE BANCAIRE'!C730","v":0},{"$f":"IF(LEFT(D729,1)=\"6\",'RELEVE BANCAIRE'!$O$2,\"\")","v":""},{"$f":"'RELEVE BANCAIRE'!K730","v":0}]
[{"$f":"'RELEVE BANCAIRE'!G731","v":0},{"$f":"'RELEVE BANCAIRE'!A731","v":"00:00:00"},{"$f":"'RELEVE BANCAIRE'!H731","v":0},{"$f":"'RELEVE BANCAIRE'!J731","v":0},{"$f":"'RELEVE BANCAIRE'!D731*-1","v":0},{"$f":"'RELEVE BANCAIRE'!E731","v":0},{"$f":"'RELEVE BANCAIRE'!C731","v":0},{"$f":"IF(LEFT(D730,1)=\"6\",'RELEVE BANCAIRE'!$O$2,\"\")","v":""},{"$f":"'RELEVE BANCAIRE'!K731","v":0}]
[{"$f":"'RELEVE BANCAIRE'!G732","v":0},{"$f":"'RELEVE BANCAIRE'!A732","v":"00:00:00"},{"$f":"'RELEVE BANCAIRE'!H732","v":0},{"$f":"'RELEVE BANCAIRE'!J732","v":0},{"$f":"'RELEVE BANCAIRE'!D732*-1","v":0},{"$f":"'RELEVE BANCAIRE'!E732","v":0},{"$f":"'RELEVE BANCAIRE'!C732","v":0},{"$f":"IF(LEFT(D731,1)=\"6\",'RELEVE BANCAIRE'!$O$2,\"\")","v":""},{"$f":"'RELEVE BANCAIRE'!K732","v":0}]
[{"$f":"'RELEVE BANCAIRE'!G733","v":0},{"$f":"'RELEVE BANCAIRE'!A733","v":"00:00:00"},{"$f":"'RELEVE BANCAIRE'!H733","v":0},{"$f":"'RELEVE BANCAIRE'!J733","v":0},{"$f":"'RELEVE BANCAIRE'!D733*-1","v":0},{"$f":"'RELEVE BANCAIRE'!E733","v":0},{"$f":"'RELEVE BANCAIRE'!C733","v":0},{"$f":"IF(LEFT(D732,1)=\"6\",'RELEVE BANCAIRE'!$O$2,\"\")","v":""},{"$f":"'RELEVE BANCAIRE'!K733","v":0}]
[{"$f":"'RELEVE BANCAIRE'!G734","v":0},{"$f":"'RELEVE BANCAIRE'!A734","v":"00:00:00"},{"$f":"'RELEVE BANCAIRE'!H734","v":0},{"$f":"'RELEVE BANCAIRE'!J734","v":0},{"$f":"'RELEVE BANCAIRE'!D734*-1","v":0},{"$f":"'RELEVE BANCAIRE'!E734","v":0},{"$f":"'RELEVE BANCAIRE'!C734","v":0},{"$f":"IF(LEFT(D733,1)=\"6\",'RELEVE BANCAIRE'!$O$2,\"\")","v":""},{"$f":"'RELEVE BANCAIRE'!K734","v":0}]
[{"$f":"'RELEVE BANCAIRE'!G735","v":0},{"$f":"'RELEVE BANCAIRE'!A735","v":"00:00:00"},{"$f":"'RELEVE BANCAIRE'!H735","v":0},{"$f":"'RELEVE BANCAIRE'!J735","v":0},{"$f":"'RELEVE BANCAIRE'!D735*-1","v":0},{"$f":"'RELEVE BANCAIRE'!E735","v":0},{"$f":"'RELEVE BANCAIRE'!C735","v":0},{"$f":"IF(LEFT(D734,1)=\"6\",'RELEVE BANCAIRE'!$O$2,\"\")","v":""},{"$f":"'RELEVE BANCAIRE'!K735","v":0}]
[{"$f":"'RELEVE BANCAIRE'!G736","v":0},{"$f":"'RELEVE BANCAIRE'!A736","v":"00:00:00"},{"$f":"'RELEVE BANCAIRE'!H736","v":0},{"$f":"'RELEVE BANCAIRE'!J736","v":0},{"$f":"'RELEVE BANCAIRE'!D736*-1","v":0},{"$f":"'RELEVE BANCAIRE'!E736","v":0},{"$f":"'RELEVE BANCAIRE'!C736","v":0},{"$f":"IF(LEFT(D735,1)=\"6\",'RELEVE BANCAIRE'!$O$2,\"\")","v":""},{"$f":"'RELEVE BANCAIRE'!K736","v":0}]
[{"$f":"'RELEVE BANCAIRE'!G737","v":0},{"$f":"'RELEVE BANCAIRE'!A737","v":"00:00:00"},{"$f":"'RELEVE BANCAIRE'!H737","v":0},{"$f":"'RELEVE BANCAIRE'!J737","v":0},{"$f":"'RELEVE BANCAIRE'!D737*-1","v":0},{"$f":"'RELEVE BANCAIRE'!E737","v":0},{"$f":"'RELEVE BANCAIRE'!C737","v":0},{"$f":"IF(LEFT(D736,1)=\"6\",'RELEVE BANCAIRE'!$O$2,\"\")","v":""},{"$f":"'RELEVE BANCAIRE'!K737","v":0}]
[{"$f":"'RELEVE BANCAIRE'!G738","v":0},{"$f":"'RELEVE BANCAIRE'!A738","v":"00:00:00"},{"$f":"'RELEVE BANCAIRE'!H738","v":0},{"$f":"'RELEVE BANCAIRE'!J738","v":0},{"$f":"'RELEVE BANCAIRE'!D738*-1","v":0},{"$f":"'RELEVE BANCAIRE'!E738","v":0},{"$f":"'RELEVE BANCAIRE'!C738","v":0},{"$f":"IF(LEFT(D737,1)=\"6\",'RELEVE BANCAIRE'!$O$2,\"\")","v":""},{"$f":"'RELEVE BANCAIRE'!K738","v":0}]
[{"$f":"'RELEVE BANCAIRE'!G739","v":0},{"$f":"'RELEVE BANCAIRE'!A739","v":"00:00:00"},{"$f":"'RELEVE BANCAIRE'!H739","v":0},{"$f":"'RELEVE BANCAIRE'!J739","v":0},{"$f":"'RELEVE BANCAIRE'!D739*-1","v":0},{"$f":"'RELEVE BANCAIRE'!E739","v":0},{"$f":"'RELEVE BANCAIRE'!C739","v":0},{"$f":"IF(LEFT(D738,1)=\"6\",'RELEVE BANCAIRE'!$O$2,\"\")","v":""},{"$f":"'RELEVE BANCAIRE'!K739","v":0}]
[{"$f":"'RELEVE BANCAIRE'!G740","v":0},{"$f":"'RELEVE BANCAIRE'!A740","v":"00:00:00"},{"$f":"'RELEVE BANCAIRE'!H740","v":0},{"$f":"'RELEVE BANCAIRE'!J740","v":0},{"$f":"'RELEVE BANCAIRE'!D740*-1","v":0},{"$f":"'RELEVE BANCAIRE'!E740","v":0},{"$f":"'RELEVE BANCAIRE'!C740","v":0},{"$f":"IF(LEFT(D739,1)=\"6\",'RELEVE BANCAIRE'!$O$2,\"\")","v":""},{"$f":"'RELEVE BANCAIRE'!K740","v":0}]
[{"$f":"'RELEVE BANCAIRE'!G741","v":0},{"$f":"'RELEVE BANCAIRE'!A741","v":"00:00:00"},{"$f":"'RELEVE BANCAIRE'!H741","v":0},{"$f":"'RELEVE BANCAIRE'!J741","v":0},{"$f":"'RELEVE BANCAIRE'!D741*-1","v":0},{"$f":"'RELEVE BANCAIRE'!E741","v":0},{"$f":"'RELEVE BANCAIRE'!C741","v":0},{"$f":"IF(LEFT(D740,1)=\"6\",'RELEVE BANCAIRE'!$O$2,\"\")","v":""},{"$f":"'RELEVE BANCAIRE'!K741","v":0}]
[{"$f":"'RELEVE BANCAIRE'!G742","v":0},{"$f":"'RELEVE BANCAIRE'!A742","v":"00:00:00"},{"$f":"'RELEVE BANCAIRE'!H742","v":0},{"$f":"'RELEVE BANCAIRE'!J742","v":0},{"$f":"'RELEVE BANCAIRE'!D742*-1","v":0},{"$f":"'RELEVE BANCAIRE'!E742","v":0},{"$f":"'RELEVE BANCAIRE'!C742","v":0},{"$f":"IF(LEFT(D741,1)=\"6\",'RELEVE BANCAIRE'!$O$2,\"\")","v":""},{"$f":"'RELEVE BANCAIRE'!K742","v":0}]
[{"$f":"'RELEVE BANCAIRE'!G743","v":0},{"$f":"'RELEVE BANCAIRE'!A743","v":"00:00:00"},{"$f":"'RELEVE BANCAIRE'!H743","v":0},{"$f":"'RELEVE BANCAIRE'!J743","v":0},{"$f":"'RELEVE BANCAIRE'!D743*-1","v":0},{"$f":"'RELEVE BANCAIRE'!E743","v":0},{"$f":"'RELEVE BANCAIRE'!C743","v":0},{"$f":"IF(LEFT(D742,1)=\"6\",'RELEVE BANCAIRE'!$O$2,\"\")","v":""},{"$f":"'RELEVE BANCAIRE'!K743","v":0}]
[{"$f":"'RELEVE BANCAIRE'!G744","v":0},{"$f":"'RELEVE BANCAIRE'!A744","v":"00:00:00"},{"$f":"'RELEVE BANCAIRE'!H744","v":0},{"$f":"'RELEVE BANCAIRE'!J744","v":0},{"$f":"'RELEVE BANCAIRE'!D744*-1","v":0},{"$f":"'RELEVE BANCAIRE'!E744","v":0},{"$f":"'RELEVE BANCAIRE'!C744","v":0},{"$f":"IF(LEFT(D743,1)=\"6\",'RELEVE BANCAIRE'!$O$2,\"\")","v":""},{"$f":"'RELEVE BANCAIRE'!K744","v":0}]
[{"$f":"'RELEVE BANCAIRE'!G745","v":0},{"$f":"'RELEVE BANCAIRE'!A745","v":"00:00:00"},{"$f":"'RELEVE BANCAIRE'!H745","v":0},{"$f":"'RELEVE BANCAIRE'!J745","v":0},{"$f":"'RELEVE BANCAIRE'!D745*-1","v":0},{"$f":"'RELEVE BANCAIRE'!E745","v":0},{"$f":"'RELEVE BANCAIRE'!C745","v":0},{"$f":"IF(LEFT(D744,1)=\"6\",'RELEVE BANCAIRE'!$O$2,\"\")","v":""},{"$f":"'RELEVE BANCAIRE'!K745","v":0}]
[{"$f":"'RELEVE BANCAIRE'!G746","v":0},{"$f":"'RELEVE BANCAIRE'!A746","v":"00:00:00"},{"$f":"'RELEVE BANCAIRE'!H746","v":0},{"$f":"'RELEVE BANCAIRE'!J746","v":0},{"$f":"'RELEVE BANCAIRE'!D746*-1","v":0},{"$f":"'RELEVE BANCAIRE'!E746","v":0},{"$f":"'RELEVE BANCAIRE'!C746","v":0},{"$f":"IF(LEFT(D745,1)=\"6\",'RELEVE BANCAIRE'!$O$2,\"\")","v":""},{"$f":"'RELEVE BANCAIRE'!K746","v":0}]
[{"$f":"'RELEVE BANCAIRE'!G747","v":0},{"$f":"'RELEVE BANCAIRE'!A747","v":"00:00:00"},{"$f":"'RELEVE BANCAIRE'!H747","v":0},{"$f":"'RELEVE BANCAIRE'!J747","v":0},{"$f":"'RELEVE BANCAIRE'!D747*-1","v":0},{"$f":"'RELEVE BANCAIRE'!E747","v":0},{"$f":"'RELEVE BANCAIRE'!C747","v":0},{"$f":"IF(LEFT(D746,1)=\"6\",'RELEVE BANCAIRE'!$O$2,\"\")","v":""},{"$f":"'RELEVE BANCAIRE'!K747","v":0}]
[{"$f":"'RELEVE BANCAIRE'!G748","v":0},{"$f":"'RELEVE BANCAIRE'!A748","v":"00:00:00"},{"$f":"'RELEVE BANCAIRE'!H748","v":0},{"$f":"'RELEVE BANCAIRE'!J748","v":0},{"$f":"'RELEVE BANCAIRE'!D748*-1","v":0},{"$f":"'RELEVE BANCAIRE'!E748","v":0},{"$f":"'RELEVE BANCAIRE'!C748","v":0},{"$f":"IF(LEFT(D747,1)=\"6\",'RELEVE BANCAIRE'!$O$2,\"\")","v":""},{"$f":"'RELEVE BANCAIRE'!K748","v":0}]
[{"$f":"'RELEVE BANCAIRE'!G749","v":0},{"$f":"'RELEVE BANCAIRE'!A749","v":"00:00:00"},{"$f":"'RELEVE BANCAIRE'!H749","v":0},{"$f":"'RELEVE BANCAIRE'!J749","v":0},{"$f":"'RELEVE BANCAIRE'!D749*-1","v":0},{"$f":"'RELEVE BANCAIRE'!E749","v":0},{"$f":"'RELEVE BANCAIRE'!C749","v":0},{"$f":"IF(LEFT(D748,1)=\"6\",'RELEVE BANCAIRE'!$O$2,\"\")","v":""},{"$f":"'RELEVE BANCAIRE'!K749","v":0}]
[{"$f":"'RELEVE BANCAIRE'!G750","v":0},{"$f":"'RELEVE BANCAIRE'!A750","v":"00:00:00"},{"$f":"'RELEVE BANCAIRE'!H750","v":0},{"$f":"'RELEVE BANCAIRE'!J750","v":0},{"$f":"'RELEVE BANCAIRE'!D750*-1","v":0},{"$f":"'RELEVE BANCAIRE'!E750","v":0},{"$f":"'RELEVE BANCAIRE'!C750","v":0},{"$f":"IF(LEFT(D749,1)=\"6\",'RELEVE BANCAIRE'!$O$2,\"\")","v":""},{"$f":"'RELEVE BANCAIRE'!K750","v":0}]
[{"$f":"'RELEVE BANCAIRE'!G751","v":0},{"$f":"'RELEVE BANCAIRE'!A751","v":"00:00:00"},{"$f":"'RELEVE BANCAIRE'!H751","v":0},{"$f":"'RELEVE BANCAIRE'!J751","v":0},{"$f":"'RELEVE BANCAIRE'!D751*-1","v":0},{"$f":"'RELEVE BANCAIRE'!E751","v":0},{"$f":"'RELEVE BANCAIRE'!C751","v":0},{"$f":"IF(LEFT(D750,1)=\"6\",'RELEVE BANCAIRE'!$O$2,\"\")","v":""},{"$f":"'RELEVE BANCAIRE'!K751","v":0}]
[{"$f":"'RELEVE BANCAIRE'!G752","v":0},{"$f":"'RELEVE BANCAIRE'!A752","v":"00:00:00"},{"$f":"'RELEVE BANCAIRE'!H752","v":0},{"$f":"'RELEVE BANCAIRE'!J752","v":0},{"$f":"'RELEVE BANCAIRE'!D752*-1","v":0},{"$f":"'RELEVE BANCAIRE'!E752","v":0},{"$f":"'RELEVE BANCAIRE'!C752","v":0},{"$f":"IF(LEFT(D751,1)=\"6\",'RELEVE BANCAIRE'!$O$2,\"\")","v":""},{"$f":"'RELEVE BANCAIRE'!K752","v":0}]
[{"$f":"'RELEVE BANCAIRE'!G753","v":0},{"$f":"'RELEVE BANCAIRE'!A753","v":"00:00:00"},{"$f":"'RELEVE BANCAIRE'!H753","v":0},{"$f":"'RELEVE BANCAIRE'!J753","v":0},{"$f":"'RELEVE BANCAIRE'!D753*-1","v":0},{"$f":"'RELEVE BANCAIRE'!E753","v":0},{"$f":"'RELEVE BANCAIRE'!C753","v":0},{"$f":"IF(LEFT(D752,1)=\"6\",'RELEVE BANCAIRE'!$O$2,\"\")","v":""},{"$f":"'RELEVE BANCAIRE'!K753","v":0}]
[{"$f":"'RELEVE BANCAIRE'!G754","v":0},{"$f":"'RELEVE BANCAIRE'!A754","v":"00:00:00"},{"$f":"'RELEVE BANCAIRE'!H754","v":0},{"$f":"'RELEVE BANCAIRE'!J754","v":0},{"$f":"'RELEVE BANCAIRE'!D754*-1","v":0},{"$f":"'RELEVE BANCAIRE'!E754","v":0},{"$f":"'RELEVE BANCAIRE'!C754","v":0},{"$f":"IF(LEFT(D753,1)=\"6\",'RELEVE BANCAIRE'!$O$2,\"\")","v":""},{"$f":"'RELEVE BANCAIRE'!K754","v":0}]
[{"$f":"'RELEVE BANCAIRE'!G755","v":0},{"$f":"'RELEVE BANCAIRE'!A755","v":"00:00:00"},{"$f":"'RELEVE BANCAIRE'!H755","v":0},{"$f":"'RELEVE BANCAIRE'!J755","v":0},{"$f":"'RELEVE BANCAIRE'!D755*-1","v":0},{"$f":"'RELEVE BANCAIRE'!E755","v":0},{"$f":"'RELEVE BANCAIRE'!C755","v":0},{"$f":"IF(LEFT(D754,1)=\"6\",'RELEVE BANCAIRE'!$O$2,\"\")","v":""},{"$f":"'RELEVE BANCAIRE'!K755","v":0}]
[{"$f":"'RELEVE BANCAIRE'!G756","v":0},{"$f":"'RELEVE BANCAIRE'!A756","v":"00:00:00"},{"$f":"'RELEVE BANCAIRE'!H756","v":0},{"$f":"'RELEVE BANCAIRE'!J756","v":0},{"$f":"'RELEVE BANCAIRE'!D756*-1","v":0},{"$f":"'RELEVE BANCAIRE'!E756","v":0},{"$f":"'RELEVE BANCAIRE'!C756","v":0},{"$f":"IF(LEFT(D755,1)=\"6\",'RELEVE BANCAIRE'!$O$2,\"\")","v":""},{"$f":"'RELEVE BANCAIRE'!K756","v":0}]
[{"$f":"'RELEVE BANCAIRE'!G757","v":0},{"$f":"'RELEVE BANCAIRE'!A757","v":"00:00:00"},{"$f":"'RELEVE BANCAIRE'!H757","v":0},{"$f":"'RELEVE BANCAIRE'!J757","v":0},{"$f":"'RELEVE BANCAIRE'!D757*-1","v":0},{"$f":"'RELEVE BANCAIRE'!E757","v":0},{"$f":"'RELEVE BANCAIRE'!C757","v":0},{"$f":"IF(LEFT(D756,1)=\"6\",'RELEVE BANCAIRE'!$O$2,\"\")","v":""},{"$f":"'RELEVE BANCAIRE'!K757","v":0}]
[{"$f":"'RELEVE BANCAIRE'!G758","v":0},{"$f":"'RELEVE BANCAIRE'!A758","v":"00:00:00"},{"$f":"'RELEVE BANCAIRE'!H758","v":0},{"$f":"'RELEVE BANCAIRE'!J758","v":0},{"$f":"'RELEVE BANCAIRE'!D758*-1","v":0},{"$f":"'RELEVE BANCAIRE'!E758","v":0},{"$f":"'RELEVE BANCAIRE'!C758","v":0},{"$f":"IF(LEFT(D757,1)=\"6\",'RELEVE BANCAIRE'!$O$2,\"\")","v":""},{"$f":"'RELEVE BANCAIRE'!K758","v":0}]
[{"$f":"'RELEVE BANCAIRE'!G759","v":0},{"$f":"'RELEVE BANCAIRE'!A759","v":"00:00:00"},{"$f":"'RELEVE BANCAIRE'!H759","v":0},{"$f":"'RELEVE BANCAIRE'!J759","v":0},{"$f":"'RELEVE BANCAIRE'!D759*-1","v":0},{"$f":"'RELEVE BANCAIRE'!E759","v":0},{"$f":"'RELEVE BANCAIRE'!C759","v":0},{"$f":"IF(LEFT(D758,1)=\"6\",'RELEVE BANCAIRE'!$O$2,\"\")","v":""},{"$f":"'RELEVE BANCAIRE'!K759","v":0}]
[{"$f":"'RELEVE BANCAIRE'!G760","v":0},{"$f":"'RELEVE BANCAIRE'!A760","v":"00:00:00"},{"$f":"'RELEVE BANCAIRE'!H760","v":0},{"$f":"'RELEVE BANCAIRE'!J760","v":0},{"$f":"'RELEVE BANCAIRE'!D760*-1","v":0},{"$f":"'RELEVE BANCAIRE'!E760","v":0},{"$f":"'RELEVE BANCAIRE'!C760","v":0},{"$f":"IF(LEFT(D759,1)=\"6\",'RELEVE BANCAIRE'!$O$2,\"\")","v":""},{"$f":"'RELEVE BANCAIRE'!K760","v":0}]
[{"$f":"'RELEVE BANCAIRE'!G761","v":0},{"$f":"'RELEVE BANCAIRE'!A761","v":"00:00:00"},{"$f":"'RELEVE BANCAIRE'!H761","v":0},{"$f":"'RELEVE BANCAIRE'!J761","v":0},{"$f":"'RELEVE BANCAIRE'!D761*-1","v":0},{"$f":"'RELEVE BANCAIRE'!E761","v":0},{"$f":"'RELEVE BANCAIRE'!C761","v":0},{"$f":"IF(LEFT(D760,1)=\"6\",'RELEVE BANCAIRE'!$O$2,\"\")","v":""},{"$f":"'RELEVE BANCAIRE'!K761","v":0}]
[{"$f":"'RELEVE BANCAIRE'!G762","v":0},{"$f":"'RELEVE BANCAIRE'!A762","v":"00:00:00"},{"$f":"'RELEVE BANCAIRE'!H762","v":0},{"$f":"'RELEVE BANCAIRE'!J762","v":0},{"$f":"'RELEVE BANCAIRE'!D762*-1","v":0},{"$f":"'RELEVE BANCAIRE'!E762","v":0},{"$f":"'RELEVE BANCAIRE'!C762","v":0},{"$f":"IF(LEFT(D761,1)=\"6\",'RELEVE BANCAIRE'!$O$2,\"\")","v":""},{"$f":"'RELEVE BANCAIRE'!K762","v":0}]
[{"$f":"'RELEVE BANCAIRE'!G763","v":0},{"$f":"'RELEVE BANCAIRE'!A763","v":"00:00:00"},{"$f":"'RELEVE BANCAIRE'!H763","v":0},{"$f":"'RELEVE BANCAIRE'!J763","v":0},{"$f":"'RELEVE BANCAIRE'!D763*-1","v":0},{"$f":"'RELEVE BANCAIRE'!E763","v":0},{"$f":"'RELEVE BANCAIRE'!C763","v":0},{"$f":"IF(LEFT(D762,1)=\"6\",'RELEVE BANCAIRE'!$O$2,\"\")","v":""},{"$f":"'RELEVE BANCAIRE'!K763","v":0}]
[{"$f":"'RELEVE BANCAIRE'!G764","v":0},{"$f":"'RELEVE BANCAIRE'!A764","v":"00:00:00"},{"$f":"'RELEVE BANCAIRE'!H764","v":0},{"$f":"'RELEVE BANCAIRE'!J764","v":0},{"$f":"'RELEVE BANCAIRE'!D764*-1","v":0},{"$f":"'RELEVE BANCAIRE'!E764","v":0},{"$f":"'RELEVE BANCAIRE'!C764","v":0},{"$f":"IF(LEFT(D763,1)=\"6\",'RELEVE BANCAIRE'!$O$2,\"\")","v":""},{"$f":"'RELEVE BANCAIRE'!K764","v":0}]
[{"$f":"'RELEVE BANCAIRE'!G765","v":0},{"$f":"'RELEVE BANCAIRE'!A765","v":"00:00:00"},{"$f":"'RELEVE BANCAIRE'!H765","v":0},{"$f":"'RELEVE BANCAIRE'!J765","v":0},{"$f":"'RELEVE BANCAIRE'!D765*-1","v":0},{"$f":"'RELEVE BANCAIRE'!E765","v":0},{"$f":"'RELEVE BANCAIRE'!C765","v":0},{"$f":"IF(LEFT(D764,1)=\"6\",'RELEVE BANCAIRE'!$O$2,\"\")","v":""},{"$f":"'RELEVE BANCAIRE'!K765","v":0}]
[{"$f":"'RELEVE BANCAIRE'!G766","v":0},{"$f":"'RELEVE BANCAIRE'!A766","v":"00:00:00"},{"$f":"'RELEVE BANCAIRE'!H766","v":0},{"$f":"'RELEVE BANCAIRE'!J766","v":0},{"$f":"'RELEVE BANCAIRE'!D766*-1","v":0},{"$f":"'RELEVE BANCAIRE'!E766","v":0},{"$f":"'RELEVE BANCAIRE'!C766","v":0},{"$f":"IF(LEFT(D765,1)=\"6\",'RELEVE BANCAIRE'!$O$2,\"\")","v":""},{"$f":"'RELEVE BANCAIRE'!K766","v":0}]
[{"$f":"'RELEVE BANCAIRE'!G767","v":0},{"$f":"'RELEVE BANCAIRE'!A767","v":"00:00:00"},{"$f":"'RELEVE BANCAIRE'!H767","v":0},{"$f":"'RELEVE BANCAIRE'!J767","v":0},{"$f":"'RELEVE BANCAIRE'!D767*-1","v":0},{"$f":"'RELEVE BANCAIRE'!E767","v":0},{"$f":"'RELEVE BANCAIRE'!C767","v":0},{"$f":"IF(LEFT(D766,1)=\"6\",'RELEVE BANCAIRE'!$O$2,\"\")","v":""},{"$f":"'RELEVE BANCAIRE'!K767","v":0}]
[{"$f":"'RELEVE BANCAIRE'!G768","v":0},{"$f":"'RELEVE BANCAIRE'!A768","v":"00:00:00"},{"$f":"'RELEVE BANCAIRE'!H768","v":0},{"$f":"'RELEVE BANCAIRE'!J768","v":0},{"$f":"'RELEVE BANCAIRE'!D768*-1","v":0},{"$f":"'RELEVE BANCAIRE'!E768","v":0},{"$f":"'RELEVE BANCAIRE'!C768","v":0},{"$f":"IF(LEFT(D767,1)=\"6\",'RELEVE BANCAIRE'!$O$2,\"\")","v":""},{"$f":"'RELEVE BANCAIRE'!K768","v":0}]
[{"$f":"'RELEVE BANCAIRE'!G769","v":0},{"$f":"'RELEVE BANCAIRE'!A769","v":"00:00:00"},{"$f":"'RELEVE BANCAIRE'!H769","v":0},{"$f":"'RELEVE BANCAIRE'!J769","v":0},{"$f":"'RELEVE BANCAIRE'!D769*-1","v":0},{"$f":"'RELEVE BANCAIRE'!E769","v":0},{"$f":"'RELEVE BANCAIRE'!C769","v":0},{"$f":"IF(LEFT(D768,1)=\"6\",'RELEVE BANCAIRE'!$O$2,\"\")","v":""},{"$f":"'RELEVE BANCAIRE'!K769","v":0}]
[{"$f":"'RELEVE BANCAIRE'!G770","v":0},{"$f":"'RELEVE BANCAIRE'!A770","v":"00:00:00"},{"$f":"'RELEVE BANCAIRE'!H770","v":0},{"$f":"'RELEVE BANCAIRE'!J770","v":0},{"$f":"'RELEVE BANCAIRE'!D770*-1","v":0},{"$f":"'RELEVE BANCAIRE'!E770","v":0},{"$f":"'RELEVE BANCAIRE'!C770","v":0},{"$f":"IF(LEFT(D769,1)=\"6\",'RELEVE BANCAIRE'!$O$2,\"\")","v":""},{"$f":"'RELEVE BANCAIRE'!K770","v":0}]
[{"$f":"'RELEVE BANCAIRE'!G771","v":0},{"$f":"'RELEVE BANCAIRE'!A771","v":"00:00:00"},{"$f":"'RELEVE BANCAIRE'!H771","v":0},{"$f":"'RELEVE BANCAIRE'!J771","v":0},{"$f":"'RELEVE BANCAIRE'!D771*-1","v":0},{"$f":"'RELEVE BANCAIRE'!E771","v":0},{"$f":"'RELEVE BANCAIRE'!C771","v":0},{"$f":"IF(LEFT(D770,1)=\"6\",'RELEVE BANCAIRE'!$O$2,\"\")","v":""},{"$f":"'RELEVE BANCAIRE'!K771","v":0}]
[{"$f":"'RELEVE BANCAIRE'!G772","v":0},{"$f":"'RELEVE BANCAIRE'!A772","v":"00:00:00"},{"$f":"'RELEVE BANCAIRE'!H772","v":0},{"$f":"'RELEVE BANCAIRE'!J772","v":0},{"$f":"'RELEVE BANCAIRE'!D772*-1","v":0},{"$f":"'RELEVE BANCAIRE'!E772","v":0},{"$f":"'RELEVE BANCAIRE'!C772","v":0},{"$f":"IF(LEFT(D771,1)=\"6\",'RELEVE BANCAIRE'!$O$2,\"\")","v":""},{"$f":"'RELEVE BANCAIRE'!K772","v":0}]
[{"$f":"'RELEVE BANCAIRE'!G773","v":0},{"$f":"'RELEVE BANCAIRE'!A773","v":"00:00:00"},{"$f":"'RELEVE BANCAIRE'!H773","v":0},{"$f":"'RELEVE BANCAIRE'!J773","v":0},{"$f":"'RELEVE BANCAIRE'!D773*-1","v":0},{"$f":"'RELEVE BANCAIRE'!E773","v":0},{"$f":"'RELEVE BANCAIRE'!C773","v":0},{"$f":"IF(LEFT(D772,1)=\"6\",'RELEVE BANCAIRE'!$O$2,\"\")","v":""},{"$f":"'RELEVE BANCAIRE'!K773","v":0}]
[{"$f":"'RELEVE BANCAIRE'!G774","v":0},{"$f":"'RELEVE BANCAIRE'!A774","v":"00:00:00"},{"$f":"'RELEVE BANCAIRE'!H774","v":0},{"$f":"'RELEVE BANCAIRE'!J774","v":0},{"$f":"'RELEVE BANCAIRE'!D774*-1","v":0},{"$f":"'RELEVE BANCAIRE'!E774","v":0},{"$f":"'RELEVE BANCAIRE'!C774","v":0},{"$f":"IF(LEFT(D773,1)=\"6\",'RELEVE BANCAIRE'!$O$2,\"\")","v":""},{"$f":"'RELEVE BANCAIRE'!K774","v":0}]
[{"$f":"'RELEVE BANCAIRE'!G775","v":0},{"$f":"'RELEVE BANCAIRE'!A775","v":"00:00:00"},{"$f":"'RELEVE BANCAIRE'!H775","v":0},{"$f":"'RELEVE BANCAIRE'!J775","v":0},{"$f":"'RELEVE BANCAIRE'!D775*-1","v":0},{"$f":"'RELEVE BANCAIRE'!E775","v":0},{"$f":"'RELEVE BANCAIRE'!C775","v":0},{"$f":"IF(LEFT(D774,1)=\"6\",'RELEVE BANCAIRE'!$O$2,\"\")","v":""},{"$f":"'RELEVE BANCAIRE'!K775","v":0}]
[{"$f":"'RELEVE BANCAIRE'!G776","v":0},{"$f":"'RELEVE BANCAIRE'!A776","v":"00:00:00"},{"$f":"'RELEVE BANCAIRE'!H776","v":0},{"$f":"'RELEVE BANCAIRE'!J776","v":0},{"$f":"'RELEVE BANCAIRE'!D776*-1","v":0},{"$f":"'RELEVE BANCAIRE'!E776","v":0},{"$f":"'RELEVE BANCAIRE'!C776","v":0},{"$f":"IF(LEFT(D775,1)=\"6\",'RELEVE BANCAIRE'!$O$2,\"\")","v":""},{"$f":"'RELEVE BANCAIRE'!K776","v":0}]
[{"$f":"'RELEVE BANCAIRE'!G777","v":0},{"$f":"'RELEVE BANCAIRE'!A777","v":"00:00:00"},{"$f":"'RELEVE BANCAIRE'!H777","v":0},{"$f":"'RELEVE BANCAIRE'!J777","v":0},{"$f":"'RELEVE BANCAIRE'!D777*-1","v":0},{"$f":"'RELEVE BANCAIRE'!E777","v":0},{"$f":"'RELEVE BANCAIRE'!C777","v":0},{"$f":"IF(LEFT(D776,1)=\"6\",'RELEVE BANCAIRE'!$O$2,\"\")","v":""},{"$f":"'RELEVE BANCAIRE'!K777","v":0}]
[{"$f":"'RELEVE BANCAIRE'!G778","v":0},{"$f":"'RELEVE BANCAIRE'!A778","v":"00:00:00"},{"$f":"'RELEVE BANCAIRE'!H778","v":0},{"$f":"'RELEVE BANCAIRE'!J778","v":0},{"$f":"'RELEVE BANCAIRE'!D778*-1","v":0},{"$f":"'RELEVE BANCAIRE'!E778","v":0},{"$f":"'RELEVE BANCAIRE'!C778","v":0},{"$f":"IF(LEFT(D777,1)=\"6\",'RELEVE BANCAIRE'!$O$2,\"\")","v":""},{"$f":"'RELEVE BANCAIRE'!K778","v":0}]
[{"$f":"'RELEVE BANCAIRE'!G779","v":0},{"$f":"'RELEVE BANCAIRE'!A779","v":"00:00:00"},{"$f":"'RELEVE BANCAIRE'!H779","v":0},{"$f":"'RELEVE BANCAIRE'!J779","v":0},{"$f":"'RELEVE BANCAIRE'!D779*-1","v":0},{"$f":"'RELEVE BANCAIRE'!E779","v":0},{"$f":"'RELEVE BANCAIRE'!C779","v":0},{"$f":"IF(LEFT(D778,1)=\"6\",'RELEVE BANCAIRE'!$O$2,\"\")","v":""},{"$f":"'RELEVE BANCAIRE'!K779","v":0}]
[{"$f":"'RELEVE BANCAIRE'!G780","v":0},{"$f":"'RELEVE BANCAIRE'!A780","v":"00:00:00"},{"$f":"'RELEVE BANCAIRE'!H780","v":0},{"$f":"'RELEVE BANCAIRE'!J780","v":0},{"$f":"'RELEVE BANCAIRE'!D780*-1","v":0},{"$f":"'RELEVE BANCAIRE'!E780","v":0},{"$f":"'RELEVE BANCAIRE'!C780","v":0},{"$f":"IF(LEFT(D779,1)=\"6\",'RELEVE BANCAIRE'!$O$2,\"\")","v":""},{"$f":"'RELEVE BANCAIRE'!K780","v":0}]
[{"$f":"'RELEVE BANCAIRE'!G781","v":0},{"$f":"'RELEVE BANCAIRE'!A781","v":"00:00:00"},{"$f":"'RELEVE BANCAIRE'!H781","v":0},{"$f":"'RELEVE BANCAIRE'!J781","v":0},{"$f":"'RELEVE BANCAIRE'!D781*-1","v":0},{"$f":"'RELEVE BANCAIRE'!E781","v":0},{"$f":"'RELEVE BANCAIRE'!C781","v":0},{"$f":"IF(LEFT(D780,1)=\"6\",'RELEVE BANCAIRE'!$O$2,\"\")","v":""},{"$f":"'RELEVE BANCAIRE'!K781","v":0}]
[{"$f":"'RELEVE BANCAIRE'!G782","v":0},{"$f":"'RELEVE BANCAIRE'!A782","v":"00:00:00"},{"$f":"'RELEVE BANCAIRE'!H782","v":0},{"$f":"'RELEVE BANCAIRE'!J782","v":0},{"$f":"'RELEVE BANCAIRE'!D782*-1","v":0},{"$f":"'RELEVE BANCAIRE'!E782","v":0},{"$f":"'RELEVE BANCAIRE'!C782","v":0},{"$f":"IF(LEFT(D781,1)=\"6\",'RELEVE BANCAIRE'!$O$2,\"\")","v":""},{"$f":"'RELEVE BANCAIRE'!K782","v":0}]
[{"$f":"'RELEVE BANCAIRE'!G783","v":0},{"$f":"'RELEVE BANCAIRE'!A783","v":"00:00:00"},{"$f":"'RELEVE BANCAIRE'!H783","v":0},{"$f":"'RELEVE BANCAIRE'!J783","v":0},{"$f":"'RELEVE BANCAIRE'!D783*-1","v":0},{"$f":"'RELEVE BANCAIRE'!E783","v":0},{"$f":"'RELEVE BANCAIRE'!C783","v":0},{"$f":"IF(LEFT(D782,1)=\"6\",'RELEVE BANCAIRE'!$O$2,\"\")","v":""},{"$f":"'RELEVE BANCAIRE'!K783","v":0}]
[{"$f":"'RELEVE BANCAIRE'!G784","v":0},{"$f":"'RELEVE BANCAIRE'!A784","v":"00:00:00"},{"$f":"'RELEVE BANCAIRE'!H784","v":0},{"$f":"'RELEVE BANCAIRE'!J784","v":0},{"$f":"'RELEVE BANCAIRE'!D784*-1","v":0},{"$f":"'RELEVE BANCAIRE'!E784","v":0},{"$f":"'RELEVE BANCAIRE'!C784","v":0},{"$f":"IF(LEFT(D783,1)=\"6\",'RELEVE BANCAIRE'!$O$2,\"\")","v":""},{"$f":"'RELEVE BANCAIRE'!K784","v":0}]
[{"$f":"'RELEVE BANCAIRE'!G785","v":0},{"$f":"'RELEVE BANCAIRE'!A785","v":"00:00:00"},{"$f":"'RELEVE BANCAIRE'!H785","v":0},{"$f":"'RELEVE BANCAIRE'!J785","v":0},{"$f":"'RELEVE BANCAIRE'!D785*-1","v":0},{"$f":"'RELEVE BANCAIRE'!E785","v":0},{"$f":"'RELEVE BANCAIRE'!C785","v":0},{"$f":"IF(LEFT(D784,1)=\"6\",'RELEVE BANCAIRE'!$O$2,\"\")","v":""},{"$f":"'RELEVE BANCAIRE'!K785","v":0}]
[{"$f":"'RELEVE BANCAIRE'!G786","v":0},{"$f":"'RELEVE BANCAIRE'!A786","v":"00:00:00"},{"$f":"'RELEVE BANCAIRE'!H786","v":0},{"$f":"'RELEVE BANCAIRE'!J786","v":0},{"$f":"'RELEVE BANCAIRE'!D786*-1","v":0},{"$f":"'RELEVE BANCAIRE'!E786","v":0},{"$f":"'RELEVE BANCAIRE'!C786","v":0},{"$f":"IF(LEFT(D785,1)=\"6\",'RELEVE BANCAIRE'!$O$2,\"\")","v":""},{"$f":"'RELEVE BANCAIRE'!K786","v":0}]
[{"$f":"'RELEVE BANCAIRE'!G787","v":0},{"$f":"'RELEVE BANCAIRE'!A787","v":"00:00:00"},{"$f":"'RELEVE BANCAIRE'!H787","v":0},{"$f":"'RELEVE BANCAIRE'!J787","v":0},{"$f":"'RELEVE BANCAIRE'!D787*-1","v":0},{"$f":"'RELEVE BANCAIRE'!E787","v":0},{"$f":"'RELEVE BANCAIRE'!C787","v":0},{"$f":"IF(LEFT(D786,1)=\"6\",'RELEVE BANCAIRE'!$O$2,\"\")","v":""},{"$f":"'RELEVE BANCAIRE'!K787","v":0}]
[{"$f":"'RELEVE BANCAIRE'!G788","v":0},{"$f":"'RELEVE BANCAIRE'!A788","v":"00:00:00"},{"$f":"'RELEVE BANCAIRE'!H788","v":0},{"$f":"'RELEVE BANCAIRE'!J788","v":0},{"$f":"'RELEVE BANCAIRE'!D788*-1","v":0},{"$f":"'RELEVE BANCAIRE'!E788","v":0},{"$f":"'RELEVE BANCAIRE'!C788","v":0},{"$f":"IF(LEFT(D787,1)=\"6\",'RELEVE BANCAIRE'!$O$2,\"\")","v":""},{"$f":"'RELEVE BANCAIRE'!K788","v":0}]
[{"$f":"'RELEVE BANCAIRE'!G789","v":0},{"$f":"'RELEVE BANCAIRE'!A789","v":"00:00:00"},{"$f":"'RELEVE BANCAIRE'!H789","v":0},{"$f":"'RELEVE BANCAIRE'!J789","v":0},{"$f":"'RELEVE BANCAIRE'!D789*-1","v":0},{"$f":"'RELEVE BANCAIRE'!E789","v":0},{"$f":"'RELEVE BANCAIRE'!C789","v":0},{"$f":"IF(LEFT(D788,1)=\"6\",'RELEVE BANCAIRE'!$O$2,\"\")","v":""},{"$f":"'RELEVE BANCAIRE'!K789","v":0}]
[{"$f":"'RELEVE BANCAIRE'!G790","v":0},{"$f":"'RELEVE BANCAIRE'!A790","v":"00:00:00"},{"$f":"'RELEVE BANCAIRE'!H790","v":0},{"$f":"'RELEVE BANCAIRE'!J790","v":0},{"$f":"'RELEVE BANCAIRE'!D790*-1","v":0},{"$f":"'RELEVE BANCAIRE'!E790","v":0},{"$f":"'RELEVE BANCAIRE'!C790","v":0},{"$f":"IF(LEFT(D789,1)=\"6\",'RELEVE BANCAIRE'!$O$2,\"\")","v":""},{"$f":"'RELEVE BANCAIRE'!K790","v":0}]
[{"$f":"'RELEVE BANCAIRE'!G791","v":0},{"$f":"'RELEVE BANCAIRE'!A791","v":"00:00:00"},{"$f":"'RELEVE BANCAIRE'!H791","v":0},{"$f":"'RELEVE BANCAIRE'!J791","v":0},{"$f":"'RELEVE BANCAIRE'!D791*-1","v":0},{"$f":"'RELEVE BANCAIRE'!E791","v":0},{"$f":"'RELEVE BANCAIRE'!C791","v":0},{"$f":"IF(LEFT(D790,1)=\"6\",'RELEVE BANCAIRE'!$O$2,\"\")","v":""},{"$f":"'RELEVE BANCAIRE'!K791","v":0}]
[{"$f":"'RELEVE BANCAIRE'!G792","v":0},{"$f":"'RELEVE BANCAIRE'!A792","v":"00:00:00"},{"$f":"'RELEVE BANCAIRE'!H792","v":0},{"$f":"'RELEVE BANCAIRE'!J792","v":0},{"$f":"'RELEVE BANCAIRE'!D792*-1","v":0},{"$f":"'RELEVE BANCAIRE'!E792","v":0},{"$f":"'RELEVE BANCAIRE'!C792","v":0},{"$f":"IF(LEFT(D791,1)=\"6\",'RELEVE BANCAIRE'!$O$2,\"\")","v":""},{"$f":"'RELEVE BANCAIRE'!K792","v":0}]
[{"$f":"'RELEVE BANCAIRE'!G793","v":0},{"$f":"'RELEVE BANCAIRE'!A793","v":"00:00:00"},{"$f":"'RELEVE BANCAIRE'!H793","v":0},{"$f":"'RELEVE BANCAIRE'!J793","v":0},{"$f":"'RELEVE BANCAIRE'!D793*-1","v":0},{"$f":"'RELEVE BANCAIRE'!E793","v":0},{"$f":"'RELEVE BANCAIRE'!C793","v":0},{"$f":"IF(LEFT(D792,1)=\"6\",'RELEVE BANCAIRE'!$O$2,\"\")","v":""},{"$f":"'RELEVE BANCAIRE'!K793","v":0}]
[{"$f":"'RELEVE BANCAIRE'!G794","v":0},{"$f":"'RELEVE BANCAIRE'!A794","v":"00:00:00"},{"$f":"'RELEVE BANCAIRE'!H794","v":0},{"$f":"'RELEVE BANCAIRE'!J794","v":0},{"$f":"'RELEVE BANCAIRE'!D794*-1","v":0},{"$f":"'RELEVE BANCAIRE'!E794","v":0},{"$f":"'RELEVE BANCAIRE'!C794","v":0},{"$f":"IF(LEFT(D793,1)=\"6\",'RELEVE BANCAIRE'!$O$2,\"\")","v":""},{"$f":"'RELEVE BANCAIRE'!K794","v":0}]
[{"$f":"'RELEVE BANCAIRE'!G795","v":0},{"$f":"'RELEVE BANCAIRE'!A795","v":"00:00:00"},{"$f":"'RELEVE BANCAIRE'!H795","v":0},{"$f":"'RELEVE BANCAIRE'!J795","v":0},{"$f":"'RELEVE BANCAIRE'!D795*-1","v":0},{"$f":"'RELEVE BANCAIRE'!E795","v":0},{"$f":"'RELEVE BANCAIRE'!C795","v":0},{"$f":"IF(LEFT(D794,1)=\"6\",'RELEVE BANCAIRE'!$O$2,\"\")","v":""},{"$f":"'RELEVE BANCAIRE'!K795","v":0}]
[{"$f":"'RELEVE BANCAIRE'!G796","v":0},{"$f":"'RELEVE BANCAIRE'!A796","v":"00:00:00"},{"$f":"'RELEVE BANCAIRE'!H796","v":0},{"$f":"'RELEVE BANCAIRE'!J796","v":0},{"$f":"'RELEVE BANCAIRE'!D796*-1","v":0},{"$f":"'RELEVE BANCAIRE'!E796","v":0},{"$f":"'RELEVE BANCAIRE'!C796","v":0},{"$f":"IF(LEFT(D795,1)=\"6\",'RELEVE BANCAIRE'!$O$2,\"\")","v":""},{"$f":"'RELEVE BANCAIRE'!K796","v":0}]
[{"$f":"'RELEVE BANCAIRE'!G797","v":0},{"$f":"'RELEVE BANCAIRE'!A797","v":"00:00:00"},{"$f":"'RELEVE BANCAIRE'!H797","v":0},{"$f":"'RELEVE BANCAIRE'!J797","v":0},{"$f":"'RELEVE BANCAIRE'!D797*-1","v":0},{"$f":"'RELEVE BANCAIRE'!E797","v":0},{"$f":"'RELEVE BANCAIRE'!C797","v":0},{"$f":"IF(LEFT(D796,1)=\"6\",'RELEVE BANCAIRE'!$O$2,\"\")","v":""},{"$f":"'RELEVE BANCAIRE'!K797","v":0}]
[{"$f":"'RELEVE BANCAIRE'!G798","v":0},{"$f":"'RELEVE BANCAIRE'!A798","v":"00:00:00"},{"$f":"'RELEVE BANCAIRE'!H798","v":0},{"$f":"'RELEVE BANCAIRE'!J798","v":0},{"$f":"'RELEVE BANCAIRE'!D798*-1","v":0},{"$f":"'RELEVE BANCAIRE'!E798","v":0},{"$f":"'RELEVE BANCAIRE'!C798","v":0},{"$f":"IF(LEFT(D797,1)=\"6\",'RELEVE BANCAIRE'!$O$2,\"\")","v":""},{"$f":"'RELEVE BANCAIRE'!K798","v":0}]
[{"$f":"'RELEVE BANCAIRE'!G799","v":0},{"$f":"'RELEVE BANCAIRE'!A799","v":"00:00:00"},{"$f":"'RELEVE BANCAIRE'!H799","v":0},{"$f":"'RELEVE BANCAIRE'!J799","v":0},{"$f":"'RELEVE BANCAIRE'!D799*-1","v":0},{"$f":"'RELEVE BANCAIRE'!E799","v":0},{"$f":"'RELEVE BANCAIRE'!C799","v":0},{"$f":"IF(LEFT(D798,1)=\"6\",'RELEVE BANCAIRE'!$O$2,\"\")","v":""},{"$f":"'RELEVE BANCAIRE'!K799","v":0}]
[{"$f":"'RELEVE BANCAIRE'!G800","v":0},{"$f":"'RELEVE BANCAIRE'!A800","v":"00:00:00"},{"$f":"'RELEVE BANCAIRE'!H800","v":0},{"$f":"'RELEVE BANCAIRE'!J800","v":0},{"$f":"'RELEVE BANCAIRE'!D800*-1","v":0},{"$f":"'RELEVE BANCAIRE'!E800","v":0},{"$f":"'RELEVE BANCAIRE'!C800","v":0},{"$f":"IF(LEFT(D799,1)=\"6\",'RELEVE BANCAIRE'!$O$2,\"\")","v":""},{"$f":"'RELEVE BANCAIRE'!K800","v":0}]
[{"$f":"'RELEVE BANCAIRE'!G801","v":0},{"$f":"'RELEVE BANCAIRE'!A801","v":"00:00:00"},{"$f":"'RELEVE BANCAIRE'!H801","v":0},{"$f":"'RELEVE BANCAIRE'!J801","v":0},{"$f":"'RELEVE BANCAIRE'!D801*-1","v":0},{"$f":"'RELEVE BANCAIRE'!E801","v":0},{"$f":"'RELEVE BANCAIRE'!C801","v":0},{"$f":"IF(LEFT(D800,1)=\"6\",'RELEVE BANCAIRE'!$O$2,\"\")","v":""},{"$f":"'RELEVE BANCAIRE'!K801","v":0}]
[{"$f":"'RELEVE BANCAIRE'!G802","v":0},{"$f":"'RELEVE BANCAIRE'!A802","v":"00:00:00"},{"$f":"'RELEVE BANCAIRE'!H802","v":0},{"$f":"'RELEVE BANCAIRE'!J802","v":0},{"$f":"'RELEVE BANCAIRE'!D802*-1","v":0},{"$f":"'RELEVE BANCAIRE'!E802","v":0},{"$f":"'RELEVE BANCAIRE'!C802","v":0},{"$f":"IF(LEFT(D801,1)=\"6\",'RELEVE BANCAIRE'!$O$2,\"\")","v":""},{"$f":"'RELEVE BANCAIRE'!K802","v":0}]
[{"$f":"'RELEVE BANCAIRE'!G803","v":0},{"$f":"'RELEVE BANCAIRE'!A803","v":"00:00:00"},{"$f":"'RELEVE BANCAIRE'!H803","v":0},{"$f":"'RELEVE BANCAIRE'!J803","v":0},{"$f":"'RELEVE BANCAIRE'!D803*-1","v":0},{"$f":"'RELEVE BANCAIRE'!E803","v":0},{"$f":"'RELEVE BANCAIRE'!C803","v":0},{"$f":"IF(LEFT(D802,1)=\"6\",'RELEVE BANCAIRE'!$O$2,\"\")","v":""},{"$f":"'RELEVE BANCAIRE'!K803","v":0}]
[{"$f":"'RELEVE BANCAIRE'!G804","v":0},{"$f":"'RELEVE BANCAIRE'!A804","v":"00:00:00"},{"$f":"'RELEVE BANCAIRE'!H804","v":0},{"$f":"'RELEVE BANCAIRE'!J804","v":0},{"$f":"'RELEVE BANCAIRE'!D804*-1","v":0},{"$f":"'RELEVE BANCAIRE'!E804","v":0},{"$f":"'RELEVE BANCAIRE'!C804","v":0},{"$f":"IF(LEFT(D803,1)=\"6\",'RELEVE BANCAIRE'!$O$2,\"\")","v":""},{"$f":"'RELEVE BANCAIRE'!K804","v":0}]
[{"$f":"'RELEVE BANCAIRE'!G805","v":0},{"$f":"'RELEVE BANCAIRE'!A805","v":"00:00:00"},{"$f":"'RELEVE BANCAIRE'!H805","v":0},{"$f":"'RELEVE BANCAIRE'!J805","v":0},{"$f":"'RELEVE BANCAIRE'!D805*-1","v":0},{"$f":"'RELEVE BANCAIRE'!E805","v":0},{"$f":"'RELEVE BANCAIRE'!C805","v":0},{"$f":"IF(LEFT(D804,1)=\"6\",'RELEVE BANCAIRE'!$O$2,\"\")","v":""},{"$f":"'RELEVE BANCAIRE'!K805","v":0}]
[{"$f":"'RELEVE BANCAIRE'!G806","v":0},{"$f":"'RELEVE BANCAIRE'!A806","v":"00:00:00"},{"$f":"'RELEVE BANCAIRE'!H806","v":0},{"$f":"'RELEVE BANCAIRE'!J806","v":0},{"$f":"'RELEVE BANCAIRE'!D806*-1","v":0},{"$f":"'RELEVE BANCAIRE'!E806","v":0},{"$f":"'RELEVE BANCAIRE'!C806","v":0},{"$f":"IF(LEFT(D805,1)=\"6\",'RELEVE BANCAIRE'!$O$2,\"\")","v":""},{"$f":"'RELEVE BANCAIRE'!K806","v":0}]
[{"$f":"'RELEVE BANCAIRE'!G807","v":0},{"$f":"'RELEVE BANCAIRE'!A807","v":"00:00:00"},{"$f":"'RELEVE BANCAIRE'!H807","v":0},{"$f":"'RELEVE BANCAIRE'!J807","v":0},{"$f":"'RELEVE BANCAIRE'!D807*-1","v":0},{"$f":"'RELEVE BANCAIRE'!E807","v":0},{"$f":"'RELEVE BANCAIRE'!C807","v":0},{"$f":"IF(LEFT(D806,1)=\"6\",'RELEVE BANCAIRE'!$O$2,\"\")","v":""},{"$f":"'RELEVE BANCAIRE'!K807","v":0}]
[{"$f":"'RELEVE BANCAIRE'!G808","v":0},{"$f":"'RELEVE BANCAIRE'!A808","v":"00:00:00"},{"$f":"'RELEVE BANCAIRE'!H808","v":0},{"$f":"'RELEVE BANCAIRE'!J808","v":0},{"$f":"'RELEVE BANCAIRE'!D808*-1","v":0},{"$f":"'RELEVE BANCAIRE'!E808","v":0},{"$f":"'RELEVE BANCAIRE'!C808","v":0},{"$f":"IF(LEFT(D807,1)=\"6\",'RELEVE BANCAIRE'!$O$2,\"\")","v":""},{"$f":"'RELEVE BANCAIRE'!K808","v":0}]
[{"$f":"'RELEVE BANCAIRE'!G809","v":0},{"$f":"'RELEVE BANCAIRE'!A809","v":"00:00:00"},{"$f":"'RELEVE BANCAIRE'!H809","v":0},{"$f":"'RELEVE BANCAIRE'!J809","v":0},{"$f":"'RELEVE BANCAIRE'!D809*-1","v":0},{"$f":"'RELEVE BANCAIRE'!E809","v":0},{"$f":"'RELEVE BANCAIRE'!C809","v":0},{"$f":"IF(LEFT(D808,1)=\"6\",'RELEVE BANCAIRE'!$O$2,\"\")","v":""},{"$f":"'RELEVE BANCAIRE'!K809","v":0}]
[{"$f":"'RELEVE BANCAIRE'!G810","v":0},{"$f":"'RELEVE BANCAIRE'!A810","v":"00:00:00"},{"$f":"'RELEVE BANCAIRE'!H810","v":0},{"$f":"'RELEVE BANCAIRE'!J810","v":0},{"$f":"'RELEVE BANCAIRE'!D810*-1","v":0},{"$f":"'RELEVE BANCAIRE'!E810","v":0},{"$f":"'RELEVE BANCAIRE'!C810","v":0},{"$f":"IF(LEFT(D809,1)=\"6\",'RELEVE BANCAIRE'!$O$2,\"\")","v":""},{"$f":"'RELEVE BANCAIRE'!K810","v":0}]
[{"$f":"'RELEVE BANCAIRE'!G811","v":0},{"$f":"'RELEVE BANCAIRE'!A811","v":"00:00:00"},{"$f":"'RELEVE BANCAIRE'!H811","v":0},{"$f":"'RELEVE BANCAIRE'!J811","v":0},{"$f":"'RELEVE BANCAIRE'!D811*-1","v":0},{"$f":"'RELEVE BANCAIRE'!E811","v":0},{"$f":"'RELEVE BANCAIRE'!C811","v":0},{"$f":"IF(LEFT(D810,1)=\"6\",'RELEVE BANCAIRE'!$O$2,\"\")","v":""},{"$f":"'RELEVE BANCAIRE'!K811","v":0}]
[{"$f":"'RELEVE BANCAIRE'!G812","v":0},{"$f":"'RELEVE BANCAIRE'!A812","v":"00:00:00"},{"$f":"'RELEVE BANCAIRE'!H812","v":0},{"$f":"'RELEVE BANCAIRE'!J812","v":0},{"$f":"'RELEVE BANCAIRE'!D812*-1","v":0},{"$f":"'RELEVE BANCAIRE'!E812","v":0},{"$f":"'RELEVE BANCAIRE'!C812","v":0},{"$f":"IF(LEFT(D811,1)=\"6\",'RELEVE BANCAIRE'!$O$2,\"\")","v":""},{"$f":"'RELEVE BANCAIRE'!K812","v":0}]
[{"$f":"'RELEVE BANCAIRE'!G813","v":0},{"$f":"'RELEVE BANCAIRE'!A813","v":"00:00:00"},{"$f":"'RELEVE BANCAIRE'!H813","v":0},{"$f":"'RELEVE BANCAIRE'!J813","v":0},{"$f":"'RELEVE BANCAIRE'!D813*-1","v":0},{"$f":"'RELEVE BANCAIRE'!E813","v":0},{"$f":"'RELEVE BANCAIRE'!C813","v":0},{"$f":"IF(LEFT(D812,1)=\"6\",'RELEVE BANCAIRE'!$O$2,\"\")","v":""},{"$f":"'RELEVE BANCAIRE'!K813","v":0}]
[{"$f":"'RELEVE BANCAIRE'!G814","v":0},{"$f":"'RELEVE BANCAIRE'!A814","v":"00:00:00"},{"$f":"'RELEVE BANCAIRE'!H814","v":0},{"$f":"'RELEVE BANCAIRE'!J814","v":0},{"$f":"'RELEVE BANCAIRE'!D814*-1","v":0},{"$f":"'RELEVE BANCAIRE'!E814","v":0},{"$f":"'RELEVE BANCAIRE'!C814","v":0},{"$f":"IF(LEFT(D813,1)=\"6\",'RELEVE BANCAIRE'!$O$2,\"\")","v":""},{"$f":"'RELEVE BANCAIRE'!K814","v":0}]
[{"$f":"'RELEVE BANCAIRE'!G815","v":0},{"$f":"'RELEVE BANCAIRE'!A815","v":"00:00:00"},{"$f":"'RELEVE BANCAIRE'!H815","v":0},{"$f":"'RELEVE BANCAIRE'!J815","v":0},{"$f":"'RELEVE BANCAIRE'!D815*-1","v":0},{"$f":"'RELEVE BANCAIRE'!E815","v":0},{"$f":"'RELEVE BANCAIRE'!C815","v":0},{"$f":"IF(LEFT(D814,1)=\"6\",'RELEVE BANCAIRE'!$O$2,\"\")","v":""},{"$f":"'RELEVE BANCAIRE'!K815","v":0}]
[{"$f":"'RELEVE BANCAIRE'!G816","v":0},{"$f":"'RELEVE BANCAIRE'!A816","v":"00:00:00"},{"$f":"'RELEVE BANCAIRE'!H816","v":0},{"$f":"'RELEVE BANCAIRE'!J816","v":0},{"$f":"'RELEVE BANCAIRE'!D816*-1","v":0},{"$f":"'RELEVE BANCAIRE'!E816","v":0},{"$f":"'RELEVE BANCAIRE'!C816","v":0},{"$f":"IF(LEFT(D815,1)=\"6\",'RELEVE BANCAIRE'!$O$2,\"\")","v":""},{"$f":"'RELEVE BANCAIRE'!K816","v":0}]
[{"$f":"'RELEVE BANCAIRE'!G817","v":0},{"$f":"'RELEVE BANCAIRE'!A817","v":"00:00:00"},{"$f":"'RELEVE BANCAIRE'!H817","v":0},{"$f":"'RELEVE BANCAIRE'!J817","v":0},{"$f":"'RELEVE BANCAIRE'!D817*-1","v":0},{"$f":"'RELEVE BANCAIRE'!E817","v":0},{"$f":"'RELEVE BANCAIRE'!C817","v":0},{"$f":"IF(LEFT(D816,1)=\"6\",'RELEVE BANCAIRE'!$O$2,\"\")","v":""},{"$f":"'RELEVE BANCAIRE'!K817","v":0}]
[{"$f":"'RELEVE BANCAIRE'!G818","v":0},{"$f":"'RELEVE BANCAIRE'!A818","v":"00:00:00"},{"$f":"'RELEVE BANCAIRE'!H818","v":0},{"$f":"'RELEVE BANCAIRE'!J818","v":0},{"$f":"'RELEVE BANCAIRE'!D818*-1","v":0},{"$f":"'RELEVE BANCAIRE'!E818","v":0},{"$f":"'RELEVE BANCAIRE'!C818","v":0},{"$f":"IF(LEFT(D817,1)=\"6\",'RELEVE BANCAIRE'!$O$2,\"\")","v":""},{"$f":"'RELEVE BANCAIRE'!K818","v":0}]
[{"$f":"'RELEVE BANCAIRE'!G819","v":0},{"$f":"'RELEVE BANCAIRE'!A819","v":"00:00:00"},{"$f":"'RELEVE BANCAIRE'!H819","v":0},{"$f":"'RELEVE BANCAIRE'!J819","v":0},{"$f":"'RELEVE BANCAIRE'!D819*-1","v":0},{"$f":"'RELEVE BANCAIRE'!E819","v":0},{"$f":"'RELEVE BANCAIRE'!C819","v":0},{"$f":"IF(LEFT(D818,1)=\"6\",'RELEVE BANCAIRE'!$O$2,\"\")","v":""},{"$f":"'RELEVE BANCAIRE'!K819","v":0}]
[{"$f":"'RELEVE BANCAIRE'!G820","v":0},{"$f":"'RELEVE BANCAIRE'!A820","v":"00:00:00"},{"$f":"'RELEVE BANCAIRE'!H820","v":0},{"$f":"'RELEVE BANCAIRE'!J820","v":0},{"$f":"'RELEVE BANCAIRE'!D820*-1","v":0},{"$f":"'RELEVE BANCAIRE'!E820","v":0},{"$f":"'RELEVE BANCAIRE'!C820","v":0},{"$f":"IF(LEFT(D819,1)=\"6\",'RELEVE BANCAIRE'!$O$2,\"\")","v":""},{"$f":"'RELEVE BANCAIRE'!K820","v":0}]
[{"$f":"'RELEVE BANCAIRE'!G821","v":0},{"$f":"'RELEVE BANCAIRE'!A821","v":"00:00:00"},{"$f":"'RELEVE BANCAIRE'!H821","v":0},{"$f":"'RELEVE BANCAIRE'!J821","v":0},{"$f":"'RELEVE BANCAIRE'!D821*-1","v":0},{"$f":"'RELEVE BANCAIRE'!E821","v":0},{"$f":"'RELEVE BANCAIRE'!C821","v":0},{"$f":"IF(LEFT(D820,1)=\"6\",'RELEVE BANCAIRE'!$O$2,\"\")","v":""},{"$f":"'RELEVE BANCAIRE'!K821","v":0}]
[{"$f":"'RELEVE BANCAIRE'!G822","v":0},{"$f":"'RELEVE BANCAIRE'!A822","v":"00:00:00"},{"$f":"'RELEVE BANCAIRE'!H822","v":0},{"$f":"'RELEVE BANCAIRE'!J822","v":0},{"$f":"'RELEVE BANCAIRE'!D822*-1","v":0},{"$f":"'RELEVE BANCAIRE'!E822","v":0},{"$f":"'RELEVE BANCAIRE'!C822","v":0},{"$f":"IF(LEFT(D821,1)=\"6\",'RELEVE BANCAIRE'!$O$2,\"\")","v":""},{"$f":"'RELEVE BANCAIRE'!K822","v":0}]
[{"$f":"'RELEVE BANCAIRE'!G823","v":0},{"$f":"'RELEVE BANCAIRE'!A823","v":"00:00:00"},{"$f":"'RELEVE BANCAIRE'!H823","v":0},{"$f":"'RELEVE BANCAIRE'!J823","v":0},{"$f":"'RELEVE BANCAIRE'!D823*-1","v":0},{"$f":"'RELEVE BANCAIRE'!E823","v":0},{"$f":"'RELEVE BANCAIRE'!C823","v":0},{"$f":"IF(LEFT(D822,1)=\"6\",'RELEVE BANCAIRE'!$O$2,\"\")","v":""},{"$f":"'RELEVE BANCAIRE'!K823","v":0}]
[{"$f":"'RELEVE BANCAIRE'!G824","v":0},{"$f":"'RELEVE BANCAIRE'!A824","v":"00:00:00"},{"$f":"'RELEVE BANCAIRE'!H824","v":0},{"$f":"'RELEVE BANCAIRE'!J824","v":0},{"$f":"'RELEVE BANCAIRE'!D824*-1","v":0},{"$f":"'RELEVE BANCAIRE'!E824","v":0},{"$f":"'RELEVE BANCAIRE'!C824","v":0},{"$f":"IF(LEFT(D823,1)=\"6\",'RELEVE BANCAIRE'!$O$2,\"\")","v":""},{"$f":"'RELEVE BANCAIRE'!K824","v":0}]
[{"$f":"'RELEVE BANCAIRE'!G825","v":0},{"$f":"'RELEVE BANCAIRE'!A825","v":"00:00:00"},{"$f":"'RELEVE BANCAIRE'!H825","v":0},{"$f":"'RELEVE BANCAIRE'!J825","v":0},{"$f":"'RELEVE BANCAIRE'!D825*-1","v":0},{"$f":"'RELEVE BANCAIRE'!E825","v":0},{"$f":"'RELEVE BANCAIRE'!C825","v":0},{"$f":"IF(LEFT(D824,1)=\"6\",'RELEVE BANCAIRE'!$O$2,\"\")","v":""},{"$f":"'RELEVE BANCAIRE'!K825","v":0}]
[{"$f":"'RELEVE BANCAIRE'!G826","v":0},{"$f":"'RELEVE BANCAIRE'!A826","v":"00:00:00"},{"$f":"'RELEVE BANCAIRE'!H826","v":0},{"$f":"'RELEVE BANCAIRE'!J826","v":0},{"$f":"'RELEVE BANCAIRE'!D826*-1","v":0},{"$f":"'RELEVE BANCAIRE'!E826","v":0},{"$f":"'RELEVE BANCAIRE'!C826","v":0},{"$f":"IF(LEFT(D825,1)=\"6\",'RELEVE BANCAIRE'!$O$2,\"\")","v":""},{"$f":"'RELEVE BANCAIRE'!K826","v":0}]
[{"$f":"'RELEVE BANCAIRE'!G827","v":0},{"$f":"'RELEVE BANCAIRE'!A827","v":"00:00:00"},{"$f":"'RELEVE BANCAIRE'!H827","v":0},{"$f":"'RELEVE BANCAIRE'!J827","v":0},{"$f":"'RELEVE BANCAIRE'!D827*-1","v":0},{"$f":"'RELEVE BANCAIRE'!E827","v":0},{"$f":"'RELEVE BANCAIRE'!C827","v":0},{"$f":"IF(LEFT(D826,1)=\"6\",'RELEVE BANCAIRE'!$O$2,\"\")","v":""},{"$f":"'RELEVE BANCAIRE'!K827","v":0}]
[{"$f":"'RELEVE BANCAIRE'!G828","v":0},{"$f":"'RELEVE BANCAIRE'!A828","v":"00:00:00"},{"$f":"'RELEVE BANCAIRE'!H828","v":0},{"$f":"'RELEVE BANCAIRE'!J828","v":0},{"$f":"'RELEVE BANCAIRE'!D828*-1","v":0},{"$f":"'RELEVE BANCAIRE'!E828","v":0},{"$f":"'RELEVE BANCAIRE'!C828","v":0},{"$f":"IF(LEFT(D827,1)=\"6\",'RELEVE BANCAIRE'!$O$2,\"\")","v":""},{"$f":"'RELEVE BANCAIRE'!K828","v":0}]
[{"$f":"'RELEVE BANCAIRE'!G829","v":0},{"$f":"'RELEVE BANCAIRE'!A829","v":"00:00:00"},{"$f":"'RELEVE BANCAIRE'!H829","v":0},{"$f":"'RELEVE BANCAIRE'!J829","v":0},{"$f":"'RELEVE BANCAIRE'!D829*-1","v":0},{"$f":"'RELEVE BANCAIRE'!E829","v":0},{"$f":"'RELEVE BANCAIRE'!C829","v":0},{"$f":"IF(LEFT(D828,1)=\"6\",'RELEVE BANCAIRE'!$O$2,\"\")","v":""},{"$f":"'RELEVE BANCAIRE'!K829","v":0}]
[{"$f":"'RELEVE BANCAIRE'!G830","v":0},{"$f":"'RELEVE BANCAIRE'!A830","v":"00:00:00"},{"$f":"'RELEVE BANCAIRE'!H830","v":0},{"$f":"'RELEVE BANCAIRE'!J830","v":0},{"$f":"'RELEVE BANCAIRE'!D830*-1","v":0},{"$f":"'RELEVE BANCAIRE'!E830","v":0},{"$f":"'RELEVE BANCAIRE'!C830","v":0},{"$f":"IF(LEFT(D829,1)=\"6\",'RELEVE BANCAIRE'!$O$2,\"\")","v":""},{"$f":"'RELEVE BANCAIRE'!K830","v":0}]
[{"$f":"'RELEVE BANCAIRE'!G831","v":0},{"$f":"'RELEVE BANCAIRE'!A831","v":"00:00:00"},{"$f":"'RELEVE BANCAIRE'!H831","v":0},{"$f":"'RELEVE BANCAIRE'!J831","v":0},{"$f":"'RELEVE BANCAIRE'!D831*-1","v":0},{"$f":"'RELEVE BANCAIRE'!E831","v":0},{"$f":"'RELEVE BANCAIRE'!C831","v":0},{"$f":"IF(LEFT(D830,1)=\"6\",'RELEVE BANCAIRE'!$O$2,\"\")","v":""},{"$f":"'RELEVE BANCAIRE'!K831","v":0}]
[{"$f":"'RELEVE BANCAIRE'!G832","v":0},{"$f":"'RELEVE BANCAIRE'!A832","v":"00:00:00"},{"$f":"'RELEVE BANCAIRE'!H832","v":0},{"$f":"'RELEVE BANCAIRE'!J832","v":0},{"$f":"'RELEVE BANCAIRE'!D832*-1","v":0},{"$f":"'RELEVE BANCAIRE'!E832","v":0},{"$f":"'RELEVE BANCAIRE'!C832","v":0},{"$f":"IF(LEFT(D831,1)=\"6\",'RELEVE BANCAIRE'!$O$2,\"\")","v":""},{"$f":"'RELEVE BANCAIRE'!K832","v":0}]
[{"$f":"'RELEVE BANCAIRE'!G833","v":0},{"$f":"'RELEVE BANCAIRE'!A833","v":"00:00:00"},{"$f":"'RELEVE BANCAIRE'!H833","v":0},{"$f":"'RELEVE BANCAIRE'!J833","v":0},{"$f":"'RELEVE BANCAIRE'!D833*-1","v":0},{"$f":"'RELEVE BANCAIRE'!E833","v":0},{"$f":"'RELEVE BANCAIRE'!C833","v":0},{"$f":"IF(LEFT(D832,1)=\"6\",'RELEVE BANCAIRE'!$O$2,\"\")","v":""},{"$f":"'RELEVE BANCAIRE'!K833","v":0}]
[{"$f":"'RELEVE BANCAIRE'!G834","v":0},{"$f":"'RELEVE BANCAIRE'!A834","v":"00:00:00"},{"$f":"'RELEVE BANCAIRE'!H834","v":0},{"$f":"'RELEVE BANCAIRE'!J834","v":0},{"$f":"'RELEVE BANCAIRE'!D834*-1","v":0},{"$f":"'RELEVE BANCAIRE'!E834","v":0},{"$f":"'RELEVE BANCAIRE'!C834","v":0},{"$f":"IF(LEFT(D833,1)=\"6\",'RELEVE BANCAIRE'!$O$2,\"\")","v":""},{"$f":"'RELEVE BANCAIRE'!K834","v":0}]
[{"$f":"'RELEVE BANCAIRE'!G835","v":0},{"$f":"'RELEVE BANCAIRE'!A835","v":"00:00:00"},{"$f":"'RELEVE BANCAIRE'!H835","v":0},{"$f":"'RELEVE BANCAIRE'!J835","v":0},{"$f":"'RELEVE BANCAIRE'!D835*-1","v":0},{"$f":"'RELEVE BANCAIRE'!E835","v":0},{"$f":"'RELEVE BANCAIRE'!C835","v":0},{"$f":"IF(LEFT(D834,1)=\"6\",'RELEVE BANCAIRE'!$O$2,\"\")","v":""},{"$f":"'RELEVE BANCAIRE'!K835","v":0}]
[{"$f":"'RELEVE BANCAIRE'!G836","v":0},{"$f":"'RELEVE BANCAIRE'!A836","v":"00:00:00"},{"$f":"'RELEVE BANCAIRE'!H836","v":0},{"$f":"'RELEVE BANCAIRE'!J836","v":0},{"$f":"'RELEVE BANCAIRE'!D836*-1","v":0},{"$f":"'RELEVE BANCAIRE'!E836","v":0},{"$f":"'RELEVE BANCAIRE'!C836","v":0},{"$f":"IF(LEFT(D835,1)=\"6\",'RELEVE BANCAIRE'!$O$2,\"\")","v":""},{"$f":"'RELEVE BANCAIRE'!K836","v":0}]
[{"$f":"'RELEVE BANCAIRE'!G837","v":0},{"$f":"'RELEVE BANCAIRE'!A837","v":"00:00:00"},{"$f":"'RELEVE BANCAIRE'!H837","v":0},{"$f":"'RELEVE BANCAIRE'!J837","v":0},{"$f":"'RELEVE BANCAIRE'!D837*-1","v":0},{"$f":"'RELEVE BANCAIRE'!E837","v":0},{"$f":"'RELEVE BANCAIRE'!C837","v":0},{"$f":"IF(LEFT(D836,1)=\"6\",'RELEVE BANCAIRE'!$O$2,\"\")","v":""},{"$f":"'RELEVE BANCAIRE'!K837","v":0}]
[{"$f":"'RELEVE BANCAIRE'!G838","v":0},{"$f":"'RELEVE BANCAIRE'!A838","v":"00:00:00"},{"$f":"'RELEVE BANCAIRE'!H838","v":0},{"$f":"'RELEVE BANCAIRE'!J838","v":0},{"$f":"'RELEVE BANCAIRE'!D838*-1","v":0},{"$f":"'RELEVE BANCAIRE'!E838","v":0},{"$f":"'RELEVE BANCAIRE'!C838","v":0},{"$f":"IF(LEFT(D837,1)=\"6\",'RELEVE BANCAIRE'!$O$2,\"\")","v":""},{"$f":"'RELEVE BANCAIRE'!K838","v":0}]
[{"$f":"'RELEVE BANCAIRE'!G839","v":0},{"$f":"'RELEVE BANCAIRE'!A839","v":"00:00:00"},{"$f":"'RELEVE BANCAIRE'!H839","v":0},{"$f":"'RELEVE BANCAIRE'!J839","v":0},{"$f":"'RELEVE BANCAIRE'!D839*-1","v":0},{"$f":"'RELEVE BANCAIRE'!E839","v":0},{"$f":"'RELEVE BANCAIRE'!C839","v":0},{"$f":"IF(LEFT(D838,1)=\"6\",'RELEVE BANCAIRE'!$O$2,\"\")","v":""},{"$f":"'RELEVE BANCAIRE'!K839","v":0}]
[{"$f":"'RELEVE BANCAIRE'!G840","v":0},{"$f":"'RELEVE BANCAIRE'!A840","v":"00:00:00"},{"$f":"'RELEVE BANCAIRE'!H840","v":0},{"$f":"'RELEVE BANCAIRE'!J840","v":0},{"$f":"'RELEVE BANCAIRE'!D840*-1","v":0},{"$f":"'RELEVE BANCAIRE'!E840","v":0},{"$f":"'RELEVE BANCAIRE'!C840","v":0},{"$f":"IF(LEFT(D839,1)=\"6\",'RELEVE BANCAIRE'!$O$2,\"\")","v":""},{"$f":"'RELEVE BANCAIRE'!K840","v":0}]
[{"$f":"'RELEVE BANCAIRE'!G841","v":0},{"$f":"'RELEVE BANCAIRE'!A841","v":"00:00:00"},{"$f":"'RELEVE BANCAIRE'!H841","v":0},{"$f":"'RELEVE BANCAIRE'!J841","v":0},{"$f":"'RELEVE BANCAIRE'!D841*-1","v":0},{"$f":"'RELEVE BANCAIRE'!E841","v":0},{"$f":"'RELEVE BANCAIRE'!C841","v":0},{"$f":"IF(LEFT(D840,1)=\"6\",'RELEVE BANCAIRE'!$O$2,\"\")","v":""},{"$f":"'RELEVE BANCAIRE'!K841","v":0}]
[{"$f":"'RELEVE BANCAIRE'!G842","v":0},{"$f":"'RELEVE BANCAIRE'!A842","v":"00:00:00"},{"$f":"'RELEVE BANCAIRE'!H842","v":0},{"$f":"'RELEVE BANCAIRE'!J842","v":0},{"$f":"'RELEVE BANCAIRE'!D842*-1","v":0},{"$f":"'RELEVE BANCAIRE'!E842","v":0},{"$f":"'RELEVE BANCAIRE'!C842","v":0},{"$f":"IF(LEFT(D841,1)=\"6\",'RELEVE BANCAIRE'!$O$2,\"\")","v":""},{"$f":"'RELEVE BANCAIRE'!K842","v":0}]
[{"$f":"'RELEVE BANCAIRE'!G843","v":0},{"$f":"'RELEVE BANCAIRE'!A843","v":"00:00:00"},{"$f":"'RELEVE BANCAIRE'!H843","v":0},{"$f":"'RELEVE BANCAIRE'!J843","v":0},{"$f":"'RELEVE BANCAIRE'!D843*-1","v":0},{"$f":"'RELEVE BANCAIRE'!E843","v":0},{"$f":"'RELEVE BANCAIRE'!C843","v":0},{"$f":"IF(LEFT(D842,1)=\"6\",'RELEVE BANCAIRE'!$O$2,\"\")","v":""},{"$f":"'RELEVE BANCAIRE'!K843","v":0}]
[{"$f":"'RELEVE BANCAIRE'!G844","v":0},{"$f":"'RELEVE BANCAIRE'!A844","v":"00:00:00"},{"$f":"'RELEVE BANCAIRE'!H844","v":0},{"$f":"'RELEVE BANCAIRE'!J844","v":0},{"$f":"'RELEVE BANCAIRE'!D844*-1","v":0},{"$f":"'RELEVE BANCAIRE'!E844","v":0},{"$f":"'RELEVE BANCAIRE'!C844","v":0},{"$f":"IF(LEFT(D843,1)=\"6\",'RELEVE BANCAIRE'!$O$2,\"\")","v":""},{"$f":"'RELEVE BANCAIRE'!K844","v":0}]
[{"$f":"'RELEVE BANCAIRE'!G845","v":0},{"$f":"'RELEVE BANCAIRE'!A845","v":"00:00:00"},{"$f":"'RELEVE BANCAIRE'!H845","v":0},{"$f":"'RELEVE BANCAIRE'!J845","v":0},{"$f":"'RELEVE BANCAIRE'!D845*-1","v":0},{"$f":"'RELEVE BANCAIRE'!E845","v":0},{"$f":"'RELEVE BANCAIRE'!C845","v":0},{"$f":"IF(LEFT(D844,1)=\"6\",'RELEVE BANCAIRE'!$O$2,\"\")","v":""},{"$f":"'RELEVE BANCAIRE'!K845","v":0}]
[{"$f":"'RELEVE BANCAIRE'!G846","v":0},{"$f":"'RELEVE BANCAIRE'!A846","v":"00:00:00"},{"$f":"'RELEVE BANCAIRE'!H846","v":0},{"$f":"'RELEVE BANCAIRE'!J846","v":0},{"$f":"'RELEVE BANCAIRE'!D846*-1","v":0},{"$f":"'RELEVE BANCAIRE'!E846","v":0},{"$f":"'RELEVE BANCAIRE'!C846","v":0},{"$f":"IF(LEFT(D845,1)=\"6\",'RELEVE BANCAIRE'!$O$2,\"\")","v":""},{"$f":"'RELEVE BANCAIRE'!K846","v":0}]
[{"$f":"'RELEVE BANCAIRE'!G847","v":0},{"$f":"'RELEVE BANCAIRE'!A847","v":"00:00:00"},{"$f":"'RELEVE BANCAIRE'!H847","v":0},{"$f":"'RELEVE BANCAIRE'!J847","v":0},{"$f":"'RELEVE BANCAIRE'!D847*-1","v":0},{"$f":"'RELEVE BANCAIRE'!E847","v":0},{"$f":"'RELEVE BANCAIRE'!C847","v":0},{"$f":"IF(LEFT(D846,1)=\"6\",'RELEVE BANCAIRE'!$O$2,\"\")","v":""},{"$f":"'RELEVE BANCAIRE'!K847","v":0}]
[{"$f":"'RELEVE BANCAIRE'!G848","v":0},{"$f":"'RELEVE BANCAIRE'!A848","v":"00:00:00"},{"$f":"'RELEVE BANCAIRE'!H848","v":0},{"$f":"'RELEVE BANCAIRE'!J848","v":0},{"$f":"'RELEVE BANCAIRE'!D848*-1","v":0},{"$f":"'RELEVE BANCAIRE'!E848","v":0},{"$f":"'RELEVE BANCAIRE'!C848","v":0},{"$f":"IF(LEFT(D847,1)=\"6\",'RELEVE BANCAIRE'!$O$2,\"\")","v":""},{"$f":"'RELEVE BANCAIRE'!K848","v":0}]
[{"$f":"'RELEVE BANCAIRE'!G849","v":0},{"$f":"'RELEVE BANCAIRE'!A849","v":"00:00:00"},{"$f":"'RELEVE BANCAIRE'!H849","v":0},{"$f":"'RELEVE BANCAIRE'!J849","v":0},{"$f":"'RELEVE BANCAIRE'!D849*-1","v":0},{"$f":"'RELEVE BANCAIRE'!E849","v":0},{"$f":"'RELEVE BANCAIRE'!C849","v":0},{"$f":"IF(LEFT(D848,1)=\"6\",'RELEVE BANCAIRE'!$O$2,\"\")","v":""},{"$f":"'RELEVE BANCAIRE'!K849","v":0}]
[{"$f":"'RELEVE BANCAIRE'!G850","v":0},{"$f":"'RELEVE BANCAIRE'!A850","v":"00:00:00"},{"$f":"'RELEVE BANCAIRE'!H850","v":0},{"$f":"'RELEVE BANCAIRE'!J850","v":0},{"$f":"'RELEVE BANCAIRE'!D850*-1","v":0},{"$f":"'RELEVE BANCAIRE'!E850","v":0},{"$f":"'RELEVE BANCAIRE'!C850","v":0},{"$f":"IF(LEFT(D849,1)=\"6\",'RELEVE BANCAIRE'!$O$2,\"\")","v":""},{"$f":"'RELEVE BANCAIRE'!K850","v":0}]
[{"$f":"'RELEVE BANCAIRE'!G851","v":0},{"$f":"'RELEVE BANCAIRE'!A851","v":"00:00:00"},{"$f":"'RELEVE BANCAIRE'!H851","v":0},{"$f":"'RELEVE BANCAIRE'!J851","v":0},{"$f":"'RELEVE BANCAIRE'!D851*-1","v":0},{"$f":"'RELEVE BANCAIRE'!E851","v":0},{"$f":"'RELEVE BANCAIRE'!C851","v":0},{"$f":"IF(LEFT(D850,1)=\"6\",'RELEVE BANCAIRE'!$O$2,\"\")","v":""},{"$f":"'RELEVE BANCAIRE'!K851","v":0}]
[{"$f":"'RELEVE BANCAIRE'!G852","v":0},{"$f":"'RELEVE BANCAIRE'!A852","v":"00:00:00"},{"$f":"'RELEVE BANCAIRE'!H852","v":0},{"$f":"'RELEVE BANCAIRE'!J852","v":0},{"$f":"'RELEVE BANCAIRE'!D852*-1","v":0},{"$f":"'RELEVE BANCAIRE'!E852","v":0},{"$f":"'RELEVE BANCAIRE'!C852","v":0},{"$f":"IF(LEFT(D851,1)=\"6\",'RELEVE BANCAIRE'!$O$2,\"\")","v":""},{"$f":"'RELEVE BANCAIRE'!K852","v":0}]
[{"$f":"'RELEVE BANCAIRE'!G853","v":0},{"$f":"'RELEVE BANCAIRE'!A853","v":"00:00:00"},{"$f":"'RELEVE BANCAIRE'!H853","v":0},{"$f":"'RELEVE BANCAIRE'!J853","v":0},{"$f":"'RELEVE BANCAIRE'!D853*-1","v":0},{"$f":"'RELEVE BANCAIRE'!E853","v":0},{"$f":"'RELEVE BANCAIRE'!C853","v":0},{"$f":"IF(LEFT(D852,1)=\"6\",'RELEVE BANCAIRE'!$O$2,\"\")","v":""},{"$f":"'RELEVE BANCAIRE'!K853","v":0}]
[{"$f":"'RELEVE BANCAIRE'!G854","v":0},{"$f":"'RELEVE BANCAIRE'!A854","v":"00:00:00"},{"$f":"'RELEVE BANCAIRE'!H854","v":0},{"$f":"'RELEVE BANCAIRE'!J854","v":0},{"$f":"'RELEVE BANCAIRE'!D854*-1","v":0},{"$f":"'RELEVE BANCAIRE'!E854","v":0},{"$f":"'RELEVE BANCAIRE'!C854","v":0},{"$f":"IF(LEFT(D853,1)=\"6\",'RELEVE BANCAIRE'!$O$2,\"\")","v":""},{"$f":"'RELEVE BANCAIRE'!K854","v":0}]
[{"$f":"'RELEVE BANCAIRE'!G855","v":0},{"$f":"'RELEVE BANCAIRE'!A855","v":"00:00:00"},{"$f":"'RELEVE BANCAIRE'!H855","v":0},{"$f":"'RELEVE BANCAIRE'!J855","v":0},{"$f":"'RELEVE BANCAIRE'!D855*-1","v":0},{"$f":"'RELEVE BANCAIRE'!E855","v":0},{"$f":"'RELEVE BANCAIRE'!C855","v":0},{"$f":"IF(LEFT(D854,1)=\"6\",'RELEVE BANCAIRE'!$O$2,\"\")","v":""},{"$f":"'RELEVE BANCAIRE'!K855","v":0}]
[{"$f":"'RELEVE BANCAIRE'!G856","v":0},{"$f":"'RELEVE BANCAIRE'!A856","v":"00:00:00"},{"$f":"'RELEVE BANCAIRE'!H856","v":0},{"$f":"'RELEVE BANCAIRE'!J856","v":0},{"$f":"'RELEVE BANCAIRE'!D856*-1","v":0},{"$f":"'RELEVE BANCAIRE'!E856","v":0},{"$f":"'RELEVE BANCAIRE'!C856","v":0},{"$f":"IF(LEFT(D855,1)=\"6\",'RELEVE BANCAIRE'!$O$2,\"\")","v":""},{"$f":"'RELEVE BANCAIRE'!K856","v":0}]
[{"$f":"'RELEVE BANCAIRE'!G857","v":0},{"$f":"'RELEVE BANCAIRE'!A857","v":"00:00:00"},{"$f":"'RELEVE BANCAIRE'!H857","v":0},{"$f":"'RELEVE BANCAIRE'!J857","v":0},{"$f":"'RELEVE BANCAIRE'!D857*-1","v":0},{"$f":"'RELEVE BANCAIRE'!E857","v":0},{"$f":"'RELEVE BANCAIRE'!C857","v":0},{"$f":"IF(LEFT(D856,1)=\"6\",'RELEVE BANCAIRE'!$O$2,\"\")","v":""},{"$f":"'RELEVE BANCAIRE'!K857","v":0}]
[{"$f":"'RELEVE BANCAIRE'!G858","v":0},{"$f":"'RELEVE BANCAIRE'!A858","v":"00:00:00"},{"$f":"'RELEVE BANCAIRE'!H858","v":0},{"$f":"'RELEVE BANCAIRE'!J858","v":0},{"$f":"'RELEVE BANCAIRE'!D858*-1","v":0},{"$f":"'RELEVE BANCAIRE'!E858","v":0},{"$f":"'RELEVE BANCAIRE'!C858","v":0},{"$f":"IF(LEFT(D857,1)=\"6\",'RELEVE BANCAIRE'!$O$2,\"\")","v":""},{"$f":"'RELEVE BANCAIRE'!K858","v":0}]
[{"$f":"'RELEVE BANCAIRE'!G859","v":0},{"$f":"'RELEVE BANCAIRE'!A859","v":"00:00:00"},{"$f":"'RELEVE BANCAIRE'!H859","v":0},{"$f":"'RELEVE BANCAIRE'!J859","v":0},{"$f":"'RELEVE BANCAIRE'!D859*-1","v":0},{"$f":"'RELEVE BANCAIRE'!E859","v":0},{"$f":"'RELEVE BANCAIRE'!C859","v":0},{"$f":"IF(LEFT(D858,1)=\"6\",'RELEVE BANCAIRE'!$O$2,\"\")","v":""},{"$f":"'RELEVE BANCAIRE'!K859","v":0}]
[{"$f":"'RELEVE BANCAIRE'!G860","v":0},{"$f":"'RELEVE BANCAIRE'!A860","v":"00:00:00"},{"$f":"'RELEVE BANCAIRE'!H860","v":0},{"$f":"'RELEVE BANCAIRE'!J860","v":0},{"$f":"'RELEVE BANCAIRE'!D860*-1","v":0},{"$f":"'RELEVE BANCAIRE'!E860","v":0},{"$f":"'RELEVE BANCAIRE'!C860","v":0},{"$f":"IF(LEFT(D859,1)=\"6\",'RELEVE BANCAIRE'!$O$2,\"\")","v":""},{"$f":"'RELEVE BANCAIRE'!K860","v":0}]
[{"$f":"'RELEVE BANCAIRE'!G861","v":0},{"$f":"'RELEVE BANCAIRE'!A861","v":"00:00:00"},{"$f":"'RELEVE BANCAIRE'!H861","v":0},{"$f":"'RELEVE BANCAIRE'!J861","v":0},{"$f":"'RELEVE BANCAIRE'!D861*-1","v":0},{"$f":"'RELEVE BANCAIRE'!E861","v":0},{"$f":"'RELEVE BANCAIRE'!C861","v":0},{"$f":"IF(LEFT(D860,1)=\"6\",'RELEVE BANCAIRE'!$O$2,\"\")","v":""},{"$f":"'RELEVE BANCAIRE'!K861","v":0}]
[{"$f":"'RELEVE BANCAIRE'!G862","v":0},{"$f":"'RELEVE BANCAIRE'!A862","v":"00:00:00"},{"$f":"'RELEVE BANCAIRE'!H862","v":0},{"$f":"'RELEVE BANCAIRE'!J862","v":0},{"$f":"'RELEVE BANCAIRE'!D862*-1","v":0},{"$f":"'RELEVE BANCAIRE'!E862","v":0},{"$f":"'RELEVE BANCAIRE'!C862","v":0},{"$f":"IF(LEFT(D861,1)=\"6\",'RELEVE BANCAIRE'!$O$2,\"\")","v":""},{"$f":"'RELEVE BANCAIRE'!K862","v":0}]
[{"$f":"'RELEVE BANCAIRE'!G863","v":0},{"$f":"'RELEVE BANCAIRE'!A863","v":"00:00:00"},{"$f":"'RELEVE BANCAIRE'!H863","v":0},{"$f":"'RELEVE BANCAIRE'!J863","v":0},{"$f":"'RELEVE BANCAIRE'!D863*-1","v":0},{"$f":"'RELEVE BANCAIRE'!E863","v":0},{"$f":"'RELEVE BANCAIRE'!C863","v":0},{"$f":"IF(LEFT(D862,1)=\"6\",'RELEVE BANCAIRE'!$O$2,\"\")","v":""},{"$f":"'RELEVE BANCAIRE'!K863","v":0}]
[{"$f":"'RELEVE BANCAIRE'!G864","v":0},{"$f":"'RELEVE BANCAIRE'!A864","v":"00:00:00"},{"$f":"'RELEVE BANCAIRE'!H864","v":0},{"$f":"'RELEVE BANCAIRE'!J864","v":0},{"$f":"'RELEVE BANCAIRE'!D864*-1","v":0},{"$f":"'RELEVE BANCAIRE'!E864","v":0},{"$f":"'RELEVE BANCAIRE'!C864","v":0},{"$f":"IF(LEFT(D863,1)=\"6\",'RELEVE BANCAIRE'!$O$2,\"\")","v":""},{"$f":"'RELEVE BANCAIRE'!K864","v":0}]
[{"$f":"'RELEVE BANCAIRE'!G865","v":0},{"$f":"'RELEVE BANCAIRE'!A865","v":"00:00:00"},{"$f":"'RELEVE BANCAIRE'!H865","v":0},{"$f":"'RELEVE BANCAIRE'!J865","v":0},{"$f":"'RELEVE BANCAIRE'!D865*-1","v":0},{"$f":"'RELEVE BANCAIRE'!E865","v":0},{"$f":"'RELEVE BANCAIRE'!C865","v":0},{"$f":"IF(LEFT(D864,1)=\"6\",'RELEVE BANCAIRE'!$O$2,\"\")","v":""},{"$f":"'RELEVE BANCAIRE'!K865","v":0}]
[{"$f":"'RELEVE BANCAIRE'!G866","v":0},{"$f":"'RELEVE BANCAIRE'!A866","v":"00:00:00"},{"$f":"'RELEVE BANCAIRE'!H866","v":0},{"$f":"'RELEVE BANCAIRE'!J866","v":0},{"$f":"'RELEVE BANCAIRE'!D866*-1","v":0},{"$f":"'RELEVE BANCAIRE'!E866","v":0},{"$f":"'RELEVE BANCAIRE'!C866","v":0},{"$f":"IF(LEFT(D865,1)=\"6\",'RELEVE BANCAIRE'!$O$2,\"\")","v":""},{"$f":"'RELEVE BANCAIRE'!K866","v":0}]
[{"$f":"'RELEVE BANCAIRE'!G867","v":0},{"$f":"'RELEVE BANCAIRE'!A867","v":"00:00:00"},{"$f":"'RELEVE BANCAIRE'!H867","v":0},{"$f":"'RELEVE BANCAIRE'!J867","v":0},{"$f":"'RELEVE BANCAIRE'!D867*-1","v":0},{"$f":"'RELEVE BANCAIRE'!E867","v":0},{"$f":"'RELEVE BANCAIRE'!C867","v":0},{"$f":"IF(LEFT(D866,1)=\"6\",'RELEVE BANCAIRE'!$O$2,\"\")","v":""},{"$f":"'RELEVE BANCAIRE'!K867","v":0}]
[{"$f":"'RELEVE BANCAIRE'!G868","v":0},{"$f":"'RELEVE BANCAIRE'!A868","v":"00:00:00"},{"$f":"'RELEVE BANCAIRE'!H868","v":0},{"$f":"'RELEVE BANCAIRE'!J868","v":0},{"$f":"'RELEVE BANCAIRE'!D868*-1","v":0},{"$f":"'RELEVE BANCAIRE'!E868","v":0},{"$f":"'RELEVE BANCAIRE'!C868","v":0},{"$f":"IF(LEFT(D867,1)=\"6\",'RELEVE BANCAIRE'!$O$2,\"\")","v":""},{"$f":"'RELEVE BANCAIRE'!K868","v":0}]
[{"$f":"'RELEVE BANCAIRE'!G869","v":0},{"$f":"'RELEVE BANCAIRE'!A869","v":"00:00:00"},{"$f":"'RELEVE BANCAIRE'!H869","v":0},{"$f":"'RELEVE BANCAIRE'!J869","v":0},{"$f":"'RELEVE BANCAIRE'!D869*-1","v":0},{"$f":"'RELEVE BANCAIRE'!E869","v":0},{"$f":"'RELEVE BANCAIRE'!C869","v":0},{"$f":"IF(LEFT(D868,1)=\"6\",'RELEVE BANCAIRE'!$O$2,\"\")","v":""},{"$f":"'RELEVE BANCAIRE'!K869","v":0}]
[{"$f":"'RELEVE BANCAIRE'!G870","v":0},{"$f":"'RELEVE BANCAIRE'!A870","v":"00:00:00"},{"$f":"'RELEVE BANCAIRE'!H870","v":0},{"$f":"'RELEVE BANCAIRE'!J870","v":0},{"$f":"'RELEVE BANCAIRE'!D870*-1","v":0},{"$f":"'RELEVE BANCAIRE'!E870","v":0},{"$f":"'RELEVE BANCAIRE'!C870","v":0},{"$f":"IF(LEFT(D869,1)=\"6\",'RELEVE BANCAIRE'!$O$2,\"\")","v":""},{"$f":"'RELEVE BANCAIRE'!K870","v":0}]
[{"$f":"'RELEVE BANCAIRE'!G871","v":0},{"$f":"'RELEVE BANCAIRE'!A871","v":"00:00:00"},{"$f":"'RELEVE BANCAIRE'!H871","v":0},{"$f":"'RELEVE BANCAIRE'!J871","v":0},{"$f":"'RELEVE BANCAIRE'!D871*-1","v":0},{"$f":"'RELEVE BANCAIRE'!E871","v":0},{"$f":"'RELEVE BANCAIRE'!C871","v":0},{"$f":"IF(LEFT(D870,1)=\"6\",'RELEVE BANCAIRE'!$O$2,\"\")","v":""},{"$f":"'RELEVE BANCAIRE'!K871","v":0}]
[{"$f":"'RELEVE BANCAIRE'!G872","v":0},{"$f":"'RELEVE BANCAIRE'!A872","v":"00:00:00"},{"$f":"'RELEVE BANCAIRE'!H872","v":0},{"$f":"'RELEVE BANCAIRE'!J872","v":0},{"$f":"'RELEVE BANCAIRE'!D872*-1","v":0},{"$f":"'RELEVE BANCAIRE'!E872","v":0},{"$f":"'RELEVE BANCAIRE'!C872","v":0},{"$f":"IF(LEFT(D871,1)=\"6\",'RELEVE BANCAIRE'!$O$2,\"\")","v":""},{"$f":"'RELEVE BANCAIRE'!K872","v":0}]
[{"$f":"'RELEVE BANCAIRE'!G873","v":0},{"$f":"'RELEVE BANCAIRE'!A873","v":"00:00:00"},{"$f":"'RELEVE BANCAIRE'!H873","v":0},{"$f":"'RELEVE BANCAIRE'!J873","v":0},{"$f":"'RELEVE BANCAIRE'!D873*-1","v":0},{"$f":"'RELEVE BANCAIRE'!E873","v":0},{"$f":"'RELEVE BANCAIRE'!C873","v":0},{"$f":"IF(LEFT(D872,1)=\"6\",'RELEVE BANCAIRE'!$O$2,\"\")","v":""},{"$f":"'RELEVE BANCAIRE'!K873","v":0}]
[{"$f":"'RELEVE BANCAIRE'!G874","v":0},{"$f":"'RELEVE BANCAIRE'!A874","v":"00:00:00"},{"$f":"'RELEVE BANCAIRE'!H874","v":0},{"$f":"'RELEVE BANCAIRE'!J874","v":0},{"$f":"'RELEVE BANCAIRE'!D874*-1","v":0},{"$f":"'RELEVE BANCAIRE'!E874","v":0},{"$f":"'RELEVE BANCAIRE'!C874","v":0},{"$f":"IF(LEFT(D873,1)=\"6\",'RELEVE BANCAIRE'!$O$2,\"\")","v":""},{"$f":"'RELEVE BANCAIRE'!K874","v":0}]
[{"$f":"'RELEVE BANCAIRE'!G875","v":0},{"$f":"'RELEVE BANCAIRE'!A875","v":"00:00:00"},{"$f":"'RELEVE BANCAIRE'!H875","v":0},{"$f":"'RELEVE BANCAIRE'!J875","v":0},{"$f":"'RELEVE BANCAIRE'!D875*-1","v":0},{"$f":"'RELEVE BANCAIRE'!E875","v":0},{"$f":"'RELEVE BANCAIRE'!C875","v":0},{"$f":"IF(LEFT(D874,1)=\"6\",'RELEVE BANCAIRE'!$O$2,\"\")","v":""},{"$f":"'RELEVE BANCAIRE'!K875","v":0}]
[{"$f":"'RELEVE BANCAIRE'!G876","v":0},{"$f":"'RELEVE BANCAIRE'!A876","v":"00:00:00"},{"$f":"'RELEVE BANCAIRE'!H876","v":0},{"$f":"'RELEVE BANCAIRE'!J876","v":0},{"$f":"'RELEVE BANCAIRE'!D876*-1","v":0},{"$f":"'RELEVE BANCAIRE'!E876","v":0},{"$f":"'RELEVE BANCAIRE'!C876","v":0},{"$f":"IF(LEFT(D875,1)=\"6\",'RELEVE BANCAIRE'!$O$2,\"\")","v":""},{"$f":"'RELEVE BANCAIRE'!K876","v":0}]
[{"$f":"'RELEVE BANCAIRE'!G877","v":0},{"$f":"'RELEVE BANCAIRE'!A877","v":"00:00:00"},{"$f":"'RELEVE BANCAIRE'!H877","v":0},{"$f":"'RELEVE BANCAIRE'!J877","v":0},{"$f":"'RELEVE BANCAIRE'!D877*-1","v":0},{"$f":"'RELEVE BANCAIRE'!E877","v":0},{"$f":"'RELEVE BANCAIRE'!C877","v":0},{"$f":"IF(LEFT(D876,1)=\"6\",'RELEVE BANCAIRE'!$O$2,\"\")","v":""},{"$f":"'RELEVE BANCAIRE'!K877","v":0}]
[{"$f":"'RELEVE BANCAIRE'!G878","v":0},{"$f":"'RELEVE BANCAIRE'!A878","v":"00:00:00"},{"$f":"'RELEVE BANCAIRE'!H878","v":0},{"$f":"'RELEVE BANCAIRE'!J878","v":0},{"$f":"'RELEVE BANCAIRE'!D878*-1","v":0},{"$f":"'RELEVE BANCAIRE'!E878","v":0},{"$f":"'RELEVE BANCAIRE'!C878","v":0},{"$f":"IF(LEFT(D877,1)=\"6\",'RELEVE BANCAIRE'!$O$2,\"\")","v":""},{"$f":"'RELEVE BANCAIRE'!K878","v":0}]
[{"$f":"'RELEVE BANCAIRE'!G879","v":0},{"$f":"'RELEVE BANCAIRE'!A879","v":"00:00:00"},{"$f":"'RELEVE BANCAIRE'!H879","v":0},{"$f":"'RELEVE BANCAIRE'!J879","v":0},{"$f":"'RELEVE BANCAIRE'!D879*-1","v":0},{"$f":"'RELEVE BANCAIRE'!E879","v":0},{"$f":"'RELEVE BANCAIRE'!C879","v":0},{"$f":"IF(LEFT(D878,1)=\"6\",'RELEVE BANCAIRE'!$O$2,\"\")","v":""},{"$f":"'RELEVE BANCAIRE'!K879","v":0}]
[{"$f":"'RELEVE BANCAIRE'!G880","v":0},{"$f":"'RELEVE BANCAIRE'!A880","v":"00:00:00"},{"$f":"'RELEVE BANCAIRE'!H880","v":0},{"$f":"'RELEVE BANCAIRE'!J880","v":0},{"$f":"'RELEVE BANCAIRE'!D880*-1","v":0},{"$f":"'RELEVE BANCAIRE'!E880","v":0},{"$f":"'RELEVE BANCAIRE'!C880","v":0},{"$f":"IF(LEFT(D879,1)=\"6\",'RELEVE BANCAIRE'!$O$2,\"\")","v":""},{"$f":"'RELEVE BANCAIRE'!K880","v":0}]
[{"$f":"'RELEVE BANCAIRE'!G881","v":0},{"$f":"'RELEVE BANCAIRE'!A881","v":"00:00:00"},{"$f":"'RELEVE BANCAIRE'!H881","v":0},{"$f":"'RELEVE BANCAIRE'!J881","v":0},{"$f":"'RELEVE BANCAIRE'!D881*-1","v":0},{"$f":"'RELEVE BANCAIRE'!E881","v":0},{"$f":"'RELEVE BANCAIRE'!C881","v":0},{"$f":"IF(LEFT(D880,1)=\"6\",'RELEVE BANCAIRE'!$O$2,\"\")","v":""},{"$f":"'RELEVE BANCAIRE'!K881","v":0}]
[{"$f":"'RELEVE BANCAIRE'!G882","v":0},{"$f":"'RELEVE BANCAIRE'!A882","v":"00:00:00"},{"$f":"'RELEVE BANCAIRE'!H882","v":0},{"$f":"'RELEVE BANCAIRE'!J882","v":0},{"$f":"'RELEVE BANCAIRE'!D882*-1","v":0},{"$f":"'RELEVE BANCAIRE'!E882","v":0},{"$f":"'RELEVE BANCAIRE'!C882","v":0},{"$f":"IF(LEFT(D881,1)=\"6\",'RELEVE BANCAIRE'!$O$2,\"\")","v":""},{"$f":"'RELEVE BANCAIRE'!K882","v":0}]
[{"$f":"'RELEVE BANCAIRE'!G883","v":0},{"$f":"'RELEVE BANCAIRE'!A883","v":"00:00:00"},{"$f":"'RELEVE BANCAIRE'!H883","v":0},{"$f":"'RELEVE BANCAIRE'!J883","v":0},{"$f":"'RELEVE BANCAIRE'!D883*-1","v":0},{"$f":"'RELEVE BANCAIRE'!E883","v":0},{"$f":"'RELEVE BANCAIRE'!C883","v":0},{"$f":"IF(LEFT(D882,1)=\"6\",'RELEVE BANCAIRE'!$O$2,\"\")","v":""},{"$f":"'RELEVE BANCAIRE'!K883","v":0}]
[{"$f":"'RELEVE BANCAIRE'!G884","v":0},{"$f":"'RELEVE BANCAIRE'!A884","v":"00:00:00"},{"$f":"'RELEVE BANCAIRE'!H884","v":0},{"$f":"'RELEVE BANCAIRE'!J884","v":0},{"$f":"'RELEVE BANCAIRE'!D884*-1","v":0},{"$f":"'RELEVE BANCAIRE'!E884","v":0},{"$f":"'RELEVE BANCAIRE'!C884","v":0},{"$f":"IF(LEFT(D883,1)=\"6\",'RELEVE BANCAIRE'!$O$2,\"\")","v":""},{"$f":"'RELEVE BANCAIRE'!K884","v":0}]
[{"$f":"'RELEVE BANCAIRE'!G885","v":0},{"$f":"'RELEVE BANCAIRE'!A885","v":"00:00:00"},{"$f":"'RELEVE BANCAIRE'!H885","v":0},{"$f":"'RELEVE BANCAIRE'!J885","v":0},{"$f":"'RELEVE BANCAIRE'!D885*-1","v":0},{"$f":"'RELEVE BANCAIRE'!E885","v":0},{"$f":"'RELEVE BANCAIRE'!C885","v":0},{"$f":"IF(LEFT(D884,1)=\"6\",'RELEVE BANCAIRE'!$O$2,\"\")","v":""},{"$f":"'RELEVE BANCAIRE'!K885","v":0}]
[{"$f":"'RELEVE BANCAIRE'!G886","v":0},{"$f":"'RELEVE BANCAIRE'!A886","v":"00:00:00"},{"$f":"'RELEVE BANCAIRE'!H886","v":0},{"$f":"'RELEVE BANCAIRE'!J886","v":0},{"$f":"'RELEVE BANCAIRE'!D886*-1","v":0},{"$f":"'RELEVE BANCAIRE'!E886","v":0},{"$f":"'RELEVE BANCAIRE'!C886","v":0},{"$f":"IF(LEFT(D885,1)=\"6\",'RELEVE BANCAIRE'!$O$2,\"\")","v":""},{"$f":"'RELEVE BANCAIRE'!K886","v":0}]
[{"$f":"'RELEVE BANCAIRE'!G887","v":0},{"$f":"'RELEVE BANCAIRE'!A887","v":"00:00:00"},{"$f":"'RELEVE BANCAIRE'!H887","v":0},{"$f":"'RELEVE BANCAIRE'!J887","v":0},{"$f":"'RELEVE BANCAIRE'!D887*-1","v":0},{"$f":"'RELEVE BANCAIRE'!E887","v":0},{"$f":"'RELEVE BANCAIRE'!C887","v":0},{"$f":"IF(LEFT(D886,1)=\"6\",'RELEVE BANCAIRE'!$O$2,\"\")","v":""},{"$f":"'RELEVE BANCAIRE'!K887","v":0}]
[{"$f":"'RELEVE BANCAIRE'!G888","v":0},{"$f":"'RELEVE BANCAIRE'!A888","v":"00:00:00"},{"$f":"'RELEVE BANCAIRE'!H888","v":0},{"$f":"'RELEVE BANCAIRE'!J888","v":0},{"$f":"'RELEVE BANCAIRE'!D888*-1","v":0},{"$f":"'RELEVE BANCAIRE'!E888","v":0},{"$f":"'RELEVE BANCAIRE'!C888","v":0},{"$f":"IF(LEFT(D887,1)=\"6\",'RELEVE BANCAIRE'!$O$2,\"\")","v":""},{"$f":"'RELEVE BANCAIRE'!K888","v":0}]
[{"$f":"'RELEVE BANCAIRE'!G889","v":0},{"$f":"'RELEVE BANCAIRE'!A889","v":"00:00:00"},{"$f":"'RELEVE BANCAIRE'!H889","v":0},{"$f":"'RELEVE BANCAIRE'!J889","v":0},{"$f":"'RELEVE BANCAIRE'!D889*-1","v":0},{"$f":"'RELEVE BANCAIRE'!E889","v":0},{"$f":"'RELEVE BANCAIRE'!C889","v":0},{"$f":"IF(LEFT(D888,1)=\"6\",'RELEVE BANCAIRE'!$O$2,\"\")","v":""},{"$f":"'RELEVE BANCAIRE'!K889","v":0}]
[{"$f":"'RELEVE BANCAIRE'!G890","v":0},{"$f":"'RELEVE BANCAIRE'!A890","v":"00:00:00"},{"$f":"'RELEVE BANCAIRE'!H890","v":0},{"$f":"'RELEVE BANCAIRE'!J890","v":0},{"$f":"'RELEVE BANCAIRE'!D890*-1","v":0},{"$f":"'RELEVE BANCAIRE'!E890","v":0},{"$f":"'RELEVE BANCAIRE'!C890","v":0},{"$f":"IF(LEFT(D889,1)=\"6\",'RELEVE BANCAIRE'!$O$2,\"\")","v":""},{"$f":"'RELEVE BANCAIRE'!K890","v":0}]
[{"$f":"'RELEVE BANCAIRE'!G891","v":0},{"$f":"'RELEVE BANCAIRE'!A891","v":"00:00:00"},{"$f":"'RELEVE BANCAIRE'!H891","v":0},{"$f":"'RELEVE BANCAIRE'!J891","v":0},{"$f":"'RELEVE BANCAIRE'!D891*-1","v":0},{"$f":"'RELEVE BANCAIRE'!E891","v":0},{"$f":"'RELEVE BANCAIRE'!C891","v":0},{"$f":"IF(LEFT(D890,1)=\"6\",'RELEVE BANCAIRE'!$O$2,\"\")","v":""},{"$f":"'RELEVE BANCAIRE'!K891","v":0}]
[{"$f":"'RELEVE BANCAIRE'!G892","v":0},{"$f":"'RELEVE BANCAIRE'!A892","v":"00:00:00"},{"$f":"'RELEVE BANCAIRE'!H892","v":0},{"$f":"'RELEVE BANCAIRE'!J892","v":0},{"$f":"'RELEVE BANCAIRE'!D892*-1","v":0},{"$f":"'RELEVE BANCAIRE'!E892","v":0},{"$f":"'RELEVE BANCAIRE'!C892","v":0},{"$f":"IF(LEFT(D891,1)=\"6\",'RELEVE BANCAIRE'!$O$2,\"\")","v":""},{"$f":"'RELEVE BANCAIRE'!K892","v":0}]
[{"$f":"'RELEVE BANCAIRE'!G893","v":0},{"$f":"'RELEVE BANCAIRE'!A893","v":"00:00:00"},{"$f":"'RELEVE BANCAIRE'!H893","v":0},{"$f":"'RELEVE BANCAIRE'!J893","v":0},{"$f":"'RELEVE BANCAIRE'!D893*-1","v":0},{"$f":"'RELEVE BANCAIRE'!E893","v":0},{"$f":"'RELEVE BANCAIRE'!C893","v":0},{"$f":"IF(LEFT(D892,1)=\"6\",'RELEVE BANCAIRE'!$O$2,\"\")","v":""},{"$f":"'RELEVE BANCAIRE'!K893","v":0}]
[{"$f":"'RELEVE BANCAIRE'!G894","v":0},{"$f":"'RELEVE BANCAIRE'!A894","v":"00:00:00"},{"$f":"'RELEVE BANCAIRE'!H894","v":0},{"$f":"'RELEVE BANCAIRE'!J894","v":0},{"$f":"'RELEVE BANCAIRE'!D894*-1","v":0},{"$f":"'RELEVE BANCAIRE'!E894","v":0},{"$f":"'RELEVE BANCAIRE'!C894","v":0},{"$f":"IF(LEFT(D893,1)=\"6\",'RELEVE BANCAIRE'!$O$2,\"\")","v":""},{"$f":"'RELEVE BANCAIRE'!K894","v":0}]
[{"$f":"'RELEVE BANCAIRE'!G895","v":0},{"$f":"'RELEVE BANCAIRE'!A895","v":"00:00:00"},{"$f":"'RELEVE BANCAIRE'!H895","v":0},{"$f":"'RELEVE BANCAIRE'!J895","v":0},{"$f":"'RELEVE BANCAIRE'!D895*-1","v":0},{"$f":"'RELEVE BANCAIRE'!E895","v":0},{"$f":"'RELEVE BANCAIRE'!C895","v":0},{"$f":"IF(LEFT(D894,1)=\"6\",'RELEVE BANCAIRE'!$O$2,\"\")","v":""},{"$f":"'RELEVE BANCAIRE'!K895","v":0}]
[{"$f":"'RELEVE BANCAIRE'!G896","v":0},{"$f":"'RELEVE BANCAIRE'!A896","v":"00:00:00"},{"$f":"'RELEVE BANCAIRE'!H896","v":0},{"$f":"'RELEVE BANCAIRE'!J896","v":0},{"$f":"'RELEVE BANCAIRE'!D896*-1","v":0},{"$f":"'RELEVE BANCAIRE'!E896","v":0},{"$f":"'RELEVE BANCAIRE'!C896","v":0},{"$f":"IF(LEFT(D895,1)=\"6\",'RELEVE BANCAIRE'!$O$2,\"\")","v":""},{"$f":"'RELEVE BANCAIRE'!K896","v":0}]
[{"$f":"'RELEVE BANCAIRE'!G897","v":0},{"$f":"'RELEVE BANCAIRE'!A897","v":"00:00:00"},{"$f":"'RELEVE BANCAIRE'!H897","v":0},{"$f":"'RELEVE BANCAIRE'!J897","v":0},{"$f":"'RELEVE BANCAIRE'!D897*-1","v":0},{"$f":"'RELEVE BANCAIRE'!E897","v":0},{"$f":"'RELEVE BANCAIRE'!C897","v":0},{"$f":"IF(LEFT(D896,1)=\"6\",'RELEVE BANCAIRE'!$O$2,\"\")","v":""},{"$f":"'RELEVE BANCAIRE'!K897","v":0}]
[{"$f":"'RELEVE BANCAIRE'!G898","v":0},{"$f":"'RELEVE BANCAIRE'!A898","v":"00:00:00"},{"$f":"'RELEVE BANCAIRE'!H898","v":0},{"$f":"'RELEVE BANCAIRE'!J898","v":0},{"$f":"'RELEVE BANCAIRE'!D898*-1","v":0},{"$f":"'RELEVE BANCAIRE'!E898","v":0},{"$f":"'RELEVE BANCAIRE'!C898","v":0},{"$f":"IF(LEFT(D897,1)=\"6\",'RELEVE BANCAIRE'!$O$2,\"\")","v":""},{"$f":"'RELEVE BANCAIRE'!K898","v":0}]
[{"$f":"'RELEVE BANCAIRE'!G899","v":0},{"$f":"'RELEVE BANCAIRE'!A899","v":"00:00:00"},{"$f":"'RELEVE BANCAIRE'!H899","v":0},{"$f":"'RELEVE BANCAIRE'!J899","v":0},{"$f":"'RELEVE BANCAIRE'!D899*-1","v":0},{"$f":"'RELEVE BANCAIRE'!E899","v":0},{"$f":"'RELEVE BANCAIRE'!C899","v":0},{"$f":"IF(LEFT(D898,1)=\"6\",'RELEVE BANCAIRE'!$O$2,\"\")","v":""},{"$f":"'RELEVE BANCAIRE'!K899","v":0}]
[{"$f":"'RELEVE BANCAIRE'!G900","v":0},{"$f":"'RELEVE BANCAIRE'!A900","v":"00:00:00"},{"$f":"'RELEVE BANCAIRE'!H900","v":0},{"$f":"'RELEVE BANCAIRE'!J900","v":0},{"$f":"'RELEVE BANCAIRE'!D900*-1","v":0},{"$f":"'RELEVE BANCAIRE'!E900","v":0},{"$f":"'RELEVE BANCAIRE'!C900","v":0},{"$f":"IF(LEFT(D899,1)=\"6\",'RELEVE BANCAIRE'!$O$2,\"\")","v":""},{"$f":"'RELEVE BANCAIRE'!K900","v":0}]
[{"$f":"'RELEVE BANCAIRE'!G901","v":0},{"$f":"'RELEVE BANCAIRE'!A901","v":"00:00:00"},{"$f":"'RELEVE BANCAIRE'!H901","v":0},{"$f":"'RELEVE BANCAIRE'!J901","v":0},{"$f":"'RELEVE BANCAIRE'!D901*-1","v":0},{"$f":"'RELEVE BANCAIRE'!E901","v":0},{"$f":"'RELEVE BANCAIRE'!C901","v":0},{"$f":"IF(LEFT(D900,1)=\"6\",'RELEVE BANCAIRE'!$O$2,\"\")","v":""},{"$f":"'RELEVE BANCAIRE'!K901","v":0}]
[{"$f":"'RELEVE BANCAIRE'!G902","v":0},{"$f":"'RELEVE BANCAIRE'!A902","v":"00:00:00"},{"$f":"'RELEVE BANCAIRE'!H902","v":0},{"$f":"'RELEVE BANCAIRE'!J902","v":0},{"$f":"'RELEVE BANCAIRE'!D902*-1","v":0},{"$f":"'RELEVE BANCAIRE'!E902","v":0},{"$f":"'RELEVE BANCAIRE'!C902","v":0},{"$f":"IF(LEFT(D901,1)=\"6\",'RELEVE BANCAIRE'!$O$2,\"\")","v":""},{"$f":"'RELEVE BANCAIRE'!K902","v":0}]
[{"$f":"'RELEVE BANCAIRE'!G903","v":0},{"$f":"'RELEVE BANCAIRE'!A903","v":"00:00:00"},{"$f":"'RELEVE BANCAIRE'!H903","v":0},{"$f":"'RELEVE BANCAIRE'!J903","v":0},{"$f":"'RELEVE BANCAIRE'!D903*-1","v":0},{"$f":"'RELEVE BANCAIRE'!E903","v":0},{"$f":"'RELEVE BANCAIRE'!C903","v":0},{"$f":"IF(LEFT(D902,1)=\"6\",'RELEVE BANCAIRE'!$O$2,\"\")","v":""},{"$f":"'RELEVE BANCAIRE'!K903","v":0}]
[{"$f":"'RELEVE BANCAIRE'!G904","v":0},{"$f":"'RELEVE BANCAIRE'!A904","v":"00:00:00"},{"$f":"'RELEVE BANCAIRE'!H904","v":0},{"$f":"'RELEVE BANCAIRE'!J904","v":0},{"$f":"'RELEVE BANCAIRE'!D904*-1","v":0},{"$f":"'RELEVE BANCAIRE'!E904","v":0},{"$f":"'RELEVE BANCAIRE'!C904","v":0},{"$f":"IF(LEFT(D903,1)=\"6\",'RELEVE BANCAIRE'!$O$2,\"\")","v":""},{"$f":"'RELEVE BANCAIRE'!K904","v":0}]
[{"$f":"'RELEVE BANCAIRE'!G905","v":0},{"$f":"'RELEVE BANCAIRE'!A905","v":"00:00:00"},{"$f":"'RELEVE BANCAIRE'!H905","v":0},{"$f":"'RELEVE BANCAIRE'!J905","v":0},{"$f":"'RELEVE BANCAIRE'!D905*-1","v":0},{"$f":"'RELEVE BANCAIRE'!E905","v":0},{"$f":"'RELEVE BANCAIRE'!C905","v":0},{"$f":"IF(LEFT(D904,1)=\"6\",'RELEVE BANCAIRE'!$O$2,\"\")","v":""},{"$f":"'RELEVE BANCAIRE'!K905","v":0}]
[{"$f":"'RELEVE BANCAIRE'!G906","v":0},{"$f":"'RELEVE BANCAIRE'!A906","v":"00:00:00"},{"$f":"'RELEVE BANCAIRE'!H906","v":0},{"$f":"'RELEVE BANCAIRE'!J906","v":0},{"$f":"'RELEVE BANCAIRE'!D906*-1","v":0},{"$f":"'RELEVE BANCAIRE'!E906","v":0},{"$f":"'RELEVE BANCAIRE'!C906","v":0},{"$f":"IF(LEFT(D905,1)=\"6\",'RELEVE BANCAIRE'!$O$2,\"\")","v":""},{"$f":"'RELEVE BANCAIRE'!K906","v":0}]
[{"$f":"'RELEVE BANCAIRE'!G907","v":0},{"$f":"'RELEVE BANCAIRE'!A907","v":"00:00:00"},{"$f":"'RELEVE BANCAIRE'!H907","v":0},{"$f":"'RELEVE BANCAIRE'!J907","v":0},{"$f":"'RELEVE BANCAIRE'!D907*-1","v":0},{"$f":"'RELEVE BANCAIRE'!E907","v":0},{"$f":"'RELEVE BANCAIRE'!C907","v":0},{"$f":"IF(LEFT(D906,1)=\"6\",'RELEVE BANCAIRE'!$O$2,\"\")","v":""},{"$f":"'RELEVE BANCAIRE'!K907","v":0}]
[{"$f":"'RELEVE BANCAIRE'!G908","v":0},{"$f":"'RELEVE BANCAIRE'!A908","v":"00:00:00"},{"$f":"'RELEVE BANCAIRE'!H908","v":0},{"$f":"'RELEVE BANCAIRE'!J908","v":0},{"$f":"'RELEVE BANCAIRE'!D908*-1","v":0},{"$f":"'RELEVE BANCAIRE'!E908","v":0},{"$f":"'RELEVE BANCAIRE'!C908","v":0},{"$f":"IF(LEFT(D907,1)=\"6\",'RELEVE BANCAIRE'!$O$2,\"\")","v":""},{"$f":"'RELEVE BANCAIRE'!K908","v":0}]
[{"$f":"'RELEVE BANCAIRE'!G909","v":0},{"$f":"'RELEVE BANCAIRE'!A909","v":"00:00:00"},{"$f":"'RELEVE BANCAIRE'!H909","v":0},{"$f":"'RELEVE BANCAIRE'!J909","v":0},{"$f":"'RELEVE BANCAIRE'!D909*-1","v":0},{"$f":"'RELEVE BANCAIRE'!E909","v":0},{"$f":"'RELEVE BANCAIRE'!C909","v":0},{"$f":"IF(LEFT(D908,1)=\"6\",'RELEVE BANCAIRE'!$O$2,\"\")","v":""},{"$f":"'RELEVE BANCAIRE'!K909","v":0}]
[{"$f":"'RELEVE BANCAIRE'!G910","v":0},{"$f":"'RELEVE BANCAIRE'!A910","v":"00:00:00"},{"$f":"'RELEVE BANCAIRE'!H910","v":0},{"$f":"'RELEVE BANCAIRE'!J910","v":0},{"$f":"'RELEVE BANCAIRE'!D910*-1","v":0},{"$f":"'RELEVE BANCAIRE'!E910","v":0},{"$f":"'RELEVE BANCAIRE'!C910","v":0},{"$f":"IF(LEFT(D909,1)=\"6\",'RELEVE BANCAIRE'!$O$2,\"\")","v":""},{"$f":"'RELEVE BANCAIRE'!K910","v":0}]
[{"$f":"'RELEVE BANCAIRE'!G911","v":0},{"$f":"'RELEVE BANCAIRE'!A911","v":"00:00:00"},{"$f":"'RELEVE BANCAIRE'!H911","v":0},{"$f":"'RELEVE BANCAIRE'!J911","v":0},{"$f":"'RELEVE BANCAIRE'!D911*-1","v":0},{"$f":"'RELEVE BANCAIRE'!E911","v":0},{"$f":"'RELEVE BANCAIRE'!C911","v":0},{"$f":"IF(LEFT(D910,1)=\"6\",'RELEVE BANCAIRE'!$O$2,\"\")","v":""},{"$f":"'RELEVE BANCAIRE'!K911","v":0}]
[{"$f":"'RELEVE BANCAIRE'!G912","v":0},{"$f":"'RELEVE BANCAIRE'!A912","v":"00:00:00"},{"$f":"'RELEVE BANCAIRE'!H912","v":0},{"$f":"'RELEVE BANCAIRE'!J912","v":0},{"$f":"'RELEVE BANCAIRE'!D912*-1","v":0},{"$f":"'RELEVE BANCAIRE'!E912","v":0},{"$f":"'RELEVE BANCAIRE'!C912","v":0},{"$f":"IF(LEFT(D911,1)=\"6\",'RELEVE BANCAIRE'!$O$2,\"\")","v":""},{"$f":"'RELEVE BANCAIRE'!K912","v":0}]
[{"$f":"'RELEVE BANCAIRE'!G913","v":0},{"$f":"'RELEVE BANCAIRE'!A913","v":"00:00:00"},{"$f":"'RELEVE BANCAIRE'!H913","v":0},{"$f":"'RELEVE BANCAIRE'!J913","v":0},{"$f":"'RELEVE BANCAIRE'!D913*-1","v":0},{"$f":"'RELEVE BANCAIRE'!E913","v":0},{"$f":"'RELEVE BANCAIRE'!C913","v":0},{"$f":"IF(LEFT(D912,1)=\"6\",'RELEVE BANCAIRE'!$O$2,\"\")","v":""},{"$f":"'RELEVE BANCAIRE'!K913","v":0}]
[{"$f":"'RELEVE BANCAIRE'!G914","v":0},{"$f":"'RELEVE BANCAIRE'!A914","v":"00:00:00"},{"$f":"'RELEVE BANCAIRE'!H914","v":0},{"$f":"'RELEVE BANCAIRE'!J914","v":0},{"$f":"'RELEVE BANCAIRE'!D914*-1","v":0},{"$f":"'RELEVE BANCAIRE'!E914","v":0},{"$f":"'RELEVE BANCAIRE'!C914","v":0},{"$f":"IF(LEFT(D913,1)=\"6\",'RELEVE BANCAIRE'!$O$2,\"\")","v":""},{"$f":"'RELEVE BANCAIRE'!K914","v":0}]
[{"$f":"'RELEVE BANCAIRE'!G915","v":0},{"$f":"'RELEVE BANCAIRE'!A915","v":"00:00:00"},{"$f":"'RELEVE BANCAIRE'!H915","v":0},{"$f":"'RELEVE BANCAIRE'!J915","v":0},{"$f":"'RELEVE BANCAIRE'!D915*-1","v":0},{"$f":"'RELEVE BANCAIRE'!E915","v":0},{"$f":"'RELEVE BANCAIRE'!C915","v":0},{"$f":"IF(LEFT(D914,1)=\"6\",'RELEVE BANCAIRE'!$O$2,\"\")","v":""},{"$f":"'RELEVE BANCAIRE'!K915","v":0}]
[{"$f":"'RELEVE BANCAIRE'!G916","v":0},{"$f":"'RELEVE BANCAIRE'!A916","v":"00:00:00"},{"$f":"'RELEVE BANCAIRE'!H916","v":0},{"$f":"'RELEVE BANCAIRE'!J916","v":0},{"$f":"'RELEVE BANCAIRE'!D916*-1","v":0},{"$f":"'RELEVE BANCAIRE'!E916","v":0},{"$f":"'RELEVE BANCAIRE'!C916","v":0},{"$f":"IF(LEFT(D915,1)=\"6\",'RELEVE BANCAIRE'!$O$2,\"\")","v":""},{"$f":"'RELEVE BANCAIRE'!K916","v":0}]
[{"$f":"'RELEVE BANCAIRE'!G917","v":0},{"$f":"'RELEVE BANCAIRE'!A917","v":"00:00:00"},{"$f":"'RELEVE BANCAIRE'!H917","v":0},{"$f":"'RELEVE BANCAIRE'!J917","v":0},{"$f":"'RELEVE BANCAIRE'!D917*-1","v":0},{"$f":"'RELEVE BANCAIRE'!E917","v":0},{"$f":"'RELEVE BANCAIRE'!C917","v":0},{"$f":"IF(LEFT(D916,1)=\"6\",'RELEVE BANCAIRE'!$O$2,\"\")","v":""},{"$f":"'RELEVE BANCAIRE'!K917","v":0}]
[{"$f":"'RELEVE BANCAIRE'!G918","v":0},{"$f":"'RELEVE BANCAIRE'!A918","v":"00:00:00"},{"$f":"'RELEVE BANCAIRE'!H918","v":0},{"$f":"'RELEVE BANCAIRE'!J918","v":0},{"$f":"'RELEVE BANCAIRE'!D918*-1","v":0},{"$f":"'RELEVE BANCAIRE'!E918","v":0},{"$f":"'RELEVE BANCAIRE'!C918","v":0},{"$f":"IF(LEFT(D917,1)=\"6\",'RELEVE BANCAIRE'!$O$2,\"\")","v":""},{"$f":"'RELEVE BANCAIRE'!K918","v":0}]
[{"$f":"'RELEVE BANCAIRE'!G919","v":0},{"$f":"'RELEVE BANCAIRE'!A919","v":"00:00:00"},{"$f":"'RELEVE BANCAIRE'!H919","v":0},{"$f":"'RELEVE BANCAIRE'!J919","v":0},{"$f":"'RELEVE BANCAIRE'!D919*-1","v":0},{"$f":"'RELEVE BANCAIRE'!E919","v":0},{"$f":"'RELEVE BANCAIRE'!C919","v":0},{"$f":"IF(LEFT(D918,1)=\"6\",'RELEVE BANCAIRE'!$O$2,\"\")","v":""},{"$f":"'RELEVE BANCAIRE'!K919","v":0}]
[{"$f":"'RELEVE BANCAIRE'!G920","v":0},{"$f":"'RELEVE BANCAIRE'!A920","v":"00:00:00"},{"$f":"'RELEVE BANCAIRE'!H920","v":0},{"$f":"'RELEVE BANCAIRE'!J920","v":0},{"$f":"'RELEVE BANCAIRE'!D920*-1","v":0},{"$f":"'RELEVE BANCAIRE'!E920","v":0},{"$f":"'RELEVE BANCAIRE'!C920","v":0},{"$f":"IF(LEFT(D919,1)=\"6\",'RELEVE BANCAIRE'!$O$2,\"\")","v":""},{"$f":"'RELEVE BANCAIRE'!K920","v":0}]
[{"$f":"'RELEVE BANCAIRE'!G921","v":0},{"$f":"'RELEVE BANCAIRE'!A921","v":"00:00:00"},{"$f":"'RELEVE BANCAIRE'!H921","v":0},{"$f":"'RELEVE BANCAIRE'!J921","v":0},{"$f":"'RELEVE BANCAIRE'!D921*-1","v":0},{"$f":"'RELEVE BANCAIRE'!E921","v":0},{"$f":"'RELEVE BANCAIRE'!C921","v":0},{"$f":"IF(LEFT(D920,1)=\"6\",'RELEVE BANCAIRE'!$O$2,\"\")","v":""},{"$f":"'RELEVE BANCAIRE'!K921","v":0}]
[{"$f":"'RELEVE BANCAIRE'!G922","v":0},{"$f":"'RELEVE BANCAIRE'!A922","v":"00:00:00"},{"$f":"'RELEVE BANCAIRE'!H922","v":0},{"$f":"'RELEVE BANCAIRE'!J922","v":0},{"$f":"'RELEVE BANCAIRE'!D922*-1","v":0},{"$f":"'RELEVE BANCAIRE'!E922","v":0},{"$f":"'RELEVE BANCAIRE'!C922","v":0},{"$f":"IF(LEFT(D921,1)=\"6\",'RELEVE BANCAIRE'!$O$2,\"\")","v":""},{"$f":"'RELEVE BANCAIRE'!K922","v":0}]
[{"$f":"'RELEVE BANCAIRE'!G923","v":0},{"$f":"'RELEVE BANCAIRE'!A923","v":"00:00:00"},{"$f":"'RELEVE BANCAIRE'!H923","v":0},{"$f":"'RELEVE BANCAIRE'!J923","v":0},{"$f":"'RELEVE BANCAIRE'!D923*-1","v":0},{"$f":"'RELEVE BANCAIRE'!E923","v":0},{"$f":"'RELEVE BANCAIRE'!C923","v":0},{"$f":"IF(LEFT(D922,1)=\"6\",'RELEVE BANCAIRE'!$O$2,\"\")","v":""},{"$f":"'RELEVE BANCAIRE'!K923","v":0}]
[{"$f":"'RELEVE BANCAIRE'!G924","v":0},{"$f":"'RELEVE BANCAIRE'!A924","v":"00:00:00"},{"$f":"'RELEVE BANCAIRE'!H924","v":0},{"$f":"'RELEVE BANCAIRE'!J924","v":0},{"$f":"'RELEVE BANCAIRE'!D924*-1","v":0},{"$f":"'RELEVE BANCAIRE'!E924","v":0},{"$f":"'RELEVE BANCAIRE'!C924","v":0},{"$f":"IF(LEFT(D923,1)=\"6\",'RELEVE BANCAIRE'!$O$2,\"\")","v":""},{"$f":"'RELEVE BANCAIRE'!K924","v":0}]
[{"$f":"'RELEVE BANCAIRE'!G925","v":0},{"$f":"'RELEVE BANCAIRE'!A925","v":"00:00:00"},{"$f":"'RELEVE BANCAIRE'!H925","v":0},{"$f":"'RELEVE BANCAIRE'!J925","v":0},{"$f":"'RELEVE BANCAIRE'!D925*-1","v":0},{"$f":"'RELEVE BANCAIRE'!E925","v":0},{"$f":"'RELEVE BANCAIRE'!C925","v":0},{"$f":"IF(LEFT(D924,1)=\"6\",'RELEVE BANCAIRE'!$O$2,\"\")","v":""},{"$f":"'RELEVE BANCAIRE'!K925","v":0}]
[{"$f":"'RELEVE BANCAIRE'!G926","v":0},{"$f":"'RELEVE BANCAIRE'!A926","v":"00:00:00"},{"$f":"'RELEVE BANCAIRE'!H926","v":0},{"$f":"'RELEVE BANCAIRE'!J926","v":0},{"$f":"'RELEVE BANCAIRE'!D926*-1","v":0},{"$f":"'RELEVE BANCAIRE'!E926","v":0},{"$f":"'RELEVE BANCAIRE'!C926","v":0},{"$f":"IF(LEFT(D925,1)=\"6\",'RELEVE BANCAIRE'!$O$2,\"\")","v":""},{"$f":"'RELEVE BANCAIRE'!K926","v":0}]
[{"$f":"'RELEVE BANCAIRE'!G927","v":0},{"$f":"'RELEVE BANCAIRE'!A927","v":"00:00:00"},{"$f":"'RELEVE BANCAIRE'!H927","v":0},{"$f":"'RELEVE BANCAIRE'!J927","v":0},{"$f":"'RELEVE BANCAIRE'!D927*-1","v":0},{"$f":"'RELEVE BANCAIRE'!E927","v":0},{"$f":"'RELEVE BANCAIRE'!C927","v":0},{"$f":"IF(LEFT(D926,1)=\"6\",'RELEVE BANCAIRE'!$O$2,\"\")","v":""},{"$f":"'RELEVE BANCAIRE'!K927","v":0}]
[{"$f":"'RELEVE BANCAIRE'!G928","v":0},{"$f":"'RELEVE BANCAIRE'!A928","v":"00:00:00"},{"$f":"'RELEVE BANCAIRE'!H928","v":0},{"$f":"'RELEVE BANCAIRE'!J928","v":0},{"$f":"'RELEVE BANCAIRE'!D928*-1","v":0},{"$f":"'RELEVE BANCAIRE'!E928","v":0},{"$f":"'RELEVE BANCAIRE'!C928","v":0},{"$f":"IF(LEFT(D927,1)=\"6\",'RELEVE BANCAIRE'!$O$2,\"\")","v":""},{"$f":"'RELEVE BANCAIRE'!K928","v":0}]
[{"$f":"'RELEVE BANCAIRE'!G929","v":0},{"$f":"'RELEVE BANCAIRE'!A929","v":"00:00:00"},{"$f":"'RELEVE BANCAIRE'!H929","v":0},{"$f":"'RELEVE BANCAIRE'!J929","v":0},{"$f":"'RELEVE BANCAIRE'!D929*-1","v":0},{"$f":"'RELEVE BANCAIRE'!E929","v":0},{"$f":"'RELEVE BANCAIRE'!C929","v":0},{"$f":"IF(LEFT(D928,1)=\"6\",'RELEVE BANCAIRE'!$O$2,\"\")","v":""},{"$f":"'RELEVE BANCAIRE'!K929","v":0}]
[{"$f":"'RELEVE BANCAIRE'!G930","v":0},{"$f":"'RELEVE BANCAIRE'!A930","v":"00:00:00"},{"$f":"'RELEVE BANCAIRE'!H930","v":0},{"$f":"'RELEVE BANCAIRE'!J930","v":0},{"$f":"'RELEVE BANCAIRE'!D930*-1","v":0},{"$f":"'RELEVE BANCAIRE'!E930","v":0},{"$f":"'RELEVE BANCAIRE'!C930","v":0},{"$f":"IF(LEFT(D929,1)=\"6\",'RELEVE BANCAIRE'!$O$2,\"\")","v":""},{"$f":"'RELEVE BANCAIRE'!K930","v":0}]
[{"$f":"'RELEVE BANCAIRE'!G931","v":0},{"$f":"'RELEVE BANCAIRE'!A931","v":"00:00:00"},{"$f":"'RELEVE BANCAIRE'!H931","v":0},{"$f":"'RELEVE BANCAIRE'!J931","v":0},{"$f":"'RELEVE BANCAIRE'!D931*-1","v":0},{"$f":"'RELEVE BANCAIRE'!E931","v":0},{"$f":"'RELEVE BANCAIRE'!C931","v":0},{"$f":"IF(LEFT(D930,1)=\"6\",'RELEVE BANCAIRE'!$O$2,\"\")","v":""},{"$f":"'RELEVE BANCAIRE'!K931","v":0}]
[{"$f":"'RELEVE BANCAIRE'!G932","v":0},{"$f":"'RELEVE BANCAIRE'!A932","v":"00:00:00"},{"$f":"'RELEVE BANCAIRE'!H932","v":0},{"$f":"'RELEVE BANCAIRE'!J932","v":0},{"$f":"'RELEVE BANCAIRE'!D932*-1","v":0},{"$f":"'RELEVE BANCAIRE'!E932","v":0},{"$f":"'RELEVE BANCAIRE'!C932","v":0},{"$f":"IF(LEFT(D931,1)=\"6\",'RELEVE BANCAIRE'!$O$2,\"\")","v":""},{"$f":"'RELEVE BANCAIRE'!K932","v":0}]
[{"$f":"'RELEVE BANCAIRE'!G933","v":0},{"$f":"'RELEVE BANCAIRE'!A933","v":"00:00:00"},{"$f":"'RELEVE BANCAIRE'!H933","v":0},{"$f":"'RELEVE BANCAIRE'!J933","v":0},{"$f":"'RELEVE BANCAIRE'!D933*-1","v":0},{"$f":"'RELEVE BANCAIRE'!E933","v":0},{"$f":"'RELEVE BANCAIRE'!C933","v":0},{"$f":"IF(LEFT(D932,1)=\"6\",'RELEVE BANCAIRE'!$O$2,\"\")","v":""},{"$f":"'RELEVE BANCAIRE'!K933","v":0}]
[{"$f":"'RELEVE BANCAIRE'!G934","v":0},{"$f":"'RELEVE BANCAIRE'!A934","v":"00:00:00"},{"$f":"'RELEVE BANCAIRE'!H934","v":0},{"$f":"'RELEVE BANCAIRE'!J934","v":0},{"$f":"'RELEVE BANCAIRE'!D934*-1","v":0},{"$f":"'RELEVE BANCAIRE'!E934","v":0},{"$f":"'RELEVE BANCAIRE'!C934","v":0},{"$f":"IF(LEFT(D933,1)=\"6\",'RELEVE BANCAIRE'!$O$2,\"\")","v":""},{"$f":"'RELEVE BANCAIRE'!K934","v":0}]
[{"$f":"'RELEVE BANCAIRE'!G935","v":0},{"$f":"'RELEVE BANCAIRE'!A935","v":"00:00:00"},{"$f":"'RELEVE BANCAIRE'!H935","v":0},{"$f":"'RELEVE BANCAIRE'!J935","v":0},{"$f":"'RELEVE BANCAIRE'!D935*-1","v":0},{"$f":"'RELEVE BANCAIRE'!E935","v":0},{"$f":"'RELEVE BANCAIRE'!C935","v":0},{"$f":"IF(LEFT(D934,1)=\"6\",'RELEVE BANCAIRE'!$O$2,\"\")","v":""},{"$f":"'RELEVE BANCAIRE'!K935","v":0}]
[{"$f":"'RELEVE BANCAIRE'!G936","v":0},{"$f":"'RELEVE BANCAIRE'!A936","v":"00:00:00"},{"$f":"'RELEVE BANCAIRE'!H936","v":0},{"$f":"'RELEVE BANCAIRE'!J936","v":0},{"$f":"'RELEVE BANCAIRE'!D936*-1","v":0},{"$f":"'RELEVE BANCAIRE'!E936","v":0},{"$f":"'RELEVE BANCAIRE'!C936","v":0},{"$f":"IF(LEFT(D935,1)=\"6\",'RELEVE BANCAIRE'!$O$2,\"\")","v":""},{"$f":"'RELEVE BANCAIRE'!K936","v":0}]
[{"$f":"'RELEVE BANCAIRE'!G937","v":0},{"$f":"'RELEVE BANCAIRE'!A937","v":"00:00:00"},{"$f":"'RELEVE BANCAIRE'!H937","v":0},{"$f":"'RELEVE BANCAIRE'!J937","v":0},{"$f":"'RELEVE BANCAIRE'!D937*-1","v":0},{"$f":"'RELEVE BANCAIRE'!E937","v":0},{"$f":"'RELEVE BANCAIRE'!C937","v":0},{"$f":"IF(LEFT(D936,1)=\"6\",'RELEVE BANCAIRE'!$O$2,\"\")","v":""},{"$f":"'RELEVE BANCAIRE'!K937","v":0}]
[{"$f":"'RELEVE BANCAIRE'!G938","v":0},{"$f":"'RELEVE BANCAIRE'!A938","v":"00:00:00"},{"$f":"'RELEVE BANCAIRE'!H938","v":0},{"$f":"'RELEVE BANCAIRE'!J938","v":0},{"$f":"'RELEVE BANCAIRE'!D938*-1","v":0},{"$f":"'RELEVE BANCAIRE'!E938","v":0},{"$f":"'RELEVE BANCAIRE'!C938","v":0},{"$f":"IF(LEFT(D937,1)=\"6\",'RELEVE BANCAIRE'!$O$2,\"\")","v":""},{"$f":"'RELEVE BANCAIRE'!K938","v":0}]
[{"$f":"'RELEVE BANCAIRE'!G939","v":0},{"$f":"'RELEVE BANCAIRE'!A939","v":"00:00:00"},{"$f":"'RELEVE BANCAIRE'!H939","v":0},{"$f":"'RELEVE BANCAIRE'!J939","v":0},{"$f":"'RELEVE BANCAIRE'!D939*-1","v":0},{"$f":"'RELEVE BANCAIRE'!E939","v":0},{"$f":"'RELEVE BANCAIRE'!C939","v":0},{"$f":"IF(LEFT(D938,1)=\"6\",'RELEVE BANCAIRE'!$O$2,\"\")","v":""},{"$f":"'RELEVE BANCAIRE'!K939","v":0}]
[{"$f":"'RELEVE BANCAIRE'!G940","v":0},{"$f":"'RELEVE BANCAIRE'!A940","v":"00:00:00"},{"$f":"'RELEVE BANCAIRE'!H940","v":0},{"$f":"'RELEVE BANCAIRE'!J940","v":0},{"$f":"'RELEVE BANCAIRE'!D940*-1","v":0},{"$f":"'RELEVE BANCAIRE'!E940","v":0},{"$f":"'RELEVE BANCAIRE'!C940","v":0},{"$f":"IF(LEFT(D939,1)=\"6\",'RELEVE BANCAIRE'!$O$2,\"\")","v":""},{"$f":"'RELEVE BANCAIRE'!K940","v":0}]
[{"$f":"'RELEVE BANCAIRE'!G941","v":0},{"$f":"'RELEVE BANCAIRE'!A941","v":"00:00:00"},{"$f":"'RELEVE BANCAIRE'!H941","v":0},{"$f":"'RELEVE BANCAIRE'!J941","v":0},{"$f":"'RELEVE BANCAIRE'!D941*-1","v":0},{"$f":"'RELEVE BANCAIRE'!E941","v":0},{"$f":"'RELEVE BANCAIRE'!C941","v":0},{"$f":"IF(LEFT(D940,1)=\"6\",'RELEVE BANCAIRE'!$O$2,\"\")","v":""},{"$f":"'RELEVE BANCAIRE'!K941","v":0}]
[{"$f":"'RELEVE BANCAIRE'!G942","v":0},{"$f":"'RELEVE BANCAIRE'!A942","v":"00:00:00"},{"$f":"'RELEVE BANCAIRE'!H942","v":0},{"$f":"'RELEVE BANCAIRE'!J942","v":0},{"$f":"'RELEVE BANCAIRE'!D942*-1","v":0},{"$f":"'RELEVE BANCAIRE'!E942","v":0},{"$f":"'RELEVE BANCAIRE'!C942","v":0},{"$f":"IF(LEFT(D941,1)=\"6\",'RELEVE BANCAIRE'!$O$2,\"\")","v":""},{"$f":"'RELEVE BANCAIRE'!K942","v":0}]
[{"$f":"'RELEVE BANCAIRE'!G943","v":0},{"$f":"'RELEVE BANCAIRE'!A943","v":"00:00:00"},{"$f":"'RELEVE BANCAIRE'!H943","v":0},{"$f":"'RELEVE BANCAIRE'!J943","v":0},{"$f":"'RELEVE BANCAIRE'!D943*-1","v":0},{"$f":"'RELEVE BANCAIRE'!E943","v":0},{"$f":"'RELEVE BANCAIRE'!C943","v":0},{"$f":"IF(LEFT(D942,1)=\"6\",'RELEVE BANCAIRE'!$O$2,\"\")","v":""},{"$f":"'RELEVE BANCAIRE'!K943","v":0}]
[{"$f":"'RELEVE BANCAIRE'!G944","v":0},{"$f":"'RELEVE BANCAIRE'!A944","v":"00:00:00"},{"$f":"'RELEVE BANCAIRE'!H944","v":0},{"$f":"'RELEVE BANCAIRE'!J944","v":0},{"$f":"'RELEVE BANCAIRE'!D944*-1","v":0},{"$f":"'RELEVE BANCAIRE'!E944","v":0},{"$f":"'RELEVE BANCAIRE'!C944","v":0},{"$f":"IF(LEFT(D943,1)=\"6\",'RELEVE BANCAIRE'!$O$2,\"\")","v":""},{"$f":"'RELEVE BANCAIRE'!K944","v":0}]
[{"$f":"'RELEVE BANCAIRE'!G945","v":0},{"$f":"'RELEVE BANCAIRE'!A945","v":"00:00:00"},{"$f":"'RELEVE BANCAIRE'!H945","v":0},{"$f":"'RELEVE BANCAIRE'!J945","v":0},{"$f":"'RELEVE BANCAIRE'!D945*-1","v":0},{"$f":"'RELEVE BANCAIRE'!E945","v":0},{"$f":"'RELEVE BANCAIRE'!C945","v":0},{"$f":"IF(LEFT(D944,1)=\"6\",'RELEVE BANCAIRE'!$O$2,\"\")","v":""},{"$f":"'RELEVE BANCAIRE'!K945","v":0}]
[{"$f":"'RELEVE BANCAIRE'!G946","v":0},{"$f":"'RELEVE BANCAIRE'!A946","v":"00:00:00"},{"$f":"'RELEVE BANCAIRE'!H946","v":0},{"$f":"'RELEVE BANCAIRE'!J946","v":0},{"$f":"'RELEVE BANCAIRE'!D946*-1","v":0},{"$f":"'RELEVE BANCAIRE'!E946","v":0},{"$f":"'RELEVE BANCAIRE'!C946","v":0},{"$f":"IF(LEFT(D945,1)=\"6\",'RELEVE BANCAIRE'!$O$2,\"\")","v":""},{"$f":"'RELEVE BANCAIRE'!K946","v":0}]
[{"$f":"'RELEVE BANCAIRE'!G947","v":0},{"$f":"'RELEVE BANCAIRE'!A947","v":"00:00:00"},{"$f":"'RELEVE BANCAIRE'!H947","v":0},{"$f":"'RELEVE BANCAIRE'!J947","v":0},{"$f":"'RELEVE BANCAIRE'!D947*-1","v":0},{"$f":"'RELEVE BANCAIRE'!E947","v":0},{"$f":"'RELEVE BANCAIRE'!C947","v":0},{"$f":"IF(LEFT(D946,1)=\"6\",'RELEVE BANCAIRE'!$O$2,\"\")","v":""},{"$f":"'RELEVE BANCAIRE'!K947","v":0}]
[{"$f":"'RELEVE BANCAIRE'!G948","v":0},{"$f":"'RELEVE BANCAIRE'!A948","v":"00:00:00"},{"$f":"'RELEVE BANCAIRE'!H948","v":0},{"$f":"'RELEVE BANCAIRE'!J948","v":0},{"$f":"'RELEVE BANCAIRE'!D948*-1","v":0},{"$f":"'RELEVE BANCAIRE'!E948","v":0},{"$f":"'RELEVE BANCAIRE'!C948","v":0},{"$f":"IF(LEFT(D947,1)=\"6\",'RELEVE BANCAIRE'!$O$2,\"\")","v":""},{"$f":"'RELEVE BANCAIRE'!K948","v":0}]
[{"$f":"'RELEVE BANCAIRE'!G949","v":0},{"$f":"'RELEVE BANCAIRE'!A949","v":"00:00:00"},{"$f":"'RELEVE BANCAIRE'!H949","v":0},{"$f":"'RELEVE BANCAIRE'!J949","v":0},{"$f":"'RELEVE BANCAIRE'!D949*-1","v":0},{"$f":"'RELEVE BANCAIRE'!E949","v":0},{"$f":"'RELEVE BANCAIRE'!C949","v":0},{"$f":"IF(LEFT(D948,1)=\"6\",'RELEVE BANCAIRE'!$O$2,\"\")","v":""},{"$f":"'RELEVE BANCAIRE'!K949","v":0}]
[{"$f":"'RELEVE BANCAIRE'!G950","v":0},{"$f":"'RELEVE BANCAIRE'!A950","v":"00:00:00"},{"$f":"'RELEVE BANCAIRE'!H950","v":0},{"$f":"'RELEVE BANCAIRE'!J950","v":0},{"$f":"'RELEVE BANCAIRE'!D950*-1","v":0},{"$f":"'RELEVE BANCAIRE'!E950","v":0},{"$f":"'RELEVE BANCAIRE'!C950","v":0},{"$f":"IF(LEFT(D949,1)=\"6\",'RELEVE BANCAIRE'!$O$2,\"\")","v":""},{"$f":"'RELEVE BANCAIRE'!K950","v":0}]
[{"$f":"'RELEVE BANCAIRE'!G951","v":0},{"$f":"'RELEVE BANCAIRE'!A951","v":"00:00:00"},{"$f":"'RELEVE BANCAIRE'!H951","v":0},{"$f":"'RELEVE BANCAIRE'!J951","v":0},{"$f":"'RELEVE BANCAIRE'!D951*-1","v":0},{"$f":"'RELEVE BANCAIRE'!E951","v":0},{"$f":"'RELEVE BANCAIRE'!C951","v":0},{"$f":"IF(LEFT(D950,1)=\"6\",'RELEVE BANCAIRE'!$O$2,\"\")","v":""},{"$f":"'RELEVE BANCAIRE'!K951","v":0}]
[{"$f":"'RELEVE BANCAIRE'!G952","v":0},{"$f":"'RELEVE BANCAIRE'!A952","v":"00:00:00"},{"$f":"'RELEVE BANCAIRE'!H952","v":0},{"$f":"'RELEVE BANCAIRE'!J952","v":0},{"$f":"'RELEVE BANCAIRE'!D952*-1","v":0},{"$f":"'RELEVE BANCAIRE'!E952","v":0},{"$f":"'RELEVE BANCAIRE'!C952","v":0},{"$f":"IF(LEFT(D951,1)=\"6\",'RELEVE BANCAIRE'!$O$2,\"\")","v":""},{"$f":"'RELEVE BANCAIRE'!K952","v":0}]
[{"$f":"'RELEVE BANCAIRE'!G953","v":0},{"$f":"'RELEVE BANCAIRE'!A953","v":"00:00:00"},{"$f":"'RELEVE BANCAIRE'!H953","v":0},{"$f":"'RELEVE BANCAIRE'!J953","v":0},{"$f":"'RELEVE BANCAIRE'!D953*-1","v":0},{"$f":"'RELEVE BANCAIRE'!E953","v":0},{"$f":"'RELEVE BANCAIRE'!C953","v":0},{"$f":"IF(LEFT(D952,1)=\"6\",'RELEVE BANCAIRE'!$O$2,\"\")","v":""},{"$f":"'RELEVE BANCAIRE'!K953","v":0}]
[{"$f":"'RELEVE BANCAIRE'!G954","v":0},{"$f":"'RELEVE BANCAIRE'!A954","v":"00:00:00"},{"$f":"'RELEVE BANCAIRE'!H954","v":0},{"$f":"'RELEVE BANCAIRE'!J954","v":0},{"$f":"'RELEVE BANCAIRE'!D954*-1","v":0},{"$f":"'RELEVE BANCAIRE'!E954","v":0},{"$f":"'RELEVE BANCAIRE'!C954","v":0},{"$f":"IF(LEFT(D953,1)=\"6\",'RELEVE BANCAIRE'!$O$2,\"\")","v":""},{"$f":"'RELEVE BANCAIRE'!K954","v":0}]
[{"$f":"'RELEVE BANCAIRE'!G955","v":0},{"$f":"'RELEVE BANCAIRE'!A955","v":"00:00:00"},{"$f":"'RELEVE BANCAIRE'!H955","v":0},{"$f":"'RELEVE BANCAIRE'!J955","v":0},{"$f":"'RELEVE BANCAIRE'!D955*-1","v":0},{"$f":"'RELEVE BANCAIRE'!E955","v":0},{"$f":"'RELEVE BANCAIRE'!C955","v":0},{"$f":"IF(LEFT(D954,1)=\"6\",'RELEVE BANCAIRE'!$O$2,\"\")","v":""},{"$f":"'RELEVE BANCAIRE'!K955","v":0}]
[{"$f":"'RELEVE BANCAIRE'!G956","v":0},{"$f":"'RELEVE BANCAIRE'!A956","v":"00:00:00"},{"$f":"'RELEVE BANCAIRE'!H956","v":0},{"$f":"'RELEVE BANCAIRE'!J956","v":0},{"$f":"'RELEVE BANCAIRE'!D956*-1","v":0},{"$f":"'RELEVE BANCAIRE'!E956","v":0},{"$f":"'RELEVE BANCAIRE'!C956","v":0},{"$f":"IF(LEFT(D955,1)=\"6\",'RELEVE BANCAIRE'!$O$2,\"\")","v":""},{"$f":"'RELEVE BANCAIRE'!K956","v":0}]
[{"$f":"'RELEVE BANCAIRE'!G957","v":0},{"$f":"'RELEVE BANCAIRE'!A957","v":"00:00:00"},{"$f":"'RELEVE BANCAIRE'!H957","v":0},{"$f":"'RELEVE BANCAIRE'!J957","v":0},{"$f":"'RELEVE BANCAIRE'!D957*-1","v":0},{"$f":"'RELEVE BANCAIRE'!E957","v":0},{"$f":"'RELEVE BANCAIRE'!C957","v":0},{"$f":"IF(LEFT(D956,1)=\"6\",'RELEVE BANCAIRE'!$O$2,\"\")","v":""},{"$f":"'RELEVE BANCAIRE'!K957","v":0}]
[{"$f":"'RELEVE BANCAIRE'!G958","v":0},{"$f":"'RELEVE BANCAIRE'!A958","v":"00:00:00"},{"$f":"'RELEVE BANCAIRE'!H958","v":0},{"$f":"'RELEVE BANCAIRE'!J958","v":0},{"$f":"'RELEVE BANCAIRE'!D958*-1","v":0},{"$f":"'RELEVE BANCAIRE'!E958","v":0},{"$f":"'RELEVE BANCAIRE'!C958","v":0},{"$f":"IF(LEFT(D957,1)=\"6\",'RELEVE BANCAIRE'!$O$2,\"\")","v":""},{"$f":"'RELEVE BANCAIRE'!K958","v":0}]
[{"$f":"'RELEVE BANCAIRE'!G959","v":0},{"$f":"'RELEVE BANCAIRE'!A959","v":"00:00:00"},{"$f":"'RELEVE BANCAIRE'!H959","v":0},{"$f":"'RELEVE BANCAIRE'!J959","v":0},{"$f":"'RELEVE BANCAIRE'!D959*-1","v":0},{"$f":"'RELEVE BANCAIRE'!E959","v":0},{"$f":"'RELEVE BANCAIRE'!C959","v":0},{"$f":"IF(LEFT(D958,1)=\"6\",'RELEVE BANCAIRE'!$O$2,\"\")","v":""},{"$f":"'RELEVE BANCAIRE'!K959","v":0}]
[{"$f":"'RELEVE BANCAIRE'!G960","v":0},{"$f":"'RELEVE BANCAIRE'!A960","v":"00:00:00"},{"$f":"'RELEVE BANCAIRE'!H960","v":0},{"$f":"'RELEVE BANCAIRE'!J960","v":0},{"$f":"'RELEVE BANCAIRE'!D960*-1","v":0},{"$f":"'RELEVE BANCAIRE'!E960","v":0},{"$f":"'RELEVE BANCAIRE'!C960","v":0},{"$f":"IF(LEFT(D959,1)=\"6\",'RELEVE BANCAIRE'!$O$2,\"\")","v":""},{"$f":"'RELEVE BANCAIRE'!K960","v":0}]
[{"$f":"'RELEVE BANCAIRE'!G961","v":0},{"$f":"'RELEVE BANCAIRE'!A961","v":"00:00:00"},{"$f":"'RELEVE BANCAIRE'!H961","v":0},{"$f":"'RELEVE BANCAIRE'!J961","v":0},{"$f":"'RELEVE BANCAIRE'!D961*-1","v":0},{"$f":"'RELEVE BANCAIRE'!E961","v":0},{"$f":"'RELEVE BANCAIRE'!C961","v":0},{"$f":"IF(LEFT(D960,1)=\"6\",'RELEVE BANCAIRE'!$O$2,\"\")","v":""},{"$f":"'RELEVE BANCAIRE'!K961","v":0}]
[{"$f":"'RELEVE BANCAIRE'!G962","v":0},{"$f":"'RELEVE BANCAIRE'!A962","v":"00:00:00"},{"$f":"'RELEVE BANCAIRE'!H962","v":0},{"$f":"'RELEVE BANCAIRE'!J962","v":0},{"$f":"'RELEVE BANCAIRE'!D962*-1","v":0},{"$f":"'RELEVE BANCAIRE'!E962","v":0},{"$f":"'RELEVE BANCAIRE'!C962","v":0},{"$f":"IF(LEFT(D961,1)=\"6\",'RELEVE BANCAIRE'!$O$2,\"\")","v":""},{"$f":"'RELEVE BANCAIRE'!K962","v":0}]
[{"$f":"'RELEVE BANCAIRE'!G963","v":0},{"$f":"'RELEVE BANCAIRE'!A963","v":"00:00:00"},{"$f":"'RELEVE BANCAIRE'!H963","v":0},{"$f":"'RELEVE BANCAIRE'!J963","v":0},{"$f":"'RELEVE BANCAIRE'!D963*-1","v":0},{"$f":"'RELEVE BANCAIRE'!E963","v":0},{"$f":"'RELEVE BANCAIRE'!C963","v":0},{"$f":"IF(LEFT(D962,1)=\"6\",'RELEVE BANCAIRE'!$O$2,\"\")","v":""},{"$f":"'RELEVE BANCAIRE'!K963","v":0}]
[{"$f":"'RELEVE BANCAIRE'!G964","v":0},{"$f":"'RELEVE BANCAIRE'!A964","v":"00:00:00"},{"$f":"'RELEVE BANCAIRE'!H964","v":0},{"$f":"'RELEVE BANCAIRE'!J964","v":0},{"$f":"'RELEVE BANCAIRE'!D964*-1","v":0},{"$f":"'RELEVE BANCAIRE'!E964","v":0},{"$f":"'RELEVE BANCAIRE'!C964","v":0},{"$f":"IF(LEFT(D963,1)=\"6\",'RELEVE BANCAIRE'!$O$2,\"\")","v":""},{"$f":"'RELEVE BANCAIRE'!K964","v":0}]
[{"$f":"'RELEVE BANCAIRE'!G965","v":0},{"$f":"'RELEVE BANCAIRE'!A965","v":"00:00:00"},{"$f":"'RELEVE BANCAIRE'!H965","v":0},{"$f":"'RELEVE BANCAIRE'!J965","v":0},{"$f":"'RELEVE BANCAIRE'!D965*-1","v":0},{"$f":"'RELEVE BANCAIRE'!E965","v":0},{"$f":"'RELEVE BANCAIRE'!C965","v":0},{"$f":"IF(LEFT(D964,1)=\"6\",'RELEVE BANCAIRE'!$O$2,\"\")","v":""},{"$f":"'RELEVE BANCAIRE'!K965","v":0}]
[{"$f":"'RELEVE BANCAIRE'!G966","v":0},{"$f":"'RELEVE BANCAIRE'!A966","v":"00:00:00"},{"$f":"'RELEVE BANCAIRE'!H966","v":0},{"$f":"'RELEVE BANCAIRE'!J966","v":0},{"$f":"'RELEVE BANCAIRE'!D966*-1","v":0},{"$f":"'RELEVE BANCAIRE'!E966","v":0},{"$f":"'RELEVE BANCAIRE'!C966","v":0},{"$f":"IF(LEFT(D965,1)=\"6\",'RELEVE BANCAIRE'!$O$2,\"\")","v":""},{"$f":"'RELEVE BANCAIRE'!K966","v":0}]
[{"$f":"'RELEVE BANCAIRE'!G967","v":0},{"$f":"'RELEVE BANCAIRE'!A967","v":"00:00:00"},{"$f":"'RELEVE BANCAIRE'!H967","v":0},{"$f":"'RELEVE BANCAIRE'!J967","v":0},{"$f":"'RELEVE BANCAIRE'!D967*-1","v":0},{"$f":"'RELEVE BANCAIRE'!E967","v":0},{"$f":"'RELEVE BANCAIRE'!C967","v":0},{"$f":"IF(LEFT(D966,1)=\"6\",'RELEVE BANCAIRE'!$O$2,\"\")","v":""},{"$f":"'RELEVE BANCAIRE'!K967","v":0}]
[{"$f":"'RELEVE BANCAIRE'!G968","v":0},{"$f":"'RELEVE BANCAIRE'!A968","v":"00:00:00"},{"$f":"'RELEVE BANCAIRE'!H968","v":0},{"$f":"'RELEVE BANCAIRE'!J968","v":0},{"$f":"'RELEVE BANCAIRE'!D968*-1","v":0},{"$f":"'RELEVE BANCAIRE'!E968","v":0},{"$f":"'RELEVE BANCAIRE'!C968","v":0},{"$f":"IF(LEFT(D967,1)=\"6\",'RELEVE BANCAIRE'!$O$2,\"\")","v":""},{"$f":"'RELEVE BANCAIRE'!K968","v":0}]
[{"$f":"'RELEVE BANCAIRE'!G969","v":0},{"$f":"'RELEVE BANCAIRE'!A969","v":"00:00:00"},{"$f":"'RELEVE BANCAIRE'!H969","v":0},{"$f":"'RELEVE BANCAIRE'!J969","v":0},{"$f":"'RELEVE BANCAIRE'!D969*-1","v":0},{"$f":"'RELEVE BANCAIRE'!E969","v":0},{"$f":"'RELEVE BANCAIRE'!C969","v":0},{"$f":"IF(LEFT(D968,1)=\"6\",'RELEVE BANCAIRE'!$O$2,\"\")","v":""},{"$f":"'RELEVE BANCAIRE'!K969","v":0}]
[{"$f":"'RELEVE BANCAIRE'!G970","v":0},{"$f":"'RELEVE BANCAIRE'!A970","v":"00:00:00"},{"$f":"'RELEVE BANCAIRE'!H970","v":0},{"$f":"'RELEVE BANCAIRE'!J970","v":0},{"$f":"'RELEVE BANCAIRE'!D970*-1","v":0},{"$f":"'RELEVE BANCAIRE'!E970","v":0},{"$f":"'RELEVE BANCAIRE'!C970","v":0},{"$f":"IF(LEFT(D969,1)=\"6\",'RELEVE BANCAIRE'!$O$2,\"\")","v":""},{"$f":"'RELEVE BANCAIRE'!K970","v":0}]
[{"$f":"'RELEVE BANCAIRE'!G971","v":0},{"$f":"'RELEVE BANCAIRE'!A971","v":"00:00:00"},{"$f":"'RELEVE BANCAIRE'!H971","v":0},{"$f":"'RELEVE BANCAIRE'!J971","v":0},{"$f":"'RELEVE BANCAIRE'!D971*-1","v":0},{"$f":"'RELEVE BANCAIRE'!E971","v":0},{"$f":"'RELEVE BANCAIRE'!C971","v":0},{"$f":"IF(LEFT(D970,1)=\"6\",'RELEVE BANCAIRE'!$O$2,\"\")","v":""},{"$f":"'RELEVE BANCAIRE'!K971","v":0}]
[{"$f":"'RELEVE BANCAIRE'!G972","v":0},{"$f":"'RELEVE BANCAIRE'!A972","v":"00:00:00"},{"$f":"'RELEVE BANCAIRE'!H972","v":0},{"$f":"'RELEVE BANCAIRE'!J972","v":0},{"$f":"'RELEVE BANCAIRE'!D972*-1","v":0},{"$f":"'RELEVE BANCAIRE'!E972","v":0},{"$f":"'RELEVE BANCAIRE'!C972","v":0},{"$f":"IF(LEFT(D971,1)=\"6\",'RELEVE BANCAIRE'!$O$2,\"\")","v":""},{"$f":"'RELEVE BANCAIRE'!K972","v":0}]
[{"$f":"'RELEVE BANCAIRE'!G973","v":0},{"$f":"'RELEVE BANCAIRE'!A973","v":"00:00:00"},{"$f":"'RELEVE BANCAIRE'!H973","v":0},{"$f":"'RELEVE BANCAIRE'!J973","v":0},{"$f":"'RELEVE BANCAIRE'!D973*-1","v":0},{"$f":"'RELEVE BANCAIRE'!E973","v":0},{"$f":"'RELEVE BANCAIRE'!C973","v":0},{"$f":"IF(LEFT(D972,1)=\"6\",'RELEVE BANCAIRE'!$O$2,\"\")","v":""},{"$f":"'RELEVE BANCAIRE'!K973","v":0}]
[{"$f":"'RELEVE BANCAIRE'!G974","v":0},{"$f":"'RELEVE BANCAIRE'!A974","v":"00:00:00"},{"$f":"'RELEVE BANCAIRE'!H974","v":0},{"$f":"'RELEVE BANCAIRE'!J974","v":0},{"$f":"'RELEVE BANCAIRE'!D974*-1","v":0},{"$f":"'RELEVE BANCAIRE'!E974","v":0},{"$f":"'RELEVE BANCAIRE'!C974","v":0},{"$f":"IF(LEFT(D973,1)=\"6\",'RELEVE BANCAIRE'!$O$2,\"\")","v":""},{"$f":"'RELEVE BANCAIRE'!K974","v":0}]
[{"$f":"'RELEVE BANCAIRE'!G975","v":0},{"$f":"'RELEVE BANCAIRE'!A975","v":"00:00:00"},{"$f":"'RELEVE BANCAIRE'!H975","v":0},{"$f":"'RELEVE BANCAIRE'!J975","v":0},{"$f":"'RELEVE BANCAIRE'!D975*-1","v":0},{"$f":"'RELEVE BANCAIRE'!E975","v":0},{"$f":"'RELEVE BANCAIRE'!C975","v":0},{"$f":"IF(LEFT(D974,1)=\"6\",'RELEVE BANCAIRE'!$O$2,\"\")","v":""},{"$f":"'RELEVE BANCAIRE'!K975","v":0}]
[{"$f":"'RELEVE BANCAIRE'!G976","v":0},{"$f":"'RELEVE BANCAIRE'!A976","v":"00:00:00"},{"$f":"'RELEVE BANCAIRE'!H976","v":0},{"$f":"'RELEVE BANCAIRE'!J976","v":0},{"$f":"'RELEVE BANCAIRE'!D976*-1","v":0},{"$f":"'RELEVE BANCAIRE'!E976","v":0},{"$f":"'RELEVE BANCAIRE'!C976","v":0},{"$f":"IF(LEFT(D975,1)=\"6\",'RELEVE BANCAIRE'!$O$2,\"\")","v":""},{"$f":"'RELEVE BANCAIRE'!K976","v":0}]
[{"$f":"'RELEVE BANCAIRE'!G977","v":0},{"$f":"'RELEVE BANCAIRE'!A977","v":"00:00:00"},{"$f":"'RELEVE BANCAIRE'!H977","v":0},{"$f":"'RELEVE BANCAIRE'!J977","v":0},{"$f":"'RELEVE BANCAIRE'!D977*-1","v":0},{"$f":"'RELEVE BANCAIRE'!E977","v":0},{"$f":"'RELEVE BANCAIRE'!C977","v":0},{"$f":"IF(LEFT(D976,1)=\"6\",'RELEVE BANCAIRE'!$O$2,\"\")","v":""},{"$f":"'RELEVE BANCAIRE'!K977","v":0}]
[{"$f":"'RELEVE BANCAIRE'!G978","v":0},{"$f":"'RELEVE BANCAIRE'!A978","v":"00:00:00"},{"$f":"'RELEVE BANCAIRE'!H978","v":0},{"$f":"'RELEVE BANCAIRE'!J978","v":0},{"$f":"'RELEVE BANCAIRE'!D978*-1","v":0},{"$f":"'RELEVE BANCAIRE'!E978","v":0},{"$f":"'RELEVE BANCAIRE'!C978","v":0},{"$f":"IF(LEFT(D977,1)=\"6\",'RELEVE BANCAIRE'!$O$2,\"\")","v":""},{"$f":"'RELEVE BANCAIRE'!K978","v":0}]
[{"$f":"'RELEVE BANCAIRE'!G979","v":0},{"$f":"'RELEVE BANCAIRE'!A979","v":"00:00:00"},{"$f":"'RELEVE BANCAIRE'!H979","v":0},{"$f":"'RELEVE BANCAIRE'!J979","v":0},{"$f":"'RELEVE BANCAIRE'!D979*-1","v":0},{"$f":"'RELEVE BANCAIRE'!E979","v":0},{"$f":"'RELEVE BANCAIRE'!C979","v":0},{"$f":"IF(LEFT(D978,1)=\"6\",'RELEVE BANCAIRE'!$O$2,\"\")","v":""},{"$f":"'RELEVE BANCAIRE'!K979","v":0}]
[{"$f":"'RELEVE BANCAIRE'!G980","v":0},{"$f":"'RELEVE BANCAIRE'!A980","v":"00:00:00"},{"$f":"'RELEVE BANCAIRE'!H980","v":0},{"$f":"'RELEVE BANCAIRE'!J980","v":0},{"$f":"'RELEVE BANCAIRE'!D980*-1","v":0},{"$f":"'RELEVE BANCAIRE'!E980","v":0},{"$f":"'RELEVE BANCAIRE'!C980","v":0},{"$f":"IF(LEFT(D979,1)=\"6\",'RELEVE BANCAIRE'!$O$2,\"\")","v":""},{"$f":"'RELEVE BANCAIRE'!K980","v":0}]
[{"$f":"'RELEVE BANCAIRE'!G981","v":0},{"$f":"'RELEVE BANCAIRE'!A981","v":"00:00:00"},{"$f":"'RELEVE BANCAIRE'!H981","v":0},{"$f":"'RELEVE BANCAIRE'!J981","v":0},{"$f":"'RELEVE BANCAIRE'!D981*-1","v":0},{"$f":"'RELEVE BANCAIRE'!E981","v":0},{"$f":"'RELEVE BANCAIRE'!C981","v":0},{"$f":"IF(LEFT(D980,1)=\"6\",'RELEVE BANCAIRE'!$O$2,\"\")","v":""},{"$f":"'RELEVE BANCAIRE'!K981","v":0}]
[{"$f":"'RELEVE BANCAIRE'!G982","v":0},{"$f":"'RELEVE BANCAIRE'!A982","v":"00:00:00"},{"$f":"'RELEVE BANCAIRE'!H982","v":0},{"$f":"'RELEVE BANCAIRE'!J982","v":0},{"$f":"'RELEVE BANCAIRE'!D982*-1","v":0},{"$f":"'RELEVE BANCAIRE'!E982","v":0},{"$f":"'RELEVE BANCAIRE'!C982","v":0},{"$f":"IF(LEFT(D981,1)=\"6\",'RELEVE BANCAIRE'!$O$2,\"\")","v":""},{"$f":"'RELEVE BANCAIRE'!K982","v":0}]
[{"$f":"'RELEVE BANCAIRE'!G983","v":0},{"$f":"'RELEVE BANCAIRE'!A983","v":"00:00:00"},{"$f":"'RELEVE BANCAIRE'!H983","v":0},{"$f":"'RELEVE BANCAIRE'!J983","v":0},{"$f":"'RELEVE BANCAIRE'!D983*-1","v":0},{"$f":"'RELEVE BANCAIRE'!E983","v":0},{"$f":"'RELEVE BANCAIRE'!C983","v":0},{"$f":"IF(LEFT(D982,1)=\"6\",'RELEVE BANCAIRE'!$O$2,\"\")","v":""},{"$f":"'RELEVE BANCAIRE'!K983","v":0}]
[{"$f":"'RELEVE BANCAIRE'!G984","v":0},{"$f":"'RELEVE BANCAIRE'!A984","v":"00:00:00"},{"$f":"'RELEVE BANCAIRE'!H984","v":0},{"$f":"'RELEVE BANCAIRE'!J984","v":0},{"$f":"'RELEVE BANCAIRE'!D984*-1","v":0},{"$f":"'RELEVE BANCAIRE'!E984","v":0},{"$f":"'RELEVE BANCAIRE'!C984","v":0},{"$f":"IF(LEFT(D983,1)=\"6\",'RELEVE BANCAIRE'!$O$2,\"\")","v":""},{"$f":"'RELEVE BANCAIRE'!K984","v":0}]
[{"$f":"'RELEVE BANCAIRE'!G985","v":0},{"$f":"'RELEVE BANCAIRE'!A985","v":"00:00:00"},{"$f":"'RELEVE BANCAIRE'!H985","v":0},{"$f":"'RELEVE BANCAIRE'!J985","v":0},{"$f":"'RELEVE BANCAIRE'!D985*-1","v":0},{"$f":"'RELEVE BANCAIRE'!E985","v":0},{"$f":"'RELEVE BANCAIRE'!C985","v":0},{"$f":"IF(LEFT(D984,1)=\"6\",'RELEVE BANCAIRE'!$O$2,\"\")","v":""},{"$f":"'RELEVE BANCAIRE'!K985","v":0}]
[{"$f":"'RELEVE BANCAIRE'!G986","v":0},{"$f":"'RELEVE BANCAIRE'!A986","v":"00:00:00"},{"$f":"'RELEVE BANCAIRE'!H986","v":0},{"$f":"'RELEVE BANCAIRE'!J986","v":0},{"$f":"'RELEVE BANCAIRE'!D986*-1","v":0},{"$f":"'RELEVE BANCAIRE'!E986","v":0},{"$f":"'RELEVE BANCAIRE'!C986","v":0},{"$f":"IF(LEFT(D985,1)=\"6\",'RELEVE BANCAIRE'!$O$2,\"\")","v":""},{"$f":"'RELEVE BANCAIRE'!K986","v":0}]
[{"$f":"'RELEVE BANCAIRE'!G987","v":0},{"$f":"'RELEVE BANCAIRE'!A987","v":"00:00:00"},{"$f":"'RELEVE BANCAIRE'!H987","v":0},{"$f":"'RELEVE BANCAIRE'!J987","v":0},{"$f":"'RELEVE BANCAIRE'!D987*-1","v":0},{"$f":"'RELEVE BANCAIRE'!E987","v":0},{"$f":"'RELEVE BANCAIRE'!C987","v":0},{"$f":"IF(LEFT(D986,1)=\"6\",'RELEVE BANCAIRE'!$O$2,\"\")","v":""},{"$f":"'RELEVE BANCAIRE'!K987","v":0}]
[{"$f":"'RELEVE BANCAIRE'!G988","v":0},{"$f":"'RELEVE BANCAIRE'!A988","v":"00:00:00"},{"$f":"'RELEVE BANCAIRE'!H988","v":0},{"$f":"'RELEVE BANCAIRE'!J988","v":0},{"$f":"'RELEVE BANCAIRE'!D988*-1","v":0},{"$f":"'RELEVE BANCAIRE'!E988","v":0},{"$f":"'RELEVE BANCAIRE'!C988","v":0},{"$f":"IF(LEFT(D987,1)=\"6\",'RELEVE BANCAIRE'!$O$2,\"\")","v":""},{"$f":"'RELEVE BANCAIRE'!K988","v":0}]
[{"$f":"'RELEVE BANCAIRE'!G989","v":0},{"$f":"'RELEVE BANCAIRE'!A989","v":"00:00:00"},{"$f":"'RELEVE BANCAIRE'!H989","v":0},{"$f":"'RELEVE BANCAIRE'!J989","v":0},{"$f":"'RELEVE BANCAIRE'!D989*-1","v":0},{"$f":"'RELEVE BANCAIRE'!E989","v":0},{"$f":"'RELEVE BANCAIRE'!C989","v":0},{"$f":"IF(LEFT(D988,1)=\"6\",'RELEVE BANCAIRE'!$O$2,\"\")","v":""},{"$f":"'RELEVE BANCAIRE'!K989","v":0}]
[{"$f":"'RELEVE BANCAIRE'!G990","v":0},{"$f":"'RELEVE BANCAIRE'!A990","v":"00:00:00"},{"$f":"'RELEVE BANCAIRE'!H990","v":0},{"$f":"'RELEVE BANCAIRE'!J990","v":0},{"$f":"'RELEVE BANCAIRE'!D990*-1","v":0},{"$f":"'RELEVE BANCAIRE'!E990","v":0},{"$f":"'RELEVE BANCAIRE'!C990","v":0},{"$f":"IF(LEFT(D989,1)=\"6\",'RELEVE BANCAIRE'!$O$2,\"\")","v":""},{"$f":"'RELEVE BANCAIRE'!K990","v":0}]
[{"$f":"'RELEVE BANCAIRE'!G991","v":0},{"$f":"'RELEVE BANCAIRE'!A991","v":"00:00:00"},{"$f":"'RELEVE BANCAIRE'!H991","v":0},{"$f":"'RELEVE BANCAIRE'!J991","v":0},{"$f":"'RELEVE BANCAIRE'!D991*-1","v":0},{"$f":"'RELEVE BANCAIRE'!E991","v":0},{"$f":"'RELEVE BANCAIRE'!C991","v":0},{"$f":"IF(LEFT(D990,1)=\"6\",'RELEVE BANCAIRE'!$O$2,\"\")","v":""},{"$f":"'RELEVE BANCAIRE'!K991","v":0}]
[{"$f":"'RELEVE BANCAIRE'!G992","v":0},{"$f":"'RELEVE BANCAIRE'!A992","v":"00:00:00"},{"$f":"'RELEVE BANCAIRE'!H992","v":0},{"$f":"'RELEVE BANCAIRE'!J992","v":0},{"$f":"'RELEVE BANCAIRE'!D992*-1","v":0},{"$f":"'RELEVE BANCAIRE'!E992","v":0},{"$f":"'RELEVE BANCAIRE'!C992","v":0},{"$f":"IF(LEFT(D991,1)=\"6\",'RELEVE BANCAIRE'!$O$2,\"\")","v":""},{"$f":"'RELEVE BANCAIRE'!K992","v":0}]
[{"$f":"'RELEVE BANCAIRE'!G993","v":0},{"$f":"'RELEVE BANCAIRE'!A993","v":"00:00:00"},{"$f":"'RELEVE BANCAIRE'!H993","v":0},{"$f":"'RELEVE BANCAIRE'!J993","v":0},{"$f":"'RELEVE BANCAIRE'!D993*-1","v":0},{"$f":"'RELEVE BANCAIRE'!E993","v":0},{"$f":"'RELEVE BANCAIRE'!C993","v":0},{"$f":"IF(LEFT(D992,1)=\"6\",'RELEVE BANCAIRE'!$O$2,\"\")","v":""},{"$f":"'RELEVE BANCAIRE'!K993","v":0}]

{"sheet":"BQAMB CREDITMUTUEL","index":4,"n_rows":997,"n_cols":12,"rows_kept":997}
["référence","date","journal_id",{"$nulls":3},"line_ids/account_id","line_ids/debit","line_ids/credit","line_ids/name","line_ids/Compte analytique","line_ids/Partenaire"]
[{"$f":"IF(B2=\"\",\"\",\"BQAMB CREDITMUTUEL\")","v":"BQAMB CREDITMUTUEL"},{"$f":"IF(E2<>E1,E2,\"\")","v":"2023-05-12"},{"$f":"IF(B2=\"\",\"\",D2)","v":"BQ4"},"BQ4","2023-05-12",1,51200004,{"v":0,"d":"0.00 €"},-1000,"PASSIONFROID"]
["","","","BQ4","2023-05-12",1,40110000,-1000,0,"PASSIONFROID","","FPASSIONFROIDAMB"]
["BQAMB CREDITMUTUEL","2023-05-18","BQ4","BQ4","2023-05-18",2,51200004,0,-100,"ORANGE"]
["","","","BQ4","2023-05-18",2,40110000,-100,0,"ORANGE","","FORANGEAMB"]
["BQAMB CREDITMUTUEL","2023-05-19","BQ4","BQ4","2023-05-19",3,51200004,5000,0,"VIREMENT"]
["","","","BQ4","2023-05-19",3,51160004,0,5000,"VIREMENT","",""]
["BQAMB CREDITMUTUEL","2023-05-21","BQ4","BQ4","2023-05-21",4,51200004,12000,0,"VIREMENT"]
["","","","BQ4","2023-05-21",4,51160004,0,12000,"VIREMENT","",""]
["BQAMB CREDITMUTUEL","00:00:00",0]
["","",""]
["","",""]
["","",""]
["","",""]
["","",""]
["","",""]
["","",""]
["","",""]
["","",""]
["","",""]
["","",""]
["","",""]
["","",""]
["","",""]
["","",""]
["","",""]
["","",""]
["","",""]
["","",""]
["","",""]
["","",""]
["","",""]
["","",""]
["","",""]
["","",""]
["","",""]
["","",""]
["","",""]
["","",""]
["","",""]
["","",""]
["","",""]
["","",""]
["","",""]
["","",""]
["","",""]
["","",""]
["","",""]
["","",""]
["","",""]
["","",""]
["","",""]
["","",""]
["","",""]
["","",""]
["","",""]
["","",""]
["","",""]
["","",""]
["","",""]
["","",""]
["","",""]
["","",""]
["","",""]
["","",""]
[{"$f":"IF(B66=\"\",\"\",\"BQAMB CREDITMUTUEL\")","v":""},{"$f":"IF(E66<>E65,E66,\"\")","v":""},{"$f":"IF(B66=\"\",\"\",D66)","v":""}]
["","",""]
["","",""]
["","",""]
["","",""]
["","",""]
["","",""]
["","",""]
["","",""]
["","",""]
["","",""]
["","",""]
["","",""]
["","",""]
["","",""]
["","",""]
["","",""]
["","",""]
["","",""]
["","",""]
["","",""]
["","",""]
["","",""]
["","",""]
["","",""]
["","",""]
["","",""]
["","",""]
["","",""]
["","",""]
["","",""]
["","",""]
["","",""]
["","",""]
["","",""]
["","",""]
["","",""]
["","",""]
["","",""]
["","",""]
["","",""]
["","",""]
["","",""]
["","",""]
["","",""]
["","",""]
["","",""]
["","",""]
["","",""]
["","",""]
["","",""]
["","",""]
["","",""]
["","",""]
["","",""]
["","",""]
["","",""]
["","",""]
["","",""]
["","",""]
["","",""]
["","",""]
["","",""]
["","",""]
[{"$f":"IF(B130=\"\",\"\",\"BQAMB CREDITMUTUEL\")","v":""},{"$f":"IF(E130<>E129,E130,\"\")","v":""},{"$f":"IF(B130=\"\",\"\",D130)","v":""}]
["","",""]
["","",""]
["","",""]
["","",""]
["","",""]
["","",""]
["","",""]
["","",""]
["","",""]
["","",""]
["","",""]
["","",""]
["","",""]
["","",""]
["","",""]
["","",""]
["","",""]
["","",""]
["","",""]
["","",""]
["","",""]
["","",""]
["","",""]
["","",""]
["","",""]
["","",""]
["","",""]
["","",""]
["","",""]
["","",""]
["","",""]
["","",""]
["","",""]
["","",""]
["","",""]
["","",""]
["","",""]
["","",""]
["","",""]
["","",""]
["","",""]
["","",""]
["","",""]
["","",""]
["","",""]
["","",""]
["","",""]
["","",""]
["","",""]
["","",""]
["","",""]
["","",""]
["","",""]
["","",""]
["","",""]
["","",""]
["","",""]
["","",""]
["","",""]
["","",""]
["","",""]
["","",""]
["","",""]
[{"$f":"IF(B194=\"\",\"\",\"BQAMB CREDITMUTUEL\")","v":""},{"$f":"IF(E194<>E193,E194,\"\")","v":""},{"$f":"IF(B194=\"\",\"\",D194)","v":""}]
["","",""]
["","",""]
["","",""]
["","",""]
["","",""]
["","",""]
["","",""]
["","",""]
["","",""]
["","",""]
["","",""]
["","",""]
["","",""]
["","",""]
["","",""]
["","",""]
["","",""]
["","",""]
["","",""]
["","",""]
["","",""]
["","",""]
["","",""]
["","",""]
["","",""]
["","",""]
["","",""]
["","",""]
["","",""]
["","",""]
["","",""]
["","",""]
["","",""]
["","",""]
["","",""]
["","",""]
["","",""]
["","",""]
["","",""]
["","",""]
["","",""]
["","",""]
["","",""]
["","",""]
["","",""]
["","",""]
["","",""]
["","",""]
["","",""]
["","",""]
["","",""]
["","",""]
["","",""]
["","",""]
["","",""]
["","",""]
["","",""]
["","",""]
["","",""]
["","",""]
["","",""]
["","",""]
["","",""]
[{"$f":"IF(B258=\"\",\"\",\"BQAMB CREDITMUTUEL\")","v":""},{"$f":"IF(E258<>E257,E258,\"\")","v":""},{"$f":"IF(B258=\"\",\"\",D258)","v":""}]
["","",""]
["","",""]
["","",""]
["","",""]
["","",""]
["","",""]
["","",""]
["","",""]
["","",""]
["","",""]
["","",""]
["","",""]
["","",""]
["","",""]
["","",""]
["","",""]
["","",""]
["","",""]
["","",""]
["","",""]
["","",""]
["","",""]
["","",""]
["","",""]
["","",""]
["","",""]
["","",""]
["","",""]
["","",""]
["","",""]
["","",""]
["","",""]
["","",""]
["","",""]
["","",""]
["","",""]
["","",""]
["","",""]
["","",""]
["","",""]
["","",""]
["","",""]
["","",""]
["","",""]
["","",""]
["","",""]
["","",""]
["","",""]
["","",""]
["","",""]
["","",""]
["","",""]
["","",""]
["","",""]
["","",""]
["","",""]
["","",""]
["","",""]
["","",""]
["","",""]
["","",""]
["","",""]
["","",""]
[{"$f":"IF(B322=\"\",\"\",\"BQAMB CREDITMUTUEL\")","v":""},{"$f":"IF(E322<>E321,E322,\"\")","v":""},{"$f":"IF(B322=\"\",\"\",D322)","v":""}]
["","",""]
["","",""]
["","",""]
["","",""]
["","",""]
["","",""]
["","",""]
["","",""]
["","",""]
["","",""]
["","",""]
["","",""]
["","",""]
["","",""]
["","",""]
["","",""]
["","",""]
["","",""]
["","",""]
["","",""]
["","",""]
["","",""]
["","",""]
["","",""]
["","",""]
["","",""]
["","",""]
["","",""]
["","",""]
["","",""]
["","",""]
["","",""]
["","",""]
["","",""]
["","",""]
["","",""]
["","",""]
["","",""]
["","",""]
["","",""]
["","",""]
["","",""]
["","",""]
["","",""]
["","",""]
["","",""]
["","",""]
["","",""]
["","",""]
["","",""]
["","",""]
["","",""]
["","",""]
["","",""]
["","",""]
["","",""]
["","",""]
["","",""]
["","",""]
["","",""]
["","",""]
["","",""]
["","",""]
[{"$f":"IF(B386=\"\",\"\",\"BQAMB CREDITMUTUEL\")","v":""},{"$f":"IF(E386<>E385,E386,\"\")","v":""},{"$f":"IF(B386=\"\",\"\",D386)","v":""}]
["","",""]
["","",""]
["","",""]
["","",""]
["","",""]
["","",""]
["","",""]
["","",""]
["","",""]
["","",""]
["","",""]
["","",""]
["","",""]
["","",""]
["","",""]
["","",""]
["","",""]
["","",""]
["","",""]
["","",""]
["","",""]
["","",""]
["","",""]
["","",""]
["","",""]
["","",""]
["","",""]
["","",""]
["","",""]
["","",""]
["","",""]
["","",""]
["","",""]
["","",""]
["","",""]
["","",""]
["","",""]
["","",""]
["","",""]
["","",""]
["","",""]
["","",""]
["","",""]
["","",""]
["","",""]
["","",""]
["","",""]
["","",""]
["","",""]
["","",""]
["","",""]
["","",""]
["","",""]
["","",""]
["","",""]
["","",""]
["","",""]
["","",""]
["","",""]
["","",""]
["","",""]
["","",""]
["","",""]
[{"$f":"IF(B450=\"\",\"\",\"BQAMB CREDITMUTUEL\")","v":""},{"$f":"IF(E450<>E449,E450,\"\")","v":""},{"$f":"IF(B450=\"\",\"\",D450)","v":""}]
["","",""]
["","",""]
["","",""]
["","",""]
["","",""]
["","",""]
["","",""]
["","",""]
["","",""]
["","",""]
["","",""]
["","",""]
["","",""]
["","",""]
["","",""]
["","",""]
["","",""]
["","",""]
["","",""]
["","",""]
["","",""]
["","",""]
["","",""]
["","",""]
["","",""]
["","",""]
["","",""]
["","",""]
["","",""]
["","",""]
["","",""]
["","",""]
["","",""]
["","",""]
["","",""]
["","",""]
["","",""]
["","",""]
["","",""]
["","",""]
["","",""]
["","",""]
["","",""]
["","",""]
["","",""]
["","",""]
["","",""]
["","",""]
["","",""]
["","",""]
["","",""]
["","",""]
["","",""]
["","",""]
["","",""]
["","",""]
["","",""]
["","",""]
["","",""]
["","",""]
["","",""]
["","",""]
["","",""]
[{"$f":"IF(B514=\"\",\"\",\"BQAMB CREDITMUTUEL\")","v":""},{"$f":"IF(E514<>E513,E514,\"\")","v":""},{"$f":"IF(B514=\"\",\"\",D514)","v":""}]
["","",""]
["","",""]
["","",""]
["","",""]
["","",""]
["","",""]
["","",""]
["","",""]
["","",""]
["","",""]
["","",""]
["","",""]
["","",""]
["","",""]
["","",""]
["","",""]
["","",""]
["","",""]
["","",""]
["","",""]
["","",""]
["","",""]
["","",""]
["","",""]
["","",""]
["","",""]
["","",""]
["","",""]
["","",""]
["","",""]
["","",""]
["","",""]
["","",""]
["","",""]
["","",""]
["","",""]
["","",""]
["","",""]
["","",""]
["","",""]
["","",""]
["","",""]
["","",""]
["","",""]
["","",""]
["","",""]
["","",""]
["","",""]
["","",""]
["","",""]
["","",""]
["","",""]
["","",""]
["","",""]
["","",""]
["","",""]
["","",""]
["","",""]
["","",""]
["","",""]
["","",""]
["","",""]
["","",""]
[{"$f":"IF(B578=\"\",\"\",\"BQAMB CREDITMUTUEL\")","v":""},{"$f":"IF(E578<>E577,E578,\"\")","v":""},{"$f":"IF(B578=\"\",\"\",D578)","v":""}]
["","",""]
["","",""]
["","",""]
["","",""]
["","",""]
["","",""]
["","",""]
["","",""]
["","",""]
["","",""]
["","",""]
["","",""]
["","",""]
["","",""]
["","",""]
["","",""]
["","",""]
["","",""]
["","",""]
["","",""]
["","",""]
["","",""]
["","",""]
["","",""]
["","",""]
["","",""]
["","",""]
["","",""]
["","",""]
["","",""]
["","",""]
["","",""]
["","",""]
["","",""]
["","",""]
["","",""]
["","",""]
["","",""]
["","",""]
["","",""]
["","",""]
["","",""]
["","",""]
["","",""]
["","",""]
["","",""]
["","",""]
["","",""]
["","",""]
["","",""]
["","",""]
["","",""]
["","",""]
["","",""]
["","",""]
["","",""]
["","",""]
["","",""]
["","",""]
["","",""]
["","",""]
["","",""]
["","",""]
[{"$f":"IF(B642=\"\",\"\",\"BQAMB CREDITMUTUEL\")","v":""},{"$f":"IF(E642<>E641,E642,\"\")","v":""},{"$f":"IF(B642=\"\",\"\",D642)","v":""}]
["","",""]
["","",""]
["","",""]
["","",""]
["","",""]
["","",""]
["","",""]
["","",""]
["","",""]
["","",""]
["","",""]
["","",""]
["","",""]
["","",""]
["","",""]
["","",""]
["","",""]
["","",""]
["","",""]
["","",""]
["","",""]
["","",""]
["","",""]
["","",""]
["","",""]
["","",""]
["","",""]
["","",""]
["","",""]
["","",""]
["","",""]
["","",""]
["","",""]
["","",""]
["","",""]
["","",""]
["","",""]
["","",""]
["","",""]
["","",""]
["","",""]
["","",""]
["","",""]
["","",""]
["","",""]
["","",""]
["","",""]
["","",""]
["","",""]
["","",""]
["","",""]
["","",""]
["","",""]
["","",""]
["","",""]
["","",""]
["","",""]
["","",""]
["","",""]
["","",""]
["","",""]
["","",""]
["","",""]
[{"$f":"IF(B706=\"\",\"\",\"BQAMB CREDITMUTUEL\")","v":""},{"$f":"IF(E706<>E705,E706,\"\")","v":""},{"$f":"IF(B706=\"\",\"\",D706)","v":""}]
["","",""]
["","",""]
["","",""]
["","",""]
["","",""]
["","",""]
["","",""]
["","",""]
["","",""]
["","",""]
["","",""]
["","",""]
["","",""]
["","",""]
["","",""]
["","",""]
["","",""]
["","",""]
["","",""]
["","",""]
["","",""]
["","",""]
["","",""]
["","",""]
["","",""]
["","",""]
["","",""]
["","",""]
["","",""]
["","",""]
["","",""]
["","",""]
["","",""]
["","",""]
["","",""]
["","",""]
["","",""]
["","",""]
["","",""]
["","",""]
["","",""]
["","",""]
["","",""]
["","",""]
["","",""]
["","",""]
["","",""]
["","",""]
["","",""]
["","",""]
["","",""]
["","",""]
["","",""]
["","",""]
["","",""]
["","",""]
["","",""]
["","",""]
["","",""]
["","",""]
["","",""]
["","",""]
["","",""]
[{"$f":"IF(B770=\"\",\"\",\"BQAMB CREDITMUTUEL\")","v":""},{"$f":"IF(E770<>E769,E770,\"\")","v":""},{"$f":"IF(B770=\"\",\"\",D770)","v":""}]
["","",""]
["","",""]
["","",""]
["","",""]
["","",""]
["","",""]
["","",""]
["","",""]
["","",""]
["","",""]
["","",""]
["","",""]
["","",""]
["","",""]
["","",""]
["","",""]
["","",""]
["","",""]
["","",""]
["","",""]
["","",""]
["","",""]
["","",""]
["","",""]
["","",""]
["","",""]
["","",""]
["","",""]
["","",""]
["","",""]
["","",""]
["","",""]
["","",""]
["","",""]
["","",""]
["","",""]
["","",""]
["","",""]
["","",""]
["","",""]
["","",""]
["","",""]
["","",""]
["","",""]
["","",""]
["","",""]
["","",""]
["","",""]
["","",""]
["","",""]
["","",""]
["","",""]
["","",""]
["","",""]
["","",""]
["","",""]
["","",""]
["","",""]
["","",""]
["","",""]
["","",""]
["","",""]
["","",""]
[{"$f":"IF(B834=\"\",\"\",\"BQAMB CREDITMUTUEL\")","v":""},{"$f":"IF(E834<>E833,E834,\"\")","v":""},{"$f":"IF(B834=\"\",\"\",D834)","v":""}]
["","",""]
["","",""]
["","",""]
["","",""]
["","",""]
["","",""]
["","",""]
["","",""]
["","",""]
["","",""]
["","",""]
["","",""]
["","",""]
["","",""]
["","",""]
["","",""]
["","",""]
["","",""]
["","",""]
["","",""]
["","",""]
["","",""]
["","",""]
["","",""]
["","",""]
["","",""]
["","",""]
["","",""]
["","",""]
["","",""]
["","",""]
["","",""]
["","",""]
["","",""]
["","",""]
["","",""]
["","",""]
["","",""]
["","",""]
["","",""]
["","",""]
["","",""]
["","",""]
["","",""]
["","",""]
["","",""]
["","",""]
["","",""]
["","",""]
["","",""]
["","",""]
["","",""]
["","",""]
["","",""]
["","",""]
["","",""]
["","",""]
["","",""]
["","",""]
["","",""]
["","",""]
["","",""]
["","",""]
[{"$f":"IF(B898=\"\",\"\",\"BQAMB CREDITMUTUEL\")","v":""},{"$f":"IF(E898<>E897,E898,\"\")","v":""},{"$f":"IF(B898=\"\",\"\",D898)","v":""}]
["","",""]
["","",""]
["","",""]
["","",""]
["","",""]
["","",""]
["","",""]
["","",""]
["","",""]
["","",""]
["","",""]
["","",""]
["","",""]
["","",""]
["","",""]
["","",""]
["","",""]
["","",""]
["","",""]
["","",""]
["","",""]
["","",""]
["","",""]
["","",""]
["","",""]
["","",""]
["","",""]
["","",""]
["","",""]
["","",""]
["","",""]
["","",""]
["","",""]
["","",""]
["","",""]
["","",""]
["","",""]
["","",""]
["","",""]
["","",""]
["","",""]
["","",""]
["","",""]
["","",""]
["","",""]
["","",""]
["","",""]
["","",""]
["","",""]
["","",""]
["","",""]
["","",""]
["","",""]
["","",""]
["","",""]
["","",""]
["","",""]
["","",""]
["","",""]
["","",""]
["","",""]
["","",""]
["","",""]
[{"$f":"IF(B962=\"\",\"\",\"BQAMB CREDITMUTUEL\")","v":""},{"$f":"IF(E962<>E961,E962,\"\")","v":""},{"$f":"IF(B962=\"\",\"\",D962)","v":""}]
["","",""]
["","",""]
["","",""]
["","",""]
["","",""]
["","",""]
["","",""]
["","",""]
["","",""]
["","",""]
["","",""]
["","",""]
["","",""]
["","",""]
["","",""]
["","",""]
["","",""]
["","",""]
["","",""]
["","",""]
["","",""]
["","",""]
["","",""]
["","",""]
["","",""]
["","",""]
["","",""]
["","",""]
["","",""]
["","",""]
["","",""]
["","",""]
["","",""]
["","",""]
["","",""]

{"sheet":"hidden","index":5,"n_rows":9,"n_cols":3,"rows_kept":9,"hidden":true}
["Nombre de compte"]
["33"]
["Nom du compte","Range ","Type"]
[]
[]
[]
[]
[]
["Cpt 06174 00020310237","A6:E368","cpt"]