{"text_format":"3","workbook":"xlsx","n_sheets":15,"sheets":["RefData","Extraction","Information","Model_Entete","ListePalette","Tri","Pal1","Pal2","Pal3","Pal4","Pal5","Pal6","Pal7","Pal8","Pal9"],"not_rendered":{"macros":1,"external_links":1,"defined_names":6},"read":"whole","date_system":"1900"}

{"sheet":"RefData","index":0,"n_rows":10,"n_cols":5,"rows_kept":10}
["Qte/CS","Qte CS/Palette",null,null,"Prod/TRI/"]
[20,16,null,null,{"$f":"YEAR(TODAY())","v":2023}]
[24,18,null,null,{"$f":"E1&E2&\"/\"","v":"Prod/TRI/2023/"}]
[35,21]
[50,24]
[null,32]
[null,40]
[null,44]
[null,60]
[null,80]

{"sheet":"Extraction","index":1,"n_rows":36,"n_cols":8,"rows_kept":36}
["Storage Unit","Available stock",null,null,"Num colonne \"Available stock\"",{"$f":"MATCH(\"Available stock\",A1:B1,0)","v":2},"Total du stock",{"$f":"SUM(INDEX(A:B,0,MATCH(\"Available stock\",A1:B1,0)))","v":16676}]
["183588861088562",1920]
["217803344474817",1920]
["371579515299296",1920]
["489166010071643",1920]
["909953836634920",1920]
["325141175581555",1920]
["753219524382743",1920]
["628044821372787",1920]
["361441716064894",1316]
[""]
{"$rows_empty":13}
[""]
{"$rows_empty":10}
[""]

{"sheet":"Information","index":2,"n_rows":1001,"n_cols":12,"rows_kept":1001}
["N° TRI","007","TM complet",{"$f":"RefData!E3&Information!B1","v":"Prod/TRI/2023/007"},null,"Liste N° de Contenant écarté",null,"N° palette","Qté sur palette","N° palette","Contenant début","Contenant fin"]
["N° de l'Annexe : liste palette",2,{"$nulls":3},1,null,1,1920,"183588861088562",8,103]
["Qté produite",{"$f":"Extraction!H1","v":{"v":16676,"d":"16,676"}},"A revoir",null,null,2,null,{"$f":"IF(ISBLANK(I3),\"\",H2+1)","v":2},1920,"217803344474817",104,184]
["qté contenant",24,{"$nulls":3},3,null,{"$f":"IF(ISBLANK(I4),\"\",H3+1)","v":3},1920,"371579515299296",185,270]
["nmb contenant",80,{"$nulls":3},4,null,4,1920,"489166010071643",271,354]
["Qté par palette complet",{"$f":"B5*B4","v":1920},{"$f":"IF(B6*B7=B3,\"\",\"Vérifier la paletisation choisie\")","v":"Vérifier la paletisation choisie"},null,null,5,null,5,1920,"909953836634920",355,438]
["Nombre de palette",{"$f":"COUNTIF(Extraction!A:B,\"??????????????????\")","v":0},{"$nulls":3},6,null,6,1920,"325141175581555",439,523]
["Remise en SF","Non",{"$nulls":3},7,null,7,1920,"753219524382743",524,603]
["Identifiant unique","Oui",{"$nulls":3},9,null,8,1920,"628044821372787",605,685]
["???????","Non",{"$nulls":3},10,null,9,1316,"361441716064894",686,769]
[{"$nulls":5},11,null,"",null,""]
[{"$nulls":5},12,null,""]
[{"$nulls":5},13,null,""]
[{"$nulls":5},14,null,""]
[{"$nulls":5},15,null,""]
[{"$nulls":5},16,null,""]
[{"$nulls":5},17,null,""]
[{"$nulls":5},18,null,""]
[{"$nulls":5},19,null,""]
[{"$nulls":5},20,null,""]
[{"$nulls":5},21,null,""]
[{"$nulls":5},22,null,""]
[{"$nulls":5},23,null,""]
[{"$nulls":5},24,null,""]
[{"$nulls":5},113,null,"",null,""]
[{"$nulls":5},203,null,""]
[{"$nulls":5},213,null,""]
[{"$nulls":5},222,null,""]
[{"$nulls":5},226,null,""]
[{"$nulls":5},231,null,""]
[{"$nulls":5},245,null,""]
[{"$nulls":5},301,null,""]
[{"$nulls":5},302,null,""]
[{"$nulls":5},328,null,""]
[{"$nulls":5},330,null,""]
[{"$nulls":5},351,null,""]
[{"$nulls":5},364,null,""]
[{"$nulls":5},365,null,""]
[{"$nulls":5},381,null,""]
[{"$nulls":5},431,null,""]
[{"$nulls":5},442,null,""]
[{"$nulls":5},449,null,""]
[{"$nulls":5},472,null,""]
[{"$nulls":5},491,null,""]
[{"$nulls":5},496,null,""]
[{"$nulls":5},604,null,""]
[{"$nulls":5},657,null,""]
[{"$nulls":5},715,null,""]
[{"$nulls":5},716,null,""]
[{"$nulls":5},717,null,""]
[{"$nulls":5},718]
{"$rows_empty":93}
[{"$nulls":7},{"$f":"IF(ISBLANK(I145),\"\",H144+1)","v":""}]
[{"$nulls":7},""]
[{"$nulls":7},""]
[{"$nulls":7},""]
[{"$nulls":7},""]
[{"$nulls":7},""]
[{"$nulls":7},""]
[{"$nulls":7},""]
[{"$nulls":7},""]
[{"$nulls":7},""]
[{"$nulls":7},""]
[{"$nulls":7},""]
[{"$nulls":7},""]
[{"$nulls":7},""]
[{"$nulls":7},""]
[{"$nulls":7},""]
[{"$nulls":7},""]
[{"$nulls":7},""]
[{"$nulls":7},""]
[{"$nulls":7},""]
[{"$nulls":7},""]
[{"$nulls":7},""]
[{"$nulls":7},""]
[{"$nulls":7},""]
[{"$nulls":7},""]
[{"$nulls":7},""]
[{"$nulls":7},""]
[{"$nulls":7},""]
[{"$nulls":7},""]
[{"$nulls":7},""]
[{"$nulls":7},""]
[{"$nulls":7},""]
[{"$nulls":7},""]
[{"$nulls":7},""]
[{"$nulls":7},""]
[{"$nulls":7},""]
[{"$nulls":7},""]
[{"$nulls":7},""]
[{"$nulls":7},""]
[{"$nulls":7},""]
[{"$nulls":7},""]
[{"$nulls":7},""]
[{"$nulls":7},""]
[{"$nulls":7},""]
[{"$nulls":7},""]
[{"$nulls":7},""]
[{"$nulls":7},""]
[{"$nulls":7},""]
[{"$nulls":7},""]
[{"$nulls":7},""]
[{"$nulls":7},""]
[{"$nulls":7},{"$f":"IF(ISBLANK(I196),\"\",H195+1)","v":""}]
[{"$nulls":7},""]
[{"$nulls":7},""]
[{"$nulls":7},""]
[{"$nulls":7},""]
[{"$nulls":7},""]
[{"$nulls":7},""]
[{"$nulls":7},""]
[{"$nulls":7},""]
[{"$nulls":7},""]
[{"$nulls":7},""]
[{"$nulls":7},""]
[{"$nulls":7},""]
[{"$nulls":7},""]
[{"$nulls":7},""]
[{"$nulls":7},""]
[{"$nulls":7},""]
[{"$nulls":7},""]
[{"$nulls":7},""]
[{"$nulls":7},""]
[{"$nulls":7},""]
[{"$nulls":7},""]
[{"$nulls":7},""]
[{"$nulls":7},""]
[{"$nulls":7},""]
[{"$nulls":7},""]
[{"$nulls":7},""]
[{"$nulls":7},""]
[{"$nulls":7},""]
[{"$nulls":7},""]
[{"$nulls":7},""]
[{"$nulls":7},""]
[{"$nulls":7},""]
[{"$nulls":7},""]
[{"$nulls":7},""]
[{"$nulls":7},""]
[{"$nulls":7},""]
[{"$nulls":7},""]
[{"$nulls":7},""]
[{"$nulls":7},""]
[{"$nulls":7},""]
[{"$nulls":7},""]
[{"$nulls":7},""]
[{"$nulls":7},""]
[{"$nulls":7},""]
[{"$nulls":7},""]
[{"$nulls":7},""]
[{"$nulls":7},""]
[{"$nulls":7},""]
[{"$nulls":7},""]
[{"$nulls":7},""]
[{"$nulls":7},""]
[{"$nulls":7},""]
[{"$nulls":7},""]
[{"$nulls":7},""]
[{"$nulls":7},""]
[{"$nulls":7},""]
[{"$nulls":7},""]
[{"$nulls":7},""]
[{"$nulls":7},""]
[{"$nulls":7},""]
[{"$nulls":7},""]
[{"$nulls":7},""]
[{"$nulls":7},""]
[{"$nulls":7},{"$f":"IF(ISBLANK(I260),\"\",H259+1)","v":""}]
[{"$nulls":7},""]
[{"$nulls":7},""]
[{"$nulls":7},""]
[{"$nulls":7},""]
[{"$nulls":7},""]
[{"$nulls":7},""]
[{"$nulls":7},""]
[{"$nulls":7},""]
[{"$nulls":7},""]
[{"$nulls":7},""]
[{"$nulls":7},""]
[{"$nulls":7},""]
[{"$nulls":7},""]
[{"$nulls":7},""]
[{"$nulls":7},""]
[{"$nulls":7},""]
[{"$nulls":7},""]
[{"$nulls":7},""]
[{"$nulls":7},""]
[{"$nulls":7},""]
[{"$nulls":7},""]
[{"$nulls":7},""]
[{"$nulls":7},""]
[{"$nulls":7},""]
[{"$nulls":7},""]
[{"$nulls":7},""]
[{"$nulls":7},""]
[{"$nulls":7},""]
[{"$nulls":7},""]
[{"$nulls":7},""]
[{"$nulls":7},""]
[{"$nulls":7},""]
[{"$nulls":7},""]
[{"$nulls":7},""]
[{"$nulls":7},""]
[{"$nulls":7},""]
[{"$nulls":7},""]
[{"$nulls":7},""]
[{"$nulls":7},""]
[{"$nulls":7},""]
[{"$nulls":7},""]
[{"$nulls":7},""]
[{"$nulls":7},""]
[{"$nulls":7},""]
[{"$nulls":7},""]
[{"$nulls":7},""]
[{"$nulls":7},""]
[{"$nulls":7},""]
[{"$nulls":7},""]
[{"$nulls":7},""]
[{"$nulls":7},""]
[{"$nulls":7},""]
[{"$nulls":7},""]
[{"$nulls":7},""]
[{"$nulls":7},""]
[{"$nulls":7},""]
[{"$nulls":7},""]
[{"$nulls":7},""]
[{"$nulls":7},""]
[{"$nulls":7},""]
[{"$nulls":7},""]
[{"$nulls":7},""]
[{"$nulls":7},""]
[{"$nulls":7},{"$f":"IF(ISBLANK(I324),\"\",H323+1)","v":""}]
[{"$nulls":7},""]
[{"$nulls":7},""]
[{"$nulls":7},""]
[{"$nulls":7},""]
[{"$nulls":7},""]
[{"$nulls":7},""]
[{"$nulls":7},""]
[{"$nulls":7},""]
[{"$nulls":7},""]
[{"$nulls":7},""]
[{"$nulls":7},""]
[{"$nulls":7},""]
[{"$nulls":7},""]
[{"$nulls":7},""]
[{"$nulls":7},""]
[{"$nulls":7},""]
[{"$nulls":7},""]
[{"$nulls":7},""]
[{"$nulls":7},""]
[{"$nulls":7},""]
[{"$nulls":7},""]
[{"$nulls":7},""]
[{"$nulls":7},""]
[{"$nulls":7},""]
[{"$nulls":7},""]
[{"$nulls":7},""]
[{"$nulls":7},""]
[{"$nulls":7},""]
[{"$nulls":7},""]
[{"$nulls":7},""]
[{"$nulls":7},""]
[{"$nulls":7},""]
[{"$nulls":7},""]
[{"$nulls":7},""]
[{"$nulls":7},""]
[{"$nulls":7},""]
[{"$nulls":7},""]
[{"$nulls":7},""]
[{"$nulls":7},""]
[{"$nulls":7},""]
[{"$nulls":7},""]
[{"$nulls":7},""]
[{"$nulls":7},""]
[{"$nulls":7},""]
[{"$nulls":7},""]
[{"$nulls":7},""]
[{"$nulls":7},""]
[{"$nulls":7},""]
[{"$nulls":7},""]
[{"$nulls":7},""]
[{"$nulls":7},""]
[{"$nulls":7},""]
[{"$nulls":7},""]
[{"$nulls":7},""]
[{"$nulls":7},""]
[{"$nulls":7},""]
[{"$nulls":7},""]
[{"$nulls":7},""]
[{"$nulls":7},""]
[{"$nulls":7},""]
[{"$nulls":7},""]
[{"$nulls":7},""]
[{"$nulls":7},""]
[{"$nulls":7},{"$f":"IF(ISBLANK(I388),\"\",H387+1)","v":""}]
[{"$nulls":7},""]
[{"$nulls":7},""]
[{"$nulls":7},""]
[{"$nulls":7},""]
[{"$nulls":7},""]
[{"$nulls":7},""]
[{"$nulls":7},""]
[{"$nulls":7},""]
[{"$nulls":7},""]
[{"$nulls":7},""]
[{"$nulls":7},""]
[{"$nulls":7},""]
[{"$nulls":7},""]
[{"$nulls":7},""]
[{"$nulls":7},""]
[{"$nulls":7},""]
[{"$nulls":7},""]
[{"$nulls":7},""]
[{"$nulls":7},""]
[{"$nulls":7},""]
[{"$nulls":7},""]
[{"$nulls":7},""]
[{"$nulls":7},""]
[{"$nulls":7},""]
[{"$nulls":7},""]
[{"$nulls":7},""]
[{"$nulls":7},""]
[{"$nulls":7},""]
[{"$nulls":7},""]
[{"$nulls":7},""]
[{"$nulls":7},""]
[{"$nulls":7},""]
[{"$nulls":7},""]
[{"$nulls":7},""]
[{"$nulls":7},""]
[{"$nulls":7},""]
[{"$nulls":7},""]
[{"$nulls":7},""]
[{"$nulls":7},""]
[{"$nulls":7},""]
[{"$nulls":7},""]
[{"$nulls":7},""]
[{"$nulls":7},""]
[{"$nulls":7},""]
[{"$nulls":7},""]
[{"$nulls":7},""]
[{"$nulls":7},""]
[{"$nulls":7},""]
[{"$nulls":7},""]
[{"$nulls":7},""]
[{"$nulls":7},""]
[{"$nulls":7},""]
[{"$nulls":7},""]
[{"$nulls":7},""]
[{"$nulls":7},""]
[{"$nulls":7},""]
[{"$nulls":7},""]
[{"$nulls":7},""]
[{"$nulls":7},""]
[{"$nulls":7},""]
[{"$nulls":7},""]
[{"$nulls":7},""]
[{"$nulls":7},""]
[{"$nulls":7},{"$f":"IF(ISBLANK(I452),\"\",H451+1)","v":""}]
[{"$nulls":7},""]
[{"$nulls":7},""]
[{"$nulls":7},""]
[{"$nulls":7},""]
[{"$nulls":7},""]
[{"$nulls":7},""]
[{"$nulls":7},""]
[{"$nulls":7},""]
[{"$nulls":7},""]
[{"$nulls":7},""]
[{"$nulls":7},""]
[{"$nulls":7},""]
[{"$nulls":7},""]
[{"$nulls":7},""]
[{"$nulls":7},""]
[{"$nulls":7},""]
[{"$nulls":7},""]
[{"$nulls":7},""]
[{"$nulls":7},""]
[{"$nulls":7},""]
[{"$nulls":7},""]
[{"$nulls":7},""]
[{"$nulls":7},""]
[{"$nulls":7},""]
[{"$nulls":7},""]
[{"$nulls":7},""]
[{"$nulls":7},""]
[{"$nulls":7},""]
[{"$nulls":7},""]
[{"$nulls":7},""]
[{"$nulls":7},""]
[{"$nulls":7},""]
[{"$nulls":7},""]
[{"$nulls":7},""]
[{"$nulls":7},""]
[{"$nulls":7},""]
[{"$nulls":7},""]
[{"$nulls":7},""]
[{"$nulls":7},""]
[{"$nulls":7},""]
[{"$nulls":7},""]
[{"$nulls":7},""]
[{"$nulls":7},""]
[{"$nulls":7},""]
[{"$nulls":7},""]
[{"$nulls":7},""]
[{"$nulls":7},""]
[{"$nulls":7},""]
[{"$nulls":7},""]
[{"$nulls":7},""]
[{"$nulls":7},""]
[{"$nulls":7},""]
[{"$nulls":7},""]
[{"$nulls":7},""]
[{"$nulls":7},""]
[{"$nulls":7},""]
[{"$nulls":7},""]
[{"$nulls":7},""]
[{"$nulls":7},""]
[{"$nulls":7},""]
[{"$nulls":7},""]
[{"$nulls":7},""]
[{"$nulls":7},""]
[{"$nulls":7},{"$f":"IF(ISBLANK(I516),\"\",H515+1)","v":""}]
[{"$nulls":7},""]
[{"$nulls":7},""]
[{"$nulls":7},""]
[{"$nulls":7},""]
[{"$nulls":7},""]
[{"$nulls":7},""]
[{"$nulls":7},""]
[{"$nulls":7},""]
[{"$nulls":7},""]
[{"$nulls":7},""]
[{"$nulls":7},""]
[{"$nulls":7},""]
[{"$nulls":7},""]
[{"$nulls":7},""]
[{"$nulls":7},""]
[{"$nulls":7},""]
[{"$nulls":7},""]
[{"$nulls":7},""]
[{"$nulls":7},""]
[{"$nulls":7},""]
[{"$nulls":7},""]
[{"$nulls":7},""]
[{"$nulls":7},""]
[{"$nulls":7},""]
[{"$nulls":7},""]
[{"$nulls":7},""]
[{"$nulls":7},""]
[{"$nulls":7},""]
[{"$nulls":7},""]
[{"$nulls":7},""]
[{"$nulls":7},""]
[{"$nulls":7},""]
[{"$nulls":7},""]
[{"$nulls":7},""]
[{"$nulls":7},""]
[{"$nulls":7},""]
[{"$nulls":7},""]
[{"$nulls":7},""]
[{"$nulls":7},""]
[{"$nulls":7},""]
[{"$nulls":7},""]
[{"$nulls":7},""]
[{"$nulls":7},""]
[{"$nulls":7},""]
[{"$nulls":7},""]
[{"$nulls":7},""]
[{"$nulls":7},""]
[{"$nulls":7},""]
[{"$nulls":7},""]
[{"$nulls":7},""]
[{"$nulls":7},""]
[{"$nulls":7},""]
[{"$nulls":7},""]
[{"$nulls":7},""]
[{"$nulls":7},""]
[{"$nulls":7},""]
[{"$nulls":7},""]
[{"$nulls":7},""]
[{"$nulls":7},""]
[{"$nulls":7},""]
[{"$nulls":7},""]
[{"$nulls":7},""]
[{"$nulls":7},""]
[{"$nulls":7},{"$f":"IF(ISBLANK(I580),\"\",H579+1)","v":""}]
[{"$nulls":7},""]
[{"$nulls":7},""]
[{"$nulls":7},""]
[{"$nulls":7},""]
[{"$nulls":7},""]
[{"$nulls":7},""]
[{"$nulls":7},""]
[{"$nulls":7},""]
[{"$nulls":7},""]
[{"$nulls":7},""]
[{"$nulls":7},""]
[{"$nulls":7},""]
[{"$nulls":7},""]
[{"$nulls":7},""]
[{"$nulls":7},""]
[{"$nulls":7},""]
[{"$nulls":7},""]
[{"$nulls":7},""]
[{"$nulls":7},""]
[{"$nulls":7},""]
[{"$nulls":7},""]
[{"$nulls":7},""]
[{"$nulls":7},""]
[{"$nulls":7},""]
[{"$nulls":7},""]
[{"$nulls":7},""]
[{"$nulls":7},""]
[{"$nulls":7},""]
[{"$nulls":7},""]
[{"$nulls":7},""]
[{"$nulls":7},""]
[{"$nulls":7},""]
[{"$nulls":7},""]
[{"$nulls":7},""]
[{"$nulls":7},""]
[{"$nulls":7},""]
[{"$nulls":7},""]
[{"$nulls":7},""]
[{"$nulls":7},""]
[{"$nulls":7},""]
[{"$nulls":7},""]
[{"$nulls":7},""]
[{"$nulls":7},""]
[{"$nulls":7},""]
[{"$nulls":7},""]
[{"$nulls":7},""]
[{"$nulls":7},""]
[{"$nulls":7},""]
[{"$nulls":7},""]
[{"$nulls":7},""]
[{"$nulls":7},""]
[{"$nulls":7},""]
[{"$nulls":7},""]
[{"$nulls":7},""]
[{"$nulls":7},""]
[{"$nulls":7},""]
[{"$nulls":7},""]
[{"$nulls":7},""]
[{"$nulls":7},""]
[{"$nulls":7},""]
[{"$nulls":7},""]
[{"$nulls":7},""]
[{"$nulls":7},""]
[{"$nulls":7},{"$f":"IF(ISBLANK(I644),\"\",H643+1)","v":""}]
[{"$nulls":7},""]
[{"$nulls":7},""]
[{"$nulls":7},""]
[{"$nulls":7},""]
[{"$nulls":7},""]
[{"$nulls":7},""]
[{"$nulls":7},""]
[{"$nulls":7},""]
[{"$nulls":7},""]
[{"$nulls":7},""]
[{"$nulls":7},""]
[{"$nulls":7},""]
[{"$nulls":7},""]
[{"$nulls":7},""]
[{"$nulls":7},""]
[{"$nulls":7},""]
[{"$nulls":7},""]
[{"$nulls":7},""]
[{"$nulls":7},""]
[{"$nulls":7},""]
[{"$nulls":7},""]
[{"$nulls":7},""]
[{"$nulls":7},""]
[{"$nulls":7},""]
[{"$nulls":7},""]
[{"$nulls":7},""]
[{"$nulls":7},""]
[{"$nulls":7},""]
[{"$nulls":7},""]
[{"$nulls":7},""]
[{"$nulls":7},""]
[{"$nulls":7},""]
[{"$nulls":7},""]
[{"$nulls":7},""]
[{"$nulls":7},""]
[{"$nulls":7},""]
[{"$nulls":7},""]
[{"$nulls":7},""]
[{"$nulls":7},""]
[{"$nulls":7},""]
[{"$nulls":7},""]
[{"$nulls":7},""]
[{"$nulls":7},""]
[{"$nulls":7},""]
[{"$nulls":7},""]
[{"$nulls":7},""]
[{"$nulls":7},""]
[{"$nulls":7},""]
[{"$nulls":7},""]
[{"$nulls":7},""]
[{"$nulls":7},""]
[{"$nulls":7},""]
[{"$nulls":7},""]
[{"$nulls":7},""]
[{"$nulls":7},""]
[{"$nulls":7},""]
[{"$nulls":7},""]
[{"$nulls":7},""]
[{"$nulls":7},""]
[{"$nulls":7},""]
[{"$nulls":7},""]
[{"$nulls":7},""]
[{"$nulls":7},""]
[{"$nulls":7},{"$f":"IF(ISBLANK(I708),\"\",H707+1)","v":""}]
[{"$nulls":7},""]
[{"$nulls":7},""]
[{"$nulls":7},""]
[{"$nulls":7},""]
[{"$nulls":7},""]
[{"$nulls":7},""]
[{"$nulls":7},""]
[{"$nulls":7},""]
[{"$nulls":7},""]
[{"$nulls":7},""]
[{"$nulls":7},""]
[{"$nulls":7},""]
[{"$nulls":7},""]
[{"$nulls":7},""]
[{"$nulls":7},""]
[{"$nulls":7},""]
[{"$nulls":7},""]
[{"$nulls":7},""]
[{"$nulls":7},""]
[{"$nulls":7},""]
[{"$nulls":7},""]
[{"$nulls":7},""]
[{"$nulls":7},""]
[{"$nulls":7},""]
[{"$nulls":7},""]
[{"$nulls":7},""]
[{"$nulls":7},""]
[{"$nulls":7},""]
[{"$nulls":7},""]
[{"$nulls":7},""]
[{"$nulls":7},""]
[{"$nulls":7},""]
[{"$nulls":7},""]
[{"$nulls":7},""]
[{"$nulls":7},""]
[{"$nulls":7},""]
[{"$nulls":7},""]
[{"$nulls":7},""]
[{"$nulls":7},""]
[{"$nulls":7},""]
[{"$nulls":7},""]
[{"$nulls":7},""]
[{"$nulls":7},""]
[{"$nulls":7},""]
[{"$nulls":7},""]
[{"$nulls":7},""]
[{"$nulls":7},""]
[{"$nulls":7},""]
[{"$nulls":7},""]
[{"$nulls":7},""]
[{"$nulls":7},""]
[{"$nulls":7},""]
[{"$nulls":7},""]
[{"$nulls":7},""]
[{"$nulls":7},""]
[{"$nulls":7},""]
[{"$nulls":7},""]
[{"$nulls":7},""]
[{"$nulls":7},""]
[{"$nulls":7},""]
[{"$nulls":7},""]
[{"$nulls":7},""]
[{"$nulls":7},""]
[{"$nulls":7},{"$f":"IF(ISBLANK(I772),\"\",H771+1)","v":""}]
[{"$nulls":7},""]
[{"$nulls":7},""]
[{"$nulls":7},""]
[{"$nulls":7},""]
[{"$nulls":7},""]
[{"$nulls":7},""]
[{"$nulls":7},""]
[{"$nulls":7},""]
[{"$nulls":7},""]
[{"$nulls":7},""]
[{"$nulls":7},""]
[{"$nulls":7},""]
[{"$nulls":7},""]
[{"$nulls":7},""]
[{"$nulls":7},""]
[{"$nulls":7},""]
[{"$nulls":7},""]
[{"$nulls":7},""]
[{"$nulls":7},""]
[{"$nulls":7},""]
[{"$nulls":7},""]
[{"$nulls":7},""]
[{"$nulls":7},""]
[{"$nulls":7},""]
[{"$nulls":7},""]
[{"$nulls":7},""]
[{"$nulls":7},""]
[{"$nulls":7},""]
[{"$nulls":7},""]
[{"$nulls":7},""]
[{"$nulls":7},""]
[{"$nulls":7},""]
[{"$nulls":7},""]
[{"$nulls":7},""]
[{"$nulls":7},""]
[{"$nulls":7},""]
[{"$nulls":7},""]
[{"$nulls":7},""]
[{"$nulls":7},""]
[{"$nulls":7},""]
[{"$nulls":7},""]
[{"$nulls":7},""]
[{"$nulls":7},""]
[{"$nulls":7},""]
[{"$nulls":7},""]
[{"$nulls":7},""]
[{"$nulls":7},""]
[{"$nulls":7},""]
[{"$nulls":7},""]
[{"$nulls":7},""]
[{"$nulls":7},""]
[{"$nulls":7},""]
[{"$nulls":7},""]
[{"$nulls":7},""]
[{"$nulls":7},""]
[{"$nulls":7},""]
[{"$nulls":7},""]
[{"$nulls":7},""]
[{"$nulls":7},""]
[{"$nulls":7},""]
[{"$nulls":7},""]
[{"$nulls":7},""]
[{"$nulls":7},""]
[{"$nulls":7},{"$f":"IF(ISBLANK(I836),\"\",H835+1)","v":""}]
[{"$nulls":7},""]
[{"$nulls":7},""]
[{"$nulls":7},""]
[{"$nulls":7},""]
[{"$nulls":7},""]
[{"$nulls":7},""]
[{"$nulls":7},""]
[{"$nulls":7},""]
[{"$nulls":7},""]
[{"$nulls":7},""]
[{"$nulls":7},""]
[{"$nulls":7},""]
[{"$nulls":7},""]
[{"$nulls":7},""]
[{"$nulls":7},""]
[{"$nulls":7},""]
[{"$nulls":7},""]
[{"$nulls":7},""]
[{"$nulls":7},""]
[{"$nulls":7},""]
[{"$nulls":7},""]
[{"$nulls":7},""]
[{"$nulls":7},""]
[{"$nulls":7},""]
[{"$nulls":7},""]
[{"$nulls":7},""]
[{"$nulls":7},""]
[{"$nulls":7},""]
[{"$nulls":7},""]
[{"$nulls":7},""]
[{"$nulls":7},""]
[{"$nulls":7},""]
[{"$nulls":7},""]
[{"$nulls":7},""]
[{"$nulls":7},""]
[{"$nulls":7},""]
[{"$nulls":7},""]
[{"$nulls":7},""]
[{"$nulls":7},""]
[{"$nulls":7},""]
[{"$nulls":7},""]
[{"$nulls":7},""]
[{"$nulls":7},""]
[{"$nulls":7},""]
[{"$nulls":7},""]
[{"$nulls":7},""]
[{"$nulls":7},""]
[{"$nulls":7},""]
[{"$nulls":7},""]
[{"$nulls":7},""]
[{"$nulls":7},""]
[{"$nulls":7},""]
[{"$nulls":7},""]
[{"$nulls":7},""]
[{"$nulls":7},""]
[{"$nulls":7},""]
[{"$nulls":7},""]
[{"$nulls":7},""]
[{"$nulls":7},""]
[{"$nulls":7},""]
[{"$nulls":7},""]
[{"$nulls":7},""]
[{"$nulls":7},""]
[{"$nulls":7},{"$f":"IF(ISBLANK(I900),\"\",H899+1)","v":""}]
[{"$nulls":7},""]
[{"$nulls":7},""]
[{"$nulls":7},""]
[{"$nulls":7},""]
[{"$nulls":7},""]
[{"$nulls":7},""]
[{"$nulls":7},""]
[{"$nulls":7},""]
[{"$nulls":7},""]
[{"$nulls":7},""]
[{"$nulls":7},""]
[{"$nulls":7},""]
[{"$nulls":7},""]
[{"$nulls":7},""]
[{"$nulls":7},""]
[{"$nulls":7},""]
[{"$nulls":7},""]
[{"$nulls":7},""]
[{"$nulls":7},""]
[{"$nulls":7},""]
[{"$nulls":7},""]
[{"$nulls":7},""]
[{"$nulls":7},""]
[{"$nulls":7},""]
[{"$nulls":7},""]
[{"$nulls":7},""]
[{"$nulls":7},""]
[{"$nulls":7},""]
[{"$nulls":7},""]
[{"$nulls":7},""]
[{"$nulls":7},""]
[{"$nulls":7},""]
[{"$nulls":7},""]
[{"$nulls":7},""]
[{"$nulls":7},""]
[{"$nulls":7},""]
[{"$nulls":7},""]
[{"$nulls":7},""]
[{"$nulls":7},""]
[{"$nulls":7},""]
[{"$nulls":7},""]
[{"$nulls":7},""]
[{"$nulls":7},""]
[{"$nulls":7},""]
[{"$nulls":7},""]
[{"$nulls":7},""]
[{"$nulls":7},""]
[{"$nulls":7},""]
[{"$nulls":7},""]
[{"$nulls":7},""]
[{"$nulls":7},""]
[{"$nulls":7},""]
[{"$nulls":7},""]
[{"$nulls":7},""]
[{"$nulls":7},""]
[{"$nulls":7},""]
[{"$nulls":7},""]
[{"$nulls":7},""]
[{"$nulls":7},""]
[{"$nulls":7},""]
[{"$nulls":7},""]
[{"$nulls":7},""]
[{"$nulls":7},""]
[{"$nulls":7},{"$f":"IF(ISBLANK(I964),\"\",H963+1)","v":""}]
[{"$nulls":7},""]
[{"$nulls":7},""]
[{"$nulls":7},""]
[{"$nulls":7},""]
[{"$nulls":7},""]
[{"$nulls":7},""]
[{"$nulls":7},""]
[{"$nulls":7},""]
[{"$nulls":7},""]
[{"$nulls":7},""]
[{"$nulls":7},""]
[{"$nulls":7},""]
[{"$nulls":7},""]
[{"$nulls":7},""]
[{"$nulls":7},""]
[{"$nulls":7},""]
[{"$nulls":7},""]
[{"$nulls":7},""]
[{"$nulls":7},""]
[{"$nulls":7},""]
[{"$nulls":7},""]
[{"$nulls":7},""]
[{"$nulls":7},""]
[{"$nulls":7},""]
[{"$nulls":7},""]
[{"$nulls":7},""]
[{"$nulls":7},""]
[{"$nulls":7},""]
[{"$nulls":7},""]
[{"$nulls":7},""]
[{"$nulls":7},""]
[{"$nulls":7},""]
[{"$nulls":7},""]
[{"$nulls":7},""]
[{"$nulls":7},""]
[{"$nulls":7},""]
[{"$nulls":7},""]

{"sheet":"Model_Entete","index":3,"n_rows":25,"n_cols":37,"rows_kept":25,"merged":[[0,0,0,32],[2,1,2,4],[2,5,2,15],[2,16,2,19],[2,20,2,26],[2,27,2,32],[7,0,7,3],[7,4,7,9],[7,10,7,14],[7,15,7,19],[7,20,7,26],[7,27,7,32],[8,0,8,3],[8,4,8,9],[8,10,8,14],[8,15,8,19],[15,0,15,3],[15,4,15,9],[15,10,15,14],[15,15,15,19],[15,20,15,26],[15,27,15,32],[16,0,16,3],[16,4,16,9],[16,10,16,14],[16,15,16,19],[23,1,23,4],[23,5,23,15],[23,16,23,19],[23,20,23,26],[23,27,23,32]]}
[{"$f":"\"ANNEXE \"&Information!$B$2+1&\" : RÉSULTAT DU TRI\"","v":"ANNEXE 3 : RÉSULTAT DU TRI"},{"$nulls":34},21,28]
["N°palette",{"$nulls":15},"Date ",{"$nulls":17},{"$f":"AJ1/AK1","v":0.75},15,20]
["N° de Contenant","????????????",{"$nulls":3},"????????????????????????????",{"$nulls":10},"????????????",{"$nulls":3},"???????????",{"$nulls":6},"?????????",{"$nulls":7},63.25,{"$f":"AJ3/$AI$2","v":84.33333333333333}]
[{"$nulls":35},36.75,49]
[{"$nulls":35},15,20]
[{"$nulls":35},15,20]
["Réconciliation palette",{"$nulls":34},15,20]
["Quantité reçues sur la palette",{"$nulls":3},"Quantité totale de produit mis en déchet",{"$nulls":5},"Quantité remise en stock",{"$nulls":4},"Réconciliation C/NC",{"$nulls":4},"?????????????",{"$nulls":6},"?????????????",{"$nulls":7},30,40]
["A",{"$nulls":3},"B",{"$nulls":5},"C",{"$nulls":4},"A=C",{"$nulls":19},15,20]
[{"$nulls":35},15,20]
[{"$nulls":35},15,20]
[{"$nulls":35},15,20]
[{"$nulls":35},15,20]
[{"$nulls":35},15,20]
["Réconciliation palette de chute",{"$nulls":34},15,20]
[{"$f":"Model_Entete!$A$8&\" de chute\"","v":"Quantité reçues sur la palette de chute"},{"$nulls":3},{"$f":"Model_Entete!$E$8&\" sur l'ensemble des palettes triées\"","v":"Quantité totale de produit mis en déchet sur l'ensemble des palettes triées"},{"$nulls":5},{"$f":"Model_Entete!$K$8&\" sur la palette de chute\"","v":"Quantité remise en stock sur la palette de chute"},{"$nulls":4},{"$f":"Model_Entete!$P$8","v":"Réconciliation C/NC"},{"$nulls":4},{"$f":"Model_Entete!$U$8","v":"?????????????"},{"$nulls":6},{"$f":"Model_Entete!$AB$8","v":"?????????????"},{"$nulls":7},52.5,70]
["A",{"$nulls":3},"B",{"$nulls":5},"C",{"$nulls":4},"A - B = C",{"$nulls":19},15,20]
[{"$nulls":35},15,20]
[{"$nulls":35},15,20]
[{"$nulls":35},15,20]
[]
[]
["N° palette",{"$nulls":34},15,{"$f":"AJ23/$AI$2","v":20}]
[{"$f":"Model_Entete!$A$3","v":"N° de Contenant"},{"$f":"Model_Entete!$B$3","v":"????????????"},{"$nulls":3},{"$f":"Model_Entete!$F$3","v":"????????????????????????????"},{"$nulls":10},{"$f":"Model_Entete!$Q$3","v":"????????????"},{"$nulls":3},{"$f":"Model_Entete!$U$3","v":"???????????"},{"$nulls":6},{"$f":"Model_Entete!$AB$3","v":"?????????"},{"$nulls":7},66,97]
[{"$nulls":35},36.75,{"$f":"AJ25/$AI$2","v":49}]

{"sheet":"ListePalette","index":4,"n_rows":12,"n_cols":7,"rows_kept":12,"merged":[[0,0,0,6],[1,0,2,6]]}
[{"$f":"\"ANNEXE \"&Information!$B$2&\" : Liste des palettes à traiter\"","v":"ANNEXE 2 : Liste des palettes à traiter"}]
[]
[]
[]
[]
[]
[]
["Qté de boites sur la palette","N° palette","N° Contenant de début","N° Csontenant de fin","??????????","???????","????"]
[]
[]
[{"$f":"\"Enregistrement de la revue de l'annexe \"&Information!$B$2&\" :\"","v":"Enregistrement de la revue de l'annexe 2 :"}]
["????????",null,null,"????????",null,"?????????"]

{"sheet":"Tri","index":5,"n_rows":0,"n_cols":0,"rows_kept":0}

{"sheet":"Pal1","index":6,"n_rows":99,"n_cols":28,"rows_kept":99,"merged":[[0,0,0,32],[2,1,2,4],[2,5,2,15],[2,16,2,19],[2,20,2,26],[2,27,2,32],[22,1,22,4],[22,5,22,15],[22,16,22,19],[22,20,22,26],[22,27,22,32],[42,1,42,4],[42,5,42,15],[42,16,42,19],[42,20,42,26],[42,27,42,32],[62,1,62,4],[62,5,62,15],[62,16,62,19],[62,20,62,26],[62,27,62,32],[82,1,82,4],[82,5,82,15],[82,16,82,19],[82,20,82,26],[82,27,82,32],[97,0,97,3],[97,4,97,9],[97,10,97,14],[97,15,97,19],[97,20,97,26],[97,27,97,32],[98,0,98,3],[98,4,98,9],[98,10,98,14],[98,15,98,19]]}
[{"$f":"\"ANNEXE \"&Information!$B$2+1&\" : RÉSULTAT DU TRI\"","v":"ANNEXE 3 : RÉSULTAT DU TRI"}]
["N°palette",{"$nulls":4},"183588861088562",{"$nulls":10},"Date "]
["N° de Contenant","????????????",{"$nulls":3},"????????????????????????????",{"$nulls":10},"????????????",{"$nulls":3},"???????????",{"$nulls":6},"?????????"]
[8]
[25]
[26]
[27]
[28]
[29]
[30]
[31]
[32]
[33]
[34]
[35]
[36]
[37]
[38]
[39]
[40]
[]
["N° palette",{"$nulls":4},"183588861088562"]
[{"$f":"Model_Entete!$A$3","v":"N° de Contenant"},{"$f":"Model_Entete!$B$3","v":"????????????"},{"$nulls":3},{"$f":"Model_Entete!$F$3","v":"????????????????????????????"},{"$nulls":10},{"$f":"Model_Entete!$Q$3","v":"????????????"},{"$nulls":3},{"$f":"Model_Entete!$U$3","v":"???????????"},{"$nulls":6},{"$f":"Model_Entete!$AB$3","v":"?????????"}]
[41]
[42]
[43]
[44]
[45]
[46]
[47]
[48]
[49]
[50]
[51]
[52]
[53]
[54]
[55]
[56]
[57]
[]
["N° palette",{"$nulls":4},"183588861088562"]
[{"$f":"Model_Entete!$A$3","v":"N° de Contenant"},{"$f":"Model_Entete!$B$3","v":"????????????"},{"$nulls":3},{"$f":"Model_Entete!$F$3","v":"????????????????????????????"},{"$nulls":10},{"$f":"Model_Entete!$Q$3","v":"????????????"},{"$nulls":3},{"$f":"Model_Entete!$U$3","v":"???????????"},{"$nulls":6},{"$f":"Model_Entete!$AB$3","v":"?????????"}]
[58]
[59]
[60]
[61]
[62]
[63]
[64]
[65]
[66]
[67]
[68]
[69]
[70]
[71]
[72]
[73]
[74]
[]
["N° palette",{"$nulls":4},"183588861088562"]
[{"$f":"Model_Entete!$A$3","v":"N° de Contenant"},{"$f":"Model_Entete!$B$3","v":"????????????"},{"$nulls":3},{"$f":"Model_Entete!$F$3","v":"????????????????????????????"},{"$nulls":10},{"$f":"Model_Entete!$Q$3","v":"????????????"},{"$nulls":3},{"$f":"Model_Entete!$U$3","v":"???????????"},{"$nulls":6},{"$f":"Model_Entete!$AB$3","v":"?????????"}]
[75]
[76]
[77]
[78]
[79]
[80]
[81]
[82]
[83]
[84]
[85]
[86]
[87]
[88]
[89]
[90]
[91]
[]
["N° palette",{"$nulls":4},"183588861088562"]
[{"$f":"Model_Entete!$A$3","v":"N° de Contenant"},{"$f":"Model_Entete!$B$3","v":"????????????"},{"$nulls":3},{"$f":"Model_Entete!$F$3","v":"????????????????????????????"},{"$nulls":10},{"$f":"Model_Entete!$Q$3","v":"????????????"},{"$nulls":3},{"$f":"Model_Entete!$U$3","v":"???????????"},{"$nulls":6},{"$f":"Model_Entete!$AB$3","v":"?????????"}]
[92]
[93]
[94]
[95]
[96]
[97]
[98]
[99]
[100]
[101]
[102]
[103]
[]
["Réconciliation palette",{"$nulls":5},"183588861088562"]
["Quantité reçues sur la palette",{"$nulls":3},"Quantité totale de produit mis en déchet",{"$nulls":5},"Quantité remise en stock",{"$nulls":4},"Réconciliation C/NC",{"$nulls":4},"?????????????",{"$nulls":6},"?????????????"]
["A",{"$nulls":3},"B",{"$nulls":5},"C",{"$nulls":4},"A=C"]

{"sheet":"Pal2","index":7,"n_rows":99,"n_cols":28,"rows_kept":99,"merged":[[0,0,0,32],[2,1,2,4],[2,5,2,15],[2,16,2,19],[2,20,2,26],[2,27,2,32],[22,1,22,4],[22,5,22,15],[22,16,22,19],[22,20,22,26],[22,27,22,32],[42,1,42,4],[42,5,42,15],[42,16,42,19],[42,20,42,26],[42,27,42,32],[62,1,62,4],[62,5,62,15],[62,16,62,19],[62,20,62,26],[62,27,62,32],[82,1,82,4],[82,5,82,15],[82,16,82,19],[82,20,82,26],[82,27,82,32],[97,0,97,3],[97,4,97,9],[97,10,97,14],[97,15,97,19],[97,20,97,26],[97,27,97,32],[98,0,98,3],[98,4,98,9],[98,10,98,14],[98,15,98,19]]}
[{"$f":"\"ANNEXE \"&Information!$B$2+1&\" : RÉSULTAT DU TRI\"","v":"ANNEXE 3 : RÉSULTAT DU TRI"}]
["N°palette",{"$nulls":4},"217803344474817",{"$nulls":10},"Date "]
["N° de Contenant","????????????",{"$nulls":3},"????????????????????????????",{"$nulls":10},"????????????",{"$nulls":3},"???????????",{"$nulls":6},"?????????"]
[104]
[105]
[106]
[107]
[108]
[109]
[110]
[111]
[112]
[114]
[115]
[116]
[117]
[118]
[119]
[120]
[121]
[]
["N° palette",{"$nulls":4},"217803344474817"]
[{"$f":"Model_Entete!$A$3","v":"N° de Contenant"},{"$f":"Model_Entete!$B$3","v":"????????????"},{"$nulls":3},{"$f":"Model_Entete!$F$3","v":"????????????????????????????"},{"$nulls":10},{"$f":"Model_Entete!$Q$3","v":"????????????"},{"$nulls":3},{"$f":"Model_Entete!$U$3","v":"???????????"},{"$nulls":6},{"$f":"Model_Entete!$AB$3","v":"?????????"}]
[122]
[123]
[124]
[125]
[126]
[127]
[128]
[129]
[130]
[131]
[132]
[133]
[134]
[135]
[136]
[137]
[138]
[]
["N° palette",{"$nulls":4},"217803344474817"]
[{"$f":"Model_Entete!$A$3","v":"N° de Contenant"},{"$f":"Model_Entete!$B$3","v":"????????????"},{"$nulls":3},{"$f":"Model_Entete!$F$3","v":"????????????????????????????"},{"$nulls":10},{"$f":"Model_Entete!$Q$3","v":"????????????"},{"$nulls":3},{"$f":"Model_Entete!$U$3","v":"???????????"},{"$nulls":6},{"$f":"Model_Entete!$AB$3","v":"?????????"}]
[139]
[140]
[141]
[142]
[143]
[144]
[145]
[146]
[147]
[148]
[149]
[150]
[151]
[152]
[153]
[154]
[155]
[]
["N° palette",{"$nulls":4},"217803344474817"]
[{"$f":"Model_Entete!$A$3","v":"N° de Contenant"},{"$f":"Model_Entete!$B$3","v":"????????????"},{"$nulls":3},{"$f":"Model_Entete!$F$3","v":"????????????????????????????"},{"$nulls":10},{"$f":"Model_Entete!$Q$3","v":"????????????"},{"$nulls":3},{"$f":"Model_Entete!$U$3","v":"???????????"},{"$nulls":6},{"$f":"Model_Entete!$AB$3","v":"?????????"}]
[156]
[157]
[158]
[159]
[160]
[161]
[162]
[163]
[164]
[165]
[166]
[167]
[168]
[169]
[170]
[171]
[172]
[]
["N° palette",{"$nulls":4},"217803344474817"]
[{"$f":"Model_Entete!$A$3","v":"N° de Contenant"},{"$f":"Model_Entete!$B$3","v":"????????????"},{"$nulls":3},{"$f":"Model_Entete!$F$3","v":"????????????????????????????"},{"$nulls":10},{"$f":"Model_Entete!$Q$3","v":"????????????"},{"$nulls":3},{"$f":"Model_Entete!$U$3","v":"???????????"},{"$nulls":6},{"$f":"Model_Entete!$AB$3","v":"?????????"}]
[173]
[174]
[175]
[176]
[177]
[178]
[179]
[180]
[181]
[182]
[183]
[184]
[]
["Réconciliation palette",{"$nulls":5},"217803344474817"]
["Quantité reçues sur la palette",{"$nulls":3},"Quantité totale de produit mis en déchet",{"$nulls":5},"Quantité remise en stock",{"$nulls":4},"Réconciliation C/NC",{"$nulls":4},"?????????????",{"$nulls":6},"?????????????"]
["A",{"$nulls":3},"B",{"$nulls":5},"C",{"$nulls":4},"A=C"]

{"sheet":"Pal3","index":8,"n_rows":99,"n_cols":28,"rows_kept":99,"merged":[[0,0,0,32],[2,1,2,4],[2,5,2,15],[2,16,2,19],[2,20,2,26],[2,27,2,32],[22,1,22,4],[22,5,22,15],[22,16,22,19],[22,20,22,26],[22,27,22,32],[42,1,42,4],[42,5,42,15],[42,16,42,19],[42,20,42,26],[42,27,42,32],[62,1,62,4],[62,5,62,15],[62,16,62,19],[62,20,62,26],[62,27,62,32],[82,1,82,4],[82,5,82,15],[82,16,82,19],[82,20,82,26],[82,27,82,32],[97,0,97,3],[97,4,97,9],[97,10,97,14],[97,15,97,19],[97,20,97,26],[97,27,97,32],[98,0,98,3],[98,4,98,9],[98,10,98,14],[98,15,98,19]]}
[{"$f":"\"ANNEXE \"&Information!$B$2+1&\" : RÉSULTAT DU TRI\"","v":"ANNEXE 3 : RÉSULTAT DU TRI"}]
["N°palette",{"$nulls":4},"371579515299296",{"$nulls":10},"Date "]
["N° de Contenant","????????????",{"$nulls":3},"????????????????????????????",{"$nulls":10},"????????????",{"$nulls":3},"???????????",{"$nulls":6},"?????????"]
[185]
[186]
[187]
[188]
[189]
[190]
[191]
[192]
[193]
[194]
[195]
[196]
[197]
[198]
[199]
[200]
[201]
[]
["N° palette",{"$nulls":4},"371579515299296"]
[{"$f":"Model_Entete!$A$3","v":"N° de Contenant"},{"$f":"Model_Entete!$B$3","v":"????????????"},{"$nulls":3},{"$f":"Model_Entete!$F$3","v":"????????????????????????????"},{"$nulls":10},{"$f":"Model_Entete!$Q$3","v":"????????????"},{"$nulls":3},{"$f":"Model_Entete!$U$3","v":"???????????"},{"$nulls":6},{"$f":"Model_Entete!$AB$3","v":"?????????"}]
[202]
[204]
[205]
[206]
[207]
[208]
[209]
[210]
[211]
[212]
[214]
[215]
[216]
[217]
[218]
[219]
[220]
[]
["N° palette",{"$nulls":4},"371579515299296"]
[{"$f":"Model_Entete!$A$3","v":"N° de Contenant"},{"$f":"Model_Entete!$B$3","v":"????????????"},{"$nulls":3},{"$f":"Model_Entete!$F$3","v":"????????????????????????????"},{"$nulls":10},{"$f":"Model_Entete!$Q$3","v":"????????????"},{"$nulls":3},{"$f":"Model_Entete!$U$3","v":"???????????"},{"$nulls":6},{"$f":"Model_Entete!$AB$3","v":"?????????"}]
[221]
[223]
[224]
[225]
[227]
[228]
[229]
[230]
[232]
[233]
[234]
[235]
[236]
[237]
[238]
[239]
[240]
[]
["N° palette",{"$nulls":4},"371579515299296"]
[{"$f":"Model_Entete!$A$3","v":"N° de Contenant"},{"$f":"Model_Entete!$B$3","v":"????????????"},{"$nulls":3},{"$f":"Model_Entete!$F$3","v":"????????????????????????????"},{"$nulls":10},{"$f":"Model_Entete!$Q$3","v":"????????????"},{"$nulls":3},{"$f":"Model_Entete!$U$3","v":"???????????"},{"$nulls":6},{"$f":"Model_Entete!$AB$3","v":"?????????"}]
[241]
[242]
[243]
[244]
[246]
[247]
[248]
[249]
[250]
[251]
[252]
[253]
[254]
[255]
[256]
[257]
[258]
[]
["N° palette",{"$nulls":4},"371579515299296"]
[{"$f":"Model_Entete!$A$3","v":"N° de Contenant"},{"$f":"Model_Entete!$B$3","v":"????????????"},{"$nulls":3},{"$f":"Model_Entete!$F$3","v":"????????????????????????????"},{"$nulls":10},{"$f":"Model_Entete!$Q$3","v":"????????????"},{"$nulls":3},{"$f":"Model_Entete!$U$3","v":"???????????"},{"$nulls":6},{"$f":"Model_Entete!$AB$3","v":"?????????"}]
[259]
[260]
[261]
[262]
[263]
[264]
[265]
[266]
[267]
[268]
[269]
[270]
[]
["Réconciliation palette",{"$nulls":5},"371579515299296"]
["Quantité reçues sur la palette",{"$nulls":3},"Quantité totale de produit mis en déchet",{"$nulls":5},"Quantité remise en stock",{"$nulls":4},"Réconciliation C/NC",{"$nulls":4},"?????????????",{"$nulls":6},"?????????????"]
["A",{"$nulls":3},"B",{"$nulls":5},"C",{"$nulls":4},"A=C"]

{"sheet":"Pal4","index":9,"n_rows":98,"n_cols":28,"rows_kept":98,"merged":[[0,0,0,32],[2,1,2,4],[2,5,2,15],[2,16,2,19],[2,20,2,26],[2,27,2,32],[22,1,22,4],[22,5,22,15],[22,16,22,19],[22,20,22,26],[22,27,22,32],[42,1,42,4],[42,5,42,15],[42,16,42,19],[42,20,42,26],[42,27,42,32],[62,1,62,4],[62,5,62,15],[62,16,62,19],[62,20,62,26],[62,27,62,32],[82,1,82,4],[82,5,82,15],[82,16,82,19],[82,20,82,26],[82,27,82,32],[96,0,96,3],[96,4,96,9],[96,10,96,14],[96,15,96,19],[96,20,96,26],[96,27,96,32],[97,0,97,3],[97,4,97,9],[97,10,97,14],[97,15,97,19]]}
[{"$f":"\"ANNEXE \"&Information!$B$2+1&\" : RÉSULTAT DU TRI\"","v":"ANNEXE 3 : RÉSULTAT DU TRI"}]
["N°palette",{"$nulls":4},"489166010071643",{"$nulls":10},"Date "]
["N° de Contenant","????????????",{"$nulls":3},"????????????????????????????",{"$nulls":10},"????????????",{"$nulls":3},"???????????",{"$nulls":6},"?????????"]
[271]
[272]
[273]
[274]
[275]
[276]
[277]
[278]
[279]
[280]
[281]
[282]
[283]
[284]
[285]
[286]
[287]
[]
["N° palette",{"$nulls":4},"489166010071643"]
[{"$f":"Model_Entete!$A$3","v":"N° de Contenant"},{"$f":"Model_Entete!$B$3","v":"????????????"},{"$nulls":3},{"$f":"Model_Entete!$F$3","v":"????????????????????????????"},{"$nulls":10},{"$f":"Model_Entete!$Q$3","v":"????????????"},{"$nulls":3},{"$f":"Model_Entete!$U$3","v":"???????????"},{"$nulls":6},{"$f":"Model_Entete!$AB$3","v":"?????????"}]
[288]
[289]
[290]
[291]
[292]
[293]
[294]
[295]
[296]
[297]
[298]
[299]
[300]
[303]
[304]
[305]
[306]
[]
["N° palette",{"$nulls":4},"489166010071643"]
[{"$f":"Model_Entete!$A$3","v":"N° de Contenant"},{"$f":"Model_Entete!$B$3","v":"????????????"},{"$nulls":3},{"$f":"Model_Entete!$F$3","v":"????????????????????????????"},{"$nulls":10},{"$f":"Model_Entete!$Q$3","v":"????????????"},{"$nulls":3},{"$f":"Model_Entete!$U$3","v":"???????????"},{"$nulls":6},{"$f":"Model_Entete!$AB$3","v":"?????????"}]
[307]
[308]
[309]
[310]
[311]
[312]
[313]
[314]
[315]
[316]
[317]
[318]
[319]
[320]
[321]
[322]
[323]
[]
["N° palette",{"$nulls":4},"489166010071643"]
[{"$f":"Model_Entete!$A$3","v":"N° de Contenant"},{"$f":"Model_Entete!$B$3","v":"????????????"},{"$nulls":3},{"$f":"Model_Entete!$F$3","v":"????????????????????????????"},{"$nulls":10},{"$f":"Model_Entete!$Q$3","v":"????????????"},{"$nulls":3},{"$f":"Model_Entete!$U$3","v":"???????????"},{"$nulls":6},{"$f":"Model_Entete!$AB$3","v":"?????????"}]
[324]
[325]
[326]
[327]
[329]
[331]
[332]
[333]
[334]
[335]
[336]
[337]
[338]
[339]
[340]
[341]
[342]
[]
["N° palette",{"$nulls":4},"489166010071643"]
[{"$f":"Model_Entete!$A$3","v":"N° de Contenant"},{"$f":"Model_Entete!$B$3","v":"????????????"},{"$nulls":3},{"$f":"Model_Entete!$F$3","v":"????????????????????????????"},{"$nulls":10},{"$f":"Model_Entete!$Q$3","v":"????????????"},{"$nulls":3},{"$f":"Model_Entete!$U$3","v":"???????????"},{"$nulls":6},{"$f":"Model_Entete!$AB$3","v":"?????????"}]
[343]
[344]
[345]
[346]
[347]
[348]
[349]
[350]
[352]
[353]
[354]
[]
["Réconciliation palette",{"$nulls":5},"489166010071643"]
["Quantité reçues sur la palette",{"$nulls":3},"Quantité totale de produit mis en déchet",{"$nulls":5},"Quantité remise en stock",{"$nulls":4},"Réconciliation C/NC",{"$nulls":4},"?????????????",{"$nulls":6},"?????????????"]
["A",{"$nulls":3},"B",{"$nulls":5},"C",{"$nulls":4},"A=C"]

{"sheet":"Pal5","index":10,"n_rows":99,"n_cols":28,"rows_kept":99,"merged":[[0,0,0,32],[2,1,2,4],[2,5,2,15],[2,16,2,19],[2,20,2,26],[2,27,2,32],[22,1,22,4],[22,5,22,15],[22,16,22,19],[22,20,22,26],[22,27,22,32],[42,1,42,4],[42,5,42,15],[42,16,42,19],[42,20,42,26],[42,27,42,32],[62,1,62,4],[62,5,62,15],[62,16,62,19],[62,20,62,26],[62,27,62,32],[82,1,82,4],[82,5,82,15],[82,16,82,19],[82,20,82,26],[82,27,82,32],[97,0,97,3],[97,4,97,9],[97,10,97,14],[97,15,97,19],[97,20,97,26],[97,27,97,32],[98,0,98,3],[98,4,98,9],[98,10,98,14],[98,15,98,19]]}
[{"$f":"\"ANNEXE \"&Information!$B$2+1&\" : RÉSULTAT DU TRI\"","v":"ANNEXE 3 : RÉSULTAT DU TRI"}]
["N°palette",{"$nulls":4},"909953836634920",{"$nulls":10},"Date "]
["N° de Contenant","????????????",{"$nulls":3},"????????????????????????????",{"$nulls":10},"????????????",{"$nulls":3},"???????????",{"$nulls":6},"?????????"]
[355]
[356]
[357]
[358]
[359]
[360]
[361]
[362]
[363]
[366]
[367]
[368]
[369]
[370]
[371]
[372]
[373]
[]
["N° palette",{"$nulls":4},"909953836634920"]
[{"$f":"Model_Entete!$A$3","v":"N° de Contenant"},{"$f":"Model_Entete!$B$3","v":"????????????"},{"$nulls":3},{"$f":"Model_Entete!$F$3","v":"????????????????????????????"},{"$nulls":10},{"$f":"Model_Entete!$Q$3","v":"????????????"},{"$nulls":3},{"$f":"Model_Entete!$U$3","v":"???????????"},{"$nulls":6},{"$f":"Model_Entete!$AB$3","v":"?????????"}]
[374]
[375]
[376]
[377]
[378]
[379]
[380]
[382]
[383]
[384]
[385]
[386]
[387]
[388]
[389]
[390]
[391]
[]
["N° palette",{"$nulls":4},"909953836634920"]
[{"$f":"Model_Entete!$A$3","v":"N° de Contenant"},{"$f":"Model_Entete!$B$3","v":"????????????"},{"$nulls":3},{"$f":"Model_Entete!$F$3","v":"????????????????????????????"},{"$nulls":10},{"$f":"Model_Entete!$Q$3","v":"????????????"},{"$nulls":3},{"$f":"Model_Entete!$U$3","v":"???????????"},{"$nulls":6},{"$f":"Model_Entete!$AB$3","v":"?????????"}]
[392]
[393]
[394]
[395]
[396]
[397]
[398]
[399]
[400]
[401]
[402]
[403]
[404]
[405]
[406]
[407]
[408]
[]
["N° palette",{"$nulls":4},"909953836634920"]
[{"$f":"Model_Entete!$A$3","v":"N° de Contenant"},{"$f":"Model_Entete!$B$3","v":"????????????"},{"$nulls":3},{"$f":"Model_Entete!$F$3","v":"????????????????????????????"},{"$nulls":10},{"$f":"Model_Entete!$Q$3","v":"????????????"},{"$nulls":3},{"$f":"Model_Entete!$U$3","v":"???????????"},{"$nulls":6},{"$f":"Model_Entete!$AB$3","v":"?????????"}]
[409]
[410]
[411]
[412]
[413]
[414]
[415]
[416]
[417]
[418]
[419]
[420]
[421]
[422]
[423]
[424]
[425]
[]
["N° palette",{"$nulls":4},"909953836634920"]
[{"$f":"Model_Entete!$A$3","v":"N° de Contenant"},{"$f":"Model_Entete!$B$3","v":"????????????"},{"$nulls":3},{"$f":"Model_Entete!$F$3","v":"????????????????????????????"},{"$nulls":10},{"$f":"Model_Entete!$Q$3","v":"????????????"},{"$nulls":3},{"$f":"Model_Entete!$U$3","v":"???????????"},{"$nulls":6},{"$f":"Model_Entete!$AB$3","v":"?????????"}]
[426]
[427]
[428]
[429]
[430]
[432]
[433]
[434]
[435]
[436]
[437]
[438]
[]
["Réconciliation palette",{"$nulls":5},"909953836634920"]
["Quantité reçues sur la palette",{"$nulls":3},"Quantité totale de produit mis en déchet",{"$nulls":5},"Quantité remise en stock",{"$nulls":4},"Réconciliation C/NC",{"$nulls":4},"?????????????",{"$nulls":6},"?????????????"]
["A",{"$nulls":3},"B",{"$nulls":5},"C",{"$nulls":4},"A=C"]

{"sheet":"Pal6","index":11,"n_rows":99,"n_cols":28,"rows_kept":99,"merged":[[0,0,0,32],[2,1,2,4],[2,5,2,15],[2,16,2,19],[2,20,2,26],[2,27,2,32],[22,1,22,4],[22,5,22,15],[22,16,22,19],[22,20,22,26],[22,27,22,32],[42,1,42,4],[42,5,42,15],[42,16,42,19],[42,20,42,26],[42,27,42,32],[62,1,62,4],[62,5,62,15],[62,16,62,19],[62,20,62,26],[62,27,62,32],[82,1,82,4],[82,5,82,15],[82,16,82,19],[82,20,82,26],[82,27,82,32],[97,0,97,3],[97,4,97,9],[97,10,97,14],[97,15,97,19],[97,20,97,26],[97,27,97,32],[98,0,98,3],[98,4,98,9],[98,10,98,14],[98,15,98,19]]}
[{"$f":"\"ANNEXE \"&Information!$B$2+1&\" : RÉSULTAT DU TRI\"","v":"ANNEXE 3 : RÉSULTAT DU TRI"}]
["N°palette",{"$nulls":4},"325141175581555",{"$nulls":10},"Date "]
["N° de Contenant","????????????",{"$nulls":3},"????????????????????????????",{"$nulls":10},"????????????",{"$nulls":3},"???????????",{"$nulls":6},"?????????"]
[439]
[440]
[441]
[443]
[444]
[445]
[446]
[447]
[448]
[450]
[451]
[452]
[453]
[454]
[455]
[456]
[457]
[]
["N° palette",{"$nulls":4},"325141175581555"]
[{"$f":"Model_Entete!$A$3","v":"N° de Contenant"},{"$f":"Model_Entete!$B$3","v":"????????????"},{"$nulls":3},{"$f":"Model_Entete!$F$3","v":"????????????????????????????"},{"$nulls":10},{"$f":"Model_Entete!$Q$3","v":"????????????"},{"$nulls":3},{"$f":"Model_Entete!$U$3","v":"???????????"},{"$nulls":6},{"$f":"Model_Entete!$AB$3","v":"?????????"}]
[458]
[459]
[460]
[461]
[462]
[463]
[464]
[465]
[466]
[467]
[468]
[469]
[470]
[471]
[473]
[474]
[475]
[]
["N° palette",{"$nulls":4},"325141175581555"]
[{"$f":"Model_Entete!$A$3","v":"N° de Contenant"},{"$f":"Model_Entete!$B$3","v":"????????????"},{"$nulls":3},{"$f":"Model_Entete!$F$3","v":"????????????????????????????"},{"$nulls":10},{"$f":"Model_Entete!$Q$3","v":"????????????"},{"$nulls":3},{"$f":"Model_Entete!$U$3","v":"???????????"},{"$nulls":6},{"$f":"Model_Entete!$AB$3","v":"?????????"}]
[476]
[477]
[478]
[479]
[480]
[481]
[482]
[483]
[484]
[485]
[486]
[487]
[488]
[489]
[490]
[492]
[493]
[]
["N° palette",{"$nulls":4},"325141175581555"]
[{"$f":"Model_Entete!$A$3","v":"N° de Contenant"},{"$f":"Model_Entete!$B$3","v":"????????????"},{"$nulls":3},{"$f":"Model_Entete!$F$3","v":"????????????????????????????"},{"$nulls":10},{"$f":"Model_Entete!$Q$3","v":"????????????"},{"$nulls":3},{"$f":"Model_Entete!$U$3","v":"???????????"},{"$nulls":6},{"$f":"Model_Entete!$AB$3","v":"?????????"}]
[494]
[495]
[497]
[498]
[499]
[500]
[501]
[502]
[503]
[504]
[505]
[506]
[507]
[508]
[509]
[510]
[511]
[]
["N° palette",{"$nulls":4},"325141175581555"]
[{"$f":"Model_Entete!$A$3","v":"N° de Contenant"},{"$f":"Model_Entete!$B$3","v":"????????????"},{"$nulls":3},{"$f":"Model_Entete!$F$3","v":"????????????????????????????"},{"$nulls":10},{"$f":"Model_Entete!$Q$3","v":"????????????"},{"$nulls":3},{"$f":"Model_Entete!$U$3","v":"???????????"},{"$nulls":6},{"$f":"Model_Entete!$AB$3","v":"?????????"}]
[512]
[513]
[514]
[515]
[516]
[517]
[518]
[519]
[520]
[521]
[522]
[523]
[]
["Réconciliation palette",{"$nulls":5},"325141175581555"]
["Quantité reçues sur la palette",{"$nulls":3},"Quantité totale de produit mis en déchet",{"$nulls":5},"Quantité remise en stock",{"$nulls":4},"Réconciliation C/NC",{"$nulls":4},"?????????????",{"$nulls":6},"?????????????"]
["A",{"$nulls":3},"B",{"$nulls":5},"C",{"$nulls":4},"A=C"]

{"sheet":"Pal7","index":12,"n_rows":99,"n_cols":28,"rows_kept":99,"merged":[[0,0,0,32],[2,1,2,4],[2,5,2,15],[2,16,2,19],[2,20,2,26],[2,27,2,32],[22,1,22,4],[22,5,22,15],[22,16,22,19],[22,20,22,26],[22,27,22,32],[42,1,42,4],[42,5,42,15],[42,16,42,19],[42,20,42,26],[42,27,42,32],[62,1,62,4],[62,5,62,15],[62,16,62,19],[62,20,62,26],[62,27,62,32],[82,1,82,4],[82,5,82,15],[82,16,82,19],[82,20,82,26],[82,27,82,32],[97,0,97,3],[97,4,97,9],[97,10,97,14],[97,15,97,19],[97,20,97,26],[97,27,97,32],[98,0,98,3],[98,4,98,9],[98,10,98,14],[98,15,98,19]]}
[{"$f":"\"ANNEXE \"&Information!$B$2+1&\" : RÉSULTAT DU TRI\"","v":"ANNEXE 3 : RÉSULTAT DU TRI"}]
["N°palette",{"$nulls":4},"753219524382743",{"$nulls":10},"Date "]
["N° de Contenant","????????????",{"$nulls":3},"????????????????????????????",{"$nulls":10},"????????????",{"$nulls":3},"???????????",{"$nulls":6},"?????????"]
[524]
[525]
[526]
[527]
[528]
[529]
[530]
[531]
[532]
[533]
[534]
[535]
[536]
[537]
[538]
[539]
[540]
[]
["N° palette",{"$nulls":4},"753219524382743"]
[{"$f":"Model_Entete!$A$3","v":"N° de Contenant"},{"$f":"Model_Entete!$B$3","v":"????????????"},{"$nulls":3},{"$f":"Model_Entete!$F$3","v":"????????????????????????????"},{"$nulls":10},{"$f":"Model_Entete!$Q$3","v":"????????????"},{"$nulls":3},{"$f":"Model_Entete!$U$3","v":"???????????"},{"$nulls":6},{"$f":"Model_Entete!$AB$3","v":"?????????"}]
[541]
[542]
[543]
[544]
[545]
[546]
[547]
[548]
[549]
[550]
[551]
[552]
[553]
[554]
[555]
[556]
[557]
[]
["N° palette",{"$nulls":4},"753219524382743"]
[{"$f":"Model_Entete!$A$3","v":"N° de Contenant"},{"$f":"Model_Entete!$B$3","v":"????????????"},{"$nulls":3},{"$f":"Model_Entete!$F$3","v":"????????????????????????????"},{"$nulls":10},{"$f":"Model_Entete!$Q$3","v":"????????????"},{"$nulls":3},{"$f":"Model_Entete!$U$3","v":"???????????"},{"$nulls":6},{"$f":"Model_Entete!$AB$3","v":"?????????"}]
[558]
[559]
[560]
[561]
[562]
[563]
[564]
[565]
[566]
[567]
[568]
[569]
[570]
[571]
[572]
[573]
[574]
[]
["N° palette",{"$nulls":4},"753219524382743"]
[{"$f":"Model_Entete!$A$3","v":"N° de Contenant"},{"$f":"Model_Entete!$B$3","v":"????????????"},{"$nulls":3},{"$f":"Model_Entete!$F$3","v":"????????????????????????????"},{"$nulls":10},{"$f":"Model_Entete!$Q$3","v":"????????????"},{"$nulls":3},{"$f":"Model_Entete!$U$3","v":"???????????"},{"$nulls":6},{"$f":"Model_Entete!$AB$3","v":"?????????"}]
[575]
[576]
[577]
[578]
[579]
[580]
[581]
[582]
[583]
[584]
[585]
[586]
[587]
[588]
[589]
[590]
[591]
[]
["N° palette",{"$nulls":4},"753219524382743"]
[{"$f":"Model_Entete!$A$3","v":"N° de Contenant"},{"$f":"Model_Entete!$B$3","v":"????????????"},{"$nulls":3},{"$f":"Model_Entete!$F$3","v":"????????????????????????????"},{"$nulls":10},{"$f":"Model_Entete!$Q$3","v":"????????????"},{"$nulls":3},{"$f":"Model_Entete!$U$3","v":"???????????"},{"$nulls":6},{"$f":"Model_Entete!$AB$3","v":"?????????"}]
[592]
[593]
[594]
[595]
[596]
[597]
[598]
[599]
[600]
[601]
[602]
[603]
[]
["Réconciliation palette",{"$nulls":5},"753219524382743"]
["Quantité reçues sur la palette",{"$nulls":3},"Quantité totale de produit mis en déchet",{"$nulls":5},"Quantité remise en stock",{"$nulls":4},"Réconciliation C/NC",{"$nulls":4},"?????????????",{"$nulls":6},"?????????????"]
["A",{"$nulls":3},"B",{"$nulls":5},"C",{"$nulls":4},"A=C"]

{"sheet":"Pal8","index":13,"n_rows":99,"n_cols":28,"rows_kept":99,"merged":[[0,0,0,32],[2,1,2,4],[2,5,2,15],[2,16,2,19],[2,20,2,26],[2,27,2,32],[22,1,22,4],[22,5,22,15],[22,16,22,19],[22,20,22,26],[22,27,22,32],[42,1,42,4],[42,5,42,15],[42,16,42,19],[42,20,42,26],[42,27,42,32],[62,1,62,4],[62,5,62,15],[62,16,62,19],[62,20,62,26],[62,27,62,32],[82,1,82,4],[82,5,82,15],[82,16,82,19],[82,20,82,26],[82,27,82,32],[97,0,97,3],[97,4,97,9],[97,10,97,14],[97,15,97,19],[97,20,97,26],[97,27,97,32],[98,0,98,3],[98,4,98,9],[98,10,98,14],[98,15,98,19]]}
[{"$f":"\"ANNEXE \"&Information!$B$2+1&\" : RÉSULTAT DU TRI\"","v":"ANNEXE 3 : RÉSULTAT DU TRI"}]
["N°palette",{"$nulls":4},"628044821372787",{"$nulls":10},"Date "]
["N° de Contenant","????????????",{"$nulls":3},"????????????????????????????",{"$nulls":10},"????????????",{"$nulls":3},"???????????",{"$nulls":6},"?????????"]
[605]
[606]
[607]
[608]
[609]
[610]
[611]
[612]
[613]
[614]
[615]
[616]
[617]
[618]
[619]
[620]
[621]
[]
["N° palette",{"$nulls":4},"628044821372787"]
[{"$f":"Model_Entete!$A$3","v":"N° de Contenant"},{"$f":"Model_Entete!$B$3","v":"????????????"},{"$nulls":3},{"$f":"Model_Entete!$F$3","v":"????????????????????????????"},{"$nulls":10},{"$f":"Model_Entete!$Q$3","v":"????????????"},{"$nulls":3},{"$f":"Model_Entete!$U$3","v":"???????????"},{"$nulls":6},{"$f":"Model_Entete!$AB$3","v":"?????????"}]
[622]
[623]
[624]
[625]
[626]
[627]
[628]
[629]
[630]
[631]
[632]
[633]
[634]
[635]
[636]
[637]
[638]
[]
["N° palette",{"$nulls":4},"628044821372787"]
[{"$f":"Model_Entete!$A$3","v":"N° de Contenant"},{"$f":"Model_Entete!$B$3","v":"????????????"},{"$nulls":3},{"$f":"Model_Entete!$F$3","v":"????????????????????????????"},{"$nulls":10},{"$f":"Model_Entete!$Q$3","v":"????????????"},{"$nulls":3},{"$f":"Model_Entete!$U$3","v":"???????????"},{"$nulls":6},{"$f":"Model_Entete!$AB$3","v":"?????????"}]
[639]
[640]
[641]
[642]
[643]
[644]
[645]
[646]
[647]
[648]
[649]
[650]
[651]
[652]
[653]
[654]
[655]
[]
["N° palette",{"$nulls":4},"628044821372787"]
[{"$f":"Model_Entete!$A$3","v":"N° de Contenant"},{"$f":"Model_Entete!$B$3","v":"????????????"},{"$nulls":3},{"$f":"Model_Entete!$F$3","v":"????????????????????????????"},{"$nulls":10},{"$f":"Model_Entete!$Q$3","v":"????????????"},{"$nulls":3},{"$f":"Model_Entete!$U$3","v":"???????????"},{"$nulls":6},{"$f":"Model_Entete!$AB$3","v":"?????????"}]
[656]
[658]
[659]
[660]
[661]
[662]
[663]
[664]
[665]
[666]
[667]
[668]
[669]
[670]
[671]
[672]
[673]
[]
["N° palette",{"$nulls":4},"628044821372787"]
[{"$f":"Model_Entete!$A$3","v":"N° de Contenant"},{"$f":"Model_Entete!$B$3","v":"????????????"},{"$nulls":3},{"$f":"Model_Entete!$F$3","v":"????????????????????????????"},{"$nulls":10},{"$f":"Model_Entete!$Q$3","v":"????????????"},{"$nulls":3},{"$f":"Model_Entete!$U$3","v":"???????????"},{"$nulls":6},{"$f":"Model_Entete!$AB$3","v":"?????????"}]
[674]
[675]
[676]
[677]
[678]
[679]
[680]
[681]
[682]
[683]
[684]
[685]
[]
["Réconciliation palette",{"$nulls":5},"628044821372787"]
["Quantité reçues sur la palette",{"$nulls":3},"Quantité totale de produit mis en déchet",{"$nulls":5},"Quantité remise en stock",{"$nulls":4},"Réconciliation C/NC",{"$nulls":4},"?????????????",{"$nulls":6},"?????????????"]
["A",{"$nulls":3},"B",{"$nulls":5},"C",{"$nulls":4},"A=C"]

{"sheet":"Pal9","index":14,"n_rows":99,"n_cols":28,"rows_kept":99,"merged":[[0,0,0,32],[2,1,2,4],[2,5,2,15],[2,16,2,19],[2,20,2,26],[2,27,2,32],[22,1,22,4],[22,5,22,15],[22,16,22,19],[22,20,22,26],[22,27,22,32],[42,1,42,4],[42,5,42,15],[42,16,42,19],[42,20,42,26],[42,27,42,32],[62,1,62,4],[62,5,62,15],[62,16,62,19],[62,20,62,26],[62,27,62,32],[82,1,82,4],[82,5,82,15],[82,16,82,19],[82,20,82,26],[82,27,82,32],[97,0,97,3],[97,4,97,9],[97,10,97,14],[97,15,97,19],[97,20,97,26],[97,27,97,32],[98,0,98,3],[98,4,98,9],[98,10,98,14],[98,15,98,19]]}
[{"$f":"\"ANNEXE \"&Information!$B$2+1&\" : RÉSULTAT DU TRI\"","v":"ANNEXE 3 : RÉSULTAT DU TRI"}]
["N°palette",{"$nulls":4},"361441716064894",{"$nulls":10},"Date "]
["N° de Contenant","????????????",{"$nulls":3},"????????????????????????????",{"$nulls":10},"????????????",{"$nulls":3},"???????????",{"$nulls":6},"?????????"]
[686]
[687]
[688]
[689]
[690]
[691]
[692]
[693]
[694]
[695]
[696]
[697]
[698]
[699]
[700]
[701]
[702]
[]
["N° palette",{"$nulls":4},"361441716064894"]
[{"$f":"Model_Entete!$A$3","v":"N° de Contenant"},{"$f":"Model_Entete!$B$3","v":"????????????"},{"$nulls":3},{"$f":"Model_Entete!$F$3","v":"????????????????????????????"},{"$nulls":10},{"$f":"Model_Entete!$Q$3","v":"????????????"},{"$nulls":3},{"$f":"Model_Entete!$U$3","v":"???????????"},{"$nulls":6},{"$f":"Model_Entete!$AB$3","v":"?????????"}]
[703]
[704]
[705]
[706]
[707]
[708]
[709]
[710]
[711]
[712]
[713]
[714]
[719]
[720]
[721]
[722]
[723]
[]
["N° palette",{"$nulls":4},"361441716064894"]
[{"$f":"Model_Entete!$A$3","v":"N° de Contenant"},{"$f":"Model_Entete!$B$3","v":"????????????"},{"$nulls":3},{"$f":"Model_Entete!$F$3","v":"????????????????????????????"},{"$nulls":10},{"$f":"Model_Entete!$Q$3","v":"????????????"},{"$nulls":3},{"$f":"Model_Entete!$U$3","v":"???????????"},{"$nulls":6},{"$f":"Model_Entete!$AB$3","v":"?????????"}]
[724]
[725]
[726]
[727]
[728]
[729]
[730]
[731]
[732]
[733]
[734]
[735]
[736]
[737]
[738]
[739]
[740]
[]
["N° palette",{"$nulls":4},"361441716064894"]
[{"$f":"Model_Entete!$A$3","v":"N° de Contenant"},{"$f":"Model_Entete!$B$3","v":"????????????"},{"$nulls":3},{"$f":"Model_Entete!$F$3","v":"????????????????????????????"},{"$nulls":10},{"$f":"Model_Entete!$Q$3","v":"????????????"},{"$nulls":3},{"$f":"Model_Entete!$U$3","v":"???????????"},{"$nulls":6},{"$f":"Model_Entete!$AB$3","v":"?????????"}]
[741]
[742]
[743]
[744]
[745]
[746]
[747]
[748]
[749]
[750]
[751]
[752]
[753]
[754]
[755]
[756]
[757]
[]
["N° palette",{"$nulls":4},"361441716064894"]
[{"$f":"Model_Entete!$A$3","v":"N° de Contenant"},{"$f":"Model_Entete!$B$3","v":"????????????"},{"$nulls":3},{"$f":"Model_Entete!$F$3","v":"????????????????????????????"},{"$nulls":10},{"$f":"Model_Entete!$Q$3","v":"????????????"},{"$nulls":3},{"$f":"Model_Entete!$U$3","v":"???????????"},{"$nulls":6},{"$f":"Model_Entete!$AB$3","v":"?????????"}]
[758]
[759]
[760]
[761]
[762]
[763]
[764]
[765]
[766]
[767]
[768]
[769]
[]
["Réconciliation palette de chute",{"$nulls":7},"361441716064894"]
[{"$f":"Model_Entete!$A$8&\" de chute\"","v":"Quantité reçues sur la palette de chute"},{"$nulls":3},{"$f":"Model_Entete!$E$8&\" sur l'ensemble des palettes triées\"","v":"Quantité totale de produit mis en déchet sur l'ensemble des palettes triées"},{"$nulls":5},{"$f":"Model_Entete!$K$8&\" sur la palette de chute\"","v":"Quantité remise en stock sur la palette de chute"},{"$nulls":4},{"$f":"Model_Entete!$P$8","v":"Réconciliation C/NC"},{"$nulls":4},{"$f":"Model_Entete!$U$8","v":"?????????????"},{"$nulls":6},{"$f":"Model_Entete!$AB$8","v":"?????????????"}]
["A",{"$nulls":3},"B",{"$nulls":5},"C",{"$nulls":4},"A - B = C"]