{"text_format":"3","workbook":"xlsx","n_sheets":5,"sheets":["Typologie","1","2","3","Données"],"not_rendered":{"charts":7,"images":7,"macros":1,"external_links":1,"defined_names":45,"comments":1},"read":"whole","date_system":"1900"}

{"sheet":"Typologie","index":0,"n_rows":78,"n_cols":61,"rows_kept":78,"merged":[[1,3,1,4],[1,5,1,9],[2,3,2,4],[10,41,10,58],[11,1,12,1],[11,2,12,2],[11,3,12,3],[11,4,12,4],[11,5,12,5],[11,6,12,6],[11,7,11,11],[11,12,11,15],[11,16,11,20],[11,21,11,25],[11,26,11,29],[11,30,11,35],[11,41,12,41],[11,42,12,42],[11,43,12,43],[11,44,12,44],[11,45,12,45],[11,46,12,46],[11,47,12,47],[11,48,12,48],[11,49,12,49],[11,50,12,50],[11,51,12,51],[11,52,12,52],[11,53,12,53],[11,54,12,54],[11,55,12,55],[11,56,12,56],[11,57,12,57],[11,58,12,58],[11,60,12,60]]}
[]
[{"$nulls":3},"Nom du projet :",null,"TEST"]
[{"$nulls":3},"Numéro de mandat :",null,"TEST"]
[]
[{"$nulls":3},"Usage","Ouverture :","Fermeture :","Début de la pause :","Durée de la Pause :"]
[null,null,{"$f":"IF(D6=\"\",\"Renseigner l'usage principal :\",IF(D6=\"Logement\",\"Ne pas remplir d'horaire :\",\"Horaire d'ouverture du site  :\"))","v":"Horaire d'ouverture du site  :"},"Tertiaire","08:00:00","18:00:00","12:00:00","02:00:00"]
[null,null,{"$f":"IF(D7=\"\",\"Avez-vous un autre usage ? :\",IF(D7=\"Logement\",\"Ne pas remplir d'horaire :\",\"Horaire d'ouverture du site  :\"))","v":"Avez-vous un autre usage ? :"}]
[null,null,{"$f":"IF(D8=\"\",\"Avez-vous un autre usage ?\",IF(D8=\"Logement\",\"Ne pas remplir d'horaire :\",\"Horaire d'ouverture du site  :\"))","v":"Avez-vous un autre usage ?"}]
[null,null,{"$f":"IF(D9=\"\",\"Avez-vous un autre usage ?\",IF(D9=\"Logement\",\"Ne pas remplir d'horaire :\",\"Horaire d'ouverture du site  :\"))","v":"Avez-vous un autre usage ?"}]
[]
[{"$nulls":41},"Apports internes détaillés"]
[null,null,"Typologie de pièce","Usage","Profil d'occupation","Profil d'apport","Surface moyenne des pièces (m²)","Occupation",{"$nulls":4},"Eclairage",{"$nulls":3},"Autres apports",{"$nulls":4},"Chauffage :",{"$nulls":4},"Climatisation :",{"$nulls":3},"Ventilation :",{"$nulls":5},"Commentaires",{"$nulls":4},"Nom 1","Nombre","Puissance max (W)","Puissance en Veille (W)","Temps d'utilisation Max sur 1h (%)","Nom 2","Nombre",{"$f":"AR12","v":"Puissance max (W)"},{"$f":"AS12","v":"Puissance en Veille (W)"},"Temps d'utilisation Max sur 1h (%)","Nom 3","Nombre",{"$f":"AW12","v":"Puissance max (W)"},{"$f":"AX12","v":"Puissance en Veille (W)"},{"$f":"AY12","v":"Temps d'utilisation Max sur 1h (%)"},"Apport global (W)","Apport global (W/m²)","Veille (%)",null,"Commentaires globaux :"]
[{"$nulls":7},"Effectif","Foisonné","Unité","Activité","Métabolisme W/pers :","Eclairage général W/m²","Gestion","Gradation","Niveau souhaité en Lux","Type d'apport","Equipements W/m²","Veille","Apports inter.  W/m²","Veille","Présent :","Préchauffage :","T°C de consigne","T°C de réduit","Emetteurs","Présent :","T°C de consigne","T°C de réduit","Emetteurs","Présent :","Système :","Régulation","Débit","Unité","Ventilation naturelle :",null,null,"Identification de l'usage"]
[null,"01","test 1","Tertiaire","Bureau","Constant suivant occupation",20,1,"non","pers","Travail de bureau",{"$f":"IF(K14=\"\",\"\",VLOOKUP(K14,Données!$B$536:$C$542,2,0))","v":123},6,"Pas de gestion","Par gestion manuelle",300,"Ratio surfacique",10,0.03,null,null,"oui","01:00:00",20,18,"Panneau rayonnant","non",{"$nulls":3},"oui","VMC Double Flux","Planning on/off",25,"m3/h.pers","non",null,null,{"$f":"_xlfn.IFS(D14=Données!$B$527,1,D14=Données!$B$528,2,D14=Données!$B$529,3,D14=Données!$B$530,4,D14=Données!$B$531,5,D14=Données!$B$532,6)","v":1},{"$nulls":17},{"$f":"AQ14*AR14*AT14+AV14*AW14*AY14+BA14*BB14*BD14","v":{"v":0,"d":"0 W"}},{"$f":"IFERROR(BE14/G14,\"\")","v":{"v":0,"d":"0.00"}},{"$f":"IF((AQ14*AR14+AV14*AW14+BA14*BB14)=0,0,(AQ14*AS14+AV14*AX14+BA14*BC14)/(AQ14*AR14+AV14*AW14+BA14*BB14))","v":{"v":0,"d":"0%"}},null,{"$f":"IF(AK14=\"\",\"\",AK14&\" ; \")&IF(OR(I14=\"non\",I14=\"\"),\"\",\"Foisonnement de \"&I14*100&\" % ; \")&IF(AP14=\"\",\"\",AQ14&\" \"&AP14&\" \"&AR14&\" W à \"&AT14*100&\"% ; \")&IF(AU14=\"\",\"\",AV14&\" \"&AU14&\" \"&AW14&\" W à \"&AY14*100&\"% ; \")&IF(AZ14=\"\",\"\",BA14&\" \"&AZ14&\" \"&BB14&\"W à \"&BD14*100&\"%\")","v":""}]
[null,"02","test 2","Tertiaire","Salle de conférence","Constant suivant occupation",120,60,"non","pers","Assis",{"$f":"IF(K15=\"\",\"\",VLOOKUP(K15,Données!$B$536:$C$542,2,0))","v":108},6,"Pas de gestion","Par gestion manuelle",300,"Ratio surfacique",10,0.03,null,null,"oui","00:30:00",20,18,"Panneau rayonnant","non",{"$nulls":3},"oui","VMC Double Flux","Planning on/off",25,"m3/h.pers","non",null,null,{"$f":"_xlfn.IFS(D15=Données!$B$527,1,D15=Données!$B$528,2,D15=Données!$B$529,3,D15=Données!$B$530,4,D15=Données!$B$531,5,D15=Données!$B$532,6)","v":1},{"$nulls":17},{"v":0,"d":"0 W"},{"v":0,"d":"0.00"},{"v":0,"d":"0%"},null,""]
[null,"03","test 3","Tertiaire","Salle de pause","Constant suivant occupation",60,20,"non","pers","Travail de bureau",{"$f":"IF(K16=\"\",\"\",VLOOKUP(K16,Données!$B$536:$C$542,2,0))","v":123},6,"Interrupteur manuel","Avec gradation automatique",300,"Ratio surfacique",10,0.03,null,null,"oui","01:00:00",20,18,"Panneau rayonnant","non",{"$nulls":3},"oui","VMC Double Flux","Planning on/off",25,"m3/h.pers","non",null,null,{"$f":"_xlfn.IFS(D16=Données!$B$527,1,D16=Données!$B$528,2,D16=Données!$B$529,3,D16=Données!$B$530,4,D16=Données!$B$531,5,D16=Données!$B$532,6)","v":1},{"$nulls":17},{"v":0,"d":"0 W"},{"v":0,"d":"0.00"},{"v":0,"d":"0%"},null,""]
[null,"04",{"$nulls":9},{"$f":"IF(K17=\"\",\"\",VLOOKUP(K17,Données!$B$536:$C$542,2,0))","v":""},{"$nulls":26},{"$f":"_xlfn.IFS(D17=Données!$B$527,1,D17=Données!$B$528,2,D17=Données!$B$529,3,D17=Données!$B$530,4,D17=Données!$B$531,5,D17=Données!$B$532,6)","v":{"$error":"#N/A"}},{"$nulls":17},{"v":0,"d":"0 W"},"",{"v":0,"d":"0%"},null,""]
[null,"05",{"$nulls":9},{"$f":"IF(K18=\"\",\"\",VLOOKUP(K18,Données!$B$536:$C$542,2,0))","v":""},{"$nulls":26},{"$f":"_xlfn.IFS(D18=Données!$B$527,1,D18=Données!$B$528,2,D18=Données!$B$529,3,D18=Données!$B$530,4,D18=Données!$B$531,5,D18=Données!$B$532,6)","v":{"$error":"#N/A"}},{"$nulls":17},{"v":0,"d":"0 W"},"",{"v":0,"d":"0%"},null,""]
[null,"06",{"$nulls":9},{"$f":"IF(K19=\"\",\"\",VLOOKUP(K19,Données!$B$536:$C$542,2,0))","v":""},{"$nulls":26},{"$f":"_xlfn.IFS(D19=Données!$B$527,1,D19=Données!$B$528,2,D19=Données!$B$529,3,D19=Données!$B$530,4,D19=Données!$B$531,5,D19=Données!$B$532,6)","v":{"$error":"#N/A"}},{"$nulls":17},{"v":0,"d":"0 W"},"",{"v":0,"d":"0%"},null,""]
[null,"07",{"$nulls":9},{"$f":"IF(K20=\"\",\"\",VLOOKUP(K20,Données!$B$536:$C$542,2,0))","v":""},{"$nulls":26},{"$f":"_xlfn.IFS(D20=Données!$B$527,1,D20=Données!$B$528,2,D20=Données!$B$529,3,D20=Données!$B$530,4,D20=Données!$B$531,5,D20=Données!$B$532,6)","v":{"$error":"#N/A"}},{"$nulls":17},{"v":0,"d":"0 W"},"",{"v":0,"d":"0%"},null,""]
[null,"08",{"$nulls":9},{"$f":"IF(K21=\"\",\"\",VLOOKUP(K21,Données!$B$536:$C$542,2,0))","v":""},{"$nulls":26},{"$f":"_xlfn.IFS(D21=Données!$B$527,1,D21=Données!$B$528,2,D21=Données!$B$529,3,D21=Données!$B$530,4,D21=Données!$B$531,5,D21=Données!$B$532,6)","v":{"$error":"#N/A"}},{"$nulls":17},{"v":0,"d":"0 W"},"",{"v":0,"d":"0%"},null,""]
[null,"09",{"$nulls":9},{"$f":"IF(K22=\"\",\"\",VLOOKUP(K22,Données!$B$536:$C$542,2,0))","v":""},{"$nulls":26},{"$f":"_xlfn.IFS(D22=Données!$B$527,1,D22=Données!$B$528,2,D22=Données!$B$529,3,D22=Données!$B$530,4,D22=Données!$B$531,5,D22=Données!$B$532,6)","v":{"$error":"#N/A"}},{"$nulls":17},{"v":0,"d":"0 W"},"",{"v":0,"d":"0%"},null,""]
[null,"10",{"$nulls":9},{"$f":"IF(K23=\"\",\"\",VLOOKUP(K23,Données!$B$536:$C$542,2,0))","v":""},{"$nulls":26},{"$f":"_xlfn.IFS(D23=Données!$B$527,1,D23=Données!$B$528,2,D23=Données!$B$529,3,D23=Données!$B$530,4,D23=Données!$B$531,5,D23=Données!$B$532,6)","v":{"$error":"#N/A"}},{"$nulls":17},{"v":0,"d":"0 W"},"",{"v":0,"d":"0%"},null,""]
[null,"11",{"$nulls":9},{"$f":"IF(K24=\"\",\"\",VLOOKUP(K24,Données!$B$536:$C$542,2,0))","v":""},{"$nulls":26},{"$f":"_xlfn.IFS(D24=Données!$B$527,1,D24=Données!$B$528,2,D24=Données!$B$529,3,D24=Données!$B$530,4,D24=Données!$B$531,5,D24=Données!$B$532,6)","v":{"$error":"#N/A"}},{"$nulls":17},{"v":0,"d":"0 W"},"",{"v":0,"d":"0%"},null,""]
[null,"12",{"$nulls":9},{"$f":"IF(K25=\"\",\"\",VLOOKUP(K25,Données!$B$536:$C$542,2,0))","v":""},{"$nulls":26},{"$f":"_xlfn.IFS(D25=Données!$B$527,1,D25=Données!$B$528,2,D25=Données!$B$529,3,D25=Données!$B$530,4,D25=Données!$B$531,5,D25=Données!$B$532,6)","v":{"$error":"#N/A"}},{"$nulls":17},{"v":0,"d":"0 W"},"",{"v":0,"d":"0%"},null,""]
[null,"13",{"$nulls":9},{"$f":"IF(K26=\"\",\"\",VLOOKUP(K26,Données!$B$536:$C$542,2,0))","v":""},{"$nulls":26},{"$f":"_xlfn.IFS(D26=Données!$B$527,1,D26=Données!$B$528,2,D26=Données!$B$529,3,D26=Données!$B$530,4,D26=Données!$B$531,5,D26=Données!$B$532,6)","v":{"$error":"#N/A"}},{"$nulls":17},{"v":0,"d":"0 W"},"",{"v":0,"d":"0%"},null,""]
[null,"14",{"$nulls":9},{"$f":"IF(K27=\"\",\"\",VLOOKUP(K27,Données!$B$536:$C$542,2,0))","v":""},{"$nulls":26},{"$f":"_xlfn.IFS(D27=Données!$B$527,1,D27=Données!$B$528,2,D27=Données!$B$529,3,D27=Données!$B$530,4,D27=Données!$B$531,5,D27=Données!$B$532,6)","v":{"$error":"#N/A"}},{"$nulls":17},{"v":0,"d":"0 W"},"",{"v":0,"d":"0%"},null,""]
[null,"15",{"$nulls":9},{"$f":"IF(K28=\"\",\"\",VLOOKUP(K28,Données!$B$536:$C$542,2,0))","v":""},{"$nulls":26},{"$f":"_xlfn.IFS(D28=Données!$B$527,1,D28=Données!$B$528,2,D28=Données!$B$529,3,D28=Données!$B$530,4,D28=Données!$B$531,5,D28=Données!$B$532,6)","v":{"$error":"#N/A"}},{"$nulls":17},{"v":0,"d":"0 W"},"",{"v":0,"d":"0%"},null,""]
[null,"16",{"$nulls":9},{"$f":"IF(K29=\"\",\"\",VLOOKUP(K29,Données!$B$536:$C$542,2,0))","v":""},{"$nulls":26},{"$f":"_xlfn.IFS(D29=Données!$B$527,1,D29=Données!$B$528,2,D29=Données!$B$529,3,D29=Données!$B$530,4,D29=Données!$B$531,5,D29=Données!$B$532,6)","v":{"$error":"#N/A"}},{"$nulls":17},{"v":0,"d":"0 W"},"",{"v":0,"d":"0%"},null,""]
[null,"17",{"$nulls":9},{"$f":"IF(K30=\"\",\"\",VLOOKUP(K30,Données!$B$536:$C$542,2,0))","v":""},{"$nulls":26},{"$f":"_xlfn.IFS(D30=Données!$B$527,1,D30=Données!$B$528,2,D30=Données!$B$529,3,D30=Données!$B$530,4,D30=Données!$B$531,5,D30=Données!$B$532,6)","v":{"$error":"#N/A"}},{"$nulls":17},{"v":0,"d":"0 W"},"",{"v":0,"d":"0%"},null,""]
[null,"18",{"$nulls":9},{"$f":"IF(K31=\"\",\"\",VLOOKUP(K31,Données!$B$536:$C$542,2,0))","v":""},{"$nulls":26},{"$f":"_xlfn.IFS(D31=Données!$B$527,1,D31=Données!$B$528,2,D31=Données!$B$529,3,D31=Données!$B$530,4,D31=Données!$B$531,5,D31=Données!$B$532,6)","v":{"$error":"#N/A"}},{"$nulls":17},{"v":0,"d":"0 W"},"",{"v":0,"d":"0%"},null,""]
[null,"19",{"$nulls":9},{"$f":"IF(K32=\"\",\"\",VLOOKUP(K32,Données!$B$536:$C$542,2,0))","v":""},{"$nulls":26},{"$f":"_xlfn.IFS(D32=Données!$B$527,1,D32=Données!$B$528,2,D32=Données!$B$529,3,D32=Données!$B$530,4,D32=Données!$B$531,5,D32=Données!$B$532,6)","v":{"$error":"#N/A"}},{"$nulls":17},{"v":0,"d":"0 W"},"",{"v":0,"d":"0%"},null,""]
[null,"20",{"$nulls":9},{"$f":"IF(K33=\"\",\"\",VLOOKUP(K33,Données!$B$536:$C$542,2,0))","v":""},{"$nulls":26},{"$f":"_xlfn.IFS(D33=Données!$B$527,1,D33=Données!$B$528,2,D33=Données!$B$529,3,D33=Données!$B$530,4,D33=Données!$B$531,5,D33=Données!$B$532,6)","v":{"$error":"#N/A"}},{"$nulls":17},{"v":0,"d":"0 W"},"",{"v":0,"d":"0%"},null,""]
[null,"21",{"$nulls":36},{"$f":"_xlfn.IFS(D34=Données!$B$527,1,D34=Données!$B$528,2,D34=Données!$B$529,3,D34=Données!$B$530,4,D34=Données!$B$531,5,D34=Données!$B$532,6)","v":{"$error":"#N/A"}},{"$nulls":17},{"v":0,"d":"0 W"},"",{"v":0,"d":"0%"},null,""]
[null,"22",{"$nulls":36},{"$f":"_xlfn.IFS(D35=Données!$B$527,1,D35=Données!$B$528,2,D35=Données!$B$529,3,D35=Données!$B$530,4,D35=Données!$B$531,5,D35=Données!$B$532,6)","v":{"$error":"#N/A"}},{"$nulls":17},{"v":0,"d":"0 W"},"",{"v":0,"d":"0%"},null,""]
[null,"23",{"$nulls":36},{"$f":"_xlfn.IFS(D36=Données!$B$527,1,D36=Données!$B$528,2,D36=Données!$B$529,3,D36=Données!$B$530,4,D36=Données!$B$531,5,D36=Données!$B$532,6)","v":{"$error":"#N/A"}},{"$nulls":17},{"v":0,"d":"0 W"},"",{"v":0,"d":"0%"},null,""]
[null,"24",{"$nulls":36},{"$f":"_xlfn.IFS(D37=Données!$B$527,1,D37=Données!$B$528,2,D37=Données!$B$529,3,D37=Données!$B$530,4,D37=Données!$B$531,5,D37=Données!$B$532,6)","v":{"$error":"#N/A"}},{"$nulls":17},{"v":0,"d":"0 W"},"",{"v":0,"d":"0%"},null,""]
[null,"25",{"$nulls":9},{"$f":"IF(K38=\"\",\"\",VLOOKUP(K38,Données!$B$536:$C$542,2,0))","v":""},{"$nulls":26},{"$f":"_xlfn.IFS(D38=Données!$B$527,1,D38=Données!$B$528,2,D38=Données!$B$529,3,D38=Données!$B$530,4,D38=Données!$B$531,5,D38=Données!$B$532,6)","v":{"$error":"#N/A"}},{"$nulls":17},{"v":0,"d":"0 W"},"",{"v":0,"d":"0%"},null,""]
[null,"26",{"$nulls":9},{"$f":"IF(K39=\"\",\"\",VLOOKUP(K39,Données!$B$536:$C$542,2,0))","v":""},{"$nulls":26},{"$f":"_xlfn.IFS(D39=Données!$B$527,1,D39=Données!$B$528,2,D39=Données!$B$529,3,D39=Données!$B$530,4,D39=Données!$B$531,5,D39=Données!$B$532,6)","v":{"$error":"#N/A"}},{"$nulls":17},{"v":0,"d":"0 W"},"",{"v":0,"d":"0%"},null,""]
[null,"27",{"$nulls":9},{"$f":"IF(K40=\"\",\"\",VLOOKUP(K40,Données!$B$536:$C$542,2,0))","v":""},{"$nulls":26},{"$f":"_xlfn.IFS(D40=Données!$B$527,1,D40=Données!$B$528,2,D40=Données!$B$529,3,D40=Données!$B$530,4,D40=Données!$B$531,5,D40=Données!$B$532,6)","v":{"$error":"#N/A"}},{"$nulls":17},{"v":0,"d":"0 W"},"",{"v":0,"d":"0%"},null,""]
[null,"28",{"$nulls":9},{"$f":"IF(K41=\"\",\"\",VLOOKUP(K41,Données!$B$536:$C$542,2,0))","v":""},{"$nulls":26},{"$f":"_xlfn.IFS(D41=Données!$B$527,1,D41=Données!$B$528,2,D41=Données!$B$529,3,D41=Données!$B$530,4,D41=Données!$B$531,5,D41=Données!$B$532,6)","v":{"$error":"#N/A"}},{"$nulls":17},{"v":0,"d":"0 W"},"",{"v":0,"d":"0%"},null,""]
[null,"29",{"$nulls":9},{"$f":"IF(K42=\"\",\"\",VLOOKUP(K42,Données!$B$536:$C$542,2,0))","v":""},{"$nulls":26},{"$f":"_xlfn.IFS(D42=Données!$B$527,1,D42=Données!$B$528,2,D42=Données!$B$529,3,D42=Données!$B$530,4,D42=Données!$B$531,5,D42=Données!$B$532,6)","v":{"$error":"#N/A"}},{"$nulls":17},{"v":0,"d":"0 W"},"",{"v":0,"d":"0%"},null,""]
[null,"30",{"$nulls":9},{"$f":"IF(K43=\"\",\"\",VLOOKUP(K43,Données!$B$536:$C$542,2,0))","v":""},{"$nulls":26},{"$f":"_xlfn.IFS(D43=Données!$B$527,1,D43=Données!$B$528,2,D43=Données!$B$529,3,D43=Données!$B$530,4,D43=Données!$B$531,5,D43=Données!$B$532,6)","v":{"$error":"#N/A"}},{"$nulls":17},{"v":0,"d":"0 W"},"",{"v":0,"d":"0%"},null,""]
[null,"31",{"$nulls":9},{"$f":"IF(K44=\"\",\"\",VLOOKUP(K44,Données!$B$536:$C$542,2,0))","v":""},{"$nulls":26},{"$f":"_xlfn.IFS(D44=Données!$B$527,1,D44=Données!$B$528,2,D44=Données!$B$529,3,D44=Données!$B$530,4,D44=Données!$B$531,5,D44=Données!$B$532,6)","v":{"$error":"#N/A"}},{"$nulls":17},{"v":0,"d":"0 W"},"",{"v":0,"d":"0%"},null,""]
[null,"32",{"$nulls":9},{"$f":"IF(K45=\"\",\"\",VLOOKUP(K45,Données!$B$536:$C$542,2,0))","v":""},{"$nulls":26},{"$f":"_xlfn.IFS(D45=Données!$B$527,1,D45=Données!$B$528,2,D45=Données!$B$529,3,D45=Données!$B$530,4,D45=Données!$B$531,5,D45=Données!$B$532,6)","v":{"$error":"#N/A"}},{"$nulls":17},{"v":0,"d":"0 W"},"",{"v":0,"d":"0%"},null,""]
[null,"33",{"$nulls":9},{"$f":"IF(K46=\"\",\"\",VLOOKUP(K46,Données!$B$536:$C$542,2,0))","v":""},{"$nulls":26},{"$f":"_xlfn.IFS(D46=Données!$B$527,1,D46=Données!$B$528,2,D46=Données!$B$529,3,D46=Données!$B$530,4,D46=Données!$B$531,5,D46=Données!$B$532,6)","v":{"$error":"#N/A"}},{"$nulls":17},{"$f":"AQ46*AR46*AT46+AV46*AW46*AY46+BA46*BB46*BD46","v":{"v":0,"d":"0 W"}},{"$f":"IFERROR(BE46/G46,\"\")","v":""},{"$f":"IF((AQ46*AR46+AV46*AW46+BA46*BB46)=0,0,(AQ46*AS46+AV46*AX46+BA46*BC46)/(AQ46*AR46+AV46*AW46+BA46*BB46))","v":{"v":0,"d":"0%"}},null,{"$f":"IF(AK46=\"\",\"\",AK46&\" ; \")&IF(OR(I46=\"non\",I46=\"\"),\"\",\"Foisonnement de \"&I46*100&\" % ; \")&IF(AP46=\"\",\"\",AQ46&\" \"&AP46&\" \"&AR46&\" W à \"&AT46*100&\"% ; \")&IF(AU46=\"\",\"\",AV46&\" \"&AU46&\" \"&AW46&\" W à \"&AY46*100&\"% ; \")&IF(AZ46=\"\",\"\",BA46&\" \"&AZ46&\" \"&BB46&\"W à \"&BD46*100&\"%\")","v":""}]
[null,"34",{"$nulls":9},{"$f":"IF(K47=\"\",\"\",VLOOKUP(K47,Données!$B$536:$C$542,2,0))","v":""},{"$nulls":26},{"$f":"_xlfn.IFS(D47=Données!$B$527,1,D47=Données!$B$528,2,D47=Données!$B$529,3,D47=Données!$B$530,4,D47=Données!$B$531,5,D47=Données!$B$532,6)","v":{"$error":"#N/A"}},{"$nulls":17},{"v":0,"d":"0 W"},"",{"v":0,"d":"0%"},null,""]
[null,"35",{"$nulls":9},{"$f":"IF(K48=\"\",\"\",VLOOKUP(K48,Données!$B$536:$C$542,2,0))","v":""},{"$nulls":26},{"$f":"_xlfn.IFS(D48=Données!$B$527,1,D48=Données!$B$528,2,D48=Données!$B$529,3,D48=Données!$B$530,4,D48=Données!$B$531,5,D48=Données!$B$532,6)","v":{"$error":"#N/A"}},{"$nulls":17},{"v":0,"d":"0 W"},"",{"v":0,"d":"0%"},null,""]
[null,"36",{"$nulls":9},{"$f":"IF(K49=\"\",\"\",VLOOKUP(K49,Données!$B$536:$C$542,2,0))","v":""},{"$nulls":26},{"$f":"_xlfn.IFS(D49=Données!$B$527,1,D49=Données!$B$528,2,D49=Données!$B$529,3,D49=Données!$B$530,4,D49=Données!$B$531,5,D49=Données!$B$532,6)","v":{"$error":"#N/A"}},{"$nulls":17},{"v":0,"d":"0 W"},"",{"v":0,"d":"0%"},null,""]
[null,"37",{"$nulls":9},{"$f":"IF(K50=\"\",\"\",VLOOKUP(K50,Données!$B$536:$C$542,2,0))","v":""},{"$nulls":26},{"$f":"_xlfn.IFS(D50=Données!$B$527,1,D50=Données!$B$528,2,D50=Données!$B$529,3,D50=Données!$B$530,4,D50=Données!$B$531,5,D50=Données!$B$532,6)","v":{"$error":"#N/A"}},{"$nulls":17},{"v":0,"d":"0 W"},"",{"v":0,"d":"0%"},null,""]
[null,"38",{"$nulls":9},{"$f":"IF(K51=\"\",\"\",VLOOKUP(K51,Données!$B$536:$C$542,2,0))","v":""},{"$nulls":26},{"$f":"_xlfn.IFS(D51=Données!$B$527,1,D51=Données!$B$528,2,D51=Données!$B$529,3,D51=Données!$B$530,4,D51=Données!$B$531,5,D51=Données!$B$532,6)","v":{"$error":"#N/A"}},{"$nulls":17},{"v":0,"d":"0 W"},"",{"v":0,"d":"0%"},null,""]
[null,"39",{"$nulls":9},{"$f":"IF(K52=\"\",\"\",VLOOKUP(K52,Données!$B$536:$C$542,2,0))","v":""},{"$nulls":26},{"$f":"_xlfn.IFS(D52=Données!$B$527,1,D52=Données!$B$528,2,D52=Données!$B$529,3,D52=Données!$B$530,4,D52=Données!$B$531,5,D52=Données!$B$532,6)","v":{"$error":"#N/A"}},{"$nulls":17},{"v":0,"d":"0 W"},"",{"v":0,"d":"0%"},null,""]
[null,"40",{"$nulls":9},{"$f":"IF(K53=\"\",\"\",VLOOKUP(K53,Données!$B$536:$C$542,2,0))","v":""},{"$nulls":26},{"$f":"_xlfn.IFS(D53=Données!$B$527,1,D53=Données!$B$528,2,D53=Données!$B$529,3,D53=Données!$B$530,4,D53=Données!$B$531,5,D53=Données!$B$532,6)","v":{"$error":"#N/A"}},{"$nulls":17},{"v":0,"d":"0 W"},"",{"v":0,"d":"0%"},null,""]
[null,"41",{"$nulls":9},{"$f":"IF(K54=\"\",\"\",VLOOKUP(K54,Données!$B$536:$C$542,2,0))","v":""},{"$nulls":26},{"$f":"_xlfn.IFS(D54=Données!$B$527,1,D54=Données!$B$528,2,D54=Données!$B$529,3,D54=Données!$B$530,4,D54=Données!$B$531,5,D54=Données!$B$532,6)","v":{"$error":"#N/A"}},{"$nulls":17},{"v":0,"d":"0 W"},"",{"v":0,"d":"0%"},null,""]
[null,"42",{"$nulls":9},{"$f":"IF(K55=\"\",\"\",VLOOKUP(K55,Données!$B$536:$C$542,2,0))","v":""},{"$nulls":26},{"$f":"_xlfn.IFS(D55=Données!$B$527,1,D55=Données!$B$528,2,D55=Données!$B$529,3,D55=Données!$B$530,4,D55=Données!$B$531,5,D55=Données!$B$532,6)","v":{"$error":"#N/A"}},{"$nulls":17},{"v":0,"d":"0 W"},"",{"v":0,"d":"0%"},null,""]
[null,"43",{"$nulls":9},{"$f":"IF(K56=\"\",\"\",VLOOKUP(K56,Données!$B$536:$C$542,2,0))","v":""},{"$nulls":26},{"$f":"_xlfn.IFS(D56=Données!$B$527,1,D56=Données!$B$528,2,D56=Données!$B$529,3,D56=Données!$B$530,4,D56=Données!$B$531,5,D56=Données!$B$532,6)","v":{"$error":"#N/A"}},{"$nulls":17},{"v":0,"d":"0 W"},"",{"v":0,"d":"0%"},null,""]
[null,"44",{"$nulls":9},{"$f":"IF(K57=\"\",\"\",VLOOKUP(K57,Données!$B$536:$C$542,2,0))","v":""},{"$nulls":26},{"$f":"_xlfn.IFS(D57=Données!$B$527,1,D57=Données!$B$528,2,D57=Données!$B$529,3,D57=Données!$B$530,4,D57=Données!$B$531,5,D57=Données!$B$532,6)","v":{"$error":"#N/A"}},{"$nulls":17},{"v":0,"d":"0 W"},"",{"v":0,"d":"0%"},null,""]
[null,"45",{"$nulls":9},{"$f":"IF(K58=\"\",\"\",VLOOKUP(K58,Données!$B$536:$C$542,2,0))","v":""},{"$nulls":26},{"$f":"_xlfn.IFS(D58=Données!$B$527,1,D58=Données!$B$528,2,D58=Données!$B$529,3,D58=Données!$B$530,4,D58=Données!$B$531,5,D58=Données!$B$532,6)","v":{"$error":"#N/A"}},{"$nulls":17},{"v":0,"d":"0 W"},"",{"v":0,"d":"0%"},null,""]
[null,"46",{"$nulls":9},{"$f":"IF(K59=\"\",\"\",VLOOKUP(K59,Données!$B$536:$C$542,2,0))","v":""},{"$nulls":26},{"$f":"_xlfn.IFS(D59=Données!$B$527,1,D59=Données!$B$528,2,D59=Données!$B$529,3,D59=Données!$B$530,4,D59=Données!$B$531,5,D59=Données!$B$532,6)","v":{"$error":"#N/A"}},{"$nulls":17},{"v":0,"d":"0 W"},"",{"v":0,"d":"0%"},null,""]
[null,"47",{"$nulls":9},{"$f":"IF(K60=\"\",\"\",VLOOKUP(K60,Données!$B$536:$C$542,2,0))","v":""},{"$nulls":26},{"$f":"_xlfn.IFS(D60=Données!$B$527,1,D60=Données!$B$528,2,D60=Données!$B$529,3,D60=Données!$B$530,4,D60=Données!$B$531,5,D60=Données!$B$532,6)","v":{"$error":"#N/A"}},{"$nulls":17},{"v":0,"d":"0 W"},"",{"v":0,"d":"0%"},null,""]
[null,"48",{"$nulls":9},{"$f":"IF(K61=\"\",\"\",VLOOKUP(K61,Données!$B$536:$C$542,2,0))","v":""},{"$nulls":26},{"$f":"_xlfn.IFS(D61=Données!$B$527,1,D61=Données!$B$528,2,D61=Données!$B$529,3,D61=Données!$B$530,4,D61=Données!$B$531,5,D61=Données!$B$532,6)","v":{"$error":"#N/A"}},{"$nulls":17},{"v":0,"d":"0 W"},"",{"v":0,"d":"0%"},null,""]
[null,"49",{"$nulls":9},{"$f":"IF(K62=\"\",\"\",VLOOKUP(K62,Données!$B$536:$C$542,2,0))","v":""},{"$nulls":26},{"$f":"_xlfn.IFS(D62=Données!$B$527,1,D62=Données!$B$528,2,D62=Données!$B$529,3,D62=Données!$B$530,4,D62=Données!$B$531,5,D62=Données!$B$532,6)","v":{"$error":"#N/A"}},{"$nulls":17},{"v":0,"d":"0 W"},"",{"v":0,"d":"0%"},null,""]
[null,"50",{"$nulls":9},{"$f":"IF(K63=\"\",\"\",VLOOKUP(K63,Données!$B$536:$C$542,2,0))","v":""},{"$nulls":26},{"$f":"_xlfn.IFS(D63=Données!$B$527,1,D63=Données!$B$528,2,D63=Données!$B$529,3,D63=Données!$B$530,4,D63=Données!$B$531,5,D63=Données!$B$532,6)","v":{"$error":"#N/A"}},{"$nulls":17},{"v":0,"d":"0 W"},"",{"v":0,"d":"0%"},null,""]
[null,"51",{"$nulls":9},{"$f":"IF(K64=\"\",\"\",VLOOKUP(K64,Données!$B$536:$C$542,2,0))","v":""},{"$nulls":26},{"$f":"_xlfn.IFS(D64=Données!$B$527,1,D64=Données!$B$528,2,D64=Données!$B$529,3,D64=Données!$B$530,4,D64=Données!$B$531,5,D64=Données!$B$532,6)","v":{"$error":"#N/A"}},{"$nulls":17},{"v":0,"d":"0 W"},"",{"v":0,"d":"0%"},null,""]
[null,"52",{"$nulls":9},{"$f":"IF(K65=\"\",\"\",VLOOKUP(K65,Données!$B$536:$C$542,2,0))","v":""},{"$nulls":26},{"$f":"_xlfn.IFS(D65=Données!$B$527,1,D65=Données!$B$528,2,D65=Données!$B$529,3,D65=Données!$B$530,4,D65=Données!$B$531,5,D65=Données!$B$532,6)","v":{"$error":"#N/A"}},{"$nulls":17},{"v":0,"d":"0 W"},"",{"v":0,"d":"0%"},null,""]
[null,"53",{"$nulls":9},{"$f":"IF(K66=\"\",\"\",VLOOKUP(K66,Données!$B$536:$C$542,2,0))","v":""},{"$nulls":26},{"$f":"_xlfn.IFS(D66=Données!$B$527,1,D66=Données!$B$528,2,D66=Données!$B$529,3,D66=Données!$B$530,4,D66=Données!$B$531,5,D66=Données!$B$532,6)","v":{"$error":"#N/A"}},{"$nulls":17},{"v":0,"d":"0 W"},"",{"v":0,"d":"0%"},null,""]
[null,"54",{"$nulls":9},{"$f":"IF(K67=\"\",\"\",VLOOKUP(K67,Données!$B$536:$C$542,2,0))","v":""},{"$nulls":26},{"$f":"_xlfn.IFS(D67=Données!$B$527,1,D67=Données!$B$528,2,D67=Données!$B$529,3,D67=Données!$B$530,4,D67=Données!$B$531,5,D67=Données!$B$532,6)","v":{"$error":"#N/A"}},{"$nulls":17},{"v":0,"d":"0 W"},"",{"v":0,"d":"0%"},null,""]
[null,"55",{"$nulls":9},{"$f":"IF(K68=\"\",\"\",VLOOKUP(K68,Données!$B$536:$C$542,2,0))","v":""},{"$nulls":26},{"$f":"_xlfn.IFS(D68=Données!$B$527,1,D68=Données!$B$528,2,D68=Données!$B$529,3,D68=Données!$B$530,4,D68=Données!$B$531,5,D68=Données!$B$532,6)","v":{"$error":"#N/A"}},{"$nulls":17},{"v":0,"d":"0 W"},"",{"v":0,"d":"0%"},null,""]
[null,"56",{"$nulls":9},{"$f":"IF(K69=\"\",\"\",VLOOKUP(K69,Données!$B$536:$C$542,2,0))","v":""},{"$nulls":26},{"$f":"_xlfn.IFS(D69=Données!$B$527,1,D69=Données!$B$528,2,D69=Données!$B$529,3,D69=Données!$B$530,4,D69=Données!$B$531,5,D69=Données!$B$532,6)","v":{"$error":"#N/A"}},{"$nulls":17},{"v":0,"d":"0 W"},"",{"v":0,"d":"0%"},null,""]
[null,"57",{"$nulls":9},{"$f":"IF(K70=\"\",\"\",VLOOKUP(K70,Données!$B$536:$C$542,2,0))","v":""},{"$nulls":26},{"$f":"_xlfn.IFS(D70=Données!$B$527,1,D70=Données!$B$528,2,D70=Données!$B$529,3,D70=Données!$B$530,4,D70=Données!$B$531,5,D70=Données!$B$532,6)","v":{"$error":"#N/A"}},{"$nulls":17},{"v":0,"d":"0 W"},"",{"v":0,"d":"0%"},null,""]
[null,"58",{"$nulls":9},{"$f":"IF(K71=\"\",\"\",VLOOKUP(K71,Données!$B$536:$C$542,2,0))","v":""},{"$nulls":26},{"$f":"_xlfn.IFS(D71=Données!$B$527,1,D71=Données!$B$528,2,D71=Données!$B$529,3,D71=Données!$B$530,4,D71=Données!$B$531,5,D71=Données!$B$532,6)","v":{"$error":"#N/A"}},{"$nulls":17},{"v":0,"d":"0 W"},"",{"v":0,"d":"0%"},null,""]
[null,"59",{"$nulls":9},{"$f":"IF(K72=\"\",\"\",VLOOKUP(K72,Données!$B$536:$C$542,2,0))","v":""},{"$nulls":26},{"$f":"_xlfn.IFS(D72=Données!$B$527,1,D72=Données!$B$528,2,D72=Données!$B$529,3,D72=Données!$B$530,4,D72=Données!$B$531,5,D72=Données!$B$532,6)","v":{"$error":"#N/A"}},{"$nulls":17},{"v":0,"d":"0 W"},"",{"v":0,"d":"0%"},null,""]
[null,"60",{"$nulls":9},{"$f":"IF(K73=\"\",\"\",VLOOKUP(K73,Données!$B$536:$C$542,2,0))","v":""},{"$nulls":26},{"$f":"_xlfn.IFS(D73=Données!$B$527,1,D73=Données!$B$528,2,D73=Données!$B$529,3,D73=Données!$B$530,4,D73=Données!$B$531,5,D73=Données!$B$532,6)","v":{"$error":"#N/A"}},{"$nulls":17},{"v":0,"d":"0 W"},"",{"v":0,"d":"0%"},null,""]
[null,"61",{"$nulls":9},{"$f":"IF(K74=\"\",\"\",VLOOKUP(K74,Données!$B$536:$C$542,2,0))","v":""},{"$nulls":26},{"$f":"_xlfn.IFS(D74=Données!$B$527,1,D74=Données!$B$528,2,D74=Données!$B$529,3,D74=Données!$B$530,4,D74=Données!$B$531,5,D74=Données!$B$532,6)","v":{"$error":"#N/A"}},{"$nulls":17},{"v":0,"d":"0 W"},"",{"v":0,"d":"0%"},null,""]
[null,"62",{"$nulls":9},{"$f":"IF(K75=\"\",\"\",VLOOKUP(K75,Données!$B$536:$C$542,2,0))","v":""},{"$nulls":26},{"$f":"_xlfn.IFS(D75=Données!$B$527,1,D75=Données!$B$528,2,D75=Données!$B$529,3,D75=Données!$B$530,4,D75=Données!$B$531,5,D75=Données!$B$532,6)","v":{"$error":"#N/A"}},{"$nulls":17},{"v":0,"d":"0 W"},"",{"v":0,"d":"0%"},null,""]
[null,"63",{"$nulls":9},{"$f":"IF(K76=\"\",\"\",VLOOKUP(K76,Données!$B$536:$C$542,2,0))","v":""},{"$nulls":26},{"$f":"_xlfn.IFS(D76=Données!$B$527,1,D76=Données!$B$528,2,D76=Données!$B$529,3,D76=Données!$B$530,4,D76=Données!$B$531,5,D76=Données!$B$532,6)","v":{"$error":"#N/A"}},{"$nulls":17},{"v":0,"d":"0 W"},"",{"v":0,"d":"0%"},null,""]
[null,"64",{"$nulls":9},{"$f":"IF(K77=\"\",\"\",VLOOKUP(K77,Données!$B$536:$C$542,2,0))","v":""},{"$nulls":26},{"$f":"_xlfn.IFS(D77=Données!$B$527,1,D77=Données!$B$528,2,D77=Données!$B$529,3,D77=Données!$B$530,4,D77=Données!$B$531,5,D77=Données!$B$532,6)","v":{"$error":"#N/A"}},{"$nulls":17},{"v":0,"d":"0 W"},"",{"v":0,"d":"0%"},null,""]
[null,"65",{"$nulls":9},{"$f":"IF(K78=\"\",\"\",VLOOKUP(K78,Données!$B$536:$C$542,2,0))","v":""},{"$nulls":26},{"$f":"_xlfn.IFS(D78=Données!$B$527,1,D78=Données!$B$528,2,D78=Données!$B$529,3,D78=Données!$B$530,4,D78=Données!$B$531,5,D78=Données!$B$532,6)","v":{"$error":"#N/A"}},{"$nulls":17},{"v":0,"d":"0 W"},{"$f":"IFERROR(BE78/G78,\"\")","v":""},{"v":0,"d":"0%"},null,""]

{"sheet":"1","index":1,"n_rows":173,"n_cols":53,"rows_kept":173,"merged":[[3,3,3,4],[5,1,5,10],[6,1,6,2],[6,3,6,4],[7,1,7,2],[7,3,7,4],[8,1,14,2],[8,3,8,4],[10,3,11,4],[18,24,19,31],[21,24,21,31],[22,17,22,20],[22,24,22,31],[24,17,24,18],[25,25,25,29],[26,17,26,18],[26,20,27,20],[26,25,26,29],[31,17,31,18],[31,35,31,39],[33,19,35,20],[36,17,57,20],[52,25,52,29],[53,25,53,29],[58,35,58,39],[80,25,80,29],[81,25,81,29],[86,35,86,39],[108,25,108,29],[109,25,109,29],[128,25,128,29],[129,25,129,29],[149,25,149,29],[150,25,150,29],[155,35,155,39]]}
["à exporter","Heure de début :",{"$f":"IF($F$4=\"non\",VLOOKUP($D$7,Données!$B$527:$E$532,3,0),$H$4)","v":"08:00:00"}]
[null,"Heure de fin :",{"$f":"IF($F$4=\"non\",VLOOKUP($D$7,Données!$B$527:$E$532,4,0),$I$4)","v":"18:00:00"}]
[null,"Début pause",{"$f":"IF($F$4=\"non\",VLOOKUP($D$7,Données!$B$527:$L$532,6,0),$K$4)","v":"12:00:00"},"Uniq. en pause",{"$f":"_xlfn.IFS($D$7=Données!$B$527,HLOOKUP($D$11,Données!$C$8:$Y$57,2,0),$D$7=Données!$B$528,HLOOKUP($D$11,Données!$C$62:$Y$110,2,0),$D$7=Données!$B$529,HLOOKUP($D$11,Données!$C$115:$Y$164,2,0),$D$7=Données!$B$530,HLOOKUP($D$11,Données!$C$169:$Y$218,2,0),$D$7=Données!$B$531,HLOOKUP($D$11,Données!$C$224:$Y$273,2,0),$D$7=Données!$B$532,HLOOKUP($D$11,Données!$C$280:$Y$329,2,0))","v":"non"},null,null,"Ouverture :","Fermeture :","Durée de la Pause :","Début de la pause :","Fin pause","Pause ?"]
[null,"Fin pause",{"$f":"IF($F$4=\"non\",VLOOKUP($D$7,Données!$B$527:$L$532,7,0),$L$4)","v":"14:00:00.864"},"Horaire spécifique :",null,"non",{"$nulls":5},{"$f":"J4+K4+0.0001","v":"00:00:08.640"},{"$f":"IF(K4=L4,\"non\",\"oui\")","v":"oui"}]
[]
[null,{"$f":"Typologie!B14&\" _ \"&Typologie!C14","v":"01 _ test 1"}]
[null,"Usage :",null,{"$f":"Typologie!D14","v":"Tertiaire"},null,"Tchauff","Tclim","Vent. Méca","Occupation","Eclairage","Apport humains","Equipements","Apports internes","Apports internes 2"]
[null,"Surface moyenne :",null,{"$f":"Typologie!G14","v":20},null,{"$f":"Typologie!V14","v":"oui"},{"$f":"Typologie!AA14","v":"non"},{"$f":"Typologie!AE14","v":"oui"},{"$nulls":3},{"$f":"Typologie!Q14","v":"Ratio surfacique"}]
[null,"Valeurs importées de la feuille typologie en fonction de sa ligne affectée",null,"Profil d'occupation",null,{"$f":"Typologie!X14","v":20},{"$f":"Typologie!AB14","v":0},{"$f":"IF(H10=\"[vol/h]\",ROUND(Typologie!AH14,2),ROUND(Typologie!AH14,0))","v":25},{"$f":"Typologie!H14","v":{"v":1,"d":"1.00"}},{"$f":"Typologie!M14","v":6},{"$f":"Typologie!L14","v":123},{"$f":"_xlfn.IFS(Typologie!Q14=Données!G574,Typologie!R14,Typologie!Q14=Données!G575,Typologie!BF14,Typologie!Q14=\"\",0)","v":{"v":10,"d":"10.00"}},{"$f":"_xlfn.IFS(Typologie!Q14=Données!G574,Typologie!T14,Typologie!Q14=Données!G575,0,Typologie!Q14=\"\",0)","v":0}]
[{"$nulls":5},{"$f":"Typologie!Y14","v":18},{"$f":"Typologie!AC14","v":0},{"$f":"\"[\"&MID(Typologie!AI14,1,15)&\"]\"","v":"[m3/h.pers]"},{"$f":"Typologie!J14","v":"pers"},"W/m²","W/m²","W/m²","W/m²","W/m²"]
[{"$nulls":3},{"$f":"Typologie!E14","v":"Bureau"},null,"Préchauffage",null,"Vnat :","Fois :","Régulation :","Activité","Veille","Veille","Veille"]
[{"$nulls":5},{"$f":"Typologie!W14","v":"01:00:00"},null,{"$f":"Typologie!AJ14","v":"non"},{"$f":"IF(OR(Typologie!I14=\"\",Typologie!I14=\"non\"),1,Typologie!I14)","v":1},{"$f":"Typologie!N14","v":"Pas de gestion"},{"$f":"Typologie!K14","v":"Travail de bureau"},{"$f":"_xlfn.IFS(Typologie!Q14=Données!G574,Typologie!S14,Typologie!Q14=Données!G575,Typologie!BG14,Typologie!Q14=\"\",0)","v":{"v":0.03,"d":"3%"}},{"$f":"_xlfn.IFS(Typologie!Q14=Données!G574,Typologie!U14,Typologie!Q14=Données!G575,0,Typologie!Q14=\"\",0)","v":{"v":0,"d":"0%"}}]
[{"$nulls":5},"Emetteur","Emetteur","Régulation :",null,{"$f":"Typologie!O14","v":"Par gestion manuelle"},null,"Foisonnement en fonction de l'occup 1=non 0 =oui"]
[{"$nulls":3},"Commentaires",null,{"$f":"Typologie!Z14","v":"Panneau rayonnant"},{"$f":"Typologie!AD14","v":0},{"$f":"Typologie!AG14","v":"Planning on/off"},null,"Niveau",null,{"$f":"IFERROR(_xlfn.IFS(L15=Données!$B$557,1,L15=Données!B558,0),\"particulier\")","v":1}]
[{"$nulls":3},{"$f":"Typologie!BI14","v":""},{"$nulls":3},{"$f":"Typologie!AF14","v":"VMC Double Flux"},null,{"$f":"Typologie!P14","v":300},null,{"$f":"Typologie!F14","v":"Constant suivant occupation"}]
[{"$nulls":9},"Lux"]
[]
[{"$nulls":3},"Profil d'occupation","Profil ventilation","Tchauff","Tclim","Vent. Méca","Occupation","Eclairage","Apport humains","Equip","Apports internes","Apports internes 2","Profil d'apports"]
[{"$nulls":3},"/","/","[°C]","[°C]",{"$f":"IF(D11=\"Sanitaires\",\"[m3/h]\",IF(OR(H10=\"[m3/h.pers]\",H10=\"[m3/h.local]\"),\"[m3/h]\",IF(H10=\"[Vol/h]\",\"[Vol/h]\",\"erreur\")))","v":"[m3/h]"},{"$f":"\"[\"&I10&\"]\"","v":"[pers]"},"[W/m²]","[W/m²]","[W/m²]","[W/m²]","[W/m²]","/",{"$nulls":9},"Partie Design builder",{"$nulls":22},"Profil d'occupation",0,"Tri","Profil de ventilation",0,"Tri"]
[1,"00:00:00","00:30:00",{"$f":"IF($I$12=\"non\",1,$I$12)*IF($F$4=\"oui\",IF(OR($B20<$H$4,$C20>$I$4,AND($B20>=$K$4,$C20<=$L$4)),0,1),_xlfn.IFS($D$7=Données!$B$527,HLOOKUP($D$11,Données!$C$8:$Y$57,A20+2,0),$D$7=Données!$B$528,HLOOKUP($D$11,Données!$C$62:$Y$111,A20+2,0),$D$7=Données!$B$529,HLOOKUP($D$11,Données!$C$115:$Y$164,A20+2,0),$D$7=Données!$B$530,HLOOKUP($D$11,Données!$C$169:$Y$218,A20+2,0),$D$7=Données!$B$531,HLOOKUP($D$11,Données!$C$224:$Y$273,A20+2,0),$D$7=Données!$B$532,HLOOKUP($D$11,Données!$C$280:$Y$329,A20+2,0)))","v":0},{"$f":"_xlfn.IFS($H$14=Données!$E$536,1,$H$14=Données!$E$537,IF(D20=0,Données!$F$537,D20),$H$14=Données!$E$538,IF(D20=0,Données!$F$538,D20),$H$14=Données!$E$539,IF(AND(B20>=$C$1-Données!$G$539,C20<=$C$2+Données!$G$539),1,0),$H$14=Données!$E$540,_xlfn.IFS(AND(D20=0,OR(B20<$C$1-Données!$G$540,C20>$C$2+Données!$G$540)),D20,AND(D20=0,B20>=$C$1-Données!$G$540,C20<=$C$2+Données!$G$540),Données!$F$540,D20<>0,D20))","v":0},{"$f":"IF($F$8=\"non\",NA(),IF(AND($D$7=\"Logement\",$D20>0),$F$9,IF(AND(B20>=$C$1-$F$12,C20<=$C$2),$F$9,$F$10)))","v":18},{"$f":"IF($G$8=\"non\",NA(),IF(AND($D$7=\"Logement\",$D20>0),$G$9,IF(AND(B20>=$C$1,C20<=$C$2),$G$9,$G$10)))","v":{"$error":"#N/A"}},{"$f":"IF($H$8=\"oui\",_xlfn.IFS($D$11=\"Sanitaires\",(30+(15*$H$9))*E20,$H$10=\"[m3/h.local]\",$H$9*E20,AND($H$19=\"[m3/h]\",$I$19=\"[pers/m²]\"),$I$9*$D$8*$H$9*E20,AND($H$19=\"[m3/h]\",($I$19=\"[pers]\")),$I$9*$H$9*E20,$H$19=\"[Vol/h]\",$H$9*E20),0)","v":{"v":0,"d":"0.0"}},{"$f":"D20*$I$9","v":0},{"$f":"IF(D20=0,0,$J$9)","v":0},{"$f":"IF($I$19=\"[pers]\",I20*$K$9/$D$8,IF($I$19=\"[pers/m²]\",I20*$K$9,\"erreur\"))","v":0},{"$f":"IF($L$14=\"particulier\",_xlfn.IFS(O20=0,$L$12*$L$9,O20>0,$L$9*O20),_xlfn.IFS(AND($L$14=1,I20=0),$L$9*$L$12,AND($L$14=1,I20>0),$L$9,AND($L$14=0,I20=0),$L$9*$L$12,AND($L$14=0,I20>0),$L$9*I20/$I$9))","v":0.3},{"$f":"IF(I20=0,0,$M$9*I20/$I$9)","v":0},{"$f":"IF(I20=0,0,$N$9*I20/$I$9)","v":0},{"$f":"IFERROR(IF($F$4=\"oui\",IF(OR($B20<$H$4,$C20>$I$4,AND($B20>=$K$4,$C20<=$L$4)),0,1),_xlfn.IFS($D$7=Données!$B$527,HLOOKUP($L$15,Données!$C$8:$Y$57,A20+2,0),$D$7=Données!$B$528,HLOOKUP($L$15,Données!$C$62:$Y$111,A20+2,0),$D$7=Données!$B$529,HLOOKUP($L$15,Données!$C$115:$Y$164,A20+2,0),$D$7=Données!$B$530,HLOOKUP($L$15,Données!$C$169:$Y$218,A20+2,0),$D$7=Données!$B$531,HLOOKUP($L$15,Données!$C$224:$Y$273,A20+2,0),$D$7=Données!$B$532,HLOOKUP($L$15,Données!$C$280:$Y$329,A20+2,0))),\"\")","v":""},{"$nulls":29},1,"00:00:00","00:30:00",{"$f":"IF(OR(AS20=1,AS20=48),\"Changement\",IF(D20=D19,\"Pas de changement\",\"Changement\"))","v":"Changement"},{"$f":"IF(AV20=\"Changement\",AW19+1,AW19)","v":1},{"$f":"AV20&AW20","v":"Changement1"},{"$f":"IF(OR(AS20=1,AS20=48),\"Changement\",IF(H20=H19,\"Pas de changement\",\"Changement\"))","v":"Changement"},{"$f":"IF(AY20=\"Changement\",AZ19+1,AZ19)","v":1},{"$f":"AY20&AZ20","v":"Changement1"}]
[2,{"$f":"C20","v":"00:30:00"},{"$f":"C20+0.5/24","v":"01:00:00"},{"$f":"IF($I$12=\"non\",1,$I$12)*IF($F$4=\"oui\",IF(OR($B21<$H$4,$C21>$I$4,AND($B21>=$K$4,$C21<=$L$4)),0,1),_xlfn.IFS($D$7=Données!$B$527,HLOOKUP($D$11,Données!$C$8:$Y$57,A21+2,0),$D$7=Données!$B$528,HLOOKUP($D$11,Données!$C$62:$Y$111,A21+2,0),$D$7=Données!$B$529,HLOOKUP($D$11,Données!$C$115:$Y$164,A21+2,0),$D$7=Données!$B$530,HLOOKUP($D$11,Données!$C$169:$Y$218,A21+2,0),$D$7=Données!$B$531,HLOOKUP($D$11,Données!$C$224:$Y$273,A21+2,0),$D$7=Données!$B$532,HLOOKUP($D$11,Données!$C$280:$Y$329,A21+2,0)))","v":0},{"$f":"_xlfn.IFS($H$14=Données!$E$536,1,$H$14=Données!$E$537,IF(D21=0,Données!$F$537,D21),$H$14=Données!$E$538,IF(D21=0,Données!$F$538,D21),$H$14=Données!$E$539,IF(AND(B21>=$C$1-Données!$G$539,C21<=$C$2+Données!$G$539),1,0),$H$14=Données!$E$540,_xlfn.IFS(AND(D21=0,OR(B21<$C$1-Données!$G$540,C21>$C$2+Données!$G$540)),D21,AND(D21=0,B21>=$C$1-Données!$G$540,C21<=$C$2+Données!$G$540),Données!$F$540,D21<>0,D21))","v":0},{"$f":"IF($F$8=\"non\",NA(),IF(AND($D$7=\"Logement\",$D21>0),$F$9,IF(AND(B21>=$C$1-$F$12,C21<=$C$2),$F$9,$F$10)))","v":18},{"$f":"IF($G$8=\"non\",NA(),IF(AND($D$7=\"Logement\",$D21>0),$G$9,IF(AND(B21>=$C$1,C21<=$C$2),$G$9,$G$10)))","v":{"$error":"#N/A"}},{"$f":"IF($H$8=\"oui\",_xlfn.IFS($D$11=\"Sanitaires\",(30+(15*$H$9))*E21,$H$10=\"[m3/h.local]\",$H$9*E21,AND($H$19=\"[m3/h]\",$I$19=\"[pers/m²]\"),$I$9*$D$8*$H$9*E21,AND($H$19=\"[m3/h]\",($I$19=\"[pers]\")),$I$9*$H$9*E21,$H$19=\"[Vol/h]\",$H$9*E21),0)","v":{"v":0,"d":"0.0"}},0,0,0,{"$f":"IF($L$14=\"particulier\",_xlfn.IFS(O21=0,$L$12*$L$9,O21>0,$L$9*O21),_xlfn.IFS(AND($L$14=1,I21=0),$L$9*$L$12,AND($L$14=1,I21>0),$L$9,AND($L$14=0,I21=0),$L$9*$L$12,AND($L$14=0,I21>0),$L$9*I21/$I$9))","v":0.3},0,0,{"$f":"IFERROR(IF($F$4=\"oui\",IF(OR($B21<$H$4,$C21>$I$4,AND($B21>=$K$4,$C21<=$L$4)),0,1),_xlfn.IFS($D$7=Données!$B$527,HLOOKUP($L$15,Données!$C$8:$Y$57,A21+2,0),$D$7=Données!$B$528,HLOOKUP($L$15,Données!$C$62:$Y$111,A21+2,0),$D$7=Données!$B$529,HLOOKUP($L$15,Données!$C$115:$Y$164,A21+2,0),$D$7=Données!$B$530,HLOOKUP($L$15,Données!$C$169:$Y$218,A21+2,0),$D$7=Données!$B$531,HLOOKUP($L$15,Données!$C$224:$Y$273,A21+2,0),$D$7=Données!$B$532,HLOOKUP($L$15,Données!$C$280:$Y$329,A21+2,0))),\"\")","v":""},{"$nulls":29},2,{"$f":"AU20","v":"00:30:00"},{"$f":"AU20+0.5/24","v":"01:00:00"},{"$f":"IF(OR(AS21=1,AS21=48),\"Changement\",IF(D21=D20,\"Pas de changement\",\"Changement\"))","v":"Pas de changement"},{"$f":"IF(AV21=\"Changement\",AW20+1,AW20)","v":1},{"$f":"AV21&AW21","v":"Pas de changement1"},"Pas de changement",{"$f":"IF(AY21=\"Changement\",AZ20+1,AZ20)","v":1},{"$f":"AY21&AZ21","v":"Pas de changement1"}]
[3,{"$f":"C21","v":"01:00:00"},{"$f":"C21+0.5/24","v":"01:30:00"},{"$f":"IF($I$12=\"non\",1,$I$12)*IF($F$4=\"oui\",IF(OR($B22<$H$4,$C22>$I$4,AND($B22>=$K$4,$C22<=$L$4)),0,1),_xlfn.IFS($D$7=Données!$B$527,HLOOKUP($D$11,Données!$C$8:$Y$57,A22+2,0),$D$7=Données!$B$528,HLOOKUP($D$11,Données!$C$62:$Y$111,A22+2,0),$D$7=Données!$B$529,HLOOKUP($D$11,Données!$C$115:$Y$164,A22+2,0),$D$7=Données!$B$530,HLOOKUP($D$11,Données!$C$169:$Y$218,A22+2,0),$D$7=Données!$B$531,HLOOKUP($D$11,Données!$C$224:$Y$273,A22+2,0),$D$7=Données!$B$532,HLOOKUP($D$11,Données!$C$280:$Y$329,A22+2,0)))","v":0},{"$f":"_xlfn.IFS($H$14=Données!$E$536,1,$H$14=Données!$E$537,IF(D22=0,Données!$F$537,D22),$H$14=Données!$E$538,IF(D22=0,Données!$F$538,D22),$H$14=Données!$E$539,IF(AND(B22>=$C$1-Données!$G$539,C22<=$C$2+Données!$G$539),1,0),$H$14=Données!$E$540,_xlfn.IFS(AND(D22=0,OR(B22<$C$1-Données!$G$540,C22>$C$2+Données!$G$540)),D22,AND(D22=0,B22>=$C$1-Données!$G$540,C22<=$C$2+Données!$G$540),Données!$F$540,D22<>0,D22))","v":0},18,{"$error":"#N/A"},{"$f":"IF($H$8=\"oui\",_xlfn.IFS($D$11=\"Sanitaires\",(30+(15*$H$9))*E22,$H$10=\"[m3/h.local]\",$H$9*E22,AND($H$19=\"[m3/h]\",$I$19=\"[pers/m²]\"),$I$9*$D$8*$H$9*E22,AND($H$19=\"[m3/h]\",($I$19=\"[pers]\")),$I$9*$H$9*E22,$H$19=\"[Vol/h]\",$H$9*E22),0)","v":{"v":0,"d":"0.0"}},0,0,0,{"$f":"IF($L$14=\"particulier\",_xlfn.IFS(O22=0,$L$12*$L$9,O22>0,$L$9*O22),_xlfn.IFS(AND($L$14=1,I22=0),$L$9*$L$12,AND($L$14=1,I22>0),$L$9,AND($L$14=0,I22=0),$L$9*$L$12,AND($L$14=0,I22>0),$L$9*I22/$I$9))","v":0.3},0,0,{"$f":"IFERROR(IF($F$4=\"oui\",IF(OR($B22<$H$4,$C22>$I$4,AND($B22>=$K$4,$C22<=$L$4)),0,1),_xlfn.IFS($D$7=Données!$B$527,HLOOKUP($L$15,Données!$C$8:$Y$57,A22+2,0),$D$7=Données!$B$528,HLOOKUP($L$15,Données!$C$62:$Y$111,A22+2,0),$D$7=Données!$B$529,HLOOKUP($L$15,Données!$C$115:$Y$164,A22+2,0),$D$7=Données!$B$530,HLOOKUP($L$15,Données!$C$169:$Y$218,A22+2,0),$D$7=Données!$B$531,HLOOKUP($L$15,Données!$C$224:$Y$273,A22+2,0),$D$7=Données!$B$532,HLOOKUP($L$15,Données!$C$280:$Y$329,A22+2,0))),\"\")","v":""},{"$nulls":9},{"$f":"B6","v":"01 _ test 1"},{"$nulls":19},3,{"$f":"AU21","v":"01:00:00"},{"$f":"AU21+0.5/24","v":"01:30:00"},{"$f":"IF(AS22=48,\"Changement\",IF(D22=D21,\"Pas de changement\",\"Changement\"))","v":"Pas de changement"},{"$f":"IF(AV22=\"Changement\",AW21+1,AW21)","v":1},"Pas de changement1","Pas de changement",{"$f":"IF(AY22=\"Changement\",AZ21+1,AZ21)","v":1},"Pas de changement1"]
[4,"01:30:00","02:00:00",{"$f":"IF($I$12=\"non\",1,$I$12)*IF($F$4=\"oui\",IF(OR($B23<$H$4,$C23>$I$4,AND($B23>=$K$4,$C23<=$L$4)),0,1),_xlfn.IFS($D$7=Données!$B$527,HLOOKUP($D$11,Données!$C$8:$Y$57,A23+2,0),$D$7=Données!$B$528,HLOOKUP($D$11,Données!$C$62:$Y$111,A23+2,0),$D$7=Données!$B$529,HLOOKUP($D$11,Données!$C$115:$Y$164,A23+2,0),$D$7=Données!$B$530,HLOOKUP($D$11,Données!$C$169:$Y$218,A23+2,0),$D$7=Données!$B$531,HLOOKUP($D$11,Données!$C$224:$Y$273,A23+2,0),$D$7=Données!$B$532,HLOOKUP($D$11,Données!$C$280:$Y$329,A23+2,0)))","v":0},{"$f":"_xlfn.IFS($H$14=Données!$E$536,1,$H$14=Données!$E$537,IF(D23=0,Données!$F$537,D23),$H$14=Données!$E$538,IF(D23=0,Données!$F$538,D23),$H$14=Données!$E$539,IF(AND(B23>=$C$1-Données!$G$539,C23<=$C$2+Données!$G$539),1,0),$H$14=Données!$E$540,_xlfn.IFS(AND(D23=0,OR(B23<$C$1-Données!$G$540,C23>$C$2+Données!$G$540)),D23,AND(D23=0,B23>=$C$1-Données!$G$540,C23<=$C$2+Données!$G$540),Données!$F$540,D23<>0,D23))","v":0},18,{"$error":"#N/A"},{"$f":"IF($H$8=\"oui\",_xlfn.IFS($D$11=\"Sanitaires\",(30+(15*$H$9))*E23,$H$10=\"[m3/h.local]\",$H$9*E23,AND($H$19=\"[m3/h]\",$I$19=\"[pers/m²]\"),$I$9*$D$8*$H$9*E23,AND($H$19=\"[m3/h]\",($I$19=\"[pers]\")),$I$9*$H$9*E23,$H$19=\"[Vol/h]\",$H$9*E23),0)","v":{"v":0,"d":"0.0"}},0,0,0,{"$f":"IF($L$14=\"particulier\",_xlfn.IFS(O23=0,$L$12*$L$9,O23>0,$L$9*O23),_xlfn.IFS(AND($L$14=1,I23=0),$L$9*$L$12,AND($L$14=1,I23>0),$L$9,AND($L$14=0,I23=0),$L$9*$L$12,AND($L$14=0,I23>0),$L$9*I23/$I$9))","v":0.3},0,0,{"$f":"IFERROR(IF($F$4=\"oui\",IF(OR($B23<$H$4,$C23>$I$4,AND($B23>=$K$4,$C23<=$L$4)),0,1),_xlfn.IFS($D$7=Données!$B$527,HLOOKUP($L$15,Données!$C$8:$Y$57,A23+2,0),$D$7=Données!$B$528,HLOOKUP($L$15,Données!$C$62:$Y$111,A23+2,0),$D$7=Données!$B$529,HLOOKUP($L$15,Données!$C$115:$Y$164,A23+2,0),$D$7=Données!$B$530,HLOOKUP($L$15,Données!$C$169:$Y$218,A23+2,0),$D$7=Données!$B$531,HLOOKUP($L$15,Données!$C$224:$Y$273,A23+2,0),$D$7=Données!$B$532,HLOOKUP($L$15,Données!$C$280:$Y$329,A23+2,0))),\"\")","v":""},null,null,{"$f":"B6","v":"01 _ test 1"},{"$nulls":6},"Attention DB n'accepte les décimales qu'avec des points !!!!!!",{"$nulls":19},4,"01:30:00","02:00:00","Pas de changement",1,"Pas de changement1","Pas de changement",1,"Pas de changement1"]
[5,"02:00:00","02:30:00",{"$f":"IF($I$12=\"non\",1,$I$12)*IF($F$4=\"oui\",IF(OR($B24<$H$4,$C24>$I$4,AND($B24>=$K$4,$C24<=$L$4)),0,1),_xlfn.IFS($D$7=Données!$B$527,HLOOKUP($D$11,Données!$C$8:$Y$57,A24+2,0),$D$7=Données!$B$528,HLOOKUP($D$11,Données!$C$62:$Y$111,A24+2,0),$D$7=Données!$B$529,HLOOKUP($D$11,Données!$C$115:$Y$164,A24+2,0),$D$7=Données!$B$530,HLOOKUP($D$11,Données!$C$169:$Y$218,A24+2,0),$D$7=Données!$B$531,HLOOKUP($D$11,Données!$C$224:$Y$273,A24+2,0),$D$7=Données!$B$532,HLOOKUP($D$11,Données!$C$280:$Y$329,A24+2,0)))","v":0},{"$f":"_xlfn.IFS($H$14=Données!$E$536,1,$H$14=Données!$E$537,IF(D24=0,Données!$F$537,D24),$H$14=Données!$E$538,IF(D24=0,Données!$F$538,D24),$H$14=Données!$E$539,IF(AND(B24>=$C$1-Données!$G$539,C24<=$C$2+Données!$G$539),1,0),$H$14=Données!$E$540,_xlfn.IFS(AND(D24=0,OR(B24<$C$1-Données!$G$540,C24>$C$2+Données!$G$540)),D24,AND(D24=0,B24>=$C$1-Données!$G$540,C24<=$C$2+Données!$G$540),Données!$F$540,D24<>0,D24))","v":0},18,{"$error":"#N/A"},{"$f":"IF($H$8=\"oui\",_xlfn.IFS($D$11=\"Sanitaires\",(30+(15*$H$9))*E24,$H$10=\"[m3/h.local]\",$H$9*E24,AND($H$19=\"[m3/h]\",$I$19=\"[pers/m²]\"),$I$9*$D$8*$H$9*E24,AND($H$19=\"[m3/h]\",($I$19=\"[pers]\")),$I$9*$H$9*E24,$H$19=\"[Vol/h]\",$H$9*E24),0)","v":{"v":0,"d":"0.0"}},0,0,0,{"$f":"IF($L$14=\"particulier\",_xlfn.IFS(O24=0,$L$12*$L$9,O24>0,$L$9*O24),_xlfn.IFS(AND($L$14=1,I24=0),$L$9*$L$12,AND($L$14=1,I24>0),$L$9,AND($L$14=0,I24=0),$L$9*$L$12,AND($L$14=0,I24>0),$L$9*I24/$I$9))","v":0.3},0,0,{"$f":"IFERROR(IF($F$4=\"oui\",IF(OR($B24<$H$4,$C24>$I$4,AND($B24>=$K$4,$C24<=$L$4)),0,1),_xlfn.IFS($D$7=Données!$B$527,HLOOKUP($L$15,Données!$C$8:$Y$57,A24+2,0),$D$7=Données!$B$528,HLOOKUP($L$15,Données!$C$62:$Y$111,A24+2,0),$D$7=Données!$B$529,HLOOKUP($L$15,Données!$C$115:$Y$164,A24+2,0),$D$7=Données!$B$530,HLOOKUP($L$15,Données!$C$169:$Y$218,A24+2,0),$D$7=Données!$B$531,HLOOKUP($L$15,Données!$C$224:$Y$273,A24+2,0),$D$7=Données!$B$532,HLOOKUP($L$15,Données!$C$280:$Y$329,A24+2,0))),\"\")","v":""},null,null,"Conditionnement :",null,"Occupation :",{"$nulls":24},5,"02:00:00","02:30:00","Pas de changement",1,"Pas de changement1","Pas de changement",1,"Pas de changement1"]
[6,"02:30:00","03:00:00",{"$f":"IF($I$12=\"non\",1,$I$12)*IF($F$4=\"oui\",IF(OR($B25<$H$4,$C25>$I$4,AND($B25>=$K$4,$C25<=$L$4)),0,1),_xlfn.IFS($D$7=Données!$B$527,HLOOKUP($D$11,Données!$C$8:$Y$57,A25+2,0),$D$7=Données!$B$528,HLOOKUP($D$11,Données!$C$62:$Y$111,A25+2,0),$D$7=Données!$B$529,HLOOKUP($D$11,Données!$C$115:$Y$164,A25+2,0),$D$7=Données!$B$530,HLOOKUP($D$11,Données!$C$169:$Y$218,A25+2,0),$D$7=Données!$B$531,HLOOKUP($D$11,Données!$C$224:$Y$273,A25+2,0),$D$7=Données!$B$532,HLOOKUP($D$11,Données!$C$280:$Y$329,A25+2,0)))","v":0},{"$f":"_xlfn.IFS($H$14=Données!$E$536,1,$H$14=Données!$E$537,IF(D25=0,Données!$F$537,D25),$H$14=Données!$E$538,IF(D25=0,Données!$F$538,D25),$H$14=Données!$E$539,IF(AND(B25>=$C$1-Données!$G$539,C25<=$C$2+Données!$G$539),1,0),$H$14=Données!$E$540,_xlfn.IFS(AND(D25=0,OR(B25<$C$1-Données!$G$540,C25>$C$2+Données!$G$540)),D25,AND(D25=0,B25>=$C$1-Données!$G$540,C25<=$C$2+Données!$G$540),Données!$F$540,D25<>0,D25))","v":0},18,{"$error":"#N/A"},{"$f":"IF($H$8=\"oui\",_xlfn.IFS($D$11=\"Sanitaires\",(30+(15*$H$9))*E25,$H$10=\"[m3/h.local]\",$H$9*E25,AND($H$19=\"[m3/h]\",$I$19=\"[pers/m²]\"),$I$9*$D$8*$H$9*E25,AND($H$19=\"[m3/h]\",($I$19=\"[pers]\")),$I$9*$H$9*E25,$H$19=\"[Vol/h]\",$H$9*E25),0)","v":{"v":0,"d":"0.0"}},0,0,0,{"$f":"IF($L$14=\"particulier\",_xlfn.IFS(O25=0,$L$12*$L$9,O25>0,$L$9*O25),_xlfn.IFS(AND($L$14=1,I25=0),$L$9*$L$12,AND($L$14=1,I25>0),$L$9,AND($L$14=0,I25=0),$L$9*$L$12,AND($L$14=0,I25>0),$L$9*I25/$I$9))","v":0.3},0,0,{"$f":"IFERROR(IF($F$4=\"oui\",IF(OR($B25<$H$4,$C25>$I$4,AND($B25>=$K$4,$C25<=$L$4)),0,1),_xlfn.IFS($D$7=Données!$B$527,HLOOKUP($L$15,Données!$C$8:$Y$57,A25+2,0),$D$7=Données!$B$528,HLOOKUP($L$15,Données!$C$62:$Y$111,A25+2,0),$D$7=Données!$B$529,HLOOKUP($L$15,Données!$C$115:$Y$164,A25+2,0),$D$7=Données!$B$530,HLOOKUP($L$15,Données!$C$169:$Y$218,A25+2,0),$D$7=Données!$B$531,HLOOKUP($L$15,Données!$C$224:$Y$273,A25+2,0),$D$7=Données!$B$532,HLOOKUP($L$15,Données!$C$280:$Y$329,A25+2,0))),\"\")","v":""},null,null,{"$f":"IF(F8=\"oui\",\"Chauffage par \"&F14,\"Zone non chauffée\")","v":"Chauffage par Panneau rayonnant"},null,"Planning d'usage :",{"$f":"D11","v":"Bureau"},{"$nulls":4},{"$f":"I9","v":{"v":1,"d":"1.000"}},{"$f":"I10","v":"pers"},{"$nulls":17},6,"02:30:00","03:00:00","Pas de changement",1,"Pas de changement1","Pas de changement",1,"Pas de changement1"]
[7,"03:00:00","03:30:00",{"$f":"IF($I$12=\"non\",1,$I$12)*IF($F$4=\"oui\",IF(OR($B26<$H$4,$C26>$I$4,AND($B26>=$K$4,$C26<=$L$4)),0,1),_xlfn.IFS($D$7=Données!$B$527,HLOOKUP($D$11,Données!$C$8:$Y$57,A26+2,0),$D$7=Données!$B$528,HLOOKUP($D$11,Données!$C$62:$Y$111,A26+2,0),$D$7=Données!$B$529,HLOOKUP($D$11,Données!$C$115:$Y$164,A26+2,0),$D$7=Données!$B$530,HLOOKUP($D$11,Données!$C$169:$Y$218,A26+2,0),$D$7=Données!$B$531,HLOOKUP($D$11,Données!$C$224:$Y$273,A26+2,0),$D$7=Données!$B$532,HLOOKUP($D$11,Données!$C$280:$Y$329,A26+2,0)))","v":0},{"$f":"_xlfn.IFS($H$14=Données!$E$536,1,$H$14=Données!$E$537,IF(D26=0,Données!$F$537,D26),$H$14=Données!$E$538,IF(D26=0,Données!$F$538,D26),$H$14=Données!$E$539,IF(AND(B26>=$C$1-Données!$G$539,C26<=$C$2+Données!$G$539),1,0),$H$14=Données!$E$540,_xlfn.IFS(AND(D26=0,OR(B26<$C$1-Données!$G$540,C26>$C$2+Données!$G$540)),D26,AND(D26=0,B26>=$C$1-Données!$G$540,C26<=$C$2+Données!$G$540),Données!$F$540,D26<>0,D26))","v":0},18,{"$error":"#N/A"},{"$f":"IF($H$8=\"oui\",_xlfn.IFS($D$11=\"Sanitaires\",(30+(15*$H$9))*E26,$H$10=\"[m3/h.local]\",$H$9*E26,AND($H$19=\"[m3/h]\",$I$19=\"[pers/m²]\"),$I$9*$D$8*$H$9*E26,AND($H$19=\"[m3/h]\",($I$19=\"[pers]\")),$I$9*$H$9*E26,$H$19=\"[Vol/h]\",$H$9*E26),0)","v":{"v":0,"d":"0.0"}},0,0,0,{"$f":"IF($L$14=\"particulier\",_xlfn.IFS(O26=0,$L$12*$L$9,O26>0,$L$9*O26),_xlfn.IFS(AND($L$14=1,I26=0),$L$9*$L$12,AND($L$14=1,I26>0),$L$9,AND($L$14=0,I26=0),$L$9*$L$12,AND($L$14=0,I26>0),$L$9*I26/$I$9))","v":0.3},0,0,{"$f":"IFERROR(IF($F$4=\"oui\",IF(OR($B26<$H$4,$C26>$I$4,AND($B26>=$K$4,$C26<=$L$4)),0,1),_xlfn.IFS($D$7=Données!$B$527,HLOOKUP($L$15,Données!$C$8:$Y$57,A26+2,0),$D$7=Données!$B$528,HLOOKUP($L$15,Données!$C$62:$Y$111,A26+2,0),$D$7=Données!$B$529,HLOOKUP($L$15,Données!$C$115:$Y$164,A26+2,0),$D$7=Données!$B$530,HLOOKUP($L$15,Données!$C$169:$Y$218,A26+2,0),$D$7=Données!$B$531,HLOOKUP($L$15,Données!$C$224:$Y$273,A26+2,0),$D$7=Données!$B$532,HLOOKUP($L$15,Données!$C$280:$Y$329,A26+2,0))),\"\")","v":""},null,null,{"$f":"IF(F8=\"oui\",\"Consigne/Réduit :\",\"\")","v":"Consigne/Réduit :"},{"$f":"IF(F8=\"oui\",F9&\" / \"&F10&\" °C\",\"\")","v":"20 / 18 °C"},{"$f":"IF(OR(I9=\"\",I9=0),\"\",\"Effectif :\")","v":"Effectif :"},{"$f":"IF(OR(I9=\"\",I9=0),\"\",IF(I10=\"pers\",ROUND(I9,0)&\" \"&I10,ROUND(I9,3)&\" \"&I10))","v":"1 pers"},{"$nulls":4},"Scénario Occupation ",{"$nulls":18},7,"03:00:00","03:30:00","Pas de changement",1,"Pas de changement1","Pas de changement",1,"Pas de changement1"]
[8,"03:30:00","04:00:00",{"$f":"IF($I$12=\"non\",1,$I$12)*IF($F$4=\"oui\",IF(OR($B27<$H$4,$C27>$I$4,AND($B27>=$K$4,$C27<=$L$4)),0,1),_xlfn.IFS($D$7=Données!$B$527,HLOOKUP($D$11,Données!$C$8:$Y$57,A27+2,0),$D$7=Données!$B$528,HLOOKUP($D$11,Données!$C$62:$Y$111,A27+2,0),$D$7=Données!$B$529,HLOOKUP($D$11,Données!$C$115:$Y$164,A27+2,0),$D$7=Données!$B$530,HLOOKUP($D$11,Données!$C$169:$Y$218,A27+2,0),$D$7=Données!$B$531,HLOOKUP($D$11,Données!$C$224:$Y$273,A27+2,0),$D$7=Données!$B$532,HLOOKUP($D$11,Données!$C$280:$Y$329,A27+2,0)))","v":0},{"$f":"_xlfn.IFS($H$14=Données!$E$536,1,$H$14=Données!$E$537,IF(D27=0,Données!$F$537,D27),$H$14=Données!$E$538,IF(D27=0,Données!$F$538,D27),$H$14=Données!$E$539,IF(AND(B27>=$C$1-Données!$G$539,C27<=$C$2+Données!$G$539),1,0),$H$14=Données!$E$540,_xlfn.IFS(AND(D27=0,OR(B27<$C$1-Données!$G$540,C27>$C$2+Données!$G$540)),D27,AND(D27=0,B27>=$C$1-Données!$G$540,C27<=$C$2+Données!$G$540),Données!$F$540,D27<>0,D27))","v":0},18,{"$error":"#N/A"},{"$f":"IF($H$8=\"oui\",_xlfn.IFS($D$11=\"Sanitaires\",(30+(15*$H$9))*E27,$H$10=\"[m3/h.local]\",$H$9*E27,AND($H$19=\"[m3/h]\",$I$19=\"[pers/m²]\"),$I$9*$D$8*$H$9*E27,AND($H$19=\"[m3/h]\",($I$19=\"[pers]\")),$I$9*$H$9*E27,$H$19=\"[Vol/h]\",$H$9*E27),0)","v":{"v":0,"d":"0.0"}},0,0,0,{"$f":"IF($L$14=\"particulier\",_xlfn.IFS(O27=0,$L$12*$L$9,O27>0,$L$9*O27),_xlfn.IFS(AND($L$14=1,I27=0),$L$9*$L$12,AND($L$14=1,I27>0),$L$9,AND($L$14=0,I27=0),$L$9*$L$12,AND($L$14=0,I27>0),$L$9*I27/$I$9))","v":0.3},0,0,{"$f":"IFERROR(IF($F$4=\"oui\",IF(OR($B27<$H$4,$C27>$I$4,AND($B27>=$K$4,$C27<=$L$4)),0,1),_xlfn.IFS($D$7=Données!$B$527,HLOOKUP($L$15,Données!$C$8:$Y$57,A27+2,0),$D$7=Données!$B$528,HLOOKUP($L$15,Données!$C$62:$Y$111,A27+2,0),$D$7=Données!$B$529,HLOOKUP($L$15,Données!$C$115:$Y$164,A27+2,0),$D$7=Données!$B$530,HLOOKUP($L$15,Données!$C$169:$Y$218,A27+2,0),$D$7=Données!$B$531,HLOOKUP($L$15,Données!$C$224:$Y$273,A27+2,0),$D$7=Données!$B$532,HLOOKUP($L$15,Données!$C$280:$Y$329,A27+2,0))),\"\")","v":""},null,null,{"$f":"IF(G8=\"oui\",\"Rafraichissement par \"&G14,\"Zone non rafraichie\")","v":"Zone non rafraichie"},null,{"$f":"IF(OR(I9=\"\",I9=0),\"\",\"Métabolisme :\")","v":"Métabolisme :"},{"$f":"IF(OR(I9=\"\",I9=0),\"\",K12&\" (\"&K9&\" W/pers)\")","v":"Travail de bureau (123 W/pers)"},{"$nulls":4},"(A copier dans DB. Attention effacer les lignes vides sinon DB plante)",{"$nulls":18},8,"03:30:00","04:00:00","Pas de changement",1,"Pas de changement1","Pas de changement",1,"Pas de changement1"]
[9,"04:00:00","04:30:00",{"$f":"IF($I$12=\"non\",1,$I$12)*IF($F$4=\"oui\",IF(OR($B28<$H$4,$C28>$I$4,AND($B28>=$K$4,$C28<=$L$4)),0,1),_xlfn.IFS($D$7=Données!$B$527,HLOOKUP($D$11,Données!$C$8:$Y$57,A28+2,0),$D$7=Données!$B$528,HLOOKUP($D$11,Données!$C$62:$Y$111,A28+2,0),$D$7=Données!$B$529,HLOOKUP($D$11,Données!$C$115:$Y$164,A28+2,0),$D$7=Données!$B$530,HLOOKUP($D$11,Données!$C$169:$Y$218,A28+2,0),$D$7=Données!$B$531,HLOOKUP($D$11,Données!$C$224:$Y$273,A28+2,0),$D$7=Données!$B$532,HLOOKUP($D$11,Données!$C$280:$Y$329,A28+2,0)))","v":0},{"$f":"_xlfn.IFS($H$14=Données!$E$536,1,$H$14=Données!$E$537,IF(D28=0,Données!$F$537,D28),$H$14=Données!$E$538,IF(D28=0,Données!$F$538,D28),$H$14=Données!$E$539,IF(AND(B28>=$C$1-Données!$G$539,C28<=$C$2+Données!$G$539),1,0),$H$14=Données!$E$540,_xlfn.IFS(AND(D28=0,OR(B28<$C$1-Données!$G$540,C28>$C$2+Données!$G$540)),D28,AND(D28=0,B28>=$C$1-Données!$G$540,C28<=$C$2+Données!$G$540),Données!$F$540,D28<>0,D28))","v":0},18,{"$error":"#N/A"},{"$f":"IF($H$8=\"oui\",_xlfn.IFS($D$11=\"Sanitaires\",(30+(15*$H$9))*E28,$H$10=\"[m3/h.local]\",$H$9*E28,AND($H$19=\"[m3/h]\",$I$19=\"[pers/m²]\"),$I$9*$D$8*$H$9*E28,AND($H$19=\"[m3/h]\",($I$19=\"[pers]\")),$I$9*$H$9*E28,$H$19=\"[Vol/h]\",$H$9*E28),0)","v":{"v":0,"d":"0.0"}},0,0,0,{"$f":"IF($L$14=\"particulier\",_xlfn.IFS(O28=0,$L$12*$L$9,O28>0,$L$9*O28),_xlfn.IFS(AND($L$14=1,I28=0),$L$9*$L$12,AND($L$14=1,I28>0),$L$9,AND($L$14=0,I28=0),$L$9*$L$12,AND($L$14=0,I28>0),$L$9*I28/$I$9))","v":0.3},0,0,{"$f":"IFERROR(IF($F$4=\"oui\",IF(OR($B28<$H$4,$C28>$I$4,AND($B28>=$K$4,$C28<=$L$4)),0,1),_xlfn.IFS($D$7=Données!$B$527,HLOOKUP($L$15,Données!$C$8:$Y$57,A28+2,0),$D$7=Données!$B$528,HLOOKUP($L$15,Données!$C$62:$Y$111,A28+2,0),$D$7=Données!$B$529,HLOOKUP($L$15,Données!$C$115:$Y$164,A28+2,0),$D$7=Données!$B$530,HLOOKUP($L$15,Données!$C$169:$Y$218,A28+2,0),$D$7=Données!$B$531,HLOOKUP($L$15,Données!$C$224:$Y$273,A28+2,0),$D$7=Données!$B$532,HLOOKUP($L$15,Données!$C$280:$Y$329,A28+2,0))),\"\")","v":""},null,null,{"$f":"IF(G8=\"oui\",\"Consigne/Réduit :\",\"\")","v":""},{"$f":"IF(G8=\"oui\",G9&\" / \"&G10&\" °C\",\"\")","v":""},{"$nulls":6},"Schedule:Compact,",{"$nulls":18},9,"04:00:00","04:30:00","Pas de changement",1,"Pas de changement1","Pas de changement",1,"Pas de changement1"]
[10,"04:30:00","05:00:00",{"$f":"IF($I$12=\"non\",1,$I$12)*IF($F$4=\"oui\",IF(OR($B29<$H$4,$C29>$I$4,AND($B29>=$K$4,$C29<=$L$4)),0,1),_xlfn.IFS($D$7=Données!$B$527,HLOOKUP($D$11,Données!$C$8:$Y$57,A29+2,0),$D$7=Données!$B$528,HLOOKUP($D$11,Données!$C$62:$Y$111,A29+2,0),$D$7=Données!$B$529,HLOOKUP($D$11,Données!$C$115:$Y$164,A29+2,0),$D$7=Données!$B$530,HLOOKUP($D$11,Données!$C$169:$Y$218,A29+2,0),$D$7=Données!$B$531,HLOOKUP($D$11,Données!$C$224:$Y$273,A29+2,0),$D$7=Données!$B$532,HLOOKUP($D$11,Données!$C$280:$Y$329,A29+2,0)))","v":0},{"$f":"_xlfn.IFS($H$14=Données!$E$536,1,$H$14=Données!$E$537,IF(D29=0,Données!$F$537,D29),$H$14=Données!$E$538,IF(D29=0,Données!$F$538,D29),$H$14=Données!$E$539,IF(AND(B29>=$C$1-Données!$G$539,C29<=$C$2+Données!$G$539),1,0),$H$14=Données!$E$540,_xlfn.IFS(AND(D29=0,OR(B29<$C$1-Données!$G$540,C29>$C$2+Données!$G$540)),D29,AND(D29=0,B29>=$C$1-Données!$G$540,C29<=$C$2+Données!$G$540),Données!$F$540,D29<>0,D29))","v":0},18,{"$error":"#N/A"},{"$f":"IF($H$8=\"oui\",_xlfn.IFS($D$11=\"Sanitaires\",(30+(15*$H$9))*E29,$H$10=\"[m3/h.local]\",$H$9*E29,AND($H$19=\"[m3/h]\",$I$19=\"[pers/m²]\"),$I$9*$D$8*$H$9*E29,AND($H$19=\"[m3/h]\",($I$19=\"[pers]\")),$I$9*$H$9*E29,$H$19=\"[Vol/h]\",$H$9*E29),0)","v":{"v":0,"d":"0.0"}},0,0,0,{"$f":"IF($L$14=\"particulier\",_xlfn.IFS(O29=0,$L$12*$L$9,O29>0,$L$9*O29),_xlfn.IFS(AND($L$14=1,I29=0),$L$9*$L$12,AND($L$14=1,I29>0),$L$9,AND($L$14=0,I29=0),$L$9*$L$12,AND($L$14=0,I29>0),$L$9*I29/$I$9))","v":0.3},0,0,{"$f":"IFERROR(IF($F$4=\"oui\",IF(OR($B29<$H$4,$C29>$I$4,AND($B29>=$K$4,$C29<=$L$4)),0,1),_xlfn.IFS($D$7=Données!$B$527,HLOOKUP($L$15,Données!$C$8:$Y$57,A29+2,0),$D$7=Données!$B$528,HLOOKUP($L$15,Données!$C$62:$Y$111,A29+2,0),$D$7=Données!$B$529,HLOOKUP($L$15,Données!$C$115:$Y$164,A29+2,0),$D$7=Données!$B$530,HLOOKUP($L$15,Données!$C$169:$Y$218,A29+2,0),$D$7=Données!$B$531,HLOOKUP($L$15,Données!$C$224:$Y$273,A29+2,0),$D$7=Données!$B$532,HLOOKUP($L$15,Données!$C$280:$Y$329,A29+2,0))),\"\")","v":""},null,null,"Ventilation :",null,"Apports internes :",{"$nulls":5},{"$f":"$B$6&\"_occupation\"","v":"01 _ test 1_occupation"},",",{"$nulls":17},10,"04:30:00","05:00:00","Pas de changement",1,"Pas de changement1","Pas de changement",1,"Pas de changement1"]
[11,"05:00:00","05:30:00",{"$f":"IF($I$12=\"non\",1,$I$12)*IF($F$4=\"oui\",IF(OR($B30<$H$4,$C30>$I$4,AND($B30>=$K$4,$C30<=$L$4)),0,1),_xlfn.IFS($D$7=Données!$B$527,HLOOKUP($D$11,Données!$C$8:$Y$57,A30+2,0),$D$7=Données!$B$528,HLOOKUP($D$11,Données!$C$62:$Y$111,A30+2,0),$D$7=Données!$B$529,HLOOKUP($D$11,Données!$C$115:$Y$164,A30+2,0),$D$7=Données!$B$530,HLOOKUP($D$11,Données!$C$169:$Y$218,A30+2,0),$D$7=Données!$B$531,HLOOKUP($D$11,Données!$C$224:$Y$273,A30+2,0),$D$7=Données!$B$532,HLOOKUP($D$11,Données!$C$280:$Y$329,A30+2,0)))","v":0},{"$f":"_xlfn.IFS($H$14=Données!$E$536,1,$H$14=Données!$E$537,IF(D30=0,Données!$F$537,D30),$H$14=Données!$E$538,IF(D30=0,Données!$F$538,D30),$H$14=Données!$E$539,IF(AND(B30>=$C$1-Données!$G$539,C30<=$C$2+Données!$G$539),1,0),$H$14=Données!$E$540,_xlfn.IFS(AND(D30=0,OR(B30<$C$1-Données!$G$540,C30>$C$2+Données!$G$540)),D30,AND(D30=0,B30>=$C$1-Données!$G$540,C30<=$C$2+Données!$G$540),Données!$F$540,D30<>0,D30))","v":0},18,{"$error":"#N/A"},{"$f":"IF($H$8=\"oui\",_xlfn.IFS($D$11=\"Sanitaires\",(30+(15*$H$9))*E30,$H$10=\"[m3/h.local]\",$H$9*E30,AND($H$19=\"[m3/h]\",$I$19=\"[pers/m²]\"),$I$9*$D$8*$H$9*E30,AND($H$19=\"[m3/h]\",($I$19=\"[pers]\")),$I$9*$H$9*E30,$H$19=\"[Vol/h]\",$H$9*E30),0)","v":{"v":0,"d":"0.0"}},0,0,0,{"$f":"IF($L$14=\"particulier\",_xlfn.IFS(O30=0,$L$12*$L$9,O30>0,$L$9*O30),_xlfn.IFS(AND($L$14=1,I30=0),$L$9*$L$12,AND($L$14=1,I30>0),$L$9,AND($L$14=0,I30=0),$L$9*$L$12,AND($L$14=0,I30>0),$L$9*I30/$I$9))","v":0.3},0,0,{"$f":"IFERROR(IF($F$4=\"oui\",IF(OR($B30<$H$4,$C30>$I$4,AND($B30>=$K$4,$C30<=$L$4)),0,1),_xlfn.IFS($D$7=Données!$B$527,HLOOKUP($L$15,Données!$C$8:$Y$57,A30+2,0),$D$7=Données!$B$528,HLOOKUP($L$15,Données!$C$62:$Y$111,A30+2,0),$D$7=Données!$B$529,HLOOKUP($L$15,Données!$C$115:$Y$164,A30+2,0),$D$7=Données!$B$530,HLOOKUP($L$15,Données!$C$169:$Y$218,A30+2,0),$D$7=Données!$B$531,HLOOKUP($L$15,Données!$C$224:$Y$273,A30+2,0),$D$7=Données!$B$532,HLOOKUP($L$15,Données!$C$280:$Y$329,A30+2,0))),\"\")","v":""},null,null,{"$f":"IF(H8=\"oui\",H15,\"\")","v":"VMC Double Flux"},{"$f":"IF(H8=\"oui\",\"Sur \"&H14,\"\")","v":"Sur Planning on/off"},{"$f":"L7&\" :\"","v":"Equipements :"},{"$f":"IF(L12=0,ROUND(L9,2)&\" \"&L10,ROUND(L9,2)&\" \"&L10&\" (veille de \"&ROUND(L12,2)*100&\"%)\")","v":"10 W/m² (veille de 3%)"},{"$nulls":4},"Fraction,",{"$nulls":18},11,"05:00:00","05:30:00","Pas de changement",1,"Pas de changement1","Pas de changement",1,"Pas de changement1"]
[12,"05:30:00","06:00:00",{"$f":"IF($I$12=\"non\",1,$I$12)*IF($F$4=\"oui\",IF(OR($B31<$H$4,$C31>$I$4,AND($B31>=$K$4,$C31<=$L$4)),0,1),_xlfn.IFS($D$7=Données!$B$527,HLOOKUP($D$11,Données!$C$8:$Y$57,A31+2,0),$D$7=Données!$B$528,HLOOKUP($D$11,Données!$C$62:$Y$111,A31+2,0),$D$7=Données!$B$529,HLOOKUP($D$11,Données!$C$115:$Y$164,A31+2,0),$D$7=Données!$B$530,HLOOKUP($D$11,Données!$C$169:$Y$218,A31+2,0),$D$7=Données!$B$531,HLOOKUP($D$11,Données!$C$224:$Y$273,A31+2,0),$D$7=Données!$B$532,HLOOKUP($D$11,Données!$C$280:$Y$329,A31+2,0)))","v":0},{"$f":"_xlfn.IFS($H$14=Données!$E$536,1,$H$14=Données!$E$537,IF(D31=0,Données!$F$537,D31),$H$14=Données!$E$538,IF(D31=0,Données!$F$538,D31),$H$14=Données!$E$539,IF(AND(B31>=$C$1-Données!$G$539,C31<=$C$2+Données!$G$539),1,0),$H$14=Données!$E$540,_xlfn.IFS(AND(D31=0,OR(B31<$C$1-Données!$G$540,C31>$C$2+Données!$G$540)),D31,AND(D31=0,B31>=$C$1-Données!$G$540,C31<=$C$2+Données!$G$540),Données!$F$540,D31<>0,D31))","v":0},18,{"$error":"#N/A"},{"$f":"IF($H$8=\"oui\",_xlfn.IFS($D$11=\"Sanitaires\",(30+(15*$H$9))*E31,$H$10=\"[m3/h.local]\",$H$9*E31,AND($H$19=\"[m3/h]\",$I$19=\"[pers/m²]\"),$I$9*$D$8*$H$9*E31,AND($H$19=\"[m3/h]\",($I$19=\"[pers]\")),$I$9*$H$9*E31,$H$19=\"[Vol/h]\",$H$9*E31),0)","v":{"v":0,"d":"0.0"}},0,0,0,{"$f":"IF($L$14=\"particulier\",_xlfn.IFS(O31=0,$L$12*$L$9,O31>0,$L$9*O31),_xlfn.IFS(AND($L$14=1,I31=0),$L$9*$L$12,AND($L$14=1,I31>0),$L$9,AND($L$14=0,I31=0),$L$9*$L$12,AND($L$14=0,I31>0),$L$9*I31/$I$9))","v":0.3},0,0,{"$f":"IFERROR(IF($F$4=\"oui\",IF(OR($B31<$H$4,$C31>$I$4,AND($B31>=$K$4,$C31<=$L$4)),0,1),_xlfn.IFS($D$7=Données!$B$527,HLOOKUP($L$15,Données!$C$8:$Y$57,A31+2,0),$D$7=Données!$B$528,HLOOKUP($L$15,Données!$C$62:$Y$111,A31+2,0),$D$7=Données!$B$529,HLOOKUP($L$15,Données!$C$115:$Y$164,A31+2,0),$D$7=Données!$B$530,HLOOKUP($L$15,Données!$C$169:$Y$218,A31+2,0),$D$7=Données!$B$531,HLOOKUP($L$15,Données!$C$224:$Y$273,A31+2,0),$D$7=Données!$B$532,HLOOKUP($L$15,Données!$C$280:$Y$329,A31+2,0))),\"\")","v":""},null,null,{"$f":"IF(H8=\"oui\",\"Débit d'air neuf :\",\"\")","v":"Débit d'air neuf :"},{"$f":"IF(H8=\"oui\",H9&\" \"&H10,\"\")","v":"25 [m3/h.pers]"},{"$f":"IF(M9=0,\"\",M7&\" :\")","v":""},{"$f":"IF(M9=0,\"\",IF(M12=0,ROUND(M9,2)&\" \"&M10,ROUND(M9,2)&\" \"&M10&\" (veille de \"&M12*100&\"%)\"))","v":""},{"$nulls":4},"Through: ","31 Dec,",{"$nulls":17},12,"05:30:00","06:00:00","Pas de changement",1,"Pas de changement1","Pas de changement",1,"Pas de changement1"]
[13,"06:00:00","06:30:00",{"$f":"IF($I$12=\"non\",1,$I$12)*IF($F$4=\"oui\",IF(OR($B32<$H$4,$C32>$I$4,AND($B32>=$K$4,$C32<=$L$4)),0,1),_xlfn.IFS($D$7=Données!$B$527,HLOOKUP($D$11,Données!$C$8:$Y$57,A32+2,0),$D$7=Données!$B$528,HLOOKUP($D$11,Données!$C$62:$Y$111,A32+2,0),$D$7=Données!$B$529,HLOOKUP($D$11,Données!$C$115:$Y$164,A32+2,0),$D$7=Données!$B$530,HLOOKUP($D$11,Données!$C$169:$Y$218,A32+2,0),$D$7=Données!$B$531,HLOOKUP($D$11,Données!$C$224:$Y$273,A32+2,0),$D$7=Données!$B$532,HLOOKUP($D$11,Données!$C$280:$Y$329,A32+2,0)))","v":0},{"$f":"_xlfn.IFS($H$14=Données!$E$536,1,$H$14=Données!$E$537,IF(D32=0,Données!$F$537,D32),$H$14=Données!$E$538,IF(D32=0,Données!$F$538,D32),$H$14=Données!$E$539,IF(AND(B32>=$C$1-Données!$G$539,C32<=$C$2+Données!$G$539),1,0),$H$14=Données!$E$540,_xlfn.IFS(AND(D32=0,OR(B32<$C$1-Données!$G$540,C32>$C$2+Données!$G$540)),D32,AND(D32=0,B32>=$C$1-Données!$G$540,C32<=$C$2+Données!$G$540),Données!$F$540,D32<>0,D32))","v":0},18,{"$error":"#N/A"},{"$f":"IF($H$8=\"oui\",_xlfn.IFS($D$11=\"Sanitaires\",(30+(15*$H$9))*E32,$H$10=\"[m3/h.local]\",$H$9*E32,AND($H$19=\"[m3/h]\",$I$19=\"[pers/m²]\"),$I$9*$D$8*$H$9*E32,AND($H$19=\"[m3/h]\",($I$19=\"[pers]\")),$I$9*$H$9*E32,$H$19=\"[Vol/h]\",$H$9*E32),0)","v":{"v":0,"d":"0.0"}},0,0,0,{"$f":"IF($L$14=\"particulier\",_xlfn.IFS(O32=0,$L$12*$L$9,O32>0,$L$9*O32),_xlfn.IFS(AND($L$14=1,I32=0),$L$9*$L$12,AND($L$14=1,I32>0),$L$9,AND($L$14=0,I32=0),$L$9*$L$12,AND($L$14=0,I32>0),$L$9*I32/$I$9))","v":0.3},0,0,{"$f":"IFERROR(IF($F$4=\"oui\",IF(OR($B32<$H$4,$C32>$I$4,AND($B32>=$K$4,$C32<=$L$4)),0,1),_xlfn.IFS($D$7=Données!$B$527,HLOOKUP($L$15,Données!$C$8:$Y$57,A32+2,0),$D$7=Données!$B$528,HLOOKUP($L$15,Données!$C$62:$Y$111,A32+2,0),$D$7=Données!$B$529,HLOOKUP($L$15,Données!$C$115:$Y$164,A32+2,0),$D$7=Données!$B$530,HLOOKUP($L$15,Données!$C$169:$Y$218,A32+2,0),$D$7=Données!$B$531,HLOOKUP($L$15,Données!$C$224:$Y$273,A32+2,0),$D$7=Données!$B$532,HLOOKUP($L$15,Données!$C$280:$Y$329,A32+2,0))),\"\")","v":""},null,null,{"$f":"IF(H12=\"oui\",\"Présence d'une ventilation naturelle\",\"\")","v":""},null,{"$f":"IF(N9=\"\",\"\",N7&\" :\")","v":""},{"$f":"IF(T32=\"\",\"\",IF(N12=0,N9&\" \"&N10,N9&\" \"&N10&\" (veille de \"&N12*100&\"%)\"))","v":""},{"$nulls":4},"For: ","Weekdays",null," SummerDesignDay",",",{"$nulls":5},"Tanscrire les virgules en point",{"$nulls":8},13,"06:00:00","06:30:00","Pas de changement",1,"Pas de changement1","Pas de changement",1,"Pas de changement1"]
[14,"06:30:00","07:00:00",{"$f":"IF($I$12=\"non\",1,$I$12)*IF($F$4=\"oui\",IF(OR($B33<$H$4,$C33>$I$4,AND($B33>=$K$4,$C33<=$L$4)),0,1),_xlfn.IFS($D$7=Données!$B$527,HLOOKUP($D$11,Données!$C$8:$Y$57,A33+2,0),$D$7=Données!$B$528,HLOOKUP($D$11,Données!$C$62:$Y$111,A33+2,0),$D$7=Données!$B$529,HLOOKUP($D$11,Données!$C$115:$Y$164,A33+2,0),$D$7=Données!$B$530,HLOOKUP($D$11,Données!$C$169:$Y$218,A33+2,0),$D$7=Données!$B$531,HLOOKUP($D$11,Données!$C$224:$Y$273,A33+2,0),$D$7=Données!$B$532,HLOOKUP($D$11,Données!$C$280:$Y$329,A33+2,0)))","v":0},{"$f":"_xlfn.IFS($H$14=Données!$E$536,1,$H$14=Données!$E$537,IF(D33=0,Données!$F$537,D33),$H$14=Données!$E$538,IF(D33=0,Données!$F$538,D33),$H$14=Données!$E$539,IF(AND(B33>=$C$1-Données!$G$539,C33<=$C$2+Données!$G$539),1,0),$H$14=Données!$E$540,_xlfn.IFS(AND(D33=0,OR(B33<$C$1-Données!$G$540,C33>$C$2+Données!$G$540)),D33,AND(D33=0,B33>=$C$1-Données!$G$540,C33<=$C$2+Données!$G$540),Données!$F$540,D33<>0,D33))","v":0},18,{"$error":"#N/A"},{"$f":"IF($H$8=\"oui\",_xlfn.IFS($D$11=\"Sanitaires\",(30+(15*$H$9))*E33,$H$10=\"[m3/h.local]\",$H$9*E33,AND($H$19=\"[m3/h]\",$I$19=\"[pers/m²]\"),$I$9*$D$8*$H$9*E33,AND($H$19=\"[m3/h]\",($I$19=\"[pers]\")),$I$9*$H$9*E33,$H$19=\"[Vol/h]\",$H$9*E33),0)","v":{"v":0,"d":"0.0"}},0,0,0,{"$f":"IF($L$14=\"particulier\",_xlfn.IFS(O33=0,$L$12*$L$9,O33>0,$L$9*O33),_xlfn.IFS(AND($L$14=1,I33=0),$L$9*$L$12,AND($L$14=1,I33>0),$L$9,AND($L$14=0,I33=0),$L$9*$L$12,AND($L$14=0,I33>0),$L$9*I33/$I$9))","v":0.3},0,0,{"$f":"IFERROR(IF($F$4=\"oui\",IF(OR($B33<$H$4,$C33>$I$4,AND($B33>=$K$4,$C33<=$L$4)),0,1),_xlfn.IFS($D$7=Données!$B$527,HLOOKUP($L$15,Données!$C$8:$Y$57,A33+2,0),$D$7=Données!$B$528,HLOOKUP($L$15,Données!$C$62:$Y$111,A33+2,0),$D$7=Données!$B$529,HLOOKUP($L$15,Données!$C$115:$Y$164,A33+2,0),$D$7=Données!$B$530,HLOOKUP($L$15,Données!$C$169:$Y$218,A33+2,0),$D$7=Données!$B$531,HLOOKUP($L$15,Données!$C$224:$Y$273,A33+2,0),$D$7=Données!$B$532,HLOOKUP($L$15,Données!$C$280:$Y$329,A33+2,0))),\"\")","v":""},null,null,"Eclairage :",{"$f":"J12","v":"Pas de gestion"},"Commentaires :",{"$nulls":3},{"$f":"IFERROR(IF(X32+1<=$AV$69-1,X32+1,\"\"),\"\")","v":1},null,{"$f":"IF(X33=\"\",\"\",\"Until:\")","v":"Until:"},{"$f":"IF(X33=\"\",\"\",IFERROR(IF(X33=$AV$69-1,$AU$67,VLOOKUP(MATCH(TRUE,INDEX($AX$20:$AX$67=\"Changement\"&X34,0),0),$AS$20:$AU$67,2,0)),\"\"))","v":0.33333333333333326},{"$f":"IF(X33=\"\",\"\",\",\")","v":","},{"$f":"AN33","v":"0.0"},{"$f":"IF(X33=\"\",\"\",\",\")","v":","},{"$nulls":5},{"$f":"IF(X33=\"\",\"\",VLOOKUP(MATCH(TRUE,INDEX($AX$20:$AX$67=\"Changement\"&X33,0),0),$A$20:$N$67,4,0))","v":0},{"$f":"IF(AJ33=\"\",\"\",TRUNC(AJ33,0))","v":0},{"$f":"IF(AJ33=\"\",\"\",TRUNC((AJ33-AK33)*10,0))","v":0},{"$f":"IF(AJ33=\"\",\"\",IF(AJ33=0,0,AK33&\".\"&ROUND(AL33,0)))","v":0},{"$f":"IF(AJ33=\"\",\"\",TRUNC(AJ33,0)&\".\"&ROUND(AJ33-TRUNC(AJ33,0),2)*100)","v":"0.0"},{"$nulls":4},14,"06:30:00","07:00:00","Pas de changement",1,"Pas de changement1","Pas de changement",1,"Pas de changement1"]
[15,"07:00:00","07:30:00",{"$f":"IF($I$12=\"non\",1,$I$12)*IF($F$4=\"oui\",IF(OR($B34<$H$4,$C34>$I$4,AND($B34>=$K$4,$C34<=$L$4)),0,1),_xlfn.IFS($D$7=Données!$B$527,HLOOKUP($D$11,Données!$C$8:$Y$57,A34+2,0),$D$7=Données!$B$528,HLOOKUP($D$11,Données!$C$62:$Y$111,A34+2,0),$D$7=Données!$B$529,HLOOKUP($D$11,Données!$C$115:$Y$164,A34+2,0),$D$7=Données!$B$530,HLOOKUP($D$11,Données!$C$169:$Y$218,A34+2,0),$D$7=Données!$B$531,HLOOKUP($D$11,Données!$C$224:$Y$273,A34+2,0),$D$7=Données!$B$532,HLOOKUP($D$11,Données!$C$280:$Y$329,A34+2,0)))","v":0},{"$f":"_xlfn.IFS($H$14=Données!$E$536,1,$H$14=Données!$E$537,IF(D34=0,Données!$F$537,D34),$H$14=Données!$E$538,IF(D34=0,Données!$F$538,D34),$H$14=Données!$E$539,IF(AND(B34>=$C$1-Données!$G$539,C34<=$C$2+Données!$G$539),1,0),$H$14=Données!$E$540,_xlfn.IFS(AND(D34=0,OR(B34<$C$1-Données!$G$540,C34>$C$2+Données!$G$540)),D34,AND(D34=0,B34>=$C$1-Données!$G$540,C34<=$C$2+Données!$G$540),Données!$F$540,D34<>0,D34))","v":1},20,{"$error":"#N/A"},{"$f":"IF($H$8=\"oui\",_xlfn.IFS($D$11=\"Sanitaires\",(30+(15*$H$9))*E34,$H$10=\"[m3/h.local]\",$H$9*E34,AND($H$19=\"[m3/h]\",$I$19=\"[pers/m²]\"),$I$9*$D$8*$H$9*E34,AND($H$19=\"[m3/h]\",($I$19=\"[pers]\")),$I$9*$H$9*E34,$H$19=\"[Vol/h]\",$H$9*E34),0)","v":{"v":25,"d":"25.0"}},0,0,0,{"$f":"IF($L$14=\"particulier\",_xlfn.IFS(O34=0,$L$12*$L$9,O34>0,$L$9*O34),_xlfn.IFS(AND($L$14=1,I34=0),$L$9*$L$12,AND($L$14=1,I34>0),$L$9,AND($L$14=0,I34=0),$L$9*$L$12,AND($L$14=0,I34>0),$L$9*I34/$I$9))","v":0.3},0,0,{"$f":"IFERROR(IF($F$4=\"oui\",IF(OR($B34<$H$4,$C34>$I$4,AND($B34>=$K$4,$C34<=$L$4)),0,1),_xlfn.IFS($D$7=Données!$B$527,HLOOKUP($L$15,Données!$C$8:$Y$57,A34+2,0),$D$7=Données!$B$528,HLOOKUP($L$15,Données!$C$62:$Y$111,A34+2,0),$D$7=Données!$B$529,HLOOKUP($L$15,Données!$C$115:$Y$164,A34+2,0),$D$7=Données!$B$530,HLOOKUP($L$15,Données!$C$169:$Y$218,A34+2,0),$D$7=Données!$B$531,HLOOKUP($L$15,Données!$C$224:$Y$273,A34+2,0),$D$7=Données!$B$532,HLOOKUP($L$15,Données!$C$280:$Y$329,A34+2,0))),\"\")","v":""},null,null,{"$f":"\"Consigne : \"&J15&\" \"&J16","v":"Consigne : 300 Lux"},null,{"$f":"D15","v":""},{"$nulls":3},2,null,{"$f":"IF(X34=\"\",\"\",\"Until:\")","v":"Until:"},{"$f":"IF(X34=\"\",\"\",IFERROR(IF(X34=$AV$69-1,$AU$67,VLOOKUP(MATCH(TRUE,INDEX($AX$20:$AX$67=\"Changement\"&X35,0),0),$AS$20:$AU$67,2,0)),\"\"))","v":0.4999999999999998},{"$f":"IF(X34=\"\",\"\",\",\")","v":","},{"$f":"AN34","v":"1.0"},{"$f":"IF(X34=\"\",\"\",\",\")","v":","},{"$nulls":5},{"$f":"IF(X34=\"\",\"\",VLOOKUP(MATCH(TRUE,INDEX($AX$20:$AX$67=\"Changement\"&X34,0),0),$A$20:$N$67,4,0))","v":1},{"$f":"IF(AJ34=\"\",\"\",TRUNC(AJ34,0))","v":1},{"$f":"IF(AJ34=\"\",\"\",TRUNC((AJ34-AK34)*10,0))","v":0},{"$f":"IF(AJ34=\"\",\"\",IF(AJ34=AK34+AL34/10,0,TRUNC((AJ34*1-AL34)*100,0)))","v":0},"1.0",{"$nulls":4},15,"07:00:00","07:30:00","Pas de changement",1,"Pas de changement1","Changement",2,"Changement2"]
[16,"07:30:00","08:00:00",{"$f":"IF($I$12=\"non\",1,$I$12)*IF($F$4=\"oui\",IF(OR($B35<$H$4,$C35>$I$4,AND($B35>=$K$4,$C35<=$L$4)),0,1),_xlfn.IFS($D$7=Données!$B$527,HLOOKUP($D$11,Données!$C$8:$Y$57,A35+2,0),$D$7=Données!$B$528,HLOOKUP($D$11,Données!$C$62:$Y$111,A35+2,0),$D$7=Données!$B$529,HLOOKUP($D$11,Données!$C$115:$Y$164,A35+2,0),$D$7=Données!$B$530,HLOOKUP($D$11,Données!$C$169:$Y$218,A35+2,0),$D$7=Données!$B$531,HLOOKUP($D$11,Données!$C$224:$Y$273,A35+2,0),$D$7=Données!$B$532,HLOOKUP($D$11,Données!$C$280:$Y$329,A35+2,0)))","v":0},{"$f":"_xlfn.IFS($H$14=Données!$E$536,1,$H$14=Données!$E$537,IF(D35=0,Données!$F$537,D35),$H$14=Données!$E$538,IF(D35=0,Données!$F$538,D35),$H$14=Données!$E$539,IF(AND(B35>=$C$1-Données!$G$539,C35<=$C$2+Données!$G$539),1,0),$H$14=Données!$E$540,_xlfn.IFS(AND(D35=0,OR(B35<$C$1-Données!$G$540,C35>$C$2+Données!$G$540)),D35,AND(D35=0,B35>=$C$1-Données!$G$540,C35<=$C$2+Données!$G$540),Données!$F$540,D35<>0,D35))","v":1},20,{"$error":"#N/A"},{"$f":"IF($H$8=\"oui\",_xlfn.IFS($D$11=\"Sanitaires\",(30+(15*$H$9))*E35,$H$10=\"[m3/h.local]\",$H$9*E35,AND($H$19=\"[m3/h]\",$I$19=\"[pers/m²]\"),$I$9*$D$8*$H$9*E35,AND($H$19=\"[m3/h]\",($I$19=\"[pers]\")),$I$9*$H$9*E35,$H$19=\"[Vol/h]\",$H$9*E35),0)","v":{"v":25,"d":"25.0"}},0,0,0,{"$f":"IF($L$14=\"particulier\",_xlfn.IFS(O35=0,$L$12*$L$9,O35>0,$L$9*O35),_xlfn.IFS(AND($L$14=1,I35=0),$L$9*$L$12,AND($L$14=1,I35>0),$L$9,AND($L$14=0,I35=0),$L$9*$L$12,AND($L$14=0,I35>0),$L$9*I35/$I$9))","v":0.3},0,0,{"$f":"IFERROR(IF($F$4=\"oui\",IF(OR($B35<$H$4,$C35>$I$4,AND($B35>=$K$4,$C35<=$L$4)),0,1),_xlfn.IFS($D$7=Données!$B$527,HLOOKUP($L$15,Données!$C$8:$Y$57,A35+2,0),$D$7=Données!$B$528,HLOOKUP($L$15,Données!$C$62:$Y$111,A35+2,0),$D$7=Données!$B$529,HLOOKUP($L$15,Données!$C$115:$Y$164,A35+2,0),$D$7=Données!$B$530,HLOOKUP($L$15,Données!$C$169:$Y$218,A35+2,0),$D$7=Données!$B$531,HLOOKUP($L$15,Données!$C$224:$Y$273,A35+2,0),$D$7=Données!$B$532,HLOOKUP($L$15,Données!$C$280:$Y$329,A35+2,0))),\"\")","v":""},null,null,"Apport th. Nominal :",{"$f":"ROUND(J9,2)&\" \"&J10","v":"6 W/m²"},{"$nulls":4},3,null,"Until:",{"$f":"IF(X35=\"\",\"\",IFERROR(IF(X35=$AV$69-1,$AU$67,VLOOKUP(MATCH(TRUE,INDEX($AX$20:$AX$67=\"Changement\"&X36,0),0),$AS$20:$AU$67,2,0)),\"\"))","v":0.5833333333333333},",","0.0",",",{"$nulls":5},{"$f":"IF(X35=\"\",\"\",VLOOKUP(MATCH(TRUE,INDEX($AX$20:$AX$67=\"Changement\"&X35,0),0),$A$20:$N$67,4,0))","v":0},0,0,0,"0.0",{"$nulls":4},16,"07:30:00","08:00:00","Pas de changement",1,"Pas de changement1","Pas de changement",2,"Pas de changement2"]
[17,"08:00:00","08:30:00",{"$f":"IF($I$12=\"non\",1,$I$12)*IF($F$4=\"oui\",IF(OR($B36<$H$4,$C36>$I$4,AND($B36>=$K$4,$C36<=$L$4)),0,1),_xlfn.IFS($D$7=Données!$B$527,HLOOKUP($D$11,Données!$C$8:$Y$57,A36+2,0),$D$7=Données!$B$528,HLOOKUP($D$11,Données!$C$62:$Y$111,A36+2,0),$D$7=Données!$B$529,HLOOKUP($D$11,Données!$C$115:$Y$164,A36+2,0),$D$7=Données!$B$530,HLOOKUP($D$11,Données!$C$169:$Y$218,A36+2,0),$D$7=Données!$B$531,HLOOKUP($D$11,Données!$C$224:$Y$273,A36+2,0),$D$7=Données!$B$532,HLOOKUP($D$11,Données!$C$280:$Y$329,A36+2,0)))","v":1},{"$f":"_xlfn.IFS($H$14=Données!$E$536,1,$H$14=Données!$E$537,IF(D36=0,Données!$F$537,D36),$H$14=Données!$E$538,IF(D36=0,Données!$F$538,D36),$H$14=Données!$E$539,IF(AND(B36>=$C$1-Données!$G$539,C36<=$C$2+Données!$G$539),1,0),$H$14=Données!$E$540,_xlfn.IFS(AND(D36=0,OR(B36<$C$1-Données!$G$540,C36>$C$2+Données!$G$540)),D36,AND(D36=0,B36>=$C$1-Données!$G$540,C36<=$C$2+Données!$G$540),Données!$F$540,D36<>0,D36))","v":1},20,{"$error":"#N/A"},{"$f":"IF($H$8=\"oui\",_xlfn.IFS($D$11=\"Sanitaires\",(30+(15*$H$9))*E36,$H$10=\"[m3/h.local]\",$H$9*E36,AND($H$19=\"[m3/h]\",$I$19=\"[pers/m²]\"),$I$9*$D$8*$H$9*E36,AND($H$19=\"[m3/h]\",($I$19=\"[pers]\")),$I$9*$H$9*E36,$H$19=\"[Vol/h]\",$H$9*E36),0)","v":{"v":25,"d":"25.0"}},1,6,6.15,{"$f":"IF($L$14=\"particulier\",_xlfn.IFS(O36=0,$L$12*$L$9,O36>0,$L$9*O36),_xlfn.IFS(AND($L$14=1,I36=0),$L$9*$L$12,AND($L$14=1,I36>0),$L$9,AND($L$14=0,I36=0),$L$9*$L$12,AND($L$14=0,I36>0),$L$9*I36/$I$9))","v":10},0,0,{"$f":"IFERROR(IF($F$4=\"oui\",IF(OR($B36<$H$4,$C36>$I$4,AND($B36>=$K$4,$C36<=$L$4)),0,1),_xlfn.IFS($D$7=Données!$B$527,HLOOKUP($L$15,Données!$C$8:$Y$57,A36+2,0),$D$7=Données!$B$528,HLOOKUP($L$15,Données!$C$62:$Y$111,A36+2,0),$D$7=Données!$B$529,HLOOKUP($L$15,Données!$C$115:$Y$164,A36+2,0),$D$7=Données!$B$530,HLOOKUP($L$15,Données!$C$169:$Y$218,A36+2,0),$D$7=Données!$B$531,HLOOKUP($L$15,Données!$C$224:$Y$273,A36+2,0),$D$7=Données!$B$532,HLOOKUP($L$15,Données!$C$280:$Y$329,A36+2,0))),\"\")","v":""},null,null,"Gradation :",{"$f":"J13","v":"Par gestion manuelle"},{"$nulls":4},4,null,"Until:",{"$f":"IF(X36=\"\",\"\",IFERROR(IF(X36=$AV$69-1,$AU$67,VLOOKUP(MATCH(TRUE,INDEX($AX$20:$AX$67=\"Changement\"&X37,0),0),$AS$20:$AU$67,2,0)),\"\"))","v":0.7500000000000002},",","1.0",",",{"$nulls":5},{"$f":"IF(X36=\"\",\"\",VLOOKUP(MATCH(TRUE,INDEX($AX$20:$AX$67=\"Changement\"&X36,0),0),$A$20:$N$67,4,0))","v":1},1,0,0,"1.0",{"$nulls":4},17,"08:00:00","08:30:00","Changement",2,"Changement2","Pas de changement",2,"Pas de changement2"]
[18,"08:30:00","09:00:00",{"$f":"IF($I$12=\"non\",1,$I$12)*IF($F$4=\"oui\",IF(OR($B37<$H$4,$C37>$I$4,AND($B37>=$K$4,$C37<=$L$4)),0,1),_xlfn.IFS($D$7=Données!$B$527,HLOOKUP($D$11,Données!$C$8:$Y$57,A37+2,0),$D$7=Données!$B$528,HLOOKUP($D$11,Données!$C$62:$Y$111,A37+2,0),$D$7=Données!$B$529,HLOOKUP($D$11,Données!$C$115:$Y$164,A37+2,0),$D$7=Données!$B$530,HLOOKUP($D$11,Données!$C$169:$Y$218,A37+2,0),$D$7=Données!$B$531,HLOOKUP($D$11,Données!$C$224:$Y$273,A37+2,0),$D$7=Données!$B$532,HLOOKUP($D$11,Données!$C$280:$Y$329,A37+2,0)))","v":1},{"$f":"_xlfn.IFS($H$14=Données!$E$536,1,$H$14=Données!$E$537,IF(D37=0,Données!$F$537,D37),$H$14=Données!$E$538,IF(D37=0,Données!$F$538,D37),$H$14=Données!$E$539,IF(AND(B37>=$C$1-Données!$G$539,C37<=$C$2+Données!$G$539),1,0),$H$14=Données!$E$540,_xlfn.IFS(AND(D37=0,OR(B37<$C$1-Données!$G$540,C37>$C$2+Données!$G$540)),D37,AND(D37=0,B37>=$C$1-Données!$G$540,C37<=$C$2+Données!$G$540),Données!$F$540,D37<>0,D37))","v":1},20,{"$error":"#N/A"},{"$f":"IF($H$8=\"oui\",_xlfn.IFS($D$11=\"Sanitaires\",(30+(15*$H$9))*E37,$H$10=\"[m3/h.local]\",$H$9*E37,AND($H$19=\"[m3/h]\",$I$19=\"[pers/m²]\"),$I$9*$D$8*$H$9*E37,AND($H$19=\"[m3/h]\",($I$19=\"[pers]\")),$I$9*$H$9*E37,$H$19=\"[Vol/h]\",$H$9*E37),0)","v":{"v":25,"d":"25.0"}},1,6,6.15,{"$f":"IF($L$14=\"particulier\",_xlfn.IFS(O37=0,$L$12*$L$9,O37>0,$L$9*O37),_xlfn.IFS(AND($L$14=1,I37=0),$L$9*$L$12,AND($L$14=1,I37>0),$L$9,AND($L$14=0,I37=0),$L$9*$L$12,AND($L$14=0,I37>0),$L$9*I37/$I$9))","v":10},0,0,{"$f":"IFERROR(IF($F$4=\"oui\",IF(OR($B37<$H$4,$C37>$I$4,AND($B37>=$K$4,$C37<=$L$4)),0,1),_xlfn.IFS($D$7=Données!$B$527,HLOOKUP($L$15,Données!$C$8:$Y$57,A37+2,0),$D$7=Données!$B$528,HLOOKUP($L$15,Données!$C$62:$Y$111,A37+2,0),$D$7=Données!$B$529,HLOOKUP($L$15,Données!$C$115:$Y$164,A37+2,0),$D$7=Données!$B$530,HLOOKUP($L$15,Données!$C$169:$Y$218,A37+2,0),$D$7=Données!$B$531,HLOOKUP($L$15,Données!$C$224:$Y$273,A37+2,0),$D$7=Données!$B$532,HLOOKUP($L$15,Données!$C$280:$Y$329,A37+2,0))),\"\")","v":""},{"$nulls":8},5,null,"Until:",{"$f":"IF(X37=\"\",\"\",IFERROR(IF(X37=$AV$69-1,$AU$67,VLOOKUP(MATCH(TRUE,INDEX($AX$20:$AX$67=\"Changement\"&X38,0),0),$AS$20:$AU$67,2,0)),\"\"))","v":1},",","0.0",",",{"$nulls":5},{"$f":"IF(X37=\"\",\"\",VLOOKUP(MATCH(TRUE,INDEX($AX$20:$AX$67=\"Changement\"&X37,0),0),$A$20:$N$67,4,0))","v":0},0,0,0,"0.0",{"$nulls":4},18,"08:30:00","09:00:00","Pas de changement",2,"Pas de changement2","Pas de changement",2,"Pas de changement2"]
[19,"09:00:00","09:30:00",{"$f":"IF($I$12=\"non\",1,$I$12)*IF($F$4=\"oui\",IF(OR($B38<$H$4,$C38>$I$4,AND($B38>=$K$4,$C38<=$L$4)),0,1),_xlfn.IFS($D$7=Données!$B$527,HLOOKUP($D$11,Données!$C$8:$Y$57,A38+2,0),$D$7=Données!$B$528,HLOOKUP($D$11,Données!$C$62:$Y$111,A38+2,0),$D$7=Données!$B$529,HLOOKUP($D$11,Données!$C$115:$Y$164,A38+2,0),$D$7=Données!$B$530,HLOOKUP($D$11,Données!$C$169:$Y$218,A38+2,0),$D$7=Données!$B$531,HLOOKUP($D$11,Données!$C$224:$Y$273,A38+2,0),$D$7=Données!$B$532,HLOOKUP($D$11,Données!$C$280:$Y$329,A38+2,0)))","v":1},{"$f":"_xlfn.IFS($H$14=Données!$E$536,1,$H$14=Données!$E$537,IF(D38=0,Données!$F$537,D38),$H$14=Données!$E$538,IF(D38=0,Données!$F$538,D38),$H$14=Données!$E$539,IF(AND(B38>=$C$1-Données!$G$539,C38<=$C$2+Données!$G$539),1,0),$H$14=Données!$E$540,_xlfn.IFS(AND(D38=0,OR(B38<$C$1-Données!$G$540,C38>$C$2+Données!$G$540)),D38,AND(D38=0,B38>=$C$1-Données!$G$540,C38<=$C$2+Données!$G$540),Données!$F$540,D38<>0,D38))","v":1},20,{"$error":"#N/A"},{"$f":"IF($H$8=\"oui\",_xlfn.IFS($D$11=\"Sanitaires\",(30+(15*$H$9))*E38,$H$10=\"[m3/h.local]\",$H$9*E38,AND($H$19=\"[m3/h]\",$I$19=\"[pers/m²]\"),$I$9*$D$8*$H$9*E38,AND($H$19=\"[m3/h]\",($I$19=\"[pers]\")),$I$9*$H$9*E38,$H$19=\"[Vol/h]\",$H$9*E38),0)","v":{"v":25,"d":"25.0"}},1,6,6.15,{"$f":"IF($L$14=\"particulier\",_xlfn.IFS(O38=0,$L$12*$L$9,O38>0,$L$9*O38),_xlfn.IFS(AND($L$14=1,I38=0),$L$9*$L$12,AND($L$14=1,I38>0),$L$9,AND($L$14=0,I38=0),$L$9*$L$12,AND($L$14=0,I38>0),$L$9*I38/$I$9))","v":10},0,0,{"$f":"IFERROR(IF($F$4=\"oui\",IF(OR($B38<$H$4,$C38>$I$4,AND($B38>=$K$4,$C38<=$L$4)),0,1),_xlfn.IFS($D$7=Données!$B$527,HLOOKUP($L$15,Données!$C$8:$Y$57,A38+2,0),$D$7=Données!$B$528,HLOOKUP($L$15,Données!$C$62:$Y$111,A38+2,0),$D$7=Données!$B$529,HLOOKUP($L$15,Données!$C$115:$Y$164,A38+2,0),$D$7=Données!$B$530,HLOOKUP($L$15,Données!$C$169:$Y$218,A38+2,0),$D$7=Données!$B$531,HLOOKUP($L$15,Données!$C$224:$Y$273,A38+2,0),$D$7=Données!$B$532,HLOOKUP($L$15,Données!$C$280:$Y$329,A38+2,0))),\"\")","v":""},{"$nulls":8},"",null,"",{"$f":"IF(X38=\"\",\"\",IFERROR(IF(X38=$AV$69-1,$AU$67,VLOOKUP(MATCH(TRUE,INDEX($AX$20:$AX$67=\"Changement\"&X39,0),0),$AS$20:$AU$67,2,0)),\"\"))","v":""},"","","",{"$nulls":5},{"$f":"IF(X38=\"\",\"\",VLOOKUP(MATCH(TRUE,INDEX($AX$20:$AX$67=\"Changement\"&X38,0),0),$A$20:$N$67,4,0))","v":""},"","","","",{"$nulls":4},19,"09:00:00","09:30:00","Pas de changement",2,"Pas de changement2","Pas de changement",2,"Pas de changement2"]
[20,"09:30:00","10:00:00",{"$f":"IF($I$12=\"non\",1,$I$12)*IF($F$4=\"oui\",IF(OR($B39<$H$4,$C39>$I$4,AND($B39>=$K$4,$C39<=$L$4)),0,1),_xlfn.IFS($D$7=Données!$B$527,HLOOKUP($D$11,Données!$C$8:$Y$57,A39+2,0),$D$7=Données!$B$528,HLOOKUP($D$11,Données!$C$62:$Y$111,A39+2,0),$D$7=Données!$B$529,HLOOKUP($D$11,Données!$C$115:$Y$164,A39+2,0),$D$7=Données!$B$530,HLOOKUP($D$11,Données!$C$169:$Y$218,A39+2,0),$D$7=Données!$B$531,HLOOKUP($D$11,Données!$C$224:$Y$273,A39+2,0),$D$7=Données!$B$532,HLOOKUP($D$11,Données!$C$280:$Y$329,A39+2,0)))","v":1},{"$f":"_xlfn.IFS($H$14=Données!$E$536,1,$H$14=Données!$E$537,IF(D39=0,Données!$F$537,D39),$H$14=Données!$E$538,IF(D39=0,Données!$F$538,D39),$H$14=Données!$E$539,IF(AND(B39>=$C$1-Données!$G$539,C39<=$C$2+Données!$G$539),1,0),$H$14=Données!$E$540,_xlfn.IFS(AND(D39=0,OR(B39<$C$1-Données!$G$540,C39>$C$2+Données!$G$540)),D39,AND(D39=0,B39>=$C$1-Données!$G$540,C39<=$C$2+Données!$G$540),Données!$F$540,D39<>0,D39))","v":1},20,{"$error":"#N/A"},{"$f":"IF($H$8=\"oui\",_xlfn.IFS($D$11=\"Sanitaires\",(30+(15*$H$9))*E39,$H$10=\"[m3/h.local]\",$H$9*E39,AND($H$19=\"[m3/h]\",$I$19=\"[pers/m²]\"),$I$9*$D$8*$H$9*E39,AND($H$19=\"[m3/h]\",($I$19=\"[pers]\")),$I$9*$H$9*E39,$H$19=\"[Vol/h]\",$H$9*E39),0)","v":{"v":25,"d":"25.0"}},1,6,6.15,{"$f":"IF($L$14=\"particulier\",_xlfn.IFS(O39=0,$L$12*$L$9,O39>0,$L$9*O39),_xlfn.IFS(AND($L$14=1,I39=0),$L$9*$L$12,AND($L$14=1,I39>0),$L$9,AND($L$14=0,I39=0),$L$9*$L$12,AND($L$14=0,I39>0),$L$9*I39/$I$9))","v":10},0,0,{"$f":"IFERROR(IF($F$4=\"oui\",IF(OR($B39<$H$4,$C39>$I$4,AND($B39>=$K$4,$C39<=$L$4)),0,1),_xlfn.IFS($D$7=Données!$B$527,HLOOKUP($L$15,Données!$C$8:$Y$57,A39+2,0),$D$7=Données!$B$528,HLOOKUP($L$15,Données!$C$62:$Y$111,A39+2,0),$D$7=Données!$B$529,HLOOKUP($L$15,Données!$C$115:$Y$164,A39+2,0),$D$7=Données!$B$530,HLOOKUP($L$15,Données!$C$169:$Y$218,A39+2,0),$D$7=Données!$B$531,HLOOKUP($L$15,Données!$C$224:$Y$273,A39+2,0),$D$7=Données!$B$532,HLOOKUP($L$15,Données!$C$280:$Y$329,A39+2,0))),\"\")","v":""},{"$nulls":8},"",null,"",{"$f":"IF(X39=\"\",\"\",IFERROR(IF(X39=$AV$69-1,$AU$67,VLOOKUP(MATCH(TRUE,INDEX($AX$20:$AX$67=\"Changement\"&X40,0),0),$AS$20:$AU$67,2,0)),\"\"))","v":""},"","","",{"$nulls":5},{"$f":"IF(X39=\"\",\"\",VLOOKUP(MATCH(TRUE,INDEX($AX$20:$AX$67=\"Changement\"&X39,0),0),$A$20:$N$67,4,0))","v":""},"","","","",{"$nulls":4},20,"09:30:00","10:00:00","Pas de changement",2,"Pas de changement2","Pas de changement",2,"Pas de changement2"]
[21,"10:00:00","10:30:00",{"$f":"IF($I$12=\"non\",1,$I$12)*IF($F$4=\"oui\",IF(OR($B40<$H$4,$C40>$I$4,AND($B40>=$K$4,$C40<=$L$4)),0,1),_xlfn.IFS($D$7=Données!$B$527,HLOOKUP($D$11,Données!$C$8:$Y$57,A40+2,0),$D$7=Données!$B$528,HLOOKUP($D$11,Données!$C$62:$Y$111,A40+2,0),$D$7=Données!$B$529,HLOOKUP($D$11,Données!$C$115:$Y$164,A40+2,0),$D$7=Données!$B$530,HLOOKUP($D$11,Données!$C$169:$Y$218,A40+2,0),$D$7=Données!$B$531,HLOOKUP($D$11,Données!$C$224:$Y$273,A40+2,0),$D$7=Données!$B$532,HLOOKUP($D$11,Données!$C$280:$Y$329,A40+2,0)))","v":1},{"$f":"_xlfn.IFS($H$14=Données!$E$536,1,$H$14=Données!$E$537,IF(D40=0,Données!$F$537,D40),$H$14=Données!$E$538,IF(D40=0,Données!$F$538,D40),$H$14=Données!$E$539,IF(AND(B40>=$C$1-Données!$G$539,C40<=$C$2+Données!$G$539),1,0),$H$14=Données!$E$540,_xlfn.IFS(AND(D40=0,OR(B40<$C$1-Données!$G$540,C40>$C$2+Données!$G$540)),D40,AND(D40=0,B40>=$C$1-Données!$G$540,C40<=$C$2+Données!$G$540),Données!$F$540,D40<>0,D40))","v":1},20,{"$error":"#N/A"},{"$f":"IF($H$8=\"oui\",_xlfn.IFS($D$11=\"Sanitaires\",(30+(15*$H$9))*E40,$H$10=\"[m3/h.local]\",$H$9*E40,AND($H$19=\"[m3/h]\",$I$19=\"[pers/m²]\"),$I$9*$D$8*$H$9*E40,AND($H$19=\"[m3/h]\",($I$19=\"[pers]\")),$I$9*$H$9*E40,$H$19=\"[Vol/h]\",$H$9*E40),0)","v":{"v":25,"d":"25.0"}},1,6,6.15,{"$f":"IF($L$14=\"particulier\",_xlfn.IFS(O40=0,$L$12*$L$9,O40>0,$L$9*O40),_xlfn.IFS(AND($L$14=1,I40=0),$L$9*$L$12,AND($L$14=1,I40>0),$L$9,AND($L$14=0,I40=0),$L$9*$L$12,AND($L$14=0,I40>0),$L$9*I40/$I$9))","v":10},0,0,{"$f":"IFERROR(IF($F$4=\"oui\",IF(OR($B40<$H$4,$C40>$I$4,AND($B40>=$K$4,$C40<=$L$4)),0,1),_xlfn.IFS($D$7=Données!$B$527,HLOOKUP($L$15,Données!$C$8:$Y$57,A40+2,0),$D$7=Données!$B$528,HLOOKUP($L$15,Données!$C$62:$Y$111,A40+2,0),$D$7=Données!$B$529,HLOOKUP($L$15,Données!$C$115:$Y$164,A40+2,0),$D$7=Données!$B$530,HLOOKUP($L$15,Données!$C$169:$Y$218,A40+2,0),$D$7=Données!$B$531,HLOOKUP($L$15,Données!$C$224:$Y$273,A40+2,0),$D$7=Données!$B$532,HLOOKUP($L$15,Données!$C$280:$Y$329,A40+2,0))),\"\")","v":""},{"$nulls":8},"",null,"",{"$f":"IF(X40=\"\",\"\",IFERROR(IF(X40=$AV$69-1,$AU$67,VLOOKUP(MATCH(TRUE,INDEX($AX$20:$AX$67=\"Changement\"&X41,0),0),$AS$20:$AU$67,2,0)),\"\"))","v":""},"","","",{"$nulls":5},{"$f":"IF(X40=\"\",\"\",VLOOKUP(MATCH(TRUE,INDEX($AX$20:$AX$67=\"Changement\"&X40,0),0),$A$20:$N$67,4,0))","v":""},"","","","",{"$nulls":4},21,"10:00:00","10:30:00","Pas de changement",2,"Pas de changement2","Pas de changement",2,"Pas de changement2"]
[22,"10:30:00","11:00:00",{"$f":"IF($I$12=\"non\",1,$I$12)*IF($F$4=\"oui\",IF(OR($B41<$H$4,$C41>$I$4,AND($B41>=$K$4,$C41<=$L$4)),0,1),_xlfn.IFS($D$7=Données!$B$527,HLOOKUP($D$11,Données!$C$8:$Y$57,A41+2,0),$D$7=Données!$B$528,HLOOKUP($D$11,Données!$C$62:$Y$111,A41+2,0),$D$7=Données!$B$529,HLOOKUP($D$11,Données!$C$115:$Y$164,A41+2,0),$D$7=Données!$B$530,HLOOKUP($D$11,Données!$C$169:$Y$218,A41+2,0),$D$7=Données!$B$531,HLOOKUP($D$11,Données!$C$224:$Y$273,A41+2,0),$D$7=Données!$B$532,HLOOKUP($D$11,Données!$C$280:$Y$329,A41+2,0)))","v":1},{"$f":"_xlfn.IFS($H$14=Données!$E$536,1,$H$14=Données!$E$537,IF(D41=0,Données!$F$537,D41),$H$14=Données!$E$538,IF(D41=0,Données!$F$538,D41),$H$14=Données!$E$539,IF(AND(B41>=$C$1-Données!$G$539,C41<=$C$2+Données!$G$539),1,0),$H$14=Données!$E$540,_xlfn.IFS(AND(D41=0,OR(B41<$C$1-Données!$G$540,C41>$C$2+Données!$G$540)),D41,AND(D41=0,B41>=$C$1-Données!$G$540,C41<=$C$2+Données!$G$540),Données!$F$540,D41<>0,D41))","v":1},20,{"$error":"#N/A"},{"$f":"IF($H$8=\"oui\",_xlfn.IFS($D$11=\"Sanitaires\",(30+(15*$H$9))*E41,$H$10=\"[m3/h.local]\",$H$9*E41,AND($H$19=\"[m3/h]\",$I$19=\"[pers/m²]\"),$I$9*$D$8*$H$9*E41,AND($H$19=\"[m3/h]\",($I$19=\"[pers]\")),$I$9*$H$9*E41,$H$19=\"[Vol/h]\",$H$9*E41),0)","v":{"v":25,"d":"25.0"}},1,6,6.15,{"$f":"IF($L$14=\"particulier\",_xlfn.IFS(O41=0,$L$12*$L$9,O41>0,$L$9*O41),_xlfn.IFS(AND($L$14=1,I41=0),$L$9*$L$12,AND($L$14=1,I41>0),$L$9,AND($L$14=0,I41=0),$L$9*$L$12,AND($L$14=0,I41>0),$L$9*I41/$I$9))","v":10},0,0,{"$f":"IFERROR(IF($F$4=\"oui\",IF(OR($B41<$H$4,$C41>$I$4,AND($B41>=$K$4,$C41<=$L$4)),0,1),_xlfn.IFS($D$7=Données!$B$527,HLOOKUP($L$15,Données!$C$8:$Y$57,A41+2,0),$D$7=Données!$B$528,HLOOKUP($L$15,Données!$C$62:$Y$111,A41+2,0),$D$7=Données!$B$529,HLOOKUP($L$15,Données!$C$115:$Y$164,A41+2,0),$D$7=Données!$B$530,HLOOKUP($L$15,Données!$C$169:$Y$218,A41+2,0),$D$7=Données!$B$531,HLOOKUP($L$15,Données!$C$224:$Y$273,A41+2,0),$D$7=Données!$B$532,HLOOKUP($L$15,Données!$C$280:$Y$329,A41+2,0))),\"\")","v":""},{"$nulls":8},"",null,{"$f":"IF(X41=\"\",\"\",\"Until:\")","v":""},{"$f":"IF(X41=\"\",\"\",IFERROR(IF(X41=$AV$69-1,$AU$67,VLOOKUP(MATCH(TRUE,INDEX($AX$20:$AX$67=\"Changement\"&X42,0),0),$AS$20:$AU$67,2,0)),\"\"))","v":""},{"$f":"IF(X41=\"\",\"\",\",\")","v":""},"",{"$f":"IF(X41=\"\",\"\",\",\")","v":""},{"$nulls":5},{"$f":"IF(X41=\"\",\"\",VLOOKUP(MATCH(TRUE,INDEX($AX$20:$AX$67=\"Changement\"&X41,0),0),$A$20:$N$67,4,0))","v":""},"","","","",{"$nulls":4},22,"10:30:00","11:00:00","Pas de changement",2,"Pas de changement2","Pas de changement",2,"Pas de changement2"]
[23,"11:00:00","11:30:00",{"$f":"IF($I$12=\"non\",1,$I$12)*IF($F$4=\"oui\",IF(OR($B42<$H$4,$C42>$I$4,AND($B42>=$K$4,$C42<=$L$4)),0,1),_xlfn.IFS($D$7=Données!$B$527,HLOOKUP($D$11,Données!$C$8:$Y$57,A42+2,0),$D$7=Données!$B$528,HLOOKUP($D$11,Données!$C$62:$Y$111,A42+2,0),$D$7=Données!$B$529,HLOOKUP($D$11,Données!$C$115:$Y$164,A42+2,0),$D$7=Données!$B$530,HLOOKUP($D$11,Données!$C$169:$Y$218,A42+2,0),$D$7=Données!$B$531,HLOOKUP($D$11,Données!$C$224:$Y$273,A42+2,0),$D$7=Données!$B$532,HLOOKUP($D$11,Données!$C$280:$Y$329,A42+2,0)))","v":1},{"$f":"_xlfn.IFS($H$14=Données!$E$536,1,$H$14=Données!$E$537,IF(D42=0,Données!$F$537,D42),$H$14=Données!$E$538,IF(D42=0,Données!$F$538,D42),$H$14=Données!$E$539,IF(AND(B42>=$C$1-Données!$G$539,C42<=$C$2+Données!$G$539),1,0),$H$14=Données!$E$540,_xlfn.IFS(AND(D42=0,OR(B42<$C$1-Données!$G$540,C42>$C$2+Données!$G$540)),D42,AND(D42=0,B42>=$C$1-Données!$G$540,C42<=$C$2+Données!$G$540),Données!$F$540,D42<>0,D42))","v":1},20,{"$error":"#N/A"},{"$f":"IF($H$8=\"oui\",_xlfn.IFS($D$11=\"Sanitaires\",(30+(15*$H$9))*E42,$H$10=\"[m3/h.local]\",$H$9*E42,AND($H$19=\"[m3/h]\",$I$19=\"[pers/m²]\"),$I$9*$D$8*$H$9*E42,AND($H$19=\"[m3/h]\",($I$19=\"[pers]\")),$I$9*$H$9*E42,$H$19=\"[Vol/h]\",$H$9*E42),0)","v":{"v":25,"d":"25.0"}},1,6,6.15,{"$f":"IF($L$14=\"particulier\",_xlfn.IFS(O42=0,$L$12*$L$9,O42>0,$L$9*O42),_xlfn.IFS(AND($L$14=1,I42=0),$L$9*$L$12,AND($L$14=1,I42>0),$L$9,AND($L$14=0,I42=0),$L$9*$L$12,AND($L$14=0,I42>0),$L$9*I42/$I$9))","v":10},0,0,{"$f":"IFERROR(IF($F$4=\"oui\",IF(OR($B42<$H$4,$C42>$I$4,AND($B42>=$K$4,$C42<=$L$4)),0,1),_xlfn.IFS($D$7=Données!$B$527,HLOOKUP($L$15,Données!$C$8:$Y$57,A42+2,0),$D$7=Données!$B$528,HLOOKUP($L$15,Données!$C$62:$Y$111,A42+2,0),$D$7=Données!$B$529,HLOOKUP($L$15,Données!$C$115:$Y$164,A42+2,0),$D$7=Données!$B$530,HLOOKUP($L$15,Données!$C$169:$Y$218,A42+2,0),$D$7=Données!$B$531,HLOOKUP($L$15,Données!$C$224:$Y$273,A42+2,0),$D$7=Données!$B$532,HLOOKUP($L$15,Données!$C$280:$Y$329,A42+2,0))),\"\")","v":""},{"$nulls":8},"",null,"",{"$f":"IF(X42=\"\",\"\",IFERROR(IF(X42=$AV$69-1,$AU$67,VLOOKUP(MATCH(TRUE,INDEX($AX$20:$AX$67=\"Changement\"&X43,0),0),$AS$20:$AU$67,2,0)),\"\"))","v":""},"","","",{"$nulls":5},{"$f":"IF(X42=\"\",\"\",VLOOKUP(MATCH(TRUE,INDEX($AX$20:$AX$67=\"Changement\"&X42,0),0),$A$20:$N$67,4,0))","v":""},"","","","",{"$nulls":4},23,"11:00:00","11:30:00","Pas de changement",2,"Pas de changement2","Pas de changement",2,"Pas de changement2"]
[24,"11:30:00","12:00:00",{"$f":"IF($I$12=\"non\",1,$I$12)*IF($F$4=\"oui\",IF(OR($B43<$H$4,$C43>$I$4,AND($B43>=$K$4,$C43<=$L$4)),0,1),_xlfn.IFS($D$7=Données!$B$527,HLOOKUP($D$11,Données!$C$8:$Y$57,A43+2,0),$D$7=Données!$B$528,HLOOKUP($D$11,Données!$C$62:$Y$111,A43+2,0),$D$7=Données!$B$529,HLOOKUP($D$11,Données!$C$115:$Y$164,A43+2,0),$D$7=Données!$B$530,HLOOKUP($D$11,Données!$C$169:$Y$218,A43+2,0),$D$7=Données!$B$531,HLOOKUP($D$11,Données!$C$224:$Y$273,A43+2,0),$D$7=Données!$B$532,HLOOKUP($D$11,Données!$C$280:$Y$329,A43+2,0)))","v":1},{"$f":"_xlfn.IFS($H$14=Données!$E$536,1,$H$14=Données!$E$537,IF(D43=0,Données!$F$537,D43),$H$14=Données!$E$538,IF(D43=0,Données!$F$538,D43),$H$14=Données!$E$539,IF(AND(B43>=$C$1-Données!$G$539,C43<=$C$2+Données!$G$539),1,0),$H$14=Données!$E$540,_xlfn.IFS(AND(D43=0,OR(B43<$C$1-Données!$G$540,C43>$C$2+Données!$G$540)),D43,AND(D43=0,B43>=$C$1-Données!$G$540,C43<=$C$2+Données!$G$540),Données!$F$540,D43<>0,D43))","v":1},20,{"$error":"#N/A"},{"$f":"IF($H$8=\"oui\",_xlfn.IFS($D$11=\"Sanitaires\",(30+(15*$H$9))*E43,$H$10=\"[m3/h.local]\",$H$9*E43,AND($H$19=\"[m3/h]\",$I$19=\"[pers/m²]\"),$I$9*$D$8*$H$9*E43,AND($H$19=\"[m3/h]\",($I$19=\"[pers]\")),$I$9*$H$9*E43,$H$19=\"[Vol/h]\",$H$9*E43),0)","v":{"v":25,"d":"25.0"}},1,6,6.15,{"$f":"IF($L$14=\"particulier\",_xlfn.IFS(O43=0,$L$12*$L$9,O43>0,$L$9*O43),_xlfn.IFS(AND($L$14=1,I43=0),$L$9*$L$12,AND($L$14=1,I43>0),$L$9,AND($L$14=0,I43=0),$L$9*$L$12,AND($L$14=0,I43>0),$L$9*I43/$I$9))","v":10},0,0,{"$f":"IFERROR(IF($F$4=\"oui\",IF(OR($B43<$H$4,$C43>$I$4,AND($B43>=$K$4,$C43<=$L$4)),0,1),_xlfn.IFS($D$7=Données!$B$527,HLOOKUP($L$15,Données!$C$8:$Y$57,A43+2,0),$D$7=Données!$B$528,HLOOKUP($L$15,Données!$C$62:$Y$111,A43+2,0),$D$7=Données!$B$529,HLOOKUP($L$15,Données!$C$115:$Y$164,A43+2,0),$D$7=Données!$B$530,HLOOKUP($L$15,Données!$C$169:$Y$218,A43+2,0),$D$7=Données!$B$531,HLOOKUP($L$15,Données!$C$224:$Y$273,A43+2,0),$D$7=Données!$B$532,HLOOKUP($L$15,Données!$C$280:$Y$329,A43+2,0))),\"\")","v":""},{"$nulls":8},"",null,"",{"$f":"IF(X43=\"\",\"\",IFERROR(IF(X43=$AV$69-1,$AU$67,VLOOKUP(MATCH(TRUE,INDEX($AX$20:$AX$67=\"Changement\"&X44,0),0),$AS$20:$AU$67,2,0)),\"\"))","v":""},"","","",{"$nulls":5},{"$f":"IF(X43=\"\",\"\",VLOOKUP(MATCH(TRUE,INDEX($AX$20:$AX$67=\"Changement\"&X43,0),0),$A$20:$N$67,4,0))","v":""},"","","","",{"$nulls":4},24,"11:30:00","12:00:00","Pas de changement",2,"Pas de changement2","Pas de changement",2,"Pas de changement2"]
[25,"12:00:00","12:30:00",{"$f":"IF($I$12=\"non\",1,$I$12)*IF($F$4=\"oui\",IF(OR($B44<$H$4,$C44>$I$4,AND($B44>=$K$4,$C44<=$L$4)),0,1),_xlfn.IFS($D$7=Données!$B$527,HLOOKUP($D$11,Données!$C$8:$Y$57,A44+2,0),$D$7=Données!$B$528,HLOOKUP($D$11,Données!$C$62:$Y$111,A44+2,0),$D$7=Données!$B$529,HLOOKUP($D$11,Données!$C$115:$Y$164,A44+2,0),$D$7=Données!$B$530,HLOOKUP($D$11,Données!$C$169:$Y$218,A44+2,0),$D$7=Données!$B$531,HLOOKUP($D$11,Données!$C$224:$Y$273,A44+2,0),$D$7=Données!$B$532,HLOOKUP($D$11,Données!$C$280:$Y$329,A44+2,0)))","v":0},{"$f":"_xlfn.IFS($H$14=Données!$E$536,1,$H$14=Données!$E$537,IF(D44=0,Données!$F$537,D44),$H$14=Données!$E$538,IF(D44=0,Données!$F$538,D44),$H$14=Données!$E$539,IF(AND(B44>=$C$1-Données!$G$539,C44<=$C$2+Données!$G$539),1,0),$H$14=Données!$E$540,_xlfn.IFS(AND(D44=0,OR(B44<$C$1-Données!$G$540,C44>$C$2+Données!$G$540)),D44,AND(D44=0,B44>=$C$1-Données!$G$540,C44<=$C$2+Données!$G$540),Données!$F$540,D44<>0,D44))","v":1},20,{"$error":"#N/A"},{"$f":"IF($H$8=\"oui\",_xlfn.IFS($D$11=\"Sanitaires\",(30+(15*$H$9))*E44,$H$10=\"[m3/h.local]\",$H$9*E44,AND($H$19=\"[m3/h]\",$I$19=\"[pers/m²]\"),$I$9*$D$8*$H$9*E44,AND($H$19=\"[m3/h]\",($I$19=\"[pers]\")),$I$9*$H$9*E44,$H$19=\"[Vol/h]\",$H$9*E44),0)","v":{"v":25,"d":"25.0"}},0,0,0,{"$f":"IF($L$14=\"particulier\",_xlfn.IFS(O44=0,$L$12*$L$9,O44>0,$L$9*O44),_xlfn.IFS(AND($L$14=1,I44=0),$L$9*$L$12,AND($L$14=1,I44>0),$L$9,AND($L$14=0,I44=0),$L$9*$L$12,AND($L$14=0,I44>0),$L$9*I44/$I$9))","v":0.3},0,0,{"$f":"IFERROR(IF($F$4=\"oui\",IF(OR($B44<$H$4,$C44>$I$4,AND($B44>=$K$4,$C44<=$L$4)),0,1),_xlfn.IFS($D$7=Données!$B$527,HLOOKUP($L$15,Données!$C$8:$Y$57,A44+2,0),$D$7=Données!$B$528,HLOOKUP($L$15,Données!$C$62:$Y$111,A44+2,0),$D$7=Données!$B$529,HLOOKUP($L$15,Données!$C$115:$Y$164,A44+2,0),$D$7=Données!$B$530,HLOOKUP($L$15,Données!$C$169:$Y$218,A44+2,0),$D$7=Données!$B$531,HLOOKUP($L$15,Données!$C$224:$Y$273,A44+2,0),$D$7=Données!$B$532,HLOOKUP($L$15,Données!$C$280:$Y$329,A44+2,0))),\"\")","v":""},{"$nulls":10},"For: ","Weekends,",{"$nulls":9},"","","","",{"$nulls":4},25,"12:00:00","12:30:00","Changement",3,"Changement3","Pas de changement",2,"Pas de changement2"]
[26,"12:30:00","13:00:00",{"$f":"IF($I$12=\"non\",1,$I$12)*IF($F$4=\"oui\",IF(OR($B45<$H$4,$C45>$I$4,AND($B45>=$K$4,$C45<=$L$4)),0,1),_xlfn.IFS($D$7=Données!$B$527,HLOOKUP($D$11,Données!$C$8:$Y$57,A45+2,0),$D$7=Données!$B$528,HLOOKUP($D$11,Données!$C$62:$Y$111,A45+2,0),$D$7=Données!$B$529,HLOOKUP($D$11,Données!$C$115:$Y$164,A45+2,0),$D$7=Données!$B$530,HLOOKUP($D$11,Données!$C$169:$Y$218,A45+2,0),$D$7=Données!$B$531,HLOOKUP($D$11,Données!$C$224:$Y$273,A45+2,0),$D$7=Données!$B$532,HLOOKUP($D$11,Données!$C$280:$Y$329,A45+2,0)))","v":0},{"$f":"_xlfn.IFS($H$14=Données!$E$536,1,$H$14=Données!$E$537,IF(D45=0,Données!$F$537,D45),$H$14=Données!$E$538,IF(D45=0,Données!$F$538,D45),$H$14=Données!$E$539,IF(AND(B45>=$C$1-Données!$G$539,C45<=$C$2+Données!$G$539),1,0),$H$14=Données!$E$540,_xlfn.IFS(AND(D45=0,OR(B45<$C$1-Données!$G$540,C45>$C$2+Données!$G$540)),D45,AND(D45=0,B45>=$C$1-Données!$G$540,C45<=$C$2+Données!$G$540),Données!$F$540,D45<>0,D45))","v":1},20,{"$error":"#N/A"},{"$f":"IF($H$8=\"oui\",_xlfn.IFS($D$11=\"Sanitaires\",(30+(15*$H$9))*E45,$H$10=\"[m3/h.local]\",$H$9*E45,AND($H$19=\"[m3/h]\",$I$19=\"[pers/m²]\"),$I$9*$D$8*$H$9*E45,AND($H$19=\"[m3/h]\",($I$19=\"[pers]\")),$I$9*$H$9*E45,$H$19=\"[Vol/h]\",$H$9*E45),0)","v":{"v":25,"d":"25.0"}},0,0,0,{"$f":"IF($L$14=\"particulier\",_xlfn.IFS(O45=0,$L$12*$L$9,O45>0,$L$9*O45),_xlfn.IFS(AND($L$14=1,I45=0),$L$9*$L$12,AND($L$14=1,I45>0),$L$9,AND($L$14=0,I45=0),$L$9*$L$12,AND($L$14=0,I45>0),$L$9*I45/$I$9))","v":0.3},0,0,{"$f":"IFERROR(IF($F$4=\"oui\",IF(OR($B45<$H$4,$C45>$I$4,AND($B45>=$K$4,$C45<=$L$4)),0,1),_xlfn.IFS($D$7=Données!$B$527,HLOOKUP($L$15,Données!$C$8:$Y$57,A45+2,0),$D$7=Données!$B$528,HLOOKUP($L$15,Données!$C$62:$Y$111,A45+2,0),$D$7=Données!$B$529,HLOOKUP($L$15,Données!$C$115:$Y$164,A45+2,0),$D$7=Données!$B$530,HLOOKUP($L$15,Données!$C$169:$Y$218,A45+2,0),$D$7=Données!$B$531,HLOOKUP($L$15,Données!$C$224:$Y$273,A45+2,0),$D$7=Données!$B$532,HLOOKUP($L$15,Données!$C$280:$Y$329,A45+2,0))),\"\")","v":""},{"$nulls":10},"Until:",1,",",0,",",{"$nulls":6},"","","","",{"$nulls":4},26,"12:30:00","13:00:00","Pas de changement",3,"Pas de changement3","Pas de changement",2,"Pas de changement2"]
[27,"13:00:00","13:30:00",{"$f":"IF($I$12=\"non\",1,$I$12)*IF($F$4=\"oui\",IF(OR($B46<$H$4,$C46>$I$4,AND($B46>=$K$4,$C46<=$L$4)),0,1),_xlfn.IFS($D$7=Données!$B$527,HLOOKUP($D$11,Données!$C$8:$Y$57,A46+2,0),$D$7=Données!$B$528,HLOOKUP($D$11,Données!$C$62:$Y$111,A46+2,0),$D$7=Données!$B$529,HLOOKUP($D$11,Données!$C$115:$Y$164,A46+2,0),$D$7=Données!$B$530,HLOOKUP($D$11,Données!$C$169:$Y$218,A46+2,0),$D$7=Données!$B$531,HLOOKUP($D$11,Données!$C$224:$Y$273,A46+2,0),$D$7=Données!$B$532,HLOOKUP($D$11,Données!$C$280:$Y$329,A46+2,0)))","v":0},{"$f":"_xlfn.IFS($H$14=Données!$E$536,1,$H$14=Données!$E$537,IF(D46=0,Données!$F$537,D46),$H$14=Données!$E$538,IF(D46=0,Données!$F$538,D46),$H$14=Données!$E$539,IF(AND(B46>=$C$1-Données!$G$539,C46<=$C$2+Données!$G$539),1,0),$H$14=Données!$E$540,_xlfn.IFS(AND(D46=0,OR(B46<$C$1-Données!$G$540,C46>$C$2+Données!$G$540)),D46,AND(D46=0,B46>=$C$1-Données!$G$540,C46<=$C$2+Données!$G$540),Données!$F$540,D46<>0,D46))","v":1},20,{"$error":"#N/A"},{"$f":"IF($H$8=\"oui\",_xlfn.IFS($D$11=\"Sanitaires\",(30+(15*$H$9))*E46,$H$10=\"[m3/h.local]\",$H$9*E46,AND($H$19=\"[m3/h]\",$I$19=\"[pers/m²]\"),$I$9*$D$8*$H$9*E46,AND($H$19=\"[m3/h]\",($I$19=\"[pers]\")),$I$9*$H$9*E46,$H$19=\"[Vol/h]\",$H$9*E46),0)","v":{"v":25,"d":"25.0"}},0,0,0,{"$f":"IF($L$14=\"particulier\",_xlfn.IFS(O46=0,$L$12*$L$9,O46>0,$L$9*O46),_xlfn.IFS(AND($L$14=1,I46=0),$L$9*$L$12,AND($L$14=1,I46>0),$L$9,AND($L$14=0,I46=0),$L$9*$L$12,AND($L$14=0,I46>0),$L$9*I46/$I$9))","v":0.3},0,0,{"$f":"IFERROR(IF($F$4=\"oui\",IF(OR($B46<$H$4,$C46>$I$4,AND($B46>=$K$4,$C46<=$L$4)),0,1),_xlfn.IFS($D$7=Données!$B$527,HLOOKUP($L$15,Données!$C$8:$Y$57,A46+2,0),$D$7=Données!$B$528,HLOOKUP($L$15,Données!$C$62:$Y$111,A46+2,0),$D$7=Données!$B$529,HLOOKUP($L$15,Données!$C$115:$Y$164,A46+2,0),$D$7=Données!$B$530,HLOOKUP($L$15,Données!$C$169:$Y$218,A46+2,0),$D$7=Données!$B$531,HLOOKUP($L$15,Données!$C$224:$Y$273,A46+2,0),$D$7=Données!$B$532,HLOOKUP($L$15,Données!$C$280:$Y$329,A46+2,0))),\"\")","v":""},{"$nulls":10},"For: ","Holidays,",{"$nulls":17},27,"13:00:00","13:30:00","Pas de changement",3,"Pas de changement3","Pas de changement",2,"Pas de changement2"]
[28,"13:30:00","14:00:00",{"$f":"IF($I$12=\"non\",1,$I$12)*IF($F$4=\"oui\",IF(OR($B47<$H$4,$C47>$I$4,AND($B47>=$K$4,$C47<=$L$4)),0,1),_xlfn.IFS($D$7=Données!$B$527,HLOOKUP($D$11,Données!$C$8:$Y$57,A47+2,0),$D$7=Données!$B$528,HLOOKUP($D$11,Données!$C$62:$Y$111,A47+2,0),$D$7=Données!$B$529,HLOOKUP($D$11,Données!$C$115:$Y$164,A47+2,0),$D$7=Données!$B$530,HLOOKUP($D$11,Données!$C$169:$Y$218,A47+2,0),$D$7=Données!$B$531,HLOOKUP($D$11,Données!$C$224:$Y$273,A47+2,0),$D$7=Données!$B$532,HLOOKUP($D$11,Données!$C$280:$Y$329,A47+2,0)))","v":0},{"$f":"_xlfn.IFS($H$14=Données!$E$536,1,$H$14=Données!$E$537,IF(D47=0,Données!$F$537,D47),$H$14=Données!$E$538,IF(D47=0,Données!$F$538,D47),$H$14=Données!$E$539,IF(AND(B47>=$C$1-Données!$G$539,C47<=$C$2+Données!$G$539),1,0),$H$14=Données!$E$540,_xlfn.IFS(AND(D47=0,OR(B47<$C$1-Données!$G$540,C47>$C$2+Données!$G$540)),D47,AND(D47=0,B47>=$C$1-Données!$G$540,C47<=$C$2+Données!$G$540),Données!$F$540,D47<>0,D47))","v":1},20,{"$error":"#N/A"},{"$f":"IF($H$8=\"oui\",_xlfn.IFS($D$11=\"Sanitaires\",(30+(15*$H$9))*E47,$H$10=\"[m3/h.local]\",$H$9*E47,AND($H$19=\"[m3/h]\",$I$19=\"[pers/m²]\"),$I$9*$D$8*$H$9*E47,AND($H$19=\"[m3/h]\",($I$19=\"[pers]\")),$I$9*$H$9*E47,$H$19=\"[Vol/h]\",$H$9*E47),0)","v":{"v":25,"d":"25.0"}},0,0,0,{"$f":"IF($L$14=\"particulier\",_xlfn.IFS(O47=0,$L$12*$L$9,O47>0,$L$9*O47),_xlfn.IFS(AND($L$14=1,I47=0),$L$9*$L$12,AND($L$14=1,I47>0),$L$9,AND($L$14=0,I47=0),$L$9*$L$12,AND($L$14=0,I47>0),$L$9*I47/$I$9))","v":0.3},0,0,{"$f":"IFERROR(IF($F$4=\"oui\",IF(OR($B47<$H$4,$C47>$I$4,AND($B47>=$K$4,$C47<=$L$4)),0,1),_xlfn.IFS($D$7=Données!$B$527,HLOOKUP($L$15,Données!$C$8:$Y$57,A47+2,0),$D$7=Données!$B$528,HLOOKUP($L$15,Données!$C$62:$Y$111,A47+2,0),$D$7=Données!$B$529,HLOOKUP($L$15,Données!$C$115:$Y$164,A47+2,0),$D$7=Données!$B$530,HLOOKUP($L$15,Données!$C$169:$Y$218,A47+2,0),$D$7=Données!$B$531,HLOOKUP($L$15,Données!$C$224:$Y$273,A47+2,0),$D$7=Données!$B$532,HLOOKUP($L$15,Données!$C$280:$Y$329,A47+2,0))),\"\")","v":""},{"$nulls":10},"Until:",1,",",0,",",{"$nulls":14},28,"13:30:00","14:00:00","Pas de changement",3,"Pas de changement3","Pas de changement",2,"Pas de changement2"]
[29,{"$f":"C47","v":"14:00:00"},{"$f":"C47+0.5/24","v":"14:30:00"},{"$f":"IF($I$12=\"non\",1,$I$12)*IF($F$4=\"oui\",IF(OR($B48<$H$4,$C48>$I$4,AND($B48>=$K$4,$C48<=$L$4)),0,1),_xlfn.IFS($D$7=Données!$B$527,HLOOKUP($D$11,Données!$C$8:$Y$57,A48+2,0),$D$7=Données!$B$528,HLOOKUP($D$11,Données!$C$62:$Y$111,A48+2,0),$D$7=Données!$B$529,HLOOKUP($D$11,Données!$C$115:$Y$164,A48+2,0),$D$7=Données!$B$530,HLOOKUP($D$11,Données!$C$169:$Y$218,A48+2,0),$D$7=Données!$B$531,HLOOKUP($D$11,Données!$C$224:$Y$273,A48+2,0),$D$7=Données!$B$532,HLOOKUP($D$11,Données!$C$280:$Y$329,A48+2,0)))","v":1},{"$f":"_xlfn.IFS($H$14=Données!$E$536,1,$H$14=Données!$E$537,IF(D48=0,Données!$F$537,D48),$H$14=Données!$E$538,IF(D48=0,Données!$F$538,D48),$H$14=Données!$E$539,IF(AND(B48>=$C$1-Données!$G$539,C48<=$C$2+Données!$G$539),1,0),$H$14=Données!$E$540,_xlfn.IFS(AND(D48=0,OR(B48<$C$1-Données!$G$540,C48>$C$2+Données!$G$540)),D48,AND(D48=0,B48>=$C$1-Données!$G$540,C48<=$C$2+Données!$G$540),Données!$F$540,D48<>0,D48))","v":1},20,{"$error":"#N/A"},{"$f":"IF($H$8=\"oui\",_xlfn.IFS($D$11=\"Sanitaires\",(30+(15*$H$9))*E48,$H$10=\"[m3/h.local]\",$H$9*E48,AND($H$19=\"[m3/h]\",$I$19=\"[pers/m²]\"),$I$9*$D$8*$H$9*E48,AND($H$19=\"[m3/h]\",($I$19=\"[pers]\")),$I$9*$H$9*E48,$H$19=\"[Vol/h]\",$H$9*E48),0)","v":{"v":25,"d":"25.0"}},1,6,6.15,{"$f":"IF($L$14=\"particulier\",_xlfn.IFS(O48=0,$L$12*$L$9,O48>0,$L$9*O48),_xlfn.IFS(AND($L$14=1,I48=0),$L$9*$L$12,AND($L$14=1,I48>0),$L$9,AND($L$14=0,I48=0),$L$9*$L$12,AND($L$14=0,I48>0),$L$9*I48/$I$9))","v":10},0,0,{"$f":"IFERROR(IF($F$4=\"oui\",IF(OR($B48<$H$4,$C48>$I$4,AND($B48>=$K$4,$C48<=$L$4)),0,1),_xlfn.IFS($D$7=Données!$B$527,HLOOKUP($L$15,Données!$C$8:$Y$57,A48+2,0),$D$7=Données!$B$528,HLOOKUP($L$15,Données!$C$62:$Y$111,A48+2,0),$D$7=Données!$B$529,HLOOKUP($L$15,Données!$C$115:$Y$164,A48+2,0),$D$7=Données!$B$530,HLOOKUP($L$15,Données!$C$169:$Y$218,A48+2,0),$D$7=Données!$B$531,HLOOKUP($L$15,Données!$C$224:$Y$273,A48+2,0),$D$7=Données!$B$532,HLOOKUP($L$15,Données!$C$280:$Y$329,A48+2,0))),\"\")","v":""},{"$nulls":10},"For: ","WinterDesignDay",null," AllOtherDays,",{"$nulls":15},29,{"$f":"AU47","v":"14:00:00"},{"$f":"AU47+0.5/24","v":"14:30:00"},"Changement",4,"Changement4","Pas de changement",2,"Pas de changement2"]
[30,"14:30:00",{"$f":"C48+0.5/24","v":"15:00:00"},{"$f":"IF($I$12=\"non\",1,$I$12)*IF($F$4=\"oui\",IF(OR($B49<$H$4,$C49>$I$4,AND($B49>=$K$4,$C49<=$L$4)),0,1),_xlfn.IFS($D$7=Données!$B$527,HLOOKUP($D$11,Données!$C$8:$Y$57,A49+2,0),$D$7=Données!$B$528,HLOOKUP($D$11,Données!$C$62:$Y$111,A49+2,0),$D$7=Données!$B$529,HLOOKUP($D$11,Données!$C$115:$Y$164,A49+2,0),$D$7=Données!$B$530,HLOOKUP($D$11,Données!$C$169:$Y$218,A49+2,0),$D$7=Données!$B$531,HLOOKUP($D$11,Données!$C$224:$Y$273,A49+2,0),$D$7=Données!$B$532,HLOOKUP($D$11,Données!$C$280:$Y$329,A49+2,0)))","v":1},{"$f":"_xlfn.IFS($H$14=Données!$E$536,1,$H$14=Données!$E$537,IF(D49=0,Données!$F$537,D49),$H$14=Données!$E$538,IF(D49=0,Données!$F$538,D49),$H$14=Données!$E$539,IF(AND(B49>=$C$1-Données!$G$539,C49<=$C$2+Données!$G$539),1,0),$H$14=Données!$E$540,_xlfn.IFS(AND(D49=0,OR(B49<$C$1-Données!$G$540,C49>$C$2+Données!$G$540)),D49,AND(D49=0,B49>=$C$1-Données!$G$540,C49<=$C$2+Données!$G$540),Données!$F$540,D49<>0,D49))","v":1},20,{"$error":"#N/A"},{"$f":"IF($H$8=\"oui\",_xlfn.IFS($D$11=\"Sanitaires\",(30+(15*$H$9))*E49,$H$10=\"[m3/h.local]\",$H$9*E49,AND($H$19=\"[m3/h]\",$I$19=\"[pers/m²]\"),$I$9*$D$8*$H$9*E49,AND($H$19=\"[m3/h]\",($I$19=\"[pers]\")),$I$9*$H$9*E49,$H$19=\"[Vol/h]\",$H$9*E49),0)","v":{"v":25,"d":"25.0"}},1,6,6.15,{"$f":"IF($L$14=\"particulier\",_xlfn.IFS(O49=0,$L$12*$L$9,O49>0,$L$9*O49),_xlfn.IFS(AND($L$14=1,I49=0),$L$9*$L$12,AND($L$14=1,I49>0),$L$9,AND($L$14=0,I49=0),$L$9*$L$12,AND($L$14=0,I49>0),$L$9*I49/$I$9))","v":10},0,0,{"$f":"IFERROR(IF($F$4=\"oui\",IF(OR($B49<$H$4,$C49>$I$4,AND($B49>=$K$4,$C49<=$L$4)),0,1),_xlfn.IFS($D$7=Données!$B$527,HLOOKUP($L$15,Données!$C$8:$Y$57,A49+2,0),$D$7=Données!$B$528,HLOOKUP($L$15,Données!$C$62:$Y$111,A49+2,0),$D$7=Données!$B$529,HLOOKUP($L$15,Données!$C$115:$Y$164,A49+2,0),$D$7=Données!$B$530,HLOOKUP($L$15,Données!$C$169:$Y$218,A49+2,0),$D$7=Données!$B$531,HLOOKUP($L$15,Données!$C$224:$Y$273,A49+2,0),$D$7=Données!$B$532,HLOOKUP($L$15,Données!$C$280:$Y$329,A49+2,0))),\"\")","v":""},{"$nulls":10},"Until:",1,",",0,";",{"$nulls":14},30,{"$f":"AU48","v":"14:30:00"},{"$f":"AU48+0.5/24","v":"15:00:00"},"Pas de changement",4,"Pas de changement4","Pas de changement",2,"Pas de changement2"]
[31,"15:00:00","15:30:00",{"$f":"IF($I$12=\"non\",1,$I$12)*IF($F$4=\"oui\",IF(OR($B50<$H$4,$C50>$I$4,AND($B50>=$K$4,$C50<=$L$4)),0,1),_xlfn.IFS($D$7=Données!$B$527,HLOOKUP($D$11,Données!$C$8:$Y$57,A50+2,0),$D$7=Données!$B$528,HLOOKUP($D$11,Données!$C$62:$Y$111,A50+2,0),$D$7=Données!$B$529,HLOOKUP($D$11,Données!$C$115:$Y$164,A50+2,0),$D$7=Données!$B$530,HLOOKUP($D$11,Données!$C$169:$Y$218,A50+2,0),$D$7=Données!$B$531,HLOOKUP($D$11,Données!$C$224:$Y$273,A50+2,0),$D$7=Données!$B$532,HLOOKUP($D$11,Données!$C$280:$Y$329,A50+2,0)))","v":1},{"$f":"_xlfn.IFS($H$14=Données!$E$536,1,$H$14=Données!$E$537,IF(D50=0,Données!$F$537,D50),$H$14=Données!$E$538,IF(D50=0,Données!$F$538,D50),$H$14=Données!$E$539,IF(AND(B50>=$C$1-Données!$G$539,C50<=$C$2+Données!$G$539),1,0),$H$14=Données!$E$540,_xlfn.IFS(AND(D50=0,OR(B50<$C$1-Données!$G$540,C50>$C$2+Données!$G$540)),D50,AND(D50=0,B50>=$C$1-Données!$G$540,C50<=$C$2+Données!$G$540),Données!$F$540,D50<>0,D50))","v":1},20,{"$error":"#N/A"},{"$f":"IF($H$8=\"oui\",_xlfn.IFS($D$11=\"Sanitaires\",(30+(15*$H$9))*E50,$H$10=\"[m3/h.local]\",$H$9*E50,AND($H$19=\"[m3/h]\",$I$19=\"[pers/m²]\"),$I$9*$D$8*$H$9*E50,AND($H$19=\"[m3/h]\",($I$19=\"[pers]\")),$I$9*$H$9*E50,$H$19=\"[Vol/h]\",$H$9*E50),0)","v":{"v":25,"d":"25.0"}},1,6,6.15,{"$f":"IF($L$14=\"particulier\",_xlfn.IFS(O50=0,$L$12*$L$9,O50>0,$L$9*O50),_xlfn.IFS(AND($L$14=1,I50=0),$L$9*$L$12,AND($L$14=1,I50>0),$L$9,AND($L$14=0,I50=0),$L$9*$L$12,AND($L$14=0,I50>0),$L$9*I50/$I$9))","v":10},0,0,{"$f":"IFERROR(IF($F$4=\"oui\",IF(OR($B50<$H$4,$C50>$I$4,AND($B50>=$K$4,$C50<=$L$4)),0,1),_xlfn.IFS($D$7=Données!$B$527,HLOOKUP($L$15,Données!$C$8:$Y$57,A50+2,0),$D$7=Données!$B$528,HLOOKUP($L$15,Données!$C$62:$Y$111,A50+2,0),$D$7=Données!$B$529,HLOOKUP($L$15,Données!$C$115:$Y$164,A50+2,0),$D$7=Données!$B$530,HLOOKUP($L$15,Données!$C$169:$Y$218,A50+2,0),$D$7=Données!$B$531,HLOOKUP($L$15,Données!$C$224:$Y$273,A50+2,0),$D$7=Données!$B$532,HLOOKUP($L$15,Données!$C$280:$Y$329,A50+2,0))),\"\")","v":""},{"$nulls":29},31,"15:00:00","15:30:00","Pas de changement",4,"Pas de changement4","Pas de changement",2,"Pas de changement2"]
[32,"15:30:00","16:00:00",{"$f":"IF($I$12=\"non\",1,$I$12)*IF($F$4=\"oui\",IF(OR($B51<$H$4,$C51>$I$4,AND($B51>=$K$4,$C51<=$L$4)),0,1),_xlfn.IFS($D$7=Données!$B$527,HLOOKUP($D$11,Données!$C$8:$Y$57,A51+2,0),$D$7=Données!$B$528,HLOOKUP($D$11,Données!$C$62:$Y$111,A51+2,0),$D$7=Données!$B$529,HLOOKUP($D$11,Données!$C$115:$Y$164,A51+2,0),$D$7=Données!$B$530,HLOOKUP($D$11,Données!$C$169:$Y$218,A51+2,0),$D$7=Données!$B$531,HLOOKUP($D$11,Données!$C$224:$Y$273,A51+2,0),$D$7=Données!$B$532,HLOOKUP($D$11,Données!$C$280:$Y$329,A51+2,0)))","v":1},{"$f":"_xlfn.IFS($H$14=Données!$E$536,1,$H$14=Données!$E$537,IF(D51=0,Données!$F$537,D51),$H$14=Données!$E$538,IF(D51=0,Données!$F$538,D51),$H$14=Données!$E$539,IF(AND(B51>=$C$1-Données!$G$539,C51<=$C$2+Données!$G$539),1,0),$H$14=Données!$E$540,_xlfn.IFS(AND(D51=0,OR(B51<$C$1-Données!$G$540,C51>$C$2+Données!$G$540)),D51,AND(D51=0,B51>=$C$1-Données!$G$540,C51<=$C$2+Données!$G$540),Données!$F$540,D51<>0,D51))","v":1},20,{"$error":"#N/A"},{"$f":"IF($H$8=\"oui\",_xlfn.IFS($D$11=\"Sanitaires\",(30+(15*$H$9))*E51,$H$10=\"[m3/h.local]\",$H$9*E51,AND($H$19=\"[m3/h]\",$I$19=\"[pers/m²]\"),$I$9*$D$8*$H$9*E51,AND($H$19=\"[m3/h]\",($I$19=\"[pers]\")),$I$9*$H$9*E51,$H$19=\"[Vol/h]\",$H$9*E51),0)","v":{"v":25,"d":"25.0"}},1,6,6.15,{"$f":"IF($L$14=\"particulier\",_xlfn.IFS(O51=0,$L$12*$L$9,O51>0,$L$9*O51),_xlfn.IFS(AND($L$14=1,I51=0),$L$9*$L$12,AND($L$14=1,I51>0),$L$9,AND($L$14=0,I51=0),$L$9*$L$12,AND($L$14=0,I51>0),$L$9*I51/$I$9))","v":10},0,0,{"$f":"IFERROR(IF($F$4=\"oui\",IF(OR($B51<$H$4,$C51>$I$4,AND($B51>=$K$4,$C51<=$L$4)),0,1),_xlfn.IFS($D$7=Données!$B$527,HLOOKUP($L$15,Données!$C$8:$Y$57,A51+2,0),$D$7=Données!$B$528,HLOOKUP($L$15,Données!$C$62:$Y$111,A51+2,0),$D$7=Données!$B$529,HLOOKUP($L$15,Données!$C$115:$Y$164,A51+2,0),$D$7=Données!$B$530,HLOOKUP($L$15,Données!$C$169:$Y$218,A51+2,0),$D$7=Données!$B$531,HLOOKUP($L$15,Données!$C$224:$Y$273,A51+2,0),$D$7=Données!$B$532,HLOOKUP($L$15,Données!$C$280:$Y$329,A51+2,0))),\"\")","v":""},{"$nulls":10},{"$f":"L9+M9+N9","v":{"v":10,"d":"10.0"}},{"$f":"L10","v":"W/m²"},{"$nulls":17},32,"15:30:00","16:00:00","Pas de changement",4,"Pas de changement4","Pas de changement",2,"Pas de changement2"]
[33,"16:00:00","16:30:00",{"$f":"IF($I$12=\"non\",1,$I$12)*IF($F$4=\"oui\",IF(OR($B52<$H$4,$C52>$I$4,AND($B52>=$K$4,$C52<=$L$4)),0,1),_xlfn.IFS($D$7=Données!$B$527,HLOOKUP($D$11,Données!$C$8:$Y$57,A52+2,0),$D$7=Données!$B$528,HLOOKUP($D$11,Données!$C$62:$Y$111,A52+2,0),$D$7=Données!$B$529,HLOOKUP($D$11,Données!$C$115:$Y$164,A52+2,0),$D$7=Données!$B$530,HLOOKUP($D$11,Données!$C$169:$Y$218,A52+2,0),$D$7=Données!$B$531,HLOOKUP($D$11,Données!$C$224:$Y$273,A52+2,0),$D$7=Données!$B$532,HLOOKUP($D$11,Données!$C$280:$Y$329,A52+2,0)))","v":1},{"$f":"_xlfn.IFS($H$14=Données!$E$536,1,$H$14=Données!$E$537,IF(D52=0,Données!$F$537,D52),$H$14=Données!$E$538,IF(D52=0,Données!$F$538,D52),$H$14=Données!$E$539,IF(AND(B52>=$C$1-Données!$G$539,C52<=$C$2+Données!$G$539),1,0),$H$14=Données!$E$540,_xlfn.IFS(AND(D52=0,OR(B52<$C$1-Données!$G$540,C52>$C$2+Données!$G$540)),D52,AND(D52=0,B52>=$C$1-Données!$G$540,C52<=$C$2+Données!$G$540),Données!$F$540,D52<>0,D52))","v":1},20,{"$error":"#N/A"},{"$f":"IF($H$8=\"oui\",_xlfn.IFS($D$11=\"Sanitaires\",(30+(15*$H$9))*E52,$H$10=\"[m3/h.local]\",$H$9*E52,AND($H$19=\"[m3/h]\",$I$19=\"[pers/m²]\"),$I$9*$D$8*$H$9*E52,AND($H$19=\"[m3/h]\",($I$19=\"[pers]\")),$I$9*$H$9*E52,$H$19=\"[Vol/h]\",$H$9*E52),0)","v":{"v":25,"d":"25.0"}},1,6,6.15,{"$f":"IF($L$14=\"particulier\",_xlfn.IFS(O52=0,$L$12*$L$9,O52>0,$L$9*O52),_xlfn.IFS(AND($L$14=1,I52=0),$L$9*$L$12,AND($L$14=1,I52>0),$L$9,AND($L$14=0,I52=0),$L$9*$L$12,AND($L$14=0,I52>0),$L$9*I52/$I$9))","v":10},0,0,{"$f":"IFERROR(IF($F$4=\"oui\",IF(OR($B52<$H$4,$C52>$I$4,AND($B52>=$K$4,$C52<=$L$4)),0,1),_xlfn.IFS($D$7=Données!$B$527,HLOOKUP($L$15,Données!$C$8:$Y$57,A52+2,0),$D$7=Données!$B$528,HLOOKUP($L$15,Données!$C$62:$Y$111,A52+2,0),$D$7=Données!$B$529,HLOOKUP($L$15,Données!$C$115:$Y$164,A52+2,0),$D$7=Données!$B$530,HLOOKUP($L$15,Données!$C$169:$Y$218,A52+2,0),$D$7=Données!$B$531,HLOOKUP($L$15,Données!$C$224:$Y$273,A52+2,0),$D$7=Données!$B$532,HLOOKUP($L$15,Données!$C$280:$Y$329,A52+2,0))),\"\")","v":""},{"$nulls":10},"Veille :",{"$f":"IF(SUM(L9:N9)=0,0,(L9*L12+M9*M12+N9*N12)/SUM(L9:N9))","v":{"v":0.03,"d":"3%"}},"%",{"$nulls":16},33,"16:00:00","16:30:00","Pas de changement",4,"Pas de changement4","Pas de changement",2,"Pas de changement2"]
[34,"16:30:00","17:00:00",{"$f":"IF($I$12=\"non\",1,$I$12)*IF($F$4=\"oui\",IF(OR($B53<$H$4,$C53>$I$4,AND($B53>=$K$4,$C53<=$L$4)),0,1),_xlfn.IFS($D$7=Données!$B$527,HLOOKUP($D$11,Données!$C$8:$Y$57,A53+2,0),$D$7=Données!$B$528,HLOOKUP($D$11,Données!$C$62:$Y$111,A53+2,0),$D$7=Données!$B$529,HLOOKUP($D$11,Données!$C$115:$Y$164,A53+2,0),$D$7=Données!$B$530,HLOOKUP($D$11,Données!$C$169:$Y$218,A53+2,0),$D$7=Données!$B$531,HLOOKUP($D$11,Données!$C$224:$Y$273,A53+2,0),$D$7=Données!$B$532,HLOOKUP($D$11,Données!$C$280:$Y$329,A53+2,0)))","v":1},{"$f":"_xlfn.IFS($H$14=Données!$E$536,1,$H$14=Données!$E$537,IF(D53=0,Données!$F$537,D53),$H$14=Données!$E$538,IF(D53=0,Données!$F$538,D53),$H$14=Données!$E$539,IF(AND(B53>=$C$1-Données!$G$539,C53<=$C$2+Données!$G$539),1,0),$H$14=Données!$E$540,_xlfn.IFS(AND(D53=0,OR(B53<$C$1-Données!$G$540,C53>$C$2+Données!$G$540)),D53,AND(D53=0,B53>=$C$1-Données!$G$540,C53<=$C$2+Données!$G$540),Données!$F$540,D53<>0,D53))","v":1},20,{"$error":"#N/A"},{"$f":"IF($H$8=\"oui\",_xlfn.IFS($D$11=\"Sanitaires\",(30+(15*$H$9))*E53,$H$10=\"[m3/h.local]\",$H$9*E53,AND($H$19=\"[m3/h]\",$I$19=\"[pers/m²]\"),$I$9*$D$8*$H$9*E53,AND($H$19=\"[m3/h]\",($I$19=\"[pers]\")),$I$9*$H$9*E53,$H$19=\"[Vol/h]\",$H$9*E53),0)","v":{"v":25,"d":"25.0"}},1,6,6.15,{"$f":"IF($L$14=\"particulier\",_xlfn.IFS(O53=0,$L$12*$L$9,O53>0,$L$9*O53),_xlfn.IFS(AND($L$14=1,I53=0),$L$9*$L$12,AND($L$14=1,I53>0),$L$9,AND($L$14=0,I53=0),$L$9*$L$12,AND($L$14=0,I53>0),$L$9*I53/$I$9))","v":10},0,0,{"$f":"IFERROR(IF($F$4=\"oui\",IF(OR($B53<$H$4,$C53>$I$4,AND($B53>=$K$4,$C53<=$L$4)),0,1),_xlfn.IFS($D$7=Données!$B$527,HLOOKUP($L$15,Données!$C$8:$Y$57,A53+2,0),$D$7=Données!$B$528,HLOOKUP($L$15,Données!$C$62:$Y$111,A53+2,0),$D$7=Données!$B$529,HLOOKUP($L$15,Données!$C$115:$Y$164,A53+2,0),$D$7=Données!$B$530,HLOOKUP($L$15,Données!$C$169:$Y$218,A53+2,0),$D$7=Données!$B$531,HLOOKUP($L$15,Données!$C$224:$Y$273,A53+2,0),$D$7=Données!$B$532,HLOOKUP($L$15,Données!$C$280:$Y$329,A53+2,0))),\"\")","v":""},{"$nulls":10},"Scénario Apports internes ",{"$nulls":18},34,"16:30:00","17:00:00","Pas de changement",4,"Pas de changement4","Pas de changement",2,"Pas de changement2"]
[35,"17:00:00","17:30:00",{"$f":"IF($I$12=\"non\",1,$I$12)*IF($F$4=\"oui\",IF(OR($B54<$H$4,$C54>$I$4,AND($B54>=$K$4,$C54<=$L$4)),0,1),_xlfn.IFS($D$7=Données!$B$527,HLOOKUP($D$11,Données!$C$8:$Y$57,A54+2,0),$D$7=Données!$B$528,HLOOKUP($D$11,Données!$C$62:$Y$111,A54+2,0),$D$7=Données!$B$529,HLOOKUP($D$11,Données!$C$115:$Y$164,A54+2,0),$D$7=Données!$B$530,HLOOKUP($D$11,Données!$C$169:$Y$218,A54+2,0),$D$7=Données!$B$531,HLOOKUP($D$11,Données!$C$224:$Y$273,A54+2,0),$D$7=Données!$B$532,HLOOKUP($D$11,Données!$C$280:$Y$329,A54+2,0)))","v":1},{"$f":"_xlfn.IFS($H$14=Données!$E$536,1,$H$14=Données!$E$537,IF(D54=0,Données!$F$537,D54),$H$14=Données!$E$538,IF(D54=0,Données!$F$538,D54),$H$14=Données!$E$539,IF(AND(B54>=$C$1-Données!$G$539,C54<=$C$2+Données!$G$539),1,0),$H$14=Données!$E$540,_xlfn.IFS(AND(D54=0,OR(B54<$C$1-Données!$G$540,C54>$C$2+Données!$G$540)),D54,AND(D54=0,B54>=$C$1-Données!$G$540,C54<=$C$2+Données!$G$540),Données!$F$540,D54<>0,D54))","v":1},20,{"$error":"#N/A"},{"$f":"IF($H$8=\"oui\",_xlfn.IFS($D$11=\"Sanitaires\",(30+(15*$H$9))*E54,$H$10=\"[m3/h.local]\",$H$9*E54,AND($H$19=\"[m3/h]\",$I$19=\"[pers/m²]\"),$I$9*$D$8*$H$9*E54,AND($H$19=\"[m3/h]\",($I$19=\"[pers]\")),$I$9*$H$9*E54,$H$19=\"[Vol/h]\",$H$9*E54),0)","v":{"v":25,"d":"25.0"}},1,6,6.15,{"$f":"IF($L$14=\"particulier\",_xlfn.IFS(O54=0,$L$12*$L$9,O54>0,$L$9*O54),_xlfn.IFS(AND($L$14=1,I54=0),$L$9*$L$12,AND($L$14=1,I54>0),$L$9,AND($L$14=0,I54=0),$L$9*$L$12,AND($L$14=0,I54>0),$L$9*I54/$I$9))","v":10},0,0,{"$f":"IFERROR(IF($F$4=\"oui\",IF(OR($B54<$H$4,$C54>$I$4,AND($B54>=$K$4,$C54<=$L$4)),0,1),_xlfn.IFS($D$7=Données!$B$527,HLOOKUP($L$15,Données!$C$8:$Y$57,A54+2,0),$D$7=Données!$B$528,HLOOKUP($L$15,Données!$C$62:$Y$111,A54+2,0),$D$7=Données!$B$529,HLOOKUP($L$15,Données!$C$115:$Y$164,A54+2,0),$D$7=Données!$B$530,HLOOKUP($L$15,Données!$C$169:$Y$218,A54+2,0),$D$7=Données!$B$531,HLOOKUP($L$15,Données!$C$224:$Y$273,A54+2,0),$D$7=Données!$B$532,HLOOKUP($L$15,Données!$C$280:$Y$329,A54+2,0))),\"\")","v":""},{"$nulls":10},{"$f":"$Z$27","v":"(A copier dans DB. Attention effacer les lignes vides sinon DB plante)"},{"$nulls":18},35,"17:00:00","17:30:00","Pas de changement",4,"Pas de changement4","Pas de changement",2,"Pas de changement2"]
[36,"17:30:00","18:00:00",{"$f":"IF($I$12=\"non\",1,$I$12)*IF($F$4=\"oui\",IF(OR($B55<$H$4,$C55>$I$4,AND($B55>=$K$4,$C55<=$L$4)),0,1),_xlfn.IFS($D$7=Données!$B$527,HLOOKUP($D$11,Données!$C$8:$Y$57,A55+2,0),$D$7=Données!$B$528,HLOOKUP($D$11,Données!$C$62:$Y$111,A55+2,0),$D$7=Données!$B$529,HLOOKUP($D$11,Données!$C$115:$Y$164,A55+2,0),$D$7=Données!$B$530,HLOOKUP($D$11,Données!$C$169:$Y$218,A55+2,0),$D$7=Données!$B$531,HLOOKUP($D$11,Données!$C$224:$Y$273,A55+2,0),$D$7=Données!$B$532,HLOOKUP($D$11,Données!$C$280:$Y$329,A55+2,0)))","v":1},{"$f":"_xlfn.IFS($H$14=Données!$E$536,1,$H$14=Données!$E$537,IF(D55=0,Données!$F$537,D55),$H$14=Données!$E$538,IF(D55=0,Données!$F$538,D55),$H$14=Données!$E$539,IF(AND(B55>=$C$1-Données!$G$539,C55<=$C$2+Données!$G$539),1,0),$H$14=Données!$E$540,_xlfn.IFS(AND(D55=0,OR(B55<$C$1-Données!$G$540,C55>$C$2+Données!$G$540)),D55,AND(D55=0,B55>=$C$1-Données!$G$540,C55<=$C$2+Données!$G$540),Données!$F$540,D55<>0,D55))","v":1},20,{"$error":"#N/A"},{"$f":"IF($H$8=\"oui\",_xlfn.IFS($D$11=\"Sanitaires\",(30+(15*$H$9))*E55,$H$10=\"[m3/h.local]\",$H$9*E55,AND($H$19=\"[m3/h]\",$I$19=\"[pers/m²]\"),$I$9*$D$8*$H$9*E55,AND($H$19=\"[m3/h]\",($I$19=\"[pers]\")),$I$9*$H$9*E55,$H$19=\"[Vol/h]\",$H$9*E55),0)","v":{"v":25,"d":"25.0"}},1,6,6.15,{"$f":"IF($L$14=\"particulier\",_xlfn.IFS(O55=0,$L$12*$L$9,O55>0,$L$9*O55),_xlfn.IFS(AND($L$14=1,I55=0),$L$9*$L$12,AND($L$14=1,I55>0),$L$9,AND($L$14=0,I55=0),$L$9*$L$12,AND($L$14=0,I55>0),$L$9*I55/$I$9))","v":10},0,0,{"$f":"IFERROR(IF($F$4=\"oui\",IF(OR($B55<$H$4,$C55>$I$4,AND($B55>=$K$4,$C55<=$L$4)),0,1),_xlfn.IFS($D$7=Données!$B$527,HLOOKUP($L$15,Données!$C$8:$Y$57,A55+2,0),$D$7=Données!$B$528,HLOOKUP($L$15,Données!$C$62:$Y$111,A55+2,0),$D$7=Données!$B$529,HLOOKUP($L$15,Données!$C$115:$Y$164,A55+2,0),$D$7=Données!$B$530,HLOOKUP($L$15,Données!$C$169:$Y$218,A55+2,0),$D$7=Données!$B$531,HLOOKUP($L$15,Données!$C$224:$Y$273,A55+2,0),$D$7=Données!$B$532,HLOOKUP($L$15,Données!$C$280:$Y$329,A55+2,0))),\"\")","v":""},{"$nulls":10},"Schedule:Compact,",{"$nulls":18},36,"17:30:00","18:00:00","Pas de changement",4,"Pas de changement4","Pas de changement",2,"Pas de changement2"]
[37,"18:00:00","18:30:00",{"$f":"IF($I$12=\"non\",1,$I$12)*IF($F$4=\"oui\",IF(OR($B56<$H$4,$C56>$I$4,AND($B56>=$K$4,$C56<=$L$4)),0,1),_xlfn.IFS($D$7=Données!$B$527,HLOOKUP($D$11,Données!$C$8:$Y$57,A56+2,0),$D$7=Données!$B$528,HLOOKUP($D$11,Données!$C$62:$Y$111,A56+2,0),$D$7=Données!$B$529,HLOOKUP($D$11,Données!$C$115:$Y$164,A56+2,0),$D$7=Données!$B$530,HLOOKUP($D$11,Données!$C$169:$Y$218,A56+2,0),$D$7=Données!$B$531,HLOOKUP($D$11,Données!$C$224:$Y$273,A56+2,0),$D$7=Données!$B$532,HLOOKUP($D$11,Données!$C$280:$Y$329,A56+2,0)))","v":0},{"$f":"_xlfn.IFS($H$14=Données!$E$536,1,$H$14=Données!$E$537,IF(D56=0,Données!$F$537,D56),$H$14=Données!$E$538,IF(D56=0,Données!$F$538,D56),$H$14=Données!$E$539,IF(AND(B56>=$C$1-Données!$G$539,C56<=$C$2+Données!$G$539),1,0),$H$14=Données!$E$540,_xlfn.IFS(AND(D56=0,OR(B56<$C$1-Données!$G$540,C56>$C$2+Données!$G$540)),D56,AND(D56=0,B56>=$C$1-Données!$G$540,C56<=$C$2+Données!$G$540),Données!$F$540,D56<>0,D56))","v":1},18,{"$error":"#N/A"},{"$f":"IF($H$8=\"oui\",_xlfn.IFS($D$11=\"Sanitaires\",(30+(15*$H$9))*E56,$H$10=\"[m3/h.local]\",$H$9*E56,AND($H$19=\"[m3/h]\",$I$19=\"[pers/m²]\"),$I$9*$D$8*$H$9*E56,AND($H$19=\"[m3/h]\",($I$19=\"[pers]\")),$I$9*$H$9*E56,$H$19=\"[Vol/h]\",$H$9*E56),0)","v":{"v":25,"d":"25.0"}},0,0,0,{"$f":"IF($L$14=\"particulier\",_xlfn.IFS(O56=0,$L$12*$L$9,O56>0,$L$9*O56),_xlfn.IFS(AND($L$14=1,I56=0),$L$9*$L$12,AND($L$14=1,I56>0),$L$9,AND($L$14=0,I56=0),$L$9*$L$12,AND($L$14=0,I56>0),$L$9*I56/$I$9))","v":0.3},0,0,{"$f":"IFERROR(IF($F$4=\"oui\",IF(OR($B56<$H$4,$C56>$I$4,AND($B56>=$K$4,$C56<=$L$4)),0,1),_xlfn.IFS($D$7=Données!$B$527,HLOOKUP($L$15,Données!$C$8:$Y$57,A56+2,0),$D$7=Données!$B$528,HLOOKUP($L$15,Données!$C$62:$Y$111,A56+2,0),$D$7=Données!$B$529,HLOOKUP($L$15,Données!$C$115:$Y$164,A56+2,0),$D$7=Données!$B$530,HLOOKUP($L$15,Données!$C$169:$Y$218,A56+2,0),$D$7=Données!$B$531,HLOOKUP($L$15,Données!$C$224:$Y$273,A56+2,0),$D$7=Données!$B$532,HLOOKUP($L$15,Données!$C$280:$Y$329,A56+2,0))),\"\")","v":""},{"$nulls":10},{"$f":"$B$6&\"_Apports_internes\"","v":"01 _ test 1_Apports_internes"},",",{"$nulls":17},37,"18:00:00","18:30:00","Changement",5,"Changement5","Pas de changement",2,"Pas de changement2"]
[38,"18:30:00","19:00:00",{"$f":"IF($I$12=\"non\",1,$I$12)*IF($F$4=\"oui\",IF(OR($B57<$H$4,$C57>$I$4,AND($B57>=$K$4,$C57<=$L$4)),0,1),_xlfn.IFS($D$7=Données!$B$527,HLOOKUP($D$11,Données!$C$8:$Y$57,A57+2,0),$D$7=Données!$B$528,HLOOKUP($D$11,Données!$C$62:$Y$111,A57+2,0),$D$7=Données!$B$529,HLOOKUP($D$11,Données!$C$115:$Y$164,A57+2,0),$D$7=Données!$B$530,HLOOKUP($D$11,Données!$C$169:$Y$218,A57+2,0),$D$7=Données!$B$531,HLOOKUP($D$11,Données!$C$224:$Y$273,A57+2,0),$D$7=Données!$B$532,HLOOKUP($D$11,Données!$C$280:$Y$329,A57+2,0)))","v":0},{"$f":"_xlfn.IFS($H$14=Données!$E$536,1,$H$14=Données!$E$537,IF(D57=0,Données!$F$537,D57),$H$14=Données!$E$538,IF(D57=0,Données!$F$538,D57),$H$14=Données!$E$539,IF(AND(B57>=$C$1-Données!$G$539,C57<=$C$2+Données!$G$539),1,0),$H$14=Données!$E$540,_xlfn.IFS(AND(D57=0,OR(B57<$C$1-Données!$G$540,C57>$C$2+Données!$G$540)),D57,AND(D57=0,B57>=$C$1-Données!$G$540,C57<=$C$2+Données!$G$540),Données!$F$540,D57<>0,D57))","v":1},18,{"$error":"#N/A"},{"$f":"IF($H$8=\"oui\",_xlfn.IFS($D$11=\"Sanitaires\",(30+(15*$H$9))*E57,$H$10=\"[m3/h.local]\",$H$9*E57,AND($H$19=\"[m3/h]\",$I$19=\"[pers/m²]\"),$I$9*$D$8*$H$9*E57,AND($H$19=\"[m3/h]\",($I$19=\"[pers]\")),$I$9*$H$9*E57,$H$19=\"[Vol/h]\",$H$9*E57),0)","v":{"v":25,"d":"25.0"}},0,0,0,{"$f":"IF($L$14=\"particulier\",_xlfn.IFS(O57=0,$L$12*$L$9,O57>0,$L$9*O57),_xlfn.IFS(AND($L$14=1,I57=0),$L$9*$L$12,AND($L$14=1,I57>0),$L$9,AND($L$14=0,I57=0),$L$9*$L$12,AND($L$14=0,I57>0),$L$9*I57/$I$9))","v":0.3},0,0,{"$f":"IFERROR(IF($F$4=\"oui\",IF(OR($B57<$H$4,$C57>$I$4,AND($B57>=$K$4,$C57<=$L$4)),0,1),_xlfn.IFS($D$7=Données!$B$527,HLOOKUP($L$15,Données!$C$8:$Y$57,A57+2,0),$D$7=Données!$B$528,HLOOKUP($L$15,Données!$C$62:$Y$111,A57+2,0),$D$7=Données!$B$529,HLOOKUP($L$15,Données!$C$115:$Y$164,A57+2,0),$D$7=Données!$B$530,HLOOKUP($L$15,Données!$C$169:$Y$218,A57+2,0),$D$7=Données!$B$531,HLOOKUP($L$15,Données!$C$224:$Y$273,A57+2,0),$D$7=Données!$B$532,HLOOKUP($L$15,Données!$C$280:$Y$329,A57+2,0))),\"\")","v":""},{"$nulls":10},"Fraction,",{"$nulls":18},38,"18:30:00","19:00:00","Pas de changement",5,"Pas de changement5","Pas de changement",2,"Pas de changement2"]
[39,"19:00:00","19:30:00",{"$f":"IF($I$12=\"non\",1,$I$12)*IF($F$4=\"oui\",IF(OR($B58<$H$4,$C58>$I$4,AND($B58>=$K$4,$C58<=$L$4)),0,1),_xlfn.IFS($D$7=Données!$B$527,HLOOKUP($D$11,Données!$C$8:$Y$57,A58+2,0),$D$7=Données!$B$528,HLOOKUP($D$11,Données!$C$62:$Y$111,A58+2,0),$D$7=Données!$B$529,HLOOKUP($D$11,Données!$C$115:$Y$164,A58+2,0),$D$7=Données!$B$530,HLOOKUP($D$11,Données!$C$169:$Y$218,A58+2,0),$D$7=Données!$B$531,HLOOKUP($D$11,Données!$C$224:$Y$273,A58+2,0),$D$7=Données!$B$532,HLOOKUP($D$11,Données!$C$280:$Y$329,A58+2,0)))","v":0},{"$f":"_xlfn.IFS($H$14=Données!$E$536,1,$H$14=Données!$E$537,IF(D58=0,Données!$F$537,D58),$H$14=Données!$E$538,IF(D58=0,Données!$F$538,D58),$H$14=Données!$E$539,IF(AND(B58>=$C$1-Données!$G$539,C58<=$C$2+Données!$G$539),1,0),$H$14=Données!$E$540,_xlfn.IFS(AND(D58=0,OR(B58<$C$1-Données!$G$540,C58>$C$2+Données!$G$540)),D58,AND(D58=0,B58>=$C$1-Données!$G$540,C58<=$C$2+Données!$G$540),Données!$F$540,D58<>0,D58))","v":0},18,{"$error":"#N/A"},{"$f":"IF($H$8=\"oui\",_xlfn.IFS($D$11=\"Sanitaires\",(30+(15*$H$9))*E58,$H$10=\"[m3/h.local]\",$H$9*E58,AND($H$19=\"[m3/h]\",$I$19=\"[pers/m²]\"),$I$9*$D$8*$H$9*E58,AND($H$19=\"[m3/h]\",($I$19=\"[pers]\")),$I$9*$H$9*E58,$H$19=\"[Vol/h]\",$H$9*E58),0)","v":{"v":0,"d":"0.0"}},0,0,0,{"$f":"IF($L$14=\"particulier\",_xlfn.IFS(O58=0,$L$12*$L$9,O58>0,$L$9*O58),_xlfn.IFS(AND($L$14=1,I58=0),$L$9*$L$12,AND($L$14=1,I58>0),$L$9,AND($L$14=0,I58=0),$L$9*$L$12,AND($L$14=0,I58>0),$L$9*I58/$I$9))","v":0.3},0,0,{"$f":"IFERROR(IF($F$4=\"oui\",IF(OR($B58<$H$4,$C58>$I$4,AND($B58>=$K$4,$C58<=$L$4)),0,1),_xlfn.IFS($D$7=Données!$B$527,HLOOKUP($L$15,Données!$C$8:$Y$57,A58+2,0),$D$7=Données!$B$528,HLOOKUP($L$15,Données!$C$62:$Y$111,A58+2,0),$D$7=Données!$B$529,HLOOKUP($L$15,Données!$C$115:$Y$164,A58+2,0),$D$7=Données!$B$530,HLOOKUP($L$15,Données!$C$169:$Y$218,A58+2,0),$D$7=Données!$B$531,HLOOKUP($L$15,Données!$C$224:$Y$273,A58+2,0),$D$7=Données!$B$532,HLOOKUP($L$15,Données!$C$280:$Y$329,A58+2,0))),\"\")","v":""},{"$nulls":10},"Through: ","31 Dec,",{"$nulls":17},39,"19:00:00","19:30:00","Pas de changement",5,"Pas de changement5","Changement",3,"Changement3"]
[40,"19:30:00","20:00:00",{"$f":"IF($I$12=\"non\",1,$I$12)*IF($F$4=\"oui\",IF(OR($B59<$H$4,$C59>$I$4,AND($B59>=$K$4,$C59<=$L$4)),0,1),_xlfn.IFS($D$7=Données!$B$527,HLOOKUP($D$11,Données!$C$8:$Y$57,A59+2,0),$D$7=Données!$B$528,HLOOKUP($D$11,Données!$C$62:$Y$111,A59+2,0),$D$7=Données!$B$529,HLOOKUP($D$11,Données!$C$115:$Y$164,A59+2,0),$D$7=Données!$B$530,HLOOKUP($D$11,Données!$C$169:$Y$218,A59+2,0),$D$7=Données!$B$531,HLOOKUP($D$11,Données!$C$224:$Y$273,A59+2,0),$D$7=Données!$B$532,HLOOKUP($D$11,Données!$C$280:$Y$329,A59+2,0)))","v":0},{"$f":"_xlfn.IFS($H$14=Données!$E$536,1,$H$14=Données!$E$537,IF(D59=0,Données!$F$537,D59),$H$14=Données!$E$538,IF(D59=0,Données!$F$538,D59),$H$14=Données!$E$539,IF(AND(B59>=$C$1-Données!$G$539,C59<=$C$2+Données!$G$539),1,0),$H$14=Données!$E$540,_xlfn.IFS(AND(D59=0,OR(B59<$C$1-Données!$G$540,C59>$C$2+Données!$G$540)),D59,AND(D59=0,B59>=$C$1-Données!$G$540,C59<=$C$2+Données!$G$540),Données!$F$540,D59<>0,D59))","v":0},18,{"$error":"#N/A"},{"$f":"IF($H$8=\"oui\",_xlfn.IFS($D$11=\"Sanitaires\",(30+(15*$H$9))*E59,$H$10=\"[m3/h.local]\",$H$9*E59,AND($H$19=\"[m3/h]\",$I$19=\"[pers/m²]\"),$I$9*$D$8*$H$9*E59,AND($H$19=\"[m3/h]\",($I$19=\"[pers]\")),$I$9*$H$9*E59,$H$19=\"[Vol/h]\",$H$9*E59),0)","v":{"v":0,"d":"0.0"}},0,0,0,{"$f":"IF($L$14=\"particulier\",_xlfn.IFS(O59=0,$L$12*$L$9,O59>0,$L$9*O59),_xlfn.IFS(AND($L$14=1,I59=0),$L$9*$L$12,AND($L$14=1,I59>0),$L$9,AND($L$14=0,I59=0),$L$9*$L$12,AND($L$14=0,I59>0),$L$9*I59/$I$9))","v":0.3},0,0,{"$f":"IFERROR(IF($F$4=\"oui\",IF(OR($B59<$H$4,$C59>$I$4,AND($B59>=$K$4,$C59<=$L$4)),0,1),_xlfn.IFS($D$7=Données!$B$527,HLOOKUP($L$15,Données!$C$8:$Y$57,A59+2,0),$D$7=Données!$B$528,HLOOKUP($L$15,Données!$C$62:$Y$111,A59+2,0),$D$7=Données!$B$529,HLOOKUP($L$15,Données!$C$115:$Y$164,A59+2,0),$D$7=Données!$B$530,HLOOKUP($L$15,Données!$C$169:$Y$218,A59+2,0),$D$7=Données!$B$531,HLOOKUP($L$15,Données!$C$224:$Y$273,A59+2,0),$D$7=Données!$B$532,HLOOKUP($L$15,Données!$C$280:$Y$329,A59+2,0))),\"\")","v":""},{"$nulls":10},"For: ","Weekdays",",",{"$nulls":7},"Tanscrire les virgules en point",{"$nulls":8},40,"19:30:00","20:00:00","Pas de changement",5,"Pas de changement5","Pas de changement",3,"Pas de changement3"]
[41,"20:00:00","20:30:00",{"$f":"IF($I$12=\"non\",1,$I$12)*IF($F$4=\"oui\",IF(OR($B60<$H$4,$C60>$I$4,AND($B60>=$K$4,$C60<=$L$4)),0,1),_xlfn.IFS($D$7=Données!$B$527,HLOOKUP($D$11,Données!$C$8:$Y$57,A60+2,0),$D$7=Données!$B$528,HLOOKUP($D$11,Données!$C$62:$Y$111,A60+2,0),$D$7=Données!$B$529,HLOOKUP($D$11,Données!$C$115:$Y$164,A60+2,0),$D$7=Données!$B$530,HLOOKUP($D$11,Données!$C$169:$Y$218,A60+2,0),$D$7=Données!$B$531,HLOOKUP($D$11,Données!$C$224:$Y$273,A60+2,0),$D$7=Données!$B$532,HLOOKUP($D$11,Données!$C$280:$Y$329,A60+2,0)))","v":0},{"$f":"_xlfn.IFS($H$14=Données!$E$536,1,$H$14=Données!$E$537,IF(D60=0,Données!$F$537,D60),$H$14=Données!$E$538,IF(D60=0,Données!$F$538,D60),$H$14=Données!$E$539,IF(AND(B60>=$C$1-Données!$G$539,C60<=$C$2+Données!$G$539),1,0),$H$14=Données!$E$540,_xlfn.IFS(AND(D60=0,OR(B60<$C$1-Données!$G$540,C60>$C$2+Données!$G$540)),D60,AND(D60=0,B60>=$C$1-Données!$G$540,C60<=$C$2+Données!$G$540),Données!$F$540,D60<>0,D60))","v":0},18,{"$error":"#N/A"},{"$f":"IF($H$8=\"oui\",_xlfn.IFS($D$11=\"Sanitaires\",(30+(15*$H$9))*E60,$H$10=\"[m3/h.local]\",$H$9*E60,AND($H$19=\"[m3/h]\",$I$19=\"[pers/m²]\"),$I$9*$D$8*$H$9*E60,AND($H$19=\"[m3/h]\",($I$19=\"[pers]\")),$I$9*$H$9*E60,$H$19=\"[Vol/h]\",$H$9*E60),0)","v":{"v":0,"d":"0.0"}},0,0,0,{"$f":"IF($L$14=\"particulier\",_xlfn.IFS(O60=0,$L$12*$L$9,O60>0,$L$9*O60),_xlfn.IFS(AND($L$14=1,I60=0),$L$9*$L$12,AND($L$14=1,I60>0),$L$9,AND($L$14=0,I60=0),$L$9*$L$12,AND($L$14=0,I60>0),$L$9*I60/$I$9))","v":0.3},0,0,{"$f":"IFERROR(IF($F$4=\"oui\",IF(OR($B60<$H$4,$C60>$I$4,AND($B60>=$K$4,$C60<=$L$4)),0,1),_xlfn.IFS($D$7=Données!$B$527,HLOOKUP($L$15,Données!$C$8:$Y$57,A60+2,0),$D$7=Données!$B$528,HLOOKUP($L$15,Données!$C$62:$Y$111,A60+2,0),$D$7=Données!$B$529,HLOOKUP($L$15,Données!$C$115:$Y$164,A60+2,0),$D$7=Données!$B$530,HLOOKUP($L$15,Données!$C$169:$Y$218,A60+2,0),$D$7=Données!$B$531,HLOOKUP($L$15,Données!$C$224:$Y$273,A60+2,0),$D$7=Données!$B$532,HLOOKUP($L$15,Données!$C$280:$Y$329,A60+2,0))),\"\")","v":""},{"$nulls":8},{"$f":"IFERROR(IF(X59+1<=$AV$69-1,X59+1,\"\"),\"\")","v":1},null,{"$f":"IF(X60=\"\",\"\",\"Until:\")","v":"Until:"},{"$f":"IF(X60=\"\",\"\",IFERROR(IF(X60=$AV$69-1,$AU$67,VLOOKUP(MATCH(TRUE,INDEX($AX$20:$AX$67=\"Changement\"&X61,0),0),$AS$20:$AU$67,2,0)),\"\"))","v":0.33333333333333326},{"$f":"IF(X60=\"\",\"\",\",\")","v":","},{"$f":"IF(AN60=\"\",\"\",_xlfn.IFS(AJ60=$AA$52,AN60,AND(AJ60<>$AA$52,$L$14=0),AN60,AND(AJ60<>$AA$52,$L$14=1),1))","v":"0.3"},{"$f":"IF(X60=\"\",\"\",\",\")","v":","},{"$nulls":5},{"$f":"IF(X60=\"\",\"\",IF(VLOOKUP(MATCH(TRUE,INDEX($AX$20:$AX$67=\"Changement\"&X60,0),0),$A$20:$N$67,4,0)=0,$AA$52,VLOOKUP(MATCH(TRUE,INDEX($AX$20:$AX$67=\"Changement\"&X60,0),0),$A$20:$N$67,4,0)))","v":0.03},{"$f":"IF(AJ60=\"\",\"\",TRUNC(AJ60,0))","v":0},{"$f":"IF(AJ60=\"\",\"\",TRUNC((AJ60-AK60)*10,0))","v":0},{"$f":"IF(AJ60=\"\",\"\",IF(AJ60=AK60+AL60/10,0,TRUNC((AJ60*1-AL60)*100,0)))","v":3},{"$f":"IF(AJ60=\"\",\"\",TRUNC(AJ60,0)&\".\"&ROUND(AJ60-TRUNC(AJ60,0),2)*100)","v":"0.3"},{"$nulls":4},41,"20:00:00","20:30:00","Pas de changement",5,"Pas de changement5","Pas de changement",3,"Pas de changement3"]
[42,"20:30:00","21:00:00",{"$f":"IF($I$12=\"non\",1,$I$12)*IF($F$4=\"oui\",IF(OR($B61<$H$4,$C61>$I$4,AND($B61>=$K$4,$C61<=$L$4)),0,1),_xlfn.IFS($D$7=Données!$B$527,HLOOKUP($D$11,Données!$C$8:$Y$57,A61+2,0),$D$7=Données!$B$528,HLOOKUP($D$11,Données!$C$62:$Y$111,A61+2,0),$D$7=Données!$B$529,HLOOKUP($D$11,Données!$C$115:$Y$164,A61+2,0),$D$7=Données!$B$530,HLOOKUP($D$11,Données!$C$169:$Y$218,A61+2,0),$D$7=Données!$B$531,HLOOKUP($D$11,Données!$C$224:$Y$273,A61+2,0),$D$7=Données!$B$532,HLOOKUP($D$11,Données!$C$280:$Y$329,A61+2,0)))","v":0},{"$f":"_xlfn.IFS($H$14=Données!$E$536,1,$H$14=Données!$E$537,IF(D61=0,Données!$F$537,D61),$H$14=Données!$E$538,IF(D61=0,Données!$F$538,D61),$H$14=Données!$E$539,IF(AND(B61>=$C$1-Données!$G$539,C61<=$C$2+Données!$G$539),1,0),$H$14=Données!$E$540,_xlfn.IFS(AND(D61=0,OR(B61<$C$1-Données!$G$540,C61>$C$2+Données!$G$540)),D61,AND(D61=0,B61>=$C$1-Données!$G$540,C61<=$C$2+Données!$G$540),Données!$F$540,D61<>0,D61))","v":0},18,{"$error":"#N/A"},{"$f":"IF($H$8=\"oui\",_xlfn.IFS($D$11=\"Sanitaires\",(30+(15*$H$9))*E61,$H$10=\"[m3/h.local]\",$H$9*E61,AND($H$19=\"[m3/h]\",$I$19=\"[pers/m²]\"),$I$9*$D$8*$H$9*E61,AND($H$19=\"[m3/h]\",($I$19=\"[pers]\")),$I$9*$H$9*E61,$H$19=\"[Vol/h]\",$H$9*E61),0)","v":{"v":0,"d":"0.0"}},0,0,0,{"$f":"IF($L$14=\"particulier\",_xlfn.IFS(O61=0,$L$12*$L$9,O61>0,$L$9*O61),_xlfn.IFS(AND($L$14=1,I61=0),$L$9*$L$12,AND($L$14=1,I61>0),$L$9,AND($L$14=0,I61=0),$L$9*$L$12,AND($L$14=0,I61>0),$L$9*I61/$I$9))","v":0.3},0,0,{"$f":"IFERROR(IF($F$4=\"oui\",IF(OR($B61<$H$4,$C61>$I$4,AND($B61>=$K$4,$C61<=$L$4)),0,1),_xlfn.IFS($D$7=Données!$B$527,HLOOKUP($L$15,Données!$C$8:$Y$57,A61+2,0),$D$7=Données!$B$528,HLOOKUP($L$15,Données!$C$62:$Y$111,A61+2,0),$D$7=Données!$B$529,HLOOKUP($L$15,Données!$C$115:$Y$164,A61+2,0),$D$7=Données!$B$530,HLOOKUP($L$15,Données!$C$169:$Y$218,A61+2,0),$D$7=Données!$B$531,HLOOKUP($L$15,Données!$C$224:$Y$273,A61+2,0),$D$7=Données!$B$532,HLOOKUP($L$15,Données!$C$280:$Y$329,A61+2,0))),\"\")","v":""},{"$nulls":8},2,null,{"$f":"IF(X61=\"\",\"\",\"Until:\")","v":"Until:"},{"$f":"IF(X61=\"\",\"\",IFERROR(IF(X61=$AV$69-1,$AU$67,VLOOKUP(MATCH(TRUE,INDEX($AX$20:$AX$67=\"Changement\"&X62,0),0),$AS$20:$AU$67,2,0)),\"\"))","v":0.4999999999999998},{"$f":"IF(X61=\"\",\"\",\",\")","v":","},{"$f":"IF(AN61=\"\",\"\",_xlfn.IFS(AJ61=$AA$52,AN61,AND(AJ61<>$AA$52,$L$14=0),AN61,AND(AJ61<>$AA$52,$L$14=1),1))","v":1},{"$f":"IF(X61=\"\",\"\",\",\")","v":","},{"$nulls":5},{"$f":"IF(X61=\"\",\"\",IF(VLOOKUP(MATCH(TRUE,INDEX($AX$20:$AX$67=\"Changement\"&X61,0),0),$A$20:$N$67,4,0)=0,$AA$52,VLOOKUP(MATCH(TRUE,INDEX($AX$20:$AX$67=\"Changement\"&X61,0),0),$A$20:$N$67,4,0)))","v":1},{"$f":"IF(AJ61=\"\",\"\",TRUNC(AJ61,0))","v":1},{"$f":"IF(AJ61=\"\",\"\",TRUNC((AJ61-AK61)*10,0))","v":0},{"$f":"IF(AJ61=\"\",\"\",IF(AJ61=AK61+AL61/10,0,TRUNC((AJ61*1-AL61)*100,0)))","v":0},{"$f":"IF(AJ61=\"\",\"\",TRUNC(AJ61,0)&\".\"&ROUND(AJ61-TRUNC(AJ61,0),2)*100)","v":"1.0"},{"$nulls":4},42,"20:30:00","21:00:00","Pas de changement",5,"Pas de changement5","Pas de changement",3,"Pas de changement3"]
[43,"21:00:00","21:30:00",{"$f":"IF($I$12=\"non\",1,$I$12)*IF($F$4=\"oui\",IF(OR($B62<$H$4,$C62>$I$4,AND($B62>=$K$4,$C62<=$L$4)),0,1),_xlfn.IFS($D$7=Données!$B$527,HLOOKUP($D$11,Données!$C$8:$Y$57,A62+2,0),$D$7=Données!$B$528,HLOOKUP($D$11,Données!$C$62:$Y$111,A62+2,0),$D$7=Données!$B$529,HLOOKUP($D$11,Données!$C$115:$Y$164,A62+2,0),$D$7=Données!$B$530,HLOOKUP($D$11,Données!$C$169:$Y$218,A62+2,0),$D$7=Données!$B$531,HLOOKUP($D$11,Données!$C$224:$Y$273,A62+2,0),$D$7=Données!$B$532,HLOOKUP($D$11,Données!$C$280:$Y$329,A62+2,0)))","v":0},{"$f":"_xlfn.IFS($H$14=Données!$E$536,1,$H$14=Données!$E$537,IF(D62=0,Données!$F$537,D62),$H$14=Données!$E$538,IF(D62=0,Données!$F$538,D62),$H$14=Données!$E$539,IF(AND(B62>=$C$1-Données!$G$539,C62<=$C$2+Données!$G$539),1,0),$H$14=Données!$E$540,_xlfn.IFS(AND(D62=0,OR(B62<$C$1-Données!$G$540,C62>$C$2+Données!$G$540)),D62,AND(D62=0,B62>=$C$1-Données!$G$540,C62<=$C$2+Données!$G$540),Données!$F$540,D62<>0,D62))","v":0},18,{"$error":"#N/A"},{"$f":"IF($H$8=\"oui\",_xlfn.IFS($D$11=\"Sanitaires\",(30+(15*$H$9))*E62,$H$10=\"[m3/h.local]\",$H$9*E62,AND($H$19=\"[m3/h]\",$I$19=\"[pers/m²]\"),$I$9*$D$8*$H$9*E62,AND($H$19=\"[m3/h]\",($I$19=\"[pers]\")),$I$9*$H$9*E62,$H$19=\"[Vol/h]\",$H$9*E62),0)","v":{"v":0,"d":"0.0"}},0,0,0,{"$f":"IF($L$14=\"particulier\",_xlfn.IFS(O62=0,$L$12*$L$9,O62>0,$L$9*O62),_xlfn.IFS(AND($L$14=1,I62=0),$L$9*$L$12,AND($L$14=1,I62>0),$L$9,AND($L$14=0,I62=0),$L$9*$L$12,AND($L$14=0,I62>0),$L$9*I62/$I$9))","v":0.3},0,0,{"$f":"IFERROR(IF($F$4=\"oui\",IF(OR($B62<$H$4,$C62>$I$4,AND($B62>=$K$4,$C62<=$L$4)),0,1),_xlfn.IFS($D$7=Données!$B$527,HLOOKUP($L$15,Données!$C$8:$Y$57,A62+2,0),$D$7=Données!$B$528,HLOOKUP($L$15,Données!$C$62:$Y$111,A62+2,0),$D$7=Données!$B$529,HLOOKUP($L$15,Données!$C$115:$Y$164,A62+2,0),$D$7=Données!$B$530,HLOOKUP($L$15,Données!$C$169:$Y$218,A62+2,0),$D$7=Données!$B$531,HLOOKUP($L$15,Données!$C$224:$Y$273,A62+2,0),$D$7=Données!$B$532,HLOOKUP($L$15,Données!$C$280:$Y$329,A62+2,0))),\"\")","v":""},{"$nulls":8},3,null,"Until:",{"$f":"IF(X62=\"\",\"\",IFERROR(IF(X62=$AV$69-1,$AU$67,VLOOKUP(MATCH(TRUE,INDEX($AX$20:$AX$67=\"Changement\"&X63,0),0),$AS$20:$AU$67,2,0)),\"\"))","v":0.5833333333333333},",",{"$f":"IF(AN62=\"\",\"\",_xlfn.IFS(AJ62=$AA$52,AN62,AND(AJ62<>$AA$52,$L$14=0),AN62,AND(AJ62<>$AA$52,$L$14=1),1))","v":"0.3"},",",{"$nulls":5},{"$f":"IF(X62=\"\",\"\",IF(VLOOKUP(MATCH(TRUE,INDEX($AX$20:$AX$67=\"Changement\"&X62,0),0),$A$20:$N$67,4,0)=0,$AA$52,VLOOKUP(MATCH(TRUE,INDEX($AX$20:$AX$67=\"Changement\"&X62,0),0),$A$20:$N$67,4,0)))","v":0.03},0,0,3,"0.3",{"$nulls":4},43,"21:00:00","21:30:00","Pas de changement",5,"Pas de changement5","Pas de changement",3,"Pas de changement3"]
[44,{"$f":"C62","v":"21:30:00"},{"$f":"C62+0.5/24","v":"22:00:00"},{"$f":"IF($I$12=\"non\",1,$I$12)*IF($F$4=\"oui\",IF(OR($B63<$H$4,$C63>$I$4,AND($B63>=$K$4,$C63<=$L$4)),0,1),_xlfn.IFS($D$7=Données!$B$527,HLOOKUP($D$11,Données!$C$8:$Y$57,A63+2,0),$D$7=Données!$B$528,HLOOKUP($D$11,Données!$C$62:$Y$111,A63+2,0),$D$7=Données!$B$529,HLOOKUP($D$11,Données!$C$115:$Y$164,A63+2,0),$D$7=Données!$B$530,HLOOKUP($D$11,Données!$C$169:$Y$218,A63+2,0),$D$7=Données!$B$531,HLOOKUP($D$11,Données!$C$224:$Y$273,A63+2,0),$D$7=Données!$B$532,HLOOKUP($D$11,Données!$C$280:$Y$329,A63+2,0)))","v":0},{"$f":"_xlfn.IFS($H$14=Données!$E$536,1,$H$14=Données!$E$537,IF(D63=0,Données!$F$537,D63),$H$14=Données!$E$538,IF(D63=0,Données!$F$538,D63),$H$14=Données!$E$539,IF(AND(B63>=$C$1-Données!$G$539,C63<=$C$2+Données!$G$539),1,0),$H$14=Données!$E$540,_xlfn.IFS(AND(D63=0,OR(B63<$C$1-Données!$G$540,C63>$C$2+Données!$G$540)),D63,AND(D63=0,B63>=$C$1-Données!$G$540,C63<=$C$2+Données!$G$540),Données!$F$540,D63<>0,D63))","v":0},18,{"$error":"#N/A"},{"$f":"IF($H$8=\"oui\",_xlfn.IFS($D$11=\"Sanitaires\",(30+(15*$H$9))*E63,$H$10=\"[m3/h.local]\",$H$9*E63,AND($H$19=\"[m3/h]\",$I$19=\"[pers/m²]\"),$I$9*$D$8*$H$9*E63,AND($H$19=\"[m3/h]\",($I$19=\"[pers]\")),$I$9*$H$9*E63,$H$19=\"[Vol/h]\",$H$9*E63),0)","v":{"v":0,"d":"0.0"}},0,0,0,{"$f":"IF($L$14=\"particulier\",_xlfn.IFS(O63=0,$L$12*$L$9,O63>0,$L$9*O63),_xlfn.IFS(AND($L$14=1,I63=0),$L$9*$L$12,AND($L$14=1,I63>0),$L$9,AND($L$14=0,I63=0),$L$9*$L$12,AND($L$14=0,I63>0),$L$9*I63/$I$9))","v":0.3},0,0,{"$f":"IFERROR(IF($F$4=\"oui\",IF(OR($B63<$H$4,$C63>$I$4,AND($B63>=$K$4,$C63<=$L$4)),0,1),_xlfn.IFS($D$7=Données!$B$527,HLOOKUP($L$15,Données!$C$8:$Y$57,A63+2,0),$D$7=Données!$B$528,HLOOKUP($L$15,Données!$C$62:$Y$111,A63+2,0),$D$7=Données!$B$529,HLOOKUP($L$15,Données!$C$115:$Y$164,A63+2,0),$D$7=Données!$B$530,HLOOKUP($L$15,Données!$C$169:$Y$218,A63+2,0),$D$7=Données!$B$531,HLOOKUP($L$15,Données!$C$224:$Y$273,A63+2,0),$D$7=Données!$B$532,HLOOKUP($L$15,Données!$C$280:$Y$329,A63+2,0))),\"\")","v":""},{"$nulls":8},4,null,"Until:",{"$f":"IF(X63=\"\",\"\",IFERROR(IF(X63=$AV$69-1,$AU$67,VLOOKUP(MATCH(TRUE,INDEX($AX$20:$AX$67=\"Changement\"&X64,0),0),$AS$20:$AU$67,2,0)),\"\"))","v":0.7500000000000002},",",{"$f":"IF(AN63=\"\",\"\",_xlfn.IFS(AJ63=$AA$52,AN63,AND(AJ63<>$AA$52,$L$14=0),AN63,AND(AJ63<>$AA$52,$L$14=1),1))","v":1},",",{"$nulls":5},{"$f":"IF(X63=\"\",\"\",IF(VLOOKUP(MATCH(TRUE,INDEX($AX$20:$AX$67=\"Changement\"&X63,0),0),$A$20:$N$67,4,0)=0,$AA$52,VLOOKUP(MATCH(TRUE,INDEX($AX$20:$AX$67=\"Changement\"&X63,0),0),$A$20:$N$67,4,0)))","v":1},1,0,0,"1.0",{"$nulls":4},44,{"$f":"AU62","v":"21:30:00"},{"$f":"AU62+0.5/24","v":"22:00:00"},"Pas de changement",5,"Pas de changement5","Pas de changement",3,"Pas de changement3"]
[45,"22:00:00",{"$f":"C63+0.5/24","v":"22:30:00"},{"$f":"IF($I$12=\"non\",1,$I$12)*IF($F$4=\"oui\",IF(OR($B64<$H$4,$C64>$I$4,AND($B64>=$K$4,$C64<=$L$4)),0,1),_xlfn.IFS($D$7=Données!$B$527,HLOOKUP($D$11,Données!$C$8:$Y$57,A64+2,0),$D$7=Données!$B$528,HLOOKUP($D$11,Données!$C$62:$Y$111,A64+2,0),$D$7=Données!$B$529,HLOOKUP($D$11,Données!$C$115:$Y$164,A64+2,0),$D$7=Données!$B$530,HLOOKUP($D$11,Données!$C$169:$Y$218,A64+2,0),$D$7=Données!$B$531,HLOOKUP($D$11,Données!$C$224:$Y$273,A64+2,0),$D$7=Données!$B$532,HLOOKUP($D$11,Données!$C$280:$Y$329,A64+2,0)))","v":0},{"$f":"_xlfn.IFS($H$14=Données!$E$536,1,$H$14=Données!$E$537,IF(D64=0,Données!$F$537,D64),$H$14=Données!$E$538,IF(D64=0,Données!$F$538,D64),$H$14=Données!$E$539,IF(AND(B64>=$C$1-Données!$G$539,C64<=$C$2+Données!$G$539),1,0),$H$14=Données!$E$540,_xlfn.IFS(AND(D64=0,OR(B64<$C$1-Données!$G$540,C64>$C$2+Données!$G$540)),D64,AND(D64=0,B64>=$C$1-Données!$G$540,C64<=$C$2+Données!$G$540),Données!$F$540,D64<>0,D64))","v":0},18,{"$error":"#N/A"},{"$f":"IF($H$8=\"oui\",_xlfn.IFS($D$11=\"Sanitaires\",(30+(15*$H$9))*E64,$H$10=\"[m3/h.local]\",$H$9*E64,AND($H$19=\"[m3/h]\",$I$19=\"[pers/m²]\"),$I$9*$D$8*$H$9*E64,AND($H$19=\"[m3/h]\",($I$19=\"[pers]\")),$I$9*$H$9*E64,$H$19=\"[Vol/h]\",$H$9*E64),0)","v":{"v":0,"d":"0.0"}},0,0,0,{"$f":"IF($L$14=\"particulier\",_xlfn.IFS(O64=0,$L$12*$L$9,O64>0,$L$9*O64),_xlfn.IFS(AND($L$14=1,I64=0),$L$9*$L$12,AND($L$14=1,I64>0),$L$9,AND($L$14=0,I64=0),$L$9*$L$12,AND($L$14=0,I64>0),$L$9*I64/$I$9))","v":0.3},0,0,{"$f":"IFERROR(IF($F$4=\"oui\",IF(OR($B64<$H$4,$C64>$I$4,AND($B64>=$K$4,$C64<=$L$4)),0,1),_xlfn.IFS($D$7=Données!$B$527,HLOOKUP($L$15,Données!$C$8:$Y$57,A64+2,0),$D$7=Données!$B$528,HLOOKUP($L$15,Données!$C$62:$Y$111,A64+2,0),$D$7=Données!$B$529,HLOOKUP($L$15,Données!$C$115:$Y$164,A64+2,0),$D$7=Données!$B$530,HLOOKUP($L$15,Données!$C$169:$Y$218,A64+2,0),$D$7=Données!$B$531,HLOOKUP($L$15,Données!$C$224:$Y$273,A64+2,0),$D$7=Données!$B$532,HLOOKUP($L$15,Données!$C$280:$Y$329,A64+2,0))),\"\")","v":""},{"$nulls":8},5,null,"Until:",{"$f":"IF(X64=\"\",\"\",IFERROR(IF(X64=$AV$69-1,$AU$67,VLOOKUP(MATCH(TRUE,INDEX($AX$20:$AX$67=\"Changement\"&X65,0),0),$AS$20:$AU$67,2,0)),\"\"))","v":1},",",{"$f":"IF(AN64=\"\",\"\",_xlfn.IFS(AJ64=$AA$52,AN64,AND(AJ64<>$AA$52,$L$14=0),AN64,AND(AJ64<>$AA$52,$L$14=1),1))","v":"0.3"},",",{"$nulls":5},{"$f":"IF(X64=\"\",\"\",IF(VLOOKUP(MATCH(TRUE,INDEX($AX$20:$AX$67=\"Changement\"&X64,0),0),$A$20:$N$67,4,0)=0,$AA$52,VLOOKUP(MATCH(TRUE,INDEX($AX$20:$AX$67=\"Changement\"&X64,0),0),$A$20:$N$67,4,0)))","v":0.03},0,0,3,"0.3",{"$nulls":4},45,{"$f":"AU63","v":"22:00:00"},{"$f":"AU63+0.5/24","v":"22:30:00"},"Pas de changement",5,"Pas de changement5","Pas de changement",3,"Pas de changement3"]
[46,"22:30:00","23:00:00",{"$f":"IF($I$12=\"non\",1,$I$12)*IF($F$4=\"oui\",IF(OR($B65<$H$4,$C65>$I$4,AND($B65>=$K$4,$C65<=$L$4)),0,1),_xlfn.IFS($D$7=Données!$B$527,HLOOKUP($D$11,Données!$C$8:$Y$57,A65+2,0),$D$7=Données!$B$528,HLOOKUP($D$11,Données!$C$62:$Y$111,A65+2,0),$D$7=Données!$B$529,HLOOKUP($D$11,Données!$C$115:$Y$164,A65+2,0),$D$7=Données!$B$530,HLOOKUP($D$11,Données!$C$169:$Y$218,A65+2,0),$D$7=Données!$B$531,HLOOKUP($D$11,Données!$C$224:$Y$273,A65+2,0),$D$7=Données!$B$532,HLOOKUP($D$11,Données!$C$280:$Y$329,A65+2,0)))","v":0},{"$f":"_xlfn.IFS($H$14=Données!$E$536,1,$H$14=Données!$E$537,IF(D65=0,Données!$F$537,D65),$H$14=Données!$E$538,IF(D65=0,Données!$F$538,D65),$H$14=Données!$E$539,IF(AND(B65>=$C$1-Données!$G$539,C65<=$C$2+Données!$G$539),1,0),$H$14=Données!$E$540,_xlfn.IFS(AND(D65=0,OR(B65<$C$1-Données!$G$540,C65>$C$2+Données!$G$540)),D65,AND(D65=0,B65>=$C$1-Données!$G$540,C65<=$C$2+Données!$G$540),Données!$F$540,D65<>0,D65))","v":0},18,{"$error":"#N/A"},{"$f":"IF($H$8=\"oui\",_xlfn.IFS($D$11=\"Sanitaires\",(30+(15*$H$9))*E65,$H$10=\"[m3/h.local]\",$H$9*E65,AND($H$19=\"[m3/h]\",$I$19=\"[pers/m²]\"),$I$9*$D$8*$H$9*E65,AND($H$19=\"[m3/h]\",($I$19=\"[pers]\")),$I$9*$H$9*E65,$H$19=\"[Vol/h]\",$H$9*E65),0)","v":{"v":0,"d":"0.0"}},0,0,0,{"$f":"IF($L$14=\"particulier\",_xlfn.IFS(O65=0,$L$12*$L$9,O65>0,$L$9*O65),_xlfn.IFS(AND($L$14=1,I65=0),$L$9*$L$12,AND($L$14=1,I65>0),$L$9,AND($L$14=0,I65=0),$L$9*$L$12,AND($L$14=0,I65>0),$L$9*I65/$I$9))","v":0.3},0,0,{"$f":"IFERROR(IF($F$4=\"oui\",IF(OR($B65<$H$4,$C65>$I$4,AND($B65>=$K$4,$C65<=$L$4)),0,1),_xlfn.IFS($D$7=Données!$B$527,HLOOKUP($L$15,Données!$C$8:$Y$57,A65+2,0),$D$7=Données!$B$528,HLOOKUP($L$15,Données!$C$62:$Y$111,A65+2,0),$D$7=Données!$B$529,HLOOKUP($L$15,Données!$C$115:$Y$164,A65+2,0),$D$7=Données!$B$530,HLOOKUP($L$15,Données!$C$169:$Y$218,A65+2,0),$D$7=Données!$B$531,HLOOKUP($L$15,Données!$C$224:$Y$273,A65+2,0),$D$7=Données!$B$532,HLOOKUP($L$15,Données!$C$280:$Y$329,A65+2,0))),\"\")","v":""},{"$nulls":8},"",null,"",{"$f":"IF(X65=\"\",\"\",IFERROR(IF(X65=$AV$69-1,$AU$67,VLOOKUP(MATCH(TRUE,INDEX($AX$20:$AX$67=\"Changement\"&X66,0),0),$AS$20:$AU$67,2,0)),\"\"))","v":""},"",{"$f":"IF(AN65=\"\",\"\",_xlfn.IFS(AJ65=$AA$52,AN65,AND(AJ65<>$AA$52,$L$14=0),AN65,AND(AJ65<>$AA$52,$L$14=1),1))","v":""},"",{"$nulls":5},{"$f":"IF(X65=\"\",\"\",IF(VLOOKUP(MATCH(TRUE,INDEX($AX$20:$AX$67=\"Changement\"&X65,0),0),$A$20:$N$67,4,0)=0,$AA$52,VLOOKUP(MATCH(TRUE,INDEX($AX$20:$AX$67=\"Changement\"&X65,0),0),$A$20:$N$67,4,0)))","v":""},"","","","",{"$nulls":4},46,"22:30:00","23:00:00","Pas de changement",5,"Pas de changement5","Pas de changement",3,"Pas de changement3"]
[47,"23:00:00","23:30:00",{"$f":"IF($I$12=\"non\",1,$I$12)*IF($F$4=\"oui\",IF(OR($B66<$H$4,$C66>$I$4,AND($B66>=$K$4,$C66<=$L$4)),0,1),_xlfn.IFS($D$7=Données!$B$527,HLOOKUP($D$11,Données!$C$8:$Y$57,A66+2,0),$D$7=Données!$B$528,HLOOKUP($D$11,Données!$C$62:$Y$111,A66+2,0),$D$7=Données!$B$529,HLOOKUP($D$11,Données!$C$115:$Y$164,A66+2,0),$D$7=Données!$B$530,HLOOKUP($D$11,Données!$C$169:$Y$218,A66+2,0),$D$7=Données!$B$531,HLOOKUP($D$11,Données!$C$224:$Y$273,A66+2,0),$D$7=Données!$B$532,HLOOKUP($D$11,Données!$C$280:$Y$329,A66+2,0)))","v":0},{"$f":"_xlfn.IFS($H$14=Données!$E$536,1,$H$14=Données!$E$537,IF(D66=0,Données!$F$537,D66),$H$14=Données!$E$538,IF(D66=0,Données!$F$538,D66),$H$14=Données!$E$539,IF(AND(B66>=$C$1-Données!$G$539,C66<=$C$2+Données!$G$539),1,0),$H$14=Données!$E$540,_xlfn.IFS(AND(D66=0,OR(B66<$C$1-Données!$G$540,C66>$C$2+Données!$G$540)),D66,AND(D66=0,B66>=$C$1-Données!$G$540,C66<=$C$2+Données!$G$540),Données!$F$540,D66<>0,D66))","v":0},18,{"$error":"#N/A"},{"$f":"IF($H$8=\"oui\",_xlfn.IFS($D$11=\"Sanitaires\",(30+(15*$H$9))*E66,$H$10=\"[m3/h.local]\",$H$9*E66,AND($H$19=\"[m3/h]\",$I$19=\"[pers/m²]\"),$I$9*$D$8*$H$9*E66,AND($H$19=\"[m3/h]\",($I$19=\"[pers]\")),$I$9*$H$9*E66,$H$19=\"[Vol/h]\",$H$9*E66),0)","v":{"v":0,"d":"0.0"}},0,0,0,{"$f":"IF($L$14=\"particulier\",_xlfn.IFS(O66=0,$L$12*$L$9,O66>0,$L$9*O66),_xlfn.IFS(AND($L$14=1,I66=0),$L$9*$L$12,AND($L$14=1,I66>0),$L$9,AND($L$14=0,I66=0),$L$9*$L$12,AND($L$14=0,I66>0),$L$9*I66/$I$9))","v":0.3},0,0,{"$f":"IFERROR(IF($F$4=\"oui\",IF(OR($B66<$H$4,$C66>$I$4,AND($B66>=$K$4,$C66<=$L$4)),0,1),_xlfn.IFS($D$7=Données!$B$527,HLOOKUP($L$15,Données!$C$8:$Y$57,A66+2,0),$D$7=Données!$B$528,HLOOKUP($L$15,Données!$C$62:$Y$111,A66+2,0),$D$7=Données!$B$529,HLOOKUP($L$15,Données!$C$115:$Y$164,A66+2,0),$D$7=Données!$B$530,HLOOKUP($L$15,Données!$C$169:$Y$218,A66+2,0),$D$7=Données!$B$531,HLOOKUP($L$15,Données!$C$224:$Y$273,A66+2,0),$D$7=Données!$B$532,HLOOKUP($L$15,Données!$C$280:$Y$329,A66+2,0))),\"\")","v":""},{"$nulls":8},"",null,"",{"$f":"IF(X66=\"\",\"\",IFERROR(IF(X66=$AV$69-1,$AU$67,VLOOKUP(MATCH(TRUE,INDEX($AX$20:$AX$67=\"Changement\"&X67,0),0),$AS$20:$AU$67,2,0)),\"\"))","v":""},"",{"$f":"IF(AN66=\"\",\"\",_xlfn.IFS(AJ66=$AA$52,AN66,AND(AJ66<>$AA$52,$L$14=0),AN66,AND(AJ66<>$AA$52,$L$14=1),1))","v":""},"",{"$nulls":5},{"$f":"IF(X66=\"\",\"\",IF(VLOOKUP(MATCH(TRUE,INDEX($AX$20:$AX$67=\"Changement\"&X66,0),0),$A$20:$N$67,4,0)=0,$AA$52,VLOOKUP(MATCH(TRUE,INDEX($AX$20:$AX$67=\"Changement\"&X66,0),0),$A$20:$N$67,4,0)))","v":""},"","","","",{"$nulls":4},47,"23:00:00","23:30:00","Pas de changement",5,"Pas de changement5","Pas de changement",3,"Pas de changement3"]
[48,"23:30:00",1.0000000000000007,{"$f":"IF($I$12=\"non\",1,$I$12)*IF($F$4=\"oui\",IF(OR($B67<$H$4,$C67>$I$4,AND($B67>=$K$4,$C67<=$L$4)),0,1),_xlfn.IFS($D$7=Données!$B$527,HLOOKUP($D$11,Données!$C$8:$Y$57,A67+2,0),$D$7=Données!$B$528,HLOOKUP($D$11,Données!$C$62:$Y$111,A67+2,0),$D$7=Données!$B$529,HLOOKUP($D$11,Données!$C$115:$Y$164,A67+2,0),$D$7=Données!$B$530,HLOOKUP($D$11,Données!$C$169:$Y$218,A67+2,0),$D$7=Données!$B$531,HLOOKUP($D$11,Données!$C$224:$Y$273,A67+2,0),$D$7=Données!$B$532,HLOOKUP($D$11,Données!$C$280:$Y$329,A67+2,0)))","v":0},{"$f":"_xlfn.IFS($H$14=Données!$E$536,1,$H$14=Données!$E$537,IF(D67=0,Données!$F$537,D67),$H$14=Données!$E$538,IF(D67=0,Données!$F$538,D67),$H$14=Données!$E$539,IF(AND(B67>=$C$1-Données!$G$539,C67<=$C$2+Données!$G$539),1,0),$H$14=Données!$E$540,_xlfn.IFS(AND(D67=0,OR(B67<$C$1-Données!$G$540,C67>$C$2+Données!$G$540)),D67,AND(D67=0,B67>=$C$1-Données!$G$540,C67<=$C$2+Données!$G$540),Données!$F$540,D67<>0,D67))","v":0},18,{"$error":"#N/A"},{"$f":"IF($H$8=\"oui\",_xlfn.IFS($D$11=\"Sanitaires\",(30+(15*$H$9))*E67,$H$10=\"[m3/h.local]\",$H$9*E67,AND($H$19=\"[m3/h]\",$I$19=\"[pers/m²]\"),$I$9*$D$8*$H$9*E67,AND($H$19=\"[m3/h]\",($I$19=\"[pers]\")),$I$9*$H$9*E67,$H$19=\"[Vol/h]\",$H$9*E67),0)","v":{"v":0,"d":"0.0"}},0,0,0,{"$f":"IF($L$14=\"particulier\",_xlfn.IFS(O67=0,$L$12*$L$9,O67>0,$L$9*O67),_xlfn.IFS(AND($L$14=1,I67=0),$L$9*$L$12,AND($L$14=1,I67>0),$L$9,AND($L$14=0,I67=0),$L$9*$L$12,AND($L$14=0,I67>0),$L$9*I67/$I$9))","v":0.3},0,0,{"$f":"IFERROR(IF($F$4=\"oui\",IF(OR($B67<$H$4,$C67>$I$4,AND($B67>=$K$4,$C67<=$L$4)),0,1),_xlfn.IFS($D$7=Données!$B$527,HLOOKUP($L$15,Données!$C$8:$Y$57,A67+2,0),$D$7=Données!$B$528,HLOOKUP($L$15,Données!$C$62:$Y$111,A67+2,0),$D$7=Données!$B$529,HLOOKUP($L$15,Données!$C$115:$Y$164,A67+2,0),$D$7=Données!$B$530,HLOOKUP($L$15,Données!$C$169:$Y$218,A67+2,0),$D$7=Données!$B$531,HLOOKUP($L$15,Données!$C$224:$Y$273,A67+2,0),$D$7=Données!$B$532,HLOOKUP($L$15,Données!$C$280:$Y$329,A67+2,0))),\"\")","v":""},{"$nulls":8},"",null,"",{"$f":"IF(X67=\"\",\"\",IFERROR(IF(X67=$AV$69-1,$AU$67,VLOOKUP(MATCH(TRUE,INDEX($AX$20:$AX$67=\"Changement\"&X68,0),0),$AS$20:$AU$67,2,0)),\"\"))","v":""},"",{"$f":"IF(AN67=\"\",\"\",_xlfn.IFS(AJ67=$AA$52,AN67,AND(AJ67<>$AA$52,$L$14=0),AN67,AND(AJ67<>$AA$52,$L$14=1),1))","v":""},"",{"$nulls":5},{"$f":"IF(X67=\"\",\"\",IF(VLOOKUP(MATCH(TRUE,INDEX($AX$20:$AX$67=\"Changement\"&X67,0),0),$A$20:$N$67,4,0)=0,$AA$52,VLOOKUP(MATCH(TRUE,INDEX($AX$20:$AX$67=\"Changement\"&X67,0),0),$A$20:$N$67,4,0)))","v":""},"","","","",{"$nulls":4},48,"23:30:00",1,"Changement",6,"Changement6","Changement",4,"Changement4"]
[{"$nulls":23},"",null,"",{"$f":"IF(X68=\"\",\"\",IFERROR(IF(X68=$AV$69-1,$AU$67,VLOOKUP(MATCH(TRUE,INDEX($AX$20:$AX$67=\"Changement\"&X69,0),0),$AS$20:$AU$67,2,0)),\"\"))","v":""},"",{"$f":"IF(AN68=\"\",\"\",_xlfn.IFS(AJ68=$AA$52,AN68,AND(AJ68<>$AA$52,$L$14=0),AN68,AND(AJ68<>$AA$52,$L$14=1),1))","v":""},"",{"$nulls":5},{"$f":"IF(X68=\"\",\"\",IF(VLOOKUP(MATCH(TRUE,INDEX($AX$20:$AX$67=\"Changement\"&X68,0),0),$A$20:$N$67,4,0)=0,$AA$52,VLOOKUP(MATCH(TRUE,INDEX($AX$20:$AX$67=\"Changement\"&X68,0),0),$A$20:$N$67,4,0)))","v":""},"","","",""]
["Calcul pour graphe occupation :",{"$nulls":22},"",null,"",{"$f":"IF(X69=\"\",\"\",IFERROR(IF(X69=$AV$69-1,$AU$67,VLOOKUP(MATCH(TRUE,INDEX($AX$20:$AX$67=\"Changement\"&X70,0),0),$AS$20:$AU$67,2,0)),\"\"))","v":""},"",{"$f":"IF(AN69=\"\",\"\",_xlfn.IFS(AJ69=$AA$52,AN69,AND(AJ69<>$AA$52,$L$14=0),AN69,AND(AJ69<>$AA$52,$L$14=1),1))","v":""},"",{"$nulls":5},{"$f":"IF(X69=\"\",\"\",IF(VLOOKUP(MATCH(TRUE,INDEX($AX$20:$AX$67=\"Changement\"&X69,0),0),$A$20:$N$67,4,0)=0,$AA$52,VLOOKUP(MATCH(TRUE,INDEX($AX$20:$AX$67=\"Changement\"&X69,0),0),$A$20:$N$67,4,0)))","v":""},"","","","",{"$nulls":7},{"$f":"COUNTIF(AV20:AV67,\"Changement\")","v":6},null,null,{"$f":"COUNTIF(AY20:AY67,\"Changement\")","v":4}]
[null,null,"Occupation",{"$nulls":20},"",null,"",{"$f":"IF(X70=\"\",\"\",IFERROR(IF(X70=$AV$69-1,$AU$67,VLOOKUP(MATCH(TRUE,INDEX($AX$20:$AX$67=\"Changement\"&X71,0),0),$AS$20:$AU$67,2,0)),\"\"))","v":""},"",{"$f":"IF(AN70=\"\",\"\",_xlfn.IFS(AJ70=$AA$52,AN70,AND(AJ70<>$AA$52,$L$14=0),AN70,AND(AJ70<>$AA$52,$L$14=1),1))","v":""},"",{"$nulls":5},{"$f":"IF(X70=\"\",\"\",IF(VLOOKUP(MATCH(TRUE,INDEX($AX$20:$AX$67=\"Changement\"&X70,0),0),$A$20:$N$67,4,0)=0,$AA$52,VLOOKUP(MATCH(TRUE,INDEX($AX$20:$AX$67=\"Changement\"&X70,0),0),$A$20:$N$67,4,0)))","v":""},"","","",""]
[0,"00:00:00",{"$f":"VLOOKUP($B71,$B$20:$N$67,8,FALSE)","v":0},{"$nulls":22},"For: ","Weekends",null," Holidays",",",{"$nulls":6},"","","",""]
[0.5,"00:30:00",{"$f":"IF($B72=$B71,VLOOKUP($B72,$B$20:$N$67,8,FALSE),C71)","v":0},{"$nulls":22},"Until:",1,",",{"$f":"AN72","v":"0.03"},",",{"$nulls":5},{"$f":"AA52","v":0.03},0,0,3,{"$f":"IF(AJ72=\"\",\"\",IF(AJ72=0,0,AK72&\".\"&AL72&AM72))","v":"0.03"}]
[0.5,"00:30:00",0,{"$nulls":22},"For: "," SummerDesignDay",","]
[{"$f":"A72+0.5","v":1},"01:00:00",0,{"$nulls":22},"Until:",1,",",1,","]
[{"$f":"A73+0.5","v":1},"01:00:00",0,{"$nulls":22},"For: ","WinterDesignDay",null," AllOtherDays,"]
[1.5,"01:30:00",0,{"$nulls":22},"Until:",1,",",0,";"]
[1.5,"01:30:00",0]
[2,"02:00:00",0]
[2,"02:00:00",0]
[2.5,"02:30:00",0,{"$nulls":22},{"$f":"J9","v":{"v":6,"d":"6.0"}},{"$f":"J10","v":"W/m²"}]
[2.5,"02:30:00",0,{"$nulls":22},"Scénario eclairage "]
[3,"03:00:00",0,{"$nulls":22},{"$f":"$Z$27","v":"(A copier dans DB. Attention effacer les lignes vides sinon DB plante)"}]
[3,"03:00:00",0,{"$nulls":22},"Schedule:Compact,"]
[3.5,"03:30:00",0,{"$nulls":22},{"$f":"$B$6&\"_eclairage\"","v":"01 _ test 1_eclairage"},","]
[3.5,"03:30:00",0,{"$nulls":22},"Fraction,"]
[4,"04:00:00",0,{"$nulls":22},"Through: ","31 Dec,"]
[4,"04:00:00",0,{"$nulls":22},"For: ","Weekdays",null," SummerDesignDay",",",{"$nulls":5},"Tanscrire les virgules en point"]
[4.5,"04:30:00",0,{"$nulls":20},{"$f":"IFERROR(IF(X87+1<=$AV$69-1,X87+1,\"\"),\"\")","v":1},null,{"$f":"IF(X88=\"\",\"\",\"Until:\")","v":"Until:"},{"$f":"IF(X88=\"\",\"\",IFERROR(IF(X88=$AV$69-1,$AU$67,VLOOKUP(MATCH(TRUE,INDEX($AX$20:$AX$67=\"Changement\"&X89,0),0),$AS$20:$AU$67,2,0)),\"\"))","v":0.33333333333333326},{"$f":"IF(X88=\"\",\"\",\",\")","v":","},{"$f":"AN88","v":"0.0"},{"$f":"IF(X88=\"\",\"\",\",\")","v":","},{"$nulls":5},{"$f":"IF(X88=\"\",\"\",VLOOKUP(MATCH(TRUE,INDEX($AX$20:$AX$67=\"Changement\"&X88,0),0),$A$20:$N$67,4,0))","v":0},{"$f":"IF(AJ88=\"\",\"\",TRUNC(AJ88,0))","v":0},{"$f":"IF(AJ88=\"\",\"\",TRUNC((AJ88-AK88)*10,0))","v":0},{"$f":"IF(AJ88=\"\",\"\",IF(AJ88=AK88+AL88/10,0,TRUNC((AJ88*1-AL88)*100,0)))","v":0},{"$f":"IF(AJ88=\"\",\"\",TRUNC(AJ88,0)&\".\"&ROUND(AJ88-TRUNC(AJ88,0),2)*100)","v":"0.0"}]
[4.5,"04:30:00",0,{"$nulls":20},2,null,"Until:",{"$f":"IF(X89=\"\",\"\",IFERROR(IF(X89=$AV$69-1,$AU$67,VLOOKUP(MATCH(TRUE,INDEX($AX$20:$AX$67=\"Changement\"&X90,0),0),$AS$20:$AU$67,2,0)),\"\"))","v":0.4999999999999998},",",{"$f":"AN89","v":"1.0"},",",{"$nulls":5},{"$f":"IF(X89=\"\",\"\",VLOOKUP(MATCH(TRUE,INDEX($AX$20:$AX$67=\"Changement\"&X89,0),0),$A$20:$N$67,4,0))","v":1},{"$f":"IF(AJ89=\"\",\"\",TRUNC(AJ89,0))","v":1},{"$f":"IF(AJ89=\"\",\"\",TRUNC((AJ89-AK89)*10,0))","v":0},{"$f":"IF(AJ89=\"\",\"\",IF(AJ89=AK89+AL89/10,0,TRUNC((AJ89*1-AL89)*100,0)))","v":0},{"$f":"IF(AJ89=\"\",\"\",TRUNC(AJ89,0)&\".\"&ROUND(AJ89-TRUNC(AJ89,0),2)*100)","v":"1.0"}]
[5,"05:00:00",0,{"$nulls":20},3,null,"Until:",{"$f":"IF(X90=\"\",\"\",IFERROR(IF(X90=$AV$69-1,$AU$67,VLOOKUP(MATCH(TRUE,INDEX($AX$20:$AX$67=\"Changement\"&X91,0),0),$AS$20:$AU$67,2,0)),\"\"))","v":0.5833333333333333},",","0.0",",",{"$nulls":5},{"$f":"IF(X90=\"\",\"\",VLOOKUP(MATCH(TRUE,INDEX($AX$20:$AX$67=\"Changement\"&X90,0),0),$A$20:$N$67,4,0))","v":0},0,0,0,"0.0"]
[5,"05:00:00",0,{"$nulls":20},4,null,"Until:",{"$f":"IF(X91=\"\",\"\",IFERROR(IF(X91=$AV$69-1,$AU$67,VLOOKUP(MATCH(TRUE,INDEX($AX$20:$AX$67=\"Changement\"&X92,0),0),$AS$20:$AU$67,2,0)),\"\"))","v":0.7500000000000002},",","1.0",",",{"$nulls":5},{"$f":"IF(X91=\"\",\"\",VLOOKUP(MATCH(TRUE,INDEX($AX$20:$AX$67=\"Changement\"&X91,0),0),$A$20:$N$67,4,0))","v":1},1,0,0,"1.0"]
[5.5,"05:30:00",0,{"$nulls":20},5,null,"Until:",{"$f":"IF(X92=\"\",\"\",IFERROR(IF(X92=$AV$69-1,$AU$67,VLOOKUP(MATCH(TRUE,INDEX($AX$20:$AX$67=\"Changement\"&X93,0),0),$AS$20:$AU$67,2,0)),\"\"))","v":1},",","0.0",",",{"$nulls":5},{"$f":"IF(X92=\"\",\"\",VLOOKUP(MATCH(TRUE,INDEX($AX$20:$AX$67=\"Changement\"&X92,0),0),$A$20:$N$67,4,0))","v":0},0,0,0,"0.0"]
[5.5,"05:30:00",0,{"$nulls":20},"",null,"",{"$f":"IF(X93=\"\",\"\",IFERROR(IF(X93=$AV$69-1,$AU$67,VLOOKUP(MATCH(TRUE,INDEX($AX$20:$AX$67=\"Changement\"&X94,0),0),$AS$20:$AU$67,2,0)),\"\"))","v":""},"","","",{"$nulls":5},{"$f":"IF(X93=\"\",\"\",VLOOKUP(MATCH(TRUE,INDEX($AX$20:$AX$67=\"Changement\"&X93,0),0),$A$20:$N$67,4,0))","v":""},"","","",""]
[6,"06:00:00",0,{"$nulls":20},"",null,"",{"$f":"IF(X94=\"\",\"\",IFERROR(IF(X94=$AV$69-1,$AU$67,VLOOKUP(MATCH(TRUE,INDEX($AX$20:$AX$67=\"Changement\"&X95,0),0),$AS$20:$AU$67,2,0)),\"\"))","v":""},"","","",{"$nulls":5},{"$f":"IF(X94=\"\",\"\",VLOOKUP(MATCH(TRUE,INDEX($AX$20:$AX$67=\"Changement\"&X94,0),0),$A$20:$N$67,4,0))","v":""},"","","",""]
[6,"06:00:00",0,{"$nulls":20},"",null,"",{"$f":"IF(X95=\"\",\"\",IFERROR(IF(X95=$AV$69-1,$AU$67,VLOOKUP(MATCH(TRUE,INDEX($AX$20:$AX$67=\"Changement\"&X96,0),0),$AS$20:$AU$67,2,0)),\"\"))","v":""},"","","",{"$nulls":5},{"$f":"IF(X95=\"\",\"\",VLOOKUP(MATCH(TRUE,INDEX($AX$20:$AX$67=\"Changement\"&X95,0),0),$A$20:$N$67,4,0))","v":""},"","","",""]
[6.5,"06:30:00",0,{"$nulls":20},"",null,{"$f":"IF(X96=\"\",\"\",\"Until:\")","v":""},{"$f":"IF(X96=\"\",\"\",IFERROR(IF(X96=$AV$69-1,$AU$67,VLOOKUP(MATCH(TRUE,INDEX($AX$20:$AX$67=\"Changement\"&X97,0),0),$AS$20:$AU$67,2,0)),\"\"))","v":""},{"$f":"IF(X96=\"\",\"\",\",\")","v":""},"",{"$f":"IF(X96=\"\",\"\",\",\")","v":""},{"$nulls":5},{"$f":"IF(X96=\"\",\"\",VLOOKUP(MATCH(TRUE,INDEX($AX$20:$AX$67=\"Changement\"&X96,0),0),$A$20:$N$67,4,0))","v":""},"","","",""]
[6.5,"06:30:00",0,{"$nulls":20},"",null,"",{"$f":"IF(X97=\"\",\"\",IFERROR(IF(X97=$AV$69-1,$AU$67,VLOOKUP(MATCH(TRUE,INDEX($AX$20:$AX$67=\"Changement\"&#REF!,0),0),$AS$20:$AU$67,2,0)),\"\"))","v":""},"","","",{"$nulls":5},{"$f":"IF(X97=\"\",\"\",VLOOKUP(MATCH(TRUE,INDEX($AX$20:$AX$67=\"Changement\"&X97,0),0),$A$20:$N$67,4,0))","v":""},"","","",""]
[7,"07:00:00",0,{"$nulls":20},"",null,"",{"$f":"IF(X98=\"\",\"\",IFERROR(IF(X98=$AV$69-1,$AU$67,VLOOKUP(MATCH(TRUE,INDEX($AX$20:$AX$67=\"Changement\"&#REF!,0),0),$AS$20:$AU$67,2,0)),\"\"))","v":""},"","","",{"$nulls":5},{"$f":"IF(X98=\"\",\"\",VLOOKUP(MATCH(TRUE,INDEX($AX$20:$AX$67=\"Changement\"&X98,0),0),$A$20:$N$67,4,0))","v":""},"","","",""]
[7,"07:00:00",0,{"$nulls":22},"For: ","Weekends,",{"$nulls":9},"","","",""]
[7.5,"07:30:00",0,{"$nulls":22},"Until:",1,",",0,",",{"$nulls":6},"","","",""]
[7.5,"07:30:00",0,{"$nulls":22},"For: ","Holidays,"]
[8,"08:00:00",0,{"$nulls":22},"Until:",1,",",0,","]
[8,"08:00:00",1,{"$nulls":22},"For: ","WinterDesignDay",null," AllOtherDays,"]
[8.5,"08:30:00",{"$f":"IF($B104=$B103,VLOOKUP($B104,$B$20:$N$67,8,FALSE),C103)","v":1},{"$nulls":22},"Until:",1,",",0,";"]
[8.5,"08:30:00",1]
[9,"09:00:00",1]
[9,"09:00:00",1]
[9.5,"09:30:00",1,{"$nulls":22},{"$f":"F9","v":{"v":20,"d":"20.0"}},{"$f":"F10","v":{"v":18,"d":"18.0"}},"°C"]
[9.5,"09:30:00",1,{"$nulls":22},"Scénario température chauffage"]
[10,"10:00:00",1,{"$nulls":22},"(A copier dans DB)"]
[10,"10:00:00",1,{"$nulls":22},"Schedule:Compact,"]
[10.5,"10:30:00",1,{"$nulls":22},{"$f":"$B$6&\"_chauffage\"","v":"01 _ test 1_chauffage"},","]
[10.5,"10:30:00",1,{"$nulls":22},"Temperature,"]
[11,"11:00:00",1,{"$nulls":22},"Through: ","31 Dec,"]
[11,"11:00:00",1,{"$nulls":22},"For: ","Weekdays",null," SummerDesignDay",","]
[11.5,"11:30:00",1,{"$nulls":22},"Until:",{"$f":"IF($E$3=\"non\",C1-$F$12,C3-$F$12)","v":0.2916666666666666},",","0.5",","]
[11.5,"11:30:00",1,{"$nulls":22},"Until:",{"$f":"IF($E$3=\"non\",C2,C4)","v":0.7500000000000002},",",1,","]
[12,"12:00:00",1,{"$nulls":22},"Until:",1,",","0.5",","]
[12,"12:00:00",0,{"$nulls":22},"For: ","Weekends,"]
[12.5,"12:30:00",0,{"$nulls":22},"Until:",1,",","0.5",","]
[12.5,"12:30:00",0,{"$nulls":22},"For: ","Holidays,"]
[13,"13:00:00",0,{"$nulls":22},"Until:",1,",","0.5",","]
[13,"13:00:00",0,{"$nulls":22},"For: ","WinterDesignDay,"]
[13.5,"13:30:00",0,{"$nulls":22},"Until:",1,",",1,","]
[13.5,"13:30:00",0,{"$nulls":22},"For: ","AllOtherDays,"]
[14,"14:00:00",0,{"$nulls":22},"Until:",1,",",0,";"]
[14,"14:00:00",1]
[14.5,"14:30:00",1,{"$nulls":22},{"$f":"G9","v":{"v":0,"d":"0.0"}},{"$f":"G10","v":{"v":0,"d":"0.0"}},"°C"]
[14.5,"14:30:00",1,{"$nulls":22},"Scénario température climatisation"]
[15,"15:00:00",1,{"$nulls":22},"(A copier dans DB)"]
[15,"15:00:00",1,{"$nulls":22},"Schedule:Compact,"]
[15.5,"15:30:00",1,{"$nulls":22},{"$f":"$B$6&\"_climatisation\"","v":"01 _ test 1_climatisation"},","]
[15.5,"15:30:00",1,{"$nulls":22},"Temperature,"]
[16,"16:00:00",1,{"$nulls":22},"Through: ","31 Dec,"]
[16,"16:00:00",1,{"$nulls":22},"For: ","Weekdays",null," SummerDesignDay",","]
[16.5,"16:30:00",{"$f":"IF($B136=$B135,VLOOKUP($B136,$B$20:$N$67,8,FALSE),C135)","v":1},{"$nulls":22},"Until:",{"$f":"IF($E$3=\"non\",C1,C3)","v":0.33333333333333326},",","0.5",","]
[16.5,"16:30:00",1,{"$nulls":22},"Until:",{"$f":"IF($E$3=\"non\",C2,C4)","v":0.7500000000000002},",",1,","]
[17,"17:00:00",1,{"$nulls":22},"Until:",1,",","0.5",","]
[{"$f":"A137+0.5","v":17},"17:00:00",1,{"$nulls":22},"For: ","Weekends,"]
[17.5,"17:30:00",1,{"$nulls":22},"Until:",1,",",0,","]
[17.5,"17:30:00",1,{"$nulls":22},"For: ","Holidays,"]
[18,"18:00:00",1,{"$nulls":22},"Until:",1,",",0,","]
[18,"18:00:00",0,{"$nulls":22},"For: ","WinterDesignDay",null," AllOtherDays,"]
[18.5,"18:30:00",0,{"$nulls":22},"Until:",1,",",0,";"]
[18.5,"18:30:00",0]
[19,"19:00:00",0]
[19,"19:00:00",0]
[19.5,"19:30:00",0]
[19.5,"19:30:00",0,{"$nulls":22},{"$f":"H9","v":{"v":25,"d":"25.0"}},{"$f":"H10","v":"[m3/h.pers]"}]
[20,"20:00:00",0,{"$nulls":22},"Scénario ventilation"]
[20,"20:00:00",0,{"$nulls":22},{"$f":"$Z$27","v":"(A copier dans DB. Attention effacer les lignes vides sinon DB plante)"}]
[20.5,"20:30:00",0,{"$nulls":22},"Schedule:Compact,"]
[20.5,"20:30:00",0,{"$nulls":22},{"$f":"$B$6&\"_ventilation\"","v":"01 _ test 1_ventilation"},","]
[21,"21:00:00",0,{"$nulls":22},"Fraction,"]
[21,"21:00:00",0,{"$nulls":22},"Through: ","31 Dec,"]
[21.5,"21:30:00",0,{"$nulls":22},"For: ","Weekdays",null," SummerDesignDay",",",{"$nulls":5},"Tanscrire les virgules en point"]
[21.5,"21:30:00",0,{"$nulls":20},{"$f":"IFERROR(IF(X156+1<=$AY$69-1,X156+1,\"\"),\"\")","v":1},null,{"$f":"IF(X157=\"\",\"\",\"Until:\")","v":"Until:"},{"$f":"IF(X157=\"\",\"\",IFERROR(IF(X157=$AY$69-1,$AU$67,VLOOKUP(MATCH(TRUE,INDEX($BA$20:$BA$67=\"Changement\"&X158,0),0),$AS$20:$AU$67,2,0)),\"\"))","v":0.29166666666666663},{"$f":"IF(X157=\"\",\"\",\",\")","v":","},{"$f":"AN157","v":"0.0"},{"$f":"IF(X157=\"\",\"\",\",\")","v":","},{"$nulls":5},{"$f":"IF(X157=\"\",\"\",VLOOKUP(MATCH(TRUE,INDEX($BA$20:$BA$67=\"Changement\"&X157,0),0),$A$20:$N$67,5,0))","v":0},{"$f":"IF(AJ157=\"\",\"\",TRUNC(AJ157,0))","v":0},{"$f":"IF(AJ157=\"\",\"\",TRUNC((AJ157-AK157)*10,0))","v":0},{"$f":"IF(AJ157=\"\",\"\",IF(AJ157=AK157+AL157/10,0,TRUNC((AJ157*1-AL157)*100,0)))","v":0},{"$f":"IF(AJ157=\"\",\"\",TRUNC(AJ157,0)&\".\"&ROUND(AJ157-TRUNC(AJ157,0),2)*100)","v":"0.0"}]
[22,"22:00:00",0,{"$nulls":20},2,null,"Until:",{"$f":"IF(X158=\"\",\"\",IFERROR(IF(X158=$AY$69-1,$AU$67,VLOOKUP(MATCH(TRUE,INDEX($BA$20:$BA$67=\"Changement\"&X159,0),0),$AS$20:$AU$67,2,0)),\"\"))","v":0.791666666666667},",",{"$f":"AN158","v":"1.0"},",",{"$nulls":5},{"$f":"IF(X158=\"\",\"\",VLOOKUP(MATCH(TRUE,INDEX($BA$20:$BA$67=\"Changement\"&X158,0),0),$A$20:$N$67,5,0))","v":1},{"$f":"IF(AJ158=\"\",\"\",TRUNC(AJ158,0))","v":1},{"$f":"IF(AJ158=\"\",\"\",TRUNC((AJ158-AK158)*10,0))","v":0},{"$f":"IF(AJ158=\"\",\"\",IF(AJ158=AK158+AL158/10,0,TRUNC((AJ158*1-AL158)*100,0)))","v":0},{"$f":"IF(AJ158=\"\",\"\",TRUNC(AJ158,0)&\".\"&ROUND(AJ158-TRUNC(AJ158,0),2)*100)","v":"1.0"}]
[22,"22:00:00",0,{"$nulls":20},3,null,"Until:",{"$f":"IF(X159=\"\",\"\",IFERROR(IF(X159=$AY$69-1,$AU$67,VLOOKUP(MATCH(TRUE,INDEX($BA$20:$BA$67=\"Changement\"&X160,0),0),$AS$20:$AU$67,2,0)),\"\"))","v":1},",","0.0",",",{"$nulls":5},{"$f":"IF(X159=\"\",\"\",VLOOKUP(MATCH(TRUE,INDEX($BA$20:$BA$67=\"Changement\"&X159,0),0),$A$20:$N$67,5,0))","v":0},0,0,0,"0.0"]
[22.5,"22:30:00",0,{"$nulls":20},"",null,"",{"$f":"IF(X160=\"\",\"\",IFERROR(IF(X160=$AY$69-1,$AU$67,VLOOKUP(MATCH(TRUE,INDEX($BA$20:$BA$67=\"Changement\"&X161,0),0),$AS$20:$AU$67,2,0)),\"\"))","v":""},"","","",{"$nulls":5},{"$f":"IF(X160=\"\",\"\",VLOOKUP(MATCH(TRUE,INDEX($BA$20:$BA$67=\"Changement\"&X160,0),0),$A$20:$N$67,5,0))","v":""},"","","",""]
[22.5,"22:30:00",0,{"$nulls":20},"",null,"",{"$f":"IF(X161=\"\",\"\",IFERROR(IF(X161=$AY$69-1,$AU$67,VLOOKUP(MATCH(TRUE,INDEX($BA$20:$BA$67=\"Changement\"&X162,0),0),$AS$20:$AU$67,2,0)),\"\"))","v":""},"","","",{"$nulls":5},{"$f":"IF(X161=\"\",\"\",VLOOKUP(MATCH(TRUE,INDEX($BA$20:$BA$67=\"Changement\"&X161,0),0),$A$20:$N$67,5,0))","v":""},"","","",""]
[23,"23:00:00",0,{"$nulls":20},"",null,"",{"$f":"IF(X162=\"\",\"\",IFERROR(IF(X162=$AY$69-1,$AU$67,VLOOKUP(MATCH(TRUE,INDEX($BA$20:$BA$67=\"Changement\"&X163,0),0),$AS$20:$AU$67,2,0)),\"\"))","v":""},"","","",{"$nulls":5},{"$f":"IF(X162=\"\",\"\",VLOOKUP(MATCH(TRUE,INDEX($BA$20:$BA$67=\"Changement\"&X162,0),0),$A$20:$N$67,5,0))","v":""},"","","",""]
[23,"23:00:00",0,{"$nulls":20},"",null,"",{"$f":"IF(X163=\"\",\"\",IFERROR(IF(X163=$AY$69-1,$AU$67,VLOOKUP(MATCH(TRUE,INDEX($BA$20:$BA$67=\"Changement\"&X164,0),0),$AS$20:$AU$67,2,0)),\"\"))","v":""},"","","",{"$nulls":5},{"$f":"IF(X163=\"\",\"\",VLOOKUP(MATCH(TRUE,INDEX($BA$20:$BA$67=\"Changement\"&X163,0),0),$A$20:$N$67,5,0))","v":""},"","","",""]
[23.5,"23:30:00",0,{"$nulls":20},"",null,"",{"$f":"IF(X164=\"\",\"\",IFERROR(IF(X164=$AY$69-1,$AU$67,VLOOKUP(MATCH(TRUE,INDEX($BA$20:$BA$67=\"Changement\"&X165,0),0),$AS$20:$AU$67,2,0)),\"\"))","v":""},"","","",{"$nulls":5},{"$f":"IF(X164=\"\",\"\",VLOOKUP(MATCH(TRUE,INDEX($BA$20:$BA$67=\"Changement\"&X164,0),0),$A$20:$N$67,5,0))","v":""},"","","",""]
[23.5,"23:30:00",0,{"$nulls":20},"",null,"",{"$f":"IF(X165=\"\",\"\",IFERROR(IF(X165=$AY$69-1,$AU$67,VLOOKUP(MATCH(TRUE,INDEX($BA$20:$BA$67=\"Changement\"&X166,0),0),$AS$20:$AU$67,2,0)),\"\"))","v":""},"","","",{"$nulls":5},{"$f":"IF(X165=\"\",\"\",VLOOKUP(MATCH(TRUE,INDEX($BA$20:$BA$67=\"Changement\"&X165,0),0),$A$20:$N$67,5,0))","v":""},"","","",""]
[24,1.0000000000000007,0,{"$nulls":20},"",null,"",{"$f":"IF(X166=\"\",\"\",IFERROR(IF(X166=$AY$69-1,$AU$67,VLOOKUP(MATCH(TRUE,INDEX($BA$20:$BA$67=\"Changement\"&X167,0),0),$AS$20:$AU$67,2,0)),\"\"))","v":""},"","","",{"$nulls":5},{"$f":"IF(X166=\"\",\"\",VLOOKUP(MATCH(TRUE,INDEX($BA$20:$BA$67=\"Changement\"&X166,0),0),$A$20:$N$67,5,0))","v":""},"","","",""]
[{"$nulls":23},"",null,"",{"$f":"IF(X167=\"\",\"\",IFERROR(IF(X167=$AY$69-1,$AU$67,VLOOKUP(MATCH(TRUE,INDEX($BA$20:$BA$67=\"Changement\"&X168,0),0),$AS$20:$AU$67,2,0)),\"\"))","v":""},"","","",{"$nulls":5},{"$f":"IF(X167=\"\",\"\",VLOOKUP(MATCH(TRUE,INDEX($BA$20:$BA$67=\"Changement\"&X167,0),0),$A$20:$N$67,5,0))","v":""},"","","",""]
[{"$nulls":25},"For: ","Weekends,",{"$nulls":9},"","","",""]
[{"$nulls":25},"Until:",1,",",0,",",{"$nulls":6},"","","",""]
[{"$nulls":25},"For: ","Holidays,"]
[{"$nulls":25},"Until:",1,",",0,","]
[{"$nulls":25},"For: ","WinterDesignDay",null," AllOtherDays,"]
[{"$nulls":25},"Until:",1,",",0,";"]

{"sheet":"2","index":2,"n_rows":173,"n_cols":53,"rows_kept":173,"merged":[[3,3,3,4],[5,1,5,10],[6,1,6,2],[6,3,6,4],[7,1,7,2],[7,3,7,4],[8,1,14,2],[8,3,8,4],[10,3,11,4],[18,24,19,31],[21,24,21,31],[22,17,22,20],[22,24,22,31],[24,17,24,18],[25,25,25,29],[26,17,26,18],[26,20,27,20],[26,25,26,29],[31,17,31,18],[31,35,31,39],[33,19,35,20],[36,17,57,20],[52,25,52,29],[53,25,53,29],[58,35,58,39],[80,25,80,29],[81,25,81,29],[86,35,86,39],[108,25,108,29],[109,25,109,29],[128,25,128,29],[129,25,129,29],[149,25,149,29],[150,25,150,29],[155,35,155,39]]}
["à exporter","Heure de début :",{"$f":"IF($F$4=\"non\",VLOOKUP($D$7,Données!$B$527:$E$532,3,0),$H$4)","v":"08:00:00"}]
[null,"Heure de fin :",{"$f":"IF($F$4=\"non\",VLOOKUP($D$7,Données!$B$527:$E$532,4,0),$I$4)","v":"18:00:00"}]
[null,"Début pause",{"$f":"IF($F$4=\"non\",VLOOKUP($D$7,Données!$B$527:$L$532,6,0),$K$4)","v":"12:00:00"},"Uniq. en pause",{"$f":"_xlfn.IFS($D$7=Données!$B$527,HLOOKUP($D$11,Données!$C$8:$Y$57,2,0),$D$7=Données!$B$528,HLOOKUP($D$11,Données!$C$62:$Y$110,2,0),$D$7=Données!$B$529,HLOOKUP($D$11,Données!$C$115:$Y$164,2,0),$D$7=Données!$B$530,HLOOKUP($D$11,Données!$C$169:$Y$218,2,0),$D$7=Données!$B$531,HLOOKUP($D$11,Données!$C$224:$Y$273,2,0),$D$7=Données!$B$532,HLOOKUP($D$11,Données!$C$280:$Y$329,2,0))","v":"non"},null,null,"Ouverture :","Fermeture :","Durée de la Pause :","Début de la pause :","Fin pause","Pause ?"]
[null,"Fin pause",{"$f":"IF($F$4=\"non\",VLOOKUP($D$7,Données!$B$527:$L$532,7,0),$L$4)","v":"14:00:00.864"},"Horaire spécifique :",null,"non",{"$nulls":5},{"$f":"J4+K4+0.0001","v":"00:00:08.640"},{"$f":"IF(K4=L4,\"non\",\"oui\")","v":"oui"}]
[]
[null,{"$f":"Typologie!B15&\" _ \"&Typologie!C15","v":"02 _ test 2"}]
[null,"Usage :",null,{"$f":"Typologie!D15","v":"Tertiaire"},null,"Tchauff","Tclim","Vent. Méca","Occupation","Eclairage","Apport humains","Equipements","Apports internes","Apports internes 2"]
[null,"Surface moyenne :",null,{"$f":"Typologie!G15","v":120},null,{"$f":"Typologie!V15","v":"oui"},{"$f":"Typologie!AA15","v":"non"},{"$f":"Typologie!AE15","v":"oui"},{"$nulls":3},{"$f":"Typologie!Q15","v":"Ratio surfacique"}]
[null,"Valeurs importées de la feuille typologie en fonction de sa ligne affectée",null,"Profil d'occupation",null,{"$f":"Typologie!X15","v":20},{"$f":"Typologie!AB15","v":0},{"$f":"IF(H10=\"[vol/h]\",ROUND(Typologie!AH15,2),ROUND(Typologie!AH15,0))","v":25},{"$f":"Typologie!H15","v":{"v":60,"d":"60.00"}},{"$f":"Typologie!M15","v":6},{"$f":"Typologie!L15","v":108},{"$f":"_xlfn.IFS(Typologie!Q15=Données!G574,Typologie!R15,Typologie!Q15=Données!G575,Typologie!BF15,Typologie!Q15=\"\",0)","v":{"v":10,"d":"10.00"}},{"$f":"_xlfn.IFS(Typologie!Q15=Données!G574,Typologie!T15,Typologie!Q15=Données!G575,0,Typologie!Q15=\"\",0)","v":0}]
[{"$nulls":5},{"$f":"Typologie!Y15","v":18},{"$f":"Typologie!AC15","v":0},{"$f":"\"[\"&MID(Typologie!AI15,1,15)&\"]\"","v":"[m3/h.pers]"},{"$f":"Typologie!J15","v":"pers"},"W/m²","W/m²","W/m²","W/m²","W/m²"]
[{"$nulls":3},{"$f":"Typologie!E15","v":"Salle de conférence"},null,"Préchauffage",null,"Vnat :","Fois :","Régulation :","Activité","Veille","Veille","Veille"]
[{"$nulls":5},{"$f":"Typologie!W15","v":"00:30:00"},null,{"$f":"Typologie!AJ15","v":"non"},{"$f":"IF(OR(Typologie!I15=\"\",Typologie!I15=\"non\"),1,Typologie!I15)","v":1},{"$f":"Typologie!N15","v":"Pas de gestion"},{"$f":"Typologie!K15","v":"Assis"},{"$f":"_xlfn.IFS(Typologie!Q15=Données!G574,Typologie!S15,Typologie!Q15=Données!G575,Typologie!BG15,Typologie!Q15=\"\",0)","v":{"v":0.03,"d":"3%"}},{"$f":"_xlfn.IFS(Typologie!Q15=Données!G574,Typologie!U15,Typologie!Q15=Données!G575,0,Typologie!Q15=\"\",0)","v":{"v":0,"d":"0%"}}]
[{"$nulls":5},"Emetteur","Emetteur","Régulation :",null,{"$f":"Typologie!O15","v":"Par gestion manuelle"},null,"Foisonnement en fonction de l'occup 1=non 0 =oui"]
[{"$nulls":3},"Commentaires",null,{"$f":"Typologie!Z15","v":"Panneau rayonnant"},{"$f":"Typologie!AD15","v":0},{"$f":"Typologie!AG15","v":"Planning on/off"},null,"Niveau",null,{"$f":"IFERROR(_xlfn.IFS(L15=Données!$B$557,1,L15=Données!B558,0),\"particulier\")","v":1}]
[{"$nulls":3},{"$f":"Typologie!BI15","v":""},{"$nulls":3},{"$f":"Typologie!AF15","v":"VMC Double Flux"},null,{"$f":"Typologie!P15","v":300},null,{"$f":"Typologie!F15","v":"Constant suivant occupation"}]
[{"$nulls":9},"Lux"]
[]
[{"$nulls":3},"Profil d'occupation","Profil ventilation","Tchauff","Tclim","Vent. Méca","Occupation","Eclairage","Apport humains","Equip","Apports internes","Apports internes 2","Profil d'apports"]
[{"$nulls":3},"/","/","[°C]","[°C]",{"$f":"IF(D11=\"Sanitaires\",\"[m3/h]\",IF(OR(H10=\"[m3/h.pers]\",H10=\"[m3/h.local]\"),\"[m3/h]\",IF(H10=\"[Vol/h]\",\"[Vol/h]\",\"erreur\")))","v":"[m3/h]"},{"$f":"\"[\"&I10&\"]\"","v":"[pers]"},"[W/m²]","[W/m²]","[W/m²]","[W/m²]","[W/m²]","/",{"$nulls":9},"Partie Design builder",{"$nulls":22},"Profil d'occupation",0,"Tri","Profil de ventilation",0,"Tri"]
[1,"00:00:00","00:30:00",{"$f":"IF($I$12=\"non\",1,$I$12)*IF($F$4=\"oui\",IF(OR($B20<$H$4,$C20>$I$4,AND($B20>=$K$4,$C20<=$L$4)),0,1),_xlfn.IFS($D$7=Données!$B$527,HLOOKUP($D$11,Données!$C$8:$Y$57,A20+2,0),$D$7=Données!$B$528,HLOOKUP($D$11,Données!$C$62:$Y$111,A20+2,0),$D$7=Données!$B$529,HLOOKUP($D$11,Données!$C$115:$Y$164,A20+2,0),$D$7=Données!$B$530,HLOOKUP($D$11,Données!$C$169:$Y$218,A20+2,0),$D$7=Données!$B$531,HLOOKUP($D$11,Données!$C$224:$Y$273,A20+2,0),$D$7=Données!$B$532,HLOOKUP($D$11,Données!$C$280:$Y$329,A20+2,0)))","v":0},{"$f":"_xlfn.IFS($H$14=Données!$E$536,1,$H$14=Données!$E$537,IF(D20=0,Données!$F$537,D20),$H$14=Données!$E$538,IF(D20=0,Données!$F$538,D20),$H$14=Données!$E$539,IF(AND(B20>=$C$1-Données!$G$539,C20<=$C$2+Données!$G$539),1,0),$H$14=Données!$E$540,_xlfn.IFS(AND(D20=0,OR(B20<$C$1-Données!$G$540,C20>$C$2+Données!$G$540)),D20,AND(D20=0,B20>=$C$1-Données!$G$540,C20<=$C$2+Données!$G$540),Données!$F$540,D20<>0,D20))","v":0},{"$f":"IF($F$8=\"non\",NA(),IF(AND($D$7=\"Logement\",$D20>0),$F$9,IF(AND(B20>=$C$1-$F$12,C20<=$C$2),$F$9,$F$10)))","v":18},{"$f":"IF($G$8=\"non\",NA(),IF(AND($D$7=\"Logement\",$D20>0),$G$9,IF(AND(B20>=$C$1,C20<=$C$2),$G$9,$G$10)))","v":{"$error":"#N/A"}},{"$f":"IF($H$8=\"oui\",_xlfn.IFS($D$11=\"Sanitaires\",(30+(15*$H$9))*E20,$H$10=\"[m3/h.local]\",$H$9*E20,AND($H$19=\"[m3/h]\",$I$19=\"[pers/m²]\"),$I$9*$D$8*$H$9*E20,AND($H$19=\"[m3/h]\",($I$19=\"[pers]\")),$I$9*$H$9*E20,$H$19=\"[Vol/h]\",$H$9*E20),0)","v":{"v":0,"d":"0.0"}},{"$f":"D20*$I$9","v":0},{"$f":"IF(D20=0,0,$J$9)","v":0},{"$f":"IF($I$19=\"[pers]\",I20*$K$9/$D$8,IF($I$19=\"[pers/m²]\",I20*$K$9,\"erreur\"))","v":0},{"$f":"IF($L$14=\"particulier\",_xlfn.IFS(O20=0,$L$12*$L$9,O20>0,$L$9*O20),_xlfn.IFS(AND($L$14=1,I20=0),$L$9*$L$12,AND($L$14=1,I20>0),$L$9,AND($L$14=0,I20=0),$L$9*$L$12,AND($L$14=0,I20>0),$L$9*I20/$I$9))","v":0.3},{"$f":"IF(I20=0,0,$M$9*I20/$I$9)","v":0},{"$f":"IF(I20=0,0,$N$9*I20/$I$9)","v":0},{"$f":"IFERROR(IF($F$4=\"oui\",IF(OR($B20<$H$4,$C20>$I$4,AND($B20>=$K$4,$C20<=$L$4)),0,1),_xlfn.IFS($D$7=Données!$B$527,HLOOKUP($L$15,Données!$C$8:$Y$57,A20+2,0),$D$7=Données!$B$528,HLOOKUP($L$15,Données!$C$62:$Y$111,A20+2,0),$D$7=Données!$B$529,HLOOKUP($L$15,Données!$C$115:$Y$164,A20+2,0),$D$7=Données!$B$530,HLOOKUP($L$15,Données!$C$169:$Y$218,A20+2,0),$D$7=Données!$B$531,HLOOKUP($L$15,Données!$C$224:$Y$273,A20+2,0),$D$7=Données!$B$532,HLOOKUP($L$15,Données!$C$280:$Y$329,A20+2,0))),\"\")","v":""},{"$nulls":29},1,"00:00:00","00:30:00",{"$f":"IF(OR(AS20=1,AS20=48),\"Changement\",IF(D20=D19,\"Pas de changement\",\"Changement\"))","v":"Changement"},{"$f":"IF(AV20=\"Changement\",AW19+1,AW19)","v":1},{"$f":"AV20&AW20","v":"Changement1"},{"$f":"IF(OR(AS20=1,AS20=48),\"Changement\",IF(H20=H19,\"Pas de changement\",\"Changement\"))","v":"Changement"},{"$f":"IF(AY20=\"Changement\",AZ19+1,AZ19)","v":1},{"$f":"AY20&AZ20","v":"Changement1"}]
[2,{"$f":"C20","v":"00:30:00"},{"$f":"C20+0.5/24","v":"01:00:00"},{"$f":"IF($I$12=\"non\",1,$I$12)*IF($F$4=\"oui\",IF(OR($B21<$H$4,$C21>$I$4,AND($B21>=$K$4,$C21<=$L$4)),0,1),_xlfn.IFS($D$7=Données!$B$527,HLOOKUP($D$11,Données!$C$8:$Y$57,A21+2,0),$D$7=Données!$B$528,HLOOKUP($D$11,Données!$C$62:$Y$111,A21+2,0),$D$7=Données!$B$529,HLOOKUP($D$11,Données!$C$115:$Y$164,A21+2,0),$D$7=Données!$B$530,HLOOKUP($D$11,Données!$C$169:$Y$218,A21+2,0),$D$7=Données!$B$531,HLOOKUP($D$11,Données!$C$224:$Y$273,A21+2,0),$D$7=Données!$B$532,HLOOKUP($D$11,Données!$C$280:$Y$329,A21+2,0)))","v":0},{"$f":"_xlfn.IFS($H$14=Données!$E$536,1,$H$14=Données!$E$537,IF(D21=0,Données!$F$537,D21),$H$14=Données!$E$538,IF(D21=0,Données!$F$538,D21),$H$14=Données!$E$539,IF(AND(B21>=$C$1-Données!$G$539,C21<=$C$2+Données!$G$539),1,0),$H$14=Données!$E$540,_xlfn.IFS(AND(D21=0,OR(B21<$C$1-Données!$G$540,C21>$C$2+Données!$G$540)),D21,AND(D21=0,B21>=$C$1-Données!$G$540,C21<=$C$2+Données!$G$540),Données!$F$540,D21<>0,D21))","v":0},{"$f":"IF($F$8=\"non\",NA(),IF(AND($D$7=\"Logement\",$D21>0),$F$9,IF(AND(B21>=$C$1-$F$12,C21<=$C$2),$F$9,$F$10)))","v":18},{"$f":"IF($G$8=\"non\",NA(),IF(AND($D$7=\"Logement\",$D21>0),$G$9,IF(AND(B21>=$C$1,C21<=$C$2),$G$9,$G$10)))","v":{"$error":"#N/A"}},{"$f":"IF($H$8=\"oui\",_xlfn.IFS($D$11=\"Sanitaires\",(30+(15*$H$9))*E21,$H$10=\"[m3/h.local]\",$H$9*E21,AND($H$19=\"[m3/h]\",$I$19=\"[pers/m²]\"),$I$9*$D$8*$H$9*E21,AND($H$19=\"[m3/h]\",($I$19=\"[pers]\")),$I$9*$H$9*E21,$H$19=\"[Vol/h]\",$H$9*E21),0)","v":{"v":0,"d":"0.0"}},0,0,0,{"$f":"IF($L$14=\"particulier\",_xlfn.IFS(O21=0,$L$12*$L$9,O21>0,$L$9*O21),_xlfn.IFS(AND($L$14=1,I21=0),$L$9*$L$12,AND($L$14=1,I21>0),$L$9,AND($L$14=0,I21=0),$L$9*$L$12,AND($L$14=0,I21>0),$L$9*I21/$I$9))","v":0.3},0,0,{"$f":"IFERROR(IF($F$4=\"oui\",IF(OR($B21<$H$4,$C21>$I$4,AND($B21>=$K$4,$C21<=$L$4)),0,1),_xlfn.IFS($D$7=Données!$B$527,HLOOKUP($L$15,Données!$C$8:$Y$57,A21+2,0),$D$7=Données!$B$528,HLOOKUP($L$15,Données!$C$62:$Y$111,A21+2,0),$D$7=Données!$B$529,HLOOKUP($L$15,Données!$C$115:$Y$164,A21+2,0),$D$7=Données!$B$530,HLOOKUP($L$15,Données!$C$169:$Y$218,A21+2,0),$D$7=Données!$B$531,HLOOKUP($L$15,Données!$C$224:$Y$273,A21+2,0),$D$7=Données!$B$532,HLOOKUP($L$15,Données!$C$280:$Y$329,A21+2,0))),\"\")","v":""},{"$nulls":29},2,{"$f":"AU20","v":"00:30:00"},{"$f":"AU20+0.5/24","v":"01:00:00"},{"$f":"IF(OR(AS21=1,AS21=48),\"Changement\",IF(D21=D20,\"Pas de changement\",\"Changement\"))","v":"Pas de changement"},{"$f":"IF(AV21=\"Changement\",AW20+1,AW20)","v":1},{"$f":"AV21&AW21","v":"Pas de changement1"},"Pas de changement",{"$f":"IF(AY21=\"Changement\",AZ20+1,AZ20)","v":1},{"$f":"AY21&AZ21","v":"Pas de changement1"}]
[3,{"$f":"C21","v":"01:00:00"},{"$f":"C21+0.5/24","v":"01:30:00"},{"$f":"IF($I$12=\"non\",1,$I$12)*IF($F$4=\"oui\",IF(OR($B22<$H$4,$C22>$I$4,AND($B22>=$K$4,$C22<=$L$4)),0,1),_xlfn.IFS($D$7=Données!$B$527,HLOOKUP($D$11,Données!$C$8:$Y$57,A22+2,0),$D$7=Données!$B$528,HLOOKUP($D$11,Données!$C$62:$Y$111,A22+2,0),$D$7=Données!$B$529,HLOOKUP($D$11,Données!$C$115:$Y$164,A22+2,0),$D$7=Données!$B$530,HLOOKUP($D$11,Données!$C$169:$Y$218,A22+2,0),$D$7=Données!$B$531,HLOOKUP($D$11,Données!$C$224:$Y$273,A22+2,0),$D$7=Données!$B$532,HLOOKUP($D$11,Données!$C$280:$Y$329,A22+2,0)))","v":0},{"$f":"_xlfn.IFS($H$14=Données!$E$536,1,$H$14=Données!$E$537,IF(D22=0,Données!$F$537,D22),$H$14=Données!$E$538,IF(D22=0,Données!$F$538,D22),$H$14=Données!$E$539,IF(AND(B22>=$C$1-Données!$G$539,C22<=$C$2+Données!$G$539),1,0),$H$14=Données!$E$540,_xlfn.IFS(AND(D22=0,OR(B22<$C$1-Données!$G$540,C22>$C$2+Données!$G$540)),D22,AND(D22=0,B22>=$C$1-Données!$G$540,C22<=$C$2+Données!$G$540),Données!$F$540,D22<>0,D22))","v":0},18,{"$error":"#N/A"},{"$f":"IF($H$8=\"oui\",_xlfn.IFS($D$11=\"Sanitaires\",(30+(15*$H$9))*E22,$H$10=\"[m3/h.local]\",$H$9*E22,AND($H$19=\"[m3/h]\",$I$19=\"[pers/m²]\"),$I$9*$D$8*$H$9*E22,AND($H$19=\"[m3/h]\",($I$19=\"[pers]\")),$I$9*$H$9*E22,$H$19=\"[Vol/h]\",$H$9*E22),0)","v":{"v":0,"d":"0.0"}},0,0,0,{"$f":"IF($L$14=\"particulier\",_xlfn.IFS(O22=0,$L$12*$L$9,O22>0,$L$9*O22),_xlfn.IFS(AND($L$14=1,I22=0),$L$9*$L$12,AND($L$14=1,I22>0),$L$9,AND($L$14=0,I22=0),$L$9*$L$12,AND($L$14=0,I22>0),$L$9*I22/$I$9))","v":0.3},0,0,{"$f":"IFERROR(IF($F$4=\"oui\",IF(OR($B22<$H$4,$C22>$I$4,AND($B22>=$K$4,$C22<=$L$4)),0,1),_xlfn.IFS($D$7=Données!$B$527,HLOOKUP($L$15,Données!$C$8:$Y$57,A22+2,0),$D$7=Données!$B$528,HLOOKUP($L$15,Données!$C$62:$Y$111,A22+2,0),$D$7=Données!$B$529,HLOOKUP($L$15,Données!$C$115:$Y$164,A22+2,0),$D$7=Données!$B$530,HLOOKUP($L$15,Données!$C$169:$Y$218,A22+2,0),$D$7=Données!$B$531,HLOOKUP($L$15,Données!$C$224:$Y$273,A22+2,0),$D$7=Données!$B$532,HLOOKUP($L$15,Données!$C$280:$Y$329,A22+2,0))),\"\")","v":""},{"$nulls":9},{"$f":"B6","v":"02 _ test 2"},{"$nulls":19},3,{"$f":"AU21","v":"01:00:00"},{"$f":"AU21+0.5/24","v":"01:30:00"},{"$f":"IF(AS22=48,\"Changement\",IF(D22=D21,\"Pas de changement\",\"Changement\"))","v":"Pas de changement"},{"$f":"IF(AV22=\"Changement\",AW21+1,AW21)","v":1},"Pas de changement1","Pas de changement",{"$f":"IF(AY22=\"Changement\",AZ21+1,AZ21)","v":1},"Pas de changement1"]
[4,"01:30:00","02:00:00",{"$f":"IF($I$12=\"non\",1,$I$12)*IF($F$4=\"oui\",IF(OR($B23<$H$4,$C23>$I$4,AND($B23>=$K$4,$C23<=$L$4)),0,1),_xlfn.IFS($D$7=Données!$B$527,HLOOKUP($D$11,Données!$C$8:$Y$57,A23+2,0),$D$7=Données!$B$528,HLOOKUP($D$11,Données!$C$62:$Y$111,A23+2,0),$D$7=Données!$B$529,HLOOKUP($D$11,Données!$C$115:$Y$164,A23+2,0),$D$7=Données!$B$530,HLOOKUP($D$11,Données!$C$169:$Y$218,A23+2,0),$D$7=Données!$B$531,HLOOKUP($D$11,Données!$C$224:$Y$273,A23+2,0),$D$7=Données!$B$532,HLOOKUP($D$11,Données!$C$280:$Y$329,A23+2,0)))","v":0},{"$f":"_xlfn.IFS($H$14=Données!$E$536,1,$H$14=Données!$E$537,IF(D23=0,Données!$F$537,D23),$H$14=Données!$E$538,IF(D23=0,Données!$F$538,D23),$H$14=Données!$E$539,IF(AND(B23>=$C$1-Données!$G$539,C23<=$C$2+Données!$G$539),1,0),$H$14=Données!$E$540,_xlfn.IFS(AND(D23=0,OR(B23<$C$1-Données!$G$540,C23>$C$2+Données!$G$540)),D23,AND(D23=0,B23>=$C$1-Données!$G$540,C23<=$C$2+Données!$G$540),Données!$F$540,D23<>0,D23))","v":0},18,{"$error":"#N/A"},{"$f":"IF($H$8=\"oui\",_xlfn.IFS($D$11=\"Sanitaires\",(30+(15*$H$9))*E23,$H$10=\"[m3/h.local]\",$H$9*E23,AND($H$19=\"[m3/h]\",$I$19=\"[pers/m²]\"),$I$9*$D$8*$H$9*E23,AND($H$19=\"[m3/h]\",($I$19=\"[pers]\")),$I$9*$H$9*E23,$H$19=\"[Vol/h]\",$H$9*E23),0)","v":{"v":0,"d":"0.0"}},0,0,0,{"$f":"IF($L$14=\"particulier\",_xlfn.IFS(O23=0,$L$12*$L$9,O23>0,$L$9*O23),_xlfn.IFS(AND($L$14=1,I23=0),$L$9*$L$12,AND($L$14=1,I23>0),$L$9,AND($L$14=0,I23=0),$L$9*$L$12,AND($L$14=0,I23>0),$L$9*I23/$I$9))","v":0.3},0,0,{"$f":"IFERROR(IF($F$4=\"oui\",IF(OR($B23<$H$4,$C23>$I$4,AND($B23>=$K$4,$C23<=$L$4)),0,1),_xlfn.IFS($D$7=Données!$B$527,HLOOKUP($L$15,Données!$C$8:$Y$57,A23+2,0),$D$7=Données!$B$528,HLOOKUP($L$15,Données!$C$62:$Y$111,A23+2,0),$D$7=Données!$B$529,HLOOKUP($L$15,Données!$C$115:$Y$164,A23+2,0),$D$7=Données!$B$530,HLOOKUP($L$15,Données!$C$169:$Y$218,A23+2,0),$D$7=Données!$B$531,HLOOKUP($L$15,Données!$C$224:$Y$273,A23+2,0),$D$7=Données!$B$532,HLOOKUP($L$15,Données!$C$280:$Y$329,A23+2,0))),\"\")","v":""},null,null,{"$f":"B6","v":"02 _ test 2"},{"$nulls":6},"Attention DB n'accepte les décimales qu'avec des points !!!!!!",{"$nulls":19},4,"01:30:00","02:00:00","Pas de changement",1,"Pas de changement1","Pas de changement",1,"Pas de changement1"]
[5,"02:00:00","02:30:00",{"$f":"IF($I$12=\"non\",1,$I$12)*IF($F$4=\"oui\",IF(OR($B24<$H$4,$C24>$I$4,AND($B24>=$K$4,$C24<=$L$4)),0,1),_xlfn.IFS($D$7=Données!$B$527,HLOOKUP($D$11,Données!$C$8:$Y$57,A24+2,0),$D$7=Données!$B$528,HLOOKUP($D$11,Données!$C$62:$Y$111,A24+2,0),$D$7=Données!$B$529,HLOOKUP($D$11,Données!$C$115:$Y$164,A24+2,0),$D$7=Données!$B$530,HLOOKUP($D$11,Données!$C$169:$Y$218,A24+2,0),$D$7=Données!$B$531,HLOOKUP($D$11,Données!$C$224:$Y$273,A24+2,0),$D$7=Données!$B$532,HLOOKUP($D$11,Données!$C$280:$Y$329,A24+2,0)))","v":0},{"$f":"_xlfn.IFS($H$14=Données!$E$536,1,$H$14=Données!$E$537,IF(D24=0,Données!$F$537,D24),$H$14=Données!$E$538,IF(D24=0,Données!$F$538,D24),$H$14=Données!$E$539,IF(AND(B24>=$C$1-Données!$G$539,C24<=$C$2+Données!$G$539),1,0),$H$14=Données!$E$540,_xlfn.IFS(AND(D24=0,OR(B24<$C$1-Données!$G$540,C24>$C$2+Données!$G$540)),D24,AND(D24=0,B24>=$C$1-Données!$G$540,C24<=$C$2+Données!$G$540),Données!$F$540,D24<>0,D24))","v":0},18,{"$error":"#N/A"},{"$f":"IF($H$8=\"oui\",_xlfn.IFS($D$11=\"Sanitaires\",(30+(15*$H$9))*E24,$H$10=\"[m3/h.local]\",$H$9*E24,AND($H$19=\"[m3/h]\",$I$19=\"[pers/m²]\"),$I$9*$D$8*$H$9*E24,AND($H$19=\"[m3/h]\",($I$19=\"[pers]\")),$I$9*$H$9*E24,$H$19=\"[Vol/h]\",$H$9*E24),0)","v":{"v":0,"d":"0.0"}},0,0,0,{"$f":"IF($L$14=\"particulier\",_xlfn.IFS(O24=0,$L$12*$L$9,O24>0,$L$9*O24),_xlfn.IFS(AND($L$14=1,I24=0),$L$9*$L$12,AND($L$14=1,I24>0),$L$9,AND($L$14=0,I24=0),$L$9*$L$12,AND($L$14=0,I24>0),$L$9*I24/$I$9))","v":0.3},0,0,{"$f":"IFERROR(IF($F$4=\"oui\",IF(OR($B24<$H$4,$C24>$I$4,AND($B24>=$K$4,$C24<=$L$4)),0,1),_xlfn.IFS($D$7=Données!$B$527,HLOOKUP($L$15,Données!$C$8:$Y$57,A24+2,0),$D$7=Données!$B$528,HLOOKUP($L$15,Données!$C$62:$Y$111,A24+2,0),$D$7=Données!$B$529,HLOOKUP($L$15,Données!$C$115:$Y$164,A24+2,0),$D$7=Données!$B$530,HLOOKUP($L$15,Données!$C$169:$Y$218,A24+2,0),$D$7=Données!$B$531,HLOOKUP($L$15,Données!$C$224:$Y$273,A24+2,0),$D$7=Données!$B$532,HLOOKUP($L$15,Données!$C$280:$Y$329,A24+2,0))),\"\")","v":""},null,null,"Conditionnement :",null,"Occupation :",{"$nulls":24},5,"02:00:00","02:30:00","Pas de changement",1,"Pas de changement1","Pas de changement",1,"Pas de changement1"]
[6,"02:30:00","03:00:00",{"$f":"IF($I$12=\"non\",1,$I$12)*IF($F$4=\"oui\",IF(OR($B25<$H$4,$C25>$I$4,AND($B25>=$K$4,$C25<=$L$4)),0,1),_xlfn.IFS($D$7=Données!$B$527,HLOOKUP($D$11,Données!$C$8:$Y$57,A25+2,0),$D$7=Données!$B$528,HLOOKUP($D$11,Données!$C$62:$Y$111,A25+2,0),$D$7=Données!$B$529,HLOOKUP($D$11,Données!$C$115:$Y$164,A25+2,0),$D$7=Données!$B$530,HLOOKUP($D$11,Données!$C$169:$Y$218,A25+2,0),$D$7=Données!$B$531,HLOOKUP($D$11,Données!$C$224:$Y$273,A25+2,0),$D$7=Données!$B$532,HLOOKUP($D$11,Données!$C$280:$Y$329,A25+2,0)))","v":0},{"$f":"_xlfn.IFS($H$14=Données!$E$536,1,$H$14=Données!$E$537,IF(D25=0,Données!$F$537,D25),$H$14=Données!$E$538,IF(D25=0,Données!$F$538,D25),$H$14=Données!$E$539,IF(AND(B25>=$C$1-Données!$G$539,C25<=$C$2+Données!$G$539),1,0),$H$14=Données!$E$540,_xlfn.IFS(AND(D25=0,OR(B25<$C$1-Données!$G$540,C25>$C$2+Données!$G$540)),D25,AND(D25=0,B25>=$C$1-Données!$G$540,C25<=$C$2+Données!$G$540),Données!$F$540,D25<>0,D25))","v":0},18,{"$error":"#N/A"},{"$f":"IF($H$8=\"oui\",_xlfn.IFS($D$11=\"Sanitaires\",(30+(15*$H$9))*E25,$H$10=\"[m3/h.local]\",$H$9*E25,AND($H$19=\"[m3/h]\",$I$19=\"[pers/m²]\"),$I$9*$D$8*$H$9*E25,AND($H$19=\"[m3/h]\",($I$19=\"[pers]\")),$I$9*$H$9*E25,$H$19=\"[Vol/h]\",$H$9*E25),0)","v":{"v":0,"d":"0.0"}},0,0,0,{"$f":"IF($L$14=\"particulier\",_xlfn.IFS(O25=0,$L$12*$L$9,O25>0,$L$9*O25),_xlfn.IFS(AND($L$14=1,I25=0),$L$9*$L$12,AND($L$14=1,I25>0),$L$9,AND($L$14=0,I25=0),$L$9*$L$12,AND($L$14=0,I25>0),$L$9*I25/$I$9))","v":0.3},0,0,{"$f":"IFERROR(IF($F$4=\"oui\",IF(OR($B25<$H$4,$C25>$I$4,AND($B25>=$K$4,$C25<=$L$4)),0,1),_xlfn.IFS($D$7=Données!$B$527,HLOOKUP($L$15,Données!$C$8:$Y$57,A25+2,0),$D$7=Données!$B$528,HLOOKUP($L$15,Données!$C$62:$Y$111,A25+2,0),$D$7=Données!$B$529,HLOOKUP($L$15,Données!$C$115:$Y$164,A25+2,0),$D$7=Données!$B$530,HLOOKUP($L$15,Données!$C$169:$Y$218,A25+2,0),$D$7=Données!$B$531,HLOOKUP($L$15,Données!$C$224:$Y$273,A25+2,0),$D$7=Données!$B$532,HLOOKUP($L$15,Données!$C$280:$Y$329,A25+2,0))),\"\")","v":""},null,null,{"$f":"IF(F8=\"oui\",\"Chauffage par \"&F14,\"Zone non chauffée\")","v":"Chauffage par Panneau rayonnant"},null,"Planning d'usage :",{"$f":"D11","v":"Salle de conférence"},{"$nulls":4},{"$f":"I9","v":{"v":60,"d":"60.000"}},{"$f":"I10","v":"pers"},{"$nulls":17},6,"02:30:00","03:00:00","Pas de changement",1,"Pas de changement1","Pas de changement",1,"Pas de changement1"]
[7,"03:00:00","03:30:00",{"$f":"IF($I$12=\"non\",1,$I$12)*IF($F$4=\"oui\",IF(OR($B26<$H$4,$C26>$I$4,AND($B26>=$K$4,$C26<=$L$4)),0,1),_xlfn.IFS($D$7=Données!$B$527,HLOOKUP($D$11,Données!$C$8:$Y$57,A26+2,0),$D$7=Données!$B$528,HLOOKUP($D$11,Données!$C$62:$Y$111,A26+2,0),$D$7=Données!$B$529,HLOOKUP($D$11,Données!$C$115:$Y$164,A26+2,0),$D$7=Données!$B$530,HLOOKUP($D$11,Données!$C$169:$Y$218,A26+2,0),$D$7=Données!$B$531,HLOOKUP($D$11,Données!$C$224:$Y$273,A26+2,0),$D$7=Données!$B$532,HLOOKUP($D$11,Données!$C$280:$Y$329,A26+2,0)))","v":0},{"$f":"_xlfn.IFS($H$14=Données!$E$536,1,$H$14=Données!$E$537,IF(D26=0,Données!$F$537,D26),$H$14=Données!$E$538,IF(D26=0,Données!$F$538,D26),$H$14=Données!$E$539,IF(AND(B26>=$C$1-Données!$G$539,C26<=$C$2+Données!$G$539),1,0),$H$14=Données!$E$540,_xlfn.IFS(AND(D26=0,OR(B26<$C$1-Données!$G$540,C26>$C$2+Données!$G$540)),D26,AND(D26=0,B26>=$C$1-Données!$G$540,C26<=$C$2+Données!$G$540),Données!$F$540,D26<>0,D26))","v":0},18,{"$error":"#N/A"},{"$f":"IF($H$8=\"oui\",_xlfn.IFS($D$11=\"Sanitaires\",(30+(15*$H$9))*E26,$H$10=\"[m3/h.local]\",$H$9*E26,AND($H$19=\"[m3/h]\",$I$19=\"[pers/m²]\"),$I$9*$D$8*$H$9*E26,AND($H$19=\"[m3/h]\",($I$19=\"[pers]\")),$I$9*$H$9*E26,$H$19=\"[Vol/h]\",$H$9*E26),0)","v":{"v":0,"d":"0.0"}},0,0,0,{"$f":"IF($L$14=\"particulier\",_xlfn.IFS(O26=0,$L$12*$L$9,O26>0,$L$9*O26),_xlfn.IFS(AND($L$14=1,I26=0),$L$9*$L$12,AND($L$14=1,I26>0),$L$9,AND($L$14=0,I26=0),$L$9*$L$12,AND($L$14=0,I26>0),$L$9*I26/$I$9))","v":0.3},0,0,{"$f":"IFERROR(IF($F$4=\"oui\",IF(OR($B26<$H$4,$C26>$I$4,AND($B26>=$K$4,$C26<=$L$4)),0,1),_xlfn.IFS($D$7=Données!$B$527,HLOOKUP($L$15,Données!$C$8:$Y$57,A26+2,0),$D$7=Données!$B$528,HLOOKUP($L$15,Données!$C$62:$Y$111,A26+2,0),$D$7=Données!$B$529,HLOOKUP($L$15,Données!$C$115:$Y$164,A26+2,0),$D$7=Données!$B$530,HLOOKUP($L$15,Données!$C$169:$Y$218,A26+2,0),$D$7=Données!$B$531,HLOOKUP($L$15,Données!$C$224:$Y$273,A26+2,0),$D$7=Données!$B$532,HLOOKUP($L$15,Données!$C$280:$Y$329,A26+2,0))),\"\")","v":""},null,null,{"$f":"IF(F8=\"oui\",\"Consigne/Réduit :\",\"\")","v":"Consigne/Réduit :"},{"$f":"IF(F8=\"oui\",F9&\" / \"&F10&\" °C\",\"\")","v":"20 / 18 °C"},{"$f":"IF(OR(I9=\"\",I9=0),\"\",\"Effectif :\")","v":"Effectif :"},{"$f":"IF(OR(I9=\"\",I9=0),\"\",IF(I10=\"pers\",ROUND(I9,0)&\" \"&I10,ROUND(I9,3)&\" \"&I10))","v":"60 pers"},{"$nulls":4},"Scénario Occupation ",{"$nulls":18},7,"03:00:00","03:30:00","Pas de changement",1,"Pas de changement1","Pas de changement",1,"Pas de changement1"]
[8,"03:30:00","04:00:00",{"$f":"IF($I$12=\"non\",1,$I$12)*IF($F$4=\"oui\",IF(OR($B27<$H$4,$C27>$I$4,AND($B27>=$K$4,$C27<=$L$4)),0,1),_xlfn.IFS($D$7=Données!$B$527,HLOOKUP($D$11,Données!$C$8:$Y$57,A27+2,0),$D$7=Données!$B$528,HLOOKUP($D$11,Données!$C$62:$Y$111,A27+2,0),$D$7=Données!$B$529,HLOOKUP($D$11,Données!$C$115:$Y$164,A27+2,0),$D$7=Données!$B$530,HLOOKUP($D$11,Données!$C$169:$Y$218,A27+2,0),$D$7=Données!$B$531,HLOOKUP($D$11,Données!$C$224:$Y$273,A27+2,0),$D$7=Données!$B$532,HLOOKUP($D$11,Données!$C$280:$Y$329,A27+2,0)))","v":0},{"$f":"_xlfn.IFS($H$14=Données!$E$536,1,$H$14=Données!$E$537,IF(D27=0,Données!$F$537,D27),$H$14=Données!$E$538,IF(D27=0,Données!$F$538,D27),$H$14=Données!$E$539,IF(AND(B27>=$C$1-Données!$G$539,C27<=$C$2+Données!$G$539),1,0),$H$14=Données!$E$540,_xlfn.IFS(AND(D27=0,OR(B27<$C$1-Données!$G$540,C27>$C$2+Données!$G$540)),D27,AND(D27=0,B27>=$C$1-Données!$G$540,C27<=$C$2+Données!$G$540),Données!$F$540,D27<>0,D27))","v":0},18,{"$error":"#N/A"},{"$f":"IF($H$8=\"oui\",_xlfn.IFS($D$11=\"Sanitaires\",(30+(15*$H$9))*E27,$H$10=\"[m3/h.local]\",$H$9*E27,AND($H$19=\"[m3/h]\",$I$19=\"[pers/m²]\"),$I$9*$D$8*$H$9*E27,AND($H$19=\"[m3/h]\",($I$19=\"[pers]\")),$I$9*$H$9*E27,$H$19=\"[Vol/h]\",$H$9*E27),0)","v":{"v":0,"d":"0.0"}},0,0,0,{"$f":"IF($L$14=\"particulier\",_xlfn.IFS(O27=0,$L$12*$L$9,O27>0,$L$9*O27),_xlfn.IFS(AND($L$14=1,I27=0),$L$9*$L$12,AND($L$14=1,I27>0),$L$9,AND($L$14=0,I27=0),$L$9*$L$12,AND($L$14=0,I27>0),$L$9*I27/$I$9))","v":0.3},0,0,{"$f":"IFERROR(IF($F$4=\"oui\",IF(OR($B27<$H$4,$C27>$I$4,AND($B27>=$K$4,$C27<=$L$4)),0,1),_xlfn.IFS($D$7=Données!$B$527,HLOOKUP($L$15,Données!$C$8:$Y$57,A27+2,0),$D$7=Données!$B$528,HLOOKUP($L$15,Données!$C$62:$Y$111,A27+2,0),$D$7=Données!$B$529,HLOOKUP($L$15,Données!$C$115:$Y$164,A27+2,0),$D$7=Données!$B$530,HLOOKUP($L$15,Données!$C$169:$Y$218,A27+2,0),$D$7=Données!$B$531,HLOOKUP($L$15,Données!$C$224:$Y$273,A27+2,0),$D$7=Données!$B$532,HLOOKUP($L$15,Données!$C$280:$Y$329,A27+2,0))),\"\")","v":""},null,null,{"$f":"IF(G8=\"oui\",\"Rafraichissement par \"&G14,\"Zone non rafraichie\")","v":"Zone non rafraichie"},null,{"$f":"IF(OR(I9=\"\",I9=0),\"\",\"Métabolisme :\")","v":"Métabolisme :"},{"$f":"IF(OR(I9=\"\",I9=0),\"\",K12&\" (\"&K9&\" W/pers)\")","v":"Assis (108 W/pers)"},{"$nulls":4},"(A copier dans DB. Attention effacer les lignes vides sinon DB plante)",{"$nulls":18},8,"03:30:00","04:00:00","Pas de changement",1,"Pas de changement1","Pas de changement",1,"Pas de changement1"]
[9,"04:00:00","04:30:00",{"$f":"IF($I$12=\"non\",1,$I$12)*IF($F$4=\"oui\",IF(OR($B28<$H$4,$C28>$I$4,AND($B28>=$K$4,$C28<=$L$4)),0,1),_xlfn.IFS($D$7=Données!$B$527,HLOOKUP($D$11,Données!$C$8:$Y$57,A28+2,0),$D$7=Données!$B$528,HLOOKUP($D$11,Données!$C$62:$Y$111,A28+2,0),$D$7=Données!$B$529,HLOOKUP($D$11,Données!$C$115:$Y$164,A28+2,0),$D$7=Données!$B$530,HLOOKUP($D$11,Données!$C$169:$Y$218,A28+2,0),$D$7=Données!$B$531,HLOOKUP($D$11,Données!$C$224:$Y$273,A28+2,0),$D$7=Données!$B$532,HLOOKUP($D$11,Données!$C$280:$Y$329,A28+2,0)))","v":0},{"$f":"_xlfn.IFS($H$14=Données!$E$536,1,$H$14=Données!$E$537,IF(D28=0,Données!$F$537,D28),$H$14=Données!$E$538,IF(D28=0,Données!$F$538,D28),$H$14=Données!$E$539,IF(AND(B28>=$C$1-Données!$G$539,C28<=$C$2+Données!$G$539),1,0),$H$14=Données!$E$540,_xlfn.IFS(AND(D28=0,OR(B28<$C$1-Données!$G$540,C28>$C$2+Données!$G$540)),D28,AND(D28=0,B28>=$C$1-Données!$G$540,C28<=$C$2+Données!$G$540),Données!$F$540,D28<>0,D28))","v":0},18,{"$error":"#N/A"},{"$f":"IF($H$8=\"oui\",_xlfn.IFS($D$11=\"Sanitaires\",(30+(15*$H$9))*E28,$H$10=\"[m3/h.local]\",$H$9*E28,AND($H$19=\"[m3/h]\",$I$19=\"[pers/m²]\"),$I$9*$D$8*$H$9*E28,AND($H$19=\"[m3/h]\",($I$19=\"[pers]\")),$I$9*$H$9*E28,$H$19=\"[Vol/h]\",$H$9*E28),0)","v":{"v":0,"d":"0.0"}},0,0,0,{"$f":"IF($L$14=\"particulier\",_xlfn.IFS(O28=0,$L$12*$L$9,O28>0,$L$9*O28),_xlfn.IFS(AND($L$14=1,I28=0),$L$9*$L$12,AND($L$14=1,I28>0),$L$9,AND($L$14=0,I28=0),$L$9*$L$12,AND($L$14=0,I28>0),$L$9*I28/$I$9))","v":0.3},0,0,{"$f":"IFERROR(IF($F$4=\"oui\",IF(OR($B28<$H$4,$C28>$I$4,AND($B28>=$K$4,$C28<=$L$4)),0,1),_xlfn.IFS($D$7=Données!$B$527,HLOOKUP($L$15,Données!$C$8:$Y$57,A28+2,0),$D$7=Données!$B$528,HLOOKUP($L$15,Données!$C$62:$Y$111,A28+2,0),$D$7=Données!$B$529,HLOOKUP($L$15,Données!$C$115:$Y$164,A28+2,0),$D$7=Données!$B$530,HLOOKUP($L$15,Données!$C$169:$Y$218,A28+2,0),$D$7=Données!$B$531,HLOOKUP($L$15,Données!$C$224:$Y$273,A28+2,0),$D$7=Données!$B$532,HLOOKUP($L$15,Données!$C$280:$Y$329,A28+2,0))),\"\")","v":""},null,null,{"$f":"IF(G8=\"oui\",\"Consigne/Réduit :\",\"\")","v":""},{"$f":"IF(G8=\"oui\",G9&\" / \"&G10&\" °C\",\"\")","v":""},{"$nulls":6},"Schedule:Compact,",{"$nulls":18},9,"04:00:00","04:30:00","Pas de changement",1,"Pas de changement1","Pas de changement",1,"Pas de changement1"]
[10,"04:30:00","05:00:00",{"$f":"IF($I$12=\"non\",1,$I$12)*IF($F$4=\"oui\",IF(OR($B29<$H$4,$C29>$I$4,AND($B29>=$K$4,$C29<=$L$4)),0,1),_xlfn.IFS($D$7=Données!$B$527,HLOOKUP($D$11,Données!$C$8:$Y$57,A29+2,0),$D$7=Données!$B$528,HLOOKUP($D$11,Données!$C$62:$Y$111,A29+2,0),$D$7=Données!$B$529,HLOOKUP($D$11,Données!$C$115:$Y$164,A29+2,0),$D$7=Données!$B$530,HLOOKUP($D$11,Données!$C$169:$Y$218,A29+2,0),$D$7=Données!$B$531,HLOOKUP($D$11,Données!$C$224:$Y$273,A29+2,0),$D$7=Données!$B$532,HLOOKUP($D$11,Données!$C$280:$Y$329,A29+2,0)))","v":0},{"$f":"_xlfn.IFS($H$14=Données!$E$536,1,$H$14=Données!$E$537,IF(D29=0,Données!$F$537,D29),$H$14=Données!$E$538,IF(D29=0,Données!$F$538,D29),$H$14=Données!$E$539,IF(AND(B29>=$C$1-Données!$G$539,C29<=$C$2+Données!$G$539),1,0),$H$14=Données!$E$540,_xlfn.IFS(AND(D29=0,OR(B29<$C$1-Données!$G$540,C29>$C$2+Données!$G$540)),D29,AND(D29=0,B29>=$C$1-Données!$G$540,C29<=$C$2+Données!$G$540),Données!$F$540,D29<>0,D29))","v":0},18,{"$error":"#N/A"},{"$f":"IF($H$8=\"oui\",_xlfn.IFS($D$11=\"Sanitaires\",(30+(15*$H$9))*E29,$H$10=\"[m3/h.local]\",$H$9*E29,AND($H$19=\"[m3/h]\",$I$19=\"[pers/m²]\"),$I$9*$D$8*$H$9*E29,AND($H$19=\"[m3/h]\",($I$19=\"[pers]\")),$I$9*$H$9*E29,$H$19=\"[Vol/h]\",$H$9*E29),0)","v":{"v":0,"d":"0.0"}},0,0,0,{"$f":"IF($L$14=\"particulier\",_xlfn.IFS(O29=0,$L$12*$L$9,O29>0,$L$9*O29),_xlfn.IFS(AND($L$14=1,I29=0),$L$9*$L$12,AND($L$14=1,I29>0),$L$9,AND($L$14=0,I29=0),$L$9*$L$12,AND($L$14=0,I29>0),$L$9*I29/$I$9))","v":0.3},0,0,{"$f":"IFERROR(IF($F$4=\"oui\",IF(OR($B29<$H$4,$C29>$I$4,AND($B29>=$K$4,$C29<=$L$4)),0,1),_xlfn.IFS($D$7=Données!$B$527,HLOOKUP($L$15,Données!$C$8:$Y$57,A29+2,0),$D$7=Données!$B$528,HLOOKUP($L$15,Données!$C$62:$Y$111,A29+2,0),$D$7=Données!$B$529,HLOOKUP($L$15,Données!$C$115:$Y$164,A29+2,0),$D$7=Données!$B$530,HLOOKUP($L$15,Données!$C$169:$Y$218,A29+2,0),$D$7=Données!$B$531,HLOOKUP($L$15,Données!$C$224:$Y$273,A29+2,0),$D$7=Données!$B$532,HLOOKUP($L$15,Données!$C$280:$Y$329,A29+2,0))),\"\")","v":""},null,null,"Ventilation :",null,"Apports internes :",{"$nulls":5},{"$f":"$B$6&\"_occupation\"","v":"02 _ test 2_occupation"},",",{"$nulls":17},10,"04:30:00","05:00:00","Pas de changement",1,"Pas de changement1","Pas de changement",1,"Pas de changement1"]
[11,"05:00:00","05:30:00",{"$f":"IF($I$12=\"non\",1,$I$12)*IF($F$4=\"oui\",IF(OR($B30<$H$4,$C30>$I$4,AND($B30>=$K$4,$C30<=$L$4)),0,1),_xlfn.IFS($D$7=Données!$B$527,HLOOKUP($D$11,Données!$C$8:$Y$57,A30+2,0),$D$7=Données!$B$528,HLOOKUP($D$11,Données!$C$62:$Y$111,A30+2,0),$D$7=Données!$B$529,HLOOKUP($D$11,Données!$C$115:$Y$164,A30+2,0),$D$7=Données!$B$530,HLOOKUP($D$11,Données!$C$169:$Y$218,A30+2,0),$D$7=Données!$B$531,HLOOKUP($D$11,Données!$C$224:$Y$273,A30+2,0),$D$7=Données!$B$532,HLOOKUP($D$11,Données!$C$280:$Y$329,A30+2,0)))","v":0},{"$f":"_xlfn.IFS($H$14=Données!$E$536,1,$H$14=Données!$E$537,IF(D30=0,Données!$F$537,D30),$H$14=Données!$E$538,IF(D30=0,Données!$F$538,D30),$H$14=Données!$E$539,IF(AND(B30>=$C$1-Données!$G$539,C30<=$C$2+Données!$G$539),1,0),$H$14=Données!$E$540,_xlfn.IFS(AND(D30=0,OR(B30<$C$1-Données!$G$540,C30>$C$2+Données!$G$540)),D30,AND(D30=0,B30>=$C$1-Données!$G$540,C30<=$C$2+Données!$G$540),Données!$F$540,D30<>0,D30))","v":0},18,{"$error":"#N/A"},{"$f":"IF($H$8=\"oui\",_xlfn.IFS($D$11=\"Sanitaires\",(30+(15*$H$9))*E30,$H$10=\"[m3/h.local]\",$H$9*E30,AND($H$19=\"[m3/h]\",$I$19=\"[pers/m²]\"),$I$9*$D$8*$H$9*E30,AND($H$19=\"[m3/h]\",($I$19=\"[pers]\")),$I$9*$H$9*E30,$H$19=\"[Vol/h]\",$H$9*E30),0)","v":{"v":0,"d":"0.0"}},0,0,0,{"$f":"IF($L$14=\"particulier\",_xlfn.IFS(O30=0,$L$12*$L$9,O30>0,$L$9*O30),_xlfn.IFS(AND($L$14=1,I30=0),$L$9*$L$12,AND($L$14=1,I30>0),$L$9,AND($L$14=0,I30=0),$L$9*$L$12,AND($L$14=0,I30>0),$L$9*I30/$I$9))","v":0.3},0,0,{"$f":"IFERROR(IF($F$4=\"oui\",IF(OR($B30<$H$4,$C30>$I$4,AND($B30>=$K$4,$C30<=$L$4)),0,1),_xlfn.IFS($D$7=Données!$B$527,HLOOKUP($L$15,Données!$C$8:$Y$57,A30+2,0),$D$7=Données!$B$528,HLOOKUP($L$15,Données!$C$62:$Y$111,A30+2,0),$D$7=Données!$B$529,HLOOKUP($L$15,Données!$C$115:$Y$164,A30+2,0),$D$7=Données!$B$530,HLOOKUP($L$15,Données!$C$169:$Y$218,A30+2,0),$D$7=Données!$B$531,HLOOKUP($L$15,Données!$C$224:$Y$273,A30+2,0),$D$7=Données!$B$532,HLOOKUP($L$15,Données!$C$280:$Y$329,A30+2,0))),\"\")","v":""},null,null,{"$f":"IF(H8=\"oui\",H15,\"\")","v":"VMC Double Flux"},{"$f":"IF(H8=\"oui\",\"Sur \"&H14,\"\")","v":"Sur Planning on/off"},{"$f":"L7&\" :\"","v":"Equipements :"},{"$f":"IF(L12=0,ROUND(L9,2)&\" \"&L10,ROUND(L9,2)&\" \"&L10&\" (veille de \"&ROUND(L12,2)*100&\"%)\")","v":"10 W/m² (veille de 3%)"},{"$nulls":4},"Fraction,",{"$nulls":18},11,"05:00:00","05:30:00","Pas de changement",1,"Pas de changement1","Pas de changement",1,"Pas de changement1"]
[12,"05:30:00","06:00:00",{"$f":"IF($I$12=\"non\",1,$I$12)*IF($F$4=\"oui\",IF(OR($B31<$H$4,$C31>$I$4,AND($B31>=$K$4,$C31<=$L$4)),0,1),_xlfn.IFS($D$7=Données!$B$527,HLOOKUP($D$11,Données!$C$8:$Y$57,A31+2,0),$D$7=Données!$B$528,HLOOKUP($D$11,Données!$C$62:$Y$111,A31+2,0),$D$7=Données!$B$529,HLOOKUP($D$11,Données!$C$115:$Y$164,A31+2,0),$D$7=Données!$B$530,HLOOKUP($D$11,Données!$C$169:$Y$218,A31+2,0),$D$7=Données!$B$531,HLOOKUP($D$11,Données!$C$224:$Y$273,A31+2,0),$D$7=Données!$B$532,HLOOKUP($D$11,Données!$C$280:$Y$329,A31+2,0)))","v":0},{"$f":"_xlfn.IFS($H$14=Données!$E$536,1,$H$14=Données!$E$537,IF(D31=0,Données!$F$537,D31),$H$14=Données!$E$538,IF(D31=0,Données!$F$538,D31),$H$14=Données!$E$539,IF(AND(B31>=$C$1-Données!$G$539,C31<=$C$2+Données!$G$539),1,0),$H$14=Données!$E$540,_xlfn.IFS(AND(D31=0,OR(B31<$C$1-Données!$G$540,C31>$C$2+Données!$G$540)),D31,AND(D31=0,B31>=$C$1-Données!$G$540,C31<=$C$2+Données!$G$540),Données!$F$540,D31<>0,D31))","v":0},18,{"$error":"#N/A"},{"$f":"IF($H$8=\"oui\",_xlfn.IFS($D$11=\"Sanitaires\",(30+(15*$H$9))*E31,$H$10=\"[m3/h.local]\",$H$9*E31,AND($H$19=\"[m3/h]\",$I$19=\"[pers/m²]\"),$I$9*$D$8*$H$9*E31,AND($H$19=\"[m3/h]\",($I$19=\"[pers]\")),$I$9*$H$9*E31,$H$19=\"[Vol/h]\",$H$9*E31),0)","v":{"v":0,"d":"0.0"}},0,0,0,{"$f":"IF($L$14=\"particulier\",_xlfn.IFS(O31=0,$L$12*$L$9,O31>0,$L$9*O31),_xlfn.IFS(AND($L$14=1,I31=0),$L$9*$L$12,AND($L$14=1,I31>0),$L$9,AND($L$14=0,I31=0),$L$9*$L$12,AND($L$14=0,I31>0),$L$9*I31/$I$9))","v":0.3},0,0,{"$f":"IFERROR(IF($F$4=\"oui\",IF(OR($B31<$H$4,$C31>$I$4,AND($B31>=$K$4,$C31<=$L$4)),0,1),_xlfn.IFS($D$7=Données!$B$527,HLOOKUP($L$15,Données!$C$8:$Y$57,A31+2,0),$D$7=Données!$B$528,HLOOKUP($L$15,Données!$C$62:$Y$111,A31+2,0),$D$7=Données!$B$529,HLOOKUP($L$15,Données!$C$115:$Y$164,A31+2,0),$D$7=Données!$B$530,HLOOKUP($L$15,Données!$C$169:$Y$218,A31+2,0),$D$7=Données!$B$531,HLOOKUP($L$15,Données!$C$224:$Y$273,A31+2,0),$D$7=Données!$B$532,HLOOKUP($L$15,Données!$C$280:$Y$329,A31+2,0))),\"\")","v":""},null,null,{"$f":"IF(H8=\"oui\",\"Débit d'air neuf :\",\"\")","v":"Débit d'air neuf :"},{"$f":"IF(H8=\"oui\",H9&\" \"&H10,\"\")","v":"25 [m3/h.pers]"},{"$f":"IF(M9=0,\"\",M7&\" :\")","v":""},{"$f":"IF(M9=0,\"\",IF(M12=0,ROUND(M9,2)&\" \"&M10,ROUND(M9,2)&\" \"&M10&\" (veille de \"&M12*100&\"%)\"))","v":""},{"$nulls":4},"Through: ","31 Dec,",{"$nulls":17},12,"05:30:00","06:00:00","Pas de changement",1,"Pas de changement1","Pas de changement",1,"Pas de changement1"]
[13,"06:00:00","06:30:00",{"$f":"IF($I$12=\"non\",1,$I$12)*IF($F$4=\"oui\",IF(OR($B32<$H$4,$C32>$I$4,AND($B32>=$K$4,$C32<=$L$4)),0,1),_xlfn.IFS($D$7=Données!$B$527,HLOOKUP($D$11,Données!$C$8:$Y$57,A32+2,0),$D$7=Données!$B$528,HLOOKUP($D$11,Données!$C$62:$Y$111,A32+2,0),$D$7=Données!$B$529,HLOOKUP($D$11,Données!$C$115:$Y$164,A32+2,0),$D$7=Données!$B$530,HLOOKUP($D$11,Données!$C$169:$Y$218,A32+2,0),$D$7=Données!$B$531,HLOOKUP($D$11,Données!$C$224:$Y$273,A32+2,0),$D$7=Données!$B$532,HLOOKUP($D$11,Données!$C$280:$Y$329,A32+2,0)))","v":0},{"$f":"_xlfn.IFS($H$14=Données!$E$536,1,$H$14=Données!$E$537,IF(D32=0,Données!$F$537,D32),$H$14=Données!$E$538,IF(D32=0,Données!$F$538,D32),$H$14=Données!$E$539,IF(AND(B32>=$C$1-Données!$G$539,C32<=$C$2+Données!$G$539),1,0),$H$14=Données!$E$540,_xlfn.IFS(AND(D32=0,OR(B32<$C$1-Données!$G$540,C32>$C$2+Données!$G$540)),D32,AND(D32=0,B32>=$C$1-Données!$G$540,C32<=$C$2+Données!$G$540),Données!$F$540,D32<>0,D32))","v":0},18,{"$error":"#N/A"},{"$f":"IF($H$8=\"oui\",_xlfn.IFS($D$11=\"Sanitaires\",(30+(15*$H$9))*E32,$H$10=\"[m3/h.local]\",$H$9*E32,AND($H$19=\"[m3/h]\",$I$19=\"[pers/m²]\"),$I$9*$D$8*$H$9*E32,AND($H$19=\"[m3/h]\",($I$19=\"[pers]\")),$I$9*$H$9*E32,$H$19=\"[Vol/h]\",$H$9*E32),0)","v":{"v":0,"d":"0.0"}},0,0,0,{"$f":"IF($L$14=\"particulier\",_xlfn.IFS(O32=0,$L$12*$L$9,O32>0,$L$9*O32),_xlfn.IFS(AND($L$14=1,I32=0),$L$9*$L$12,AND($L$14=1,I32>0),$L$9,AND($L$14=0,I32=0),$L$9*$L$12,AND($L$14=0,I32>0),$L$9*I32/$I$9))","v":0.3},0,0,{"$f":"IFERROR(IF($F$4=\"oui\",IF(OR($B32<$H$4,$C32>$I$4,AND($B32>=$K$4,$C32<=$L$4)),0,1),_xlfn.IFS($D$7=Données!$B$527,HLOOKUP($L$15,Données!$C$8:$Y$57,A32+2,0),$D$7=Données!$B$528,HLOOKUP($L$15,Données!$C$62:$Y$111,A32+2,0),$D$7=Données!$B$529,HLOOKUP($L$15,Données!$C$115:$Y$164,A32+2,0),$D$7=Données!$B$530,HLOOKUP($L$15,Données!$C$169:$Y$218,A32+2,0),$D$7=Données!$B$531,HLOOKUP($L$15,Données!$C$224:$Y$273,A32+2,0),$D$7=Données!$B$532,HLOOKUP($L$15,Données!$C$280:$Y$329,A32+2,0))),\"\")","v":""},null,null,{"$f":"IF(H12=\"oui\",\"Présence d'une ventilation naturelle\",\"\")","v":""},null,{"$f":"IF(N9=\"\",\"\",N7&\" :\")","v":""},{"$f":"IF(T32=\"\",\"\",IF(N12=0,N9&\" \"&N10,N9&\" \"&N10&\" (veille de \"&N12*100&\"%)\"))","v":""},{"$nulls":4},"For: ","Weekdays",null," SummerDesignDay",",",{"$nulls":5},"Tanscrire les virgules en point",{"$nulls":8},13,"06:00:00","06:30:00","Pas de changement",1,"Pas de changement1","Pas de changement",1,"Pas de changement1"]
[14,"06:30:00","07:00:00",{"$f":"IF($I$12=\"non\",1,$I$12)*IF($F$4=\"oui\",IF(OR($B33<$H$4,$C33>$I$4,AND($B33>=$K$4,$C33<=$L$4)),0,1),_xlfn.IFS($D$7=Données!$B$527,HLOOKUP($D$11,Données!$C$8:$Y$57,A33+2,0),$D$7=Données!$B$528,HLOOKUP($D$11,Données!$C$62:$Y$111,A33+2,0),$D$7=Données!$B$529,HLOOKUP($D$11,Données!$C$115:$Y$164,A33+2,0),$D$7=Données!$B$530,HLOOKUP($D$11,Données!$C$169:$Y$218,A33+2,0),$D$7=Données!$B$531,HLOOKUP($D$11,Données!$C$224:$Y$273,A33+2,0),$D$7=Données!$B$532,HLOOKUP($D$11,Données!$C$280:$Y$329,A33+2,0)))","v":0},{"$f":"_xlfn.IFS($H$14=Données!$E$536,1,$H$14=Données!$E$537,IF(D33=0,Données!$F$537,D33),$H$14=Données!$E$538,IF(D33=0,Données!$F$538,D33),$H$14=Données!$E$539,IF(AND(B33>=$C$1-Données!$G$539,C33<=$C$2+Données!$G$539),1,0),$H$14=Données!$E$540,_xlfn.IFS(AND(D33=0,OR(B33<$C$1-Données!$G$540,C33>$C$2+Données!$G$540)),D33,AND(D33=0,B33>=$C$1-Données!$G$540,C33<=$C$2+Données!$G$540),Données!$F$540,D33<>0,D33))","v":0},18,{"$error":"#N/A"},{"$f":"IF($H$8=\"oui\",_xlfn.IFS($D$11=\"Sanitaires\",(30+(15*$H$9))*E33,$H$10=\"[m3/h.local]\",$H$9*E33,AND($H$19=\"[m3/h]\",$I$19=\"[pers/m²]\"),$I$9*$D$8*$H$9*E33,AND($H$19=\"[m3/h]\",($I$19=\"[pers]\")),$I$9*$H$9*E33,$H$19=\"[Vol/h]\",$H$9*E33),0)","v":{"v":0,"d":"0.0"}},0,0,0,{"$f":"IF($L$14=\"particulier\",_xlfn.IFS(O33=0,$L$12*$L$9,O33>0,$L$9*O33),_xlfn.IFS(AND($L$14=1,I33=0),$L$9*$L$12,AND($L$14=1,I33>0),$L$9,AND($L$14=0,I33=0),$L$9*$L$12,AND($L$14=0,I33>0),$L$9*I33/$I$9))","v":0.3},0,0,{"$f":"IFERROR(IF($F$4=\"oui\",IF(OR($B33<$H$4,$C33>$I$4,AND($B33>=$K$4,$C33<=$L$4)),0,1),_xlfn.IFS($D$7=Données!$B$527,HLOOKUP($L$15,Données!$C$8:$Y$57,A33+2,0),$D$7=Données!$B$528,HLOOKUP($L$15,Données!$C$62:$Y$111,A33+2,0),$D$7=Données!$B$529,HLOOKUP($L$15,Données!$C$115:$Y$164,A33+2,0),$D$7=Données!$B$530,HLOOKUP($L$15,Données!$C$169:$Y$218,A33+2,0),$D$7=Données!$B$531,HLOOKUP($L$15,Données!$C$224:$Y$273,A33+2,0),$D$7=Données!$B$532,HLOOKUP($L$15,Données!$C$280:$Y$329,A33+2,0))),\"\")","v":""},null,null,"Eclairage :",{"$f":"J12","v":"Pas de gestion"},"Commentaires :",{"$nulls":3},{"$f":"IFERROR(IF(X32+1<=$AV$69-1,X32+1,\"\"),\"\")","v":1},null,{"$f":"IF(X33=\"\",\"\",\"Until:\")","v":"Until:"},{"$f":"IF(X33=\"\",\"\",IFERROR(IF(X33=$AV$69-1,$AU$67,VLOOKUP(MATCH(TRUE,INDEX($AX$20:$AX$67=\"Changement\"&X34,0),0),$AS$20:$AU$67,2,0)),\"\"))","v":0.33333333333333326},{"$f":"IF(X33=\"\",\"\",\",\")","v":","},{"$f":"AN33","v":"0.0"},{"$f":"IF(X33=\"\",\"\",\",\")","v":","},{"$nulls":5},{"$f":"IF(X33=\"\",\"\",VLOOKUP(MATCH(TRUE,INDEX($AX$20:$AX$67=\"Changement\"&X33,0),0),$A$20:$N$67,4,0))","v":0},{"$f":"IF(AJ33=\"\",\"\",TRUNC(AJ33,0))","v":0},{"$f":"IF(AJ33=\"\",\"\",TRUNC((AJ33-AK33)*10,0))","v":0},{"$f":"IF(AJ33=\"\",\"\",IF(AJ33=0,0,AK33&\".\"&ROUND(AL33,0)))","v":0},{"$f":"IF(AJ33=\"\",\"\",TRUNC(AJ33,0)&\".\"&ROUND(AJ33-TRUNC(AJ33,0),2)*100)","v":"0.0"},{"$nulls":4},14,"06:30:00","07:00:00","Pas de changement",1,"Pas de changement1","Pas de changement",1,"Pas de changement1"]
[15,"07:00:00","07:30:00",{"$f":"IF($I$12=\"non\",1,$I$12)*IF($F$4=\"oui\",IF(OR($B34<$H$4,$C34>$I$4,AND($B34>=$K$4,$C34<=$L$4)),0,1),_xlfn.IFS($D$7=Données!$B$527,HLOOKUP($D$11,Données!$C$8:$Y$57,A34+2,0),$D$7=Données!$B$528,HLOOKUP($D$11,Données!$C$62:$Y$111,A34+2,0),$D$7=Données!$B$529,HLOOKUP($D$11,Données!$C$115:$Y$164,A34+2,0),$D$7=Données!$B$530,HLOOKUP($D$11,Données!$C$169:$Y$218,A34+2,0),$D$7=Données!$B$531,HLOOKUP($D$11,Données!$C$224:$Y$273,A34+2,0),$D$7=Données!$B$532,HLOOKUP($D$11,Données!$C$280:$Y$329,A34+2,0)))","v":0},{"$f":"_xlfn.IFS($H$14=Données!$E$536,1,$H$14=Données!$E$537,IF(D34=0,Données!$F$537,D34),$H$14=Données!$E$538,IF(D34=0,Données!$F$538,D34),$H$14=Données!$E$539,IF(AND(B34>=$C$1-Données!$G$539,C34<=$C$2+Données!$G$539),1,0),$H$14=Données!$E$540,_xlfn.IFS(AND(D34=0,OR(B34<$C$1-Données!$G$540,C34>$C$2+Données!$G$540)),D34,AND(D34=0,B34>=$C$1-Données!$G$540,C34<=$C$2+Données!$G$540),Données!$F$540,D34<>0,D34))","v":1},18,{"$error":"#N/A"},{"$f":"IF($H$8=\"oui\",_xlfn.IFS($D$11=\"Sanitaires\",(30+(15*$H$9))*E34,$H$10=\"[m3/h.local]\",$H$9*E34,AND($H$19=\"[m3/h]\",$I$19=\"[pers/m²]\"),$I$9*$D$8*$H$9*E34,AND($H$19=\"[m3/h]\",($I$19=\"[pers]\")),$I$9*$H$9*E34,$H$19=\"[Vol/h]\",$H$9*E34),0)","v":{"v":1500,"d":"1500.0"}},0,0,0,{"$f":"IF($L$14=\"particulier\",_xlfn.IFS(O34=0,$L$12*$L$9,O34>0,$L$9*O34),_xlfn.IFS(AND($L$14=1,I34=0),$L$9*$L$12,AND($L$14=1,I34>0),$L$9,AND($L$14=0,I34=0),$L$9*$L$12,AND($L$14=0,I34>0),$L$9*I34/$I$9))","v":0.3},0,0,{"$f":"IFERROR(IF($F$4=\"oui\",IF(OR($B34<$H$4,$C34>$I$4,AND($B34>=$K$4,$C34<=$L$4)),0,1),_xlfn.IFS($D$7=Données!$B$527,HLOOKUP($L$15,Données!$C$8:$Y$57,A34+2,0),$D$7=Données!$B$528,HLOOKUP($L$15,Données!$C$62:$Y$111,A34+2,0),$D$7=Données!$B$529,HLOOKUP($L$15,Données!$C$115:$Y$164,A34+2,0),$D$7=Données!$B$530,HLOOKUP($L$15,Données!$C$169:$Y$218,A34+2,0),$D$7=Données!$B$531,HLOOKUP($L$15,Données!$C$224:$Y$273,A34+2,0),$D$7=Données!$B$532,HLOOKUP($L$15,Données!$C$280:$Y$329,A34+2,0))),\"\")","v":""},null,null,{"$f":"\"Consigne : \"&J15&\" \"&J16","v":"Consigne : 300 Lux"},null,{"$f":"D15","v":""},{"$nulls":3},2,null,{"$f":"IF(X34=\"\",\"\",\"Until:\")","v":"Until:"},{"$f":"IF(X34=\"\",\"\",IFERROR(IF(X34=$AV$69-1,$AU$67,VLOOKUP(MATCH(TRUE,INDEX($AX$20:$AX$67=\"Changement\"&X35,0),0),$AS$20:$AU$67,2,0)),\"\"))","v":0.4999999999999998},{"$f":"IF(X34=\"\",\"\",\",\")","v":","},{"$f":"AN34","v":"1.0"},{"$f":"IF(X34=\"\",\"\",\",\")","v":","},{"$nulls":5},{"$f":"IF(X34=\"\",\"\",VLOOKUP(MATCH(TRUE,INDEX($AX$20:$AX$67=\"Changement\"&X34,0),0),$A$20:$N$67,4,0))","v":1},{"$f":"IF(AJ34=\"\",\"\",TRUNC(AJ34,0))","v":1},{"$f":"IF(AJ34=\"\",\"\",TRUNC((AJ34-AK34)*10,0))","v":0},{"$f":"IF(AJ34=\"\",\"\",IF(AJ34=AK34+AL34/10,0,TRUNC((AJ34*1-AL34)*100,0)))","v":0},"1.0",{"$nulls":4},15,"07:00:00","07:30:00","Pas de changement",1,"Pas de changement1","Changement",2,"Changement2"]
[16,"07:30:00","08:00:00",{"$f":"IF($I$12=\"non\",1,$I$12)*IF($F$4=\"oui\",IF(OR($B35<$H$4,$C35>$I$4,AND($B35>=$K$4,$C35<=$L$4)),0,1),_xlfn.IFS($D$7=Données!$B$527,HLOOKUP($D$11,Données!$C$8:$Y$57,A35+2,0),$D$7=Données!$B$528,HLOOKUP($D$11,Données!$C$62:$Y$111,A35+2,0),$D$7=Données!$B$529,HLOOKUP($D$11,Données!$C$115:$Y$164,A35+2,0),$D$7=Données!$B$530,HLOOKUP($D$11,Données!$C$169:$Y$218,A35+2,0),$D$7=Données!$B$531,HLOOKUP($D$11,Données!$C$224:$Y$273,A35+2,0),$D$7=Données!$B$532,HLOOKUP($D$11,Données!$C$280:$Y$329,A35+2,0)))","v":0},{"$f":"_xlfn.IFS($H$14=Données!$E$536,1,$H$14=Données!$E$537,IF(D35=0,Données!$F$537,D35),$H$14=Données!$E$538,IF(D35=0,Données!$F$538,D35),$H$14=Données!$E$539,IF(AND(B35>=$C$1-Données!$G$539,C35<=$C$2+Données!$G$539),1,0),$H$14=Données!$E$540,_xlfn.IFS(AND(D35=0,OR(B35<$C$1-Données!$G$540,C35>$C$2+Données!$G$540)),D35,AND(D35=0,B35>=$C$1-Données!$G$540,C35<=$C$2+Données!$G$540),Données!$F$540,D35<>0,D35))","v":1},20,{"$error":"#N/A"},{"$f":"IF($H$8=\"oui\",_xlfn.IFS($D$11=\"Sanitaires\",(30+(15*$H$9))*E35,$H$10=\"[m3/h.local]\",$H$9*E35,AND($H$19=\"[m3/h]\",$I$19=\"[pers/m²]\"),$I$9*$D$8*$H$9*E35,AND($H$19=\"[m3/h]\",($I$19=\"[pers]\")),$I$9*$H$9*E35,$H$19=\"[Vol/h]\",$H$9*E35),0)","v":{"v":1500,"d":"1500.0"}},0,0,0,{"$f":"IF($L$14=\"particulier\",_xlfn.IFS(O35=0,$L$12*$L$9,O35>0,$L$9*O35),_xlfn.IFS(AND($L$14=1,I35=0),$L$9*$L$12,AND($L$14=1,I35>0),$L$9,AND($L$14=0,I35=0),$L$9*$L$12,AND($L$14=0,I35>0),$L$9*I35/$I$9))","v":0.3},0,0,{"$f":"IFERROR(IF($F$4=\"oui\",IF(OR($B35<$H$4,$C35>$I$4,AND($B35>=$K$4,$C35<=$L$4)),0,1),_xlfn.IFS($D$7=Données!$B$527,HLOOKUP($L$15,Données!$C$8:$Y$57,A35+2,0),$D$7=Données!$B$528,HLOOKUP($L$15,Données!$C$62:$Y$111,A35+2,0),$D$7=Données!$B$529,HLOOKUP($L$15,Données!$C$115:$Y$164,A35+2,0),$D$7=Données!$B$530,HLOOKUP($L$15,Données!$C$169:$Y$218,A35+2,0),$D$7=Données!$B$531,HLOOKUP($L$15,Données!$C$224:$Y$273,A35+2,0),$D$7=Données!$B$532,HLOOKUP($L$15,Données!$C$280:$Y$329,A35+2,0))),\"\")","v":""},null,null,"Apport th. Nominal :",{"$f":"ROUND(J9,2)&\" \"&J10","v":"6 W/m²"},{"$nulls":4},3,null,"Until:",{"$f":"IF(X35=\"\",\"\",IFERROR(IF(X35=$AV$69-1,$AU$67,VLOOKUP(MATCH(TRUE,INDEX($AX$20:$AX$67=\"Changement\"&X36,0),0),$AS$20:$AU$67,2,0)),\"\"))","v":0.5833333333333333},",","0.0",",",{"$nulls":5},{"$f":"IF(X35=\"\",\"\",VLOOKUP(MATCH(TRUE,INDEX($AX$20:$AX$67=\"Changement\"&X35,0),0),$A$20:$N$67,4,0))","v":0},0,0,0,"0.0",{"$nulls":4},16,"07:30:00","08:00:00","Pas de changement",1,"Pas de changement1","Pas de changement",2,"Pas de changement2"]
[17,"08:00:00","08:30:00",{"$f":"IF($I$12=\"non\",1,$I$12)*IF($F$4=\"oui\",IF(OR($B36<$H$4,$C36>$I$4,AND($B36>=$K$4,$C36<=$L$4)),0,1),_xlfn.IFS($D$7=Données!$B$527,HLOOKUP($D$11,Données!$C$8:$Y$57,A36+2,0),$D$7=Données!$B$528,HLOOKUP($D$11,Données!$C$62:$Y$111,A36+2,0),$D$7=Données!$B$529,HLOOKUP($D$11,Données!$C$115:$Y$164,A36+2,0),$D$7=Données!$B$530,HLOOKUP($D$11,Données!$C$169:$Y$218,A36+2,0),$D$7=Données!$B$531,HLOOKUP($D$11,Données!$C$224:$Y$273,A36+2,0),$D$7=Données!$B$532,HLOOKUP($D$11,Données!$C$280:$Y$329,A36+2,0)))","v":1},{"$f":"_xlfn.IFS($H$14=Données!$E$536,1,$H$14=Données!$E$537,IF(D36=0,Données!$F$537,D36),$H$14=Données!$E$538,IF(D36=0,Données!$F$538,D36),$H$14=Données!$E$539,IF(AND(B36>=$C$1-Données!$G$539,C36<=$C$2+Données!$G$539),1,0),$H$14=Données!$E$540,_xlfn.IFS(AND(D36=0,OR(B36<$C$1-Données!$G$540,C36>$C$2+Données!$G$540)),D36,AND(D36=0,B36>=$C$1-Données!$G$540,C36<=$C$2+Données!$G$540),Données!$F$540,D36<>0,D36))","v":1},20,{"$error":"#N/A"},{"$f":"IF($H$8=\"oui\",_xlfn.IFS($D$11=\"Sanitaires\",(30+(15*$H$9))*E36,$H$10=\"[m3/h.local]\",$H$9*E36,AND($H$19=\"[m3/h]\",$I$19=\"[pers/m²]\"),$I$9*$D$8*$H$9*E36,AND($H$19=\"[m3/h]\",($I$19=\"[pers]\")),$I$9*$H$9*E36,$H$19=\"[Vol/h]\",$H$9*E36),0)","v":{"v":1500,"d":"1500.0"}},60,6,54,{"$f":"IF($L$14=\"particulier\",_xlfn.IFS(O36=0,$L$12*$L$9,O36>0,$L$9*O36),_xlfn.IFS(AND($L$14=1,I36=0),$L$9*$L$12,AND($L$14=1,I36>0),$L$9,AND($L$14=0,I36=0),$L$9*$L$12,AND($L$14=0,I36>0),$L$9*I36/$I$9))","v":10},0,0,{"$f":"IFERROR(IF($F$4=\"oui\",IF(OR($B36<$H$4,$C36>$I$4,AND($B36>=$K$4,$C36<=$L$4)),0,1),_xlfn.IFS($D$7=Données!$B$527,HLOOKUP($L$15,Données!$C$8:$Y$57,A36+2,0),$D$7=Données!$B$528,HLOOKUP($L$15,Données!$C$62:$Y$111,A36+2,0),$D$7=Données!$B$529,HLOOKUP($L$15,Données!$C$115:$Y$164,A36+2,0),$D$7=Données!$B$530,HLOOKUP($L$15,Données!$C$169:$Y$218,A36+2,0),$D$7=Données!$B$531,HLOOKUP($L$15,Données!$C$224:$Y$273,A36+2,0),$D$7=Données!$B$532,HLOOKUP($L$15,Données!$C$280:$Y$329,A36+2,0))),\"\")","v":""},null,null,"Gradation :",{"$f":"J13","v":"Par gestion manuelle"},{"$nulls":4},4,null,"Until:",{"$f":"IF(X36=\"\",\"\",IFERROR(IF(X36=$AV$69-1,$AU$67,VLOOKUP(MATCH(TRUE,INDEX($AX$20:$AX$67=\"Changement\"&X37,0),0),$AS$20:$AU$67,2,0)),\"\"))","v":0.7500000000000002},",","1.0",",",{"$nulls":5},{"$f":"IF(X36=\"\",\"\",VLOOKUP(MATCH(TRUE,INDEX($AX$20:$AX$67=\"Changement\"&X36,0),0),$A$20:$N$67,4,0))","v":1},1,0,0,"1.0",{"$nulls":4},17,"08:00:00","08:30:00","Changement",2,"Changement2","Pas de changement",2,"Pas de changement2"]
[18,"08:30:00","09:00:00",{"$f":"IF($I$12=\"non\",1,$I$12)*IF($F$4=\"oui\",IF(OR($B37<$H$4,$C37>$I$4,AND($B37>=$K$4,$C37<=$L$4)),0,1),_xlfn.IFS($D$7=Données!$B$527,HLOOKUP($D$11,Données!$C$8:$Y$57,A37+2,0),$D$7=Données!$B$528,HLOOKUP($D$11,Données!$C$62:$Y$111,A37+2,0),$D$7=Données!$B$529,HLOOKUP($D$11,Données!$C$115:$Y$164,A37+2,0),$D$7=Données!$B$530,HLOOKUP($D$11,Données!$C$169:$Y$218,A37+2,0),$D$7=Données!$B$531,HLOOKUP($D$11,Données!$C$224:$Y$273,A37+2,0),$D$7=Données!$B$532,HLOOKUP($D$11,Données!$C$280:$Y$329,A37+2,0)))","v":1},{"$f":"_xlfn.IFS($H$14=Données!$E$536,1,$H$14=Données!$E$537,IF(D37=0,Données!$F$537,D37),$H$14=Données!$E$538,IF(D37=0,Données!$F$538,D37),$H$14=Données!$E$539,IF(AND(B37>=$C$1-Données!$G$539,C37<=$C$2+Données!$G$539),1,0),$H$14=Données!$E$540,_xlfn.IFS(AND(D37=0,OR(B37<$C$1-Données!$G$540,C37>$C$2+Données!$G$540)),D37,AND(D37=0,B37>=$C$1-Données!$G$540,C37<=$C$2+Données!$G$540),Données!$F$540,D37<>0,D37))","v":1},20,{"$error":"#N/A"},{"$f":"IF($H$8=\"oui\",_xlfn.IFS($D$11=\"Sanitaires\",(30+(15*$H$9))*E37,$H$10=\"[m3/h.local]\",$H$9*E37,AND($H$19=\"[m3/h]\",$I$19=\"[pers/m²]\"),$I$9*$D$8*$H$9*E37,AND($H$19=\"[m3/h]\",($I$19=\"[pers]\")),$I$9*$H$9*E37,$H$19=\"[Vol/h]\",$H$9*E37),0)","v":{"v":1500,"d":"1500.0"}},60,6,54,{"$f":"IF($L$14=\"particulier\",_xlfn.IFS(O37=0,$L$12*$L$9,O37>0,$L$9*O37),_xlfn.IFS(AND($L$14=1,I37=0),$L$9*$L$12,AND($L$14=1,I37>0),$L$9,AND($L$14=0,I37=0),$L$9*$L$12,AND($L$14=0,I37>0),$L$9*I37/$I$9))","v":10},0,0,{"$f":"IFERROR(IF($F$4=\"oui\",IF(OR($B37<$H$4,$C37>$I$4,AND($B37>=$K$4,$C37<=$L$4)),0,1),_xlfn.IFS($D$7=Données!$B$527,HLOOKUP($L$15,Données!$C$8:$Y$57,A37+2,0),$D$7=Données!$B$528,HLOOKUP($L$15,Données!$C$62:$Y$111,A37+2,0),$D$7=Données!$B$529,HLOOKUP($L$15,Données!$C$115:$Y$164,A37+2,0),$D$7=Données!$B$530,HLOOKUP($L$15,Données!$C$169:$Y$218,A37+2,0),$D$7=Données!$B$531,HLOOKUP($L$15,Données!$C$224:$Y$273,A37+2,0),$D$7=Données!$B$532,HLOOKUP($L$15,Données!$C$280:$Y$329,A37+2,0))),\"\")","v":""},{"$nulls":8},5,null,"Until:",{"$f":"IF(X37=\"\",\"\",IFERROR(IF(X37=$AV$69-1,$AU$67,VLOOKUP(MATCH(TRUE,INDEX($AX$20:$AX$67=\"Changement\"&X38,0),0),$AS$20:$AU$67,2,0)),\"\"))","v":1},",","0.0",",",{"$nulls":5},{"$f":"IF(X37=\"\",\"\",VLOOKUP(MATCH(TRUE,INDEX($AX$20:$AX$67=\"Changement\"&X37,0),0),$A$20:$N$67,4,0))","v":0},0,0,0,"0.0",{"$nulls":4},18,"08:30:00","09:00:00","Pas de changement",2,"Pas de changement2","Pas de changement",2,"Pas de changement2"]
[19,"09:00:00","09:30:00",{"$f":"IF($I$12=\"non\",1,$I$12)*IF($F$4=\"oui\",IF(OR($B38<$H$4,$C38>$I$4,AND($B38>=$K$4,$C38<=$L$4)),0,1),_xlfn.IFS($D$7=Données!$B$527,HLOOKUP($D$11,Données!$C$8:$Y$57,A38+2,0),$D$7=Données!$B$528,HLOOKUP($D$11,Données!$C$62:$Y$111,A38+2,0),$D$7=Données!$B$529,HLOOKUP($D$11,Données!$C$115:$Y$164,A38+2,0),$D$7=Données!$B$530,HLOOKUP($D$11,Données!$C$169:$Y$218,A38+2,0),$D$7=Données!$B$531,HLOOKUP($D$11,Données!$C$224:$Y$273,A38+2,0),$D$7=Données!$B$532,HLOOKUP($D$11,Données!$C$280:$Y$329,A38+2,0)))","v":1},{"$f":"_xlfn.IFS($H$14=Données!$E$536,1,$H$14=Données!$E$537,IF(D38=0,Données!$F$537,D38),$H$14=Données!$E$538,IF(D38=0,Données!$F$538,D38),$H$14=Données!$E$539,IF(AND(B38>=$C$1-Données!$G$539,C38<=$C$2+Données!$G$539),1,0),$H$14=Données!$E$540,_xlfn.IFS(AND(D38=0,OR(B38<$C$1-Données!$G$540,C38>$C$2+Données!$G$540)),D38,AND(D38=0,B38>=$C$1-Données!$G$540,C38<=$C$2+Données!$G$540),Données!$F$540,D38<>0,D38))","v":1},20,{"$error":"#N/A"},{"$f":"IF($H$8=\"oui\",_xlfn.IFS($D$11=\"Sanitaires\",(30+(15*$H$9))*E38,$H$10=\"[m3/h.local]\",$H$9*E38,AND($H$19=\"[m3/h]\",$I$19=\"[pers/m²]\"),$I$9*$D$8*$H$9*E38,AND($H$19=\"[m3/h]\",($I$19=\"[pers]\")),$I$9*$H$9*E38,$H$19=\"[Vol/h]\",$H$9*E38),0)","v":{"v":1500,"d":"1500.0"}},60,6,54,{"$f":"IF($L$14=\"particulier\",_xlfn.IFS(O38=0,$L$12*$L$9,O38>0,$L$9*O38),_xlfn.IFS(AND($L$14=1,I38=0),$L$9*$L$12,AND($L$14=1,I38>0),$L$9,AND($L$14=0,I38=0),$L$9*$L$12,AND($L$14=0,I38>0),$L$9*I38/$I$9))","v":10},0,0,{"$f":"IFERROR(IF($F$4=\"oui\",IF(OR($B38<$H$4,$C38>$I$4,AND($B38>=$K$4,$C38<=$L$4)),0,1),_xlfn.IFS($D$7=Données!$B$527,HLOOKUP($L$15,Données!$C$8:$Y$57,A38+2,0),$D$7=Données!$B$528,HLOOKUP($L$15,Données!$C$62:$Y$111,A38+2,0),$D$7=Données!$B$529,HLOOKUP($L$15,Données!$C$115:$Y$164,A38+2,0),$D$7=Données!$B$530,HLOOKUP($L$15,Données!$C$169:$Y$218,A38+2,0),$D$7=Données!$B$531,HLOOKUP($L$15,Données!$C$224:$Y$273,A38+2,0),$D$7=Données!$B$532,HLOOKUP($L$15,Données!$C$280:$Y$329,A38+2,0))),\"\")","v":""},{"$nulls":8},"",null,"",{"$f":"IF(X38=\"\",\"\",IFERROR(IF(X38=$AV$69-1,$AU$67,VLOOKUP(MATCH(TRUE,INDEX($AX$20:$AX$67=\"Changement\"&X39,0),0),$AS$20:$AU$67,2,0)),\"\"))","v":""},"","","",{"$nulls":5},{"$f":"IF(X38=\"\",\"\",VLOOKUP(MATCH(TRUE,INDEX($AX$20:$AX$67=\"Changement\"&X38,0),0),$A$20:$N$67,4,0))","v":""},"","","","",{"$nulls":4},19,"09:00:00","09:30:00","Pas de changement",2,"Pas de changement2","Pas de changement",2,"Pas de changement2"]
[20,"09:30:00","10:00:00",{"$f":"IF($I$12=\"non\",1,$I$12)*IF($F$4=\"oui\",IF(OR($B39<$H$4,$C39>$I$4,AND($B39>=$K$4,$C39<=$L$4)),0,1),_xlfn.IFS($D$7=Données!$B$527,HLOOKUP($D$11,Données!$C$8:$Y$57,A39+2,0),$D$7=Données!$B$528,HLOOKUP($D$11,Données!$C$62:$Y$111,A39+2,0),$D$7=Données!$B$529,HLOOKUP($D$11,Données!$C$115:$Y$164,A39+2,0),$D$7=Données!$B$530,HLOOKUP($D$11,Données!$C$169:$Y$218,A39+2,0),$D$7=Données!$B$531,HLOOKUP($D$11,Données!$C$224:$Y$273,A39+2,0),$D$7=Données!$B$532,HLOOKUP($D$11,Données!$C$280:$Y$329,A39+2,0)))","v":1},{"$f":"_xlfn.IFS($H$14=Données!$E$536,1,$H$14=Données!$E$537,IF(D39=0,Données!$F$537,D39),$H$14=Données!$E$538,IF(D39=0,Données!$F$538,D39),$H$14=Données!$E$539,IF(AND(B39>=$C$1-Données!$G$539,C39<=$C$2+Données!$G$539),1,0),$H$14=Données!$E$540,_xlfn.IFS(AND(D39=0,OR(B39<$C$1-Données!$G$540,C39>$C$2+Données!$G$540)),D39,AND(D39=0,B39>=$C$1-Données!$G$540,C39<=$C$2+Données!$G$540),Données!$F$540,D39<>0,D39))","v":1},20,{"$error":"#N/A"},{"$f":"IF($H$8=\"oui\",_xlfn.IFS($D$11=\"Sanitaires\",(30+(15*$H$9))*E39,$H$10=\"[m3/h.local]\",$H$9*E39,AND($H$19=\"[m3/h]\",$I$19=\"[pers/m²]\"),$I$9*$D$8*$H$9*E39,AND($H$19=\"[m3/h]\",($I$19=\"[pers]\")),$I$9*$H$9*E39,$H$19=\"[Vol/h]\",$H$9*E39),0)","v":{"v":1500,"d":"1500.0"}},60,6,54,{"$f":"IF($L$14=\"particulier\",_xlfn.IFS(O39=0,$L$12*$L$9,O39>0,$L$9*O39),_xlfn.IFS(AND($L$14=1,I39=0),$L$9*$L$12,AND($L$14=1,I39>0),$L$9,AND($L$14=0,I39=0),$L$9*$L$12,AND($L$14=0,I39>0),$L$9*I39/$I$9))","v":10},0,0,{"$f":"IFERROR(IF($F$4=\"oui\",IF(OR($B39<$H$4,$C39>$I$4,AND($B39>=$K$4,$C39<=$L$4)),0,1),_xlfn.IFS($D$7=Données!$B$527,HLOOKUP($L$15,Données!$C$8:$Y$57,A39+2,0),$D$7=Données!$B$528,HLOOKUP($L$15,Données!$C$62:$Y$111,A39+2,0),$D$7=Données!$B$529,HLOOKUP($L$15,Données!$C$115:$Y$164,A39+2,0),$D$7=Données!$B$530,HLOOKUP($L$15,Données!$C$169:$Y$218,A39+2,0),$D$7=Données!$B$531,HLOOKUP($L$15,Données!$C$224:$Y$273,A39+2,0),$D$7=Données!$B$532,HLOOKUP($L$15,Données!$C$280:$Y$329,A39+2,0))),\"\")","v":""},{"$nulls":8},"",null,"",{"$f":"IF(X39=\"\",\"\",IFERROR(IF(X39=$AV$69-1,$AU$67,VLOOKUP(MATCH(TRUE,INDEX($AX$20:$AX$67=\"Changement\"&X40,0),0),$AS$20:$AU$67,2,0)),\"\"))","v":""},"","","",{"$nulls":5},{"$f":"IF(X39=\"\",\"\",VLOOKUP(MATCH(TRUE,INDEX($AX$20:$AX$67=\"Changement\"&X39,0),0),$A$20:$N$67,4,0))","v":""},"","","","",{"$nulls":4},20,"09:30:00","10:00:00","Pas de changement",2,"Pas de changement2","Pas de changement",2,"Pas de changement2"]
[21,"10:00:00","10:30:00",{"$f":"IF($I$12=\"non\",1,$I$12)*IF($F$4=\"oui\",IF(OR($B40<$H$4,$C40>$I$4,AND($B40>=$K$4,$C40<=$L$4)),0,1),_xlfn.IFS($D$7=Données!$B$527,HLOOKUP($D$11,Données!$C$8:$Y$57,A40+2,0),$D$7=Données!$B$528,HLOOKUP($D$11,Données!$C$62:$Y$111,A40+2,0),$D$7=Données!$B$529,HLOOKUP($D$11,Données!$C$115:$Y$164,A40+2,0),$D$7=Données!$B$530,HLOOKUP($D$11,Données!$C$169:$Y$218,A40+2,0),$D$7=Données!$B$531,HLOOKUP($D$11,Données!$C$224:$Y$273,A40+2,0),$D$7=Données!$B$532,HLOOKUP($D$11,Données!$C$280:$Y$329,A40+2,0)))","v":1},{"$f":"_xlfn.IFS($H$14=Données!$E$536,1,$H$14=Données!$E$537,IF(D40=0,Données!$F$537,D40),$H$14=Données!$E$538,IF(D40=0,Données!$F$538,D40),$H$14=Données!$E$539,IF(AND(B40>=$C$1-Données!$G$539,C40<=$C$2+Données!$G$539),1,0),$H$14=Données!$E$540,_xlfn.IFS(AND(D40=0,OR(B40<$C$1-Données!$G$540,C40>$C$2+Données!$G$540)),D40,AND(D40=0,B40>=$C$1-Données!$G$540,C40<=$C$2+Données!$G$540),Données!$F$540,D40<>0,D40))","v":1},20,{"$error":"#N/A"},{"$f":"IF($H$8=\"oui\",_xlfn.IFS($D$11=\"Sanitaires\",(30+(15*$H$9))*E40,$H$10=\"[m3/h.local]\",$H$9*E40,AND($H$19=\"[m3/h]\",$I$19=\"[pers/m²]\"),$I$9*$D$8*$H$9*E40,AND($H$19=\"[m3/h]\",($I$19=\"[pers]\")),$I$9*$H$9*E40,$H$19=\"[Vol/h]\",$H$9*E40),0)","v":{"v":1500,"d":"1500.0"}},60,6,54,{"$f":"IF($L$14=\"particulier\",_xlfn.IFS(O40=0,$L$12*$L$9,O40>0,$L$9*O40),_xlfn.IFS(AND($L$14=1,I40=0),$L$9*$L$12,AND($L$14=1,I40>0),$L$9,AND($L$14=0,I40=0),$L$9*$L$12,AND($L$14=0,I40>0),$L$9*I40/$I$9))","v":10},0,0,{"$f":"IFERROR(IF($F$4=\"oui\",IF(OR($B40<$H$4,$C40>$I$4,AND($B40>=$K$4,$C40<=$L$4)),0,1),_xlfn.IFS($D$7=Données!$B$527,HLOOKUP($L$15,Données!$C$8:$Y$57,A40+2,0),$D$7=Données!$B$528,HLOOKUP($L$15,Données!$C$62:$Y$111,A40+2,0),$D$7=Données!$B$529,HLOOKUP($L$15,Données!$C$115:$Y$164,A40+2,0),$D$7=Données!$B$530,HLOOKUP($L$15,Données!$C$169:$Y$218,A40+2,0),$D$7=Données!$B$531,HLOOKUP($L$15,Données!$C$224:$Y$273,A40+2,0),$D$7=Données!$B$532,HLOOKUP($L$15,Données!$C$280:$Y$329,A40+2,0))),\"\")","v":""},{"$nulls":8},"",null,"",{"$f":"IF(X40=\"\",\"\",IFERROR(IF(X40=$AV$69-1,$AU$67,VLOOKUP(MATCH(TRUE,INDEX($AX$20:$AX$67=\"Changement\"&X41,0),0),$AS$20:$AU$67,2,0)),\"\"))","v":""},"","","",{"$nulls":5},{"$f":"IF(X40=\"\",\"\",VLOOKUP(MATCH(TRUE,INDEX($AX$20:$AX$67=\"Changement\"&X40,0),0),$A$20:$N$67,4,0))","v":""},"","","","",{"$nulls":4},21,"10:00:00","10:30:00","Pas de changement",2,"Pas de changement2","Pas de changement",2,"Pas de changement2"]
[22,"10:30:00","11:00:00",{"$f":"IF($I$12=\"non\",1,$I$12)*IF($F$4=\"oui\",IF(OR($B41<$H$4,$C41>$I$4,AND($B41>=$K$4,$C41<=$L$4)),0,1),_xlfn.IFS($D$7=Données!$B$527,HLOOKUP($D$11,Données!$C$8:$Y$57,A41+2,0),$D$7=Données!$B$528,HLOOKUP($D$11,Données!$C$62:$Y$111,A41+2,0),$D$7=Données!$B$529,HLOOKUP($D$11,Données!$C$115:$Y$164,A41+2,0),$D$7=Données!$B$530,HLOOKUP($D$11,Données!$C$169:$Y$218,A41+2,0),$D$7=Données!$B$531,HLOOKUP($D$11,Données!$C$224:$Y$273,A41+2,0),$D$7=Données!$B$532,HLOOKUP($D$11,Données!$C$280:$Y$329,A41+2,0)))","v":1},{"$f":"_xlfn.IFS($H$14=Données!$E$536,1,$H$14=Données!$E$537,IF(D41=0,Données!$F$537,D41),$H$14=Données!$E$538,IF(D41=0,Données!$F$538,D41),$H$14=Données!$E$539,IF(AND(B41>=$C$1-Données!$G$539,C41<=$C$2+Données!$G$539),1,0),$H$14=Données!$E$540,_xlfn.IFS(AND(D41=0,OR(B41<$C$1-Données!$G$540,C41>$C$2+Données!$G$540)),D41,AND(D41=0,B41>=$C$1-Données!$G$540,C41<=$C$2+Données!$G$540),Données!$F$540,D41<>0,D41))","v":1},20,{"$error":"#N/A"},{"$f":"IF($H$8=\"oui\",_xlfn.IFS($D$11=\"Sanitaires\",(30+(15*$H$9))*E41,$H$10=\"[m3/h.local]\",$H$9*E41,AND($H$19=\"[m3/h]\",$I$19=\"[pers/m²]\"),$I$9*$D$8*$H$9*E41,AND($H$19=\"[m3/h]\",($I$19=\"[pers]\")),$I$9*$H$9*E41,$H$19=\"[Vol/h]\",$H$9*E41),0)","v":{"v":1500,"d":"1500.0"}},60,6,54,{"$f":"IF($L$14=\"particulier\",_xlfn.IFS(O41=0,$L$12*$L$9,O41>0,$L$9*O41),_xlfn.IFS(AND($L$14=1,I41=0),$L$9*$L$12,AND($L$14=1,I41>0),$L$9,AND($L$14=0,I41=0),$L$9*$L$12,AND($L$14=0,I41>0),$L$9*I41/$I$9))","v":10},0,0,{"$f":"IFERROR(IF($F$4=\"oui\",IF(OR($B41<$H$4,$C41>$I$4,AND($B41>=$K$4,$C41<=$L$4)),0,1),_xlfn.IFS($D$7=Données!$B$527,HLOOKUP($L$15,Données!$C$8:$Y$57,A41+2,0),$D$7=Données!$B$528,HLOOKUP($L$15,Données!$C$62:$Y$111,A41+2,0),$D$7=Données!$B$529,HLOOKUP($L$15,Données!$C$115:$Y$164,A41+2,0),$D$7=Données!$B$530,HLOOKUP($L$15,Données!$C$169:$Y$218,A41+2,0),$D$7=Données!$B$531,HLOOKUP($L$15,Données!$C$224:$Y$273,A41+2,0),$D$7=Données!$B$532,HLOOKUP($L$15,Données!$C$280:$Y$329,A41+2,0))),\"\")","v":""},{"$nulls":8},"",null,"",{"$f":"IF(X41=\"\",\"\",IFERROR(IF(X41=$AV$69-1,$AU$67,VLOOKUP(MATCH(TRUE,INDEX($AX$20:$AX$67=\"Changement\"&X42,0),0),$AS$20:$AU$67,2,0)),\"\"))","v":""},"","","",{"$nulls":5},{"$f":"IF(X41=\"\",\"\",VLOOKUP(MATCH(TRUE,INDEX($AX$20:$AX$67=\"Changement\"&X41,0),0),$A$20:$N$67,4,0))","v":""},"","","","",{"$nulls":4},22,"10:30:00","11:00:00","Pas de changement",2,"Pas de changement2","Pas de changement",2,"Pas de changement2"]
[23,"11:00:00","11:30:00",{"$f":"IF($I$12=\"non\",1,$I$12)*IF($F$4=\"oui\",IF(OR($B42<$H$4,$C42>$I$4,AND($B42>=$K$4,$C42<=$L$4)),0,1),_xlfn.IFS($D$7=Données!$B$527,HLOOKUP($D$11,Données!$C$8:$Y$57,A42+2,0),$D$7=Données!$B$528,HLOOKUP($D$11,Données!$C$62:$Y$111,A42+2,0),$D$7=Données!$B$529,HLOOKUP($D$11,Données!$C$115:$Y$164,A42+2,0),$D$7=Données!$B$530,HLOOKUP($D$11,Données!$C$169:$Y$218,A42+2,0),$D$7=Données!$B$531,HLOOKUP($D$11,Données!$C$224:$Y$273,A42+2,0),$D$7=Données!$B$532,HLOOKUP($D$11,Données!$C$280:$Y$329,A42+2,0)))","v":1},{"$f":"_xlfn.IFS($H$14=Données!$E$536,1,$H$14=Données!$E$537,IF(D42=0,Données!$F$537,D42),$H$14=Données!$E$538,IF(D42=0,Données!$F$538,D42),$H$14=Données!$E$539,IF(AND(B42>=$C$1-Données!$G$539,C42<=$C$2+Données!$G$539),1,0),$H$14=Données!$E$540,_xlfn.IFS(AND(D42=0,OR(B42<$C$1-Données!$G$540,C42>$C$2+Données!$G$540)),D42,AND(D42=0,B42>=$C$1-Données!$G$540,C42<=$C$2+Données!$G$540),Données!$F$540,D42<>0,D42))","v":1},20,{"$error":"#N/A"},{"$f":"IF($H$8=\"oui\",_xlfn.IFS($D$11=\"Sanitaires\",(30+(15*$H$9))*E42,$H$10=\"[m3/h.local]\",$H$9*E42,AND($H$19=\"[m3/h]\",$I$19=\"[pers/m²]\"),$I$9*$D$8*$H$9*E42,AND($H$19=\"[m3/h]\",($I$19=\"[pers]\")),$I$9*$H$9*E42,$H$19=\"[Vol/h]\",$H$9*E42),0)","v":{"v":1500,"d":"1500.0"}},60,6,54,{"$f":"IF($L$14=\"particulier\",_xlfn.IFS(O42=0,$L$12*$L$9,O42>0,$L$9*O42),_xlfn.IFS(AND($L$14=1,I42=0),$L$9*$L$12,AND($L$14=1,I42>0),$L$9,AND($L$14=0,I42=0),$L$9*$L$12,AND($L$14=0,I42>0),$L$9*I42/$I$9))","v":10},0,0,{"$f":"IFERROR(IF($F$4=\"oui\",IF(OR($B42<$H$4,$C42>$I$4,AND($B42>=$K$4,$C42<=$L$4)),0,1),_xlfn.IFS($D$7=Données!$B$527,HLOOKUP($L$15,Données!$C$8:$Y$57,A42+2,0),$D$7=Données!$B$528,HLOOKUP($L$15,Données!$C$62:$Y$111,A42+2,0),$D$7=Données!$B$529,HLOOKUP($L$15,Données!$C$115:$Y$164,A42+2,0),$D$7=Données!$B$530,HLOOKUP($L$15,Données!$C$169:$Y$218,A42+2,0),$D$7=Données!$B$531,HLOOKUP($L$15,Données!$C$224:$Y$273,A42+2,0),$D$7=Données!$B$532,HLOOKUP($L$15,Données!$C$280:$Y$329,A42+2,0))),\"\")","v":""},{"$nulls":8},"",null,"",{"$f":"IF(X42=\"\",\"\",IFERROR(IF(X42=$AV$69-1,$AU$67,VLOOKUP(MATCH(TRUE,INDEX($AX$20:$AX$67=\"Changement\"&X43,0),0),$AS$20:$AU$67,2,0)),\"\"))","v":""},"","","",{"$nulls":5},{"$f":"IF(X42=\"\",\"\",VLOOKUP(MATCH(TRUE,INDEX($AX$20:$AX$67=\"Changement\"&X42,0),0),$A$20:$N$67,4,0))","v":""},"","","","",{"$nulls":4},23,"11:00:00","11:30:00","Pas de changement",2,"Pas de changement2","Pas de changement",2,"Pas de changement2"]
[24,"11:30:00","12:00:00",{"$f":"IF($I$12=\"non\",1,$I$12)*IF($F$4=\"oui\",IF(OR($B43<$H$4,$C43>$I$4,AND($B43>=$K$4,$C43<=$L$4)),0,1),_xlfn.IFS($D$7=Données!$B$527,HLOOKUP($D$11,Données!$C$8:$Y$57,A43+2,0),$D$7=Données!$B$528,HLOOKUP($D$11,Données!$C$62:$Y$111,A43+2,0),$D$7=Données!$B$529,HLOOKUP($D$11,Données!$C$115:$Y$164,A43+2,0),$D$7=Données!$B$530,HLOOKUP($D$11,Données!$C$169:$Y$218,A43+2,0),$D$7=Données!$B$531,HLOOKUP($D$11,Données!$C$224:$Y$273,A43+2,0),$D$7=Données!$B$532,HLOOKUP($D$11,Données!$C$280:$Y$329,A43+2,0)))","v":1},{"$f":"_xlfn.IFS($H$14=Données!$E$536,1,$H$14=Données!$E$537,IF(D43=0,Données!$F$537,D43),$H$14=Données!$E$538,IF(D43=0,Données!$F$538,D43),$H$14=Données!$E$539,IF(AND(B43>=$C$1-Données!$G$539,C43<=$C$2+Données!$G$539),1,0),$H$14=Données!$E$540,_xlfn.IFS(AND(D43=0,OR(B43<$C$1-Données!$G$540,C43>$C$2+Données!$G$540)),D43,AND(D43=0,B43>=$C$1-Données!$G$540,C43<=$C$2+Données!$G$540),Données!$F$540,D43<>0,D43))","v":1},20,{"$error":"#N/A"},{"$f":"IF($H$8=\"oui\",_xlfn.IFS($D$11=\"Sanitaires\",(30+(15*$H$9))*E43,$H$10=\"[m3/h.local]\",$H$9*E43,AND($H$19=\"[m3/h]\",$I$19=\"[pers/m²]\"),$I$9*$D$8*$H$9*E43,AND($H$19=\"[m3/h]\",($I$19=\"[pers]\")),$I$9*$H$9*E43,$H$19=\"[Vol/h]\",$H$9*E43),0)","v":{"v":1500,"d":"1500.0"}},60,6,54,{"$f":"IF($L$14=\"particulier\",_xlfn.IFS(O43=0,$L$12*$L$9,O43>0,$L$9*O43),_xlfn.IFS(AND($L$14=1,I43=0),$L$9*$L$12,AND($L$14=1,I43>0),$L$9,AND($L$14=0,I43=0),$L$9*$L$12,AND($L$14=0,I43>0),$L$9*I43/$I$9))","v":10},0,0,{"$f":"IFERROR(IF($F$4=\"oui\",IF(OR($B43<$H$4,$C43>$I$4,AND($B43>=$K$4,$C43<=$L$4)),0,1),_xlfn.IFS($D$7=Données!$B$527,HLOOKUP($L$15,Données!$C$8:$Y$57,A43+2,0),$D$7=Données!$B$528,HLOOKUP($L$15,Données!$C$62:$Y$111,A43+2,0),$D$7=Données!$B$529,HLOOKUP($L$15,Données!$C$115:$Y$164,A43+2,0),$D$7=Données!$B$530,HLOOKUP($L$15,Données!$C$169:$Y$218,A43+2,0),$D$7=Données!$B$531,HLOOKUP($L$15,Données!$C$224:$Y$273,A43+2,0),$D$7=Données!$B$532,HLOOKUP($L$15,Données!$C$280:$Y$329,A43+2,0))),\"\")","v":""},{"$nulls":8},"",null,"",{"$f":"IF(X43=\"\",\"\",IFERROR(IF(X43=$AV$69-1,$AU$67,VLOOKUP(MATCH(TRUE,INDEX($AX$20:$AX$67=\"Changement\"&X44,0),0),$AS$20:$AU$67,2,0)),\"\"))","v":""},"","","",{"$nulls":5},{"$f":"IF(X43=\"\",\"\",VLOOKUP(MATCH(TRUE,INDEX($AX$20:$AX$67=\"Changement\"&X43,0),0),$A$20:$N$67,4,0))","v":""},"","","","",{"$nulls":4},24,"11:30:00","12:00:00","Pas de changement",2,"Pas de changement2","Pas de changement",2,"Pas de changement2"]
[25,"12:00:00","12:30:00",{"$f":"IF($I$12=\"non\",1,$I$12)*IF($F$4=\"oui\",IF(OR($B44<$H$4,$C44>$I$4,AND($B44>=$K$4,$C44<=$L$4)),0,1),_xlfn.IFS($D$7=Données!$B$527,HLOOKUP($D$11,Données!$C$8:$Y$57,A44+2,0),$D$7=Données!$B$528,HLOOKUP($D$11,Données!$C$62:$Y$111,A44+2,0),$D$7=Données!$B$529,HLOOKUP($D$11,Données!$C$115:$Y$164,A44+2,0),$D$7=Données!$B$530,HLOOKUP($D$11,Données!$C$169:$Y$218,A44+2,0),$D$7=Données!$B$531,HLOOKUP($D$11,Données!$C$224:$Y$273,A44+2,0),$D$7=Données!$B$532,HLOOKUP($D$11,Données!$C$280:$Y$329,A44+2,0)))","v":0},{"$f":"_xlfn.IFS($H$14=Données!$E$536,1,$H$14=Données!$E$537,IF(D44=0,Données!$F$537,D44),$H$14=Données!$E$538,IF(D44=0,Données!$F$538,D44),$H$14=Données!$E$539,IF(AND(B44>=$C$1-Données!$G$539,C44<=$C$2+Données!$G$539),1,0),$H$14=Données!$E$540,_xlfn.IFS(AND(D44=0,OR(B44<$C$1-Données!$G$540,C44>$C$2+Données!$G$540)),D44,AND(D44=0,B44>=$C$1-Données!$G$540,C44<=$C$2+Données!$G$540),Données!$F$540,D44<>0,D44))","v":1},20,{"$error":"#N/A"},{"$f":"IF($H$8=\"oui\",_xlfn.IFS($D$11=\"Sanitaires\",(30+(15*$H$9))*E44,$H$10=\"[m3/h.local]\",$H$9*E44,AND($H$19=\"[m3/h]\",$I$19=\"[pers/m²]\"),$I$9*$D$8*$H$9*E44,AND($H$19=\"[m3/h]\",($I$19=\"[pers]\")),$I$9*$H$9*E44,$H$19=\"[Vol/h]\",$H$9*E44),0)","v":{"v":1500,"d":"1500.0"}},0,0,0,{"$f":"IF($L$14=\"particulier\",_xlfn.IFS(O44=0,$L$12*$L$9,O44>0,$L$9*O44),_xlfn.IFS(AND($L$14=1,I44=0),$L$9*$L$12,AND($L$14=1,I44>0),$L$9,AND($L$14=0,I44=0),$L$9*$L$12,AND($L$14=0,I44>0),$L$9*I44/$I$9))","v":0.3},0,0,{"$f":"IFERROR(IF($F$4=\"oui\",IF(OR($B44<$H$4,$C44>$I$4,AND($B44>=$K$4,$C44<=$L$4)),0,1),_xlfn.IFS($D$7=Données!$B$527,HLOOKUP($L$15,Données!$C$8:$Y$57,A44+2,0),$D$7=Données!$B$528,HLOOKUP($L$15,Données!$C$62:$Y$111,A44+2,0),$D$7=Données!$B$529,HLOOKUP($L$15,Données!$C$115:$Y$164,A44+2,0),$D$7=Données!$B$530,HLOOKUP($L$15,Données!$C$169:$Y$218,A44+2,0),$D$7=Données!$B$531,HLOOKUP($L$15,Données!$C$224:$Y$273,A44+2,0),$D$7=Données!$B$532,HLOOKUP($L$15,Données!$C$280:$Y$329,A44+2,0))),\"\")","v":""},{"$nulls":10},"For: ","Weekends,",{"$nulls":9},"","","","",{"$nulls":4},25,"12:00:00","12:30:00","Changement",3,"Changement3","Pas de changement",2,"Pas de changement2"]
[26,"12:30:00","13:00:00",{"$f":"IF($I$12=\"non\",1,$I$12)*IF($F$4=\"oui\",IF(OR($B45<$H$4,$C45>$I$4,AND($B45>=$K$4,$C45<=$L$4)),0,1),_xlfn.IFS($D$7=Données!$B$527,HLOOKUP($D$11,Données!$C$8:$Y$57,A45+2,0),$D$7=Données!$B$528,HLOOKUP($D$11,Données!$C$62:$Y$111,A45+2,0),$D$7=Données!$B$529,HLOOKUP($D$11,Données!$C$115:$Y$164,A45+2,0),$D$7=Données!$B$530,HLOOKUP($D$11,Données!$C$169:$Y$218,A45+2,0),$D$7=Données!$B$531,HLOOKUP($D$11,Données!$C$224:$Y$273,A45+2,0),$D$7=Données!$B$532,HLOOKUP($D$11,Données!$C$280:$Y$329,A45+2,0)))","v":0},{"$f":"_xlfn.IFS($H$14=Données!$E$536,1,$H$14=Données!$E$537,IF(D45=0,Données!$F$537,D45),$H$14=Données!$E$538,IF(D45=0,Données!$F$538,D45),$H$14=Données!$E$539,IF(AND(B45>=$C$1-Données!$G$539,C45<=$C$2+Données!$G$539),1,0),$H$14=Données!$E$540,_xlfn.IFS(AND(D45=0,OR(B45<$C$1-Données!$G$540,C45>$C$2+Données!$G$540)),D45,AND(D45=0,B45>=$C$1-Données!$G$540,C45<=$C$2+Données!$G$540),Données!$F$540,D45<>0,D45))","v":1},20,{"$error":"#N/A"},{"$f":"IF($H$8=\"oui\",_xlfn.IFS($D$11=\"Sanitaires\",(30+(15*$H$9))*E45,$H$10=\"[m3/h.local]\",$H$9*E45,AND($H$19=\"[m3/h]\",$I$19=\"[pers/m²]\"),$I$9*$D$8*$H$9*E45,AND($H$19=\"[m3/h]\",($I$19=\"[pers]\")),$I$9*$H$9*E45,$H$19=\"[Vol/h]\",$H$9*E45),0)","v":{"v":1500,"d":"1500.0"}},0,0,0,{"$f":"IF($L$14=\"particulier\",_xlfn.IFS(O45=0,$L$12*$L$9,O45>0,$L$9*O45),_xlfn.IFS(AND($L$14=1,I45=0),$L$9*$L$12,AND($L$14=1,I45>0),$L$9,AND($L$14=0,I45=0),$L$9*$L$12,AND($L$14=0,I45>0),$L$9*I45/$I$9))","v":0.3},0,0,{"$f":"IFERROR(IF($F$4=\"oui\",IF(OR($B45<$H$4,$C45>$I$4,AND($B45>=$K$4,$C45<=$L$4)),0,1),_xlfn.IFS($D$7=Données!$B$527,HLOOKUP($L$15,Données!$C$8:$Y$57,A45+2,0),$D$7=Données!$B$528,HLOOKUP($L$15,Données!$C$62:$Y$111,A45+2,0),$D$7=Données!$B$529,HLOOKUP($L$15,Données!$C$115:$Y$164,A45+2,0),$D$7=Données!$B$530,HLOOKUP($L$15,Données!$C$169:$Y$218,A45+2,0),$D$7=Données!$B$531,HLOOKUP($L$15,Données!$C$224:$Y$273,A45+2,0),$D$7=Données!$B$532,HLOOKUP($L$15,Données!$C$280:$Y$329,A45+2,0))),\"\")","v":""},{"$nulls":10},"Until:",1,",",0,",",{"$nulls":6},"","","","",{"$nulls":4},26,"12:30:00","13:00:00","Pas de changement",3,"Pas de changement3","Pas de changement",2,"Pas de changement2"]
[27,"13:00:00","13:30:00",{"$f":"IF($I$12=\"non\",1,$I$12)*IF($F$4=\"oui\",IF(OR($B46<$H$4,$C46>$I$4,AND($B46>=$K$4,$C46<=$L$4)),0,1),_xlfn.IFS($D$7=Données!$B$527,HLOOKUP($D$11,Données!$C$8:$Y$57,A46+2,0),$D$7=Données!$B$528,HLOOKUP($D$11,Données!$C$62:$Y$111,A46+2,0),$D$7=Données!$B$529,HLOOKUP($D$11,Données!$C$115:$Y$164,A46+2,0),$D$7=Données!$B$530,HLOOKUP($D$11,Données!$C$169:$Y$218,A46+2,0),$D$7=Données!$B$531,HLOOKUP($D$11,Données!$C$224:$Y$273,A46+2,0),$D$7=Données!$B$532,HLOOKUP($D$11,Données!$C$280:$Y$329,A46+2,0)))","v":0},{"$f":"_xlfn.IFS($H$14=Données!$E$536,1,$H$14=Données!$E$537,IF(D46=0,Données!$F$537,D46),$H$14=Données!$E$538,IF(D46=0,Données!$F$538,D46),$H$14=Données!$E$539,IF(AND(B46>=$C$1-Données!$G$539,C46<=$C$2+Données!$G$539),1,0),$H$14=Données!$E$540,_xlfn.IFS(AND(D46=0,OR(B46<$C$1-Données!$G$540,C46>$C$2+Données!$G$540)),D46,AND(D46=0,B46>=$C$1-Données!$G$540,C46<=$C$2+Données!$G$540),Données!$F$540,D46<>0,D46))","v":1},20,{"$error":"#N/A"},{"$f":"IF($H$8=\"oui\",_xlfn.IFS($D$11=\"Sanitaires\",(30+(15*$H$9))*E46,$H$10=\"[m3/h.local]\",$H$9*E46,AND($H$19=\"[m3/h]\",$I$19=\"[pers/m²]\"),$I$9*$D$8*$H$9*E46,AND($H$19=\"[m3/h]\",($I$19=\"[pers]\")),$I$9*$H$9*E46,$H$19=\"[Vol/h]\",$H$9*E46),0)","v":{"v":1500,"d":"1500.0"}},0,0,0,{"$f":"IF($L$14=\"particulier\",_xlfn.IFS(O46=0,$L$12*$L$9,O46>0,$L$9*O46),_xlfn.IFS(AND($L$14=1,I46=0),$L$9*$L$12,AND($L$14=1,I46>0),$L$9,AND($L$14=0,I46=0),$L$9*$L$12,AND($L$14=0,I46>0),$L$9*I46/$I$9))","v":0.3},0,0,{"$f":"IFERROR(IF($F$4=\"oui\",IF(OR($B46<$H$4,$C46>$I$4,AND($B46>=$K$4,$C46<=$L$4)),0,1),_xlfn.IFS($D$7=Données!$B$527,HLOOKUP($L$15,Données!$C$8:$Y$57,A46+2,0),$D$7=Données!$B$528,HLOOKUP($L$15,Données!$C$62:$Y$111,A46+2,0),$D$7=Données!$B$529,HLOOKUP($L$15,Données!$C$115:$Y$164,A46+2,0),$D$7=Données!$B$530,HLOOKUP($L$15,Données!$C$169:$Y$218,A46+2,0),$D$7=Données!$B$531,HLOOKUP($L$15,Données!$C$224:$Y$273,A46+2,0),$D$7=Données!$B$532,HLOOKUP($L$15,Données!$C$280:$Y$329,A46+2,0))),\"\")","v":""},{"$nulls":10},"For: ","Holidays,",{"$nulls":17},27,"13:00:00","13:30:00","Pas de changement",3,"Pas de changement3","Pas de changement",2,"Pas de changement2"]
[28,"13:30:00","14:00:00",{"$f":"IF($I$12=\"non\",1,$I$12)*IF($F$4=\"oui\",IF(OR($B47<$H$4,$C47>$I$4,AND($B47>=$K$4,$C47<=$L$4)),0,1),_xlfn.IFS($D$7=Données!$B$527,HLOOKUP($D$11,Données!$C$8:$Y$57,A47+2,0),$D$7=Données!$B$528,HLOOKUP($D$11,Données!$C$62:$Y$111,A47+2,0),$D$7=Données!$B$529,HLOOKUP($D$11,Données!$C$115:$Y$164,A47+2,0),$D$7=Données!$B$530,HLOOKUP($D$11,Données!$C$169:$Y$218,A47+2,0),$D$7=Données!$B$531,HLOOKUP($D$11,Données!$C$224:$Y$273,A47+2,0),$D$7=Données!$B$532,HLOOKUP($D$11,Données!$C$280:$Y$329,A47+2,0)))","v":0},{"$f":"_xlfn.IFS($H$14=Données!$E$536,1,$H$14=Données!$E$537,IF(D47=0,Données!$F$537,D47),$H$14=Données!$E$538,IF(D47=0,Données!$F$538,D47),$H$14=Données!$E$539,IF(AND(B47>=$C$1-Données!$G$539,C47<=$C$2+Données!$G$539),1,0),$H$14=Données!$E$540,_xlfn.IFS(AND(D47=0,OR(B47<$C$1-Données!$G$540,C47>$C$2+Données!$G$540)),D47,AND(D47=0,B47>=$C$1-Données!$G$540,C47<=$C$2+Données!$G$540),Données!$F$540,D47<>0,D47))","v":1},20,{"$error":"#N/A"},{"$f":"IF($H$8=\"oui\",_xlfn.IFS($D$11=\"Sanitaires\",(30+(15*$H$9))*E47,$H$10=\"[m3/h.local]\",$H$9*E47,AND($H$19=\"[m3/h]\",$I$19=\"[pers/m²]\"),$I$9*$D$8*$H$9*E47,AND($H$19=\"[m3/h]\",($I$19=\"[pers]\")),$I$9*$H$9*E47,$H$19=\"[Vol/h]\",$H$9*E47),0)","v":{"v":1500,"d":"1500.0"}},0,0,0,{"$f":"IF($L$14=\"particulier\",_xlfn.IFS(O47=0,$L$12*$L$9,O47>0,$L$9*O47),_xlfn.IFS(AND($L$14=1,I47=0),$L$9*$L$12,AND($L$14=1,I47>0),$L$9,AND($L$14=0,I47=0),$L$9*$L$12,AND($L$14=0,I47>0),$L$9*I47/$I$9))","v":0.3},0,0,{"$f":"IFERROR(IF($F$4=\"oui\",IF(OR($B47<$H$4,$C47>$I$4,AND($B47>=$K$4,$C47<=$L$4)),0,1),_xlfn.IFS($D$7=Données!$B$527,HLOOKUP($L$15,Données!$C$8:$Y$57,A47+2,0),$D$7=Données!$B$528,HLOOKUP($L$15,Données!$C$62:$Y$111,A47+2,0),$D$7=Données!$B$529,HLOOKUP($L$15,Données!$C$115:$Y$164,A47+2,0),$D$7=Données!$B$530,HLOOKUP($L$15,Données!$C$169:$Y$218,A47+2,0),$D$7=Données!$B$531,HLOOKUP($L$15,Données!$C$224:$Y$273,A47+2,0),$D$7=Données!$B$532,HLOOKUP($L$15,Données!$C$280:$Y$329,A47+2,0))),\"\")","v":""},{"$nulls":10},"Until:",1,",",0,",",{"$nulls":14},28,"13:30:00","14:00:00","Pas de changement",3,"Pas de changement3","Pas de changement",2,"Pas de changement2"]
[29,{"$f":"C47","v":"14:00:00"},{"$f":"C47+0.5/24","v":"14:30:00"},{"$f":"IF($I$12=\"non\",1,$I$12)*IF($F$4=\"oui\",IF(OR($B48<$H$4,$C48>$I$4,AND($B48>=$K$4,$C48<=$L$4)),0,1),_xlfn.IFS($D$7=Données!$B$527,HLOOKUP($D$11,Données!$C$8:$Y$57,A48+2,0),$D$7=Données!$B$528,HLOOKUP($D$11,Données!$C$62:$Y$111,A48+2,0),$D$7=Données!$B$529,HLOOKUP($D$11,Données!$C$115:$Y$164,A48+2,0),$D$7=Données!$B$530,HLOOKUP($D$11,Données!$C$169:$Y$218,A48+2,0),$D$7=Données!$B$531,HLOOKUP($D$11,Données!$C$224:$Y$273,A48+2,0),$D$7=Données!$B$532,HLOOKUP($D$11,Données!$C$280:$Y$329,A48+2,0)))","v":1},{"$f":"_xlfn.IFS($H$14=Données!$E$536,1,$H$14=Données!$E$537,IF(D48=0,Données!$F$537,D48),$H$14=Données!$E$538,IF(D48=0,Données!$F$538,D48),$H$14=Données!$E$539,IF(AND(B48>=$C$1-Données!$G$539,C48<=$C$2+Données!$G$539),1,0),$H$14=Données!$E$540,_xlfn.IFS(AND(D48=0,OR(B48<$C$1-Données!$G$540,C48>$C$2+Données!$G$540)),D48,AND(D48=0,B48>=$C$1-Données!$G$540,C48<=$C$2+Données!$G$540),Données!$F$540,D48<>0,D48))","v":1},20,{"$error":"#N/A"},{"$f":"IF($H$8=\"oui\",_xlfn.IFS($D$11=\"Sanitaires\",(30+(15*$H$9))*E48,$H$10=\"[m3/h.local]\",$H$9*E48,AND($H$19=\"[m3/h]\",$I$19=\"[pers/m²]\"),$I$9*$D$8*$H$9*E48,AND($H$19=\"[m3/h]\",($I$19=\"[pers]\")),$I$9*$H$9*E48,$H$19=\"[Vol/h]\",$H$9*E48),0)","v":{"v":1500,"d":"1500.0"}},60,6,54,{"$f":"IF($L$14=\"particulier\",_xlfn.IFS(O48=0,$L$12*$L$9,O48>0,$L$9*O48),_xlfn.IFS(AND($L$14=1,I48=0),$L$9*$L$12,AND($L$14=1,I48>0),$L$9,AND($L$14=0,I48=0),$L$9*$L$12,AND($L$14=0,I48>0),$L$9*I48/$I$9))","v":10},0,0,{"$f":"IFERROR(IF($F$4=\"oui\",IF(OR($B48<$H$4,$C48>$I$4,AND($B48>=$K$4,$C48<=$L$4)),0,1),_xlfn.IFS($D$7=Données!$B$527,HLOOKUP($L$15,Données!$C$8:$Y$57,A48+2,0),$D$7=Données!$B$528,HLOOKUP($L$15,Données!$C$62:$Y$111,A48+2,0),$D$7=Données!$B$529,HLOOKUP($L$15,Données!$C$115:$Y$164,A48+2,0),$D$7=Données!$B$530,HLOOKUP($L$15,Données!$C$169:$Y$218,A48+2,0),$D$7=Données!$B$531,HLOOKUP($L$15,Données!$C$224:$Y$273,A48+2,0),$D$7=Données!$B$532,HLOOKUP($L$15,Données!$C$280:$Y$329,A48+2,0))),\"\")","v":""},{"$nulls":10},"For: ","WinterDesignDay",null," AllOtherDays,",{"$nulls":15},29,{"$f":"AU47","v":"14:00:00"},{"$f":"AU47+0.5/24","v":"14:30:00"},"Changement",4,"Changement4","Pas de changement",2,"Pas de changement2"]
[30,{"$f":"C48","v":"14:30:00"},{"$f":"C48+0.5/24","v":"15:00:00"},{"$f":"IF($I$12=\"non\",1,$I$12)*IF($F$4=\"oui\",IF(OR($B49<$H$4,$C49>$I$4,AND($B49>=$K$4,$C49<=$L$4)),0,1),_xlfn.IFS($D$7=Données!$B$527,HLOOKUP($D$11,Données!$C$8:$Y$57,A49+2,0),$D$7=Données!$B$528,HLOOKUP($D$11,Données!$C$62:$Y$111,A49+2,0),$D$7=Données!$B$529,HLOOKUP($D$11,Données!$C$115:$Y$164,A49+2,0),$D$7=Données!$B$530,HLOOKUP($D$11,Données!$C$169:$Y$218,A49+2,0),$D$7=Données!$B$531,HLOOKUP($D$11,Données!$C$224:$Y$273,A49+2,0),$D$7=Données!$B$532,HLOOKUP($D$11,Données!$C$280:$Y$329,A49+2,0)))","v":1},{"$f":"_xlfn.IFS($H$14=Données!$E$536,1,$H$14=Données!$E$537,IF(D49=0,Données!$F$537,D49),$H$14=Données!$E$538,IF(D49=0,Données!$F$538,D49),$H$14=Données!$E$539,IF(AND(B49>=$C$1-Données!$G$539,C49<=$C$2+Données!$G$539),1,0),$H$14=Données!$E$540,_xlfn.IFS(AND(D49=0,OR(B49<$C$1-Données!$G$540,C49>$C$2+Données!$G$540)),D49,AND(D49=0,B49>=$C$1-Données!$G$540,C49<=$C$2+Données!$G$540),Données!$F$540,D49<>0,D49))","v":1},20,{"$error":"#N/A"},{"$f":"IF($H$8=\"oui\",_xlfn.IFS($D$11=\"Sanitaires\",(30+(15*$H$9))*E49,$H$10=\"[m3/h.local]\",$H$9*E49,AND($H$19=\"[m3/h]\",$I$19=\"[pers/m²]\"),$I$9*$D$8*$H$9*E49,AND($H$19=\"[m3/h]\",($I$19=\"[pers]\")),$I$9*$H$9*E49,$H$19=\"[Vol/h]\",$H$9*E49),0)","v":{"v":1500,"d":"1500.0"}},60,6,54,{"$f":"IF($L$14=\"particulier\",_xlfn.IFS(O49=0,$L$12*$L$9,O49>0,$L$9*O49),_xlfn.IFS(AND($L$14=1,I49=0),$L$9*$L$12,AND($L$14=1,I49>0),$L$9,AND($L$14=0,I49=0),$L$9*$L$12,AND($L$14=0,I49>0),$L$9*I49/$I$9))","v":10},0,0,{"$f":"IFERROR(IF($F$4=\"oui\",IF(OR($B49<$H$4,$C49>$I$4,AND($B49>=$K$4,$C49<=$L$4)),0,1),_xlfn.IFS($D$7=Données!$B$527,HLOOKUP($L$15,Données!$C$8:$Y$57,A49+2,0),$D$7=Données!$B$528,HLOOKUP($L$15,Données!$C$62:$Y$111,A49+2,0),$D$7=Données!$B$529,HLOOKUP($L$15,Données!$C$115:$Y$164,A49+2,0),$D$7=Données!$B$530,HLOOKUP($L$15,Données!$C$169:$Y$218,A49+2,0),$D$7=Données!$B$531,HLOOKUP($L$15,Données!$C$224:$Y$273,A49+2,0),$D$7=Données!$B$532,HLOOKUP($L$15,Données!$C$280:$Y$329,A49+2,0))),\"\")","v":""},{"$nulls":10},"Until:",1,",",0,";",{"$nulls":14},30,{"$f":"AU48","v":"14:30:00"},{"$f":"AU48+0.5/24","v":"15:00:00"},"Pas de changement",4,"Pas de changement4","Pas de changement",2,"Pas de changement2"]
[31,"15:00:00","15:30:00",{"$f":"IF($I$12=\"non\",1,$I$12)*IF($F$4=\"oui\",IF(OR($B50<$H$4,$C50>$I$4,AND($B50>=$K$4,$C50<=$L$4)),0,1),_xlfn.IFS($D$7=Données!$B$527,HLOOKUP($D$11,Données!$C$8:$Y$57,A50+2,0),$D$7=Données!$B$528,HLOOKUP($D$11,Données!$C$62:$Y$111,A50+2,0),$D$7=Données!$B$529,HLOOKUP($D$11,Données!$C$115:$Y$164,A50+2,0),$D$7=Données!$B$530,HLOOKUP($D$11,Données!$C$169:$Y$218,A50+2,0),$D$7=Données!$B$531,HLOOKUP($D$11,Données!$C$224:$Y$273,A50+2,0),$D$7=Données!$B$532,HLOOKUP($D$11,Données!$C$280:$Y$329,A50+2,0)))","v":1},{"$f":"_xlfn.IFS($H$14=Données!$E$536,1,$H$14=Données!$E$537,IF(D50=0,Données!$F$537,D50),$H$14=Données!$E$538,IF(D50=0,Données!$F$538,D50),$H$14=Données!$E$539,IF(AND(B50>=$C$1-Données!$G$539,C50<=$C$2+Données!$G$539),1,0),$H$14=Données!$E$540,_xlfn.IFS(AND(D50=0,OR(B50<$C$1-Données!$G$540,C50>$C$2+Données!$G$540)),D50,AND(D50=0,B50>=$C$1-Données!$G$540,C50<=$C$2+Données!$G$540),Données!$F$540,D50<>0,D50))","v":1},20,{"$error":"#N/A"},{"$f":"IF($H$8=\"oui\",_xlfn.IFS($D$11=\"Sanitaires\",(30+(15*$H$9))*E50,$H$10=\"[m3/h.local]\",$H$9*E50,AND($H$19=\"[m3/h]\",$I$19=\"[pers/m²]\"),$I$9*$D$8*$H$9*E50,AND($H$19=\"[m3/h]\",($I$19=\"[pers]\")),$I$9*$H$9*E50,$H$19=\"[Vol/h]\",$H$9*E50),0)","v":{"v":1500,"d":"1500.0"}},60,6,54,{"$f":"IF($L$14=\"particulier\",_xlfn.IFS(O50=0,$L$12*$L$9,O50>0,$L$9*O50),_xlfn.IFS(AND($L$14=1,I50=0),$L$9*$L$12,AND($L$14=1,I50>0),$L$9,AND($L$14=0,I50=0),$L$9*$L$12,AND($L$14=0,I50>0),$L$9*I50/$I$9))","v":10},0,0,{"$f":"IFERROR(IF($F$4=\"oui\",IF(OR($B50<$H$4,$C50>$I$4,AND($B50>=$K$4,$C50<=$L$4)),0,1),_xlfn.IFS($D$7=Données!$B$527,HLOOKUP($L$15,Données!$C$8:$Y$57,A50+2,0),$D$7=Données!$B$528,HLOOKUP($L$15,Données!$C$62:$Y$111,A50+2,0),$D$7=Données!$B$529,HLOOKUP($L$15,Données!$C$115:$Y$164,A50+2,0),$D$7=Données!$B$530,HLOOKUP($L$15,Données!$C$169:$Y$218,A50+2,0),$D$7=Données!$B$531,HLOOKUP($L$15,Données!$C$224:$Y$273,A50+2,0),$D$7=Données!$B$532,HLOOKUP($L$15,Données!$C$280:$Y$329,A50+2,0))),\"\")","v":""},{"$nulls":29},31,"15:00:00","15:30:00","Pas de changement",4,"Pas de changement4","Pas de changement",2,"Pas de changement2"]
[32,"15:30:00","16:00:00",{"$f":"IF($I$12=\"non\",1,$I$12)*IF($F$4=\"oui\",IF(OR($B51<$H$4,$C51>$I$4,AND($B51>=$K$4,$C51<=$L$4)),0,1),_xlfn.IFS($D$7=Données!$B$527,HLOOKUP($D$11,Données!$C$8:$Y$57,A51+2,0),$D$7=Données!$B$528,HLOOKUP($D$11,Données!$C$62:$Y$111,A51+2,0),$D$7=Données!$B$529,HLOOKUP($D$11,Données!$C$115:$Y$164,A51+2,0),$D$7=Données!$B$530,HLOOKUP($D$11,Données!$C$169:$Y$218,A51+2,0),$D$7=Données!$B$531,HLOOKUP($D$11,Données!$C$224:$Y$273,A51+2,0),$D$7=Données!$B$532,HLOOKUP($D$11,Données!$C$280:$Y$329,A51+2,0)))","v":1},{"$f":"_xlfn.IFS($H$14=Données!$E$536,1,$H$14=Données!$E$537,IF(D51=0,Données!$F$537,D51),$H$14=Données!$E$538,IF(D51=0,Données!$F$538,D51),$H$14=Données!$E$539,IF(AND(B51>=$C$1-Données!$G$539,C51<=$C$2+Données!$G$539),1,0),$H$14=Données!$E$540,_xlfn.IFS(AND(D51=0,OR(B51<$C$1-Données!$G$540,C51>$C$2+Données!$G$540)),D51,AND(D51=0,B51>=$C$1-Données!$G$540,C51<=$C$2+Données!$G$540),Données!$F$540,D51<>0,D51))","v":1},20,{"$error":"#N/A"},{"$f":"IF($H$8=\"oui\",_xlfn.IFS($D$11=\"Sanitaires\",(30+(15*$H$9))*E51,$H$10=\"[m3/h.local]\",$H$9*E51,AND($H$19=\"[m3/h]\",$I$19=\"[pers/m²]\"),$I$9*$D$8*$H$9*E51,AND($H$19=\"[m3/h]\",($I$19=\"[pers]\")),$I$9*$H$9*E51,$H$19=\"[Vol/h]\",$H$9*E51),0)","v":{"v":1500,"d":"1500.0"}},60,6,54,{"$f":"IF($L$14=\"particulier\",_xlfn.IFS(O51=0,$L$12*$L$9,O51>0,$L$9*O51),_xlfn.IFS(AND($L$14=1,I51=0),$L$9*$L$12,AND($L$14=1,I51>0),$L$9,AND($L$14=0,I51=0),$L$9*$L$12,AND($L$14=0,I51>0),$L$9*I51/$I$9))","v":10},0,0,{"$f":"IFERROR(IF($F$4=\"oui\",IF(OR($B51<$H$4,$C51>$I$4,AND($B51>=$K$4,$C51<=$L$4)),0,1),_xlfn.IFS($D$7=Données!$B$527,HLOOKUP($L$15,Données!$C$8:$Y$57,A51+2,0),$D$7=Données!$B$528,HLOOKUP($L$15,Données!$C$62:$Y$111,A51+2,0),$D$7=Données!$B$529,HLOOKUP($L$15,Données!$C$115:$Y$164,A51+2,0),$D$7=Données!$B$530,HLOOKUP($L$15,Données!$C$169:$Y$218,A51+2,0),$D$7=Données!$B$531,HLOOKUP($L$15,Données!$C$224:$Y$273,A51+2,0),$D$7=Données!$B$532,HLOOKUP($L$15,Données!$C$280:$Y$329,A51+2,0))),\"\")","v":""},{"$nulls":10},{"$f":"L9+M9+N9","v":{"v":10,"d":"10.0"}},{"$f":"L10","v":"W/m²"},{"$nulls":17},32,"15:30:00","16:00:00","Pas de changement",4,"Pas de changement4","Pas de changement",2,"Pas de changement2"]
[33,"16:00:00","16:30:00",{"$f":"IF($I$12=\"non\",1,$I$12)*IF($F$4=\"oui\",IF(OR($B52<$H$4,$C52>$I$4,AND($B52>=$K$4,$C52<=$L$4)),0,1),_xlfn.IFS($D$7=Données!$B$527,HLOOKUP($D$11,Données!$C$8:$Y$57,A52+2,0),$D$7=Données!$B$528,HLOOKUP($D$11,Données!$C$62:$Y$111,A52+2,0),$D$7=Données!$B$529,HLOOKUP($D$11,Données!$C$115:$Y$164,A52+2,0),$D$7=Données!$B$530,HLOOKUP($D$11,Données!$C$169:$Y$218,A52+2,0),$D$7=Données!$B$531,HLOOKUP($D$11,Données!$C$224:$Y$273,A52+2,0),$D$7=Données!$B$532,HLOOKUP($D$11,Données!$C$280:$Y$329,A52+2,0)))","v":1},{"$f":"_xlfn.IFS($H$14=Données!$E$536,1,$H$14=Données!$E$537,IF(D52=0,Données!$F$537,D52),$H$14=Données!$E$538,IF(D52=0,Données!$F$538,D52),$H$14=Données!$E$539,IF(AND(B52>=$C$1-Données!$G$539,C52<=$C$2+Données!$G$539),1,0),$H$14=Données!$E$540,_xlfn.IFS(AND(D52=0,OR(B52<$C$1-Données!$G$540,C52>$C$2+Données!$G$540)),D52,AND(D52=0,B52>=$C$1-Données!$G$540,C52<=$C$2+Données!$G$540),Données!$F$540,D52<>0,D52))","v":1},20,{"$error":"#N/A"},{"$f":"IF($H$8=\"oui\",_xlfn.IFS($D$11=\"Sanitaires\",(30+(15*$H$9))*E52,$H$10=\"[m3/h.local]\",$H$9*E52,AND($H$19=\"[m3/h]\",$I$19=\"[pers/m²]\"),$I$9*$D$8*$H$9*E52,AND($H$19=\"[m3/h]\",($I$19=\"[pers]\")),$I$9*$H$9*E52,$H$19=\"[Vol/h]\",$H$9*E52),0)","v":{"v":1500,"d":"1500.0"}},60,6,54,{"$f":"IF($L$14=\"particulier\",_xlfn.IFS(O52=0,$L$12*$L$9,O52>0,$L$9*O52),_xlfn.IFS(AND($L$14=1,I52=0),$L$9*$L$12,AND($L$14=1,I52>0),$L$9,AND($L$14=0,I52=0),$L$9*$L$12,AND($L$14=0,I52>0),$L$9*I52/$I$9))","v":10},0,0,{"$f":"IFERROR(IF($F$4=\"oui\",IF(OR($B52<$H$4,$C52>$I$4,AND($B52>=$K$4,$C52<=$L$4)),0,1),_xlfn.IFS($D$7=Données!$B$527,HLOOKUP($L$15,Données!$C$8:$Y$57,A52+2,0),$D$7=Données!$B$528,HLOOKUP($L$15,Données!$C$62:$Y$111,A52+2,0),$D$7=Données!$B$529,HLOOKUP($L$15,Données!$C$115:$Y$164,A52+2,0),$D$7=Données!$B$530,HLOOKUP($L$15,Données!$C$169:$Y$218,A52+2,0),$D$7=Données!$B$531,HLOOKUP($L$15,Données!$C$224:$Y$273,A52+2,0),$D$7=Données!$B$532,HLOOKUP($L$15,Données!$C$280:$Y$329,A52+2,0))),\"\")","v":""},{"$nulls":10},"Veille :",{"$f":"IF(SUM(L9:N9)=0,0,(L9*L12+M9*M12+N9*N12)/SUM(L9:N9))","v":{"v":0.03,"d":"3%"}},"%",{"$nulls":16},33,"16:00:00","16:30:00","Pas de changement",4,"Pas de changement4","Pas de changement",2,"Pas de changement2"]
[34,"16:30:00","17:00:00",{"$f":"IF($I$12=\"non\",1,$I$12)*IF($F$4=\"oui\",IF(OR($B53<$H$4,$C53>$I$4,AND($B53>=$K$4,$C53<=$L$4)),0,1),_xlfn.IFS($D$7=Données!$B$527,HLOOKUP($D$11,Données!$C$8:$Y$57,A53+2,0),$D$7=Données!$B$528,HLOOKUP($D$11,Données!$C$62:$Y$111,A53+2,0),$D$7=Données!$B$529,HLOOKUP($D$11,Données!$C$115:$Y$164,A53+2,0),$D$7=Données!$B$530,HLOOKUP($D$11,Données!$C$169:$Y$218,A53+2,0),$D$7=Données!$B$531,HLOOKUP($D$11,Données!$C$224:$Y$273,A53+2,0),$D$7=Données!$B$532,HLOOKUP($D$11,Données!$C$280:$Y$329,A53+2,0)))","v":1},{"$f":"_xlfn.IFS($H$14=Données!$E$536,1,$H$14=Données!$E$537,IF(D53=0,Données!$F$537,D53),$H$14=Données!$E$538,IF(D53=0,Données!$F$538,D53),$H$14=Données!$E$539,IF(AND(B53>=$C$1-Données!$G$539,C53<=$C$2+Données!$G$539),1,0),$H$14=Données!$E$540,_xlfn.IFS(AND(D53=0,OR(B53<$C$1-Données!$G$540,C53>$C$2+Données!$G$540)),D53,AND(D53=0,B53>=$C$1-Données!$G$540,C53<=$C$2+Données!$G$540),Données!$F$540,D53<>0,D53))","v":1},20,{"$error":"#N/A"},{"$f":"IF($H$8=\"oui\",_xlfn.IFS($D$11=\"Sanitaires\",(30+(15*$H$9))*E53,$H$10=\"[m3/h.local]\",$H$9*E53,AND($H$19=\"[m3/h]\",$I$19=\"[pers/m²]\"),$I$9*$D$8*$H$9*E53,AND($H$19=\"[m3/h]\",($I$19=\"[pers]\")),$I$9*$H$9*E53,$H$19=\"[Vol/h]\",$H$9*E53),0)","v":{"v":1500,"d":"1500.0"}},60,6,54,{"$f":"IF($L$14=\"particulier\",_xlfn.IFS(O53=0,$L$12*$L$9,O53>0,$L$9*O53),_xlfn.IFS(AND($L$14=1,I53=0),$L$9*$L$12,AND($L$14=1,I53>0),$L$9,AND($L$14=0,I53=0),$L$9*$L$12,AND($L$14=0,I53>0),$L$9*I53/$I$9))","v":10},0,0,{"$f":"IFERROR(IF($F$4=\"oui\",IF(OR($B53<$H$4,$C53>$I$4,AND($B53>=$K$4,$C53<=$L$4)),0,1),_xlfn.IFS($D$7=Données!$B$527,HLOOKUP($L$15,Données!$C$8:$Y$57,A53+2,0),$D$7=Données!$B$528,HLOOKUP($L$15,Données!$C$62:$Y$111,A53+2,0),$D$7=Données!$B$529,HLOOKUP($L$15,Données!$C$115:$Y$164,A53+2,0),$D$7=Données!$B$530,HLOOKUP($L$15,Données!$C$169:$Y$218,A53+2,0),$D$7=Données!$B$531,HLOOKUP($L$15,Données!$C$224:$Y$273,A53+2,0),$D$7=Données!$B$532,HLOOKUP($L$15,Données!$C$280:$Y$329,A53+2,0))),\"\")","v":""},{"$nulls":10},"Scénario Apports internes ",{"$nulls":18},34,"16:30:00","17:00:00","Pas de changement",4,"Pas de changement4","Pas de changement",2,"Pas de changement2"]
[35,"17:00:00","17:30:00",{"$f":"IF($I$12=\"non\",1,$I$12)*IF($F$4=\"oui\",IF(OR($B54<$H$4,$C54>$I$4,AND($B54>=$K$4,$C54<=$L$4)),0,1),_xlfn.IFS($D$7=Données!$B$527,HLOOKUP($D$11,Données!$C$8:$Y$57,A54+2,0),$D$7=Données!$B$528,HLOOKUP($D$11,Données!$C$62:$Y$111,A54+2,0),$D$7=Données!$B$529,HLOOKUP($D$11,Données!$C$115:$Y$164,A54+2,0),$D$7=Données!$B$530,HLOOKUP($D$11,Données!$C$169:$Y$218,A54+2,0),$D$7=Données!$B$531,HLOOKUP($D$11,Données!$C$224:$Y$273,A54+2,0),$D$7=Données!$B$532,HLOOKUP($D$11,Données!$C$280:$Y$329,A54+2,0)))","v":1},{"$f":"_xlfn.IFS($H$14=Données!$E$536,1,$H$14=Données!$E$537,IF(D54=0,Données!$F$537,D54),$H$14=Données!$E$538,IF(D54=0,Données!$F$538,D54),$H$14=Données!$E$539,IF(AND(B54>=$C$1-Données!$G$539,C54<=$C$2+Données!$G$539),1,0),$H$14=Données!$E$540,_xlfn.IFS(AND(D54=0,OR(B54<$C$1-Données!$G$540,C54>$C$2+Données!$G$540)),D54,AND(D54=0,B54>=$C$1-Données!$G$540,C54<=$C$2+Données!$G$540),Données!$F$540,D54<>0,D54))","v":1},20,{"$error":"#N/A"},{"$f":"IF($H$8=\"oui\",_xlfn.IFS($D$11=\"Sanitaires\",(30+(15*$H$9))*E54,$H$10=\"[m3/h.local]\",$H$9*E54,AND($H$19=\"[m3/h]\",$I$19=\"[pers/m²]\"),$I$9*$D$8*$H$9*E54,AND($H$19=\"[m3/h]\",($I$19=\"[pers]\")),$I$9*$H$9*E54,$H$19=\"[Vol/h]\",$H$9*E54),0)","v":{"v":1500,"d":"1500.0"}},60,6,54,{"$f":"IF($L$14=\"particulier\",_xlfn.IFS(O54=0,$L$12*$L$9,O54>0,$L$9*O54),_xlfn.IFS(AND($L$14=1,I54=0),$L$9*$L$12,AND($L$14=1,I54>0),$L$9,AND($L$14=0,I54=0),$L$9*$L$12,AND($L$14=0,I54>0),$L$9*I54/$I$9))","v":10},0,0,{"$f":"IFERROR(IF($F$4=\"oui\",IF(OR($B54<$H$4,$C54>$I$4,AND($B54>=$K$4,$C54<=$L$4)),0,1),_xlfn.IFS($D$7=Données!$B$527,HLOOKUP($L$15,Données!$C$8:$Y$57,A54+2,0),$D$7=Données!$B$528,HLOOKUP($L$15,Données!$C$62:$Y$111,A54+2,0),$D$7=Données!$B$529,HLOOKUP($L$15,Données!$C$115:$Y$164,A54+2,0),$D$7=Données!$B$530,HLOOKUP($L$15,Données!$C$169:$Y$218,A54+2,0),$D$7=Données!$B$531,HLOOKUP($L$15,Données!$C$224:$Y$273,A54+2,0),$D$7=Données!$B$532,HLOOKUP($L$15,Données!$C$280:$Y$329,A54+2,0))),\"\")","v":""},{"$nulls":10},{"$f":"$Z$27","v":"(A copier dans DB. Attention effacer les lignes vides sinon DB plante)"},{"$nulls":18},35,"17:00:00","17:30:00","Pas de changement",4,"Pas de changement4","Pas de changement",2,"Pas de changement2"]
[36,"17:30:00","18:00:00",{"$f":"IF($I$12=\"non\",1,$I$12)*IF($F$4=\"oui\",IF(OR($B55<$H$4,$C55>$I$4,AND($B55>=$K$4,$C55<=$L$4)),0,1),_xlfn.IFS($D$7=Données!$B$527,HLOOKUP($D$11,Données!$C$8:$Y$57,A55+2,0),$D$7=Données!$B$528,HLOOKUP($D$11,Données!$C$62:$Y$111,A55+2,0),$D$7=Données!$B$529,HLOOKUP($D$11,Données!$C$115:$Y$164,A55+2,0),$D$7=Données!$B$530,HLOOKUP($D$11,Données!$C$169:$Y$218,A55+2,0),$D$7=Données!$B$531,HLOOKUP($D$11,Données!$C$224:$Y$273,A55+2,0),$D$7=Données!$B$532,HLOOKUP($D$11,Données!$C$280:$Y$329,A55+2,0)))","v":1},{"$f":"_xlfn.IFS($H$14=Données!$E$536,1,$H$14=Données!$E$537,IF(D55=0,Données!$F$537,D55),$H$14=Données!$E$538,IF(D55=0,Données!$F$538,D55),$H$14=Données!$E$539,IF(AND(B55>=$C$1-Données!$G$539,C55<=$C$2+Données!$G$539),1,0),$H$14=Données!$E$540,_xlfn.IFS(AND(D55=0,OR(B55<$C$1-Données!$G$540,C55>$C$2+Données!$G$540)),D55,AND(D55=0,B55>=$C$1-Données!$G$540,C55<=$C$2+Données!$G$540),Données!$F$540,D55<>0,D55))","v":1},20,{"$error":"#N/A"},{"$f":"IF($H$8=\"oui\",_xlfn.IFS($D$11=\"Sanitaires\",(30+(15*$H$9))*E55,$H$10=\"[m3/h.local]\",$H$9*E55,AND($H$19=\"[m3/h]\",$I$19=\"[pers/m²]\"),$I$9*$D$8*$H$9*E55,AND($H$19=\"[m3/h]\",($I$19=\"[pers]\")),$I$9*$H$9*E55,$H$19=\"[Vol/h]\",$H$9*E55),0)","v":{"v":1500,"d":"1500.0"}},60,6,54,{"$f":"IF($L$14=\"particulier\",_xlfn.IFS(O55=0,$L$12*$L$9,O55>0,$L$9*O55),_xlfn.IFS(AND($L$14=1,I55=0),$L$9*$L$12,AND($L$14=1,I55>0),$L$9,AND($L$14=0,I55=0),$L$9*$L$12,AND($L$14=0,I55>0),$L$9*I55/$I$9))","v":10},0,0,{"$f":"IFERROR(IF($F$4=\"oui\",IF(OR($B55<$H$4,$C55>$I$4,AND($B55>=$K$4,$C55<=$L$4)),0,1),_xlfn.IFS($D$7=Données!$B$527,HLOOKUP($L$15,Données!$C$8:$Y$57,A55+2,0),$D$7=Données!$B$528,HLOOKUP($L$15,Données!$C$62:$Y$111,A55+2,0),$D$7=Données!$B$529,HLOOKUP($L$15,Données!$C$115:$Y$164,A55+2,0),$D$7=Données!$B$530,HLOOKUP($L$15,Données!$C$169:$Y$218,A55+2,0),$D$7=Données!$B$531,HLOOKUP($L$15,Données!$C$224:$Y$273,A55+2,0),$D$7=Données!$B$532,HLOOKUP($L$15,Données!$C$280:$Y$329,A55+2,0))),\"\")","v":""},{"$nulls":10},"Schedule:Compact,",{"$nulls":18},36,"17:30:00","18:00:00","Pas de changement",4,"Pas de changement4","Pas de changement",2,"Pas de changement2"]
[37,"18:00:00","18:30:00",{"$f":"IF($I$12=\"non\",1,$I$12)*IF($F$4=\"oui\",IF(OR($B56<$H$4,$C56>$I$4,AND($B56>=$K$4,$C56<=$L$4)),0,1),_xlfn.IFS($D$7=Données!$B$527,HLOOKUP($D$11,Données!$C$8:$Y$57,A56+2,0),$D$7=Données!$B$528,HLOOKUP($D$11,Données!$C$62:$Y$111,A56+2,0),$D$7=Données!$B$529,HLOOKUP($D$11,Données!$C$115:$Y$164,A56+2,0),$D$7=Données!$B$530,HLOOKUP($D$11,Données!$C$169:$Y$218,A56+2,0),$D$7=Données!$B$531,HLOOKUP($D$11,Données!$C$224:$Y$273,A56+2,0),$D$7=Données!$B$532,HLOOKUP($D$11,Données!$C$280:$Y$329,A56+2,0)))","v":0},{"$f":"_xlfn.IFS($H$14=Données!$E$536,1,$H$14=Données!$E$537,IF(D56=0,Données!$F$537,D56),$H$14=Données!$E$538,IF(D56=0,Données!$F$538,D56),$H$14=Données!$E$539,IF(AND(B56>=$C$1-Données!$G$539,C56<=$C$2+Données!$G$539),1,0),$H$14=Données!$E$540,_xlfn.IFS(AND(D56=0,OR(B56<$C$1-Données!$G$540,C56>$C$2+Données!$G$540)),D56,AND(D56=0,B56>=$C$1-Données!$G$540,C56<=$C$2+Données!$G$540),Données!$F$540,D56<>0,D56))","v":1},18,{"$error":"#N/A"},{"$f":"IF($H$8=\"oui\",_xlfn.IFS($D$11=\"Sanitaires\",(30+(15*$H$9))*E56,$H$10=\"[m3/h.local]\",$H$9*E56,AND($H$19=\"[m3/h]\",$I$19=\"[pers/m²]\"),$I$9*$D$8*$H$9*E56,AND($H$19=\"[m3/h]\",($I$19=\"[pers]\")),$I$9*$H$9*E56,$H$19=\"[Vol/h]\",$H$9*E56),0)","v":{"v":1500,"d":"1500.0"}},0,0,0,{"$f":"IF($L$14=\"particulier\",_xlfn.IFS(O56=0,$L$12*$L$9,O56>0,$L$9*O56),_xlfn.IFS(AND($L$14=1,I56=0),$L$9*$L$12,AND($L$14=1,I56>0),$L$9,AND($L$14=0,I56=0),$L$9*$L$12,AND($L$14=0,I56>0),$L$9*I56/$I$9))","v":0.3},0,0,{"$f":"IFERROR(IF($F$4=\"oui\",IF(OR($B56<$H$4,$C56>$I$4,AND($B56>=$K$4,$C56<=$L$4)),0,1),_xlfn.IFS($D$7=Données!$B$527,HLOOKUP($L$15,Données!$C$8:$Y$57,A56+2,0),$D$7=Données!$B$528,HLOOKUP($L$15,Données!$C$62:$Y$111,A56+2,0),$D$7=Données!$B$529,HLOOKUP($L$15,Données!$C$115:$Y$164,A56+2,0),$D$7=Données!$B$530,HLOOKUP($L$15,Données!$C$169:$Y$218,A56+2,0),$D$7=Données!$B$531,HLOOKUP($L$15,Données!$C$224:$Y$273,A56+2,0),$D$7=Données!$B$532,HLOOKUP($L$15,Données!$C$280:$Y$329,A56+2,0))),\"\")","v":""},{"$nulls":10},{"$f":"$B$6&\"_Apports_internes\"","v":"02 _ test 2_Apports_internes"},",",{"$nulls":17},37,"18:00:00","18:30:00","Changement",5,"Changement5","Pas de changement",2,"Pas de changement2"]
[38,"18:30:00","19:00:00",{"$f":"IF($I$12=\"non\",1,$I$12)*IF($F$4=\"oui\",IF(OR($B57<$H$4,$C57>$I$4,AND($B57>=$K$4,$C57<=$L$4)),0,1),_xlfn.IFS($D$7=Données!$B$527,HLOOKUP($D$11,Données!$C$8:$Y$57,A57+2,0),$D$7=Données!$B$528,HLOOKUP($D$11,Données!$C$62:$Y$111,A57+2,0),$D$7=Données!$B$529,HLOOKUP($D$11,Données!$C$115:$Y$164,A57+2,0),$D$7=Données!$B$530,HLOOKUP($D$11,Données!$C$169:$Y$218,A57+2,0),$D$7=Données!$B$531,HLOOKUP($D$11,Données!$C$224:$Y$273,A57+2,0),$D$7=Données!$B$532,HLOOKUP($D$11,Données!$C$280:$Y$329,A57+2,0)))","v":0},{"$f":"_xlfn.IFS($H$14=Données!$E$536,1,$H$14=Données!$E$537,IF(D57=0,Données!$F$537,D57),$H$14=Données!$E$538,IF(D57=0,Données!$F$538,D57),$H$14=Données!$E$539,IF(AND(B57>=$C$1-Données!$G$539,C57<=$C$2+Données!$G$539),1,0),$H$14=Données!$E$540,_xlfn.IFS(AND(D57=0,OR(B57<$C$1-Données!$G$540,C57>$C$2+Données!$G$540)),D57,AND(D57=0,B57>=$C$1-Données!$G$540,C57<=$C$2+Données!$G$540),Données!$F$540,D57<>0,D57))","v":1},18,{"$error":"#N/A"},{"$f":"IF($H$8=\"oui\",_xlfn.IFS($D$11=\"Sanitaires\",(30+(15*$H$9))*E57,$H$10=\"[m3/h.local]\",$H$9*E57,AND($H$19=\"[m3/h]\",$I$19=\"[pers/m²]\"),$I$9*$D$8*$H$9*E57,AND($H$19=\"[m3/h]\",($I$19=\"[pers]\")),$I$9*$H$9*E57,$H$19=\"[Vol/h]\",$H$9*E57),0)","v":{"v":1500,"d":"1500.0"}},0,0,0,{"$f":"IF($L$14=\"particulier\",_xlfn.IFS(O57=0,$L$12*$L$9,O57>0,$L$9*O57),_xlfn.IFS(AND($L$14=1,I57=0),$L$9*$L$12,AND($L$14=1,I57>0),$L$9,AND($L$14=0,I57=0),$L$9*$L$12,AND($L$14=0,I57>0),$L$9*I57/$I$9))","v":0.3},0,0,{"$f":"IFERROR(IF($F$4=\"oui\",IF(OR($B57<$H$4,$C57>$I$4,AND($B57>=$K$4,$C57<=$L$4)),0,1),_xlfn.IFS($D$7=Données!$B$527,HLOOKUP($L$15,Données!$C$8:$Y$57,A57+2,0),$D$7=Données!$B$528,HLOOKUP($L$15,Données!$C$62:$Y$111,A57+2,0),$D$7=Données!$B$529,HLOOKUP($L$15,Données!$C$115:$Y$164,A57+2,0),$D$7=Données!$B$530,HLOOKUP($L$15,Données!$C$169:$Y$218,A57+2,0),$D$7=Données!$B$531,HLOOKUP($L$15,Données!$C$224:$Y$273,A57+2,0),$D$7=Données!$B$532,HLOOKUP($L$15,Données!$C$280:$Y$329,A57+2,0))),\"\")","v":""},{"$nulls":10},"Fraction,",{"$nulls":18},38,"18:30:00","19:00:00","Pas de changement",5,"Pas de changement5","Pas de changement",2,"Pas de changement2"]
[39,"19:00:00","19:30:00",{"$f":"IF($I$12=\"non\",1,$I$12)*IF($F$4=\"oui\",IF(OR($B58<$H$4,$C58>$I$4,AND($B58>=$K$4,$C58<=$L$4)),0,1),_xlfn.IFS($D$7=Données!$B$527,HLOOKUP($D$11,Données!$C$8:$Y$57,A58+2,0),$D$7=Données!$B$528,HLOOKUP($D$11,Données!$C$62:$Y$111,A58+2,0),$D$7=Données!$B$529,HLOOKUP($D$11,Données!$C$115:$Y$164,A58+2,0),$D$7=Données!$B$530,HLOOKUP($D$11,Données!$C$169:$Y$218,A58+2,0),$D$7=Données!$B$531,HLOOKUP($D$11,Données!$C$224:$Y$273,A58+2,0),$D$7=Données!$B$532,HLOOKUP($D$11,Données!$C$280:$Y$329,A58+2,0)))","v":0},{"$f":"_xlfn.IFS($H$14=Données!$E$536,1,$H$14=Données!$E$537,IF(D58=0,Données!$F$537,D58),$H$14=Données!$E$538,IF(D58=0,Données!$F$538,D58),$H$14=Données!$E$539,IF(AND(B58>=$C$1-Données!$G$539,C58<=$C$2+Données!$G$539),1,0),$H$14=Données!$E$540,_xlfn.IFS(AND(D58=0,OR(B58<$C$1-Données!$G$540,C58>$C$2+Données!$G$540)),D58,AND(D58=0,B58>=$C$1-Données!$G$540,C58<=$C$2+Données!$G$540),Données!$F$540,D58<>0,D58))","v":0},18,{"$error":"#N/A"},{"$f":"IF($H$8=\"oui\",_xlfn.IFS($D$11=\"Sanitaires\",(30+(15*$H$9))*E58,$H$10=\"[m3/h.local]\",$H$9*E58,AND($H$19=\"[m3/h]\",$I$19=\"[pers/m²]\"),$I$9*$D$8*$H$9*E58,AND($H$19=\"[m3/h]\",($I$19=\"[pers]\")),$I$9*$H$9*E58,$H$19=\"[Vol/h]\",$H$9*E58),0)","v":{"v":0,"d":"0.0"}},0,0,0,{"$f":"IF($L$14=\"particulier\",_xlfn.IFS(O58=0,$L$12*$L$9,O58>0,$L$9*O58),_xlfn.IFS(AND($L$14=1,I58=0),$L$9*$L$12,AND($L$14=1,I58>0),$L$9,AND($L$14=0,I58=0),$L$9*$L$12,AND($L$14=0,I58>0),$L$9*I58/$I$9))","v":0.3},0,0,{"$f":"IFERROR(IF($F$4=\"oui\",IF(OR($B58<$H$4,$C58>$I$4,AND($B58>=$K$4,$C58<=$L$4)),0,1),_xlfn.IFS($D$7=Données!$B$527,HLOOKUP($L$15,Données!$C$8:$Y$57,A58+2,0),$D$7=Données!$B$528,HLOOKUP($L$15,Données!$C$62:$Y$111,A58+2,0),$D$7=Données!$B$529,HLOOKUP($L$15,Données!$C$115:$Y$164,A58+2,0),$D$7=Données!$B$530,HLOOKUP($L$15,Données!$C$169:$Y$218,A58+2,0),$D$7=Données!$B$531,HLOOKUP($L$15,Données!$C$224:$Y$273,A58+2,0),$D$7=Données!$B$532,HLOOKUP($L$15,Données!$C$280:$Y$329,A58+2,0))),\"\")","v":""},{"$nulls":10},"Through: ","31 Dec,",{"$nulls":17},39,"19:00:00","19:30:00","Pas de changement",5,"Pas de changement5","Changement",3,"Changement3"]
[40,"19:30:00","20:00:00",{"$f":"IF($I$12=\"non\",1,$I$12)*IF($F$4=\"oui\",IF(OR($B59<$H$4,$C59>$I$4,AND($B59>=$K$4,$C59<=$L$4)),0,1),_xlfn.IFS($D$7=Données!$B$527,HLOOKUP($D$11,Données!$C$8:$Y$57,A59+2,0),$D$7=Données!$B$528,HLOOKUP($D$11,Données!$C$62:$Y$111,A59+2,0),$D$7=Données!$B$529,HLOOKUP($D$11,Données!$C$115:$Y$164,A59+2,0),$D$7=Données!$B$530,HLOOKUP($D$11,Données!$C$169:$Y$218,A59+2,0),$D$7=Données!$B$531,HLOOKUP($D$11,Données!$C$224:$Y$273,A59+2,0),$D$7=Données!$B$532,HLOOKUP($D$11,Données!$C$280:$Y$329,A59+2,0)))","v":0},{"$f":"_xlfn.IFS($H$14=Données!$E$536,1,$H$14=Données!$E$537,IF(D59=0,Données!$F$537,D59),$H$14=Données!$E$538,IF(D59=0,Données!$F$538,D59),$H$14=Données!$E$539,IF(AND(B59>=$C$1-Données!$G$539,C59<=$C$2+Données!$G$539),1,0),$H$14=Données!$E$540,_xlfn.IFS(AND(D59=0,OR(B59<$C$1-Données!$G$540,C59>$C$2+Données!$G$540)),D59,AND(D59=0,B59>=$C$1-Données!$G$540,C59<=$C$2+Données!$G$540),Données!$F$540,D59<>0,D59))","v":0},18,{"$error":"#N/A"},{"$f":"IF($H$8=\"oui\",_xlfn.IFS($D$11=\"Sanitaires\",(30+(15*$H$9))*E59,$H$10=\"[m3/h.local]\",$H$9*E59,AND($H$19=\"[m3/h]\",$I$19=\"[pers/m²]\"),$I$9*$D$8*$H$9*E59,AND($H$19=\"[m3/h]\",($I$19=\"[pers]\")),$I$9*$H$9*E59,$H$19=\"[Vol/h]\",$H$9*E59),0)","v":{"v":0,"d":"0.0"}},0,0,0,{"$f":"IF($L$14=\"particulier\",_xlfn.IFS(O59=0,$L$12*$L$9,O59>0,$L$9*O59),_xlfn.IFS(AND($L$14=1,I59=0),$L$9*$L$12,AND($L$14=1,I59>0),$L$9,AND($L$14=0,I59=0),$L$9*$L$12,AND($L$14=0,I59>0),$L$9*I59/$I$9))","v":0.3},0,0,{"$f":"IFERROR(IF($F$4=\"oui\",IF(OR($B59<$H$4,$C59>$I$4,AND($B59>=$K$4,$C59<=$L$4)),0,1),_xlfn.IFS($D$7=Données!$B$527,HLOOKUP($L$15,Données!$C$8:$Y$57,A59+2,0),$D$7=Données!$B$528,HLOOKUP($L$15,Données!$C$62:$Y$111,A59+2,0),$D$7=Données!$B$529,HLOOKUP($L$15,Données!$C$115:$Y$164,A59+2,0),$D$7=Données!$B$530,HLOOKUP($L$15,Données!$C$169:$Y$218,A59+2,0),$D$7=Données!$B$531,HLOOKUP($L$15,Données!$C$224:$Y$273,A59+2,0),$D$7=Données!$B$532,HLOOKUP($L$15,Données!$C$280:$Y$329,A59+2,0))),\"\")","v":""},{"$nulls":10},"For: ","Weekdays",",",{"$nulls":7},"Tanscrire les virgules en point",{"$nulls":8},40,"19:30:00","20:00:00","Pas de changement",5,"Pas de changement5","Pas de changement",3,"Pas de changement3"]
[41,"20:00:00","20:30:00",{"$f":"IF($I$12=\"non\",1,$I$12)*IF($F$4=\"oui\",IF(OR($B60<$H$4,$C60>$I$4,AND($B60>=$K$4,$C60<=$L$4)),0,1),_xlfn.IFS($D$7=Données!$B$527,HLOOKUP($D$11,Données!$C$8:$Y$57,A60+2,0),$D$7=Données!$B$528,HLOOKUP($D$11,Données!$C$62:$Y$111,A60+2,0),$D$7=Données!$B$529,HLOOKUP($D$11,Données!$C$115:$Y$164,A60+2,0),$D$7=Données!$B$530,HLOOKUP($D$11,Données!$C$169:$Y$218,A60+2,0),$D$7=Données!$B$531,HLOOKUP($D$11,Données!$C$224:$Y$273,A60+2,0),$D$7=Données!$B$532,HLOOKUP($D$11,Données!$C$280:$Y$329,A60+2,0)))","v":0},{"$f":"_xlfn.IFS($H$14=Données!$E$536,1,$H$14=Données!$E$537,IF(D60=0,Données!$F$537,D60),$H$14=Données!$E$538,IF(D60=0,Données!$F$538,D60),$H$14=Données!$E$539,IF(AND(B60>=$C$1-Données!$G$539,C60<=$C$2+Données!$G$539),1,0),$H$14=Données!$E$540,_xlfn.IFS(AND(D60=0,OR(B60<$C$1-Données!$G$540,C60>$C$2+Données!$G$540)),D60,AND(D60=0,B60>=$C$1-Données!$G$540,C60<=$C$2+Données!$G$540),Données!$F$540,D60<>0,D60))","v":0},18,{"$error":"#N/A"},{"$f":"IF($H$8=\"oui\",_xlfn.IFS($D$11=\"Sanitaires\",(30+(15*$H$9))*E60,$H$10=\"[m3/h.local]\",$H$9*E60,AND($H$19=\"[m3/h]\",$I$19=\"[pers/m²]\"),$I$9*$D$8*$H$9*E60,AND($H$19=\"[m3/h]\",($I$19=\"[pers]\")),$I$9*$H$9*E60,$H$19=\"[Vol/h]\",$H$9*E60),0)","v":{"v":0,"d":"0.0"}},0,0,0,{"$f":"IF($L$14=\"particulier\",_xlfn.IFS(O60=0,$L$12*$L$9,O60>0,$L$9*O60),_xlfn.IFS(AND($L$14=1,I60=0),$L$9*$L$12,AND($L$14=1,I60>0),$L$9,AND($L$14=0,I60=0),$L$9*$L$12,AND($L$14=0,I60>0),$L$9*I60/$I$9))","v":0.3},0,0,{"$f":"IFERROR(IF($F$4=\"oui\",IF(OR($B60<$H$4,$C60>$I$4,AND($B60>=$K$4,$C60<=$L$4)),0,1),_xlfn.IFS($D$7=Données!$B$527,HLOOKUP($L$15,Données!$C$8:$Y$57,A60+2,0),$D$7=Données!$B$528,HLOOKUP($L$15,Données!$C$62:$Y$111,A60+2,0),$D$7=Données!$B$529,HLOOKUP($L$15,Données!$C$115:$Y$164,A60+2,0),$D$7=Données!$B$530,HLOOKUP($L$15,Données!$C$169:$Y$218,A60+2,0),$D$7=Données!$B$531,HLOOKUP($L$15,Données!$C$224:$Y$273,A60+2,0),$D$7=Données!$B$532,HLOOKUP($L$15,Données!$C$280:$Y$329,A60+2,0))),\"\")","v":""},{"$nulls":8},{"$f":"IFERROR(IF(X59+1<=$AV$69-1,X59+1,\"\"),\"\")","v":1},null,{"$f":"IF(X60=\"\",\"\",\"Until:\")","v":"Until:"},{"$f":"IF(X60=\"\",\"\",IFERROR(IF(X60=$AV$69-1,$AU$67,VLOOKUP(MATCH(TRUE,INDEX($AX$20:$AX$67=\"Changement\"&X61,0),0),$AS$20:$AU$67,2,0)),\"\"))","v":0.33333333333333326},{"$f":"IF(X60=\"\",\"\",\",\")","v":","},{"$f":"IF(AN60=\"\",\"\",_xlfn.IFS(AJ60=$AA$52,AN60,AND(AJ60<>$AA$52,$L$14=0),AN60,AND(AJ60<>$AA$52,$L$14=1),1))","v":"0.3"},{"$f":"IF(X60=\"\",\"\",\",\")","v":","},{"$nulls":5},{"$f":"IF(X60=\"\",\"\",IF(VLOOKUP(MATCH(TRUE,INDEX($AX$20:$AX$67=\"Changement\"&X60,0),0),$A$20:$N$67,4,0)=0,$AA$52,VLOOKUP(MATCH(TRUE,INDEX($AX$20:$AX$67=\"Changement\"&X60,0),0),$A$20:$N$67,4,0)))","v":0.03},{"$f":"IF(AJ60=\"\",\"\",TRUNC(AJ60,0))","v":0},{"$f":"IF(AJ60=\"\",\"\",TRUNC((AJ60-AK60)*10,0))","v":0},{"$f":"IF(AJ60=\"\",\"\",IF(AJ60=AK60+AL60/10,0,TRUNC((AJ60*1-AL60)*100,0)))","v":3},{"$f":"IF(AJ60=\"\",\"\",TRUNC(AJ60,0)&\".\"&ROUND(AJ60-TRUNC(AJ60,0),2)*100)","v":"0.3"},{"$nulls":4},41,"20:00:00","20:30:00","Pas de changement",5,"Pas de changement5","Pas de changement",3,"Pas de changement3"]
[42,"20:30:00","21:00:00",{"$f":"IF($I$12=\"non\",1,$I$12)*IF($F$4=\"oui\",IF(OR($B61<$H$4,$C61>$I$4,AND($B61>=$K$4,$C61<=$L$4)),0,1),_xlfn.IFS($D$7=Données!$B$527,HLOOKUP($D$11,Données!$C$8:$Y$57,A61+2,0),$D$7=Données!$B$528,HLOOKUP($D$11,Données!$C$62:$Y$111,A61+2,0),$D$7=Données!$B$529,HLOOKUP($D$11,Données!$C$115:$Y$164,A61+2,0),$D$7=Données!$B$530,HLOOKUP($D$11,Données!$C$169:$Y$218,A61+2,0),$D$7=Données!$B$531,HLOOKUP($D$11,Données!$C$224:$Y$273,A61+2,0),$D$7=Données!$B$532,HLOOKUP($D$11,Données!$C$280:$Y$329,A61+2,0)))","v":0},{"$f":"_xlfn.IFS($H$14=Données!$E$536,1,$H$14=Données!$E$537,IF(D61=0,Données!$F$537,D61),$H$14=Données!$E$538,IF(D61=0,Données!$F$538,D61),$H$14=Données!$E$539,IF(AND(B61>=$C$1-Données!$G$539,C61<=$C$2+Données!$G$539),1,0),$H$14=Données!$E$540,_xlfn.IFS(AND(D61=0,OR(B61<$C$1-Données!$G$540,C61>$C$2+Données!$G$540)),D61,AND(D61=0,B61>=$C$1-Données!$G$540,C61<=$C$2+Données!$G$540),Données!$F$540,D61<>0,D61))","v":0},18,{"$error":"#N/A"},{"$f":"IF($H$8=\"oui\",_xlfn.IFS($D$11=\"Sanitaires\",(30+(15*$H$9))*E61,$H$10=\"[m3/h.local]\",$H$9*E61,AND($H$19=\"[m3/h]\",$I$19=\"[pers/m²]\"),$I$9*$D$8*$H$9*E61,AND($H$19=\"[m3/h]\",($I$19=\"[pers]\")),$I$9*$H$9*E61,$H$19=\"[Vol/h]\",$H$9*E61),0)","v":{"v":0,"d":"0.0"}},0,0,0,{"$f":"IF($L$14=\"particulier\",_xlfn.IFS(O61=0,$L$12*$L$9,O61>0,$L$9*O61),_xlfn.IFS(AND($L$14=1,I61=0),$L$9*$L$12,AND($L$14=1,I61>0),$L$9,AND($L$14=0,I61=0),$L$9*$L$12,AND($L$14=0,I61>0),$L$9*I61/$I$9))","v":0.3},0,0,{"$f":"IFERROR(IF($F$4=\"oui\",IF(OR($B61<$H$4,$C61>$I$4,AND($B61>=$K$4,$C61<=$L$4)),0,1),_xlfn.IFS($D$7=Données!$B$527,HLOOKUP($L$15,Données!$C$8:$Y$57,A61+2,0),$D$7=Données!$B$528,HLOOKUP($L$15,Données!$C$62:$Y$111,A61+2,0),$D$7=Données!$B$529,HLOOKUP($L$15,Données!$C$115:$Y$164,A61+2,0),$D$7=Données!$B$530,HLOOKUP($L$15,Données!$C$169:$Y$218,A61+2,0),$D$7=Données!$B$531,HLOOKUP($L$15,Données!$C$224:$Y$273,A61+2,0),$D$7=Données!$B$532,HLOOKUP($L$15,Données!$C$280:$Y$329,A61+2,0))),\"\")","v":""},{"$nulls":8},2,null,{"$f":"IF(X61=\"\",\"\",\"Until:\")","v":"Until:"},{"$f":"IF(X61=\"\",\"\",IFERROR(IF(X61=$AV$69-1,$AU$67,VLOOKUP(MATCH(TRUE,INDEX($AX$20:$AX$67=\"Changement\"&X62,0),0),$AS$20:$AU$67,2,0)),\"\"))","v":0.4999999999999998},{"$f":"IF(X61=\"\",\"\",\",\")","v":","},{"$f":"IF(AN61=\"\",\"\",_xlfn.IFS(AJ61=$AA$52,AN61,AND(AJ61<>$AA$52,$L$14=0),AN61,AND(AJ61<>$AA$52,$L$14=1),1))","v":1},{"$f":"IF(X61=\"\",\"\",\",\")","v":","},{"$nulls":5},{"$f":"IF(X61=\"\",\"\",IF(VLOOKUP(MATCH(TRUE,INDEX($AX$20:$AX$67=\"Changement\"&X61,0),0),$A$20:$N$67,4,0)=0,$AA$52,VLOOKUP(MATCH(TRUE,INDEX($AX$20:$AX$67=\"Changement\"&X61,0),0),$A$20:$N$67,4,0)))","v":1},{"$f":"IF(AJ61=\"\",\"\",TRUNC(AJ61,0))","v":1},{"$f":"IF(AJ61=\"\",\"\",TRUNC((AJ61-AK61)*10,0))","v":0},{"$f":"IF(AJ61=\"\",\"\",IF(AJ61=AK61+AL61/10,0,TRUNC((AJ61*1-AL61)*100,0)))","v":0},{"$f":"IF(AJ61=\"\",\"\",TRUNC(AJ61,0)&\".\"&ROUND(AJ61-TRUNC(AJ61,0),2)*100)","v":"1.0"},{"$nulls":4},42,"20:30:00","21:00:00","Pas de changement",5,"Pas de changement5","Pas de changement",3,"Pas de changement3"]
[43,"21:00:00","21:30:00",{"$f":"IF($I$12=\"non\",1,$I$12)*IF($F$4=\"oui\",IF(OR($B62<$H$4,$C62>$I$4,AND($B62>=$K$4,$C62<=$L$4)),0,1),_xlfn.IFS($D$7=Données!$B$527,HLOOKUP($D$11,Données!$C$8:$Y$57,A62+2,0),$D$7=Données!$B$528,HLOOKUP($D$11,Données!$C$62:$Y$111,A62+2,0),$D$7=Données!$B$529,HLOOKUP($D$11,Données!$C$115:$Y$164,A62+2,0),$D$7=Données!$B$530,HLOOKUP($D$11,Données!$C$169:$Y$218,A62+2,0),$D$7=Données!$B$531,HLOOKUP($D$11,Données!$C$224:$Y$273,A62+2,0),$D$7=Données!$B$532,HLOOKUP($D$11,Données!$C$280:$Y$329,A62+2,0)))","v":0},{"$f":"_xlfn.IFS($H$14=Données!$E$536,1,$H$14=Données!$E$537,IF(D62=0,Données!$F$537,D62),$H$14=Données!$E$538,IF(D62=0,Données!$F$538,D62),$H$14=Données!$E$539,IF(AND(B62>=$C$1-Données!$G$539,C62<=$C$2+Données!$G$539),1,0),$H$14=Données!$E$540,_xlfn.IFS(AND(D62=0,OR(B62<$C$1-Données!$G$540,C62>$C$2+Données!$G$540)),D62,AND(D62=0,B62>=$C$1-Données!$G$540,C62<=$C$2+Données!$G$540),Données!$F$540,D62<>0,D62))","v":0},18,{"$error":"#N/A"},{"$f":"IF($H$8=\"oui\",_xlfn.IFS($D$11=\"Sanitaires\",(30+(15*$H$9))*E62,$H$10=\"[m3/h.local]\",$H$9*E62,AND($H$19=\"[m3/h]\",$I$19=\"[pers/m²]\"),$I$9*$D$8*$H$9*E62,AND($H$19=\"[m3/h]\",($I$19=\"[pers]\")),$I$9*$H$9*E62,$H$19=\"[Vol/h]\",$H$9*E62),0)","v":{"v":0,"d":"0.0"}},0,0,0,{"$f":"IF($L$14=\"particulier\",_xlfn.IFS(O62=0,$L$12*$L$9,O62>0,$L$9*O62),_xlfn.IFS(AND($L$14=1,I62=0),$L$9*$L$12,AND($L$14=1,I62>0),$L$9,AND($L$14=0,I62=0),$L$9*$L$12,AND($L$14=0,I62>0),$L$9*I62/$I$9))","v":0.3},0,0,{"$f":"IFERROR(IF($F$4=\"oui\",IF(OR($B62<$H$4,$C62>$I$4,AND($B62>=$K$4,$C62<=$L$4)),0,1),_xlfn.IFS($D$7=Données!$B$527,HLOOKUP($L$15,Données!$C$8:$Y$57,A62+2,0),$D$7=Données!$B$528,HLOOKUP($L$15,Données!$C$62:$Y$111,A62+2,0),$D$7=Données!$B$529,HLOOKUP($L$15,Données!$C$115:$Y$164,A62+2,0),$D$7=Données!$B$530,HLOOKUP($L$15,Données!$C$169:$Y$218,A62+2,0),$D$7=Données!$B$531,HLOOKUP($L$15,Données!$C$224:$Y$273,A62+2,0),$D$7=Données!$B$532,HLOOKUP($L$15,Données!$C$280:$Y$329,A62+2,0))),\"\")","v":""},{"$nulls":8},3,null,"Until:",{"$f":"IF(X62=\"\",\"\",IFERROR(IF(X62=$AV$69-1,$AU$67,VLOOKUP(MATCH(TRUE,INDEX($AX$20:$AX$67=\"Changement\"&X63,0),0),$AS$20:$AU$67,2,0)),\"\"))","v":0.5833333333333333},",",{"$f":"IF(AN62=\"\",\"\",_xlfn.IFS(AJ62=$AA$52,AN62,AND(AJ62<>$AA$52,$L$14=0),AN62,AND(AJ62<>$AA$52,$L$14=1),1))","v":"0.3"},",",{"$nulls":5},{"$f":"IF(X62=\"\",\"\",IF(VLOOKUP(MATCH(TRUE,INDEX($AX$20:$AX$67=\"Changement\"&X62,0),0),$A$20:$N$67,4,0)=0,$AA$52,VLOOKUP(MATCH(TRUE,INDEX($AX$20:$AX$67=\"Changement\"&X62,0),0),$A$20:$N$67,4,0)))","v":0.03},0,0,3,"0.3",{"$nulls":4},43,"21:00:00","21:30:00","Pas de changement",5,"Pas de changement5","Pas de changement",3,"Pas de changement3"]
[44,{"$f":"C62","v":"21:30:00"},{"$f":"C62+0.5/24","v":"22:00:00"},{"$f":"IF($I$12=\"non\",1,$I$12)*IF($F$4=\"oui\",IF(OR($B63<$H$4,$C63>$I$4,AND($B63>=$K$4,$C63<=$L$4)),0,1),_xlfn.IFS($D$7=Données!$B$527,HLOOKUP($D$11,Données!$C$8:$Y$57,A63+2,0),$D$7=Données!$B$528,HLOOKUP($D$11,Données!$C$62:$Y$111,A63+2,0),$D$7=Données!$B$529,HLOOKUP($D$11,Données!$C$115:$Y$164,A63+2,0),$D$7=Données!$B$530,HLOOKUP($D$11,Données!$C$169:$Y$218,A63+2,0),$D$7=Données!$B$531,HLOOKUP($D$11,Données!$C$224:$Y$273,A63+2,0),$D$7=Données!$B$532,HLOOKUP($D$11,Données!$C$280:$Y$329,A63+2,0)))","v":0},{"$f":"_xlfn.IFS($H$14=Données!$E$536,1,$H$14=Données!$E$537,IF(D63=0,Données!$F$537,D63),$H$14=Données!$E$538,IF(D63=0,Données!$F$538,D63),$H$14=Données!$E$539,IF(AND(B63>=$C$1-Données!$G$539,C63<=$C$2+Données!$G$539),1,0),$H$14=Données!$E$540,_xlfn.IFS(AND(D63=0,OR(B63<$C$1-Données!$G$540,C63>$C$2+Données!$G$540)),D63,AND(D63=0,B63>=$C$1-Données!$G$540,C63<=$C$2+Données!$G$540),Données!$F$540,D63<>0,D63))","v":0},18,{"$error":"#N/A"},{"$f":"IF($H$8=\"oui\",_xlfn.IFS($D$11=\"Sanitaires\",(30+(15*$H$9))*E63,$H$10=\"[m3/h.local]\",$H$9*E63,AND($H$19=\"[m3/h]\",$I$19=\"[pers/m²]\"),$I$9*$D$8*$H$9*E63,AND($H$19=\"[m3/h]\",($I$19=\"[pers]\")),$I$9*$H$9*E63,$H$19=\"[Vol/h]\",$H$9*E63),0)","v":{"v":0,"d":"0.0"}},0,0,0,{"$f":"IF($L$14=\"particulier\",_xlfn.IFS(O63=0,$L$12*$L$9,O63>0,$L$9*O63),_xlfn.IFS(AND($L$14=1,I63=0),$L$9*$L$12,AND($L$14=1,I63>0),$L$9,AND($L$14=0,I63=0),$L$9*$L$12,AND($L$14=0,I63>0),$L$9*I63/$I$9))","v":0.3},0,0,{"$f":"IFERROR(IF($F$4=\"oui\",IF(OR($B63<$H$4,$C63>$I$4,AND($B63>=$K$4,$C63<=$L$4)),0,1),_xlfn.IFS($D$7=Données!$B$527,HLOOKUP($L$15,Données!$C$8:$Y$57,A63+2,0),$D$7=Données!$B$528,HLOOKUP($L$15,Données!$C$62:$Y$111,A63+2,0),$D$7=Données!$B$529,HLOOKUP($L$15,Données!$C$115:$Y$164,A63+2,0),$D$7=Données!$B$530,HLOOKUP($L$15,Données!$C$169:$Y$218,A63+2,0),$D$7=Données!$B$531,HLOOKUP($L$15,Données!$C$224:$Y$273,A63+2,0),$D$7=Données!$B$532,HLOOKUP($L$15,Données!$C$280:$Y$329,A63+2,0))),\"\")","v":""},{"$nulls":8},4,null,"Until:",{"$f":"IF(X63=\"\",\"\",IFERROR(IF(X63=$AV$69-1,$AU$67,VLOOKUP(MATCH(TRUE,INDEX($AX$20:$AX$67=\"Changement\"&X64,0),0),$AS$20:$AU$67,2,0)),\"\"))","v":0.7500000000000002},",",{"$f":"IF(AN63=\"\",\"\",_xlfn.IFS(AJ63=$AA$52,AN63,AND(AJ63<>$AA$52,$L$14=0),AN63,AND(AJ63<>$AA$52,$L$14=1),1))","v":1},",",{"$nulls":5},{"$f":"IF(X63=\"\",\"\",IF(VLOOKUP(MATCH(TRUE,INDEX($AX$20:$AX$67=\"Changement\"&X63,0),0),$A$20:$N$67,4,0)=0,$AA$52,VLOOKUP(MATCH(TRUE,INDEX($AX$20:$AX$67=\"Changement\"&X63,0),0),$A$20:$N$67,4,0)))","v":1},1,0,0,"1.0",{"$nulls":4},44,{"$f":"AU62","v":"21:30:00"},{"$f":"AU62+0.5/24","v":"22:00:00"},"Pas de changement",5,"Pas de changement5","Pas de changement",3,"Pas de changement3"]
[45,{"$f":"C63","v":"22:00:00"},{"$f":"C63+0.5/24","v":"22:30:00"},{"$f":"IF($I$12=\"non\",1,$I$12)*IF($F$4=\"oui\",IF(OR($B64<$H$4,$C64>$I$4,AND($B64>=$K$4,$C64<=$L$4)),0,1),_xlfn.IFS($D$7=Données!$B$527,HLOOKUP($D$11,Données!$C$8:$Y$57,A64+2,0),$D$7=Données!$B$528,HLOOKUP($D$11,Données!$C$62:$Y$111,A64+2,0),$D$7=Données!$B$529,HLOOKUP($D$11,Données!$C$115:$Y$164,A64+2,0),$D$7=Données!$B$530,HLOOKUP($D$11,Données!$C$169:$Y$218,A64+2,0),$D$7=Données!$B$531,HLOOKUP($D$11,Données!$C$224:$Y$273,A64+2,0),$D$7=Données!$B$532,HLOOKUP($D$11,Données!$C$280:$Y$329,A64+2,0)))","v":0},{"$f":"_xlfn.IFS($H$14=Données!$E$536,1,$H$14=Données!$E$537,IF(D64=0,Données!$F$537,D64),$H$14=Données!$E$538,IF(D64=0,Données!$F$538,D64),$H$14=Données!$E$539,IF(AND(B64>=$C$1-Données!$G$539,C64<=$C$2+Données!$G$539),1,0),$H$14=Données!$E$540,_xlfn.IFS(AND(D64=0,OR(B64<$C$1-Données!$G$540,C64>$C$2+Données!$G$540)),D64,AND(D64=0,B64>=$C$1-Données!$G$540,C64<=$C$2+Données!$G$540),Données!$F$540,D64<>0,D64))","v":0},18,{"$error":"#N/A"},{"$f":"IF($H$8=\"oui\",_xlfn.IFS($D$11=\"Sanitaires\",(30+(15*$H$9))*E64,$H$10=\"[m3/h.local]\",$H$9*E64,AND($H$19=\"[m3/h]\",$I$19=\"[pers/m²]\"),$I$9*$D$8*$H$9*E64,AND($H$19=\"[m3/h]\",($I$19=\"[pers]\")),$I$9*$H$9*E64,$H$19=\"[Vol/h]\",$H$9*E64),0)","v":{"v":0,"d":"0.0"}},0,0,0,{"$f":"IF($L$14=\"particulier\",_xlfn.IFS(O64=0,$L$12*$L$9,O64>0,$L$9*O64),_xlfn.IFS(AND($L$14=1,I64=0),$L$9*$L$12,AND($L$14=1,I64>0),$L$9,AND($L$14=0,I64=0),$L$9*$L$12,AND($L$14=0,I64>0),$L$9*I64/$I$9))","v":0.3},0,0,{"$f":"IFERROR(IF($F$4=\"oui\",IF(OR($B64<$H$4,$C64>$I$4,AND($B64>=$K$4,$C64<=$L$4)),0,1),_xlfn.IFS($D$7=Données!$B$527,HLOOKUP($L$15,Données!$C$8:$Y$57,A64+2,0),$D$7=Données!$B$528,HLOOKUP($L$15,Données!$C$62:$Y$111,A64+2,0),$D$7=Données!$B$529,HLOOKUP($L$15,Données!$C$115:$Y$164,A64+2,0),$D$7=Données!$B$530,HLOOKUP($L$15,Données!$C$169:$Y$218,A64+2,0),$D$7=Données!$B$531,HLOOKUP($L$15,Données!$C$224:$Y$273,A64+2,0),$D$7=Données!$B$532,HLOOKUP($L$15,Données!$C$280:$Y$329,A64+2,0))),\"\")","v":""},{"$nulls":8},5,null,"Until:",{"$f":"IF(X64=\"\",\"\",IFERROR(IF(X64=$AV$69-1,$AU$67,VLOOKUP(MATCH(TRUE,INDEX($AX$20:$AX$67=\"Changement\"&X65,0),0),$AS$20:$AU$67,2,0)),\"\"))","v":1},",",{"$f":"IF(AN64=\"\",\"\",_xlfn.IFS(AJ64=$AA$52,AN64,AND(AJ64<>$AA$52,$L$14=0),AN64,AND(AJ64<>$AA$52,$L$14=1),1))","v":"0.3"},",",{"$nulls":5},{"$f":"IF(X64=\"\",\"\",IF(VLOOKUP(MATCH(TRUE,INDEX($AX$20:$AX$67=\"Changement\"&X64,0),0),$A$20:$N$67,4,0)=0,$AA$52,VLOOKUP(MATCH(TRUE,INDEX($AX$20:$AX$67=\"Changement\"&X64,0),0),$A$20:$N$67,4,0)))","v":0.03},0,0,3,"0.3",{"$nulls":4},45,{"$f":"AU63","v":"22:00:00"},{"$f":"AU63+0.5/24","v":"22:30:00"},"Pas de changement",5,"Pas de changement5","Pas de changement",3,"Pas de changement3"]
[46,"22:30:00","23:00:00",{"$f":"IF($I$12=\"non\",1,$I$12)*IF($F$4=\"oui\",IF(OR($B65<$H$4,$C65>$I$4,AND($B65>=$K$4,$C65<=$L$4)),0,1),_xlfn.IFS($D$7=Données!$B$527,HLOOKUP($D$11,Données!$C$8:$Y$57,A65+2,0),$D$7=Données!$B$528,HLOOKUP($D$11,Données!$C$62:$Y$111,A65+2,0),$D$7=Données!$B$529,HLOOKUP($D$11,Données!$C$115:$Y$164,A65+2,0),$D$7=Données!$B$530,HLOOKUP($D$11,Données!$C$169:$Y$218,A65+2,0),$D$7=Données!$B$531,HLOOKUP($D$11,Données!$C$224:$Y$273,A65+2,0),$D$7=Données!$B$532,HLOOKUP($D$11,Données!$C$280:$Y$329,A65+2,0)))","v":0},{"$f":"_xlfn.IFS($H$14=Données!$E$536,1,$H$14=Données!$E$537,IF(D65=0,Données!$F$537,D65),$H$14=Données!$E$538,IF(D65=0,Données!$F$538,D65),$H$14=Données!$E$539,IF(AND(B65>=$C$1-Données!$G$539,C65<=$C$2+Données!$G$539),1,0),$H$14=Données!$E$540,_xlfn.IFS(AND(D65=0,OR(B65<$C$1-Données!$G$540,C65>$C$2+Données!$G$540)),D65,AND(D65=0,B65>=$C$1-Données!$G$540,C65<=$C$2+Données!$G$540),Données!$F$540,D65<>0,D65))","v":0},18,{"$error":"#N/A"},{"$f":"IF($H$8=\"oui\",_xlfn.IFS($D$11=\"Sanitaires\",(30+(15*$H$9))*E65,$H$10=\"[m3/h.local]\",$H$9*E65,AND($H$19=\"[m3/h]\",$I$19=\"[pers/m²]\"),$I$9*$D$8*$H$9*E65,AND($H$19=\"[m3/h]\",($I$19=\"[pers]\")),$I$9*$H$9*E65,$H$19=\"[Vol/h]\",$H$9*E65),0)","v":{"v":0,"d":"0.0"}},0,0,0,{"$f":"IF($L$14=\"particulier\",_xlfn.IFS(O65=0,$L$12*$L$9,O65>0,$L$9*O65),_xlfn.IFS(AND($L$14=1,I65=0),$L$9*$L$12,AND($L$14=1,I65>0),$L$9,AND($L$14=0,I65=0),$L$9*$L$12,AND($L$14=0,I65>0),$L$9*I65/$I$9))","v":0.3},0,0,{"$f":"IFERROR(IF($F$4=\"oui\",IF(OR($B65<$H$4,$C65>$I$4,AND($B65>=$K$4,$C65<=$L$4)),0,1),_xlfn.IFS($D$7=Données!$B$527,HLOOKUP($L$15,Données!$C$8:$Y$57,A65+2,0),$D$7=Données!$B$528,HLOOKUP($L$15,Données!$C$62:$Y$111,A65+2,0),$D$7=Données!$B$529,HLOOKUP($L$15,Données!$C$115:$Y$164,A65+2,0),$D$7=Données!$B$530,HLOOKUP($L$15,Données!$C$169:$Y$218,A65+2,0),$D$7=Données!$B$531,HLOOKUP($L$15,Données!$C$224:$Y$273,A65+2,0),$D$7=Données!$B$532,HLOOKUP($L$15,Données!$C$280:$Y$329,A65+2,0))),\"\")","v":""},{"$nulls":8},"",null,"",{"$f":"IF(X65=\"\",\"\",IFERROR(IF(X65=$AV$69-1,$AU$67,VLOOKUP(MATCH(TRUE,INDEX($AX$20:$AX$67=\"Changement\"&X66,0),0),$AS$20:$AU$67,2,0)),\"\"))","v":""},"",{"$f":"IF(AN65=\"\",\"\",_xlfn.IFS(AJ65=$AA$52,AN65,AND(AJ65<>$AA$52,$L$14=0),AN65,AND(AJ65<>$AA$52,$L$14=1),1))","v":""},"",{"$nulls":5},{"$f":"IF(X65=\"\",\"\",IF(VLOOKUP(MATCH(TRUE,INDEX($AX$20:$AX$67=\"Changement\"&X65,0),0),$A$20:$N$67,4,0)=0,$AA$52,VLOOKUP(MATCH(TRUE,INDEX($AX$20:$AX$67=\"Changement\"&X65,0),0),$A$20:$N$67,4,0)))","v":""},"","","","",{"$nulls":4},46,"22:30:00","23:00:00","Pas de changement",5,"Pas de changement5","Pas de changement",3,"Pas de changement3"]
[47,"23:00:00","23:30:00",{"$f":"IF($I$12=\"non\",1,$I$12)*IF($F$4=\"oui\",IF(OR($B66<$H$4,$C66>$I$4,AND($B66>=$K$4,$C66<=$L$4)),0,1),_xlfn.IFS($D$7=Données!$B$527,HLOOKUP($D$11,Données!$C$8:$Y$57,A66+2,0),$D$7=Données!$B$528,HLOOKUP($D$11,Données!$C$62:$Y$111,A66+2,0),$D$7=Données!$B$529,HLOOKUP($D$11,Données!$C$115:$Y$164,A66+2,0),$D$7=Données!$B$530,HLOOKUP($D$11,Données!$C$169:$Y$218,A66+2,0),$D$7=Données!$B$531,HLOOKUP($D$11,Données!$C$224:$Y$273,A66+2,0),$D$7=Données!$B$532,HLOOKUP($D$11,Données!$C$280:$Y$329,A66+2,0)))","v":0},{"$f":"_xlfn.IFS($H$14=Données!$E$536,1,$H$14=Données!$E$537,IF(D66=0,Données!$F$537,D66),$H$14=Données!$E$538,IF(D66=0,Données!$F$538,D66),$H$14=Données!$E$539,IF(AND(B66>=$C$1-Données!$G$539,C66<=$C$2+Données!$G$539),1,0),$H$14=Données!$E$540,_xlfn.IFS(AND(D66=0,OR(B66<$C$1-Données!$G$540,C66>$C$2+Données!$G$540)),D66,AND(D66=0,B66>=$C$1-Données!$G$540,C66<=$C$2+Données!$G$540),Données!$F$540,D66<>0,D66))","v":0},18,{"$error":"#N/A"},{"$f":"IF($H$8=\"oui\",_xlfn.IFS($D$11=\"Sanitaires\",(30+(15*$H$9))*E66,$H$10=\"[m3/h.local]\",$H$9*E66,AND($H$19=\"[m3/h]\",$I$19=\"[pers/m²]\"),$I$9*$D$8*$H$9*E66,AND($H$19=\"[m3/h]\",($I$19=\"[pers]\")),$I$9*$H$9*E66,$H$19=\"[Vol/h]\",$H$9*E66),0)","v":{"v":0,"d":"0.0"}},0,0,0,{"$f":"IF($L$14=\"particulier\",_xlfn.IFS(O66=0,$L$12*$L$9,O66>0,$L$9*O66),_xlfn.IFS(AND($L$14=1,I66=0),$L$9*$L$12,AND($L$14=1,I66>0),$L$9,AND($L$14=0,I66=0),$L$9*$L$12,AND($L$14=0,I66>0),$L$9*I66/$I$9))","v":0.3},0,0,{"$f":"IFERROR(IF($F$4=\"oui\",IF(OR($B66<$H$4,$C66>$I$4,AND($B66>=$K$4,$C66<=$L$4)),0,1),_xlfn.IFS($D$7=Données!$B$527,HLOOKUP($L$15,Données!$C$8:$Y$57,A66+2,0),$D$7=Données!$B$528,HLOOKUP($L$15,Données!$C$62:$Y$111,A66+2,0),$D$7=Données!$B$529,HLOOKUP($L$15,Données!$C$115:$Y$164,A66+2,0),$D$7=Données!$B$530,HLOOKUP($L$15,Données!$C$169:$Y$218,A66+2,0),$D$7=Données!$B$531,HLOOKUP($L$15,Données!$C$224:$Y$273,A66+2,0),$D$7=Données!$B$532,HLOOKUP($L$15,Données!$C$280:$Y$329,A66+2,0))),\"\")","v":""},{"$nulls":8},"",null,"",{"$f":"IF(X66=\"\",\"\",IFERROR(IF(X66=$AV$69-1,$AU$67,VLOOKUP(MATCH(TRUE,INDEX($AX$20:$AX$67=\"Changement\"&X67,0),0),$AS$20:$AU$67,2,0)),\"\"))","v":""},"",{"$f":"IF(AN66=\"\",\"\",_xlfn.IFS(AJ66=$AA$52,AN66,AND(AJ66<>$AA$52,$L$14=0),AN66,AND(AJ66<>$AA$52,$L$14=1),1))","v":""},"",{"$nulls":5},{"$f":"IF(X66=\"\",\"\",IF(VLOOKUP(MATCH(TRUE,INDEX($AX$20:$AX$67=\"Changement\"&X66,0),0),$A$20:$N$67,4,0)=0,$AA$52,VLOOKUP(MATCH(TRUE,INDEX($AX$20:$AX$67=\"Changement\"&X66,0),0),$A$20:$N$67,4,0)))","v":""},"","","","",{"$nulls":4},47,"23:00:00","23:30:00","Pas de changement",5,"Pas de changement5","Pas de changement",3,"Pas de changement3"]
[48,"23:30:00",1.0000000000000007,{"$f":"IF($I$12=\"non\",1,$I$12)*IF($F$4=\"oui\",IF(OR($B67<$H$4,$C67>$I$4,AND($B67>=$K$4,$C67<=$L$4)),0,1),_xlfn.IFS($D$7=Données!$B$527,HLOOKUP($D$11,Données!$C$8:$Y$57,A67+2,0),$D$7=Données!$B$528,HLOOKUP($D$11,Données!$C$62:$Y$111,A67+2,0),$D$7=Données!$B$529,HLOOKUP($D$11,Données!$C$115:$Y$164,A67+2,0),$D$7=Données!$B$530,HLOOKUP($D$11,Données!$C$169:$Y$218,A67+2,0),$D$7=Données!$B$531,HLOOKUP($D$11,Données!$C$224:$Y$273,A67+2,0),$D$7=Données!$B$532,HLOOKUP($D$11,Données!$C$280:$Y$329,A67+2,0)))","v":0},{"$f":"_xlfn.IFS($H$14=Données!$E$536,1,$H$14=Données!$E$537,IF(D67=0,Données!$F$537,D67),$H$14=Données!$E$538,IF(D67=0,Données!$F$538,D67),$H$14=Données!$E$539,IF(AND(B67>=$C$1-Données!$G$539,C67<=$C$2+Données!$G$539),1,0),$H$14=Données!$E$540,_xlfn.IFS(AND(D67=0,OR(B67<$C$1-Données!$G$540,C67>$C$2+Données!$G$540)),D67,AND(D67=0,B67>=$C$1-Données!$G$540,C67<=$C$2+Données!$G$540),Données!$F$540,D67<>0,D67))","v":0},18,{"$error":"#N/A"},{"$f":"IF($H$8=\"oui\",_xlfn.IFS($D$11=\"Sanitaires\",(30+(15*$H$9))*E67,$H$10=\"[m3/h.local]\",$H$9*E67,AND($H$19=\"[m3/h]\",$I$19=\"[pers/m²]\"),$I$9*$D$8*$H$9*E67,AND($H$19=\"[m3/h]\",($I$19=\"[pers]\")),$I$9*$H$9*E67,$H$19=\"[Vol/h]\",$H$9*E67),0)","v":{"v":0,"d":"0.0"}},0,0,0,{"$f":"IF($L$14=\"particulier\",_xlfn.IFS(O67=0,$L$12*$L$9,O67>0,$L$9*O67),_xlfn.IFS(AND($L$14=1,I67=0),$L$9*$L$12,AND($L$14=1,I67>0),$L$9,AND($L$14=0,I67=0),$L$9*$L$12,AND($L$14=0,I67>0),$L$9*I67/$I$9))","v":0.3},0,0,{"$f":"IFERROR(IF($F$4=\"oui\",IF(OR($B67<$H$4,$C67>$I$4,AND($B67>=$K$4,$C67<=$L$4)),0,1),_xlfn.IFS($D$7=Données!$B$527,HLOOKUP($L$15,Données!$C$8:$Y$57,A67+2,0),$D$7=Données!$B$528,HLOOKUP($L$15,Données!$C$62:$Y$111,A67+2,0),$D$7=Données!$B$529,HLOOKUP($L$15,Données!$C$115:$Y$164,A67+2,0),$D$7=Données!$B$530,HLOOKUP($L$15,Données!$C$169:$Y$218,A67+2,0),$D$7=Données!$B$531,HLOOKUP($L$15,Données!$C$224:$Y$273,A67+2,0),$D$7=Données!$B$532,HLOOKUP($L$15,Données!$C$280:$Y$329,A67+2,0))),\"\")","v":""},{"$nulls":8},"",null,"",{"$f":"IF(X67=\"\",\"\",IFERROR(IF(X67=$AV$69-1,$AU$67,VLOOKUP(MATCH(TRUE,INDEX($AX$20:$AX$67=\"Changement\"&X68,0),0),$AS$20:$AU$67,2,0)),\"\"))","v":""},"",{"$f":"IF(AN67=\"\",\"\",_xlfn.IFS(AJ67=$AA$52,AN67,AND(AJ67<>$AA$52,$L$14=0),AN67,AND(AJ67<>$AA$52,$L$14=1),1))","v":""},"",{"$nulls":5},{"$f":"IF(X67=\"\",\"\",IF(VLOOKUP(MATCH(TRUE,INDEX($AX$20:$AX$67=\"Changement\"&X67,0),0),$A$20:$N$67,4,0)=0,$AA$52,VLOOKUP(MATCH(TRUE,INDEX($AX$20:$AX$67=\"Changement\"&X67,0),0),$A$20:$N$67,4,0)))","v":""},"","","","",{"$nulls":4},48,"23:30:00",1,"Changement",6,"Changement6","Changement",4,"Changement4"]
[{"$nulls":23},"",null,"",{"$f":"IF(X68=\"\",\"\",IFERROR(IF(X68=$AV$69-1,$AU$67,VLOOKUP(MATCH(TRUE,INDEX($AX$20:$AX$67=\"Changement\"&X69,0),0),$AS$20:$AU$67,2,0)),\"\"))","v":""},"",{"$f":"IF(AN68=\"\",\"\",_xlfn.IFS(AJ68=$AA$52,AN68,AND(AJ68<>$AA$52,$L$14=0),AN68,AND(AJ68<>$AA$52,$L$14=1),1))","v":""},"",{"$nulls":5},{"$f":"IF(X68=\"\",\"\",IF(VLOOKUP(MATCH(TRUE,INDEX($AX$20:$AX$67=\"Changement\"&X68,0),0),$A$20:$N$67,4,0)=0,$AA$52,VLOOKUP(MATCH(TRUE,INDEX($AX$20:$AX$67=\"Changement\"&X68,0),0),$A$20:$N$67,4,0)))","v":""},"","","",""]
["Calcul pour graphe occupation :",{"$nulls":22},"",null,"",{"$f":"IF(X69=\"\",\"\",IFERROR(IF(X69=$AV$69-1,$AU$67,VLOOKUP(MATCH(TRUE,INDEX($AX$20:$AX$67=\"Changement\"&X70,0),0),$AS$20:$AU$67,2,0)),\"\"))","v":""},"",{"$f":"IF(AN69=\"\",\"\",_xlfn.IFS(AJ69=$AA$52,AN69,AND(AJ69<>$AA$52,$L$14=0),AN69,AND(AJ69<>$AA$52,$L$14=1),1))","v":""},"",{"$nulls":5},{"$f":"IF(X69=\"\",\"\",IF(VLOOKUP(MATCH(TRUE,INDEX($AX$20:$AX$67=\"Changement\"&X69,0),0),$A$20:$N$67,4,0)=0,$AA$52,VLOOKUP(MATCH(TRUE,INDEX($AX$20:$AX$67=\"Changement\"&X69,0),0),$A$20:$N$67,4,0)))","v":""},"","","","",{"$nulls":7},{"$f":"COUNTIF(AV20:AV67,\"Changement\")","v":6},null,null,{"$f":"COUNTIF(AY20:AY67,\"Changement\")","v":4}]
[null,null,"Occupation",{"$nulls":20},"",null,"",{"$f":"IF(X70=\"\",\"\",IFERROR(IF(X70=$AV$69-1,$AU$67,VLOOKUP(MATCH(TRUE,INDEX($AX$20:$AX$67=\"Changement\"&X71,0),0),$AS$20:$AU$67,2,0)),\"\"))","v":""},"",{"$f":"IF(AN70=\"\",\"\",_xlfn.IFS(AJ70=$AA$52,AN70,AND(AJ70<>$AA$52,$L$14=0),AN70,AND(AJ70<>$AA$52,$L$14=1),1))","v":""},"",{"$nulls":5},{"$f":"IF(X70=\"\",\"\",IF(VLOOKUP(MATCH(TRUE,INDEX($AX$20:$AX$67=\"Changement\"&X70,0),0),$A$20:$N$67,4,0)=0,$AA$52,VLOOKUP(MATCH(TRUE,INDEX($AX$20:$AX$67=\"Changement\"&X70,0),0),$A$20:$N$67,4,0)))","v":""},"","","",""]
[0,"00:00:00",{"$f":"VLOOKUP($B71,$B$20:$N$67,8,FALSE)","v":0},{"$nulls":22},"For: ","Weekends",null," Holidays",",",{"$nulls":6},"","","",""]
[0.5,"00:30:00",{"$f":"IF($B72=$B71,VLOOKUP($B72,$B$20:$N$67,8,FALSE),C71)","v":0},{"$nulls":22},"Until:",1,",",{"$f":"AN72","v":"0.03"},",",{"$nulls":5},{"$f":"AA52","v":0.03},0,0,3,{"$f":"IF(AJ72=\"\",\"\",IF(AJ72=0,0,AK72&\".\"&AL72&AM72))","v":"0.03"}]
[0.5,"00:30:00",0,{"$nulls":22},"For: "," SummerDesignDay",","]
[{"$f":"A72+0.5","v":1},"01:00:00",0,{"$nulls":22},"Until:",1,",",1,","]
[{"$f":"A73+0.5","v":1},"01:00:00",0,{"$nulls":22},"For: ","WinterDesignDay",null," AllOtherDays,"]
[1.5,"01:30:00",0,{"$nulls":22},"Until:",1,",",0,";"]
[1.5,"01:30:00",0]
[2,"02:00:00",0]
[2,"02:00:00",0]
[2.5,"02:30:00",0,{"$nulls":22},{"$f":"J9","v":{"v":6,"d":"6.0"}},{"$f":"J10","v":"W/m²"}]
[2.5,"02:30:00",0,{"$nulls":22},"Scénario eclairage "]
[3,"03:00:00",0,{"$nulls":22},{"$f":"$Z$27","v":"(A copier dans DB. Attention effacer les lignes vides sinon DB plante)"}]
[3,"03:00:00",0,{"$nulls":22},"Schedule:Compact,"]
[3.5,"03:30:00",0,{"$nulls":22},{"$f":"$B$6&\"_eclairage\"","v":"02 _ test 2_eclairage"},","]
[3.5,"03:30:00",0,{"$nulls":22},"Fraction,"]
[4,"04:00:00",0,{"$nulls":22},"Through: ","31 Dec,"]
[4,"04:00:00",0,{"$nulls":22},"For: ","Weekdays",null," SummerDesignDay",",",{"$nulls":5},"Tanscrire les virgules en point"]
[4.5,"04:30:00",0,{"$nulls":20},{"$f":"IFERROR(IF(X87+1<=$AV$69-1,X87+1,\"\"),\"\")","v":1},null,{"$f":"IF(X88=\"\",\"\",\"Until:\")","v":"Until:"},{"$f":"IF(X88=\"\",\"\",IFERROR(IF(X88=$AV$69-1,$AU$67,VLOOKUP(MATCH(TRUE,INDEX($AX$20:$AX$67=\"Changement\"&X89,0),0),$AS$20:$AU$67,2,0)),\"\"))","v":0.33333333333333326},{"$f":"IF(X88=\"\",\"\",\",\")","v":","},{"$f":"AN88","v":"0.0"},{"$f":"IF(X88=\"\",\"\",\",\")","v":","},{"$nulls":5},{"$f":"IF(X88=\"\",\"\",VLOOKUP(MATCH(TRUE,INDEX($AX$20:$AX$67=\"Changement\"&X88,0),0),$A$20:$N$67,4,0))","v":0},{"$f":"IF(AJ88=\"\",\"\",TRUNC(AJ88,0))","v":0},{"$f":"IF(AJ88=\"\",\"\",TRUNC((AJ88-AK88)*10,0))","v":0},{"$f":"IF(AJ88=\"\",\"\",IF(AJ88=AK88+AL88/10,0,TRUNC((AJ88*1-AL88)*100,0)))","v":0},{"$f":"IF(AJ88=\"\",\"\",TRUNC(AJ88,0)&\".\"&ROUND(AJ88-TRUNC(AJ88,0),2)*100)","v":"0.0"}]
[4.5,"04:30:00",0,{"$nulls":20},2,null,"Until:",{"$f":"IF(X89=\"\",\"\",IFERROR(IF(X89=$AV$69-1,$AU$67,VLOOKUP(MATCH(TRUE,INDEX($AX$20:$AX$67=\"Changement\"&X90,0),0),$AS$20:$AU$67,2,0)),\"\"))","v":0.4999999999999998},",",{"$f":"AN89","v":"1.0"},",",{"$nulls":5},{"$f":"IF(X89=\"\",\"\",VLOOKUP(MATCH(TRUE,INDEX($AX$20:$AX$67=\"Changement\"&X89,0),0),$A$20:$N$67,4,0))","v":1},{"$f":"IF(AJ89=\"\",\"\",TRUNC(AJ89,0))","v":1},{"$f":"IF(AJ89=\"\",\"\",TRUNC((AJ89-AK89)*10,0))","v":0},{"$f":"IF(AJ89=\"\",\"\",IF(AJ89=AK89+AL89/10,0,TRUNC((AJ89*1-AL89)*100,0)))","v":0},{"$f":"IF(AJ89=\"\",\"\",TRUNC(AJ89,0)&\".\"&ROUND(AJ89-TRUNC(AJ89,0),2)*100)","v":"1.0"}]
[5,"05:00:00",0,{"$nulls":20},3,null,"Until:",{"$f":"IF(X90=\"\",\"\",IFERROR(IF(X90=$AV$69-1,$AU$67,VLOOKUP(MATCH(TRUE,INDEX($AX$20:$AX$67=\"Changement\"&X91,0),0),$AS$20:$AU$67,2,0)),\"\"))","v":0.5833333333333333},",","0.0",",",{"$nulls":5},{"$f":"IF(X90=\"\",\"\",VLOOKUP(MATCH(TRUE,INDEX($AX$20:$AX$67=\"Changement\"&X90,0),0),$A$20:$N$67,4,0))","v":0},0,0,0,"0.0"]
[5,"05:00:00",0,{"$nulls":20},4,null,"Until:",{"$f":"IF(X91=\"\",\"\",IFERROR(IF(X91=$AV$69-1,$AU$67,VLOOKUP(MATCH(TRUE,INDEX($AX$20:$AX$67=\"Changement\"&X92,0),0),$AS$20:$AU$67,2,0)),\"\"))","v":0.7500000000000002},",","1.0",",",{"$nulls":5},{"$f":"IF(X91=\"\",\"\",VLOOKUP(MATCH(TRUE,INDEX($AX$20:$AX$67=\"Changement\"&X91,0),0),$A$20:$N$67,4,0))","v":1},1,0,0,"1.0"]
[5.5,"05:30:00",0,{"$nulls":20},5,null,"Until:",{"$f":"IF(X92=\"\",\"\",IFERROR(IF(X92=$AV$69-1,$AU$67,VLOOKUP(MATCH(TRUE,INDEX($AX$20:$AX$67=\"Changement\"&X93,0),0),$AS$20:$AU$67,2,0)),\"\"))","v":1},",","0.0",",",{"$nulls":5},{"$f":"IF(X92=\"\",\"\",VLOOKUP(MATCH(TRUE,INDEX($AX$20:$AX$67=\"Changement\"&X92,0),0),$A$20:$N$67,4,0))","v":0},0,0,0,"0.0"]
[5.5,"05:30:00",0,{"$nulls":20},"",null,"",{"$f":"IF(X93=\"\",\"\",IFERROR(IF(X93=$AV$69-1,$AU$67,VLOOKUP(MATCH(TRUE,INDEX($AX$20:$AX$67=\"Changement\"&X94,0),0),$AS$20:$AU$67,2,0)),\"\"))","v":""},"","","",{"$nulls":5},{"$f":"IF(X93=\"\",\"\",VLOOKUP(MATCH(TRUE,INDEX($AX$20:$AX$67=\"Changement\"&X93,0),0),$A$20:$N$67,4,0))","v":""},"","","",""]
[6,"06:00:00",0,{"$nulls":20},"",null,"",{"$f":"IF(X94=\"\",\"\",IFERROR(IF(X94=$AV$69-1,$AU$67,VLOOKUP(MATCH(TRUE,INDEX($AX$20:$AX$67=\"Changement\"&X95,0),0),$AS$20:$AU$67,2,0)),\"\"))","v":""},"","","",{"$nulls":5},{"$f":"IF(X94=\"\",\"\",VLOOKUP(MATCH(TRUE,INDEX($AX$20:$AX$67=\"Changement\"&X94,0),0),$A$20:$N$67,4,0))","v":""},"","","",""]
[6,"06:00:00",0,{"$nulls":20},"",null,"",{"$f":"IF(X95=\"\",\"\",IFERROR(IF(X95=$AV$69-1,$AU$67,VLOOKUP(MATCH(TRUE,INDEX($AX$20:$AX$67=\"Changement\"&X96,0),0),$AS$20:$AU$67,2,0)),\"\"))","v":""},"","","",{"$nulls":5},{"$f":"IF(X95=\"\",\"\",VLOOKUP(MATCH(TRUE,INDEX($AX$20:$AX$67=\"Changement\"&X95,0),0),$A$20:$N$67,4,0))","v":""},"","","",""]
[6.5,"06:30:00",0,{"$nulls":20},"",null,"",{"$f":"IF(X96=\"\",\"\",IFERROR(IF(X96=$AV$69-1,$AU$67,VLOOKUP(MATCH(TRUE,INDEX($AX$20:$AX$67=\"Changement\"&X97,0),0),$AS$20:$AU$67,2,0)),\"\"))","v":""},"","","",{"$nulls":5},{"$f":"IF(X96=\"\",\"\",VLOOKUP(MATCH(TRUE,INDEX($AX$20:$AX$67=\"Changement\"&X96,0),0),$A$20:$N$67,4,0))","v":""},"","","",""]
[6.5,"06:30:00",0,{"$nulls":20},"",null,"",{"$f":"IF(X97=\"\",\"\",IFERROR(IF(X97=$AV$69-1,$AU$67,VLOOKUP(MATCH(TRUE,INDEX($AX$20:$AX$67=\"Changement\"&#REF!,0),0),$AS$20:$AU$67,2,0)),\"\"))","v":""},"","","",{"$nulls":5},{"$f":"IF(X97=\"\",\"\",VLOOKUP(MATCH(TRUE,INDEX($AX$20:$AX$67=\"Changement\"&X97,0),0),$A$20:$N$67,4,0))","v":""},"","","",""]
[7,"07:00:00",0,{"$nulls":20},"",null,"",{"$f":"IF(X98=\"\",\"\",IFERROR(IF(X98=$AV$69-1,$AU$67,VLOOKUP(MATCH(TRUE,INDEX($AX$20:$AX$67=\"Changement\"&#REF!,0),0),$AS$20:$AU$67,2,0)),\"\"))","v":""},"","","",{"$nulls":5},{"$f":"IF(X98=\"\",\"\",VLOOKUP(MATCH(TRUE,INDEX($AX$20:$AX$67=\"Changement\"&X98,0),0),$A$20:$N$67,4,0))","v":""},"","","",""]
[7,"07:00:00",0,{"$nulls":22},"For: ","Weekends,",{"$nulls":9},"","","",""]
[7.5,"07:30:00",0,{"$nulls":22},"Until:",1,",",0,",",{"$nulls":6},"","","",""]
[7.5,"07:30:00",0,{"$nulls":22},"For: ","Holidays,"]
[8,"08:00:00",0,{"$nulls":22},"Until:",1,",",0,","]
[8,"08:00:00",60,{"$nulls":22},"For: ","WinterDesignDay",null," AllOtherDays,"]
[8.5,"08:30:00",60,{"$nulls":22},"Until:",1,",",0,";"]
[8.5,"08:30:00",60]
[9,"09:00:00",60]
[9,"09:00:00",60]
[9.5,"09:30:00",60,{"$nulls":22},{"$f":"F9","v":{"v":20,"d":"20.0"}},{"$f":"F10","v":{"v":18,"d":"18.0"}},"°C"]
[9.5,"09:30:00",60,{"$nulls":22},"Scénario température chauffage"]
[10,"10:00:00",60,{"$nulls":22},"(A copier dans DB)"]
[10,"10:00:00",60,{"$nulls":22},"Schedule:Compact,"]
[10.5,"10:30:00",60,{"$nulls":22},{"$f":"$B$6&\"_chauffage\"","v":"02 _ test 2_chauffage"},","]
[10.5,"10:30:00",60,{"$nulls":22},"Temperature,"]
[11,"11:00:00",60,{"$nulls":22},"Through: ","31 Dec,"]
[11,"11:00:00",60,{"$nulls":22},"For: ","Weekdays",null," SummerDesignDay",","]
[11.5,"11:30:00",60,{"$nulls":22},"Until:",{"$f":"IF($E$3=\"non\",C1-$F$12,C3-$F$12)","v":0.31249999999999994},",","0.5",","]
[11.5,"11:30:00",60,{"$nulls":22},"Until:",{"$f":"IF($E$3=\"non\",C2,C4)","v":0.7500000000000002},",",1,","]
[12,"12:00:00",60,{"$nulls":22},"Until:",1,",","0.5",","]
[12,"12:00:00",0,{"$nulls":22},"For: ","Weekends,"]
[12.5,"12:30:00",0,{"$nulls":22},"Until:",1,",","0.5",","]
[12.5,"12:30:00",0,{"$nulls":22},"For: ","Holidays,"]
[13,"13:00:00",0,{"$nulls":22},"Until:",1,",","0.5",","]
[13,"13:00:00",0,{"$nulls":22},"For: ","WinterDesignDay,"]
[13.5,"13:30:00",0,{"$nulls":22},"Until:",1,",",1,","]
[13.5,"13:30:00",0,{"$nulls":22},"For: ","AllOtherDays,"]
[14,"14:00:00",0,{"$nulls":22},"Until:",1,",",0,";"]
[14,"14:00:00",60]
[14.5,"14:30:00",60,{"$nulls":22},{"$f":"G9","v":{"v":0,"d":"0.0"}},{"$f":"G10","v":{"v":0,"d":"0.0"}},"°C"]
[14.5,"14:30:00",60,{"$nulls":22},"Scénario température climatisation"]
[15,"15:00:00",60,{"$nulls":22},"(A copier dans DB)"]
[15,"15:00:00",60,{"$nulls":22},"Schedule:Compact,"]
[15.5,"15:30:00",60,{"$nulls":22},{"$f":"$B$6&\"_climatisation\"","v":"02 _ test 2_climatisation"},","]
[15.5,"15:30:00",60,{"$nulls":22},"Temperature,"]
[16,"16:00:00",60,{"$nulls":22},"Through: ","31 Dec,"]
[16,"16:00:00",60,{"$nulls":22},"For: ","Weekdays",null," SummerDesignDay",","]
[16.5,"16:30:00",{"$f":"IF($B136=$B135,VLOOKUP($B136,$B$20:$N$67,8,FALSE),C135)","v":60},{"$nulls":22},"Until:",{"$f":"IF($E$3=\"non\",C1,C3)","v":0.33333333333333326},",","0.5",","]
[16.5,"16:30:00",60,{"$nulls":22},"Until:",{"$f":"IF($E$3=\"non\",C2,C4)","v":0.7500000000000002},",",1,","]
[17,"17:00:00",60,{"$nulls":22},"Until:",1,",","0.5",","]
[{"$f":"A137+0.5","v":17},"17:00:00",60,{"$nulls":22},"For: ","Weekends,"]
[17.5,"17:30:00",60,{"$nulls":22},"Until:",1,",",0,","]
[17.5,"17:30:00",60,{"$nulls":22},"For: ","Holidays,"]
[18,"18:00:00",60,{"$nulls":22},"Until:",1,",",0,","]
[18,"18:00:00",0,{"$nulls":22},"For: ","WinterDesignDay",null," AllOtherDays,"]
[18.5,"18:30:00",0,{"$nulls":22},"Until:",1,",",0,";"]
[18.5,"18:30:00",0]
[19,"19:00:00",0]
[19,"19:00:00",0]
[19.5,"19:30:00",0]
[19.5,"19:30:00",0,{"$nulls":22},{"$f":"H9","v":{"v":25,"d":"25.0"}},{"$f":"H10","v":"[m3/h.pers]"}]
[20,"20:00:00",0,{"$nulls":22},"Scénario ventilation"]
[20,"20:00:00",0,{"$nulls":22},{"$f":"$Z$27","v":"(A copier dans DB. Attention effacer les lignes vides sinon DB plante)"}]
[20.5,"20:30:00",0,{"$nulls":22},"Schedule:Compact,"]
[20.5,"20:30:00",0,{"$nulls":22},{"$f":"$B$6&\"_ventilation\"","v":"02 _ test 2_ventilation"},","]
[21,"21:00:00",0,{"$nulls":22},"Fraction,"]
[21,"21:00:00",0,{"$nulls":22},"Through: ","31 Dec,"]
[21.5,"21:30:00",0,{"$nulls":22},"For: ","Weekdays",null," SummerDesignDay",",",{"$nulls":5},"Tanscrire les virgules en point"]
[21.5,"21:30:00",0,{"$nulls":20},{"$f":"IFERROR(IF(X156+1<=$AY$69-1,X156+1,\"\"),\"\")","v":1},null,{"$f":"IF(X157=\"\",\"\",\"Until:\")","v":"Until:"},{"$f":"IF(X157=\"\",\"\",IFERROR(IF(X157=$AY$69-1,$AU$67,VLOOKUP(MATCH(TRUE,INDEX($BA$20:$BA$67=\"Changement\"&X158,0),0),$AS$20:$AU$67,2,0)),\"\"))","v":0.29166666666666663},{"$f":"IF(X157=\"\",\"\",\",\")","v":","},{"$f":"AN157","v":"0.0"},{"$f":"IF(X157=\"\",\"\",\",\")","v":","},{"$nulls":5},{"$f":"IF(X157=\"\",\"\",VLOOKUP(MATCH(TRUE,INDEX($BA$20:$BA$67=\"Changement\"&X157,0),0),$A$20:$N$67,5,0))","v":0},{"$f":"IF(AJ157=\"\",\"\",TRUNC(AJ157,0))","v":0},{"$f":"IF(AJ157=\"\",\"\",TRUNC((AJ157-AK157)*10,0))","v":0},{"$f":"IF(AJ157=\"\",\"\",IF(AJ157=AK157+AL157/10,0,TRUNC((AJ157*1-AL157)*100,0)))","v":0},{"$f":"IF(AJ157=\"\",\"\",TRUNC(AJ157,0)&\".\"&ROUND(AJ157-TRUNC(AJ157,0),2)*100)","v":"0.0"}]
[22,"22:00:00",0,{"$nulls":20},2,null,"Until:",{"$f":"IF(X158=\"\",\"\",IFERROR(IF(X158=$AY$69-1,$AU$67,VLOOKUP(MATCH(TRUE,INDEX($BA$20:$BA$67=\"Changement\"&X159,0),0),$AS$20:$AU$67,2,0)),\"\"))","v":0.791666666666667},",",{"$f":"AN158","v":"1.0"},",",{"$nulls":5},{"$f":"IF(X158=\"\",\"\",VLOOKUP(MATCH(TRUE,INDEX($BA$20:$BA$67=\"Changement\"&X158,0),0),$A$20:$N$67,5,0))","v":1},{"$f":"IF(AJ158=\"\",\"\",TRUNC(AJ158,0))","v":1},{"$f":"IF(AJ158=\"\",\"\",TRUNC((AJ158-AK158)*10,0))","v":0},{"$f":"IF(AJ158=\"\",\"\",IF(AJ158=AK158+AL158/10,0,TRUNC((AJ158*1-AL158)*100,0)))","v":0},{"$f":"IF(AJ158=\"\",\"\",TRUNC(AJ158,0)&\".\"&ROUND(AJ158-TRUNC(AJ158,0),2)*100)","v":"1.0"}]
[22,"22:00:00",0,{"$nulls":20},3,null,"Until:",{"$f":"IF(X159=\"\",\"\",IFERROR(IF(X159=$AY$69-1,$AU$67,VLOOKUP(MATCH(TRUE,INDEX($BA$20:$BA$67=\"Changement\"&X160,0),0),$AS$20:$AU$67,2,0)),\"\"))","v":1},",","0.0",",",{"$nulls":5},{"$f":"IF(X159=\"\",\"\",VLOOKUP(MATCH(TRUE,INDEX($BA$20:$BA$67=\"Changement\"&X159,0),0),$A$20:$N$67,5,0))","v":0},0,0,0,"0.0"]
[22.5,"22:30:00",0,{"$nulls":20},"",null,"",{"$f":"IF(X160=\"\",\"\",IFERROR(IF(X160=$AY$69-1,$AU$67,VLOOKUP(MATCH(TRUE,INDEX($BA$20:$BA$67=\"Changement\"&X161,0),0),$AS$20:$AU$67,2,0)),\"\"))","v":""},"","","",{"$nulls":5},{"$f":"IF(X160=\"\",\"\",VLOOKUP(MATCH(TRUE,INDEX($BA$20:$BA$67=\"Changement\"&X160,0),0),$A$20:$N$67,5,0))","v":""},"","","",""]
[22.5,"22:30:00",0,{"$nulls":20},"",null,"",{"$f":"IF(X161=\"\",\"\",IFERROR(IF(X161=$AY$69-1,$AU$67,VLOOKUP(MATCH(TRUE,INDEX($BA$20:$BA$67=\"Changement\"&X162,0),0),$AS$20:$AU$67,2,0)),\"\"))","v":""},"","","",{"$nulls":5},{"$f":"IF(X161=\"\",\"\",VLOOKUP(MATCH(TRUE,INDEX($BA$20:$BA$67=\"Changement\"&X161,0),0),$A$20:$N$67,5,0))","v":""},"","","",""]
[23,"23:00:00",0,{"$nulls":20},"",null,"",{"$f":"IF(X162=\"\",\"\",IFERROR(IF(X162=$AY$69-1,$AU$67,VLOOKUP(MATCH(TRUE,INDEX($BA$20:$BA$67=\"Changement\"&X163,0),0),$AS$20:$AU$67,2,0)),\"\"))","v":""},"","","",{"$nulls":5},{"$f":"IF(X162=\"\",\"\",VLOOKUP(MATCH(TRUE,INDEX($BA$20:$BA$67=\"Changement\"&X162,0),0),$A$20:$N$67,5,0))","v":""},"","","",""]
[23,"23:00:00",0,{"$nulls":20},"",null,"",{"$f":"IF(X163=\"\",\"\",IFERROR(IF(X163=$AY$69-1,$AU$67,VLOOKUP(MATCH(TRUE,INDEX($BA$20:$BA$67=\"Changement\"&X164,0),0),$AS$20:$AU$67,2,0)),\"\"))","v":""},"","","",{"$nulls":5},{"$f":"IF(X163=\"\",\"\",VLOOKUP(MATCH(TRUE,INDEX($BA$20:$BA$67=\"Changement\"&X163,0),0),$A$20:$N$67,5,0))","v":""},"","","",""]
[23.5,"23:30:00",0,{"$nulls":20},"",null,"",{"$f":"IF(X164=\"\",\"\",IFERROR(IF(X164=$AY$69-1,$AU$67,VLOOKUP(MATCH(TRUE,INDEX($BA$20:$BA$67=\"Changement\"&X165,0),0),$AS$20:$AU$67,2,0)),\"\"))","v":""},"","","",{"$nulls":5},{"$f":"IF(X164=\"\",\"\",VLOOKUP(MATCH(TRUE,INDEX($BA$20:$BA$67=\"Changement\"&X164,0),0),$A$20:$N$67,5,0))","v":""},"","","",""]
[23.5,"23:30:00",0,{"$nulls":20},"",null,"",{"$f":"IF(X165=\"\",\"\",IFERROR(IF(X165=$AY$69-1,$AU$67,VLOOKUP(MATCH(TRUE,INDEX($BA$20:$BA$67=\"Changement\"&X166,0),0),$AS$20:$AU$67,2,0)),\"\"))","v":""},"","","",{"$nulls":5},{"$f":"IF(X165=\"\",\"\",VLOOKUP(MATCH(TRUE,INDEX($BA$20:$BA$67=\"Changement\"&X165,0),0),$A$20:$N$67,5,0))","v":""},"","","",""]
[24,1.0000000000000007,0,{"$nulls":20},"",null,"",{"$f":"IF(X166=\"\",\"\",IFERROR(IF(X166=$AY$69-1,$AU$67,VLOOKUP(MATCH(TRUE,INDEX($BA$20:$BA$67=\"Changement\"&X167,0),0),$AS$20:$AU$67,2,0)),\"\"))","v":""},"","","",{"$nulls":5},{"$f":"IF(X166=\"\",\"\",VLOOKUP(MATCH(TRUE,INDEX($BA$20:$BA$67=\"Changement\"&X166,0),0),$A$20:$N$67,5,0))","v":""},"","","",""]
[{"$nulls":23},"",null,"",{"$f":"IF(X167=\"\",\"\",IFERROR(IF(X167=$AY$69-1,$AU$67,VLOOKUP(MATCH(TRUE,INDEX($BA$20:$BA$67=\"Changement\"&X168,0),0),$AS$20:$AU$67,2,0)),\"\"))","v":""},"","","",{"$nulls":5},{"$f":"IF(X167=\"\",\"\",VLOOKUP(MATCH(TRUE,INDEX($BA$20:$BA$67=\"Changement\"&X167,0),0),$A$20:$N$67,5,0))","v":""},"","","",""]
[{"$nulls":25},"For: ","Weekends,",{"$nulls":9},"","","",""]
[{"$nulls":25},"Until:",1,",",0,",",{"$nulls":6},"","","",""]
[{"$nulls":25},"For: ","Holidays,"]
[{"$nulls":25},"Until:",1,",",0,","]
[{"$nulls":25},"For: ","WinterDesignDay",null," AllOtherDays,"]
[{"$nulls":25},"Until:",1,",",0,";"]

{"sheet":"3","index":3,"n_rows":173,"n_cols":53,"rows_kept":173,"merged":[[3,3,3,4],[5,1,5,10],[6,1,6,2],[6,3,6,4],[7,1,7,2],[7,3,7,4],[8,1,14,2],[8,3,8,4],[10,3,11,4],[18,24,19,31],[21,24,21,31],[22,17,22,20],[22,24,22,31],[24,17,24,18],[25,25,25,29],[26,17,26,18],[26,20,27,20],[26,25,26,29],[31,17,31,18],[31,35,31,39],[33,19,35,20],[36,17,57,20],[52,25,52,29],[53,25,53,29],[58,35,58,39],[80,25,80,29],[81,25,81,29],[86,35,86,39],[108,25,108,29],[109,25,109,29],[128,25,128,29],[129,25,129,29],[149,25,149,29],[150,25,150,29],[155,35,155,39]]}
["à exporter","Heure de début :",{"$f":"IF($F$4=\"non\",VLOOKUP($D$7,Données!$B$527:$E$532,3,0),$H$4)","v":"08:00:00"}]
[null,"Heure de fin :",{"$f":"IF($F$4=\"non\",VLOOKUP($D$7,Données!$B$527:$E$532,4,0),$I$4)","v":"18:00:00"}]
[null,"Début pause",{"$f":"IF($F$4=\"non\",VLOOKUP($D$7,Données!$B$527:$L$532,6,0),$K$4)","v":"12:00:00"},"Uniq. en pause",{"$f":"_xlfn.IFS($D$7=Données!$B$527,HLOOKUP($D$11,Données!$C$8:$Y$57,2,0),$D$7=Données!$B$528,HLOOKUP($D$11,Données!$C$62:$Y$110,2,0),$D$7=Données!$B$529,HLOOKUP($D$11,Données!$C$115:$Y$164,2,0),$D$7=Données!$B$530,HLOOKUP($D$11,Données!$C$169:$Y$218,2,0),$D$7=Données!$B$531,HLOOKUP($D$11,Données!$C$224:$Y$273,2,0),$D$7=Données!$B$532,HLOOKUP($D$11,Données!$C$280:$Y$329,2,0))","v":"oui"},null,null,"Ouverture :","Fermeture :","Durée de la Pause :","Début de la pause :","Fin pause","Pause ?"]
[null,"Fin pause",{"$f":"IF($F$4=\"non\",VLOOKUP($D$7,Données!$B$527:$L$532,7,0),$L$4)","v":"14:00:00.864"},"Horaire spécifique :",null,"non",{"$nulls":5},{"$f":"J4+K4+0.0001","v":"00:00:08.640"},{"$f":"IF(K4=L4,\"non\",\"oui\")","v":"oui"}]
[]
[null,{"$f":"Typologie!B16&\" _ \"&Typologie!C16","v":"03 _ test 3"}]
[null,"Usage :",null,{"$f":"Typologie!D16","v":"Tertiaire"},null,"Tchauff","Tclim","Vent. Méca","Occupation","Eclairage","Apport humains","Equipements","Apports internes","Apports internes 2"]
[null,"Surface moyenne :",null,{"$f":"Typologie!G16","v":60},null,{"$f":"Typologie!V16","v":"oui"},{"$f":"Typologie!AA16","v":"non"},{"$f":"Typologie!AE16","v":"oui"},{"$nulls":3},{"$f":"Typologie!Q16","v":"Ratio surfacique"}]
[null,"Valeurs importées de la feuille typologie en fonction de sa ligne affectée",null,"Profil d'occupation",null,{"$f":"Typologie!X16","v":20},{"$f":"Typologie!AB16","v":0},{"$f":"IF(H10=\"[vol/h]\",ROUND(Typologie!AH16,2),ROUND(Typologie!AH16,0))","v":25},{"$f":"Typologie!H16","v":{"v":20,"d":"20.00"}},{"$f":"Typologie!M16","v":6},{"$f":"Typologie!L16","v":123},{"$f":"_xlfn.IFS(Typologie!Q16=Données!G574,Typologie!R16,Typologie!Q16=Données!G575,Typologie!BF16,Typologie!Q16=\"\",0)","v":{"v":10,"d":"10.00"}},{"$f":"_xlfn.IFS(Typologie!Q16=Données!G574,Typologie!T16,Typologie!Q16=Données!G575,0,Typologie!Q16=\"\",0)","v":0}]
[{"$nulls":5},{"$f":"Typologie!Y16","v":18},{"$f":"Typologie!AC16","v":0},{"$f":"\"[\"&MID(Typologie!AI16,1,15)&\"]\"","v":"[m3/h.pers]"},{"$f":"Typologie!J16","v":"pers"},"W/m²","W/m²","W/m²","W/m²","W/m²"]
[{"$nulls":3},{"$f":"Typologie!E16","v":"Salle de pause"},null,"Préchauffage",null,"Vnat :","Fois :","Régulation :","Activité","Veille","Veille","Veille"]
[{"$nulls":5},{"$f":"Typologie!W16","v":"01:00:00"},null,{"$f":"Typologie!AJ16","v":"non"},{"$f":"IF(OR(Typologie!I16=\"\",Typologie!I16=\"non\"),1,Typologie!I16)","v":1},{"$f":"Typologie!N16","v":"Interrupteur manuel"},{"$f":"Typologie!K16","v":"Travail de bureau"},{"$f":"_xlfn.IFS(Typologie!Q16=Données!G574,Typologie!S16,Typologie!Q16=Données!G575,Typologie!BG16,Typologie!Q16=\"\",0)","v":{"v":0.03,"d":"3%"}},{"$f":"_xlfn.IFS(Typologie!Q16=Données!G574,Typologie!U16,Typologie!Q16=Données!G575,0,Typologie!Q16=\"\",0)","v":{"v":0,"d":"0%"}}]
[{"$nulls":5},"Emetteur","Emetteur","Régulation :",null,{"$f":"Typologie!O16","v":"Avec gradation automatique"},null,"Foisonnement en fonction de l'occup 1=non 0 =oui"]
[{"$nulls":3},"Commentaires",null,{"$f":"Typologie!Z16","v":"Panneau rayonnant"},{"$f":"Typologie!AD16","v":0},{"$f":"Typologie!AG16","v":"Planning on/off"},null,"Niveau",null,{"$f":"IFERROR(_xlfn.IFS(L15=Données!$B$557,1,L15=Données!B558,0),\"particulier\")","v":1}]
[{"$nulls":3},{"$f":"Typologie!BI16","v":""},{"$nulls":3},{"$f":"Typologie!AF16","v":"VMC Double Flux"},null,{"$f":"Typologie!P16","v":300},null,{"$f":"Typologie!F16","v":"Constant suivant occupation"}]
[{"$nulls":9},"Lux"]
[]
[{"$nulls":3},"Profil d'occupation","Profil ventilation","Tchauff","Tclim","Vent. Méca","Occupation","Eclairage","Apport humains","Equip","Apports internes","Apports internes 2","Profil d'apports"]
[{"$nulls":3},"/","/","[°C]","[°C]",{"$f":"IF(D11=\"Sanitaires\",\"[m3/h]\",IF(OR(H10=\"[m3/h.pers]\",H10=\"[m3/h.local]\"),\"[m3/h]\",IF(H10=\"[Vol/h]\",\"[Vol/h]\",\"erreur\")))","v":"[m3/h]"},{"$f":"\"[\"&I10&\"]\"","v":"[pers]"},"[W/m²]","[W/m²]","[W/m²]","[W/m²]","[W/m²]","/",{"$nulls":9},"Partie Design builder",{"$nulls":22},"Profil d'occupation",0,"Tri","Profil de ventilation",0,"Tri"]
[1,"00:00:00","00:30:00",{"$f":"IF($I$12=\"non\",1,$I$12)*IF($F$4=\"oui\",IF(OR($B20<$H$4,$C20>$I$4,AND($B20>=$K$4,$C20<=$L$4)),0,1),_xlfn.IFS($D$7=Données!$B$527,HLOOKUP($D$11,Données!$C$8:$Y$57,A20+2,0),$D$7=Données!$B$528,HLOOKUP($D$11,Données!$C$62:$Y$111,A20+2,0),$D$7=Données!$B$529,HLOOKUP($D$11,Données!$C$115:$Y$164,A20+2,0),$D$7=Données!$B$530,HLOOKUP($D$11,Données!$C$169:$Y$218,A20+2,0),$D$7=Données!$B$531,HLOOKUP($D$11,Données!$C$224:$Y$273,A20+2,0),$D$7=Données!$B$532,HLOOKUP($D$11,Données!$C$280:$Y$329,A20+2,0)))","v":0},{"$f":"_xlfn.IFS($H$14=Données!$E$536,1,$H$14=Données!$E$537,IF(D20=0,Données!$F$537,D20),$H$14=Données!$E$538,IF(D20=0,Données!$F$538,D20),$H$14=Données!$E$539,IF(AND(B20>=$C$1-Données!$G$539,C20<=$C$2+Données!$G$539),1,0),$H$14=Données!$E$540,_xlfn.IFS(AND(D20=0,OR(B20<$C$1-Données!$G$540,C20>$C$2+Données!$G$540)),D20,AND(D20=0,B20>=$C$1-Données!$G$540,C20<=$C$2+Données!$G$540),Données!$F$540,D20<>0,D20))","v":0},{"$f":"IF($F$8=\"non\",NA(),IF(AND($D$7=\"Logement\",$D20>0),$F$9,IF(AND(B20>=$C$1-$F$12,C20<=$C$2),$F$9,$F$10)))","v":18},{"$f":"IF($G$8=\"non\",NA(),IF(AND($D$7=\"Logement\",$D20>0),$G$9,IF(AND(B20>=$C$1,C20<=$C$2),$G$9,$G$10)))","v":{"$error":"#N/A"}},{"$f":"IF($H$8=\"oui\",_xlfn.IFS($D$11=\"Sanitaires\",(30+(15*$H$9))*E20,$H$10=\"[m3/h.local]\",$H$9*E20,AND($H$19=\"[m3/h]\",$I$19=\"[pers/m²]\"),$I$9*$D$8*$H$9*E20,AND($H$19=\"[m3/h]\",($I$19=\"[pers]\")),$I$9*$H$9*E20,$H$19=\"[Vol/h]\",$H$9*E20),0)","v":{"v":0,"d":"0.0"}},{"$f":"D20*$I$9","v":0},{"$f":"IF(D20=0,0,$J$9)","v":0},{"$f":"IF($I$19=\"[pers]\",I20*$K$9/$D$8,IF($I$19=\"[pers/m²]\",I20*$K$9,\"erreur\"))","v":0},{"$f":"IF($L$14=\"particulier\",_xlfn.IFS(O20=0,$L$12*$L$9,O20>0,$L$9*O20),_xlfn.IFS(AND($L$14=1,I20=0),$L$9*$L$12,AND($L$14=1,I20>0),$L$9,AND($L$14=0,I20=0),$L$9*$L$12,AND($L$14=0,I20>0),$L$9*I20/$I$9))","v":0.3},{"$f":"IF(I20=0,0,$M$9*I20/$I$9)","v":0},{"$f":"IF(I20=0,0,$N$9*I20/$I$9)","v":0},{"$f":"IFERROR(IF($F$4=\"oui\",IF(OR($B20<$H$4,$C20>$I$4,AND($B20>=$K$4,$C20<=$L$4)),0,1),_xlfn.IFS($D$7=Données!$B$527,HLOOKUP($L$15,Données!$C$8:$Y$57,A20+2,0),$D$7=Données!$B$528,HLOOKUP($L$15,Données!$C$62:$Y$111,A20+2,0),$D$7=Données!$B$529,HLOOKUP($L$15,Données!$C$115:$Y$164,A20+2,0),$D$7=Données!$B$530,HLOOKUP($L$15,Données!$C$169:$Y$218,A20+2,0),$D$7=Données!$B$531,HLOOKUP($L$15,Données!$C$224:$Y$273,A20+2,0),$D$7=Données!$B$532,HLOOKUP($L$15,Données!$C$280:$Y$329,A20+2,0))),\"\")","v":""},{"$nulls":29},1,"00:00:00","00:30:00",{"$f":"IF(OR(AS20=1,AS20=48),\"Changement\",IF(D20=D19,\"Pas de changement\",\"Changement\"))","v":"Changement"},{"$f":"IF(AV20=\"Changement\",AW19+1,AW19)","v":1},{"$f":"AV20&AW20","v":"Changement1"},{"$f":"IF(OR(AS20=1,AS20=48),\"Changement\",IF(H20=H19,\"Pas de changement\",\"Changement\"))","v":"Changement"},{"$f":"IF(AY20=\"Changement\",AZ19+1,AZ19)","v":1},{"$f":"AY20&AZ20","v":"Changement1"}]
[2,{"$f":"C20","v":"00:30:00"},{"$f":"C20+0.5/24","v":"01:00:00"},{"$f":"IF($I$12=\"non\",1,$I$12)*IF($F$4=\"oui\",IF(OR($B21<$H$4,$C21>$I$4,AND($B21>=$K$4,$C21<=$L$4)),0,1),_xlfn.IFS($D$7=Données!$B$527,HLOOKUP($D$11,Données!$C$8:$Y$57,A21+2,0),$D$7=Données!$B$528,HLOOKUP($D$11,Données!$C$62:$Y$111,A21+2,0),$D$7=Données!$B$529,HLOOKUP($D$11,Données!$C$115:$Y$164,A21+2,0),$D$7=Données!$B$530,HLOOKUP($D$11,Données!$C$169:$Y$218,A21+2,0),$D$7=Données!$B$531,HLOOKUP($D$11,Données!$C$224:$Y$273,A21+2,0),$D$7=Données!$B$532,HLOOKUP($D$11,Données!$C$280:$Y$329,A21+2,0)))","v":0},{"$f":"_xlfn.IFS($H$14=Données!$E$536,1,$H$14=Données!$E$537,IF(D21=0,Données!$F$537,D21),$H$14=Données!$E$538,IF(D21=0,Données!$F$538,D21),$H$14=Données!$E$539,IF(AND(B21>=$C$1-Données!$G$539,C21<=$C$2+Données!$G$539),1,0),$H$14=Données!$E$540,_xlfn.IFS(AND(D21=0,OR(B21<$C$1-Données!$G$540,C21>$C$2+Données!$G$540)),D21,AND(D21=0,B21>=$C$1-Données!$G$540,C21<=$C$2+Données!$G$540),Données!$F$540,D21<>0,D21))","v":0},{"$f":"IF($F$8=\"non\",NA(),IF(AND($D$7=\"Logement\",$D21>0),$F$9,IF(AND(B21>=$C$1-$F$12,C21<=$C$2),$F$9,$F$10)))","v":18},{"$f":"IF($G$8=\"non\",NA(),IF(AND($D$7=\"Logement\",$D21>0),$G$9,IF(AND(B21>=$C$1,C21<=$C$2),$G$9,$G$10)))","v":{"$error":"#N/A"}},{"$f":"IF($H$8=\"oui\",_xlfn.IFS($D$11=\"Sanitaires\",(30+(15*$H$9))*E21,$H$10=\"[m3/h.local]\",$H$9*E21,AND($H$19=\"[m3/h]\",$I$19=\"[pers/m²]\"),$I$9*$D$8*$H$9*E21,AND($H$19=\"[m3/h]\",($I$19=\"[pers]\")),$I$9*$H$9*E21,$H$19=\"[Vol/h]\",$H$9*E21),0)","v":{"v":0,"d":"0.0"}},0,0,0,{"$f":"IF($L$14=\"particulier\",_xlfn.IFS(O21=0,$L$12*$L$9,O21>0,$L$9*O21),_xlfn.IFS(AND($L$14=1,I21=0),$L$9*$L$12,AND($L$14=1,I21>0),$L$9,AND($L$14=0,I21=0),$L$9*$L$12,AND($L$14=0,I21>0),$L$9*I21/$I$9))","v":0.3},0,0,{"$f":"IFERROR(IF($F$4=\"oui\",IF(OR($B21<$H$4,$C21>$I$4,AND($B21>=$K$4,$C21<=$L$4)),0,1),_xlfn.IFS($D$7=Données!$B$527,HLOOKUP($L$15,Données!$C$8:$Y$57,A21+2,0),$D$7=Données!$B$528,HLOOKUP($L$15,Données!$C$62:$Y$111,A21+2,0),$D$7=Données!$B$529,HLOOKUP($L$15,Données!$C$115:$Y$164,A21+2,0),$D$7=Données!$B$530,HLOOKUP($L$15,Données!$C$169:$Y$218,A21+2,0),$D$7=Données!$B$531,HLOOKUP($L$15,Données!$C$224:$Y$273,A21+2,0),$D$7=Données!$B$532,HLOOKUP($L$15,Données!$C$280:$Y$329,A21+2,0))),\"\")","v":""},{"$nulls":29},2,{"$f":"AU20","v":"00:30:00"},{"$f":"AU20+0.5/24","v":"01:00:00"},{"$f":"IF(OR(AS21=1,AS21=48),\"Changement\",IF(D21=D20,\"Pas de changement\",\"Changement\"))","v":"Pas de changement"},{"$f":"IF(AV21=\"Changement\",AW20+1,AW20)","v":1},{"$f":"AV21&AW21","v":"Pas de changement1"},"Pas de changement",{"$f":"IF(AY21=\"Changement\",AZ20+1,AZ20)","v":1},{"$f":"AY21&AZ21","v":"Pas de changement1"}]
[3,{"$f":"C21","v":"01:00:00"},{"$f":"C21+0.5/24","v":"01:30:00"},{"$f":"IF($I$12=\"non\",1,$I$12)*IF($F$4=\"oui\",IF(OR($B22<$H$4,$C22>$I$4,AND($B22>=$K$4,$C22<=$L$4)),0,1),_xlfn.IFS($D$7=Données!$B$527,HLOOKUP($D$11,Données!$C$8:$Y$57,A22+2,0),$D$7=Données!$B$528,HLOOKUP($D$11,Données!$C$62:$Y$111,A22+2,0),$D$7=Données!$B$529,HLOOKUP($D$11,Données!$C$115:$Y$164,A22+2,0),$D$7=Données!$B$530,HLOOKUP($D$11,Données!$C$169:$Y$218,A22+2,0),$D$7=Données!$B$531,HLOOKUP($D$11,Données!$C$224:$Y$273,A22+2,0),$D$7=Données!$B$532,HLOOKUP($D$11,Données!$C$280:$Y$329,A22+2,0)))","v":0},{"$f":"_xlfn.IFS($H$14=Données!$E$536,1,$H$14=Données!$E$537,IF(D22=0,Données!$F$537,D22),$H$14=Données!$E$538,IF(D22=0,Données!$F$538,D22),$H$14=Données!$E$539,IF(AND(B22>=$C$1-Données!$G$539,C22<=$C$2+Données!$G$539),1,0),$H$14=Données!$E$540,_xlfn.IFS(AND(D22=0,OR(B22<$C$1-Données!$G$540,C22>$C$2+Données!$G$540)),D22,AND(D22=0,B22>=$C$1-Données!$G$540,C22<=$C$2+Données!$G$540),Données!$F$540,D22<>0,D22))","v":0},18,{"$error":"#N/A"},{"$f":"IF($H$8=\"oui\",_xlfn.IFS($D$11=\"Sanitaires\",(30+(15*$H$9))*E22,$H$10=\"[m3/h.local]\",$H$9*E22,AND($H$19=\"[m3/h]\",$I$19=\"[pers/m²]\"),$I$9*$D$8*$H$9*E22,AND($H$19=\"[m3/h]\",($I$19=\"[pers]\")),$I$9*$H$9*E22,$H$19=\"[Vol/h]\",$H$9*E22),0)","v":{"v":0,"d":"0.0"}},0,0,0,{"$f":"IF($L$14=\"particulier\",_xlfn.IFS(O22=0,$L$12*$L$9,O22>0,$L$9*O22),_xlfn.IFS(AND($L$14=1,I22=0),$L$9*$L$12,AND($L$14=1,I22>0),$L$9,AND($L$14=0,I22=0),$L$9*$L$12,AND($L$14=0,I22>0),$L$9*I22/$I$9))","v":0.3},0,0,{"$f":"IFERROR(IF($F$4=\"oui\",IF(OR($B22<$H$4,$C22>$I$4,AND($B22>=$K$4,$C22<=$L$4)),0,1),_xlfn.IFS($D$7=Données!$B$527,HLOOKUP($L$15,Données!$C$8:$Y$57,A22+2,0),$D$7=Données!$B$528,HLOOKUP($L$15,Données!$C$62:$Y$111,A22+2,0),$D$7=Données!$B$529,HLOOKUP($L$15,Données!$C$115:$Y$164,A22+2,0),$D$7=Données!$B$530,HLOOKUP($L$15,Données!$C$169:$Y$218,A22+2,0),$D$7=Données!$B$531,HLOOKUP($L$15,Données!$C$224:$Y$273,A22+2,0),$D$7=Données!$B$532,HLOOKUP($L$15,Données!$C$280:$Y$329,A22+2,0))),\"\")","v":""},{"$nulls":9},{"$f":"B6","v":"03 _ test 3"},{"$nulls":19},3,{"$f":"AU21","v":"01:00:00"},{"$f":"AU21+0.5/24","v":"01:30:00"},{"$f":"IF(AS22=48,\"Changement\",IF(D22=D21,\"Pas de changement\",\"Changement\"))","v":"Pas de changement"},{"$f":"IF(AV22=\"Changement\",AW21+1,AW21)","v":1},"Pas de changement1","Pas de changement",{"$f":"IF(AY22=\"Changement\",AZ21+1,AZ21)","v":1},"Pas de changement1"]
[4,"01:30:00","02:00:00",{"$f":"IF($I$12=\"non\",1,$I$12)*IF($F$4=\"oui\",IF(OR($B23<$H$4,$C23>$I$4,AND($B23>=$K$4,$C23<=$L$4)),0,1),_xlfn.IFS($D$7=Données!$B$527,HLOOKUP($D$11,Données!$C$8:$Y$57,A23+2,0),$D$7=Données!$B$528,HLOOKUP($D$11,Données!$C$62:$Y$111,A23+2,0),$D$7=Données!$B$529,HLOOKUP($D$11,Données!$C$115:$Y$164,A23+2,0),$D$7=Données!$B$530,HLOOKUP($D$11,Données!$C$169:$Y$218,A23+2,0),$D$7=Données!$B$531,HLOOKUP($D$11,Données!$C$224:$Y$273,A23+2,0),$D$7=Données!$B$532,HLOOKUP($D$11,Données!$C$280:$Y$329,A23+2,0)))","v":0},{"$f":"_xlfn.IFS($H$14=Données!$E$536,1,$H$14=Données!$E$537,IF(D23=0,Données!$F$537,D23),$H$14=Données!$E$538,IF(D23=0,Données!$F$538,D23),$H$14=Données!$E$539,IF(AND(B23>=$C$1-Données!$G$539,C23<=$C$2+Données!$G$539),1,0),$H$14=Données!$E$540,_xlfn.IFS(AND(D23=0,OR(B23<$C$1-Données!$G$540,C23>$C$2+Données!$G$540)),D23,AND(D23=0,B23>=$C$1-Données!$G$540,C23<=$C$2+Données!$G$540),Données!$F$540,D23<>0,D23))","v":0},18,{"$error":"#N/A"},{"$f":"IF($H$8=\"oui\",_xlfn.IFS($D$11=\"Sanitaires\",(30+(15*$H$9))*E23,$H$10=\"[m3/h.local]\",$H$9*E23,AND($H$19=\"[m3/h]\",$I$19=\"[pers/m²]\"),$I$9*$D$8*$H$9*E23,AND($H$19=\"[m3/h]\",($I$19=\"[pers]\")),$I$9*$H$9*E23,$H$19=\"[Vol/h]\",$H$9*E23),0)","v":{"v":0,"d":"0.0"}},0,0,0,{"$f":"IF($L$14=\"particulier\",_xlfn.IFS(O23=0,$L$12*$L$9,O23>0,$L$9*O23),_xlfn.IFS(AND($L$14=1,I23=0),$L$9*$L$12,AND($L$14=1,I23>0),$L$9,AND($L$14=0,I23=0),$L$9*$L$12,AND($L$14=0,I23>0),$L$9*I23/$I$9))","v":0.3},0,0,{"$f":"IFERROR(IF($F$4=\"oui\",IF(OR($B23<$H$4,$C23>$I$4,AND($B23>=$K$4,$C23<=$L$4)),0,1),_xlfn.IFS($D$7=Données!$B$527,HLOOKUP($L$15,Données!$C$8:$Y$57,A23+2,0),$D$7=Données!$B$528,HLOOKUP($L$15,Données!$C$62:$Y$111,A23+2,0),$D$7=Données!$B$529,HLOOKUP($L$15,Données!$C$115:$Y$164,A23+2,0),$D$7=Données!$B$530,HLOOKUP($L$15,Données!$C$169:$Y$218,A23+2,0),$D$7=Données!$B$531,HLOOKUP($L$15,Données!$C$224:$Y$273,A23+2,0),$D$7=Données!$B$532,HLOOKUP($L$15,Données!$C$280:$Y$329,A23+2,0))),\"\")","v":""},null,null,{"$f":"B6","v":"03 _ test 3"},{"$nulls":6},"Attention DB n'accepte les décimales qu'avec des points !!!!!!",{"$nulls":19},4,"01:30:00","02:00:00","Pas de changement",1,"Pas de changement1","Pas de changement",1,"Pas de changement1"]
[5,"02:00:00","02:30:00",{"$f":"IF($I$12=\"non\",1,$I$12)*IF($F$4=\"oui\",IF(OR($B24<$H$4,$C24>$I$4,AND($B24>=$K$4,$C24<=$L$4)),0,1),_xlfn.IFS($D$7=Données!$B$527,HLOOKUP($D$11,Données!$C$8:$Y$57,A24+2,0),$D$7=Données!$B$528,HLOOKUP($D$11,Données!$C$62:$Y$111,A24+2,0),$D$7=Données!$B$529,HLOOKUP($D$11,Données!$C$115:$Y$164,A24+2,0),$D$7=Données!$B$530,HLOOKUP($D$11,Données!$C$169:$Y$218,A24+2,0),$D$7=Données!$B$531,HLOOKUP($D$11,Données!$C$224:$Y$273,A24+2,0),$D$7=Données!$B$532,HLOOKUP($D$11,Données!$C$280:$Y$329,A24+2,0)))","v":0},{"$f":"_xlfn.IFS($H$14=Données!$E$536,1,$H$14=Données!$E$537,IF(D24=0,Données!$F$537,D24),$H$14=Données!$E$538,IF(D24=0,Données!$F$538,D24),$H$14=Données!$E$539,IF(AND(B24>=$C$1-Données!$G$539,C24<=$C$2+Données!$G$539),1,0),$H$14=Données!$E$540,_xlfn.IFS(AND(D24=0,OR(B24<$C$1-Données!$G$540,C24>$C$2+Données!$G$540)),D24,AND(D24=0,B24>=$C$1-Données!$G$540,C24<=$C$2+Données!$G$540),Données!$F$540,D24<>0,D24))","v":0},18,{"$error":"#N/A"},{"$f":"IF($H$8=\"oui\",_xlfn.IFS($D$11=\"Sanitaires\",(30+(15*$H$9))*E24,$H$10=\"[m3/h.local]\",$H$9*E24,AND($H$19=\"[m3/h]\",$I$19=\"[pers/m²]\"),$I$9*$D$8*$H$9*E24,AND($H$19=\"[m3/h]\",($I$19=\"[pers]\")),$I$9*$H$9*E24,$H$19=\"[Vol/h]\",$H$9*E24),0)","v":{"v":0,"d":"0.0"}},0,0,0,{"$f":"IF($L$14=\"particulier\",_xlfn.IFS(O24=0,$L$12*$L$9,O24>0,$L$9*O24),_xlfn.IFS(AND($L$14=1,I24=0),$L$9*$L$12,AND($L$14=1,I24>0),$L$9,AND($L$14=0,I24=0),$L$9*$L$12,AND($L$14=0,I24>0),$L$9*I24/$I$9))","v":0.3},0,0,{"$f":"IFERROR(IF($F$4=\"oui\",IF(OR($B24<$H$4,$C24>$I$4,AND($B24>=$K$4,$C24<=$L$4)),0,1),_xlfn.IFS($D$7=Données!$B$527,HLOOKUP($L$15,Données!$C$8:$Y$57,A24+2,0),$D$7=Données!$B$528,HLOOKUP($L$15,Données!$C$62:$Y$111,A24+2,0),$D$7=Données!$B$529,HLOOKUP($L$15,Données!$C$115:$Y$164,A24+2,0),$D$7=Données!$B$530,HLOOKUP($L$15,Données!$C$169:$Y$218,A24+2,0),$D$7=Données!$B$531,HLOOKUP($L$15,Données!$C$224:$Y$273,A24+2,0),$D$7=Données!$B$532,HLOOKUP($L$15,Données!$C$280:$Y$329,A24+2,0))),\"\")","v":""},null,null,"Conditionnement :",null,"Occupation :",{"$nulls":24},5,"02:00:00","02:30:00","Pas de changement",1,"Pas de changement1","Pas de changement",1,"Pas de changement1"]
[6,"02:30:00","03:00:00",{"$f":"IF($I$12=\"non\",1,$I$12)*IF($F$4=\"oui\",IF(OR($B25<$H$4,$C25>$I$4,AND($B25>=$K$4,$C25<=$L$4)),0,1),_xlfn.IFS($D$7=Données!$B$527,HLOOKUP($D$11,Données!$C$8:$Y$57,A25+2,0),$D$7=Données!$B$528,HLOOKUP($D$11,Données!$C$62:$Y$111,A25+2,0),$D$7=Données!$B$529,HLOOKUP($D$11,Données!$C$115:$Y$164,A25+2,0),$D$7=Données!$B$530,HLOOKUP($D$11,Données!$C$169:$Y$218,A25+2,0),$D$7=Données!$B$531,HLOOKUP($D$11,Données!$C$224:$Y$273,A25+2,0),$D$7=Données!$B$532,HLOOKUP($D$11,Données!$C$280:$Y$329,A25+2,0)))","v":0},{"$f":"_xlfn.IFS($H$14=Données!$E$536,1,$H$14=Données!$E$537,IF(D25=0,Données!$F$537,D25),$H$14=Données!$E$538,IF(D25=0,Données!$F$538,D25),$H$14=Données!$E$539,IF(AND(B25>=$C$1-Données!$G$539,C25<=$C$2+Données!$G$539),1,0),$H$14=Données!$E$540,_xlfn.IFS(AND(D25=0,OR(B25<$C$1-Données!$G$540,C25>$C$2+Données!$G$540)),D25,AND(D25=0,B25>=$C$1-Données!$G$540,C25<=$C$2+Données!$G$540),Données!$F$540,D25<>0,D25))","v":0},18,{"$error":"#N/A"},{"$f":"IF($H$8=\"oui\",_xlfn.IFS($D$11=\"Sanitaires\",(30+(15*$H$9))*E25,$H$10=\"[m3/h.local]\",$H$9*E25,AND($H$19=\"[m3/h]\",$I$19=\"[pers/m²]\"),$I$9*$D$8*$H$9*E25,AND($H$19=\"[m3/h]\",($I$19=\"[pers]\")),$I$9*$H$9*E25,$H$19=\"[Vol/h]\",$H$9*E25),0)","v":{"v":0,"d":"0.0"}},0,0,0,{"$f":"IF($L$14=\"particulier\",_xlfn.IFS(O25=0,$L$12*$L$9,O25>0,$L$9*O25),_xlfn.IFS(AND($L$14=1,I25=0),$L$9*$L$12,AND($L$14=1,I25>0),$L$9,AND($L$14=0,I25=0),$L$9*$L$12,AND($L$14=0,I25>0),$L$9*I25/$I$9))","v":0.3},0,0,{"$f":"IFERROR(IF($F$4=\"oui\",IF(OR($B25<$H$4,$C25>$I$4,AND($B25>=$K$4,$C25<=$L$4)),0,1),_xlfn.IFS($D$7=Données!$B$527,HLOOKUP($L$15,Données!$C$8:$Y$57,A25+2,0),$D$7=Données!$B$528,HLOOKUP($L$15,Données!$C$62:$Y$111,A25+2,0),$D$7=Données!$B$529,HLOOKUP($L$15,Données!$C$115:$Y$164,A25+2,0),$D$7=Données!$B$530,HLOOKUP($L$15,Données!$C$169:$Y$218,A25+2,0),$D$7=Données!$B$531,HLOOKUP($L$15,Données!$C$224:$Y$273,A25+2,0),$D$7=Données!$B$532,HLOOKUP($L$15,Données!$C$280:$Y$329,A25+2,0))),\"\")","v":""},null,null,{"$f":"IF(F8=\"oui\",\"Chauffage par \"&F14,\"Zone non chauffée\")","v":"Chauffage par Panneau rayonnant"},null,"Planning d'usage :",{"$f":"D11","v":"Salle de pause"},{"$nulls":4},{"$f":"I9","v":{"v":20,"d":"20.000"}},{"$f":"I10","v":"pers"},{"$nulls":17},6,"02:30:00","03:00:00","Pas de changement",1,"Pas de changement1","Pas de changement",1,"Pas de changement1"]
[7,"03:00:00","03:30:00",{"$f":"IF($I$12=\"non\",1,$I$12)*IF($F$4=\"oui\",IF(OR($B26<$H$4,$C26>$I$4,AND($B26>=$K$4,$C26<=$L$4)),0,1),_xlfn.IFS($D$7=Données!$B$527,HLOOKUP($D$11,Données!$C$8:$Y$57,A26+2,0),$D$7=Données!$B$528,HLOOKUP($D$11,Données!$C$62:$Y$111,A26+2,0),$D$7=Données!$B$529,HLOOKUP($D$11,Données!$C$115:$Y$164,A26+2,0),$D$7=Données!$B$530,HLOOKUP($D$11,Données!$C$169:$Y$218,A26+2,0),$D$7=Données!$B$531,HLOOKUP($D$11,Données!$C$224:$Y$273,A26+2,0),$D$7=Données!$B$532,HLOOKUP($D$11,Données!$C$280:$Y$329,A26+2,0)))","v":0},{"$f":"_xlfn.IFS($H$14=Données!$E$536,1,$H$14=Données!$E$537,IF(D26=0,Données!$F$537,D26),$H$14=Données!$E$538,IF(D26=0,Données!$F$538,D26),$H$14=Données!$E$539,IF(AND(B26>=$C$1-Données!$G$539,C26<=$C$2+Données!$G$539),1,0),$H$14=Données!$E$540,_xlfn.IFS(AND(D26=0,OR(B26<$C$1-Données!$G$540,C26>$C$2+Données!$G$540)),D26,AND(D26=0,B26>=$C$1-Données!$G$540,C26<=$C$2+Données!$G$540),Données!$F$540,D26<>0,D26))","v":0},18,{"$error":"#N/A"},{"$f":"IF($H$8=\"oui\",_xlfn.IFS($D$11=\"Sanitaires\",(30+(15*$H$9))*E26,$H$10=\"[m3/h.local]\",$H$9*E26,AND($H$19=\"[m3/h]\",$I$19=\"[pers/m²]\"),$I$9*$D$8*$H$9*E26,AND($H$19=\"[m3/h]\",($I$19=\"[pers]\")),$I$9*$H$9*E26,$H$19=\"[Vol/h]\",$H$9*E26),0)","v":{"v":0,"d":"0.0"}},0,0,0,{"$f":"IF($L$14=\"particulier\",_xlfn.IFS(O26=0,$L$12*$L$9,O26>0,$L$9*O26),_xlfn.IFS(AND($L$14=1,I26=0),$L$9*$L$12,AND($L$14=1,I26>0),$L$9,AND($L$14=0,I26=0),$L$9*$L$12,AND($L$14=0,I26>0),$L$9*I26/$I$9))","v":0.3},0,0,{"$f":"IFERROR(IF($F$4=\"oui\",IF(OR($B26<$H$4,$C26>$I$4,AND($B26>=$K$4,$C26<=$L$4)),0,1),_xlfn.IFS($D$7=Données!$B$527,HLOOKUP($L$15,Données!$C$8:$Y$57,A26+2,0),$D$7=Données!$B$528,HLOOKUP($L$15,Données!$C$62:$Y$111,A26+2,0),$D$7=Données!$B$529,HLOOKUP($L$15,Données!$C$115:$Y$164,A26+2,0),$D$7=Données!$B$530,HLOOKUP($L$15,Données!$C$169:$Y$218,A26+2,0),$D$7=Données!$B$531,HLOOKUP($L$15,Données!$C$224:$Y$273,A26+2,0),$D$7=Données!$B$532,HLOOKUP($L$15,Données!$C$280:$Y$329,A26+2,0))),\"\")","v":""},null,null,{"$f":"IF(F8=\"oui\",\"Consigne/Réduit :\",\"\")","v":"Consigne/Réduit :"},{"$f":"IF(F8=\"oui\",F9&\" / \"&F10&\" °C\",\"\")","v":"20 / 18 °C"},{"$f":"IF(OR(I9=\"\",I9=0),\"\",\"Effectif :\")","v":"Effectif :"},{"$f":"IF(OR(I9=\"\",I9=0),\"\",IF(I10=\"pers\",ROUND(I9,0)&\" \"&I10,ROUND(I9,3)&\" \"&I10))","v":"20 pers"},{"$nulls":4},"Scénario Occupation ",{"$nulls":18},7,"03:00:00","03:30:00","Pas de changement",1,"Pas de changement1","Pas de changement",1,"Pas de changement1"]
[8,"03:30:00","04:00:00",{"$f":"IF($I$12=\"non\",1,$I$12)*IF($F$4=\"oui\",IF(OR($B27<$H$4,$C27>$I$4,AND($B27>=$K$4,$C27<=$L$4)),0,1),_xlfn.IFS($D$7=Données!$B$527,HLOOKUP($D$11,Données!$C$8:$Y$57,A27+2,0),$D$7=Données!$B$528,HLOOKUP($D$11,Données!$C$62:$Y$111,A27+2,0),$D$7=Données!$B$529,HLOOKUP($D$11,Données!$C$115:$Y$164,A27+2,0),$D$7=Données!$B$530,HLOOKUP($D$11,Données!$C$169:$Y$218,A27+2,0),$D$7=Données!$B$531,HLOOKUP($D$11,Données!$C$224:$Y$273,A27+2,0),$D$7=Données!$B$532,HLOOKUP($D$11,Données!$C$280:$Y$329,A27+2,0)))","v":0},{"$f":"_xlfn.IFS($H$14=Données!$E$536,1,$H$14=Données!$E$537,IF(D27=0,Données!$F$537,D27),$H$14=Données!$E$538,IF(D27=0,Données!$F$538,D27),$H$14=Données!$E$539,IF(AND(B27>=$C$1-Données!$G$539,C27<=$C$2+Données!$G$539),1,0),$H$14=Données!$E$540,_xlfn.IFS(AND(D27=0,OR(B27<$C$1-Données!$G$540,C27>$C$2+Données!$G$540)),D27,AND(D27=0,B27>=$C$1-Données!$G$540,C27<=$C$2+Données!$G$540),Données!$F$540,D27<>0,D27))","v":0},18,{"$error":"#N/A"},{"$f":"IF($H$8=\"oui\",_xlfn.IFS($D$11=\"Sanitaires\",(30+(15*$H$9))*E27,$H$10=\"[m3/h.local]\",$H$9*E27,AND($H$19=\"[m3/h]\",$I$19=\"[pers/m²]\"),$I$9*$D$8*$H$9*E27,AND($H$19=\"[m3/h]\",($I$19=\"[pers]\")),$I$9*$H$9*E27,$H$19=\"[Vol/h]\",$H$9*E27),0)","v":{"v":0,"d":"0.0"}},0,0,0,{"$f":"IF($L$14=\"particulier\",_xlfn.IFS(O27=0,$L$12*$L$9,O27>0,$L$9*O27),_xlfn.IFS(AND($L$14=1,I27=0),$L$9*$L$12,AND($L$14=1,I27>0),$L$9,AND($L$14=0,I27=0),$L$9*$L$12,AND($L$14=0,I27>0),$L$9*I27/$I$9))","v":0.3},0,0,{"$f":"IFERROR(IF($F$4=\"oui\",IF(OR($B27<$H$4,$C27>$I$4,AND($B27>=$K$4,$C27<=$L$4)),0,1),_xlfn.IFS($D$7=Données!$B$527,HLOOKUP($L$15,Données!$C$8:$Y$57,A27+2,0),$D$7=Données!$B$528,HLOOKUP($L$15,Données!$C$62:$Y$111,A27+2,0),$D$7=Données!$B$529,HLOOKUP($L$15,Données!$C$115:$Y$164,A27+2,0),$D$7=Données!$B$530,HLOOKUP($L$15,Données!$C$169:$Y$218,A27+2,0),$D$7=Données!$B$531,HLOOKUP($L$15,Données!$C$224:$Y$273,A27+2,0),$D$7=Données!$B$532,HLOOKUP($L$15,Données!$C$280:$Y$329,A27+2,0))),\"\")","v":""},null,null,{"$f":"IF(G8=\"oui\",\"Rafraichissement par \"&G14,\"Zone non rafraichie\")","v":"Zone non rafraichie"},null,{"$f":"IF(OR(I9=\"\",I9=0),\"\",\"Métabolisme :\")","v":"Métabolisme :"},{"$f":"IF(OR(I9=\"\",I9=0),\"\",K12&\" (\"&K9&\" W/pers)\")","v":"Travail de bureau (123 W/pers)"},{"$nulls":4},"(A copier dans DB. Attention effacer les lignes vides sinon DB plante)",{"$nulls":18},8,"03:30:00","04:00:00","Pas de changement",1,"Pas de changement1","Pas de changement",1,"Pas de changement1"]
[9,"04:00:00","04:30:00",{"$f":"IF($I$12=\"non\",1,$I$12)*IF($F$4=\"oui\",IF(OR($B28<$H$4,$C28>$I$4,AND($B28>=$K$4,$C28<=$L$4)),0,1),_xlfn.IFS($D$7=Données!$B$527,HLOOKUP($D$11,Données!$C$8:$Y$57,A28+2,0),$D$7=Données!$B$528,HLOOKUP($D$11,Données!$C$62:$Y$111,A28+2,0),$D$7=Données!$B$529,HLOOKUP($D$11,Données!$C$115:$Y$164,A28+2,0),$D$7=Données!$B$530,HLOOKUP($D$11,Données!$C$169:$Y$218,A28+2,0),$D$7=Données!$B$531,HLOOKUP($D$11,Données!$C$224:$Y$273,A28+2,0),$D$7=Données!$B$532,HLOOKUP($D$11,Données!$C$280:$Y$329,A28+2,0)))","v":0},{"$f":"_xlfn.IFS($H$14=Données!$E$536,1,$H$14=Données!$E$537,IF(D28=0,Données!$F$537,D28),$H$14=Données!$E$538,IF(D28=0,Données!$F$538,D28),$H$14=Données!$E$539,IF(AND(B28>=$C$1-Données!$G$539,C28<=$C$2+Données!$G$539),1,0),$H$14=Données!$E$540,_xlfn.IFS(AND(D28=0,OR(B28<$C$1-Données!$G$540,C28>$C$2+Données!$G$540)),D28,AND(D28=0,B28>=$C$1-Données!$G$540,C28<=$C$2+Données!$G$540),Données!$F$540,D28<>0,D28))","v":0},18,{"$error":"#N/A"},{"$f":"IF($H$8=\"oui\",_xlfn.IFS($D$11=\"Sanitaires\",(30+(15*$H$9))*E28,$H$10=\"[m3/h.local]\",$H$9*E28,AND($H$19=\"[m3/h]\",$I$19=\"[pers/m²]\"),$I$9*$D$8*$H$9*E28,AND($H$19=\"[m3/h]\",($I$19=\"[pers]\")),$I$9*$H$9*E28,$H$19=\"[Vol/h]\",$H$9*E28),0)","v":{"v":0,"d":"0.0"}},0,0,0,{"$f":"IF($L$14=\"particulier\",_xlfn.IFS(O28=0,$L$12*$L$9,O28>0,$L$9*O28),_xlfn.IFS(AND($L$14=1,I28=0),$L$9*$L$12,AND($L$14=1,I28>0),$L$9,AND($L$14=0,I28=0),$L$9*$L$12,AND($L$14=0,I28>0),$L$9*I28/$I$9))","v":0.3},0,0,{"$f":"IFERROR(IF($F$4=\"oui\",IF(OR($B28<$H$4,$C28>$I$4,AND($B28>=$K$4,$C28<=$L$4)),0,1),_xlfn.IFS($D$7=Données!$B$527,HLOOKUP($L$15,Données!$C$8:$Y$57,A28+2,0),$D$7=Données!$B$528,HLOOKUP($L$15,Données!$C$62:$Y$111,A28+2,0),$D$7=Données!$B$529,HLOOKUP($L$15,Données!$C$115:$Y$164,A28+2,0),$D$7=Données!$B$530,HLOOKUP($L$15,Données!$C$169:$Y$218,A28+2,0),$D$7=Données!$B$531,HLOOKUP($L$15,Données!$C$224:$Y$273,A28+2,0),$D$7=Données!$B$532,HLOOKUP($L$15,Données!$C$280:$Y$329,A28+2,0))),\"\")","v":""},null,null,{"$f":"IF(G8=\"oui\",\"Consigne/Réduit :\",\"\")","v":""},{"$f":"IF(G8=\"oui\",G9&\" / \"&G10&\" °C\",\"\")","v":""},{"$nulls":6},"Schedule:Compact,",{"$nulls":18},9,"04:00:00","04:30:00","Pas de changement",1,"Pas de changement1","Pas de changement",1,"Pas de changement1"]
[10,"04:30:00","05:00:00",{"$f":"IF($I$12=\"non\",1,$I$12)*IF($F$4=\"oui\",IF(OR($B29<$H$4,$C29>$I$4,AND($B29>=$K$4,$C29<=$L$4)),0,1),_xlfn.IFS($D$7=Données!$B$527,HLOOKUP($D$11,Données!$C$8:$Y$57,A29+2,0),$D$7=Données!$B$528,HLOOKUP($D$11,Données!$C$62:$Y$111,A29+2,0),$D$7=Données!$B$529,HLOOKUP($D$11,Données!$C$115:$Y$164,A29+2,0),$D$7=Données!$B$530,HLOOKUP($D$11,Données!$C$169:$Y$218,A29+2,0),$D$7=Données!$B$531,HLOOKUP($D$11,Données!$C$224:$Y$273,A29+2,0),$D$7=Données!$B$532,HLOOKUP($D$11,Données!$C$280:$Y$329,A29+2,0)))","v":0},{"$f":"_xlfn.IFS($H$14=Données!$E$536,1,$H$14=Données!$E$537,IF(D29=0,Données!$F$537,D29),$H$14=Données!$E$538,IF(D29=0,Données!$F$538,D29),$H$14=Données!$E$539,IF(AND(B29>=$C$1-Données!$G$539,C29<=$C$2+Données!$G$539),1,0),$H$14=Données!$E$540,_xlfn.IFS(AND(D29=0,OR(B29<$C$1-Données!$G$540,C29>$C$2+Données!$G$540)),D29,AND(D29=0,B29>=$C$1-Données!$G$540,C29<=$C$2+Données!$G$540),Données!$F$540,D29<>0,D29))","v":0},18,{"$error":"#N/A"},{"$f":"IF($H$8=\"oui\",_xlfn.IFS($D$11=\"Sanitaires\",(30+(15*$H$9))*E29,$H$10=\"[m3/h.local]\",$H$9*E29,AND($H$19=\"[m3/h]\",$I$19=\"[pers/m²]\"),$I$9*$D$8*$H$9*E29,AND($H$19=\"[m3/h]\",($I$19=\"[pers]\")),$I$9*$H$9*E29,$H$19=\"[Vol/h]\",$H$9*E29),0)","v":{"v":0,"d":"0.0"}},0,0,0,{"$f":"IF($L$14=\"particulier\",_xlfn.IFS(O29=0,$L$12*$L$9,O29>0,$L$9*O29),_xlfn.IFS(AND($L$14=1,I29=0),$L$9*$L$12,AND($L$14=1,I29>0),$L$9,AND($L$14=0,I29=0),$L$9*$L$12,AND($L$14=0,I29>0),$L$9*I29/$I$9))","v":0.3},0,0,{"$f":"IFERROR(IF($F$4=\"oui\",IF(OR($B29<$H$4,$C29>$I$4,AND($B29>=$K$4,$C29<=$L$4)),0,1),_xlfn.IFS($D$7=Données!$B$527,HLOOKUP($L$15,Données!$C$8:$Y$57,A29+2,0),$D$7=Données!$B$528,HLOOKUP($L$15,Données!$C$62:$Y$111,A29+2,0),$D$7=Données!$B$529,HLOOKUP($L$15,Données!$C$115:$Y$164,A29+2,0),$D$7=Données!$B$530,HLOOKUP($L$15,Données!$C$169:$Y$218,A29+2,0),$D$7=Données!$B$531,HLOOKUP($L$15,Données!$C$224:$Y$273,A29+2,0),$D$7=Données!$B$532,HLOOKUP($L$15,Données!$C$280:$Y$329,A29+2,0))),\"\")","v":""},null,null,"Ventilation :",null,"Apports internes :",{"$nulls":5},{"$f":"$B$6&\"_occupation\"","v":"03 _ test 3_occupation"},",",{"$nulls":17},10,"04:30:00","05:00:00","Pas de changement",1,"Pas de changement1","Pas de changement",1,"Pas de changement1"]
[11,"05:00:00","05:30:00",{"$f":"IF($I$12=\"non\",1,$I$12)*IF($F$4=\"oui\",IF(OR($B30<$H$4,$C30>$I$4,AND($B30>=$K$4,$C30<=$L$4)),0,1),_xlfn.IFS($D$7=Données!$B$527,HLOOKUP($D$11,Données!$C$8:$Y$57,A30+2,0),$D$7=Données!$B$528,HLOOKUP($D$11,Données!$C$62:$Y$111,A30+2,0),$D$7=Données!$B$529,HLOOKUP($D$11,Données!$C$115:$Y$164,A30+2,0),$D$7=Données!$B$530,HLOOKUP($D$11,Données!$C$169:$Y$218,A30+2,0),$D$7=Données!$B$531,HLOOKUP($D$11,Données!$C$224:$Y$273,A30+2,0),$D$7=Données!$B$532,HLOOKUP($D$11,Données!$C$280:$Y$329,A30+2,0)))","v":0},{"$f":"_xlfn.IFS($H$14=Données!$E$536,1,$H$14=Données!$E$537,IF(D30=0,Données!$F$537,D30),$H$14=Données!$E$538,IF(D30=0,Données!$F$538,D30),$H$14=Données!$E$539,IF(AND(B30>=$C$1-Données!$G$539,C30<=$C$2+Données!$G$539),1,0),$H$14=Données!$E$540,_xlfn.IFS(AND(D30=0,OR(B30<$C$1-Données!$G$540,C30>$C$2+Données!$G$540)),D30,AND(D30=0,B30>=$C$1-Données!$G$540,C30<=$C$2+Données!$G$540),Données!$F$540,D30<>0,D30))","v":0},18,{"$error":"#N/A"},{"$f":"IF($H$8=\"oui\",_xlfn.IFS($D$11=\"Sanitaires\",(30+(15*$H$9))*E30,$H$10=\"[m3/h.local]\",$H$9*E30,AND($H$19=\"[m3/h]\",$I$19=\"[pers/m²]\"),$I$9*$D$8*$H$9*E30,AND($H$19=\"[m3/h]\",($I$19=\"[pers]\")),$I$9*$H$9*E30,$H$19=\"[Vol/h]\",$H$9*E30),0)","v":{"v":0,"d":"0.0"}},0,0,0,{"$f":"IF($L$14=\"particulier\",_xlfn.IFS(O30=0,$L$12*$L$9,O30>0,$L$9*O30),_xlfn.IFS(AND($L$14=1,I30=0),$L$9*$L$12,AND($L$14=1,I30>0),$L$9,AND($L$14=0,I30=0),$L$9*$L$12,AND($L$14=0,I30>0),$L$9*I30/$I$9))","v":0.3},0,0,{"$f":"IFERROR(IF($F$4=\"oui\",IF(OR($B30<$H$4,$C30>$I$4,AND($B30>=$K$4,$C30<=$L$4)),0,1),_xlfn.IFS($D$7=Données!$B$527,HLOOKUP($L$15,Données!$C$8:$Y$57,A30+2,0),$D$7=Données!$B$528,HLOOKUP($L$15,Données!$C$62:$Y$111,A30+2,0),$D$7=Données!$B$529,HLOOKUP($L$15,Données!$C$115:$Y$164,A30+2,0),$D$7=Données!$B$530,HLOOKUP($L$15,Données!$C$169:$Y$218,A30+2,0),$D$7=Données!$B$531,HLOOKUP($L$15,Données!$C$224:$Y$273,A30+2,0),$D$7=Données!$B$532,HLOOKUP($L$15,Données!$C$280:$Y$329,A30+2,0))),\"\")","v":""},null,null,{"$f":"IF(H8=\"oui\",H15,\"\")","v":"VMC Double Flux"},{"$f":"IF(H8=\"oui\",\"Sur \"&H14,\"\")","v":"Sur Planning on/off"},{"$f":"L7&\" :\"","v":"Equipements :"},{"$f":"IF(L12=0,ROUND(L9,2)&\" \"&L10,ROUND(L9,2)&\" \"&L10&\" (veille de \"&ROUND(L12,2)*100&\"%)\")","v":"10 W/m² (veille de 3%)"},{"$nulls":4},"Fraction,",{"$nulls":18},11,"05:00:00","05:30:00","Pas de changement",1,"Pas de changement1","Pas de changement",1,"Pas de changement1"]
[12,"05:30:00","06:00:00",{"$f":"IF($I$12=\"non\",1,$I$12)*IF($F$4=\"oui\",IF(OR($B31<$H$4,$C31>$I$4,AND($B31>=$K$4,$C31<=$L$4)),0,1),_xlfn.IFS($D$7=Données!$B$527,HLOOKUP($D$11,Données!$C$8:$Y$57,A31+2,0),$D$7=Données!$B$528,HLOOKUP($D$11,Données!$C$62:$Y$111,A31+2,0),$D$7=Données!$B$529,HLOOKUP($D$11,Données!$C$115:$Y$164,A31+2,0),$D$7=Données!$B$530,HLOOKUP($D$11,Données!$C$169:$Y$218,A31+2,0),$D$7=Données!$B$531,HLOOKUP($D$11,Données!$C$224:$Y$273,A31+2,0),$D$7=Données!$B$532,HLOOKUP($D$11,Données!$C$280:$Y$329,A31+2,0)))","v":0},{"$f":"_xlfn.IFS($H$14=Données!$E$536,1,$H$14=Données!$E$537,IF(D31=0,Données!$F$537,D31),$H$14=Données!$E$538,IF(D31=0,Données!$F$538,D31),$H$14=Données!$E$539,IF(AND(B31>=$C$1-Données!$G$539,C31<=$C$2+Données!$G$539),1,0),$H$14=Données!$E$540,_xlfn.IFS(AND(D31=0,OR(B31<$C$1-Données!$G$540,C31>$C$2+Données!$G$540)),D31,AND(D31=0,B31>=$C$1-Données!$G$540,C31<=$C$2+Données!$G$540),Données!$F$540,D31<>0,D31))","v":0},18,{"$error":"#N/A"},{"$f":"IF($H$8=\"oui\",_xlfn.IFS($D$11=\"Sanitaires\",(30+(15*$H$9))*E31,$H$10=\"[m3/h.local]\",$H$9*E31,AND($H$19=\"[m3/h]\",$I$19=\"[pers/m²]\"),$I$9*$D$8*$H$9*E31,AND($H$19=\"[m3/h]\",($I$19=\"[pers]\")),$I$9*$H$9*E31,$H$19=\"[Vol/h]\",$H$9*E31),0)","v":{"v":0,"d":"0.0"}},0,0,0,{"$f":"IF($L$14=\"particulier\",_xlfn.IFS(O31=0,$L$12*$L$9,O31>0,$L$9*O31),_xlfn.IFS(AND($L$14=1,I31=0),$L$9*$L$12,AND($L$14=1,I31>0),$L$9,AND($L$14=0,I31=0),$L$9*$L$12,AND($L$14=0,I31>0),$L$9*I31/$I$9))","v":0.3},0,0,{"$f":"IFERROR(IF($F$4=\"oui\",IF(OR($B31<$H$4,$C31>$I$4,AND($B31>=$K$4,$C31<=$L$4)),0,1),_xlfn.IFS($D$7=Données!$B$527,HLOOKUP($L$15,Données!$C$8:$Y$57,A31+2,0),$D$7=Données!$B$528,HLOOKUP($L$15,Données!$C$62:$Y$111,A31+2,0),$D$7=Données!$B$529,HLOOKUP($L$15,Données!$C$115:$Y$164,A31+2,0),$D$7=Données!$B$530,HLOOKUP($L$15,Données!$C$169:$Y$218,A31+2,0),$D$7=Données!$B$531,HLOOKUP($L$15,Données!$C$224:$Y$273,A31+2,0),$D$7=Données!$B$532,HLOOKUP($L$15,Données!$C$280:$Y$329,A31+2,0))),\"\")","v":""},null,null,{"$f":"IF(H8=\"oui\",\"Débit d'air neuf :\",\"\")","v":"Débit d'air neuf :"},{"$f":"IF(H8=\"oui\",H9&\" \"&H10,\"\")","v":"25 [m3/h.pers]"},{"$f":"IF(M9=0,\"\",M7&\" :\")","v":""},{"$f":"IF(M9=0,\"\",IF(M12=0,ROUND(M9,2)&\" \"&M10,ROUND(M9,2)&\" \"&M10&\" (veille de \"&M12*100&\"%)\"))","v":""},{"$nulls":4},"Through: ","31 Dec,",{"$nulls":17},12,"05:30:00","06:00:00","Pas de changement",1,"Pas de changement1","Pas de changement",1,"Pas de changement1"]
[13,"06:00:00","06:30:00",{"$f":"IF($I$12=\"non\",1,$I$12)*IF($F$4=\"oui\",IF(OR($B32<$H$4,$C32>$I$4,AND($B32>=$K$4,$C32<=$L$4)),0,1),_xlfn.IFS($D$7=Données!$B$527,HLOOKUP($D$11,Données!$C$8:$Y$57,A32+2,0),$D$7=Données!$B$528,HLOOKUP($D$11,Données!$C$62:$Y$111,A32+2,0),$D$7=Données!$B$529,HLOOKUP($D$11,Données!$C$115:$Y$164,A32+2,0),$D$7=Données!$B$530,HLOOKUP($D$11,Données!$C$169:$Y$218,A32+2,0),$D$7=Données!$B$531,HLOOKUP($D$11,Données!$C$224:$Y$273,A32+2,0),$D$7=Données!$B$532,HLOOKUP($D$11,Données!$C$280:$Y$329,A32+2,0)))","v":0},{"$f":"_xlfn.IFS($H$14=Données!$E$536,1,$H$14=Données!$E$537,IF(D32=0,Données!$F$537,D32),$H$14=Données!$E$538,IF(D32=0,Données!$F$538,D32),$H$14=Données!$E$539,IF(AND(B32>=$C$1-Données!$G$539,C32<=$C$2+Données!$G$539),1,0),$H$14=Données!$E$540,_xlfn.IFS(AND(D32=0,OR(B32<$C$1-Données!$G$540,C32>$C$2+Données!$G$540)),D32,AND(D32=0,B32>=$C$1-Données!$G$540,C32<=$C$2+Données!$G$540),Données!$F$540,D32<>0,D32))","v":0},18,{"$error":"#N/A"},{"$f":"IF($H$8=\"oui\",_xlfn.IFS($D$11=\"Sanitaires\",(30+(15*$H$9))*E32,$H$10=\"[m3/h.local]\",$H$9*E32,AND($H$19=\"[m3/h]\",$I$19=\"[pers/m²]\"),$I$9*$D$8*$H$9*E32,AND($H$19=\"[m3/h]\",($I$19=\"[pers]\")),$I$9*$H$9*E32,$H$19=\"[Vol/h]\",$H$9*E32),0)","v":{"v":0,"d":"0.0"}},0,0,0,{"$f":"IF($L$14=\"particulier\",_xlfn.IFS(O32=0,$L$12*$L$9,O32>0,$L$9*O32),_xlfn.IFS(AND($L$14=1,I32=0),$L$9*$L$12,AND($L$14=1,I32>0),$L$9,AND($L$14=0,I32=0),$L$9*$L$12,AND($L$14=0,I32>0),$L$9*I32/$I$9))","v":0.3},0,0,{"$f":"IFERROR(IF($F$4=\"oui\",IF(OR($B32<$H$4,$C32>$I$4,AND($B32>=$K$4,$C32<=$L$4)),0,1),_xlfn.IFS($D$7=Données!$B$527,HLOOKUP($L$15,Données!$C$8:$Y$57,A32+2,0),$D$7=Données!$B$528,HLOOKUP($L$15,Données!$C$62:$Y$111,A32+2,0),$D$7=Données!$B$529,HLOOKUP($L$15,Données!$C$115:$Y$164,A32+2,0),$D$7=Données!$B$530,HLOOKUP($L$15,Données!$C$169:$Y$218,A32+2,0),$D$7=Données!$B$531,HLOOKUP($L$15,Données!$C$224:$Y$273,A32+2,0),$D$7=Données!$B$532,HLOOKUP($L$15,Données!$C$280:$Y$329,A32+2,0))),\"\")","v":""},null,null,{"$f":"IF(H12=\"oui\",\"Présence d'une ventilation naturelle\",\"\")","v":""},null,{"$f":"IF(N9=\"\",\"\",N7&\" :\")","v":""},{"$f":"IF(T32=\"\",\"\",IF(N12=0,N9&\" \"&N10,N9&\" \"&N10&\" (veille de \"&N12*100&\"%)\"))","v":""},{"$nulls":4},"For: ","Weekdays",null," SummerDesignDay",",",{"$nulls":5},"Tanscrire les virgules en point",{"$nulls":8},13,"06:00:00","06:30:00","Pas de changement",1,"Pas de changement1","Pas de changement",1,"Pas de changement1"]
[14,"06:30:00","07:00:00",{"$f":"IF($I$12=\"non\",1,$I$12)*IF($F$4=\"oui\",IF(OR($B33<$H$4,$C33>$I$4,AND($B33>=$K$4,$C33<=$L$4)),0,1),_xlfn.IFS($D$7=Données!$B$527,HLOOKUP($D$11,Données!$C$8:$Y$57,A33+2,0),$D$7=Données!$B$528,HLOOKUP($D$11,Données!$C$62:$Y$111,A33+2,0),$D$7=Données!$B$529,HLOOKUP($D$11,Données!$C$115:$Y$164,A33+2,0),$D$7=Données!$B$530,HLOOKUP($D$11,Données!$C$169:$Y$218,A33+2,0),$D$7=Données!$B$531,HLOOKUP($D$11,Données!$C$224:$Y$273,A33+2,0),$D$7=Données!$B$532,HLOOKUP($D$11,Données!$C$280:$Y$329,A33+2,0)))","v":0},{"$f":"_xlfn.IFS($H$14=Données!$E$536,1,$H$14=Données!$E$537,IF(D33=0,Données!$F$537,D33),$H$14=Données!$E$538,IF(D33=0,Données!$F$538,D33),$H$14=Données!$E$539,IF(AND(B33>=$C$1-Données!$G$539,C33<=$C$2+Données!$G$539),1,0),$H$14=Données!$E$540,_xlfn.IFS(AND(D33=0,OR(B33<$C$1-Données!$G$540,C33>$C$2+Données!$G$540)),D33,AND(D33=0,B33>=$C$1-Données!$G$540,C33<=$C$2+Données!$G$540),Données!$F$540,D33<>0,D33))","v":0},18,{"$error":"#N/A"},{"$f":"IF($H$8=\"oui\",_xlfn.IFS($D$11=\"Sanitaires\",(30+(15*$H$9))*E33,$H$10=\"[m3/h.local]\",$H$9*E33,AND($H$19=\"[m3/h]\",$I$19=\"[pers/m²]\"),$I$9*$D$8*$H$9*E33,AND($H$19=\"[m3/h]\",($I$19=\"[pers]\")),$I$9*$H$9*E33,$H$19=\"[Vol/h]\",$H$9*E33),0)","v":{"v":0,"d":"0.0"}},0,0,0,{"$f":"IF($L$14=\"particulier\",_xlfn.IFS(O33=0,$L$12*$L$9,O33>0,$L$9*O33),_xlfn.IFS(AND($L$14=1,I33=0),$L$9*$L$12,AND($L$14=1,I33>0),$L$9,AND($L$14=0,I33=0),$L$9*$L$12,AND($L$14=0,I33>0),$L$9*I33/$I$9))","v":0.3},0,0,{"$f":"IFERROR(IF($F$4=\"oui\",IF(OR($B33<$H$4,$C33>$I$4,AND($B33>=$K$4,$C33<=$L$4)),0,1),_xlfn.IFS($D$7=Données!$B$527,HLOOKUP($L$15,Données!$C$8:$Y$57,A33+2,0),$D$7=Données!$B$528,HLOOKUP($L$15,Données!$C$62:$Y$111,A33+2,0),$D$7=Données!$B$529,HLOOKUP($L$15,Données!$C$115:$Y$164,A33+2,0),$D$7=Données!$B$530,HLOOKUP($L$15,Données!$C$169:$Y$218,A33+2,0),$D$7=Données!$B$531,HLOOKUP($L$15,Données!$C$224:$Y$273,A33+2,0),$D$7=Données!$B$532,HLOOKUP($L$15,Données!$C$280:$Y$329,A33+2,0))),\"\")","v":""},null,null,"Eclairage :",{"$f":"J12","v":"Interrupteur manuel"},"Commentaires :",{"$nulls":3},{"$f":"IFERROR(IF(X32+1<=$AV$69-1,X32+1,\"\"),\"\")","v":1},null,{"$f":"IF(X33=\"\",\"\",\"Until:\")","v":"Until:"},{"$f":"IF(X33=\"\",\"\",IFERROR(IF(X33=$AV$69-1,$AU$67,VLOOKUP(MATCH(TRUE,INDEX($AX$20:$AX$67=\"Changement\"&X34,0),0),$AS$20:$AU$67,2,0)),\"\"))","v":0.4999999999999998},{"$f":"IF(X33=\"\",\"\",\",\")","v":","},{"$f":"AN33","v":"0.0"},{"$f":"IF(X33=\"\",\"\",\",\")","v":","},{"$nulls":5},{"$f":"IF(X33=\"\",\"\",VLOOKUP(MATCH(TRUE,INDEX($AX$20:$AX$67=\"Changement\"&X33,0),0),$A$20:$N$67,4,0))","v":0},{"$f":"IF(AJ33=\"\",\"\",TRUNC(AJ33,0))","v":0},{"$f":"IF(AJ33=\"\",\"\",TRUNC((AJ33-AK33)*10,0))","v":0},{"$f":"IF(AJ33=\"\",\"\",IF(AJ33=0,0,AK33&\".\"&ROUND(AL33,0)))","v":0},{"$f":"IF(AJ33=\"\",\"\",TRUNC(AJ33,0)&\".\"&ROUND(AJ33-TRUNC(AJ33,0),2)*100)","v":"0.0"},{"$nulls":4},14,"06:30:00","07:00:00","Pas de changement",1,"Pas de changement1","Pas de changement",1,"Pas de changement1"]
[15,"07:00:00","07:30:00",{"$f":"IF($I$12=\"non\",1,$I$12)*IF($F$4=\"oui\",IF(OR($B34<$H$4,$C34>$I$4,AND($B34>=$K$4,$C34<=$L$4)),0,1),_xlfn.IFS($D$7=Données!$B$527,HLOOKUP($D$11,Données!$C$8:$Y$57,A34+2,0),$D$7=Données!$B$528,HLOOKUP($D$11,Données!$C$62:$Y$111,A34+2,0),$D$7=Données!$B$529,HLOOKUP($D$11,Données!$C$115:$Y$164,A34+2,0),$D$7=Données!$B$530,HLOOKUP($D$11,Données!$C$169:$Y$218,A34+2,0),$D$7=Données!$B$531,HLOOKUP($D$11,Données!$C$224:$Y$273,A34+2,0),$D$7=Données!$B$532,HLOOKUP($D$11,Données!$C$280:$Y$329,A34+2,0)))","v":0},{"$f":"_xlfn.IFS($H$14=Données!$E$536,1,$H$14=Données!$E$537,IF(D34=0,Données!$F$537,D34),$H$14=Données!$E$538,IF(D34=0,Données!$F$538,D34),$H$14=Données!$E$539,IF(AND(B34>=$C$1-Données!$G$539,C34<=$C$2+Données!$G$539),1,0),$H$14=Données!$E$540,_xlfn.IFS(AND(D34=0,OR(B34<$C$1-Données!$G$540,C34>$C$2+Données!$G$540)),D34,AND(D34=0,B34>=$C$1-Données!$G$540,C34<=$C$2+Données!$G$540),Données!$F$540,D34<>0,D34))","v":1},20,{"$error":"#N/A"},{"$f":"IF($H$8=\"oui\",_xlfn.IFS($D$11=\"Sanitaires\",(30+(15*$H$9))*E34,$H$10=\"[m3/h.local]\",$H$9*E34,AND($H$19=\"[m3/h]\",$I$19=\"[pers/m²]\"),$I$9*$D$8*$H$9*E34,AND($H$19=\"[m3/h]\",($I$19=\"[pers]\")),$I$9*$H$9*E34,$H$19=\"[Vol/h]\",$H$9*E34),0)","v":{"v":500,"d":"500.0"}},0,0,0,{"$f":"IF($L$14=\"particulier\",_xlfn.IFS(O34=0,$L$12*$L$9,O34>0,$L$9*O34),_xlfn.IFS(AND($L$14=1,I34=0),$L$9*$L$12,AND($L$14=1,I34>0),$L$9,AND($L$14=0,I34=0),$L$9*$L$12,AND($L$14=0,I34>0),$L$9*I34/$I$9))","v":0.3},0,0,{"$f":"IFERROR(IF($F$4=\"oui\",IF(OR($B34<$H$4,$C34>$I$4,AND($B34>=$K$4,$C34<=$L$4)),0,1),_xlfn.IFS($D$7=Données!$B$527,HLOOKUP($L$15,Données!$C$8:$Y$57,A34+2,0),$D$7=Données!$B$528,HLOOKUP($L$15,Données!$C$62:$Y$111,A34+2,0),$D$7=Données!$B$529,HLOOKUP($L$15,Données!$C$115:$Y$164,A34+2,0),$D$7=Données!$B$530,HLOOKUP($L$15,Données!$C$169:$Y$218,A34+2,0),$D$7=Données!$B$531,HLOOKUP($L$15,Données!$C$224:$Y$273,A34+2,0),$D$7=Données!$B$532,HLOOKUP($L$15,Données!$C$280:$Y$329,A34+2,0))),\"\")","v":""},null,null,{"$f":"\"Consigne : \"&J15&\" \"&J16","v":"Consigne : 300 Lux"},null,{"$f":"D15","v":""},{"$nulls":3},2,null,{"$f":"IF(X34=\"\",\"\",\"Until:\")","v":"Until:"},{"$f":"IF(X34=\"\",\"\",IFERROR(IF(X34=$AV$69-1,$AU$67,VLOOKUP(MATCH(TRUE,INDEX($AX$20:$AX$67=\"Changement\"&X35,0),0),$AS$20:$AU$67,2,0)),\"\"))","v":0.5833333333333333},{"$f":"IF(X34=\"\",\"\",\",\")","v":","},{"$f":"AN34","v":"1.0"},{"$f":"IF(X34=\"\",\"\",\",\")","v":","},{"$nulls":5},{"$f":"IF(X34=\"\",\"\",VLOOKUP(MATCH(TRUE,INDEX($AX$20:$AX$67=\"Changement\"&X34,0),0),$A$20:$N$67,4,0))","v":1},{"$f":"IF(AJ34=\"\",\"\",TRUNC(AJ34,0))","v":1},{"$f":"IF(AJ34=\"\",\"\",TRUNC((AJ34-AK34)*10,0))","v":0},{"$f":"IF(AJ34=\"\",\"\",IF(AJ34=AK34+AL34/10,0,TRUNC((AJ34*1-AL34)*100,0)))","v":0},"1.0",{"$nulls":4},15,"07:00:00","07:30:00","Pas de changement",1,"Pas de changement1","Changement",2,"Changement2"]
[16,"07:30:00","08:00:00",{"$f":"IF($I$12=\"non\",1,$I$12)*IF($F$4=\"oui\",IF(OR($B35<$H$4,$C35>$I$4,AND($B35>=$K$4,$C35<=$L$4)),0,1),_xlfn.IFS($D$7=Données!$B$527,HLOOKUP($D$11,Données!$C$8:$Y$57,A35+2,0),$D$7=Données!$B$528,HLOOKUP($D$11,Données!$C$62:$Y$111,A35+2,0),$D$7=Données!$B$529,HLOOKUP($D$11,Données!$C$115:$Y$164,A35+2,0),$D$7=Données!$B$530,HLOOKUP($D$11,Données!$C$169:$Y$218,A35+2,0),$D$7=Données!$B$531,HLOOKUP($D$11,Données!$C$224:$Y$273,A35+2,0),$D$7=Données!$B$532,HLOOKUP($D$11,Données!$C$280:$Y$329,A35+2,0)))","v":0},{"$f":"_xlfn.IFS($H$14=Données!$E$536,1,$H$14=Données!$E$537,IF(D35=0,Données!$F$537,D35),$H$14=Données!$E$538,IF(D35=0,Données!$F$538,D35),$H$14=Données!$E$539,IF(AND(B35>=$C$1-Données!$G$539,C35<=$C$2+Données!$G$539),1,0),$H$14=Données!$E$540,_xlfn.IFS(AND(D35=0,OR(B35<$C$1-Données!$G$540,C35>$C$2+Données!$G$540)),D35,AND(D35=0,B35>=$C$1-Données!$G$540,C35<=$C$2+Données!$G$540),Données!$F$540,D35<>0,D35))","v":1},20,{"$error":"#N/A"},{"$f":"IF($H$8=\"oui\",_xlfn.IFS($D$11=\"Sanitaires\",(30+(15*$H$9))*E35,$H$10=\"[m3/h.local]\",$H$9*E35,AND($H$19=\"[m3/h]\",$I$19=\"[pers/m²]\"),$I$9*$D$8*$H$9*E35,AND($H$19=\"[m3/h]\",($I$19=\"[pers]\")),$I$9*$H$9*E35,$H$19=\"[Vol/h]\",$H$9*E35),0)","v":{"v":500,"d":"500.0"}},0,0,0,{"$f":"IF($L$14=\"particulier\",_xlfn.IFS(O35=0,$L$12*$L$9,O35>0,$L$9*O35),_xlfn.IFS(AND($L$14=1,I35=0),$L$9*$L$12,AND($L$14=1,I35>0),$L$9,AND($L$14=0,I35=0),$L$9*$L$12,AND($L$14=0,I35>0),$L$9*I35/$I$9))","v":0.3},0,0,{"$f":"IFERROR(IF($F$4=\"oui\",IF(OR($B35<$H$4,$C35>$I$4,AND($B35>=$K$4,$C35<=$L$4)),0,1),_xlfn.IFS($D$7=Données!$B$527,HLOOKUP($L$15,Données!$C$8:$Y$57,A35+2,0),$D$7=Données!$B$528,HLOOKUP($L$15,Données!$C$62:$Y$111,A35+2,0),$D$7=Données!$B$529,HLOOKUP($L$15,Données!$C$115:$Y$164,A35+2,0),$D$7=Données!$B$530,HLOOKUP($L$15,Données!$C$169:$Y$218,A35+2,0),$D$7=Données!$B$531,HLOOKUP($L$15,Données!$C$224:$Y$273,A35+2,0),$D$7=Données!$B$532,HLOOKUP($L$15,Données!$C$280:$Y$329,A35+2,0))),\"\")","v":""},null,null,"Apport th. Nominal :",{"$f":"ROUND(J9,2)&\" \"&J10","v":"6 W/m²"},{"$nulls":4},3,null,"Until:",{"$f":"IF(X35=\"\",\"\",IFERROR(IF(X35=$AV$69-1,$AU$67,VLOOKUP(MATCH(TRUE,INDEX($AX$20:$AX$67=\"Changement\"&X36,0),0),$AS$20:$AU$67,2,0)),\"\"))","v":1},",","0.0",",",{"$nulls":5},{"$f":"IF(X35=\"\",\"\",VLOOKUP(MATCH(TRUE,INDEX($AX$20:$AX$67=\"Changement\"&X35,0),0),$A$20:$N$67,4,0))","v":0},0,0,0,"0.0",{"$nulls":4},16,"07:30:00","08:00:00","Pas de changement",1,"Pas de changement1","Pas de changement",2,"Pas de changement2"]
[17,"08:00:00","08:30:00",{"$f":"IF($I$12=\"non\",1,$I$12)*IF($F$4=\"oui\",IF(OR($B36<$H$4,$C36>$I$4,AND($B36>=$K$4,$C36<=$L$4)),0,1),_xlfn.IFS($D$7=Données!$B$527,HLOOKUP($D$11,Données!$C$8:$Y$57,A36+2,0),$D$7=Données!$B$528,HLOOKUP($D$11,Données!$C$62:$Y$111,A36+2,0),$D$7=Données!$B$529,HLOOKUP($D$11,Données!$C$115:$Y$164,A36+2,0),$D$7=Données!$B$530,HLOOKUP($D$11,Données!$C$169:$Y$218,A36+2,0),$D$7=Données!$B$531,HLOOKUP($D$11,Données!$C$224:$Y$273,A36+2,0),$D$7=Données!$B$532,HLOOKUP($D$11,Données!$C$280:$Y$329,A36+2,0)))","v":0},{"$f":"_xlfn.IFS($H$14=Données!$E$536,1,$H$14=Données!$E$537,IF(D36=0,Données!$F$537,D36),$H$14=Données!$E$538,IF(D36=0,Données!$F$538,D36),$H$14=Données!$E$539,IF(AND(B36>=$C$1-Données!$G$539,C36<=$C$2+Données!$G$539),1,0),$H$14=Données!$E$540,_xlfn.IFS(AND(D36=0,OR(B36<$C$1-Données!$G$540,C36>$C$2+Données!$G$540)),D36,AND(D36=0,B36>=$C$1-Données!$G$540,C36<=$C$2+Données!$G$540),Données!$F$540,D36<>0,D36))","v":1},20,{"$error":"#N/A"},{"$f":"IF($H$8=\"oui\",_xlfn.IFS($D$11=\"Sanitaires\",(30+(15*$H$9))*E36,$H$10=\"[m3/h.local]\",$H$9*E36,AND($H$19=\"[m3/h]\",$I$19=\"[pers/m²]\"),$I$9*$D$8*$H$9*E36,AND($H$19=\"[m3/h]\",($I$19=\"[pers]\")),$I$9*$H$9*E36,$H$19=\"[Vol/h]\",$H$9*E36),0)","v":{"v":500,"d":"500.0"}},0,0,0,{"$f":"IF($L$14=\"particulier\",_xlfn.IFS(O36=0,$L$12*$L$9,O36>0,$L$9*O36),_xlfn.IFS(AND($L$14=1,I36=0),$L$9*$L$12,AND($L$14=1,I36>0),$L$9,AND($L$14=0,I36=0),$L$9*$L$12,AND($L$14=0,I36>0),$L$9*I36/$I$9))","v":0.3},0,0,{"$f":"IFERROR(IF($F$4=\"oui\",IF(OR($B36<$H$4,$C36>$I$4,AND($B36>=$K$4,$C36<=$L$4)),0,1),_xlfn.IFS($D$7=Données!$B$527,HLOOKUP($L$15,Données!$C$8:$Y$57,A36+2,0),$D$7=Données!$B$528,HLOOKUP($L$15,Données!$C$62:$Y$111,A36+2,0),$D$7=Données!$B$529,HLOOKUP($L$15,Données!$C$115:$Y$164,A36+2,0),$D$7=Données!$B$530,HLOOKUP($L$15,Données!$C$169:$Y$218,A36+2,0),$D$7=Données!$B$531,HLOOKUP($L$15,Données!$C$224:$Y$273,A36+2,0),$D$7=Données!$B$532,HLOOKUP($L$15,Données!$C$280:$Y$329,A36+2,0))),\"\")","v":""},null,null,"Gradation :",{"$f":"J13","v":"Avec gradation automatique"},{"$nulls":4},"",null,"",{"$f":"IF(X36=\"\",\"\",IFERROR(IF(X36=$AV$69-1,$AU$67,VLOOKUP(MATCH(TRUE,INDEX($AX$20:$AX$67=\"Changement\"&X37,0),0),$AS$20:$AU$67,2,0)),\"\"))","v":""},"","","",{"$nulls":5},{"$f":"IF(X36=\"\",\"\",VLOOKUP(MATCH(TRUE,INDEX($AX$20:$AX$67=\"Changement\"&X36,0),0),$A$20:$N$67,4,0))","v":""},"","","","",{"$nulls":4},17,"08:00:00","08:30:00","Pas de changement",1,"Pas de changement1","Pas de changement",2,"Pas de changement2"]
[18,"08:30:00","09:00:00",{"$f":"IF($I$12=\"non\",1,$I$12)*IF($F$4=\"oui\",IF(OR($B37<$H$4,$C37>$I$4,AND($B37>=$K$4,$C37<=$L$4)),0,1),_xlfn.IFS($D$7=Données!$B$527,HLOOKUP($D$11,Données!$C$8:$Y$57,A37+2,0),$D$7=Données!$B$528,HLOOKUP($D$11,Données!$C$62:$Y$111,A37+2,0),$D$7=Données!$B$529,HLOOKUP($D$11,Données!$C$115:$Y$164,A37+2,0),$D$7=Données!$B$530,HLOOKUP($D$11,Données!$C$169:$Y$218,A37+2,0),$D$7=Données!$B$531,HLOOKUP($D$11,Données!$C$224:$Y$273,A37+2,0),$D$7=Données!$B$532,HLOOKUP($D$11,Données!$C$280:$Y$329,A37+2,0)))","v":0},{"$f":"_xlfn.IFS($H$14=Données!$E$536,1,$H$14=Données!$E$537,IF(D37=0,Données!$F$537,D37),$H$14=Données!$E$538,IF(D37=0,Données!$F$538,D37),$H$14=Données!$E$539,IF(AND(B37>=$C$1-Données!$G$539,C37<=$C$2+Données!$G$539),1,0),$H$14=Données!$E$540,_xlfn.IFS(AND(D37=0,OR(B37<$C$1-Données!$G$540,C37>$C$2+Données!$G$540)),D37,AND(D37=0,B37>=$C$1-Données!$G$540,C37<=$C$2+Données!$G$540),Données!$F$540,D37<>0,D37))","v":1},20,{"$error":"#N/A"},{"$f":"IF($H$8=\"oui\",_xlfn.IFS($D$11=\"Sanitaires\",(30+(15*$H$9))*E37,$H$10=\"[m3/h.local]\",$H$9*E37,AND($H$19=\"[m3/h]\",$I$19=\"[pers/m²]\"),$I$9*$D$8*$H$9*E37,AND($H$19=\"[m3/h]\",($I$19=\"[pers]\")),$I$9*$H$9*E37,$H$19=\"[Vol/h]\",$H$9*E37),0)","v":{"v":500,"d":"500.0"}},0,0,0,{"$f":"IF($L$14=\"particulier\",_xlfn.IFS(O37=0,$L$12*$L$9,O37>0,$L$9*O37),_xlfn.IFS(AND($L$14=1,I37=0),$L$9*$L$12,AND($L$14=1,I37>0),$L$9,AND($L$14=0,I37=0),$L$9*$L$12,AND($L$14=0,I37>0),$L$9*I37/$I$9))","v":0.3},0,0,{"$f":"IFERROR(IF($F$4=\"oui\",IF(OR($B37<$H$4,$C37>$I$4,AND($B37>=$K$4,$C37<=$L$4)),0,1),_xlfn.IFS($D$7=Données!$B$527,HLOOKUP($L$15,Données!$C$8:$Y$57,A37+2,0),$D$7=Données!$B$528,HLOOKUP($L$15,Données!$C$62:$Y$111,A37+2,0),$D$7=Données!$B$529,HLOOKUP($L$15,Données!$C$115:$Y$164,A37+2,0),$D$7=Données!$B$530,HLOOKUP($L$15,Données!$C$169:$Y$218,A37+2,0),$D$7=Données!$B$531,HLOOKUP($L$15,Données!$C$224:$Y$273,A37+2,0),$D$7=Données!$B$532,HLOOKUP($L$15,Données!$C$280:$Y$329,A37+2,0))),\"\")","v":""},{"$nulls":8},"",null,"",{"$f":"IF(X37=\"\",\"\",IFERROR(IF(X37=$AV$69-1,$AU$67,VLOOKUP(MATCH(TRUE,INDEX($AX$20:$AX$67=\"Changement\"&X38,0),0),$AS$20:$AU$67,2,0)),\"\"))","v":""},"","","",{"$nulls":5},{"$f":"IF(X37=\"\",\"\",VLOOKUP(MATCH(TRUE,INDEX($AX$20:$AX$67=\"Changement\"&X37,0),0),$A$20:$N$67,4,0))","v":""},"","","","",{"$nulls":4},18,"08:30:00","09:00:00","Pas de changement",1,"Pas de changement1","Pas de changement",2,"Pas de changement2"]
[19,"09:00:00","09:30:00",{"$f":"IF($I$12=\"non\",1,$I$12)*IF($F$4=\"oui\",IF(OR($B38<$H$4,$C38>$I$4,AND($B38>=$K$4,$C38<=$L$4)),0,1),_xlfn.IFS($D$7=Données!$B$527,HLOOKUP($D$11,Données!$C$8:$Y$57,A38+2,0),$D$7=Données!$B$528,HLOOKUP($D$11,Données!$C$62:$Y$111,A38+2,0),$D$7=Données!$B$529,HLOOKUP($D$11,Données!$C$115:$Y$164,A38+2,0),$D$7=Données!$B$530,HLOOKUP($D$11,Données!$C$169:$Y$218,A38+2,0),$D$7=Données!$B$531,HLOOKUP($D$11,Données!$C$224:$Y$273,A38+2,0),$D$7=Données!$B$532,HLOOKUP($D$11,Données!$C$280:$Y$329,A38+2,0)))","v":0},{"$f":"_xlfn.IFS($H$14=Données!$E$536,1,$H$14=Données!$E$537,IF(D38=0,Données!$F$537,D38),$H$14=Données!$E$538,IF(D38=0,Données!$F$538,D38),$H$14=Données!$E$539,IF(AND(B38>=$C$1-Données!$G$539,C38<=$C$2+Données!$G$539),1,0),$H$14=Données!$E$540,_xlfn.IFS(AND(D38=0,OR(B38<$C$1-Données!$G$540,C38>$C$2+Données!$G$540)),D38,AND(D38=0,B38>=$C$1-Données!$G$540,C38<=$C$2+Données!$G$540),Données!$F$540,D38<>0,D38))","v":1},20,{"$error":"#N/A"},{"$f":"IF($H$8=\"oui\",_xlfn.IFS($D$11=\"Sanitaires\",(30+(15*$H$9))*E38,$H$10=\"[m3/h.local]\",$H$9*E38,AND($H$19=\"[m3/h]\",$I$19=\"[pers/m²]\"),$I$9*$D$8*$H$9*E38,AND($H$19=\"[m3/h]\",($I$19=\"[pers]\")),$I$9*$H$9*E38,$H$19=\"[Vol/h]\",$H$9*E38),0)","v":{"v":500,"d":"500.0"}},0,0,0,{"$f":"IF($L$14=\"particulier\",_xlfn.IFS(O38=0,$L$12*$L$9,O38>0,$L$9*O38),_xlfn.IFS(AND($L$14=1,I38=0),$L$9*$L$12,AND($L$14=1,I38>0),$L$9,AND($L$14=0,I38=0),$L$9*$L$12,AND($L$14=0,I38>0),$L$9*I38/$I$9))","v":0.3},0,0,{"$f":"IFERROR(IF($F$4=\"oui\",IF(OR($B38<$H$4,$C38>$I$4,AND($B38>=$K$4,$C38<=$L$4)),0,1),_xlfn.IFS($D$7=Données!$B$527,HLOOKUP($L$15,Données!$C$8:$Y$57,A38+2,0),$D$7=Données!$B$528,HLOOKUP($L$15,Données!$C$62:$Y$111,A38+2,0),$D$7=Données!$B$529,HLOOKUP($L$15,Données!$C$115:$Y$164,A38+2,0),$D$7=Données!$B$530,HLOOKUP($L$15,Données!$C$169:$Y$218,A38+2,0),$D$7=Données!$B$531,HLOOKUP($L$15,Données!$C$224:$Y$273,A38+2,0),$D$7=Données!$B$532,HLOOKUP($L$15,Données!$C$280:$Y$329,A38+2,0))),\"\")","v":""},{"$nulls":8},"",null,"",{"$f":"IF(X38=\"\",\"\",IFERROR(IF(X38=$AV$69-1,$AU$67,VLOOKUP(MATCH(TRUE,INDEX($AX$20:$AX$67=\"Changement\"&X39,0),0),$AS$20:$AU$67,2,0)),\"\"))","v":""},"","","",{"$nulls":5},{"$f":"IF(X38=\"\",\"\",VLOOKUP(MATCH(TRUE,INDEX($AX$20:$AX$67=\"Changement\"&X38,0),0),$A$20:$N$67,4,0))","v":""},"","","","",{"$nulls":4},19,"09:00:00","09:30:00","Pas de changement",1,"Pas de changement1","Pas de changement",2,"Pas de changement2"]
[20,"09:30:00","10:00:00",{"$f":"IF($I$12=\"non\",1,$I$12)*IF($F$4=\"oui\",IF(OR($B39<$H$4,$C39>$I$4,AND($B39>=$K$4,$C39<=$L$4)),0,1),_xlfn.IFS($D$7=Données!$B$527,HLOOKUP($D$11,Données!$C$8:$Y$57,A39+2,0),$D$7=Données!$B$528,HLOOKUP($D$11,Données!$C$62:$Y$111,A39+2,0),$D$7=Données!$B$529,HLOOKUP($D$11,Données!$C$115:$Y$164,A39+2,0),$D$7=Données!$B$530,HLOOKUP($D$11,Données!$C$169:$Y$218,A39+2,0),$D$7=Données!$B$531,HLOOKUP($D$11,Données!$C$224:$Y$273,A39+2,0),$D$7=Données!$B$532,HLOOKUP($D$11,Données!$C$280:$Y$329,A39+2,0)))","v":0},{"$f":"_xlfn.IFS($H$14=Données!$E$536,1,$H$14=Données!$E$537,IF(D39=0,Données!$F$537,D39),$H$14=Données!$E$538,IF(D39=0,Données!$F$538,D39),$H$14=Données!$E$539,IF(AND(B39>=$C$1-Données!$G$539,C39<=$C$2+Données!$G$539),1,0),$H$14=Données!$E$540,_xlfn.IFS(AND(D39=0,OR(B39<$C$1-Données!$G$540,C39>$C$2+Données!$G$540)),D39,AND(D39=0,B39>=$C$1-Données!$G$540,C39<=$C$2+Données!$G$540),Données!$F$540,D39<>0,D39))","v":1},20,{"$error":"#N/A"},{"$f":"IF($H$8=\"oui\",_xlfn.IFS($D$11=\"Sanitaires\",(30+(15*$H$9))*E39,$H$10=\"[m3/h.local]\",$H$9*E39,AND($H$19=\"[m3/h]\",$I$19=\"[pers/m²]\"),$I$9*$D$8*$H$9*E39,AND($H$19=\"[m3/h]\",($I$19=\"[pers]\")),$I$9*$H$9*E39,$H$19=\"[Vol/h]\",$H$9*E39),0)","v":{"v":500,"d":"500.0"}},0,0,0,{"$f":"IF($L$14=\"particulier\",_xlfn.IFS(O39=0,$L$12*$L$9,O39>0,$L$9*O39),_xlfn.IFS(AND($L$14=1,I39=0),$L$9*$L$12,AND($L$14=1,I39>0),$L$9,AND($L$14=0,I39=0),$L$9*$L$12,AND($L$14=0,I39>0),$L$9*I39/$I$9))","v":0.3},0,0,{"$f":"IFERROR(IF($F$4=\"oui\",IF(OR($B39<$H$4,$C39>$I$4,AND($B39>=$K$4,$C39<=$L$4)),0,1),_xlfn.IFS($D$7=Données!$B$527,HLOOKUP($L$15,Données!$C$8:$Y$57,A39+2,0),$D$7=Données!$B$528,HLOOKUP($L$15,Données!$C$62:$Y$111,A39+2,0),$D$7=Données!$B$529,HLOOKUP($L$15,Données!$C$115:$Y$164,A39+2,0),$D$7=Données!$B$530,HLOOKUP($L$15,Données!$C$169:$Y$218,A39+2,0),$D$7=Données!$B$531,HLOOKUP($L$15,Données!$C$224:$Y$273,A39+2,0),$D$7=Données!$B$532,HLOOKUP($L$15,Données!$C$280:$Y$329,A39+2,0))),\"\")","v":""},{"$nulls":8},"",null,"",{"$f":"IF(X39=\"\",\"\",IFERROR(IF(X39=$AV$69-1,$AU$67,VLOOKUP(MATCH(TRUE,INDEX($AX$20:$AX$67=\"Changement\"&X40,0),0),$AS$20:$AU$67,2,0)),\"\"))","v":""},"","","",{"$nulls":5},{"$f":"IF(X39=\"\",\"\",VLOOKUP(MATCH(TRUE,INDEX($AX$20:$AX$67=\"Changement\"&X39,0),0),$A$20:$N$67,4,0))","v":""},"","","","",{"$nulls":4},20,"09:30:00","10:00:00","Pas de changement",1,"Pas de changement1","Pas de changement",2,"Pas de changement2"]
[21,"10:00:00","10:30:00",{"$f":"IF($I$12=\"non\",1,$I$12)*IF($F$4=\"oui\",IF(OR($B40<$H$4,$C40>$I$4,AND($B40>=$K$4,$C40<=$L$4)),0,1),_xlfn.IFS($D$7=Données!$B$527,HLOOKUP($D$11,Données!$C$8:$Y$57,A40+2,0),$D$7=Données!$B$528,HLOOKUP($D$11,Données!$C$62:$Y$111,A40+2,0),$D$7=Données!$B$529,HLOOKUP($D$11,Données!$C$115:$Y$164,A40+2,0),$D$7=Données!$B$530,HLOOKUP($D$11,Données!$C$169:$Y$218,A40+2,0),$D$7=Données!$B$531,HLOOKUP($D$11,Données!$C$224:$Y$273,A40+2,0),$D$7=Données!$B$532,HLOOKUP($D$11,Données!$C$280:$Y$329,A40+2,0)))","v":0},{"$f":"_xlfn.IFS($H$14=Données!$E$536,1,$H$14=Données!$E$537,IF(D40=0,Données!$F$537,D40),$H$14=Données!$E$538,IF(D40=0,Données!$F$538,D40),$H$14=Données!$E$539,IF(AND(B40>=$C$1-Données!$G$539,C40<=$C$2+Données!$G$539),1,0),$H$14=Données!$E$540,_xlfn.IFS(AND(D40=0,OR(B40<$C$1-Données!$G$540,C40>$C$2+Données!$G$540)),D40,AND(D40=0,B40>=$C$1-Données!$G$540,C40<=$C$2+Données!$G$540),Données!$F$540,D40<>0,D40))","v":1},20,{"$error":"#N/A"},{"$f":"IF($H$8=\"oui\",_xlfn.IFS($D$11=\"Sanitaires\",(30+(15*$H$9))*E40,$H$10=\"[m3/h.local]\",$H$9*E40,AND($H$19=\"[m3/h]\",$I$19=\"[pers/m²]\"),$I$9*$D$8*$H$9*E40,AND($H$19=\"[m3/h]\",($I$19=\"[pers]\")),$I$9*$H$9*E40,$H$19=\"[Vol/h]\",$H$9*E40),0)","v":{"v":500,"d":"500.0"}},0,0,0,{"$f":"IF($L$14=\"particulier\",_xlfn.IFS(O40=0,$L$12*$L$9,O40>0,$L$9*O40),_xlfn.IFS(AND($L$14=1,I40=0),$L$9*$L$12,AND($L$14=1,I40>0),$L$9,AND($L$14=0,I40=0),$L$9*$L$12,AND($L$14=0,I40>0),$L$9*I40/$I$9))","v":0.3},0,0,{"$f":"IFERROR(IF($F$4=\"oui\",IF(OR($B40<$H$4,$C40>$I$4,AND($B40>=$K$4,$C40<=$L$4)),0,1),_xlfn.IFS($D$7=Données!$B$527,HLOOKUP($L$15,Données!$C$8:$Y$57,A40+2,0),$D$7=Données!$B$528,HLOOKUP($L$15,Données!$C$62:$Y$111,A40+2,0),$D$7=Données!$B$529,HLOOKUP($L$15,Données!$C$115:$Y$164,A40+2,0),$D$7=Données!$B$530,HLOOKUP($L$15,Données!$C$169:$Y$218,A40+2,0),$D$7=Données!$B$531,HLOOKUP($L$15,Données!$C$224:$Y$273,A40+2,0),$D$7=Données!$B$532,HLOOKUP($L$15,Données!$C$280:$Y$329,A40+2,0))),\"\")","v":""},{"$nulls":8},"",null,"",{"$f":"IF(X40=\"\",\"\",IFERROR(IF(X40=$AV$69-1,$AU$67,VLOOKUP(MATCH(TRUE,INDEX($AX$20:$AX$67=\"Changement\"&X41,0),0),$AS$20:$AU$67,2,0)),\"\"))","v":""},"","","",{"$nulls":5},{"$f":"IF(X40=\"\",\"\",VLOOKUP(MATCH(TRUE,INDEX($AX$20:$AX$67=\"Changement\"&X40,0),0),$A$20:$N$67,4,0))","v":""},"","","","",{"$nulls":4},21,"10:00:00","10:30:00","Pas de changement",1,"Pas de changement1","Pas de changement",2,"Pas de changement2"]
[22,"10:30:00","11:00:00",{"$f":"IF($I$12=\"non\",1,$I$12)*IF($F$4=\"oui\",IF(OR($B41<$H$4,$C41>$I$4,AND($B41>=$K$4,$C41<=$L$4)),0,1),_xlfn.IFS($D$7=Données!$B$527,HLOOKUP($D$11,Données!$C$8:$Y$57,A41+2,0),$D$7=Données!$B$528,HLOOKUP($D$11,Données!$C$62:$Y$111,A41+2,0),$D$7=Données!$B$529,HLOOKUP($D$11,Données!$C$115:$Y$164,A41+2,0),$D$7=Données!$B$530,HLOOKUP($D$11,Données!$C$169:$Y$218,A41+2,0),$D$7=Données!$B$531,HLOOKUP($D$11,Données!$C$224:$Y$273,A41+2,0),$D$7=Données!$B$532,HLOOKUP($D$11,Données!$C$280:$Y$329,A41+2,0)))","v":0},{"$f":"_xlfn.IFS($H$14=Données!$E$536,1,$H$14=Données!$E$537,IF(D41=0,Données!$F$537,D41),$H$14=Données!$E$538,IF(D41=0,Données!$F$538,D41),$H$14=Données!$E$539,IF(AND(B41>=$C$1-Données!$G$539,C41<=$C$2+Données!$G$539),1,0),$H$14=Données!$E$540,_xlfn.IFS(AND(D41=0,OR(B41<$C$1-Données!$G$540,C41>$C$2+Données!$G$540)),D41,AND(D41=0,B41>=$C$1-Données!$G$540,C41<=$C$2+Données!$G$540),Données!$F$540,D41<>0,D41))","v":1},20,{"$error":"#N/A"},{"$f":"IF($H$8=\"oui\",_xlfn.IFS($D$11=\"Sanitaires\",(30+(15*$H$9))*E41,$H$10=\"[m3/h.local]\",$H$9*E41,AND($H$19=\"[m3/h]\",$I$19=\"[pers/m²]\"),$I$9*$D$8*$H$9*E41,AND($H$19=\"[m3/h]\",($I$19=\"[pers]\")),$I$9*$H$9*E41,$H$19=\"[Vol/h]\",$H$9*E41),0)","v":{"v":500,"d":"500.0"}},0,0,0,{"$f":"IF($L$14=\"particulier\",_xlfn.IFS(O41=0,$L$12*$L$9,O41>0,$L$9*O41),_xlfn.IFS(AND($L$14=1,I41=0),$L$9*$L$12,AND($L$14=1,I41>0),$L$9,AND($L$14=0,I41=0),$L$9*$L$12,AND($L$14=0,I41>0),$L$9*I41/$I$9))","v":0.3},0,0,{"$f":"IFERROR(IF($F$4=\"oui\",IF(OR($B41<$H$4,$C41>$I$4,AND($B41>=$K$4,$C41<=$L$4)),0,1),_xlfn.IFS($D$7=Données!$B$527,HLOOKUP($L$15,Données!$C$8:$Y$57,A41+2,0),$D$7=Données!$B$528,HLOOKUP($L$15,Données!$C$62:$Y$111,A41+2,0),$D$7=Données!$B$529,HLOOKUP($L$15,Données!$C$115:$Y$164,A41+2,0),$D$7=Données!$B$530,HLOOKUP($L$15,Données!$C$169:$Y$218,A41+2,0),$D$7=Données!$B$531,HLOOKUP($L$15,Données!$C$224:$Y$273,A41+2,0),$D$7=Données!$B$532,HLOOKUP($L$15,Données!$C$280:$Y$329,A41+2,0))),\"\")","v":""},{"$nulls":8},"",null,"",{"$f":"IF(X41=\"\",\"\",IFERROR(IF(X41=$AV$69-1,$AU$67,VLOOKUP(MATCH(TRUE,INDEX($AX$20:$AX$67=\"Changement\"&X42,0),0),$AS$20:$AU$67,2,0)),\"\"))","v":""},"","","",{"$nulls":5},{"$f":"IF(X41=\"\",\"\",VLOOKUP(MATCH(TRUE,INDEX($AX$20:$AX$67=\"Changement\"&X41,0),0),$A$20:$N$67,4,0))","v":""},"","","","",{"$nulls":4},22,"10:30:00","11:00:00","Pas de changement",1,"Pas de changement1","Pas de changement",2,"Pas de changement2"]
[23,"11:00:00","11:30:00",{"$f":"IF($I$12=\"non\",1,$I$12)*IF($F$4=\"oui\",IF(OR($B42<$H$4,$C42>$I$4,AND($B42>=$K$4,$C42<=$L$4)),0,1),_xlfn.IFS($D$7=Données!$B$527,HLOOKUP($D$11,Données!$C$8:$Y$57,A42+2,0),$D$7=Données!$B$528,HLOOKUP($D$11,Données!$C$62:$Y$111,A42+2,0),$D$7=Données!$B$529,HLOOKUP($D$11,Données!$C$115:$Y$164,A42+2,0),$D$7=Données!$B$530,HLOOKUP($D$11,Données!$C$169:$Y$218,A42+2,0),$D$7=Données!$B$531,HLOOKUP($D$11,Données!$C$224:$Y$273,A42+2,0),$D$7=Données!$B$532,HLOOKUP($D$11,Données!$C$280:$Y$329,A42+2,0)))","v":0},{"$f":"_xlfn.IFS($H$14=Données!$E$536,1,$H$14=Données!$E$537,IF(D42=0,Données!$F$537,D42),$H$14=Données!$E$538,IF(D42=0,Données!$F$538,D42),$H$14=Données!$E$539,IF(AND(B42>=$C$1-Données!$G$539,C42<=$C$2+Données!$G$539),1,0),$H$14=Données!$E$540,_xlfn.IFS(AND(D42=0,OR(B42<$C$1-Données!$G$540,C42>$C$2+Données!$G$540)),D42,AND(D42=0,B42>=$C$1-Données!$G$540,C42<=$C$2+Données!$G$540),Données!$F$540,D42<>0,D42))","v":1},20,{"$error":"#N/A"},{"$f":"IF($H$8=\"oui\",_xlfn.IFS($D$11=\"Sanitaires\",(30+(15*$H$9))*E42,$H$10=\"[m3/h.local]\",$H$9*E42,AND($H$19=\"[m3/h]\",$I$19=\"[pers/m²]\"),$I$9*$D$8*$H$9*E42,AND($H$19=\"[m3/h]\",($I$19=\"[pers]\")),$I$9*$H$9*E42,$H$19=\"[Vol/h]\",$H$9*E42),0)","v":{"v":500,"d":"500.0"}},0,0,0,{"$f":"IF($L$14=\"particulier\",_xlfn.IFS(O42=0,$L$12*$L$9,O42>0,$L$9*O42),_xlfn.IFS(AND($L$14=1,I42=0),$L$9*$L$12,AND($L$14=1,I42>0),$L$9,AND($L$14=0,I42=0),$L$9*$L$12,AND($L$14=0,I42>0),$L$9*I42/$I$9))","v":0.3},0,0,{"$f":"IFERROR(IF($F$4=\"oui\",IF(OR($B42<$H$4,$C42>$I$4,AND($B42>=$K$4,$C42<=$L$4)),0,1),_xlfn.IFS($D$7=Données!$B$527,HLOOKUP($L$15,Données!$C$8:$Y$57,A42+2,0),$D$7=Données!$B$528,HLOOKUP($L$15,Données!$C$62:$Y$111,A42+2,0),$D$7=Données!$B$529,HLOOKUP($L$15,Données!$C$115:$Y$164,A42+2,0),$D$7=Données!$B$530,HLOOKUP($L$15,Données!$C$169:$Y$218,A42+2,0),$D$7=Données!$B$531,HLOOKUP($L$15,Données!$C$224:$Y$273,A42+2,0),$D$7=Données!$B$532,HLOOKUP($L$15,Données!$C$280:$Y$329,A42+2,0))),\"\")","v":""},{"$nulls":8},"",null,"",{"$f":"IF(X42=\"\",\"\",IFERROR(IF(X42=$AV$69-1,$AU$67,VLOOKUP(MATCH(TRUE,INDEX($AX$20:$AX$67=\"Changement\"&X43,0),0),$AS$20:$AU$67,2,0)),\"\"))","v":""},"","","",{"$nulls":5},{"$f":"IF(X42=\"\",\"\",VLOOKUP(MATCH(TRUE,INDEX($AX$20:$AX$67=\"Changement\"&X42,0),0),$A$20:$N$67,4,0))","v":""},"","","","",{"$nulls":4},23,"11:00:00","11:30:00","Pas de changement",1,"Pas de changement1","Pas de changement",2,"Pas de changement2"]
[24,"11:30:00","12:00:00",{"$f":"IF($I$12=\"non\",1,$I$12)*IF($F$4=\"oui\",IF(OR($B43<$H$4,$C43>$I$4,AND($B43>=$K$4,$C43<=$L$4)),0,1),_xlfn.IFS($D$7=Données!$B$527,HLOOKUP($D$11,Données!$C$8:$Y$57,A43+2,0),$D$7=Données!$B$528,HLOOKUP($D$11,Données!$C$62:$Y$111,A43+2,0),$D$7=Données!$B$529,HLOOKUP($D$11,Données!$C$115:$Y$164,A43+2,0),$D$7=Données!$B$530,HLOOKUP($D$11,Données!$C$169:$Y$218,A43+2,0),$D$7=Données!$B$531,HLOOKUP($D$11,Données!$C$224:$Y$273,A43+2,0),$D$7=Données!$B$532,HLOOKUP($D$11,Données!$C$280:$Y$329,A43+2,0)))","v":0},{"$f":"_xlfn.IFS($H$14=Données!$E$536,1,$H$14=Données!$E$537,IF(D43=0,Données!$F$537,D43),$H$14=Données!$E$538,IF(D43=0,Données!$F$538,D43),$H$14=Données!$E$539,IF(AND(B43>=$C$1-Données!$G$539,C43<=$C$2+Données!$G$539),1,0),$H$14=Données!$E$540,_xlfn.IFS(AND(D43=0,OR(B43<$C$1-Données!$G$540,C43>$C$2+Données!$G$540)),D43,AND(D43=0,B43>=$C$1-Données!$G$540,C43<=$C$2+Données!$G$540),Données!$F$540,D43<>0,D43))","v":1},20,{"$error":"#N/A"},{"$f":"IF($H$8=\"oui\",_xlfn.IFS($D$11=\"Sanitaires\",(30+(15*$H$9))*E43,$H$10=\"[m3/h.local]\",$H$9*E43,AND($H$19=\"[m3/h]\",$I$19=\"[pers/m²]\"),$I$9*$D$8*$H$9*E43,AND($H$19=\"[m3/h]\",($I$19=\"[pers]\")),$I$9*$H$9*E43,$H$19=\"[Vol/h]\",$H$9*E43),0)","v":{"v":500,"d":"500.0"}},0,0,0,{"$f":"IF($L$14=\"particulier\",_xlfn.IFS(O43=0,$L$12*$L$9,O43>0,$L$9*O43),_xlfn.IFS(AND($L$14=1,I43=0),$L$9*$L$12,AND($L$14=1,I43>0),$L$9,AND($L$14=0,I43=0),$L$9*$L$12,AND($L$14=0,I43>0),$L$9*I43/$I$9))","v":0.3},0,0,{"$f":"IFERROR(IF($F$4=\"oui\",IF(OR($B43<$H$4,$C43>$I$4,AND($B43>=$K$4,$C43<=$L$4)),0,1),_xlfn.IFS($D$7=Données!$B$527,HLOOKUP($L$15,Données!$C$8:$Y$57,A43+2,0),$D$7=Données!$B$528,HLOOKUP($L$15,Données!$C$62:$Y$111,A43+2,0),$D$7=Données!$B$529,HLOOKUP($L$15,Données!$C$115:$Y$164,A43+2,0),$D$7=Données!$B$530,HLOOKUP($L$15,Données!$C$169:$Y$218,A43+2,0),$D$7=Données!$B$531,HLOOKUP($L$15,Données!$C$224:$Y$273,A43+2,0),$D$7=Données!$B$532,HLOOKUP($L$15,Données!$C$280:$Y$329,A43+2,0))),\"\")","v":""},{"$nulls":8},"",null,"",{"$f":"IF(X43=\"\",\"\",IFERROR(IF(X43=$AV$69-1,$AU$67,VLOOKUP(MATCH(TRUE,INDEX($AX$20:$AX$67=\"Changement\"&X44,0),0),$AS$20:$AU$67,2,0)),\"\"))","v":""},"","","",{"$nulls":5},{"$f":"IF(X43=\"\",\"\",VLOOKUP(MATCH(TRUE,INDEX($AX$20:$AX$67=\"Changement\"&X43,0),0),$A$20:$N$67,4,0))","v":""},"","","","",{"$nulls":4},24,"11:30:00","12:00:00","Pas de changement",1,"Pas de changement1","Pas de changement",2,"Pas de changement2"]
[25,"12:00:00","12:30:00",{"$f":"IF($I$12=\"non\",1,$I$12)*IF($F$4=\"oui\",IF(OR($B44<$H$4,$C44>$I$4,AND($B44>=$K$4,$C44<=$L$4)),0,1),_xlfn.IFS($D$7=Données!$B$527,HLOOKUP($D$11,Données!$C$8:$Y$57,A44+2,0),$D$7=Données!$B$528,HLOOKUP($D$11,Données!$C$62:$Y$111,A44+2,0),$D$7=Données!$B$529,HLOOKUP($D$11,Données!$C$115:$Y$164,A44+2,0),$D$7=Données!$B$530,HLOOKUP($D$11,Données!$C$169:$Y$218,A44+2,0),$D$7=Données!$B$531,HLOOKUP($D$11,Données!$C$224:$Y$273,A44+2,0),$D$7=Données!$B$532,HLOOKUP($D$11,Données!$C$280:$Y$329,A44+2,0)))","v":1},{"$f":"_xlfn.IFS($H$14=Données!$E$536,1,$H$14=Données!$E$537,IF(D44=0,Données!$F$537,D44),$H$14=Données!$E$538,IF(D44=0,Données!$F$538,D44),$H$14=Données!$E$539,IF(AND(B44>=$C$1-Données!$G$539,C44<=$C$2+Données!$G$539),1,0),$H$14=Données!$E$540,_xlfn.IFS(AND(D44=0,OR(B44<$C$1-Données!$G$540,C44>$C$2+Données!$G$540)),D44,AND(D44=0,B44>=$C$1-Données!$G$540,C44<=$C$2+Données!$G$540),Données!$F$540,D44<>0,D44))","v":1},20,{"$error":"#N/A"},{"$f":"IF($H$8=\"oui\",_xlfn.IFS($D$11=\"Sanitaires\",(30+(15*$H$9))*E44,$H$10=\"[m3/h.local]\",$H$9*E44,AND($H$19=\"[m3/h]\",$I$19=\"[pers/m²]\"),$I$9*$D$8*$H$9*E44,AND($H$19=\"[m3/h]\",($I$19=\"[pers]\")),$I$9*$H$9*E44,$H$19=\"[Vol/h]\",$H$9*E44),0)","v":{"v":500,"d":"500.0"}},20,6,41,{"$f":"IF($L$14=\"particulier\",_xlfn.IFS(O44=0,$L$12*$L$9,O44>0,$L$9*O44),_xlfn.IFS(AND($L$14=1,I44=0),$L$9*$L$12,AND($L$14=1,I44>0),$L$9,AND($L$14=0,I44=0),$L$9*$L$12,AND($L$14=0,I44>0),$L$9*I44/$I$9))","v":10},0,0,{"$f":"IFERROR(IF($F$4=\"oui\",IF(OR($B44<$H$4,$C44>$I$4,AND($B44>=$K$4,$C44<=$L$4)),0,1),_xlfn.IFS($D$7=Données!$B$527,HLOOKUP($L$15,Données!$C$8:$Y$57,A44+2,0),$D$7=Données!$B$528,HLOOKUP($L$15,Données!$C$62:$Y$111,A44+2,0),$D$7=Données!$B$529,HLOOKUP($L$15,Données!$C$115:$Y$164,A44+2,0),$D$7=Données!$B$530,HLOOKUP($L$15,Données!$C$169:$Y$218,A44+2,0),$D$7=Données!$B$531,HLOOKUP($L$15,Données!$C$224:$Y$273,A44+2,0),$D$7=Données!$B$532,HLOOKUP($L$15,Données!$C$280:$Y$329,A44+2,0))),\"\")","v":""},{"$nulls":10},"For: ","Weekends,",{"$nulls":9},"","","","",{"$nulls":4},25,"12:00:00","12:30:00","Changement",2,"Changement2","Pas de changement",2,"Pas de changement2"]
[26,"12:30:00","13:00:00",{"$f":"IF($I$12=\"non\",1,$I$12)*IF($F$4=\"oui\",IF(OR($B45<$H$4,$C45>$I$4,AND($B45>=$K$4,$C45<=$L$4)),0,1),_xlfn.IFS($D$7=Données!$B$527,HLOOKUP($D$11,Données!$C$8:$Y$57,A45+2,0),$D$7=Données!$B$528,HLOOKUP($D$11,Données!$C$62:$Y$111,A45+2,0),$D$7=Données!$B$529,HLOOKUP($D$11,Données!$C$115:$Y$164,A45+2,0),$D$7=Données!$B$530,HLOOKUP($D$11,Données!$C$169:$Y$218,A45+2,0),$D$7=Données!$B$531,HLOOKUP($D$11,Données!$C$224:$Y$273,A45+2,0),$D$7=Données!$B$532,HLOOKUP($D$11,Données!$C$280:$Y$329,A45+2,0)))","v":1},{"$f":"_xlfn.IFS($H$14=Données!$E$536,1,$H$14=Données!$E$537,IF(D45=0,Données!$F$537,D45),$H$14=Données!$E$538,IF(D45=0,Données!$F$538,D45),$H$14=Données!$E$539,IF(AND(B45>=$C$1-Données!$G$539,C45<=$C$2+Données!$G$539),1,0),$H$14=Données!$E$540,_xlfn.IFS(AND(D45=0,OR(B45<$C$1-Données!$G$540,C45>$C$2+Données!$G$540)),D45,AND(D45=0,B45>=$C$1-Données!$G$540,C45<=$C$2+Données!$G$540),Données!$F$540,D45<>0,D45))","v":1},20,{"$error":"#N/A"},{"$f":"IF($H$8=\"oui\",_xlfn.IFS($D$11=\"Sanitaires\",(30+(15*$H$9))*E45,$H$10=\"[m3/h.local]\",$H$9*E45,AND($H$19=\"[m3/h]\",$I$19=\"[pers/m²]\"),$I$9*$D$8*$H$9*E45,AND($H$19=\"[m3/h]\",($I$19=\"[pers]\")),$I$9*$H$9*E45,$H$19=\"[Vol/h]\",$H$9*E45),0)","v":{"v":500,"d":"500.0"}},20,6,41,{"$f":"IF($L$14=\"particulier\",_xlfn.IFS(O45=0,$L$12*$L$9,O45>0,$L$9*O45),_xlfn.IFS(AND($L$14=1,I45=0),$L$9*$L$12,AND($L$14=1,I45>0),$L$9,AND($L$14=0,I45=0),$L$9*$L$12,AND($L$14=0,I45>0),$L$9*I45/$I$9))","v":10},0,0,{"$f":"IFERROR(IF($F$4=\"oui\",IF(OR($B45<$H$4,$C45>$I$4,AND($B45>=$K$4,$C45<=$L$4)),0,1),_xlfn.IFS($D$7=Données!$B$527,HLOOKUP($L$15,Données!$C$8:$Y$57,A45+2,0),$D$7=Données!$B$528,HLOOKUP($L$15,Données!$C$62:$Y$111,A45+2,0),$D$7=Données!$B$529,HLOOKUP($L$15,Données!$C$115:$Y$164,A45+2,0),$D$7=Données!$B$530,HLOOKUP($L$15,Données!$C$169:$Y$218,A45+2,0),$D$7=Données!$B$531,HLOOKUP($L$15,Données!$C$224:$Y$273,A45+2,0),$D$7=Données!$B$532,HLOOKUP($L$15,Données!$C$280:$Y$329,A45+2,0))),\"\")","v":""},{"$nulls":10},"Until:",1,",",0,",",{"$nulls":6},"","","","",{"$nulls":4},26,"12:30:00","13:00:00","Pas de changement",2,"Pas de changement2","Pas de changement",2,"Pas de changement2"]
[27,"13:00:00","13:30:00",{"$f":"IF($I$12=\"non\",1,$I$12)*IF($F$4=\"oui\",IF(OR($B46<$H$4,$C46>$I$4,AND($B46>=$K$4,$C46<=$L$4)),0,1),_xlfn.IFS($D$7=Données!$B$527,HLOOKUP($D$11,Données!$C$8:$Y$57,A46+2,0),$D$7=Données!$B$528,HLOOKUP($D$11,Données!$C$62:$Y$111,A46+2,0),$D$7=Données!$B$529,HLOOKUP($D$11,Données!$C$115:$Y$164,A46+2,0),$D$7=Données!$B$530,HLOOKUP($D$11,Données!$C$169:$Y$218,A46+2,0),$D$7=Données!$B$531,HLOOKUP($D$11,Données!$C$224:$Y$273,A46+2,0),$D$7=Données!$B$532,HLOOKUP($D$11,Données!$C$280:$Y$329,A46+2,0)))","v":1},{"$f":"_xlfn.IFS($H$14=Données!$E$536,1,$H$14=Données!$E$537,IF(D46=0,Données!$F$537,D46),$H$14=Données!$E$538,IF(D46=0,Données!$F$538,D46),$H$14=Données!$E$539,IF(AND(B46>=$C$1-Données!$G$539,C46<=$C$2+Données!$G$539),1,0),$H$14=Données!$E$540,_xlfn.IFS(AND(D46=0,OR(B46<$C$1-Données!$G$540,C46>$C$2+Données!$G$540)),D46,AND(D46=0,B46>=$C$1-Données!$G$540,C46<=$C$2+Données!$G$540),Données!$F$540,D46<>0,D46))","v":1},20,{"$error":"#N/A"},{"$f":"IF($H$8=\"oui\",_xlfn.IFS($D$11=\"Sanitaires\",(30+(15*$H$9))*E46,$H$10=\"[m3/h.local]\",$H$9*E46,AND($H$19=\"[m3/h]\",$I$19=\"[pers/m²]\"),$I$9*$D$8*$H$9*E46,AND($H$19=\"[m3/h]\",($I$19=\"[pers]\")),$I$9*$H$9*E46,$H$19=\"[Vol/h]\",$H$9*E46),0)","v":{"v":500,"d":"500.0"}},20,6,41,{"$f":"IF($L$14=\"particulier\",_xlfn.IFS(O46=0,$L$12*$L$9,O46>0,$L$9*O46),_xlfn.IFS(AND($L$14=1,I46=0),$L$9*$L$12,AND($L$14=1,I46>0),$L$9,AND($L$14=0,I46=0),$L$9*$L$12,AND($L$14=0,I46>0),$L$9*I46/$I$9))","v":10},0,0,{"$f":"IFERROR(IF($F$4=\"oui\",IF(OR($B46<$H$4,$C46>$I$4,AND($B46>=$K$4,$C46<=$L$4)),0,1),_xlfn.IFS($D$7=Données!$B$527,HLOOKUP($L$15,Données!$C$8:$Y$57,A46+2,0),$D$7=Données!$B$528,HLOOKUP($L$15,Données!$C$62:$Y$111,A46+2,0),$D$7=Données!$B$529,HLOOKUP($L$15,Données!$C$115:$Y$164,A46+2,0),$D$7=Données!$B$530,HLOOKUP($L$15,Données!$C$169:$Y$218,A46+2,0),$D$7=Données!$B$531,HLOOKUP($L$15,Données!$C$224:$Y$273,A46+2,0),$D$7=Données!$B$532,HLOOKUP($L$15,Données!$C$280:$Y$329,A46+2,0))),\"\")","v":""},{"$nulls":10},"For: ","Holidays,",{"$nulls":17},27,"13:00:00","13:30:00","Pas de changement",2,"Pas de changement2","Pas de changement",2,"Pas de changement2"]
[28,"13:30:00","14:00:00",{"$f":"IF($I$12=\"non\",1,$I$12)*IF($F$4=\"oui\",IF(OR($B47<$H$4,$C47>$I$4,AND($B47>=$K$4,$C47<=$L$4)),0,1),_xlfn.IFS($D$7=Données!$B$527,HLOOKUP($D$11,Données!$C$8:$Y$57,A47+2,0),$D$7=Données!$B$528,HLOOKUP($D$11,Données!$C$62:$Y$111,A47+2,0),$D$7=Données!$B$529,HLOOKUP($D$11,Données!$C$115:$Y$164,A47+2,0),$D$7=Données!$B$530,HLOOKUP($D$11,Données!$C$169:$Y$218,A47+2,0),$D$7=Données!$B$531,HLOOKUP($D$11,Données!$C$224:$Y$273,A47+2,0),$D$7=Données!$B$532,HLOOKUP($D$11,Données!$C$280:$Y$329,A47+2,0)))","v":1},{"$f":"_xlfn.IFS($H$14=Données!$E$536,1,$H$14=Données!$E$537,IF(D47=0,Données!$F$537,D47),$H$14=Données!$E$538,IF(D47=0,Données!$F$538,D47),$H$14=Données!$E$539,IF(AND(B47>=$C$1-Données!$G$539,C47<=$C$2+Données!$G$539),1,0),$H$14=Données!$E$540,_xlfn.IFS(AND(D47=0,OR(B47<$C$1-Données!$G$540,C47>$C$2+Données!$G$540)),D47,AND(D47=0,B47>=$C$1-Données!$G$540,C47<=$C$2+Données!$G$540),Données!$F$540,D47<>0,D47))","v":1},20,{"$error":"#N/A"},{"$f":"IF($H$8=\"oui\",_xlfn.IFS($D$11=\"Sanitaires\",(30+(15*$H$9))*E47,$H$10=\"[m3/h.local]\",$H$9*E47,AND($H$19=\"[m3/h]\",$I$19=\"[pers/m²]\"),$I$9*$D$8*$H$9*E47,AND($H$19=\"[m3/h]\",($I$19=\"[pers]\")),$I$9*$H$9*E47,$H$19=\"[Vol/h]\",$H$9*E47),0)","v":{"v":500,"d":"500.0"}},20,6,41,{"$f":"IF($L$14=\"particulier\",_xlfn.IFS(O47=0,$L$12*$L$9,O47>0,$L$9*O47),_xlfn.IFS(AND($L$14=1,I47=0),$L$9*$L$12,AND($L$14=1,I47>0),$L$9,AND($L$14=0,I47=0),$L$9*$L$12,AND($L$14=0,I47>0),$L$9*I47/$I$9))","v":10},0,0,{"$f":"IFERROR(IF($F$4=\"oui\",IF(OR($B47<$H$4,$C47>$I$4,AND($B47>=$K$4,$C47<=$L$4)),0,1),_xlfn.IFS($D$7=Données!$B$527,HLOOKUP($L$15,Données!$C$8:$Y$57,A47+2,0),$D$7=Données!$B$528,HLOOKUP($L$15,Données!$C$62:$Y$111,A47+2,0),$D$7=Données!$B$529,HLOOKUP($L$15,Données!$C$115:$Y$164,A47+2,0),$D$7=Données!$B$530,HLOOKUP($L$15,Données!$C$169:$Y$218,A47+2,0),$D$7=Données!$B$531,HLOOKUP($L$15,Données!$C$224:$Y$273,A47+2,0),$D$7=Données!$B$532,HLOOKUP($L$15,Données!$C$280:$Y$329,A47+2,0))),\"\")","v":""},{"$nulls":10},"Until:",1,",",0,",",{"$nulls":14},28,"13:30:00","14:00:00","Pas de changement",2,"Pas de changement2","Pas de changement",2,"Pas de changement2"]
[29,{"$f":"C47","v":"14:00:00"},{"$f":"C47+0.5/24","v":"14:30:00"},{"$f":"IF($I$12=\"non\",1,$I$12)*IF($F$4=\"oui\",IF(OR($B48<$H$4,$C48>$I$4,AND($B48>=$K$4,$C48<=$L$4)),0,1),_xlfn.IFS($D$7=Données!$B$527,HLOOKUP($D$11,Données!$C$8:$Y$57,A48+2,0),$D$7=Données!$B$528,HLOOKUP($D$11,Données!$C$62:$Y$111,A48+2,0),$D$7=Données!$B$529,HLOOKUP($D$11,Données!$C$115:$Y$164,A48+2,0),$D$7=Données!$B$530,HLOOKUP($D$11,Données!$C$169:$Y$218,A48+2,0),$D$7=Données!$B$531,HLOOKUP($D$11,Données!$C$224:$Y$273,A48+2,0),$D$7=Données!$B$532,HLOOKUP($D$11,Données!$C$280:$Y$329,A48+2,0)))","v":0},{"$f":"_xlfn.IFS($H$14=Données!$E$536,1,$H$14=Données!$E$537,IF(D48=0,Données!$F$537,D48),$H$14=Données!$E$538,IF(D48=0,Données!$F$538,D48),$H$14=Données!$E$539,IF(AND(B48>=$C$1-Données!$G$539,C48<=$C$2+Données!$G$539),1,0),$H$14=Données!$E$540,_xlfn.IFS(AND(D48=0,OR(B48<$C$1-Données!$G$540,C48>$C$2+Données!$G$540)),D48,AND(D48=0,B48>=$C$1-Données!$G$540,C48<=$C$2+Données!$G$540),Données!$F$540,D48<>0,D48))","v":1},20,{"$error":"#N/A"},{"$f":"IF($H$8=\"oui\",_xlfn.IFS($D$11=\"Sanitaires\",(30+(15*$H$9))*E48,$H$10=\"[m3/h.local]\",$H$9*E48,AND($H$19=\"[m3/h]\",$I$19=\"[pers/m²]\"),$I$9*$D$8*$H$9*E48,AND($H$19=\"[m3/h]\",($I$19=\"[pers]\")),$I$9*$H$9*E48,$H$19=\"[Vol/h]\",$H$9*E48),0)","v":{"v":500,"d":"500.0"}},0,0,0,{"$f":"IF($L$14=\"particulier\",_xlfn.IFS(O48=0,$L$12*$L$9,O48>0,$L$9*O48),_xlfn.IFS(AND($L$14=1,I48=0),$L$9*$L$12,AND($L$14=1,I48>0),$L$9,AND($L$14=0,I48=0),$L$9*$L$12,AND($L$14=0,I48>0),$L$9*I48/$I$9))","v":0.3},0,0,{"$f":"IFERROR(IF($F$4=\"oui\",IF(OR($B48<$H$4,$C48>$I$4,AND($B48>=$K$4,$C48<=$L$4)),0,1),_xlfn.IFS($D$7=Données!$B$527,HLOOKUP($L$15,Données!$C$8:$Y$57,A48+2,0),$D$7=Données!$B$528,HLOOKUP($L$15,Données!$C$62:$Y$111,A48+2,0),$D$7=Données!$B$529,HLOOKUP($L$15,Données!$C$115:$Y$164,A48+2,0),$D$7=Données!$B$530,HLOOKUP($L$15,Données!$C$169:$Y$218,A48+2,0),$D$7=Données!$B$531,HLOOKUP($L$15,Données!$C$224:$Y$273,A48+2,0),$D$7=Données!$B$532,HLOOKUP($L$15,Données!$C$280:$Y$329,A48+2,0))),\"\")","v":""},{"$nulls":10},"For: ","WinterDesignDay",null," AllOtherDays,",{"$nulls":15},29,{"$f":"AU47","v":"14:00:00"},{"$f":"AU47+0.5/24","v":"14:30:00"},"Changement",3,"Changement3","Pas de changement",2,"Pas de changement2"]
[30,{"$f":"C48","v":"14:30:00"},{"$f":"C48+0.5/24","v":"15:00:00"},{"$f":"IF($I$12=\"non\",1,$I$12)*IF($F$4=\"oui\",IF(OR($B49<$H$4,$C49>$I$4,AND($B49>=$K$4,$C49<=$L$4)),0,1),_xlfn.IFS($D$7=Données!$B$527,HLOOKUP($D$11,Données!$C$8:$Y$57,A49+2,0),$D$7=Données!$B$528,HLOOKUP($D$11,Données!$C$62:$Y$111,A49+2,0),$D$7=Données!$B$529,HLOOKUP($D$11,Données!$C$115:$Y$164,A49+2,0),$D$7=Données!$B$530,HLOOKUP($D$11,Données!$C$169:$Y$218,A49+2,0),$D$7=Données!$B$531,HLOOKUP($D$11,Données!$C$224:$Y$273,A49+2,0),$D$7=Données!$B$532,HLOOKUP($D$11,Données!$C$280:$Y$329,A49+2,0)))","v":0},{"$f":"_xlfn.IFS($H$14=Données!$E$536,1,$H$14=Données!$E$537,IF(D49=0,Données!$F$537,D49),$H$14=Données!$E$538,IF(D49=0,Données!$F$538,D49),$H$14=Données!$E$539,IF(AND(B49>=$C$1-Données!$G$539,C49<=$C$2+Données!$G$539),1,0),$H$14=Données!$E$540,_xlfn.IFS(AND(D49=0,OR(B49<$C$1-Données!$G$540,C49>$C$2+Données!$G$540)),D49,AND(D49=0,B49>=$C$1-Données!$G$540,C49<=$C$2+Données!$G$540),Données!$F$540,D49<>0,D49))","v":1},20,{"$error":"#N/A"},{"$f":"IF($H$8=\"oui\",_xlfn.IFS($D$11=\"Sanitaires\",(30+(15*$H$9))*E49,$H$10=\"[m3/h.local]\",$H$9*E49,AND($H$19=\"[m3/h]\",$I$19=\"[pers/m²]\"),$I$9*$D$8*$H$9*E49,AND($H$19=\"[m3/h]\",($I$19=\"[pers]\")),$I$9*$H$9*E49,$H$19=\"[Vol/h]\",$H$9*E49),0)","v":{"v":500,"d":"500.0"}},0,0,0,{"$f":"IF($L$14=\"particulier\",_xlfn.IFS(O49=0,$L$12*$L$9,O49>0,$L$9*O49),_xlfn.IFS(AND($L$14=1,I49=0),$L$9*$L$12,AND($L$14=1,I49>0),$L$9,AND($L$14=0,I49=0),$L$9*$L$12,AND($L$14=0,I49>0),$L$9*I49/$I$9))","v":0.3},0,0,{"$f":"IFERROR(IF($F$4=\"oui\",IF(OR($B49<$H$4,$C49>$I$4,AND($B49>=$K$4,$C49<=$L$4)),0,1),_xlfn.IFS($D$7=Données!$B$527,HLOOKUP($L$15,Données!$C$8:$Y$57,A49+2,0),$D$7=Données!$B$528,HLOOKUP($L$15,Données!$C$62:$Y$111,A49+2,0),$D$7=Données!$B$529,HLOOKUP($L$15,Données!$C$115:$Y$164,A49+2,0),$D$7=Données!$B$530,HLOOKUP($L$15,Données!$C$169:$Y$218,A49+2,0),$D$7=Données!$B$531,HLOOKUP($L$15,Données!$C$224:$Y$273,A49+2,0),$D$7=Données!$B$532,HLOOKUP($L$15,Données!$C$280:$Y$329,A49+2,0))),\"\")","v":""},{"$nulls":10},"Until:",1,",",0,";",{"$nulls":14},30,{"$f":"AU48","v":"14:30:00"},{"$f":"AU48+0.5/24","v":"15:00:00"},"Pas de changement",3,"Pas de changement3","Pas de changement",2,"Pas de changement2"]
[31,"15:00:00","15:30:00",{"$f":"IF($I$12=\"non\",1,$I$12)*IF($F$4=\"oui\",IF(OR($B50<$H$4,$C50>$I$4,AND($B50>=$K$4,$C50<=$L$4)),0,1),_xlfn.IFS($D$7=Données!$B$527,HLOOKUP($D$11,Données!$C$8:$Y$57,A50+2,0),$D$7=Données!$B$528,HLOOKUP($D$11,Données!$C$62:$Y$111,A50+2,0),$D$7=Données!$B$529,HLOOKUP($D$11,Données!$C$115:$Y$164,A50+2,0),$D$7=Données!$B$530,HLOOKUP($D$11,Données!$C$169:$Y$218,A50+2,0),$D$7=Données!$B$531,HLOOKUP($D$11,Données!$C$224:$Y$273,A50+2,0),$D$7=Données!$B$532,HLOOKUP($D$11,Données!$C$280:$Y$329,A50+2,0)))","v":0},{"$f":"_xlfn.IFS($H$14=Données!$E$536,1,$H$14=Données!$E$537,IF(D50=0,Données!$F$537,D50),$H$14=Données!$E$538,IF(D50=0,Données!$F$538,D50),$H$14=Données!$E$539,IF(AND(B50>=$C$1-Données!$G$539,C50<=$C$2+Données!$G$539),1,0),$H$14=Données!$E$540,_xlfn.IFS(AND(D50=0,OR(B50<$C$1-Données!$G$540,C50>$C$2+Données!$G$540)),D50,AND(D50=0,B50>=$C$1-Données!$G$540,C50<=$C$2+Données!$G$540),Données!$F$540,D50<>0,D50))","v":1},20,{"$error":"#N/A"},{"$f":"IF($H$8=\"oui\",_xlfn.IFS($D$11=\"Sanitaires\",(30+(15*$H$9))*E50,$H$10=\"[m3/h.local]\",$H$9*E50,AND($H$19=\"[m3/h]\",$I$19=\"[pers/m²]\"),$I$9*$D$8*$H$9*E50,AND($H$19=\"[m3/h]\",($I$19=\"[pers]\")),$I$9*$H$9*E50,$H$19=\"[Vol/h]\",$H$9*E50),0)","v":{"v":500,"d":"500.0"}},0,0,0,{"$f":"IF($L$14=\"particulier\",_xlfn.IFS(O50=0,$L$12*$L$9,O50>0,$L$9*O50),_xlfn.IFS(AND($L$14=1,I50=0),$L$9*$L$12,AND($L$14=1,I50>0),$L$9,AND($L$14=0,I50=0),$L$9*$L$12,AND($L$14=0,I50>0),$L$9*I50/$I$9))","v":0.3},0,0,{"$f":"IFERROR(IF($F$4=\"oui\",IF(OR($B50<$H$4,$C50>$I$4,AND($B50>=$K$4,$C50<=$L$4)),0,1),_xlfn.IFS($D$7=Données!$B$527,HLOOKUP($L$15,Données!$C$8:$Y$57,A50+2,0),$D$7=Données!$B$528,HLOOKUP($L$15,Données!$C$62:$Y$111,A50+2,0),$D$7=Données!$B$529,HLOOKUP($L$15,Données!$C$115:$Y$164,A50+2,0),$D$7=Données!$B$530,HLOOKUP($L$15,Données!$C$169:$Y$218,A50+2,0),$D$7=Données!$B$531,HLOOKUP($L$15,Données!$C$224:$Y$273,A50+2,0),$D$7=Données!$B$532,HLOOKUP($L$15,Données!$C$280:$Y$329,A50+2,0))),\"\")","v":""},{"$nulls":29},31,"15:00:00","15:30:00","Pas de changement",3,"Pas de changement3","Pas de changement",2,"Pas de changement2"]
[32,"15:30:00","16:00:00",{"$f":"IF($I$12=\"non\",1,$I$12)*IF($F$4=\"oui\",IF(OR($B51<$H$4,$C51>$I$4,AND($B51>=$K$4,$C51<=$L$4)),0,1),_xlfn.IFS($D$7=Données!$B$527,HLOOKUP($D$11,Données!$C$8:$Y$57,A51+2,0),$D$7=Données!$B$528,HLOOKUP($D$11,Données!$C$62:$Y$111,A51+2,0),$D$7=Données!$B$529,HLOOKUP($D$11,Données!$C$115:$Y$164,A51+2,0),$D$7=Données!$B$530,HLOOKUP($D$11,Données!$C$169:$Y$218,A51+2,0),$D$7=Données!$B$531,HLOOKUP($D$11,Données!$C$224:$Y$273,A51+2,0),$D$7=Données!$B$532,HLOOKUP($D$11,Données!$C$280:$Y$329,A51+2,0)))","v":0},{"$f":"_xlfn.IFS($H$14=Données!$E$536,1,$H$14=Données!$E$537,IF(D51=0,Données!$F$537,D51),$H$14=Données!$E$538,IF(D51=0,Données!$F$538,D51),$H$14=Données!$E$539,IF(AND(B51>=$C$1-Données!$G$539,C51<=$C$2+Données!$G$539),1,0),$H$14=Données!$E$540,_xlfn.IFS(AND(D51=0,OR(B51<$C$1-Données!$G$540,C51>$C$2+Données!$G$540)),D51,AND(D51=0,B51>=$C$1-Données!$G$540,C51<=$C$2+Données!$G$540),Données!$F$540,D51<>0,D51))","v":1},20,{"$error":"#N/A"},{"$f":"IF($H$8=\"oui\",_xlfn.IFS($D$11=\"Sanitaires\",(30+(15*$H$9))*E51,$H$10=\"[m3/h.local]\",$H$9*E51,AND($H$19=\"[m3/h]\",$I$19=\"[pers/m²]\"),$I$9*$D$8*$H$9*E51,AND($H$19=\"[m3/h]\",($I$19=\"[pers]\")),$I$9*$H$9*E51,$H$19=\"[Vol/h]\",$H$9*E51),0)","v":{"v":500,"d":"500.0"}},0,0,0,{"$f":"IF($L$14=\"particulier\",_xlfn.IFS(O51=0,$L$12*$L$9,O51>0,$L$9*O51),_xlfn.IFS(AND($L$14=1,I51=0),$L$9*$L$12,AND($L$14=1,I51>0),$L$9,AND($L$14=0,I51=0),$L$9*$L$12,AND($L$14=0,I51>0),$L$9*I51/$I$9))","v":0.3},0,0,{"$f":"IFERROR(IF($F$4=\"oui\",IF(OR($B51<$H$4,$C51>$I$4,AND($B51>=$K$4,$C51<=$L$4)),0,1),_xlfn.IFS($D$7=Données!$B$527,HLOOKUP($L$15,Données!$C$8:$Y$57,A51+2,0),$D$7=Données!$B$528,HLOOKUP($L$15,Données!$C$62:$Y$111,A51+2,0),$D$7=Données!$B$529,HLOOKUP($L$15,Données!$C$115:$Y$164,A51+2,0),$D$7=Données!$B$530,HLOOKUP($L$15,Données!$C$169:$Y$218,A51+2,0),$D$7=Données!$B$531,HLOOKUP($L$15,Données!$C$224:$Y$273,A51+2,0),$D$7=Données!$B$532,HLOOKUP($L$15,Données!$C$280:$Y$329,A51+2,0))),\"\")","v":""},{"$nulls":10},{"$f":"L9+M9+N9","v":{"v":10,"d":"10.0"}},{"$f":"L10","v":"W/m²"},{"$nulls":17},32,"15:30:00","16:00:00","Pas de changement",3,"Pas de changement3","Pas de changement",2,"Pas de changement2"]
[33,"16:00:00","16:30:00",{"$f":"IF($I$12=\"non\",1,$I$12)*IF($F$4=\"oui\",IF(OR($B52<$H$4,$C52>$I$4,AND($B52>=$K$4,$C52<=$L$4)),0,1),_xlfn.IFS($D$7=Données!$B$527,HLOOKUP($D$11,Données!$C$8:$Y$57,A52+2,0),$D$7=Données!$B$528,HLOOKUP($D$11,Données!$C$62:$Y$111,A52+2,0),$D$7=Données!$B$529,HLOOKUP($D$11,Données!$C$115:$Y$164,A52+2,0),$D$7=Données!$B$530,HLOOKUP($D$11,Données!$C$169:$Y$218,A52+2,0),$D$7=Données!$B$531,HLOOKUP($D$11,Données!$C$224:$Y$273,A52+2,0),$D$7=Données!$B$532,HLOOKUP($D$11,Données!$C$280:$Y$329,A52+2,0)))","v":0},{"$f":"_xlfn.IFS($H$14=Données!$E$536,1,$H$14=Données!$E$537,IF(D52=0,Données!$F$537,D52),$H$14=Données!$E$538,IF(D52=0,Données!$F$538,D52),$H$14=Données!$E$539,IF(AND(B52>=$C$1-Données!$G$539,C52<=$C$2+Données!$G$539),1,0),$H$14=Données!$E$540,_xlfn.IFS(AND(D52=0,OR(B52<$C$1-Données!$G$540,C52>$C$2+Données!$G$540)),D52,AND(D52=0,B52>=$C$1-Données!$G$540,C52<=$C$2+Données!$G$540),Données!$F$540,D52<>0,D52))","v":1},20,{"$error":"#N/A"},{"$f":"IF($H$8=\"oui\",_xlfn.IFS($D$11=\"Sanitaires\",(30+(15*$H$9))*E52,$H$10=\"[m3/h.local]\",$H$9*E52,AND($H$19=\"[m3/h]\",$I$19=\"[pers/m²]\"),$I$9*$D$8*$H$9*E52,AND($H$19=\"[m3/h]\",($I$19=\"[pers]\")),$I$9*$H$9*E52,$H$19=\"[Vol/h]\",$H$9*E52),0)","v":{"v":500,"d":"500.0"}},0,0,0,{"$f":"IF($L$14=\"particulier\",_xlfn.IFS(O52=0,$L$12*$L$9,O52>0,$L$9*O52),_xlfn.IFS(AND($L$14=1,I52=0),$L$9*$L$12,AND($L$14=1,I52>0),$L$9,AND($L$14=0,I52=0),$L$9*$L$12,AND($L$14=0,I52>0),$L$9*I52/$I$9))","v":0.3},0,0,{"$f":"IFERROR(IF($F$4=\"oui\",IF(OR($B52<$H$4,$C52>$I$4,AND($B52>=$K$4,$C52<=$L$4)),0,1),_xlfn.IFS($D$7=Données!$B$527,HLOOKUP($L$15,Données!$C$8:$Y$57,A52+2,0),$D$7=Données!$B$528,HLOOKUP($L$15,Données!$C$62:$Y$111,A52+2,0),$D$7=Données!$B$529,HLOOKUP($L$15,Données!$C$115:$Y$164,A52+2,0),$D$7=Données!$B$530,HLOOKUP($L$15,Données!$C$169:$Y$218,A52+2,0),$D$7=Données!$B$531,HLOOKUP($L$15,Données!$C$224:$Y$273,A52+2,0),$D$7=Données!$B$532,HLOOKUP($L$15,Données!$C$280:$Y$329,A52+2,0))),\"\")","v":""},{"$nulls":10},"Veille :",{"$f":"IF(SUM(L9:N9)=0,0,(L9*L12+M9*M12+N9*N12)/SUM(L9:N9))","v":{"v":0.03,"d":"3%"}},"%",{"$nulls":16},33,"16:00:00","16:30:00","Pas de changement",3,"Pas de changement3","Pas de changement",2,"Pas de changement2"]
[34,"16:30:00","17:00:00",{"$f":"IF($I$12=\"non\",1,$I$12)*IF($F$4=\"oui\",IF(OR($B53<$H$4,$C53>$I$4,AND($B53>=$K$4,$C53<=$L$4)),0,1),_xlfn.IFS($D$7=Données!$B$527,HLOOKUP($D$11,Données!$C$8:$Y$57,A53+2,0),$D$7=Données!$B$528,HLOOKUP($D$11,Données!$C$62:$Y$111,A53+2,0),$D$7=Données!$B$529,HLOOKUP($D$11,Données!$C$115:$Y$164,A53+2,0),$D$7=Données!$B$530,HLOOKUP($D$11,Données!$C$169:$Y$218,A53+2,0),$D$7=Données!$B$531,HLOOKUP($D$11,Données!$C$224:$Y$273,A53+2,0),$D$7=Données!$B$532,HLOOKUP($D$11,Données!$C$280:$Y$329,A53+2,0)))","v":0},{"$f":"_xlfn.IFS($H$14=Données!$E$536,1,$H$14=Données!$E$537,IF(D53=0,Données!$F$537,D53),$H$14=Données!$E$538,IF(D53=0,Données!$F$538,D53),$H$14=Données!$E$539,IF(AND(B53>=$C$1-Données!$G$539,C53<=$C$2+Données!$G$539),1,0),$H$14=Données!$E$540,_xlfn.IFS(AND(D53=0,OR(B53<$C$1-Données!$G$540,C53>$C$2+Données!$G$540)),D53,AND(D53=0,B53>=$C$1-Données!$G$540,C53<=$C$2+Données!$G$540),Données!$F$540,D53<>0,D53))","v":1},20,{"$error":"#N/A"},{"$f":"IF($H$8=\"oui\",_xlfn.IFS($D$11=\"Sanitaires\",(30+(15*$H$9))*E53,$H$10=\"[m3/h.local]\",$H$9*E53,AND($H$19=\"[m3/h]\",$I$19=\"[pers/m²]\"),$I$9*$D$8*$H$9*E53,AND($H$19=\"[m3/h]\",($I$19=\"[pers]\")),$I$9*$H$9*E53,$H$19=\"[Vol/h]\",$H$9*E53),0)","v":{"v":500,"d":"500.0"}},0,0,0,{"$f":"IF($L$14=\"particulier\",_xlfn.IFS(O53=0,$L$12*$L$9,O53>0,$L$9*O53),_xlfn.IFS(AND($L$14=1,I53=0),$L$9*$L$12,AND($L$14=1,I53>0),$L$9,AND($L$14=0,I53=0),$L$9*$L$12,AND($L$14=0,I53>0),$L$9*I53/$I$9))","v":0.3},0,0,{"$f":"IFERROR(IF($F$4=\"oui\",IF(OR($B53<$H$4,$C53>$I$4,AND($B53>=$K$4,$C53<=$L$4)),0,1),_xlfn.IFS($D$7=Données!$B$527,HLOOKUP($L$15,Données!$C$8:$Y$57,A53+2,0),$D$7=Données!$B$528,HLOOKUP($L$15,Données!$C$62:$Y$111,A53+2,0),$D$7=Données!$B$529,HLOOKUP($L$15,Données!$C$115:$Y$164,A53+2,0),$D$7=Données!$B$530,HLOOKUP($L$15,Données!$C$169:$Y$218,A53+2,0),$D$7=Données!$B$531,HLOOKUP($L$15,Données!$C$224:$Y$273,A53+2,0),$D$7=Données!$B$532,HLOOKUP($L$15,Données!$C$280:$Y$329,A53+2,0))),\"\")","v":""},{"$nulls":10},"Scénario Apports internes ",{"$nulls":18},34,"16:30:00","17:00:00","Pas de changement",3,"Pas de changement3","Pas de changement",2,"Pas de changement2"]
[35,"17:00:00","17:30:00",{"$f":"IF($I$12=\"non\",1,$I$12)*IF($F$4=\"oui\",IF(OR($B54<$H$4,$C54>$I$4,AND($B54>=$K$4,$C54<=$L$4)),0,1),_xlfn.IFS($D$7=Données!$B$527,HLOOKUP($D$11,Données!$C$8:$Y$57,A54+2,0),$D$7=Données!$B$528,HLOOKUP($D$11,Données!$C$62:$Y$111,A54+2,0),$D$7=Données!$B$529,HLOOKUP($D$11,Données!$C$115:$Y$164,A54+2,0),$D$7=Données!$B$530,HLOOKUP($D$11,Données!$C$169:$Y$218,A54+2,0),$D$7=Données!$B$531,HLOOKUP($D$11,Données!$C$224:$Y$273,A54+2,0),$D$7=Données!$B$532,HLOOKUP($D$11,Données!$C$280:$Y$329,A54+2,0)))","v":0},{"$f":"_xlfn.IFS($H$14=Données!$E$536,1,$H$14=Données!$E$537,IF(D54=0,Données!$F$537,D54),$H$14=Données!$E$538,IF(D54=0,Données!$F$538,D54),$H$14=Données!$E$539,IF(AND(B54>=$C$1-Données!$G$539,C54<=$C$2+Données!$G$539),1,0),$H$14=Données!$E$540,_xlfn.IFS(AND(D54=0,OR(B54<$C$1-Données!$G$540,C54>$C$2+Données!$G$540)),D54,AND(D54=0,B54>=$C$1-Données!$G$540,C54<=$C$2+Données!$G$540),Données!$F$540,D54<>0,D54))","v":1},20,{"$error":"#N/A"},{"$f":"IF($H$8=\"oui\",_xlfn.IFS($D$11=\"Sanitaires\",(30+(15*$H$9))*E54,$H$10=\"[m3/h.local]\",$H$9*E54,AND($H$19=\"[m3/h]\",$I$19=\"[pers/m²]\"),$I$9*$D$8*$H$9*E54,AND($H$19=\"[m3/h]\",($I$19=\"[pers]\")),$I$9*$H$9*E54,$H$19=\"[Vol/h]\",$H$9*E54),0)","v":{"v":500,"d":"500.0"}},0,0,0,{"$f":"IF($L$14=\"particulier\",_xlfn.IFS(O54=0,$L$12*$L$9,O54>0,$L$9*O54),_xlfn.IFS(AND($L$14=1,I54=0),$L$9*$L$12,AND($L$14=1,I54>0),$L$9,AND($L$14=0,I54=0),$L$9*$L$12,AND($L$14=0,I54>0),$L$9*I54/$I$9))","v":0.3},0,0,{"$f":"IFERROR(IF($F$4=\"oui\",IF(OR($B54<$H$4,$C54>$I$4,AND($B54>=$K$4,$C54<=$L$4)),0,1),_xlfn.IFS($D$7=Données!$B$527,HLOOKUP($L$15,Données!$C$8:$Y$57,A54+2,0),$D$7=Données!$B$528,HLOOKUP($L$15,Données!$C$62:$Y$111,A54+2,0),$D$7=Données!$B$529,HLOOKUP($L$15,Données!$C$115:$Y$164,A54+2,0),$D$7=Données!$B$530,HLOOKUP($L$15,Données!$C$169:$Y$218,A54+2,0),$D$7=Données!$B$531,HLOOKUP($L$15,Données!$C$224:$Y$273,A54+2,0),$D$7=Données!$B$532,HLOOKUP($L$15,Données!$C$280:$Y$329,A54+2,0))),\"\")","v":""},{"$nulls":10},{"$f":"$Z$27","v":"(A copier dans DB. Attention effacer les lignes vides sinon DB plante)"},{"$nulls":18},35,"17:00:00","17:30:00","Pas de changement",3,"Pas de changement3","Pas de changement",2,"Pas de changement2"]
[36,"17:30:00","18:00:00",{"$f":"IF($I$12=\"non\",1,$I$12)*IF($F$4=\"oui\",IF(OR($B55<$H$4,$C55>$I$4,AND($B55>=$K$4,$C55<=$L$4)),0,1),_xlfn.IFS($D$7=Données!$B$527,HLOOKUP($D$11,Données!$C$8:$Y$57,A55+2,0),$D$7=Données!$B$528,HLOOKUP($D$11,Données!$C$62:$Y$111,A55+2,0),$D$7=Données!$B$529,HLOOKUP($D$11,Données!$C$115:$Y$164,A55+2,0),$D$7=Données!$B$530,HLOOKUP($D$11,Données!$C$169:$Y$218,A55+2,0),$D$7=Données!$B$531,HLOOKUP($D$11,Données!$C$224:$Y$273,A55+2,0),$D$7=Données!$B$532,HLOOKUP($D$11,Données!$C$280:$Y$329,A55+2,0)))","v":0},{"$f":"_xlfn.IFS($H$14=Données!$E$536,1,$H$14=Données!$E$537,IF(D55=0,Données!$F$537,D55),$H$14=Données!$E$538,IF(D55=0,Données!$F$538,D55),$H$14=Données!$E$539,IF(AND(B55>=$C$1-Données!$G$539,C55<=$C$2+Données!$G$539),1,0),$H$14=Données!$E$540,_xlfn.IFS(AND(D55=0,OR(B55<$C$1-Données!$G$540,C55>$C$2+Données!$G$540)),D55,AND(D55=0,B55>=$C$1-Données!$G$540,C55<=$C$2+Données!$G$540),Données!$F$540,D55<>0,D55))","v":1},20,{"$error":"#N/A"},{"$f":"IF($H$8=\"oui\",_xlfn.IFS($D$11=\"Sanitaires\",(30+(15*$H$9))*E55,$H$10=\"[m3/h.local]\",$H$9*E55,AND($H$19=\"[m3/h]\",$I$19=\"[pers/m²]\"),$I$9*$D$8*$H$9*E55,AND($H$19=\"[m3/h]\",($I$19=\"[pers]\")),$I$9*$H$9*E55,$H$19=\"[Vol/h]\",$H$9*E55),0)","v":{"v":500,"d":"500.0"}},0,0,0,{"$f":"IF($L$14=\"particulier\",_xlfn.IFS(O55=0,$L$12*$L$9,O55>0,$L$9*O55),_xlfn.IFS(AND($L$14=1,I55=0),$L$9*$L$12,AND($L$14=1,I55>0),$L$9,AND($L$14=0,I55=0),$L$9*$L$12,AND($L$14=0,I55>0),$L$9*I55/$I$9))","v":0.3},0,0,{"$f":"IFERROR(IF($F$4=\"oui\",IF(OR($B55<$H$4,$C55>$I$4,AND($B55>=$K$4,$C55<=$L$4)),0,1),_xlfn.IFS($D$7=Données!$B$527,HLOOKUP($L$15,Données!$C$8:$Y$57,A55+2,0),$D$7=Données!$B$528,HLOOKUP($L$15,Données!$C$62:$Y$111,A55+2,0),$D$7=Données!$B$529,HLOOKUP($L$15,Données!$C$115:$Y$164,A55+2,0),$D$7=Données!$B$530,HLOOKUP($L$15,Données!$C$169:$Y$218,A55+2,0),$D$7=Données!$B$531,HLOOKUP($L$15,Données!$C$224:$Y$273,A55+2,0),$D$7=Données!$B$532,HLOOKUP($L$15,Données!$C$280:$Y$329,A55+2,0))),\"\")","v":""},{"$nulls":10},"Schedule:Compact,",{"$nulls":18},36,"17:30:00","18:00:00","Pas de changement",3,"Pas de changement3","Pas de changement",2,"Pas de changement2"]
[37,"18:00:00","18:30:00",{"$f":"IF($I$12=\"non\",1,$I$12)*IF($F$4=\"oui\",IF(OR($B56<$H$4,$C56>$I$4,AND($B56>=$K$4,$C56<=$L$4)),0,1),_xlfn.IFS($D$7=Données!$B$527,HLOOKUP($D$11,Données!$C$8:$Y$57,A56+2,0),$D$7=Données!$B$528,HLOOKUP($D$11,Données!$C$62:$Y$111,A56+2,0),$D$7=Données!$B$529,HLOOKUP($D$11,Données!$C$115:$Y$164,A56+2,0),$D$7=Données!$B$530,HLOOKUP($D$11,Données!$C$169:$Y$218,A56+2,0),$D$7=Données!$B$531,HLOOKUP($D$11,Données!$C$224:$Y$273,A56+2,0),$D$7=Données!$B$532,HLOOKUP($D$11,Données!$C$280:$Y$329,A56+2,0)))","v":0},{"$f":"_xlfn.IFS($H$14=Données!$E$536,1,$H$14=Données!$E$537,IF(D56=0,Données!$F$537,D56),$H$14=Données!$E$538,IF(D56=0,Données!$F$538,D56),$H$14=Données!$E$539,IF(AND(B56>=$C$1-Données!$G$539,C56<=$C$2+Données!$G$539),1,0),$H$14=Données!$E$540,_xlfn.IFS(AND(D56=0,OR(B56<$C$1-Données!$G$540,C56>$C$2+Données!$G$540)),D56,AND(D56=0,B56>=$C$1-Données!$G$540,C56<=$C$2+Données!$G$540),Données!$F$540,D56<>0,D56))","v":1},18,{"$error":"#N/A"},{"$f":"IF($H$8=\"oui\",_xlfn.IFS($D$11=\"Sanitaires\",(30+(15*$H$9))*E56,$H$10=\"[m3/h.local]\",$H$9*E56,AND($H$19=\"[m3/h]\",$I$19=\"[pers/m²]\"),$I$9*$D$8*$H$9*E56,AND($H$19=\"[m3/h]\",($I$19=\"[pers]\")),$I$9*$H$9*E56,$H$19=\"[Vol/h]\",$H$9*E56),0)","v":{"v":500,"d":"500.0"}},0,0,0,{"$f":"IF($L$14=\"particulier\",_xlfn.IFS(O56=0,$L$12*$L$9,O56>0,$L$9*O56),_xlfn.IFS(AND($L$14=1,I56=0),$L$9*$L$12,AND($L$14=1,I56>0),$L$9,AND($L$14=0,I56=0),$L$9*$L$12,AND($L$14=0,I56>0),$L$9*I56/$I$9))","v":0.3},0,0,{"$f":"IFERROR(IF($F$4=\"oui\",IF(OR($B56<$H$4,$C56>$I$4,AND($B56>=$K$4,$C56<=$L$4)),0,1),_xlfn.IFS($D$7=Données!$B$527,HLOOKUP($L$15,Données!$C$8:$Y$57,A56+2,0),$D$7=Données!$B$528,HLOOKUP($L$15,Données!$C$62:$Y$111,A56+2,0),$D$7=Données!$B$529,HLOOKUP($L$15,Données!$C$115:$Y$164,A56+2,0),$D$7=Données!$B$530,HLOOKUP($L$15,Données!$C$169:$Y$218,A56+2,0),$D$7=Données!$B$531,HLOOKUP($L$15,Données!$C$224:$Y$273,A56+2,0),$D$7=Données!$B$532,HLOOKUP($L$15,Données!$C$280:$Y$329,A56+2,0))),\"\")","v":""},{"$nulls":10},{"$f":"$B$6&\"_Apports_internes\"","v":"03 _ test 3_Apports_internes"},",",{"$nulls":17},37,"18:00:00","18:30:00","Pas de changement",3,"Pas de changement3","Pas de changement",2,"Pas de changement2"]
[38,"18:30:00","19:00:00",{"$f":"IF($I$12=\"non\",1,$I$12)*IF($F$4=\"oui\",IF(OR($B57<$H$4,$C57>$I$4,AND($B57>=$K$4,$C57<=$L$4)),0,1),_xlfn.IFS($D$7=Données!$B$527,HLOOKUP($D$11,Données!$C$8:$Y$57,A57+2,0),$D$7=Données!$B$528,HLOOKUP($D$11,Données!$C$62:$Y$111,A57+2,0),$D$7=Données!$B$529,HLOOKUP($D$11,Données!$C$115:$Y$164,A57+2,0),$D$7=Données!$B$530,HLOOKUP($D$11,Données!$C$169:$Y$218,A57+2,0),$D$7=Données!$B$531,HLOOKUP($D$11,Données!$C$224:$Y$273,A57+2,0),$D$7=Données!$B$532,HLOOKUP($D$11,Données!$C$280:$Y$329,A57+2,0)))","v":0},{"$f":"_xlfn.IFS($H$14=Données!$E$536,1,$H$14=Données!$E$537,IF(D57=0,Données!$F$537,D57),$H$14=Données!$E$538,IF(D57=0,Données!$F$538,D57),$H$14=Données!$E$539,IF(AND(B57>=$C$1-Données!$G$539,C57<=$C$2+Données!$G$539),1,0),$H$14=Données!$E$540,_xlfn.IFS(AND(D57=0,OR(B57<$C$1-Données!$G$540,C57>$C$2+Données!$G$540)),D57,AND(D57=0,B57>=$C$1-Données!$G$540,C57<=$C$2+Données!$G$540),Données!$F$540,D57<>0,D57))","v":1},18,{"$error":"#N/A"},{"$f":"IF($H$8=\"oui\",_xlfn.IFS($D$11=\"Sanitaires\",(30+(15*$H$9))*E57,$H$10=\"[m3/h.local]\",$H$9*E57,AND($H$19=\"[m3/h]\",$I$19=\"[pers/m²]\"),$I$9*$D$8*$H$9*E57,AND($H$19=\"[m3/h]\",($I$19=\"[pers]\")),$I$9*$H$9*E57,$H$19=\"[Vol/h]\",$H$9*E57),0)","v":{"v":500,"d":"500.0"}},0,0,0,{"$f":"IF($L$14=\"particulier\",_xlfn.IFS(O57=0,$L$12*$L$9,O57>0,$L$9*O57),_xlfn.IFS(AND($L$14=1,I57=0),$L$9*$L$12,AND($L$14=1,I57>0),$L$9,AND($L$14=0,I57=0),$L$9*$L$12,AND($L$14=0,I57>0),$L$9*I57/$I$9))","v":0.3},0,0,{"$f":"IFERROR(IF($F$4=\"oui\",IF(OR($B57<$H$4,$C57>$I$4,AND($B57>=$K$4,$C57<=$L$4)),0,1),_xlfn.IFS($D$7=Données!$B$527,HLOOKUP($L$15,Données!$C$8:$Y$57,A57+2,0),$D$7=Données!$B$528,HLOOKUP($L$15,Données!$C$62:$Y$111,A57+2,0),$D$7=Données!$B$529,HLOOKUP($L$15,Données!$C$115:$Y$164,A57+2,0),$D$7=Données!$B$530,HLOOKUP($L$15,Données!$C$169:$Y$218,A57+2,0),$D$7=Données!$B$531,HLOOKUP($L$15,Données!$C$224:$Y$273,A57+2,0),$D$7=Données!$B$532,HLOOKUP($L$15,Données!$C$280:$Y$329,A57+2,0))),\"\")","v":""},{"$nulls":10},"Fraction,",{"$nulls":18},38,"18:30:00","19:00:00","Pas de changement",3,"Pas de changement3","Pas de changement",2,"Pas de changement2"]
[39,"19:00:00","19:30:00",{"$f":"IF($I$12=\"non\",1,$I$12)*IF($F$4=\"oui\",IF(OR($B58<$H$4,$C58>$I$4,AND($B58>=$K$4,$C58<=$L$4)),0,1),_xlfn.IFS($D$7=Données!$B$527,HLOOKUP($D$11,Données!$C$8:$Y$57,A58+2,0),$D$7=Données!$B$528,HLOOKUP($D$11,Données!$C$62:$Y$111,A58+2,0),$D$7=Données!$B$529,HLOOKUP($D$11,Données!$C$115:$Y$164,A58+2,0),$D$7=Données!$B$530,HLOOKUP($D$11,Données!$C$169:$Y$218,A58+2,0),$D$7=Données!$B$531,HLOOKUP($D$11,Données!$C$224:$Y$273,A58+2,0),$D$7=Données!$B$532,HLOOKUP($D$11,Données!$C$280:$Y$329,A58+2,0)))","v":0},{"$f":"_xlfn.IFS($H$14=Données!$E$536,1,$H$14=Données!$E$537,IF(D58=0,Données!$F$537,D58),$H$14=Données!$E$538,IF(D58=0,Données!$F$538,D58),$H$14=Données!$E$539,IF(AND(B58>=$C$1-Données!$G$539,C58<=$C$2+Données!$G$539),1,0),$H$14=Données!$E$540,_xlfn.IFS(AND(D58=0,OR(B58<$C$1-Données!$G$540,C58>$C$2+Données!$G$540)),D58,AND(D58=0,B58>=$C$1-Données!$G$540,C58<=$C$2+Données!$G$540),Données!$F$540,D58<>0,D58))","v":0},18,{"$error":"#N/A"},{"$f":"IF($H$8=\"oui\",_xlfn.IFS($D$11=\"Sanitaires\",(30+(15*$H$9))*E58,$H$10=\"[m3/h.local]\",$H$9*E58,AND($H$19=\"[m3/h]\",$I$19=\"[pers/m²]\"),$I$9*$D$8*$H$9*E58,AND($H$19=\"[m3/h]\",($I$19=\"[pers]\")),$I$9*$H$9*E58,$H$19=\"[Vol/h]\",$H$9*E58),0)","v":{"v":0,"d":"0.0"}},0,0,0,{"$f":"IF($L$14=\"particulier\",_xlfn.IFS(O58=0,$L$12*$L$9,O58>0,$L$9*O58),_xlfn.IFS(AND($L$14=1,I58=0),$L$9*$L$12,AND($L$14=1,I58>0),$L$9,AND($L$14=0,I58=0),$L$9*$L$12,AND($L$14=0,I58>0),$L$9*I58/$I$9))","v":0.3},0,0,{"$f":"IFERROR(IF($F$4=\"oui\",IF(OR($B58<$H$4,$C58>$I$4,AND($B58>=$K$4,$C58<=$L$4)),0,1),_xlfn.IFS($D$7=Données!$B$527,HLOOKUP($L$15,Données!$C$8:$Y$57,A58+2,0),$D$7=Données!$B$528,HLOOKUP($L$15,Données!$C$62:$Y$111,A58+2,0),$D$7=Données!$B$529,HLOOKUP($L$15,Données!$C$115:$Y$164,A58+2,0),$D$7=Données!$B$530,HLOOKUP($L$15,Données!$C$169:$Y$218,A58+2,0),$D$7=Données!$B$531,HLOOKUP($L$15,Données!$C$224:$Y$273,A58+2,0),$D$7=Données!$B$532,HLOOKUP($L$15,Données!$C$280:$Y$329,A58+2,0))),\"\")","v":""},{"$nulls":10},"Through: ","31 Dec,",{"$nulls":17},39,"19:00:00","19:30:00","Pas de changement",3,"Pas de changement3","Changement",3,"Changement3"]
[40,"19:30:00","20:00:00",{"$f":"IF($I$12=\"non\",1,$I$12)*IF($F$4=\"oui\",IF(OR($B59<$H$4,$C59>$I$4,AND($B59>=$K$4,$C59<=$L$4)),0,1),_xlfn.IFS($D$7=Données!$B$527,HLOOKUP($D$11,Données!$C$8:$Y$57,A59+2,0),$D$7=Données!$B$528,HLOOKUP($D$11,Données!$C$62:$Y$111,A59+2,0),$D$7=Données!$B$529,HLOOKUP($D$11,Données!$C$115:$Y$164,A59+2,0),$D$7=Données!$B$530,HLOOKUP($D$11,Données!$C$169:$Y$218,A59+2,0),$D$7=Données!$B$531,HLOOKUP($D$11,Données!$C$224:$Y$273,A59+2,0),$D$7=Données!$B$532,HLOOKUP($D$11,Données!$C$280:$Y$329,A59+2,0)))","v":0},{"$f":"_xlfn.IFS($H$14=Données!$E$536,1,$H$14=Données!$E$537,IF(D59=0,Données!$F$537,D59),$H$14=Données!$E$538,IF(D59=0,Données!$F$538,D59),$H$14=Données!$E$539,IF(AND(B59>=$C$1-Données!$G$539,C59<=$C$2+Données!$G$539),1,0),$H$14=Données!$E$540,_xlfn.IFS(AND(D59=0,OR(B59<$C$1-Données!$G$540,C59>$C$2+Données!$G$540)),D59,AND(D59=0,B59>=$C$1-Données!$G$540,C59<=$C$2+Données!$G$540),Données!$F$540,D59<>0,D59))","v":0},18,{"$error":"#N/A"},{"$f":"IF($H$8=\"oui\",_xlfn.IFS($D$11=\"Sanitaires\",(30+(15*$H$9))*E59,$H$10=\"[m3/h.local]\",$H$9*E59,AND($H$19=\"[m3/h]\",$I$19=\"[pers/m²]\"),$I$9*$D$8*$H$9*E59,AND($H$19=\"[m3/h]\",($I$19=\"[pers]\")),$I$9*$H$9*E59,$H$19=\"[Vol/h]\",$H$9*E59),0)","v":{"v":0,"d":"0.0"}},0,0,0,{"$f":"IF($L$14=\"particulier\",_xlfn.IFS(O59=0,$L$12*$L$9,O59>0,$L$9*O59),_xlfn.IFS(AND($L$14=1,I59=0),$L$9*$L$12,AND($L$14=1,I59>0),$L$9,AND($L$14=0,I59=0),$L$9*$L$12,AND($L$14=0,I59>0),$L$9*I59/$I$9))","v":0.3},0,0,{"$f":"IFERROR(IF($F$4=\"oui\",IF(OR($B59<$H$4,$C59>$I$4,AND($B59>=$K$4,$C59<=$L$4)),0,1),_xlfn.IFS($D$7=Données!$B$527,HLOOKUP($L$15,Données!$C$8:$Y$57,A59+2,0),$D$7=Données!$B$528,HLOOKUP($L$15,Données!$C$62:$Y$111,A59+2,0),$D$7=Données!$B$529,HLOOKUP($L$15,Données!$C$115:$Y$164,A59+2,0),$D$7=Données!$B$530,HLOOKUP($L$15,Données!$C$169:$Y$218,A59+2,0),$D$7=Données!$B$531,HLOOKUP($L$15,Données!$C$224:$Y$273,A59+2,0),$D$7=Données!$B$532,HLOOKUP($L$15,Données!$C$280:$Y$329,A59+2,0))),\"\")","v":""},{"$nulls":10},"For: ","Weekdays",",",{"$nulls":7},"Tanscrire les virgules en point",{"$nulls":8},40,"19:30:00","20:00:00","Pas de changement",3,"Pas de changement3","Pas de changement",3,"Pas de changement3"]
[41,"20:00:00","20:30:00",{"$f":"IF($I$12=\"non\",1,$I$12)*IF($F$4=\"oui\",IF(OR($B60<$H$4,$C60>$I$4,AND($B60>=$K$4,$C60<=$L$4)),0,1),_xlfn.IFS($D$7=Données!$B$527,HLOOKUP($D$11,Données!$C$8:$Y$57,A60+2,0),$D$7=Données!$B$528,HLOOKUP($D$11,Données!$C$62:$Y$111,A60+2,0),$D$7=Données!$B$529,HLOOKUP($D$11,Données!$C$115:$Y$164,A60+2,0),$D$7=Données!$B$530,HLOOKUP($D$11,Données!$C$169:$Y$218,A60+2,0),$D$7=Données!$B$531,HLOOKUP($D$11,Données!$C$224:$Y$273,A60+2,0),$D$7=Données!$B$532,HLOOKUP($D$11,Données!$C$280:$Y$329,A60+2,0)))","v":0},{"$f":"_xlfn.IFS($H$14=Données!$E$536,1,$H$14=Données!$E$537,IF(D60=0,Données!$F$537,D60),$H$14=Données!$E$538,IF(D60=0,Données!$F$538,D60),$H$14=Données!$E$539,IF(AND(B60>=$C$1-Données!$G$539,C60<=$C$2+Données!$G$539),1,0),$H$14=Données!$E$540,_xlfn.IFS(AND(D60=0,OR(B60<$C$1-Données!$G$540,C60>$C$2+Données!$G$540)),D60,AND(D60=0,B60>=$C$1-Données!$G$540,C60<=$C$2+Données!$G$540),Données!$F$540,D60<>0,D60))","v":0},18,{"$error":"#N/A"},{"$f":"IF($H$8=\"oui\",_xlfn.IFS($D$11=\"Sanitaires\",(30+(15*$H$9))*E60,$H$10=\"[m3/h.local]\",$H$9*E60,AND($H$19=\"[m3/h]\",$I$19=\"[pers/m²]\"),$I$9*$D$8*$H$9*E60,AND($H$19=\"[m3/h]\",($I$19=\"[pers]\")),$I$9*$H$9*E60,$H$19=\"[Vol/h]\",$H$9*E60),0)","v":{"v":0,"d":"0.0"}},0,0,0,{"$f":"IF($L$14=\"particulier\",_xlfn.IFS(O60=0,$L$12*$L$9,O60>0,$L$9*O60),_xlfn.IFS(AND($L$14=1,I60=0),$L$9*$L$12,AND($L$14=1,I60>0),$L$9,AND($L$14=0,I60=0),$L$9*$L$12,AND($L$14=0,I60>0),$L$9*I60/$I$9))","v":0.3},0,0,{"$f":"IFERROR(IF($F$4=\"oui\",IF(OR($B60<$H$4,$C60>$I$4,AND($B60>=$K$4,$C60<=$L$4)),0,1),_xlfn.IFS($D$7=Données!$B$527,HLOOKUP($L$15,Données!$C$8:$Y$57,A60+2,0),$D$7=Données!$B$528,HLOOKUP($L$15,Données!$C$62:$Y$111,A60+2,0),$D$7=Données!$B$529,HLOOKUP($L$15,Données!$C$115:$Y$164,A60+2,0),$D$7=Données!$B$530,HLOOKUP($L$15,Données!$C$169:$Y$218,A60+2,0),$D$7=Données!$B$531,HLOOKUP($L$15,Données!$C$224:$Y$273,A60+2,0),$D$7=Données!$B$532,HLOOKUP($L$15,Données!$C$280:$Y$329,A60+2,0))),\"\")","v":""},{"$nulls":8},{"$f":"IFERROR(IF(X59+1<=$AV$69-1,X59+1,\"\"),\"\")","v":1},null,{"$f":"IF(X60=\"\",\"\",\"Until:\")","v":"Until:"},{"$f":"IF(X60=\"\",\"\",IFERROR(IF(X60=$AV$69-1,$AU$67,VLOOKUP(MATCH(TRUE,INDEX($AX$20:$AX$67=\"Changement\"&X61,0),0),$AS$20:$AU$67,2,0)),\"\"))","v":0.4999999999999998},{"$f":"IF(X60=\"\",\"\",\",\")","v":","},{"$f":"IF(AN60=\"\",\"\",_xlfn.IFS(AJ60=$AA$52,AN60,AND(AJ60<>$AA$52,$L$14=0),AN60,AND(AJ60<>$AA$52,$L$14=1),1))","v":"0.3"},{"$f":"IF(X60=\"\",\"\",\",\")","v":","},{"$nulls":5},{"$f":"IF(X60=\"\",\"\",IF(VLOOKUP(MATCH(TRUE,INDEX($AX$20:$AX$67=\"Changement\"&X60,0),0),$A$20:$N$67,4,0)=0,$AA$52,VLOOKUP(MATCH(TRUE,INDEX($AX$20:$AX$67=\"Changement\"&X60,0),0),$A$20:$N$67,4,0)))","v":0.03},{"$f":"IF(AJ60=\"\",\"\",TRUNC(AJ60,0))","v":0},{"$f":"IF(AJ60=\"\",\"\",TRUNC((AJ60-AK60)*10,0))","v":0},{"$f":"IF(AJ60=\"\",\"\",IF(AJ60=AK60+AL60/10,0,TRUNC((AJ60*1-AL60)*100,0)))","v":3},{"$f":"IF(AJ60=\"\",\"\",TRUNC(AJ60,0)&\".\"&ROUND(AJ60-TRUNC(AJ60,0),2)*100)","v":"0.3"},{"$nulls":4},41,"20:00:00","20:30:00","Pas de changement",3,"Pas de changement3","Pas de changement",3,"Pas de changement3"]
[42,"20:30:00","21:00:00",{"$f":"IF($I$12=\"non\",1,$I$12)*IF($F$4=\"oui\",IF(OR($B61<$H$4,$C61>$I$4,AND($B61>=$K$4,$C61<=$L$4)),0,1),_xlfn.IFS($D$7=Données!$B$527,HLOOKUP($D$11,Données!$C$8:$Y$57,A61+2,0),$D$7=Données!$B$528,HLOOKUP($D$11,Données!$C$62:$Y$111,A61+2,0),$D$7=Données!$B$529,HLOOKUP($D$11,Données!$C$115:$Y$164,A61+2,0),$D$7=Données!$B$530,HLOOKUP($D$11,Données!$C$169:$Y$218,A61+2,0),$D$7=Données!$B$531,HLOOKUP($D$11,Données!$C$224:$Y$273,A61+2,0),$D$7=Données!$B$532,HLOOKUP($D$11,Données!$C$280:$Y$329,A61+2,0)))","v":0},{"$f":"_xlfn.IFS($H$14=Données!$E$536,1,$H$14=Données!$E$537,IF(D61=0,Données!$F$537,D61),$H$14=Données!$E$538,IF(D61=0,Données!$F$538,D61),$H$14=Données!$E$539,IF(AND(B61>=$C$1-Données!$G$539,C61<=$C$2+Données!$G$539),1,0),$H$14=Données!$E$540,_xlfn.IFS(AND(D61=0,OR(B61<$C$1-Données!$G$540,C61>$C$2+Données!$G$540)),D61,AND(D61=0,B61>=$C$1-Données!$G$540,C61<=$C$2+Données!$G$540),Données!$F$540,D61<>0,D61))","v":0},18,{"$error":"#N/A"},{"$f":"IF($H$8=\"oui\",_xlfn.IFS($D$11=\"Sanitaires\",(30+(15*$H$9))*E61,$H$10=\"[m3/h.local]\",$H$9*E61,AND($H$19=\"[m3/h]\",$I$19=\"[pers/m²]\"),$I$9*$D$8*$H$9*E61,AND($H$19=\"[m3/h]\",($I$19=\"[pers]\")),$I$9*$H$9*E61,$H$19=\"[Vol/h]\",$H$9*E61),0)","v":{"v":0,"d":"0.0"}},0,0,0,{"$f":"IF($L$14=\"particulier\",_xlfn.IFS(O61=0,$L$12*$L$9,O61>0,$L$9*O61),_xlfn.IFS(AND($L$14=1,I61=0),$L$9*$L$12,AND($L$14=1,I61>0),$L$9,AND($L$14=0,I61=0),$L$9*$L$12,AND($L$14=0,I61>0),$L$9*I61/$I$9))","v":0.3},0,0,{"$f":"IFERROR(IF($F$4=\"oui\",IF(OR($B61<$H$4,$C61>$I$4,AND($B61>=$K$4,$C61<=$L$4)),0,1),_xlfn.IFS($D$7=Données!$B$527,HLOOKUP($L$15,Données!$C$8:$Y$57,A61+2,0),$D$7=Données!$B$528,HLOOKUP($L$15,Données!$C$62:$Y$111,A61+2,0),$D$7=Données!$B$529,HLOOKUP($L$15,Données!$C$115:$Y$164,A61+2,0),$D$7=Données!$B$530,HLOOKUP($L$15,Données!$C$169:$Y$218,A61+2,0),$D$7=Données!$B$531,HLOOKUP($L$15,Données!$C$224:$Y$273,A61+2,0),$D$7=Données!$B$532,HLOOKUP($L$15,Données!$C$280:$Y$329,A61+2,0))),\"\")","v":""},{"$nulls":8},2,null,{"$f":"IF(X61=\"\",\"\",\"Until:\")","v":"Until:"},{"$f":"IF(X61=\"\",\"\",IFERROR(IF(X61=$AV$69-1,$AU$67,VLOOKUP(MATCH(TRUE,INDEX($AX$20:$AX$67=\"Changement\"&X62,0),0),$AS$20:$AU$67,2,0)),\"\"))","v":0.5833333333333333},{"$f":"IF(X61=\"\",\"\",\",\")","v":","},{"$f":"IF(AN61=\"\",\"\",_xlfn.IFS(AJ61=$AA$52,AN61,AND(AJ61<>$AA$52,$L$14=0),AN61,AND(AJ61<>$AA$52,$L$14=1),1))","v":1},{"$f":"IF(X61=\"\",\"\",\",\")","v":","},{"$nulls":5},{"$f":"IF(X61=\"\",\"\",IF(VLOOKUP(MATCH(TRUE,INDEX($AX$20:$AX$67=\"Changement\"&X61,0),0),$A$20:$N$67,4,0)=0,$AA$52,VLOOKUP(MATCH(TRUE,INDEX($AX$20:$AX$67=\"Changement\"&X61,0),0),$A$20:$N$67,4,0)))","v":1},{"$f":"IF(AJ61=\"\",\"\",TRUNC(AJ61,0))","v":1},{"$f":"IF(AJ61=\"\",\"\",TRUNC((AJ61-AK61)*10,0))","v":0},{"$f":"IF(AJ61=\"\",\"\",IF(AJ61=AK61+AL61/10,0,TRUNC((AJ61*1-AL61)*100,0)))","v":0},{"$f":"IF(AJ61=\"\",\"\",TRUNC(AJ61,0)&\".\"&ROUND(AJ61-TRUNC(AJ61,0),2)*100)","v":"1.0"},{"$nulls":4},42,"20:30:00","21:00:00","Pas de changement",3,"Pas de changement3","Pas de changement",3,"Pas de changement3"]
[43,"21:00:00","21:30:00",{"$f":"IF($I$12=\"non\",1,$I$12)*IF($F$4=\"oui\",IF(OR($B62<$H$4,$C62>$I$4,AND($B62>=$K$4,$C62<=$L$4)),0,1),_xlfn.IFS($D$7=Données!$B$527,HLOOKUP($D$11,Données!$C$8:$Y$57,A62+2,0),$D$7=Données!$B$528,HLOOKUP($D$11,Données!$C$62:$Y$111,A62+2,0),$D$7=Données!$B$529,HLOOKUP($D$11,Données!$C$115:$Y$164,A62+2,0),$D$7=Données!$B$530,HLOOKUP($D$11,Données!$C$169:$Y$218,A62+2,0),$D$7=Données!$B$531,HLOOKUP($D$11,Données!$C$224:$Y$273,A62+2,0),$D$7=Données!$B$532,HLOOKUP($D$11,Données!$C$280:$Y$329,A62+2,0)))","v":0},{"$f":"_xlfn.IFS($H$14=Données!$E$536,1,$H$14=Données!$E$537,IF(D62=0,Données!$F$537,D62),$H$14=Données!$E$538,IF(D62=0,Données!$F$538,D62),$H$14=Données!$E$539,IF(AND(B62>=$C$1-Données!$G$539,C62<=$C$2+Données!$G$539),1,0),$H$14=Données!$E$540,_xlfn.IFS(AND(D62=0,OR(B62<$C$1-Données!$G$540,C62>$C$2+Données!$G$540)),D62,AND(D62=0,B62>=$C$1-Données!$G$540,C62<=$C$2+Données!$G$540),Données!$F$540,D62<>0,D62))","v":0},18,{"$error":"#N/A"},{"$f":"IF($H$8=\"oui\",_xlfn.IFS($D$11=\"Sanitaires\",(30+(15*$H$9))*E62,$H$10=\"[m3/h.local]\",$H$9*E62,AND($H$19=\"[m3/h]\",$I$19=\"[pers/m²]\"),$I$9*$D$8*$H$9*E62,AND($H$19=\"[m3/h]\",($I$19=\"[pers]\")),$I$9*$H$9*E62,$H$19=\"[Vol/h]\",$H$9*E62),0)","v":{"v":0,"d":"0.0"}},0,0,0,{"$f":"IF($L$14=\"particulier\",_xlfn.IFS(O62=0,$L$12*$L$9,O62>0,$L$9*O62),_xlfn.IFS(AND($L$14=1,I62=0),$L$9*$L$12,AND($L$14=1,I62>0),$L$9,AND($L$14=0,I62=0),$L$9*$L$12,AND($L$14=0,I62>0),$L$9*I62/$I$9))","v":0.3},0,0,{"$f":"IFERROR(IF($F$4=\"oui\",IF(OR($B62<$H$4,$C62>$I$4,AND($B62>=$K$4,$C62<=$L$4)),0,1),_xlfn.IFS($D$7=Données!$B$527,HLOOKUP($L$15,Données!$C$8:$Y$57,A62+2,0),$D$7=Données!$B$528,HLOOKUP($L$15,Données!$C$62:$Y$111,A62+2,0),$D$7=Données!$B$529,HLOOKUP($L$15,Données!$C$115:$Y$164,A62+2,0),$D$7=Données!$B$530,HLOOKUP($L$15,Données!$C$169:$Y$218,A62+2,0),$D$7=Données!$B$531,HLOOKUP($L$15,Données!$C$224:$Y$273,A62+2,0),$D$7=Données!$B$532,HLOOKUP($L$15,Données!$C$280:$Y$329,A62+2,0))),\"\")","v":""},{"$nulls":8},3,null,"Until:",{"$f":"IF(X62=\"\",\"\",IFERROR(IF(X62=$AV$69-1,$AU$67,VLOOKUP(MATCH(TRUE,INDEX($AX$20:$AX$67=\"Changement\"&X63,0),0),$AS$20:$AU$67,2,0)),\"\"))","v":1},",",{"$f":"IF(AN62=\"\",\"\",_xlfn.IFS(AJ62=$AA$52,AN62,AND(AJ62<>$AA$52,$L$14=0),AN62,AND(AJ62<>$AA$52,$L$14=1),1))","v":"0.3"},",",{"$nulls":5},{"$f":"IF(X62=\"\",\"\",IF(VLOOKUP(MATCH(TRUE,INDEX($AX$20:$AX$67=\"Changement\"&X62,0),0),$A$20:$N$67,4,0)=0,$AA$52,VLOOKUP(MATCH(TRUE,INDEX($AX$20:$AX$67=\"Changement\"&X62,0),0),$A$20:$N$67,4,0)))","v":0.03},0,0,3,"0.3",{"$nulls":4},43,"21:00:00","21:30:00","Pas de changement",3,"Pas de changement3","Pas de changement",3,"Pas de changement3"]
[44,{"$f":"C62","v":"21:30:00"},{"$f":"C62+0.5/24","v":"22:00:00"},{"$f":"IF($I$12=\"non\",1,$I$12)*IF($F$4=\"oui\",IF(OR($B63<$H$4,$C63>$I$4,AND($B63>=$K$4,$C63<=$L$4)),0,1),_xlfn.IFS($D$7=Données!$B$527,HLOOKUP($D$11,Données!$C$8:$Y$57,A63+2,0),$D$7=Données!$B$528,HLOOKUP($D$11,Données!$C$62:$Y$111,A63+2,0),$D$7=Données!$B$529,HLOOKUP($D$11,Données!$C$115:$Y$164,A63+2,0),$D$7=Données!$B$530,HLOOKUP($D$11,Données!$C$169:$Y$218,A63+2,0),$D$7=Données!$B$531,HLOOKUP($D$11,Données!$C$224:$Y$273,A63+2,0),$D$7=Données!$B$532,HLOOKUP($D$11,Données!$C$280:$Y$329,A63+2,0)))","v":0},{"$f":"_xlfn.IFS($H$14=Données!$E$536,1,$H$14=Données!$E$537,IF(D63=0,Données!$F$537,D63),$H$14=Données!$E$538,IF(D63=0,Données!$F$538,D63),$H$14=Données!$E$539,IF(AND(B63>=$C$1-Données!$G$539,C63<=$C$2+Données!$G$539),1,0),$H$14=Données!$E$540,_xlfn.IFS(AND(D63=0,OR(B63<$C$1-Données!$G$540,C63>$C$2+Données!$G$540)),D63,AND(D63=0,B63>=$C$1-Données!$G$540,C63<=$C$2+Données!$G$540),Données!$F$540,D63<>0,D63))","v":0},18,{"$error":"#N/A"},{"$f":"IF($H$8=\"oui\",_xlfn.IFS($D$11=\"Sanitaires\",(30+(15*$H$9))*E63,$H$10=\"[m3/h.local]\",$H$9*E63,AND($H$19=\"[m3/h]\",$I$19=\"[pers/m²]\"),$I$9*$D$8*$H$9*E63,AND($H$19=\"[m3/h]\",($I$19=\"[pers]\")),$I$9*$H$9*E63,$H$19=\"[Vol/h]\",$H$9*E63),0)","v":{"v":0,"d":"0.0"}},0,0,0,{"$f":"IF($L$14=\"particulier\",_xlfn.IFS(O63=0,$L$12*$L$9,O63>0,$L$9*O63),_xlfn.IFS(AND($L$14=1,I63=0),$L$9*$L$12,AND($L$14=1,I63>0),$L$9,AND($L$14=0,I63=0),$L$9*$L$12,AND($L$14=0,I63>0),$L$9*I63/$I$9))","v":0.3},0,0,{"$f":"IFERROR(IF($F$4=\"oui\",IF(OR($B63<$H$4,$C63>$I$4,AND($B63>=$K$4,$C63<=$L$4)),0,1),_xlfn.IFS($D$7=Données!$B$527,HLOOKUP($L$15,Données!$C$8:$Y$57,A63+2,0),$D$7=Données!$B$528,HLOOKUP($L$15,Données!$C$62:$Y$111,A63+2,0),$D$7=Données!$B$529,HLOOKUP($L$15,Données!$C$115:$Y$164,A63+2,0),$D$7=Données!$B$530,HLOOKUP($L$15,Données!$C$169:$Y$218,A63+2,0),$D$7=Données!$B$531,HLOOKUP($L$15,Données!$C$224:$Y$273,A63+2,0),$D$7=Données!$B$532,HLOOKUP($L$15,Données!$C$280:$Y$329,A63+2,0))),\"\")","v":""},{"$nulls":8},"",null,"",{"$f":"IF(X63=\"\",\"\",IFERROR(IF(X63=$AV$69-1,$AU$67,VLOOKUP(MATCH(TRUE,INDEX($AX$20:$AX$67=\"Changement\"&X64,0),0),$AS$20:$AU$67,2,0)),\"\"))","v":""},"",{"$f":"IF(AN63=\"\",\"\",_xlfn.IFS(AJ63=$AA$52,AN63,AND(AJ63<>$AA$52,$L$14=0),AN63,AND(AJ63<>$AA$52,$L$14=1),1))","v":""},"",{"$nulls":5},{"$f":"IF(X63=\"\",\"\",IF(VLOOKUP(MATCH(TRUE,INDEX($AX$20:$AX$67=\"Changement\"&X63,0),0),$A$20:$N$67,4,0)=0,$AA$52,VLOOKUP(MATCH(TRUE,INDEX($AX$20:$AX$67=\"Changement\"&X63,0),0),$A$20:$N$67,4,0)))","v":""},"","","","",{"$nulls":4},44,{"$f":"AU62","v":"21:30:00"},{"$f":"AU62+0.5/24","v":"22:00:00"},"Pas de changement",3,"Pas de changement3","Pas de changement",3,"Pas de changement3"]
[45,{"$f":"C63","v":"22:00:00"},{"$f":"C63+0.5/24","v":"22:30:00"},{"$f":"IF($I$12=\"non\",1,$I$12)*IF($F$4=\"oui\",IF(OR($B64<$H$4,$C64>$I$4,AND($B64>=$K$4,$C64<=$L$4)),0,1),_xlfn.IFS($D$7=Données!$B$527,HLOOKUP($D$11,Données!$C$8:$Y$57,A64+2,0),$D$7=Données!$B$528,HLOOKUP($D$11,Données!$C$62:$Y$111,A64+2,0),$D$7=Données!$B$529,HLOOKUP($D$11,Données!$C$115:$Y$164,A64+2,0),$D$7=Données!$B$530,HLOOKUP($D$11,Données!$C$169:$Y$218,A64+2,0),$D$7=Données!$B$531,HLOOKUP($D$11,Données!$C$224:$Y$273,A64+2,0),$D$7=Données!$B$532,HLOOKUP($D$11,Données!$C$280:$Y$329,A64+2,0)))","v":0},{"$f":"_xlfn.IFS($H$14=Données!$E$536,1,$H$14=Données!$E$537,IF(D64=0,Données!$F$537,D64),$H$14=Données!$E$538,IF(D64=0,Données!$F$538,D64),$H$14=Données!$E$539,IF(AND(B64>=$C$1-Données!$G$539,C64<=$C$2+Données!$G$539),1,0),$H$14=Données!$E$540,_xlfn.IFS(AND(D64=0,OR(B64<$C$1-Données!$G$540,C64>$C$2+Données!$G$540)),D64,AND(D64=0,B64>=$C$1-Données!$G$540,C64<=$C$2+Données!$G$540),Données!$F$540,D64<>0,D64))","v":0},18,{"$error":"#N/A"},{"$f":"IF($H$8=\"oui\",_xlfn.IFS($D$11=\"Sanitaires\",(30+(15*$H$9))*E64,$H$10=\"[m3/h.local]\",$H$9*E64,AND($H$19=\"[m3/h]\",$I$19=\"[pers/m²]\"),$I$9*$D$8*$H$9*E64,AND($H$19=\"[m3/h]\",($I$19=\"[pers]\")),$I$9*$H$9*E64,$H$19=\"[Vol/h]\",$H$9*E64),0)","v":{"v":0,"d":"0.0"}},0,0,0,{"$f":"IF($L$14=\"particulier\",_xlfn.IFS(O64=0,$L$12*$L$9,O64>0,$L$9*O64),_xlfn.IFS(AND($L$14=1,I64=0),$L$9*$L$12,AND($L$14=1,I64>0),$L$9,AND($L$14=0,I64=0),$L$9*$L$12,AND($L$14=0,I64>0),$L$9*I64/$I$9))","v":0.3},0,0,{"$f":"IFERROR(IF($F$4=\"oui\",IF(OR($B64<$H$4,$C64>$I$4,AND($B64>=$K$4,$C64<=$L$4)),0,1),_xlfn.IFS($D$7=Données!$B$527,HLOOKUP($L$15,Données!$C$8:$Y$57,A64+2,0),$D$7=Données!$B$528,HLOOKUP($L$15,Données!$C$62:$Y$111,A64+2,0),$D$7=Données!$B$529,HLOOKUP($L$15,Données!$C$115:$Y$164,A64+2,0),$D$7=Données!$B$530,HLOOKUP($L$15,Données!$C$169:$Y$218,A64+2,0),$D$7=Données!$B$531,HLOOKUP($L$15,Données!$C$224:$Y$273,A64+2,0),$D$7=Données!$B$532,HLOOKUP($L$15,Données!$C$280:$Y$329,A64+2,0))),\"\")","v":""},{"$nulls":8},"",null,"",{"$f":"IF(X64=\"\",\"\",IFERROR(IF(X64=$AV$69-1,$AU$67,VLOOKUP(MATCH(TRUE,INDEX($AX$20:$AX$67=\"Changement\"&X65,0),0),$AS$20:$AU$67,2,0)),\"\"))","v":""},"",{"$f":"IF(AN64=\"\",\"\",_xlfn.IFS(AJ64=$AA$52,AN64,AND(AJ64<>$AA$52,$L$14=0),AN64,AND(AJ64<>$AA$52,$L$14=1),1))","v":""},"",{"$nulls":5},{"$f":"IF(X64=\"\",\"\",IF(VLOOKUP(MATCH(TRUE,INDEX($AX$20:$AX$67=\"Changement\"&X64,0),0),$A$20:$N$67,4,0)=0,$AA$52,VLOOKUP(MATCH(TRUE,INDEX($AX$20:$AX$67=\"Changement\"&X64,0),0),$A$20:$N$67,4,0)))","v":""},"","","","",{"$nulls":4},45,{"$f":"AU63","v":"22:00:00"},{"$f":"AU63+0.5/24","v":"22:30:00"},"Pas de changement",3,"Pas de changement3","Pas de changement",3,"Pas de changement3"]
[46,"22:30:00","23:00:00",{"$f":"IF($I$12=\"non\",1,$I$12)*IF($F$4=\"oui\",IF(OR($B65<$H$4,$C65>$I$4,AND($B65>=$K$4,$C65<=$L$4)),0,1),_xlfn.IFS($D$7=Données!$B$527,HLOOKUP($D$11,Données!$C$8:$Y$57,A65+2,0),$D$7=Données!$B$528,HLOOKUP($D$11,Données!$C$62:$Y$111,A65+2,0),$D$7=Données!$B$529,HLOOKUP($D$11,Données!$C$115:$Y$164,A65+2,0),$D$7=Données!$B$530,HLOOKUP($D$11,Données!$C$169:$Y$218,A65+2,0),$D$7=Données!$B$531,HLOOKUP($D$11,Données!$C$224:$Y$273,A65+2,0),$D$7=Données!$B$532,HLOOKUP($D$11,Données!$C$280:$Y$329,A65+2,0)))","v":0},{"$f":"_xlfn.IFS($H$14=Données!$E$536,1,$H$14=Données!$E$537,IF(D65=0,Données!$F$537,D65),$H$14=Données!$E$538,IF(D65=0,Données!$F$538,D65),$H$14=Données!$E$539,IF(AND(B65>=$C$1-Données!$G$539,C65<=$C$2+Données!$G$539),1,0),$H$14=Données!$E$540,_xlfn.IFS(AND(D65=0,OR(B65<$C$1-Données!$G$540,C65>$C$2+Données!$G$540)),D65,AND(D65=0,B65>=$C$1-Données!$G$540,C65<=$C$2+Données!$G$540),Données!$F$540,D65<>0,D65))","v":0},18,{"$error":"#N/A"},{"$f":"IF($H$8=\"oui\",_xlfn.IFS($D$11=\"Sanitaires\",(30+(15*$H$9))*E65,$H$10=\"[m3/h.local]\",$H$9*E65,AND($H$19=\"[m3/h]\",$I$19=\"[pers/m²]\"),$I$9*$D$8*$H$9*E65,AND($H$19=\"[m3/h]\",($I$19=\"[pers]\")),$I$9*$H$9*E65,$H$19=\"[Vol/h]\",$H$9*E65),0)","v":{"v":0,"d":"0.0"}},0,0,0,{"$f":"IF($L$14=\"particulier\",_xlfn.IFS(O65=0,$L$12*$L$9,O65>0,$L$9*O65),_xlfn.IFS(AND($L$14=1,I65=0),$L$9*$L$12,AND($L$14=1,I65>0),$L$9,AND($L$14=0,I65=0),$L$9*$L$12,AND($L$14=0,I65>0),$L$9*I65/$I$9))","v":0.3},0,0,{"$f":"IFERROR(IF($F$4=\"oui\",IF(OR($B65<$H$4,$C65>$I$4,AND($B65>=$K$4,$C65<=$L$4)),0,1),_xlfn.IFS($D$7=Données!$B$527,HLOOKUP($L$15,Données!$C$8:$Y$57,A65+2,0),$D$7=Données!$B$528,HLOOKUP($L$15,Données!$C$62:$Y$111,A65+2,0),$D$7=Données!$B$529,HLOOKUP($L$15,Données!$C$115:$Y$164,A65+2,0),$D$7=Données!$B$530,HLOOKUP($L$15,Données!$C$169:$Y$218,A65+2,0),$D$7=Données!$B$531,HLOOKUP($L$15,Données!$C$224:$Y$273,A65+2,0),$D$7=Données!$B$532,HLOOKUP($L$15,Données!$C$280:$Y$329,A65+2,0))),\"\")","v":""},{"$nulls":8},"",null,"",{"$f":"IF(X65=\"\",\"\",IFERROR(IF(X65=$AV$69-1,$AU$67,VLOOKUP(MATCH(TRUE,INDEX($AX$20:$AX$67=\"Changement\"&X66,0),0),$AS$20:$AU$67,2,0)),\"\"))","v":""},"",{"$f":"IF(AN65=\"\",\"\",_xlfn.IFS(AJ65=$AA$52,AN65,AND(AJ65<>$AA$52,$L$14=0),AN65,AND(AJ65<>$AA$52,$L$14=1),1))","v":""},"",{"$nulls":5},{"$f":"IF(X65=\"\",\"\",IF(VLOOKUP(MATCH(TRUE,INDEX($AX$20:$AX$67=\"Changement\"&X65,0),0),$A$20:$N$67,4,0)=0,$AA$52,VLOOKUP(MATCH(TRUE,INDEX($AX$20:$AX$67=\"Changement\"&X65,0),0),$A$20:$N$67,4,0)))","v":""},"","","","",{"$nulls":4},46,"22:30:00","23:00:00","Pas de changement",3,"Pas de changement3","Pas de changement",3,"Pas de changement3"]
[47,"23:00:00","23:30:00",{"$f":"IF($I$12=\"non\",1,$I$12)*IF($F$4=\"oui\",IF(OR($B66<$H$4,$C66>$I$4,AND($B66>=$K$4,$C66<=$L$4)),0,1),_xlfn.IFS($D$7=Données!$B$527,HLOOKUP($D$11,Données!$C$8:$Y$57,A66+2,0),$D$7=Données!$B$528,HLOOKUP($D$11,Données!$C$62:$Y$111,A66+2,0),$D$7=Données!$B$529,HLOOKUP($D$11,Données!$C$115:$Y$164,A66+2,0),$D$7=Données!$B$530,HLOOKUP($D$11,Données!$C$169:$Y$218,A66+2,0),$D$7=Données!$B$531,HLOOKUP($D$11,Données!$C$224:$Y$273,A66+2,0),$D$7=Données!$B$532,HLOOKUP($D$11,Données!$C$280:$Y$329,A66+2,0)))","v":0},{"$f":"_xlfn.IFS($H$14=Données!$E$536,1,$H$14=Données!$E$537,IF(D66=0,Données!$F$537,D66),$H$14=Données!$E$538,IF(D66=0,Données!$F$538,D66),$H$14=Données!$E$539,IF(AND(B66>=$C$1-Données!$G$539,C66<=$C$2+Données!$G$539),1,0),$H$14=Données!$E$540,_xlfn.IFS(AND(D66=0,OR(B66<$C$1-Données!$G$540,C66>$C$2+Données!$G$540)),D66,AND(D66=0,B66>=$C$1-Données!$G$540,C66<=$C$2+Données!$G$540),Données!$F$540,D66<>0,D66))","v":0},18,{"$error":"#N/A"},{"$f":"IF($H$8=\"oui\",_xlfn.IFS($D$11=\"Sanitaires\",(30+(15*$H$9))*E66,$H$10=\"[m3/h.local]\",$H$9*E66,AND($H$19=\"[m3/h]\",$I$19=\"[pers/m²]\"),$I$9*$D$8*$H$9*E66,AND($H$19=\"[m3/h]\",($I$19=\"[pers]\")),$I$9*$H$9*E66,$H$19=\"[Vol/h]\",$H$9*E66),0)","v":{"v":0,"d":"0.0"}},0,0,0,{"$f":"IF($L$14=\"particulier\",_xlfn.IFS(O66=0,$L$12*$L$9,O66>0,$L$9*O66),_xlfn.IFS(AND($L$14=1,I66=0),$L$9*$L$12,AND($L$14=1,I66>0),$L$9,AND($L$14=0,I66=0),$L$9*$L$12,AND($L$14=0,I66>0),$L$9*I66/$I$9))","v":0.3},0,0,{"$f":"IFERROR(IF($F$4=\"oui\",IF(OR($B66<$H$4,$C66>$I$4,AND($B66>=$K$4,$C66<=$L$4)),0,1),_xlfn.IFS($D$7=Données!$B$527,HLOOKUP($L$15,Données!$C$8:$Y$57,A66+2,0),$D$7=Données!$B$528,HLOOKUP($L$15,Données!$C$62:$Y$111,A66+2,0),$D$7=Données!$B$529,HLOOKUP($L$15,Données!$C$115:$Y$164,A66+2,0),$D$7=Données!$B$530,HLOOKUP($L$15,Données!$C$169:$Y$218,A66+2,0),$D$7=Données!$B$531,HLOOKUP($L$15,Données!$C$224:$Y$273,A66+2,0),$D$7=Données!$B$532,HLOOKUP($L$15,Données!$C$280:$Y$329,A66+2,0))),\"\")","v":""},{"$nulls":8},"",null,"",{"$f":"IF(X66=\"\",\"\",IFERROR(IF(X66=$AV$69-1,$AU$67,VLOOKUP(MATCH(TRUE,INDEX($AX$20:$AX$67=\"Changement\"&X67,0),0),$AS$20:$AU$67,2,0)),\"\"))","v":""},"",{"$f":"IF(AN66=\"\",\"\",_xlfn.IFS(AJ66=$AA$52,AN66,AND(AJ66<>$AA$52,$L$14=0),AN66,AND(AJ66<>$AA$52,$L$14=1),1))","v":""},"",{"$nulls":5},{"$f":"IF(X66=\"\",\"\",IF(VLOOKUP(MATCH(TRUE,INDEX($AX$20:$AX$67=\"Changement\"&X66,0),0),$A$20:$N$67,4,0)=0,$AA$52,VLOOKUP(MATCH(TRUE,INDEX($AX$20:$AX$67=\"Changement\"&X66,0),0),$A$20:$N$67,4,0)))","v":""},"","","","",{"$nulls":4},47,"23:00:00","23:30:00","Pas de changement",3,"Pas de changement3","Pas de changement",3,"Pas de changement3"]
[48,"23:30:00",1.0000000000000007,{"$f":"IF($I$12=\"non\",1,$I$12)*IF($F$4=\"oui\",IF(OR($B67<$H$4,$C67>$I$4,AND($B67>=$K$4,$C67<=$L$4)),0,1),_xlfn.IFS($D$7=Données!$B$527,HLOOKUP($D$11,Données!$C$8:$Y$57,A67+2,0),$D$7=Données!$B$528,HLOOKUP($D$11,Données!$C$62:$Y$111,A67+2,0),$D$7=Données!$B$529,HLOOKUP($D$11,Données!$C$115:$Y$164,A67+2,0),$D$7=Données!$B$530,HLOOKUP($D$11,Données!$C$169:$Y$218,A67+2,0),$D$7=Données!$B$531,HLOOKUP($D$11,Données!$C$224:$Y$273,A67+2,0),$D$7=Données!$B$532,HLOOKUP($D$11,Données!$C$280:$Y$329,A67+2,0)))","v":0},{"$f":"_xlfn.IFS($H$14=Données!$E$536,1,$H$14=Données!$E$537,IF(D67=0,Données!$F$537,D67),$H$14=Données!$E$538,IF(D67=0,Données!$F$538,D67),$H$14=Données!$E$539,IF(AND(B67>=$C$1-Données!$G$539,C67<=$C$2+Données!$G$539),1,0),$H$14=Données!$E$540,_xlfn.IFS(AND(D67=0,OR(B67<$C$1-Données!$G$540,C67>$C$2+Données!$G$540)),D67,AND(D67=0,B67>=$C$1-Données!$G$540,C67<=$C$2+Données!$G$540),Données!$F$540,D67<>0,D67))","v":0},18,{"$error":"#N/A"},{"$f":"IF($H$8=\"oui\",_xlfn.IFS($D$11=\"Sanitaires\",(30+(15*$H$9))*E67,$H$10=\"[m3/h.local]\",$H$9*E67,AND($H$19=\"[m3/h]\",$I$19=\"[pers/m²]\"),$I$9*$D$8*$H$9*E67,AND($H$19=\"[m3/h]\",($I$19=\"[pers]\")),$I$9*$H$9*E67,$H$19=\"[Vol/h]\",$H$9*E67),0)","v":{"v":0,"d":"0.0"}},0,0,0,{"$f":"IF($L$14=\"particulier\",_xlfn.IFS(O67=0,$L$12*$L$9,O67>0,$L$9*O67),_xlfn.IFS(AND($L$14=1,I67=0),$L$9*$L$12,AND($L$14=1,I67>0),$L$9,AND($L$14=0,I67=0),$L$9*$L$12,AND($L$14=0,I67>0),$L$9*I67/$I$9))","v":0.3},0,0,{"$f":"IFERROR(IF($F$4=\"oui\",IF(OR($B67<$H$4,$C67>$I$4,AND($B67>=$K$4,$C67<=$L$4)),0,1),_xlfn.IFS($D$7=Données!$B$527,HLOOKUP($L$15,Données!$C$8:$Y$57,A67+2,0),$D$7=Données!$B$528,HLOOKUP($L$15,Données!$C$62:$Y$111,A67+2,0),$D$7=Données!$B$529,HLOOKUP($L$15,Données!$C$115:$Y$164,A67+2,0),$D$7=Données!$B$530,HLOOKUP($L$15,Données!$C$169:$Y$218,A67+2,0),$D$7=Données!$B$531,HLOOKUP($L$15,Données!$C$224:$Y$273,A67+2,0),$D$7=Données!$B$532,HLOOKUP($L$15,Données!$C$280:$Y$329,A67+2,0))),\"\")","v":""},{"$nulls":8},"",null,"",{"$f":"IF(X67=\"\",\"\",IFERROR(IF(X67=$AV$69-1,$AU$67,VLOOKUP(MATCH(TRUE,INDEX($AX$20:$AX$67=\"Changement\"&X68,0),0),$AS$20:$AU$67,2,0)),\"\"))","v":""},"",{"$f":"IF(AN67=\"\",\"\",_xlfn.IFS(AJ67=$AA$52,AN67,AND(AJ67<>$AA$52,$L$14=0),AN67,AND(AJ67<>$AA$52,$L$14=1),1))","v":""},"",{"$nulls":5},{"$f":"IF(X67=\"\",\"\",IF(VLOOKUP(MATCH(TRUE,INDEX($AX$20:$AX$67=\"Changement\"&X67,0),0),$A$20:$N$67,4,0)=0,$AA$52,VLOOKUP(MATCH(TRUE,INDEX($AX$20:$AX$67=\"Changement\"&X67,0),0),$A$20:$N$67,4,0)))","v":""},"","","","",{"$nulls":4},48,"23:30:00",1,"Changement",4,"Changement4","Changement",4,"Changement4"]
[{"$nulls":23},"",null,"",{"$f":"IF(X68=\"\",\"\",IFERROR(IF(X68=$AV$69-1,$AU$67,VLOOKUP(MATCH(TRUE,INDEX($AX$20:$AX$67=\"Changement\"&X69,0),0),$AS$20:$AU$67,2,0)),\"\"))","v":""},"",{"$f":"IF(AN68=\"\",\"\",_xlfn.IFS(AJ68=$AA$52,AN68,AND(AJ68<>$AA$52,$L$14=0),AN68,AND(AJ68<>$AA$52,$L$14=1),1))","v":""},"",{"$nulls":5},{"$f":"IF(X68=\"\",\"\",IF(VLOOKUP(MATCH(TRUE,INDEX($AX$20:$AX$67=\"Changement\"&X68,0),0),$A$20:$N$67,4,0)=0,$AA$52,VLOOKUP(MATCH(TRUE,INDEX($AX$20:$AX$67=\"Changement\"&X68,0),0),$A$20:$N$67,4,0)))","v":""},"","","",""]
["Calcul pour graphe occupation :",{"$nulls":22},"",null,"",{"$f":"IF(X69=\"\",\"\",IFERROR(IF(X69=$AV$69-1,$AU$67,VLOOKUP(MATCH(TRUE,INDEX($AX$20:$AX$67=\"Changement\"&X70,0),0),$AS$20:$AU$67,2,0)),\"\"))","v":""},"",{"$f":"IF(AN69=\"\",\"\",_xlfn.IFS(AJ69=$AA$52,AN69,AND(AJ69<>$AA$52,$L$14=0),AN69,AND(AJ69<>$AA$52,$L$14=1),1))","v":""},"",{"$nulls":5},{"$f":"IF(X69=\"\",\"\",IF(VLOOKUP(MATCH(TRUE,INDEX($AX$20:$AX$67=\"Changement\"&X69,0),0),$A$20:$N$67,4,0)=0,$AA$52,VLOOKUP(MATCH(TRUE,INDEX($AX$20:$AX$67=\"Changement\"&X69,0),0),$A$20:$N$67,4,0)))","v":""},"","","","",{"$nulls":7},{"$f":"COUNTIF(AV20:AV67,\"Changement\")","v":4},null,null,{"$f":"COUNTIF(AY20:AY67,\"Changement\")","v":4}]
[null,null,"Occupation",{"$nulls":20},"",null,"",{"$f":"IF(X70=\"\",\"\",IFERROR(IF(X70=$AV$69-1,$AU$67,VLOOKUP(MATCH(TRUE,INDEX($AX$20:$AX$67=\"Changement\"&X71,0),0),$AS$20:$AU$67,2,0)),\"\"))","v":""},"",{"$f":"IF(AN70=\"\",\"\",_xlfn.IFS(AJ70=$AA$52,AN70,AND(AJ70<>$AA$52,$L$14=0),AN70,AND(AJ70<>$AA$52,$L$14=1),1))","v":""},"",{"$nulls":5},{"$f":"IF(X70=\"\",\"\",IF(VLOOKUP(MATCH(TRUE,INDEX($AX$20:$AX$67=\"Changement\"&X70,0),0),$A$20:$N$67,4,0)=0,$AA$52,VLOOKUP(MATCH(TRUE,INDEX($AX$20:$AX$67=\"Changement\"&X70,0),0),$A$20:$N$67,4,0)))","v":""},"","","",""]
[0,"00:00:00",{"$f":"VLOOKUP($B71,$B$20:$N$67,8,FALSE)","v":0},{"$nulls":22},"For: ","Weekends",null," Holidays",",",{"$nulls":6},"","","",""]
[0.5,"00:30:00",{"$f":"IF($B72=$B71,VLOOKUP($B72,$B$20:$N$67,8,FALSE),C71)","v":0},{"$nulls":22},"Until:",1,",",{"$f":"AN72","v":"0.03"},",",{"$nulls":5},{"$f":"AA52","v":0.03},0,0,3,{"$f":"IF(AJ72=\"\",\"\",IF(AJ72=0,0,AK72&\".\"&AL72&AM72))","v":"0.03"}]
[0.5,"00:30:00",0,{"$nulls":22},"For: "," SummerDesignDay",","]
[{"$f":"A72+0.5","v":1},"01:00:00",0,{"$nulls":22},"Until:",1,",",1,","]
[{"$f":"A73+0.5","v":1},"01:00:00",0,{"$nulls":22},"For: ","WinterDesignDay",null," AllOtherDays,"]
[1.5,"01:30:00",0,{"$nulls":22},"Until:",1,",",0,";"]
[1.5,"01:30:00",0]
[2,"02:00:00",0]
[2,"02:00:00",0]
[2.5,"02:30:00",0,{"$nulls":22},{"$f":"J9","v":{"v":6,"d":"6.0"}},{"$f":"J10","v":"W/m²"}]
[2.5,"02:30:00",0,{"$nulls":22},"Scénario eclairage "]
[3,"03:00:00",0,{"$nulls":22},{"$f":"$Z$27","v":"(A copier dans DB. Attention effacer les lignes vides sinon DB plante)"}]
[3,"03:00:00",0,{"$nulls":22},"Schedule:Compact,"]
[3.5,"03:30:00",0,{"$nulls":22},{"$f":"$B$6&\"_eclairage\"","v":"03 _ test 3_eclairage"},","]
[3.5,"03:30:00",0,{"$nulls":22},"Fraction,"]
[4,"04:00:00",0,{"$nulls":22},"Through: ","31 Dec,"]
[4,"04:00:00",0,{"$nulls":22},"For: ","Weekdays",null," SummerDesignDay",",",{"$nulls":5},"Tanscrire les virgules en point"]
[4.5,"04:30:00",0,{"$nulls":20},{"$f":"IFERROR(IF(X87+1<=$AV$69-1,X87+1,\"\"),\"\")","v":1},null,{"$f":"IF(X88=\"\",\"\",\"Until:\")","v":"Until:"},{"$f":"IF(X88=\"\",\"\",IFERROR(IF(X88=$AV$69-1,$AU$67,VLOOKUP(MATCH(TRUE,INDEX($AX$20:$AX$67=\"Changement\"&X89,0),0),$AS$20:$AU$67,2,0)),\"\"))","v":0.4999999999999998},{"$f":"IF(X88=\"\",\"\",\",\")","v":","},{"$f":"AN88","v":"0.0"},{"$f":"IF(X88=\"\",\"\",\",\")","v":","},{"$nulls":5},{"$f":"IF(X88=\"\",\"\",VLOOKUP(MATCH(TRUE,INDEX($AX$20:$AX$67=\"Changement\"&X88,0),0),$A$20:$N$67,4,0))","v":0},{"$f":"IF(AJ88=\"\",\"\",TRUNC(AJ88,0))","v":0},{"$f":"IF(AJ88=\"\",\"\",TRUNC((AJ88-AK88)*10,0))","v":0},{"$f":"IF(AJ88=\"\",\"\",IF(AJ88=AK88+AL88/10,0,TRUNC((AJ88*1-AL88)*100,0)))","v":0},{"$f":"IF(AJ88=\"\",\"\",TRUNC(AJ88,0)&\".\"&ROUND(AJ88-TRUNC(AJ88,0),2)*100)","v":"0.0"}]
[4.5,"04:30:00",0,{"$nulls":20},2,null,"Until:",{"$f":"IF(X89=\"\",\"\",IFERROR(IF(X89=$AV$69-1,$AU$67,VLOOKUP(MATCH(TRUE,INDEX($AX$20:$AX$67=\"Changement\"&X90,0),0),$AS$20:$AU$67,2,0)),\"\"))","v":0.5833333333333333},",",{"$f":"AN89","v":"1.0"},",",{"$nulls":5},{"$f":"IF(X89=\"\",\"\",VLOOKUP(MATCH(TRUE,INDEX($AX$20:$AX$67=\"Changement\"&X89,0),0),$A$20:$N$67,4,0))","v":1},{"$f":"IF(AJ89=\"\",\"\",TRUNC(AJ89,0))","v":1},{"$f":"IF(AJ89=\"\",\"\",TRUNC((AJ89-AK89)*10,0))","v":0},{"$f":"IF(AJ89=\"\",\"\",IF(AJ89=AK89+AL89/10,0,TRUNC((AJ89*1-AL89)*100,0)))","v":0},{"$f":"IF(AJ89=\"\",\"\",TRUNC(AJ89,0)&\".\"&ROUND(AJ89-TRUNC(AJ89,0),2)*100)","v":"1.0"}]
[5,"05:00:00",0,{"$nulls":20},3,null,"Until:",{"$f":"IF(X90=\"\",\"\",IFERROR(IF(X90=$AV$69-1,$AU$67,VLOOKUP(MATCH(TRUE,INDEX($AX$20:$AX$67=\"Changement\"&X91,0),0),$AS$20:$AU$67,2,0)),\"\"))","v":1},",","0.0",",",{"$nulls":5},{"$f":"IF(X90=\"\",\"\",VLOOKUP(MATCH(TRUE,INDEX($AX$20:$AX$67=\"Changement\"&X90,0),0),$A$20:$N$67,4,0))","v":0},0,0,0,"0.0"]
[5,"05:00:00",0,{"$nulls":20},"",null,"",{"$f":"IF(X91=\"\",\"\",IFERROR(IF(X91=$AV$69-1,$AU$67,VLOOKUP(MATCH(TRUE,INDEX($AX$20:$AX$67=\"Changement\"&X92,0),0),$AS$20:$AU$67,2,0)),\"\"))","v":""},"","","",{"$nulls":5},{"$f":"IF(X91=\"\",\"\",VLOOKUP(MATCH(TRUE,INDEX($AX$20:$AX$67=\"Changement\"&X91,0),0),$A$20:$N$67,4,0))","v":""},"","","",""]
[5.5,"05:30:00",0,{"$nulls":20},"",null,"",{"$f":"IF(X92=\"\",\"\",IFERROR(IF(X92=$AV$69-1,$AU$67,VLOOKUP(MATCH(TRUE,INDEX($AX$20:$AX$67=\"Changement\"&X93,0),0),$AS$20:$AU$67,2,0)),\"\"))","v":""},"","","",{"$nulls":5},{"$f":"IF(X92=\"\",\"\",VLOOKUP(MATCH(TRUE,INDEX($AX$20:$AX$67=\"Changement\"&X92,0),0),$A$20:$N$67,4,0))","v":""},"","","",""]
[5.5,"05:30:00",0,{"$nulls":20},"",null,"",{"$f":"IF(X93=\"\",\"\",IFERROR(IF(X93=$AV$69-1,$AU$67,VLOOKUP(MATCH(TRUE,INDEX($AX$20:$AX$67=\"Changement\"&X94,0),0),$AS$20:$AU$67,2,0)),\"\"))","v":""},"","","",{"$nulls":5},{"$f":"IF(X93=\"\",\"\",VLOOKUP(MATCH(TRUE,INDEX($AX$20:$AX$67=\"Changement\"&X93,0),0),$A$20:$N$67,4,0))","v":""},"","","",""]
[6,"06:00:00",0,{"$nulls":20},"",null,"",{"$f":"IF(X94=\"\",\"\",IFERROR(IF(X94=$AV$69-1,$AU$67,VLOOKUP(MATCH(TRUE,INDEX($AX$20:$AX$67=\"Changement\"&X95,0),0),$AS$20:$AU$67,2,0)),\"\"))","v":""},"","","",{"$nulls":5},{"$f":"IF(X94=\"\",\"\",VLOOKUP(MATCH(TRUE,INDEX($AX$20:$AX$67=\"Changement\"&X94,0),0),$A$20:$N$67,4,0))","v":""},"","","",""]
[6,"06:00:00",0,{"$nulls":20},"",null,"",{"$f":"IF(X95=\"\",\"\",IFERROR(IF(X95=$AV$69-1,$AU$67,VLOOKUP(MATCH(TRUE,INDEX($AX$20:$AX$67=\"Changement\"&X96,0),0),$AS$20:$AU$67,2,0)),\"\"))","v":""},"","","",{"$nulls":5},{"$f":"IF(X95=\"\",\"\",VLOOKUP(MATCH(TRUE,INDEX($AX$20:$AX$67=\"Changement\"&X95,0),0),$A$20:$N$67,4,0))","v":""},"","","",""]
[6.5,"06:30:00",0,{"$nulls":20},"",null,"",{"$f":"IF(X96=\"\",\"\",IFERROR(IF(X96=$AV$69-1,$AU$67,VLOOKUP(MATCH(TRUE,INDEX($AX$20:$AX$67=\"Changement\"&X97,0),0),$AS$20:$AU$67,2,0)),\"\"))","v":""},"","","",{"$nulls":5},{"$f":"IF(X96=\"\",\"\",VLOOKUP(MATCH(TRUE,INDEX($AX$20:$AX$67=\"Changement\"&X96,0),0),$A$20:$N$67,4,0))","v":""},"","","",""]
[6.5,"06:30:00",0,{"$nulls":20},"",null,"",{"$f":"IF(X97=\"\",\"\",IFERROR(IF(X97=$AV$69-1,$AU$67,VLOOKUP(MATCH(TRUE,INDEX($AX$20:$AX$67=\"Changement\"&#REF!,0),0),$AS$20:$AU$67,2,0)),\"\"))","v":""},"","","",{"$nulls":5},{"$f":"IF(X97=\"\",\"\",VLOOKUP(MATCH(TRUE,INDEX($AX$20:$AX$67=\"Changement\"&X97,0),0),$A$20:$N$67,4,0))","v":""},"","","",""]
[7,"07:00:00",0,{"$nulls":20},"",null,"",{"$f":"IF(X98=\"\",\"\",IFERROR(IF(X98=$AV$69-1,$AU$67,VLOOKUP(MATCH(TRUE,INDEX($AX$20:$AX$67=\"Changement\"&#REF!,0),0),$AS$20:$AU$67,2,0)),\"\"))","v":""},"","","",{"$nulls":5},{"$f":"IF(X98=\"\",\"\",VLOOKUP(MATCH(TRUE,INDEX($AX$20:$AX$67=\"Changement\"&X98,0),0),$A$20:$N$67,4,0))","v":""},"","","",""]
[7,"07:00:00",0,{"$nulls":22},"For: ","Weekends,",{"$nulls":9},"","","",""]
[7.5,"07:30:00",0,{"$nulls":22},"Until:",1,",",0,",",{"$nulls":6},"","","",""]
[7.5,"07:30:00",0,{"$nulls":22},"For: ","Holidays,"]
[8,"08:00:00",0,{"$nulls":22},"Until:",1,",",0,","]
[8,"08:00:00",0,{"$nulls":22},"For: ","WinterDesignDay",null," AllOtherDays,"]
[8.5,"08:30:00",0,{"$nulls":22},"Until:",1,",",0,";"]
[8.5,"08:30:00",0]
[9,"09:00:00",0]
[9,"09:00:00",0]
[9.5,"09:30:00",0,{"$nulls":22},{"$f":"F9","v":{"v":20,"d":"20.0"}},{"$f":"F10","v":{"v":18,"d":"18.0"}},"°C"]
[9.5,"09:30:00",0,{"$nulls":22},"Scénario température chauffage"]
[10,"10:00:00",0,{"$nulls":22},"(A copier dans DB)"]
[10,"10:00:00",0,{"$nulls":22},"Schedule:Compact,"]
[10.5,"10:30:00",0,{"$nulls":22},{"$f":"$B$6&\"_chauffage\"","v":"03 _ test 3_chauffage"},","]
[10.5,"10:30:00",0,{"$nulls":22},"Temperature,"]
[11,"11:00:00",0,{"$nulls":22},"Through: ","31 Dec,"]
[11,"11:00:00",0,{"$nulls":22},"For: ","Weekdays",null," SummerDesignDay",","]
[11.5,"11:30:00",0,{"$nulls":22},"Until:",{"$f":"IF($E$3=\"non\",C1-$F$12,C3-$F$12)","v":0.4583333333333331},",","0.5",","]
[11.5,"11:30:00",0,{"$nulls":22},"Until:",{"$f":"IF($E$3=\"non\",C2,C4)","v":0.5833433333333331},",",1,","]
[12,"12:00:00",0,{"$nulls":22},"Until:",1,",","0.5",","]
[12,"12:00:00",20,{"$nulls":22},"For: ","Weekends,"]
[12.5,"12:30:00",20,{"$nulls":22},"Until:",1,",","0.5",","]
[12.5,"12:30:00",20,{"$nulls":22},"For: ","Holidays,"]
[13,"13:00:00",20,{"$nulls":22},"Until:",1,",","0.5",","]
[13,"13:00:00",20,{"$nulls":22},"For: ","WinterDesignDay,"]
[13.5,"13:30:00",20,{"$nulls":22},"Until:",1,",",1,","]
[13.5,"13:30:00",20,{"$nulls":22},"For: ","AllOtherDays,"]
[14,"14:00:00",20,{"$nulls":22},"Until:",1,",",0,";"]
[14,"14:00:00",0]
[14.5,"14:30:00",0,{"$nulls":22},{"$f":"G9","v":{"v":0,"d":"0.0"}},{"$f":"G10","v":{"v":0,"d":"0.0"}},"°C"]
[14.5,"14:30:00",0,{"$nulls":22},"Scénario température climatisation"]
[15,"15:00:00",0,{"$nulls":22},"(A copier dans DB)"]
[15,"15:00:00",0,{"$nulls":22},"Schedule:Compact,"]
[15.5,"15:30:00",0,{"$nulls":22},{"$f":"$B$6&\"_climatisation\"","v":"03 _ test 3_climatisation"},","]
[15.5,"15:30:00",0,{"$nulls":22},"Temperature,"]
[16,"16:00:00",0,{"$nulls":22},"Through: ","31 Dec,"]
[16,"16:00:00",0,{"$nulls":22},"For: ","Weekdays",null," SummerDesignDay",","]
[16.5,"16:30:00",{"$f":"IF($B136=$B135,VLOOKUP($B136,$B$20:$N$67,8,FALSE),C135)","v":0},{"$nulls":22},"Until:",{"$f":"IF($E$3=\"non\",C1,C3)","v":0.4999999999999998},",","0.5",","]
[16.5,"16:30:00",0,{"$nulls":22},"Until:",{"$f":"IF($E$3=\"non\",C2,C4)","v":0.5833433333333331},",",1,","]
[17,"17:00:00",0,{"$nulls":22},"Until:",1,",","0.5",","]
[{"$f":"A137+0.5","v":17},"17:00:00",0,{"$nulls":22},"For: ","Weekends,"]
[17.5,"17:30:00",0,{"$nulls":22},"Until:",1,",",0,","]
[17.5,"17:30:00",0,{"$nulls":22},"For: ","Holidays,"]
[18,"18:00:00",0,{"$nulls":22},"Until:",1,",",0,","]
[18,"18:00:00",0,{"$nulls":22},"For: ","WinterDesignDay",null," AllOtherDays,"]
[18.5,"18:30:00",0,{"$nulls":22},"Until:",1,",",0,";"]
[18.5,"18:30:00",0]
[19,"19:00:00",0]
[19,"19:00:00",0]
[19.5,"19:30:00",0]
[19.5,"19:30:00",0,{"$nulls":22},{"$f":"H9","v":{"v":25,"d":"25.0"}},{"$f":"H10","v":"[m3/h.pers]"}]
[20,"20:00:00",0,{"$nulls":22},"Scénario ventilation"]
[20,"20:00:00",0,{"$nulls":22},{"$f":"$Z$27","v":"(A copier dans DB. Attention effacer les lignes vides sinon DB plante)"}]
[20.5,"20:30:00",0,{"$nulls":22},"Schedule:Compact,"]
[20.5,"20:30:00",0,{"$nulls":22},{"$f":"$B$6&\"_ventilation\"","v":"03 _ test 3_ventilation"},","]
[21,"21:00:00",0,{"$nulls":22},"Fraction,"]
[21,"21:00:00",0,{"$nulls":22},"Through: ","31 Dec,"]
[21.5,"21:30:00",0,{"$nulls":22},"For: ","Weekdays",null," SummerDesignDay",",",{"$nulls":5},"Tanscrire les virgules en point"]
[21.5,"21:30:00",0,{"$nulls":20},{"$f":"IFERROR(IF(X156+1<=$AY$69-1,X156+1,\"\"),\"\")","v":1},null,{"$f":"IF(X157=\"\",\"\",\"Until:\")","v":"Until:"},{"$f":"IF(X157=\"\",\"\",IFERROR(IF(X157=$AY$69-1,$AU$67,VLOOKUP(MATCH(TRUE,INDEX($BA$20:$BA$67=\"Changement\"&X158,0),0),$AS$20:$AU$67,2,0)),\"\"))","v":0.29166666666666663},{"$f":"IF(X157=\"\",\"\",\",\")","v":","},{"$f":"AN157","v":"0.0"},{"$f":"IF(X157=\"\",\"\",\",\")","v":","},{"$nulls":5},{"$f":"IF(X157=\"\",\"\",VLOOKUP(MATCH(TRUE,INDEX($BA$20:$BA$67=\"Changement\"&X157,0),0),$A$20:$N$67,5,0))","v":0},{"$f":"IF(AJ157=\"\",\"\",TRUNC(AJ157,0))","v":0},{"$f":"IF(AJ157=\"\",\"\",TRUNC((AJ157-AK157)*10,0))","v":0},{"$f":"IF(AJ157=\"\",\"\",IF(AJ157=AK157+AL157/10,0,TRUNC((AJ157*1-AL157)*100,0)))","v":0},{"$f":"IF(AJ157=\"\",\"\",TRUNC(AJ157,0)&\".\"&ROUND(AJ157-TRUNC(AJ157,0),2)*100)","v":"0.0"}]
[22,"22:00:00",0,{"$nulls":20},2,null,"Until:",{"$f":"IF(X158=\"\",\"\",IFERROR(IF(X158=$AY$69-1,$AU$67,VLOOKUP(MATCH(TRUE,INDEX($BA$20:$BA$67=\"Changement\"&X159,0),0),$AS$20:$AU$67,2,0)),\"\"))","v":0.791666666666667},",",{"$f":"AN158","v":"1.0"},",",{"$nulls":5},{"$f":"IF(X158=\"\",\"\",VLOOKUP(MATCH(TRUE,INDEX($BA$20:$BA$67=\"Changement\"&X158,0),0),$A$20:$N$67,5,0))","v":1},{"$f":"IF(AJ158=\"\",\"\",TRUNC(AJ158,0))","v":1},{"$f":"IF(AJ158=\"\",\"\",TRUNC((AJ158-AK158)*10,0))","v":0},{"$f":"IF(AJ158=\"\",\"\",IF(AJ158=AK158+AL158/10,0,TRUNC((AJ158*1-AL158)*100,0)))","v":0},{"$f":"IF(AJ158=\"\",\"\",TRUNC(AJ158,0)&\".\"&ROUND(AJ158-TRUNC(AJ158,0),2)*100)","v":"1.0"}]
[22,"22:00:00",0,{"$nulls":20},3,null,"Until:",{"$f":"IF(X159=\"\",\"\",IFERROR(IF(X159=$AY$69-1,$AU$67,VLOOKUP(MATCH(TRUE,INDEX($BA$20:$BA$67=\"Changement\"&X160,0),0),$AS$20:$AU$67,2,0)),\"\"))","v":1},",","0.0",",",{"$nulls":5},{"$f":"IF(X159=\"\",\"\",VLOOKUP(MATCH(TRUE,INDEX($BA$20:$BA$67=\"Changement\"&X159,0),0),$A$20:$N$67,5,0))","v":0},0,0,0,"0.0"]
[22.5,"22:30:00",0,{"$nulls":20},"",null,"",{"$f":"IF(X160=\"\",\"\",IFERROR(IF(X160=$AY$69-1,$AU$67,VLOOKUP(MATCH(TRUE,INDEX($BA$20:$BA$67=\"Changement\"&X161,0),0),$AS$20:$AU$67,2,0)),\"\"))","v":""},"","","",{"$nulls":5},{"$f":"IF(X160=\"\",\"\",VLOOKUP(MATCH(TRUE,INDEX($BA$20:$BA$67=\"Changement\"&X160,0),0),$A$20:$N$67,5,0))","v":""},"","","",""]
[22.5,"22:30:00",0,{"$nulls":20},"",null,"",{"$f":"IF(X161=\"\",\"\",IFERROR(IF(X161=$AY$69-1,$AU$67,VLOOKUP(MATCH(TRUE,INDEX($BA$20:$BA$67=\"Changement\"&X162,0),0),$AS$20:$AU$67,2,0)),\"\"))","v":""},"","","",{"$nulls":5},{"$f":"IF(X161=\"\",\"\",VLOOKUP(MATCH(TRUE,INDEX($BA$20:$BA$67=\"Changement\"&X161,0),0),$A$20:$N$67,5,0))","v":""},"","","",""]
[23,"23:00:00",0,{"$nulls":20},"",null,"",{"$f":"IF(X162=\"\",\"\",IFERROR(IF(X162=$AY$69-1,$AU$67,VLOOKUP(MATCH(TRUE,INDEX($BA$20:$BA$67=\"Changement\"&X163,0),0),$AS$20:$AU$67,2,0)),\"\"))","v":""},"","","",{"$nulls":5},{"$f":"IF(X162=\"\",\"\",VLOOKUP(MATCH(TRUE,INDEX($BA$20:$BA$67=\"Changement\"&X162,0),0),$A$20:$N$67,5,0))","v":""},"","","",""]
[23,"23:00:00",0,{"$nulls":20},"",null,"",{"$f":"IF(X163=\"\",\"\",IFERROR(IF(X163=$AY$69-1,$AU$67,VLOOKUP(MATCH(TRUE,INDEX($BA$20:$BA$67=\"Changement\"&X164,0),0),$AS$20:$AU$67,2,0)),\"\"))","v":""},"","","",{"$nulls":5},{"$f":"IF(X163=\"\",\"\",VLOOKUP(MATCH(TRUE,INDEX($BA$20:$BA$67=\"Changement\"&X163,0),0),$A$20:$N$67,5,0))","v":""},"","","",""]
[23.5,"23:30:00",0,{"$nulls":20},"",null,"",{"$f":"IF(X164=\"\",\"\",IFERROR(IF(X164=$AY$69-1,$AU$67,VLOOKUP(MATCH(TRUE,INDEX($BA$20:$BA$67=\"Changement\"&X165,0),0),$AS$20:$AU$67,2,0)),\"\"))","v":""},"","","",{"$nulls":5},{"$f":"IF(X164=\"\",\"\",VLOOKUP(MATCH(TRUE,INDEX($BA$20:$BA$67=\"Changement\"&X164,0),0),$A$20:$N$67,5,0))","v":""},"","","",""]
[23.5,"23:30:00",0,{"$nulls":20},"",null,"",{"$f":"IF(X165=\"\",\"\",IFERROR(IF(X165=$AY$69-1,$AU$67,VLOOKUP(MATCH(TRUE,INDEX($BA$20:$BA$67=\"Changement\"&X166,0),0),$AS$20:$AU$67,2,0)),\"\"))","v":""},"","","",{"$nulls":5},{"$f":"IF(X165=\"\",\"\",VLOOKUP(MATCH(TRUE,INDEX($BA$20:$BA$67=\"Changement\"&X165,0),0),$A$20:$N$67,5,0))","v":""},"","","",""]
[24,1.0000000000000007,0,{"$nulls":20},"",null,"",{"$f":"IF(X166=\"\",\"\",IFERROR(IF(X166=$AY$69-1,$AU$67,VLOOKUP(MATCH(TRUE,INDEX($BA$20:$BA$67=\"Changement\"&X167,0),0),$AS$20:$AU$67,2,0)),\"\"))","v":""},"","","",{"$nulls":5},{"$f":"IF(X166=\"\",\"\",VLOOKUP(MATCH(TRUE,INDEX($BA$20:$BA$67=\"Changement\"&X166,0),0),$A$20:$N$67,5,0))","v":""},"","","",""]
[{"$nulls":23},"",null,"",{"$f":"IF(X167=\"\",\"\",IFERROR(IF(X167=$AY$69-1,$AU$67,VLOOKUP(MATCH(TRUE,INDEX($BA$20:$BA$67=\"Changement\"&X168,0),0),$AS$20:$AU$67,2,0)),\"\"))","v":""},"","","",{"$nulls":5},{"$f":"IF(X167=\"\",\"\",VLOOKUP(MATCH(TRUE,INDEX($BA$20:$BA$67=\"Changement\"&X167,0),0),$A$20:$N$67,5,0))","v":""},"","","",""]
[{"$nulls":25},"For: ","Weekends,",{"$nulls":9},"","","",""]
[{"$nulls":25},"Until:",1,",",0,",",{"$nulls":6},"","","",""]
[{"$nulls":25},"For: ","Holidays,"]
[{"$nulls":25},"Until:",1,",",0,","]
[{"$nulls":25},"For: ","WinterDesignDay",null," AllOtherDays,"]
[{"$nulls":25},"Until:",1,",",0,";"]

{"sheet":"Données","index":4,"n_rows":576,"n_cols":30,"rows_kept":576,"merged":[[1,2,1,18],[3,5,3,6],[3,9,3,12],[3,15,3,17],[5,0,5,24],[8,0,8,1],[59,0,59,24],[111,0,111,24],[115,0,115,1],[165,0,165,24],[169,0,169,1],[219,0,219,24],[224,0,224,1],[277,0,277,24],[280,0,280,1],[334,0,335,36],[423,0,424,36],[515,0,515,36],[517,0,518,24],[567,3,569,3],[567,4,569,4]]}
["Password","EODD_STD"]
[null,null,"Liste des différents profils suivant les usages à renseigner si besoin"]
[]
[null,null,"Code couleur pour comprendre",null,null,"Colonne automatique à ne pas modifier --> ",{"$nulls":3},"Colonne disponible à renseigner manuellement",{"$nulls":5},"Ne pas changer le nom"]
[]
[{"$f":"B527","v":"Tertiaire"}]
[]
[{"$nulls":3},"Bureau","Salle de conférence","Salle de pause","Salle de réunion","Salle à manger","Salle polyvalente","Sanitaires","Passagère","Autres","24h/24h","Salle de sport",{"$nulls":7},"Profil d'apport perso 1","Profil d'apport perso 2","Profil d'apport perso 3","Profil d'apport perso 4"]
["Occupé uniquement pendant la pause",null,null,"non","non","oui","non","oui","non","non","non","non","non","non","non","non","non","non","non","non","non","non","non","non","non"]
["00:00:00","00:30:00",null,{"$f":"IF(D$9=\"non\",IF(OR($A10<$D$527,$B10>$E$527,AND($A10>=$G$527,$B10<=$H$527)),0,1),IF(AND($A10>=$G$527,$B10<=$H$527,$I$527=\"oui\"),1,0))","v":0},0,0,0,0,0,{"$f":"IF(OR($A10<$D$527,$B10>$E$527),0,1)","v":0},0,{"$f":"IF(L$9=\"non\",IF(OR($A10<$D$527,$B10>$E$527,AND($A10>=$G$527,$B10<=$H$527)),0,1),IF(AND($A10>=$G$527,$B10<=$H$527,$I$527=\"oui\"),1,0))","v":0},1,0,{"$nulls":7},0,0,0,0]
[{"$f":"B10","v":"00:30:00"},{"$f":"B10+0.5/24","v":"01:00:00"},null,0,0,0,0,0,0,0,0,0,1,0,{"$nulls":7},0,0,0,0]
[{"$f":"B11","v":"01:00:00"},{"$f":"B11+0.5/24","v":"01:30:00"},null,0,0,0,0,0,0,0,0,0,1,0,{"$nulls":7},1,1,1,1]
["01:30:00","02:00:00",null,0,0,0,0,0,0,0,0,0,1,0,{"$nulls":7},1,1,1,1]
["02:00:00","02:30:00",null,0,0,0,0,0,0,0,0,0,1,0,{"$nulls":7},0,0,0,0]
["02:30:00","03:00:00",null,0,0,0,0,0,0,0,0,0,1,0,{"$nulls":7},0,0,0,0]
["03:00:00","03:30:00",null,0,0,0,0,0,0,0,0,0,1,0,{"$nulls":7},0,0,0,0]
["03:30:00","04:00:00",null,0,0,0,0,0,0,0,0,0,1,0,{"$nulls":7},0,0,0,0]
["04:00:00","04:30:00",null,0,0,0,0,0,0,0,0,0,1,0,{"$nulls":7},1,1,1,1]
["04:30:00","05:00:00",null,0,0,0,0,0,0,0,0,0,1,0,{"$nulls":7},1,1,1,1]
["05:00:00","05:30:00",null,{"$f":"IF(D$9=\"non\",IF(OR($A20<$D$527,$B20>$E$527,AND($A20>=$G$527,$B20<=$H$527)),0,1),IF(AND($A20>=$G$527,$B20<=$H$527,$I$527=\"oui\"),1,0))","v":0},0,0,0,0,0,0,0,0,1,0,{"$nulls":7},0,0,0,0]
["05:30:00","06:00:00",null,0,0,0,0,0,0,0,0,0,1,0,{"$nulls":7},0,0,0,0]
["06:00:00","06:30:00",null,0,0,0,0,0,0,0,0,0,1,0,{"$nulls":7},0,0,0,0]
["06:30:00","07:00:00",null,0,0,0,0,0,0,0,0,0,1,0,{"$nulls":7},0,0,0,0]
["07:00:00","07:30:00",null,0,0,0,0,0,0,0,0,0,1,0,{"$nulls":7},1,1,1,1]
["07:30:00","08:00:00",null,0,0,0,0,0,0,0,0,0,1,0,{"$nulls":7},1,1,1,1]
["08:00:00","08:30:00",null,1,1,0,1,0,1,1,1,1,1,0.15,{"$nulls":7},0,0,0,0]
["08:30:00","09:00:00",null,1,1,0,1,0,1,1,1,1,1,0.15,{"$nulls":7},0,0,0,0]
["09:00:00","09:30:00",null,1,1,0,1,0,1,1,1,1,1,0,{"$nulls":7},0,0,0,0]
["09:30:00","10:00:00",null,1,1,0,1,0,1,1,1,1,1,0,{"$nulls":7},0,0,0,0]
["10:00:00","10:30:00",null,{"$f":"IF(D$9=\"non\",IF(OR($A30<$D$527,$B30>$E$527,AND($A30>=$G$527,$B30<=$H$527)),0,1),IF(AND($A30>=$G$527,$B30<=$H$527,$I$527=\"oui\"),1,0))","v":1},1,0,1,0,1,{"$f":"IF(OR($A30<$D$527,$B30>$E$527),0,1)","v":1},1,1,1,0,{"$nulls":7},1,1,1,1]
["10:30:00","11:00:00",null,1,1,0,1,0,1,1,1,1,1,0,{"$nulls":7},1,1,1,1]
["11:00:00","11:30:00",null,1,1,0,1,0,1,1,1,1,1,0,{"$nulls":7},0,0,0,0]
["11:30:00","12:00:00",null,1,1,0,1,0,1,1,1,1,1,0,{"$nulls":7},0,0,0,0]
["12:00:00","12:30:00",null,0,0,1,0,1,0,1,1,0,1,0.5,{"$nulls":7},0,0,0,0]
["12:30:00","13:00:00",null,0,0,1,0,1,0,1,1,0,1,0.5,{"$nulls":7},0,0,0,0]
["13:00:00","13:30:00",null,0,0,1,0,1,0,1,1,0,1,0.5,{"$nulls":7},1,1,1,1]
["13:30:00","14:00:00",null,0,0,1,0,1,0,1,1,0,1,0.5,{"$nulls":7},1,1,1,1]
[{"$f":"B37","v":"14:00:00"},{"$f":"B37+0.5/24","v":"14:30:00"},null,1,1,0,1,0,1,1,1,1,1,0,{"$nulls":7},0,0,0,0]
["14:30:00",{"$f":"B38+0.5/24","v":"15:00:00"},null,1,1,0,1,0,1,1,1,1,1,0,{"$nulls":7},0,0,0,0]
["15:00:00","15:30:00",null,{"$f":"IF(D$9=\"non\",IF(OR($A40<$D$527,$B40>$E$527,AND($A40>=$G$527,$B40<=$H$527)),0,1),IF(AND($A40>=$G$527,$B40<=$H$527,$I$527=\"oui\"),1,0))","v":1},1,0,1,0,1,1,1,1,1,0,{"$nulls":7},0,0,0,0]
["15:30:00","16:00:00",null,1,1,0,1,0,1,1,1,1,1,0,{"$nulls":7},0,0,0,0]
["16:00:00","16:30:00",null,1,1,0,1,0,1,1,1,1,1,0,{"$nulls":7},1,1,1,1]
["16:30:00","17:00:00",null,1,1,0,1,0,1,1,1,1,1,0,{"$nulls":7},1,1,1,1]
["17:00:00","17:30:00",null,1,1,0,1,0,1,1,1,1,1,0.35,{"$nulls":7},0,0,0,0]
["17:30:00","18:00:00",null,1,1,0,1,0,1,1,1,1,1,0.35,{"$nulls":7},0,0,0,0]
["18:00:00","18:30:00",null,0,0,0,0,0,0,0,0,0,1,0.35,{"$nulls":7},0,0,0,0]
["18:30:00","19:00:00",null,0,0,0,0,0,0,0,0,0,1,0.35,{"$nulls":7},0,0,0,0]
["19:00:00","19:30:00",null,0,0,0,0,0,0,0,0,0,1,0,{"$nulls":7},1,1,1,1]
["19:30:00","20:00:00",null,0,0,0,0,0,0,0,0,0,1,0,{"$nulls":7},1,1,1,1]
["20:00:00","20:30:00",null,{"$f":"IF(D$9=\"non\",IF(OR($A50<$D$527,$B50>$E$527,AND($A50>=$G$527,$B50<=$H$527)),0,1),IF(AND($A50>=$G$527,$B50<=$H$527,$I$527=\"oui\"),1,0))","v":0},0,0,0,0,0,{"$f":"IF(OR($A50<$D$527,$B50>$E$527),0,1)","v":0},0,0,1,0,{"$nulls":7},0,0,0,0]
["20:30:00","21:00:00",null,0,0,0,0,0,0,0,0,0,1,0,{"$nulls":7},0,0,0,0]
["21:00:00","21:30:00",null,0,0,0,0,0,0,0,0,0,1,0,{"$nulls":7},0,0,0,0]
[{"$f":"B52","v":"21:30:00"},{"$f":"B52+0.5/24","v":"22:00:00"},null,0,0,0,0,0,0,0,0,0,1,0,{"$nulls":7},0,0,0,0]
["22:00:00",{"$f":"B53+0.5/24","v":"22:30:00"},null,0,0,0,0,0,0,0,0,0,1,0,{"$nulls":7},1,1,1,1]
["22:30:00","23:00:00",null,0,0,0,0,0,0,0,0,0,1,0,{"$nulls":7},1,1,1,1]
["23:00:00","23:30:00",null,0,0,0,0,0,0,0,0,0,1,0,{"$nulls":7},0,0,0,0]
["23:30:00",1.0000000000000007,null,0,0,0,0,0,0,0,0,0,1,0,{"$nulls":7},0,0,0,0]
[]
[]
[{"$f":"B528","v":"Logement"}]
[]
[{"$nulls":3},"Salon","Salon WE","Chambre","Sanitaires","Passagère","SDB","Autres","24h/24h",{"$nulls":10},"Profil d'apport perso 1","Profil d'apport perso 2","Profil d'apport perso 3","Profil d'apport perso 4"]
["00:00:00","00:30:00",null,0,0,1,1,0,1,1,1,{"$nulls":10},0,0,0,0]
[{"$f":"B63","v":"00:30:00"},{"$f":"B63+0.5/24","v":"01:00:00"},null,0,0,1,1,0,1,1,1,{"$nulls":10},0,0,0,0]
[{"$f":"B64","v":"01:00:00"},{"$f":"B64+0.5/24","v":"01:30:00"},null,0,0,1,1,0,1,1,1,{"$nulls":10},1,1,1,1]
["01:30:00","02:00:00",null,0,0,1,1,0,1,1,1,{"$nulls":10},1,1,1,1]
["02:00:00","02:30:00",null,0,0,1,1,0,1,1,1,{"$nulls":10},0,0,0,0]
["02:30:00","03:00:00",null,0,0,1,1,0,1,1,1,{"$nulls":10},0,0,0,0]
["03:00:00","03:30:00",null,0,0,1,1,0,1,1,1,{"$nulls":10},0,0,0,0]
["03:30:00","04:00:00",null,0,0,1,1,0,1,1,1,{"$nulls":10},0,0,0,0]
["04:00:00","04:30:00",null,0,0,1,1,0,1,1,1,{"$nulls":10},1,1,1,1]
["04:30:00","05:00:00",null,0,0,1,1,0,1,1,1,{"$nulls":10},1,1,1,1]
["05:00:00","05:30:00",null,0,0,1,1,0,1,1,1,{"$nulls":10},0,0,0,0]
["05:30:00","06:00:00",null,0,0,1,1,0,1,1,1,{"$nulls":10},0,0,0,0]
["06:00:00","06:30:00",null,0,0,1,1,0,1,1,1,{"$nulls":10},0,0,0,0]
["06:30:00","07:00:00",null,0,0,1,1,0,1,1,1,{"$nulls":10},0,0,0,0]
["07:00:00","07:30:00",null,0,0,1,1,0,1,1,1,{"$nulls":10},1,1,1,1]
["07:30:00","08:00:00",null,0,0,1,1,0,1,1,1,{"$nulls":10},1,1,1,1]
["08:00:00","08:30:00",null,0,1,0,1,0,1,1,1,{"$nulls":10},0,0,0,0]
["08:30:00","09:00:00",null,0,1,0,1,0,1,1,1,{"$nulls":10},0,0,0,0]
["09:00:00","09:30:00",null,0,1,0,1,0,1,1,1,{"$nulls":10},0,0,0,0]
["09:30:00","10:00:00",null,0,1,0,1,0,1,1,1,{"$nulls":10},0,0,0,0]
["10:00:00","10:30:00",null,0,1,0,1,0,1,1,1,{"$nulls":10},1,1,1,1]
["10:30:00","11:00:00",null,0,1,0,1,0,1,1,1,{"$nulls":10},1,1,1,1]
["11:00:00","11:30:00",null,0,1,0,1,0,1,1,1,{"$nulls":10},0,0,0,0]
["11:30:00","12:00:00",null,0,1,0,1,0,1,1,1,{"$nulls":10},0,0,0,0]
["12:00:00","12:30:00",null,0,1,0,1,0,1,1,1,{"$nulls":10},0,0,0,0]
["12:30:00","13:00:00",null,0,1,0,1,0,1,1,1,{"$nulls":10},0,0,0,0]
["13:00:00","13:30:00",null,0,1,0,1,0,1,1,1,{"$nulls":10},1,1,1,1]
["13:30:00","14:00:00",null,0,1,0,1,0,1,1,1,{"$nulls":10},1,1,1,1]
[{"$f":"B90","v":"14:00:00"},{"$f":"B90+0.5/24","v":"14:30:00"},null,0,1,0,1,0,1,1,1,{"$nulls":10},0,0,0,0]
[{"$f":"B91","v":"14:30:00"},{"$f":"B91+0.5/24","v":"15:00:00"},null,0,1,0,1,0,1,1,1,{"$nulls":10},0,0,0,0]
["15:00:00","15:30:00",null,0,1,0,1,0,1,1,1,{"$nulls":10},0,0,0,0]
["15:30:00","16:00:00",null,0,1,0,1,0,1,1,1,{"$nulls":10},0,0,0,0]
["16:00:00","16:30:00",null,0,1,0,1,0,1,1,1,{"$nulls":10},1,1,1,1]
["16:30:00","17:00:00",null,0,1,0,1,0,1,1,1,{"$nulls":10},1,1,1,1]
["17:00:00","17:30:00",null,0,1,0,1,0,1,1,1,{"$nulls":10},0,0,0,0]
["17:30:00","18:00:00",null,0,1,0,1,0,1,1,1,{"$nulls":10},0,0,0,0]
["18:00:00","18:30:00",null,0,1,0,1,0,1,1,1,{"$nulls":10},0,0,0,0]
["18:30:00","19:00:00",null,0,1,0,1,0,1,1,1,{"$nulls":10},0,0,0,0]
["19:00:00","19:30:00",null,1,1,0,1,0,1,1,1,{"$nulls":10},1,1,1,1]
["19:30:00","20:00:00",null,1,1,0,1,0,1,1,1,{"$nulls":10},1,1,1,1]
["20:00:00","20:30:00",null,1,1,0,1,0,1,1,1,{"$nulls":10},0,0,0,0]
["20:30:00","21:00:00",null,1,1,0,1,0,1,1,1,{"$nulls":10},0,0,0,0]
["21:00:00","21:30:00",null,1,1,0,1,0,1,1,1,{"$nulls":10},0,0,0,0]
[{"$f":"B105","v":"21:30:00"},{"$f":"B105+0.5/24","v":"22:00:00"},null,1,1,0,1,0,1,1,1,{"$nulls":10},0,0,0,0]
[{"$f":"B106","v":"22:00:00"},{"$f":"B106+0.5/24","v":"22:30:00"},null,0,0,1,1,0,1,1,1,{"$nulls":10},1,1,1,1]
["22:30:00","23:00:00",null,0,0,1,1,0,1,1,1,{"$nulls":10},1,1,1,1]
["23:00:00","23:30:00",null,0,0,1,1,0,1,1,1,{"$nulls":10},0,0,0,0]
["23:30:00",1.0000000000000007,null,0,0,1,1,0,1,1,1,{"$nulls":10},0,0,0,0]
[]
[{"$f":"B529","v":"Enseignement"}]
[]
[]
[{"$nulls":3},"Salle de classe","Salle de classe Dortoir","Réfectoire","Cuisine","Bureau","Sanitaires","Passagère","Autres","24h/24h","Foyer","CDI","Tisanerie","Cuisine chaude",{"$nulls":5},"Profil d'apport perso 1","Profil d'apport perso 2","Profil d'apport perso 3","Profil d'apport perso 4"]
["Occupé uniquement pendant la pause",null,null,"non","oui","oui","oui","non","non","non","non","non","non","non","oui","oui","oui","non","non","non","non","non","non","non","non"]
["00:00:00","00:30:00",null,{"$f":"IF(D$116=\"non\",IF(OR($A117<$D$529,$B117>$E$529,AND($A117>=$G$529,$B117<=$H$529)),0,1),IF(AND($A117>=$G$529,$B117<=$H$529,$I$529=\"oui\"),1,0))","v":{"$error":"#N/A"}},{"$error":"#N/A"},{"$error":"#N/A"},{"$error":"#N/A"},{"$error":"#N/A"},{"$f":"IF(OR($A117<$D$529,$B117>$E$529),0,1)","v":{"$error":"#N/A"}},{"$error":"#N/A"},{"$f":"IF(K$116=\"non\",IF(OR($A117<$D$529,$B117>$E$529,AND($A117>=$G$529,$B117<=$H$529)),0,1),IF(AND($A117>=$G$529,$B117<=$H$529,$I$529=\"oui\"),1,0))","v":{"$error":"#N/A"}},1,0,{"$f":"IF(N$116=\"non\",IF(OR($A117<$D$529,$B117>$E$529,AND($A117>=$G$529,$B117<=$H$529)),0,0.5),IF(AND($A117>=$G$529,$B117<=$H$529,$I$529=\"oui\"),0.5,0))","v":{"$error":"#N/A"}},{"$f":"IF(OR($A117<$D$529,$B117>$E$529),0,IF(AND($A117>=$G$529,$B117<=$H$529),1,0.5))","v":{"$error":"#N/A"}},{"$f":"IF(OR($A117<$D$529,$B117>$E$529),0,IF(AND($A117>=$G$529,$B117<=$H$529),1,0.2))","v":{"$error":"#N/A"}},{"$nulls":5},0,0,0,0]
[{"$f":"B117","v":"00:30:00"},{"$f":"B117+0.5/24","v":"01:00:00"},null,{"$error":"#N/A"},{"$error":"#N/A"},{"$error":"#N/A"},{"$error":"#N/A"},{"$error":"#N/A"},{"$error":"#N/A"},{"$error":"#N/A"},{"$error":"#N/A"},1,0,{"$error":"#N/A"},{"$error":"#N/A"},{"$error":"#N/A"},{"$nulls":5},0,0,0,0]
[{"$f":"B118","v":"01:00:00"},{"$f":"B118+0.5/24","v":"01:30:00"},null,{"$error":"#N/A"},{"$error":"#N/A"},{"$error":"#N/A"},{"$error":"#N/A"},{"$error":"#N/A"},{"$error":"#N/A"},{"$error":"#N/A"},{"$error":"#N/A"},1,0,{"$error":"#N/A"},{"$error":"#N/A"},{"$error":"#N/A"},{"$nulls":5},1,1,1,1]
["01:30:00","02:00:00",null,{"$error":"#N/A"},{"$error":"#N/A"},{"$error":"#N/A"},{"$error":"#N/A"},{"$error":"#N/A"},{"$error":"#N/A"},{"$error":"#N/A"},{"$error":"#N/A"},1,0,{"$error":"#N/A"},{"$error":"#N/A"},{"$error":"#N/A"},{"$nulls":5},1,1,1,1]
["02:00:00","02:30:00",null,{"$error":"#N/A"},{"$error":"#N/A"},{"$error":"#N/A"},{"$error":"#N/A"},{"$error":"#N/A"},{"$error":"#N/A"},{"$error":"#N/A"},{"$error":"#N/A"},1,0,{"$error":"#N/A"},{"$error":"#N/A"},{"$error":"#N/A"},{"$nulls":5},0,0,0,0]
["02:30:00","03:00:00",null,{"$error":"#N/A"},{"$error":"#N/A"},{"$error":"#N/A"},{"$error":"#N/A"},{"$error":"#N/A"},{"$error":"#N/A"},{"$error":"#N/A"},{"$error":"#N/A"},1,0,{"$error":"#N/A"},{"$error":"#N/A"},{"$error":"#N/A"},{"$nulls":5},0,0,0,0]
["03:00:00","03:30:00",null,{"$error":"#N/A"},{"$error":"#N/A"},{"$error":"#N/A"},{"$error":"#N/A"},{"$error":"#N/A"},{"$error":"#N/A"},{"$error":"#N/A"},{"$error":"#N/A"},1,0,{"$error":"#N/A"},{"$error":"#N/A"},{"$error":"#N/A"},{"$nulls":5},0,0,0,0]
["03:30:00","04:00:00",null,{"$error":"#N/A"},{"$error":"#N/A"},{"$error":"#N/A"},{"$error":"#N/A"},{"$error":"#N/A"},{"$error":"#N/A"},{"$error":"#N/A"},{"$error":"#N/A"},1,0,{"$error":"#N/A"},{"$error":"#N/A"},{"$error":"#N/A"},{"$nulls":5},0,0,0,0]
["04:00:00","04:30:00",null,{"$error":"#N/A"},{"$error":"#N/A"},{"$error":"#N/A"},{"$error":"#N/A"},{"$error":"#N/A"},{"$error":"#N/A"},{"$error":"#N/A"},{"$error":"#N/A"},1,0,{"$error":"#N/A"},{"$error":"#N/A"},{"$error":"#N/A"},{"$nulls":5},1,1,1,1]
["04:30:00","05:00:00",null,{"$error":"#N/A"},{"$error":"#N/A"},{"$error":"#N/A"},{"$error":"#N/A"},{"$error":"#N/A"},{"$error":"#N/A"},{"$error":"#N/A"},{"$error":"#N/A"},1,0,{"$error":"#N/A"},{"$error":"#N/A"},{"$error":"#N/A"},{"$nulls":5},1,1,1,1]
["05:00:00","05:30:00",null,{"$f":"IF(D$116=\"non\",IF(OR($A127<$D$529,$B127>$E$529,AND($A127>=$G$529,$B127<=$H$529)),0,1),IF(AND($A127>=$G$529,$B127<=$H$529,$I$529=\"oui\"),1,0))","v":{"$error":"#N/A"}},{"$error":"#N/A"},{"$error":"#N/A"},{"$error":"#N/A"},{"$error":"#N/A"},{"$error":"#N/A"},{"$error":"#N/A"},{"$error":"#N/A"},1,0,{"$error":"#N/A"},{"$error":"#N/A"},{"$error":"#N/A"},{"$nulls":5},0,0,0,0]
["05:30:00","06:00:00",null,{"$error":"#N/A"},{"$error":"#N/A"},{"$error":"#N/A"},{"$error":"#N/A"},{"$error":"#N/A"},{"$error":"#N/A"},{"$error":"#N/A"},{"$error":"#N/A"},1,0,{"$error":"#N/A"},{"$error":"#N/A"},{"$error":"#N/A"},{"$nulls":5},0,0,0,0]
["06:00:00","06:30:00",null,{"$error":"#N/A"},{"$error":"#N/A"},{"$error":"#N/A"},{"$error":"#N/A"},{"$error":"#N/A"},{"$error":"#N/A"},{"$error":"#N/A"},{"$error":"#N/A"},1,0,{"$error":"#N/A"},{"$error":"#N/A"},{"$error":"#N/A"},{"$nulls":5},0,0,0,0]
["06:30:00","07:00:00",null,{"$error":"#N/A"},{"$error":"#N/A"},{"$error":"#N/A"},{"$error":"#N/A"},{"$error":"#N/A"},{"$error":"#N/A"},{"$error":"#N/A"},{"$error":"#N/A"},1,0,{"$error":"#N/A"},{"$error":"#N/A"},{"$error":"#N/A"},{"$nulls":5},0,0,0,0]
["07:00:00","07:30:00",null,{"$error":"#N/A"},{"$error":"#N/A"},{"$error":"#N/A"},{"$error":"#N/A"},{"$error":"#N/A"},{"$error":"#N/A"},{"$error":"#N/A"},{"$error":"#N/A"},1,0,{"$error":"#N/A"},{"$error":"#N/A"},{"$error":"#N/A"},{"$nulls":5},1,1,1,1]
["07:30:00","08:00:00",null,{"$error":"#N/A"},{"$error":"#N/A"},{"$error":"#N/A"},{"$error":"#N/A"},{"$error":"#N/A"},{"$error":"#N/A"},{"$error":"#N/A"},{"$error":"#N/A"},1,0,{"$error":"#N/A"},{"$error":"#N/A"},{"$error":"#N/A"},{"$nulls":5},1,1,1,1]
["08:00:00","08:30:00",null,{"$error":"#N/A"},{"$error":"#N/A"},{"$error":"#N/A"},{"$error":"#N/A"},{"$error":"#N/A"},{"$error":"#N/A"},{"$error":"#N/A"},{"$error":"#N/A"},1,0.3,{"$error":"#N/A"},{"$error":"#N/A"},{"$error":"#N/A"},{"$nulls":5},0,0,0,0]
["08:30:00","09:00:00",null,{"$error":"#N/A"},{"$error":"#N/A"},{"$error":"#N/A"},{"$error":"#N/A"},{"$error":"#N/A"},{"$error":"#N/A"},{"$error":"#N/A"},{"$error":"#N/A"},1,0.3,{"$error":"#N/A"},{"$error":"#N/A"},{"$error":"#N/A"},{"$nulls":5},0,0,0,0]
["09:00:00","09:30:00",null,{"$error":"#N/A"},{"$error":"#N/A"},{"$error":"#N/A"},{"$error":"#N/A"},{"$error":"#N/A"},{"$error":"#N/A"},{"$error":"#N/A"},{"$error":"#N/A"},1,0.5,{"$error":"#N/A"},{"$error":"#N/A"},{"$error":"#N/A"},{"$nulls":5},0,0,0,0]
["09:30:00","10:00:00",null,{"$error":"#N/A"},{"$error":"#N/A"},{"$error":"#N/A"},{"$error":"#N/A"},{"$error":"#N/A"},{"$error":"#N/A"},{"$error":"#N/A"},{"$error":"#N/A"},1,0.5,{"$error":"#N/A"},{"$error":"#N/A"},{"$error":"#N/A"},{"$nulls":5},0,0,0,0]
["10:00:00","10:30:00",null,{"$f":"IF(D$116=\"non\",IF(OR($A137<$D$529,$B137>$E$529,AND($A137>=$G$529,$B137<=$H$529)),0,1),IF(AND($A137>=$G$529,$B137<=$H$529,$I$529=\"oui\"),1,0))","v":{"$error":"#N/A"}},{"$error":"#N/A"},{"$error":"#N/A"},{"$error":"#N/A"},{"$error":"#N/A"},{"$f":"IF(OR($A137<$D$529,$B137>$E$529),0,1)","v":{"$error":"#N/A"}},{"$error":"#N/A"},{"$error":"#N/A"},1,0.5,{"$error":"#N/A"},{"$error":"#N/A"},{"$error":"#N/A"},{"$nulls":5},1,1,1,1]
["10:30:00","11:00:00",null,{"$error":"#N/A"},{"$error":"#N/A"},{"$error":"#N/A"},{"$error":"#N/A"},{"$error":"#N/A"},{"$error":"#N/A"},{"$error":"#N/A"},{"$error":"#N/A"},1,0.5,{"$error":"#N/A"},{"$error":"#N/A"},{"$error":"#N/A"},{"$nulls":5},1,1,1,1]
["11:00:00","11:30:00",null,{"$error":"#N/A"},{"$error":"#N/A"},{"$error":"#N/A"},{"$error":"#N/A"},{"$error":"#N/A"},{"$error":"#N/A"},{"$error":"#N/A"},{"$error":"#N/A"},1,0.5,{"$error":"#N/A"},{"$error":"#N/A"},{"$error":"#N/A"},{"$nulls":5},0,0,0,0]
["11:30:00","12:00:00",null,{"$error":"#N/A"},{"$error":"#N/A"},{"$error":"#N/A"},{"$error":"#N/A"},{"$error":"#N/A"},{"$error":"#N/A"},{"$error":"#N/A"},{"$error":"#N/A"},1,0.5,{"$error":"#N/A"},{"$error":"#N/A"},{"$error":"#N/A"},{"$nulls":5},0,0,0,0]
["12:00:00","12:30:00",null,{"$error":"#N/A"},{"$error":"#N/A"},{"$error":"#N/A"},{"$error":"#N/A"},{"$error":"#N/A"},{"$error":"#N/A"},{"$error":"#N/A"},{"$error":"#N/A"},1,1,{"$error":"#N/A"},{"$error":"#N/A"},{"$error":"#N/A"},{"$nulls":5},0,0,0,0]
["12:30:00","13:00:00",null,{"$error":"#N/A"},{"$error":"#N/A"},{"$error":"#N/A"},{"$error":"#N/A"},{"$error":"#N/A"},{"$error":"#N/A"},{"$error":"#N/A"},{"$error":"#N/A"},1,1,{"$error":"#N/A"},{"$error":"#N/A"},{"$error":"#N/A"},{"$nulls":5},0,0,0,0]
["13:00:00","13:30:00",null,{"$error":"#N/A"},{"$error":"#N/A"},{"$error":"#N/A"},{"$error":"#N/A"},{"$error":"#N/A"},{"$error":"#N/A"},{"$error":"#N/A"},{"$error":"#N/A"},1,1,{"$error":"#N/A"},{"$error":"#N/A"},{"$error":"#N/A"},{"$nulls":5},1,1,1,1]
["13:30:00","14:00:00",null,{"$error":"#N/A"},{"$error":"#N/A"},{"$error":"#N/A"},{"$error":"#N/A"},{"$error":"#N/A"},{"$error":"#N/A"},{"$error":"#N/A"},{"$error":"#N/A"},1,1,{"$error":"#N/A"},{"$error":"#N/A"},{"$error":"#N/A"},{"$nulls":5},1,1,1,1]
[{"$f":"B144","v":"14:00:00"},{"$f":"B144+0.5/24","v":"14:30:00"},null,{"$error":"#N/A"},{"$error":"#N/A"},{"$error":"#N/A"},{"$error":"#N/A"},{"$error":"#N/A"},{"$error":"#N/A"},{"$error":"#N/A"},{"$error":"#N/A"},1,0.5,{"$error":"#N/A"},{"$error":"#N/A"},{"$error":"#N/A"},{"$nulls":5},0,0,0,0]
[{"$f":"B145","v":"14:30:00"},{"$f":"B145+0.5/24","v":"15:00:00"},null,{"$error":"#N/A"},{"$error":"#N/A"},{"$error":"#N/A"},{"$error":"#N/A"},{"$error":"#N/A"},{"$error":"#N/A"},{"$error":"#N/A"},{"$error":"#N/A"},1,0.5,{"$error":"#N/A"},{"$error":"#N/A"},{"$error":"#N/A"},{"$nulls":5},0,0,0,0]
["15:00:00","15:30:00",null,{"$f":"IF(D$116=\"non\",IF(OR($A147<$D$529,$B147>$E$529,AND($A147>=$G$529,$B147<=$H$529)),0,1),IF(AND($A147>=$G$529,$B147<=$H$529,$I$529=\"oui\"),1,0))","v":{"$error":"#N/A"}},{"$error":"#N/A"},{"$error":"#N/A"},{"$error":"#N/A"},{"$error":"#N/A"},{"$error":"#N/A"},{"$error":"#N/A"},{"$error":"#N/A"},1,0.5,{"$error":"#N/A"},{"$error":"#N/A"},{"$error":"#N/A"},{"$nulls":5},0,0,0,0]
["15:30:00","16:00:00",null,{"$error":"#N/A"},{"$error":"#N/A"},{"$error":"#N/A"},{"$error":"#N/A"},{"$error":"#N/A"},{"$error":"#N/A"},{"$error":"#N/A"},{"$error":"#N/A"},1,0.5,{"$error":"#N/A"},{"$error":"#N/A"},{"$error":"#N/A"},{"$nulls":5},0,0,0,0]
["16:00:00","16:30:00",null,{"$error":"#N/A"},{"$error":"#N/A"},{"$error":"#N/A"},{"$error":"#N/A"},{"$error":"#N/A"},{"$error":"#N/A"},{"$error":"#N/A"},{"$error":"#N/A"},1,0.3,{"$error":"#N/A"},{"$error":"#N/A"},{"$error":"#N/A"},{"$nulls":5},1,1,1,1]
["16:30:00","17:00:00",null,{"$error":"#N/A"},{"$error":"#N/A"},{"$error":"#N/A"},{"$error":"#N/A"},{"$error":"#N/A"},{"$error":"#N/A"},{"$error":"#N/A"},{"$error":"#N/A"},1,0.3,{"$error":"#N/A"},{"$error":"#N/A"},{"$error":"#N/A"},{"$nulls":5},1,1,1,1]
["17:00:00","17:30:00",null,{"$error":"#N/A"},{"$error":"#N/A"},{"$error":"#N/A"},{"$error":"#N/A"},{"$error":"#N/A"},{"$error":"#N/A"},{"$error":"#N/A"},{"$error":"#N/A"},1,0,{"$error":"#N/A"},{"$error":"#N/A"},{"$error":"#N/A"},{"$nulls":5},0,0,0,0]
["17:30:00","18:00:00",null,{"$error":"#N/A"},{"$error":"#N/A"},{"$error":"#N/A"},{"$error":"#N/A"},{"$error":"#N/A"},{"$error":"#N/A"},{"$error":"#N/A"},{"$error":"#N/A"},1,0,{"$error":"#N/A"},{"$error":"#N/A"},{"$error":"#N/A"},{"$nulls":5},0,0,0,0]
["18:00:00","18:30:00",null,{"$error":"#N/A"},{"$error":"#N/A"},{"$error":"#N/A"},{"$error":"#N/A"},{"$error":"#N/A"},{"$error":"#N/A"},{"$error":"#N/A"},{"$error":"#N/A"},1,0,{"$error":"#N/A"},{"$error":"#N/A"},{"$error":"#N/A"},{"$nulls":5},0,0,0,0]
["18:30:00","19:00:00",null,{"$error":"#N/A"},{"$error":"#N/A"},{"$error":"#N/A"},{"$error":"#N/A"},{"$error":"#N/A"},{"$error":"#N/A"},{"$error":"#N/A"},{"$error":"#N/A"},1,0,{"$error":"#N/A"},{"$error":"#N/A"},{"$error":"#N/A"},{"$nulls":5},0,0,0,0]
["19:00:00","19:30:00",null,{"$error":"#N/A"},{"$error":"#N/A"},{"$error":"#N/A"},{"$error":"#N/A"},{"$error":"#N/A"},{"$error":"#N/A"},{"$error":"#N/A"},{"$error":"#N/A"},1,0,{"$error":"#N/A"},{"$error":"#N/A"},{"$error":"#N/A"},{"$nulls":5},1,1,1,1]
["19:30:00","20:00:00",null,{"$error":"#N/A"},{"$error":"#N/A"},{"$error":"#N/A"},{"$error":"#N/A"},{"$error":"#N/A"},{"$error":"#N/A"},{"$error":"#N/A"},{"$error":"#N/A"},1,0,{"$error":"#N/A"},{"$error":"#N/A"},{"$error":"#N/A"},{"$nulls":5},1,1,1,1]
["20:00:00","20:30:00",null,{"$f":"IF(D$116=\"non\",IF(OR($A157<$D$529,$B157>$E$529,AND($A157>=$G$529,$B157<=$H$529)),0,1),IF(AND($A157>=$G$529,$B157<=$H$529,$I$529=\"oui\"),1,0))","v":{"$error":"#N/A"}},{"$error":"#N/A"},{"$error":"#N/A"},{"$error":"#N/A"},{"$error":"#N/A"},{"$f":"IF(OR($A157<$D$529,$B157>$E$529),0,1)","v":{"$error":"#N/A"}},{"$error":"#N/A"},{"$error":"#N/A"},1,0,{"$error":"#N/A"},{"$error":"#N/A"},{"$error":"#N/A"},{"$nulls":5},0,0,0,0]
["20:30:00","21:00:00",null,{"$error":"#N/A"},{"$error":"#N/A"},{"$error":"#N/A"},{"$error":"#N/A"},{"$error":"#N/A"},{"$error":"#N/A"},{"$error":"#N/A"},{"$error":"#N/A"},1,0,{"$error":"#N/A"},{"$error":"#N/A"},{"$error":"#N/A"},{"$nulls":5},0,0,0,0]
["21:00:00","21:30:00",null,{"$error":"#N/A"},{"$error":"#N/A"},{"$error":"#N/A"},{"$error":"#N/A"},{"$error":"#N/A"},{"$error":"#N/A"},{"$error":"#N/A"},{"$error":"#N/A"},1,0,{"$error":"#N/A"},{"$error":"#N/A"},{"$error":"#N/A"},{"$nulls":5},0,0,0,0]
[{"$f":"B159","v":"21:30:00"},{"$f":"B159+0.5/24","v":"22:00:00"},null,{"$error":"#N/A"},{"$error":"#N/A"},{"$error":"#N/A"},{"$error":"#N/A"},{"$error":"#N/A"},{"$error":"#N/A"},{"$error":"#N/A"},{"$error":"#N/A"},1,0,{"$error":"#N/A"},{"$error":"#N/A"},{"$error":"#N/A"},{"$nulls":5},0,0,0,0]
[{"$f":"B160","v":"22:00:00"},{"$f":"B160+0.5/24","v":"22:30:00"},null,{"$error":"#N/A"},{"$error":"#N/A"},{"$error":"#N/A"},{"$error":"#N/A"},{"$error":"#N/A"},{"$error":"#N/A"},{"$error":"#N/A"},{"$error":"#N/A"},1,0,{"$error":"#N/A"},{"$error":"#N/A"},{"$error":"#N/A"},{"$nulls":5},1,1,1,1]
["22:30:00","23:00:00",null,{"$error":"#N/A"},{"$error":"#N/A"},{"$error":"#N/A"},{"$error":"#N/A"},{"$error":"#N/A"},{"$error":"#N/A"},{"$error":"#N/A"},{"$error":"#N/A"},1,0,{"$error":"#N/A"},{"$error":"#N/A"},{"$error":"#N/A"},{"$nulls":5},1,1,1,1]
["23:00:00","23:30:00",null,{"$error":"#N/A"},{"$error":"#N/A"},{"$error":"#N/A"},{"$error":"#N/A"},{"$error":"#N/A"},{"$error":"#N/A"},{"$error":"#N/A"},{"$error":"#N/A"},1,0,{"$error":"#N/A"},{"$error":"#N/A"},{"$error":"#N/A"},{"$nulls":5},0,0,0,0]
["23:30:00",1.0000000000000007,null,{"$error":"#N/A"},{"$error":"#N/A"},{"$error":"#N/A"},{"$error":"#N/A"},{"$error":"#N/A"},{"$error":"#N/A"},{"$error":"#N/A"},{"$error":"#N/A"},1,0,{"$error":"#N/A"},{"$error":"#N/A"},{"$error":"#N/A"},{"$nulls":5},0,0,0,0]
[]
[{"$f":"B530","v":"Restauration"}]
[]
[]
[{"$nulls":3},"Cuisine","Réfectoire","Locaux de services","Sanitaires","Passagère","Autres","24h/24h",{"$nulls":11},"Profil d'apport perso 1","Profil d'apport perso 2","Profil d'apport perso 3","Profil d'apport perso 4"]
["Occupé uniquement pendant la pause",null,null,"non","non","non","non","non","non","non","non","non","non","non","non","non","non","non","non","non","non","non","non","non","non"]
["00:00:00","00:30:00",null,{"$f":"IF(D$170=\"non\",IF(OR($A171<$D$530,$B171>$E$530,AND($A171>=$G$530,$B171<=$H$530)),0,1),IF(AND($A171>=$G$530,$B171<=$H$530,$I$530=\"oui\"),1,0))","v":{"$error":"#N/A"}},{"$error":"#N/A"},{"$error":"#N/A"},{"$f":"IF(OR($A171<$D$530,$B171>$E$530),0,1)","v":{"$error":"#N/A"}},{"$error":"#N/A"},{"$f":"IF(I$170=\"non\",IF(OR($A171<$D$530,$B171>$E$530,AND($A171>=$G$530,$B171<=$H$530)),0,1),IF(AND($A171>=$G$530,$B171<=$H$530,$I$530=\"oui\"),1,0))","v":{"$error":"#N/A"}},1,{"$nulls":11},0,0,0,0]
[{"$f":"B171","v":"00:30:00"},{"$f":"B171+0.5/24","v":"01:00:00"},null,{"$error":"#N/A"},{"$error":"#N/A"},{"$error":"#N/A"},{"$error":"#N/A"},{"$error":"#N/A"},{"$error":"#N/A"},1,{"$nulls":11},0,0,0,0]
[{"$f":"B172","v":"01:00:00"},{"$f":"B172+0.5/24","v":"01:30:00"},null,{"$error":"#N/A"},{"$error":"#N/A"},{"$error":"#N/A"},{"$error":"#N/A"},{"$error":"#N/A"},{"$error":"#N/A"},1,{"$nulls":11},1,1,1,1]
["01:30:00","02:00:00",null,{"$error":"#N/A"},{"$error":"#N/A"},{"$error":"#N/A"},{"$error":"#N/A"},{"$error":"#N/A"},{"$error":"#N/A"},1,{"$nulls":11},1,1,1,1]
["02:00:00","02:30:00",null,{"$error":"#N/A"},{"$error":"#N/A"},{"$error":"#N/A"},{"$error":"#N/A"},{"$error":"#N/A"},{"$error":"#N/A"},1,{"$nulls":11},0,0,0,0]
["02:30:00","03:00:00",null,{"$error":"#N/A"},{"$error":"#N/A"},{"$error":"#N/A"},{"$error":"#N/A"},{"$error":"#N/A"},{"$error":"#N/A"},1,{"$nulls":11},0,0,0,0]
["03:00:00","03:30:00",null,{"$error":"#N/A"},{"$error":"#N/A"},{"$error":"#N/A"},{"$error":"#N/A"},{"$error":"#N/A"},{"$error":"#N/A"},1,{"$nulls":11},0,0,0,0]
["03:30:00","04:00:00",null,{"$error":"#N/A"},{"$error":"#N/A"},{"$error":"#N/A"},{"$error":"#N/A"},{"$error":"#N/A"},{"$error":"#N/A"},1,{"$nulls":11},0,0,0,0]
["04:00:00","04:30:00",null,{"$error":"#N/A"},{"$error":"#N/A"},{"$error":"#N/A"},{"$error":"#N/A"},{"$error":"#N/A"},{"$error":"#N/A"},1,{"$nulls":11},1,1,1,1]
["04:30:00","05:00:00",null,{"$error":"#N/A"},{"$error":"#N/A"},{"$error":"#N/A"},{"$error":"#N/A"},{"$error":"#N/A"},{"$error":"#N/A"},1,{"$nulls":11},1,1,1,1]
["05:00:00","05:30:00",null,{"$error":"#N/A"},{"$error":"#N/A"},{"$error":"#N/A"},{"$error":"#N/A"},{"$error":"#N/A"},{"$error":"#N/A"},1,{"$nulls":11},0,0,0,0]
["05:30:00","06:00:00",null,{"$error":"#N/A"},{"$error":"#N/A"},{"$error":"#N/A"},{"$error":"#N/A"},{"$error":"#N/A"},{"$error":"#N/A"},1,{"$nulls":11},0,0,0,0]
["06:00:00","06:30:00",null,{"$error":"#N/A"},{"$error":"#N/A"},{"$error":"#N/A"},{"$error":"#N/A"},{"$error":"#N/A"},{"$error":"#N/A"},1,{"$nulls":11},0,0,0,0]
["06:30:00","07:00:00",null,{"$error":"#N/A"},{"$error":"#N/A"},{"$error":"#N/A"},{"$error":"#N/A"},{"$error":"#N/A"},{"$error":"#N/A"},1,{"$nulls":11},0,0,0,0]
["07:00:00","07:30:00",null,{"$error":"#N/A"},{"$error":"#N/A"},{"$error":"#N/A"},{"$error":"#N/A"},{"$error":"#N/A"},{"$error":"#N/A"},1,{"$nulls":11},1,1,1,1]
["07:30:00","08:00:00",null,{"$error":"#N/A"},{"$error":"#N/A"},{"$error":"#N/A"},{"$error":"#N/A"},{"$error":"#N/A"},{"$error":"#N/A"},1,{"$nulls":11},1,1,1,1]
["08:00:00","08:30:00",null,{"$error":"#N/A"},{"$error":"#N/A"},{"$error":"#N/A"},{"$error":"#N/A"},{"$error":"#N/A"},{"$error":"#N/A"},1,{"$nulls":11},0,0,0,0]
["08:30:00","09:00:00",null,{"$error":"#N/A"},{"$error":"#N/A"},{"$error":"#N/A"},{"$error":"#N/A"},{"$error":"#N/A"},{"$error":"#N/A"},1,{"$nulls":11},0,0,0,0]
["09:00:00","09:30:00",null,{"$error":"#N/A"},{"$error":"#N/A"},{"$error":"#N/A"},{"$error":"#N/A"},{"$error":"#N/A"},{"$error":"#N/A"},1,{"$nulls":11},0,0,0,0]
["09:30:00","10:00:00",null,{"$error":"#N/A"},{"$error":"#N/A"},{"$error":"#N/A"},{"$error":"#N/A"},{"$error":"#N/A"},{"$error":"#N/A"},1,{"$nulls":11},0,0,0,0]
["10:00:00","10:30:00",null,{"$f":"IF(D$170=\"non\",IF(OR($A191<$D$530,$B191>$E$530,AND($A191>=$G$530,$B191<=$H$530)),0,1),IF(AND($A191>=$G$530,$B191<=$H$530,$I$530=\"oui\"),1,0))","v":{"$error":"#N/A"}},{"$error":"#N/A"},{"$error":"#N/A"},{"$f":"IF(OR($A191<$D$530,$B191>$E$530),0,1)","v":{"$error":"#N/A"}},{"$error":"#N/A"},{"$error":"#N/A"},1,{"$nulls":11},1,1,1,1]
["10:30:00","11:00:00",null,{"$error":"#N/A"},{"$error":"#N/A"},{"$error":"#N/A"},{"$error":"#N/A"},{"$error":"#N/A"},{"$error":"#N/A"},1,{"$nulls":11},1,1,1,1]
["11:00:00","11:30:00",null,{"$error":"#N/A"},{"$error":"#N/A"},{"$error":"#N/A"},{"$error":"#N/A"},{"$error":"#N/A"},{"$error":"#N/A"},1,{"$nulls":11},0,0,0,0]
["11:30:00","12:00:00",null,{"$error":"#N/A"},{"$error":"#N/A"},{"$error":"#N/A"},{"$error":"#N/A"},{"$error":"#N/A"},{"$error":"#N/A"},1,{"$nulls":11},0,0,0,0]
["12:00:00","12:30:00",null,{"$error":"#N/A"},{"$error":"#N/A"},{"$error":"#N/A"},{"$error":"#N/A"},{"$error":"#N/A"},{"$error":"#N/A"},1,{"$nulls":11},0,0,0,0]
["12:30:00","13:00:00",null,{"$error":"#N/A"},{"$error":"#N/A"},{"$error":"#N/A"},{"$error":"#N/A"},{"$error":"#N/A"},{"$error":"#N/A"},1,{"$nulls":11},0,0,0,0]
["13:00:00","13:30:00",null,{"$error":"#N/A"},{"$error":"#N/A"},{"$error":"#N/A"},{"$error":"#N/A"},{"$error":"#N/A"},{"$error":"#N/A"},1,{"$nulls":11},1,1,1,1]
["13:30:00","14:00:00",null,{"$error":"#N/A"},{"$error":"#N/A"},{"$error":"#N/A"},{"$error":"#N/A"},{"$error":"#N/A"},{"$error":"#N/A"},1,{"$nulls":11},1,1,1,1]
[{"$f":"B198","v":"14:00:00"},{"$f":"B198+0.5/24","v":"14:30:00"},null,{"$error":"#N/A"},{"$error":"#N/A"},{"$error":"#N/A"},{"$error":"#N/A"},{"$error":"#N/A"},{"$error":"#N/A"},1,{"$nulls":11},0,0,0,0]
[{"$f":"B199","v":"14:30:00"},{"$f":"B199+0.5/24","v":"15:00:00"},null,{"$error":"#N/A"},{"$error":"#N/A"},{"$error":"#N/A"},{"$error":"#N/A"},{"$error":"#N/A"},{"$error":"#N/A"},1,{"$nulls":11},0,0,0,0]
["15:00:00","15:30:00",null,{"$error":"#N/A"},{"$error":"#N/A"},{"$error":"#N/A"},{"$error":"#N/A"},{"$error":"#N/A"},{"$error":"#N/A"},1,{"$nulls":11},0,0,0,0]
["15:30:00","16:00:00",null,{"$error":"#N/A"},{"$error":"#N/A"},{"$error":"#N/A"},{"$error":"#N/A"},{"$error":"#N/A"},{"$error":"#N/A"},1,{"$nulls":11},0,0,0,0]
["16:00:00","16:30:00",null,{"$error":"#N/A"},{"$error":"#N/A"},{"$error":"#N/A"},{"$error":"#N/A"},{"$error":"#N/A"},{"$error":"#N/A"},1,{"$nulls":11},1,1,1,1]
["16:30:00","17:00:00",null,{"$error":"#N/A"},{"$error":"#N/A"},{"$error":"#N/A"},{"$error":"#N/A"},{"$error":"#N/A"},{"$error":"#N/A"},1,{"$nulls":11},1,1,1,1]
["17:00:00","17:30:00",null,{"$error":"#N/A"},{"$error":"#N/A"},{"$error":"#N/A"},{"$error":"#N/A"},{"$error":"#N/A"},{"$error":"#N/A"},1,{"$nulls":11},0,0,0,0]
["17:30:00","18:00:00",null,{"$error":"#N/A"},{"$error":"#N/A"},{"$error":"#N/A"},{"$error":"#N/A"},{"$error":"#N/A"},{"$error":"#N/A"},1,{"$nulls":11},0,0,0,0]
["18:00:00","18:30:00",null,{"$error":"#N/A"},{"$error":"#N/A"},{"$error":"#N/A"},{"$error":"#N/A"},{"$error":"#N/A"},{"$error":"#N/A"},1,{"$nulls":11},0,0,0,0]
["18:30:00","19:00:00",null,{"$error":"#N/A"},{"$error":"#N/A"},{"$error":"#N/A"},{"$error":"#N/A"},{"$error":"#N/A"},{"$error":"#N/A"},1,{"$nulls":11},0,0,0,0]
["19:00:00","19:30:00",null,{"$error":"#N/A"},{"$error":"#N/A"},{"$error":"#N/A"},{"$error":"#N/A"},{"$error":"#N/A"},{"$error":"#N/A"},1,{"$nulls":11},1,1,1,1]
["19:30:00","20:00:00",null,{"$error":"#N/A"},{"$error":"#N/A"},{"$error":"#N/A"},{"$error":"#N/A"},{"$error":"#N/A"},{"$error":"#N/A"},1,{"$nulls":11},1,1,1,1]
["20:00:00","20:30:00",null,{"$f":"IF(D$170=\"non\",IF(OR($A211<$D$530,$B211>$E$530,AND($A211>=$G$530,$B211<=$H$530)),0,1),IF(AND($A211>=$G$530,$B211<=$H$530,$I$530=\"oui\"),1,0))","v":{"$error":"#N/A"}},{"$error":"#N/A"},{"$error":"#N/A"},{"$f":"IF(OR($A211<$D$530,$B211>$E$530),0,1)","v":{"$error":"#N/A"}},{"$error":"#N/A"},{"$error":"#N/A"},1,{"$nulls":11},0,0,0,0]
["20:30:00","21:00:00",null,{"$error":"#N/A"},{"$error":"#N/A"},{"$error":"#N/A"},{"$error":"#N/A"},{"$error":"#N/A"},{"$error":"#N/A"},1,{"$nulls":11},0,0,0,0]
["21:00:00","21:30:00",null,{"$error":"#N/A"},{"$error":"#N/A"},{"$error":"#N/A"},{"$error":"#N/A"},{"$error":"#N/A"},{"$error":"#N/A"},1,{"$nulls":11},0,0,0,0]
[{"$f":"B213","v":"21:30:00"},{"$f":"B213+0.5/24","v":"22:00:00"},null,{"$error":"#N/A"},{"$error":"#N/A"},{"$error":"#N/A"},{"$error":"#N/A"},{"$error":"#N/A"},{"$error":"#N/A"},1,{"$nulls":11},0,0,0,0]
[{"$f":"B214","v":"22:00:00"},{"$f":"B214+0.5/24","v":"22:30:00"},null,{"$error":"#N/A"},{"$error":"#N/A"},{"$error":"#N/A"},{"$error":"#N/A"},{"$error":"#N/A"},{"$error":"#N/A"},1,{"$nulls":11},1,1,1,1]
["22:30:00","23:00:00",null,{"$error":"#N/A"},{"$error":"#N/A"},{"$error":"#N/A"},{"$error":"#N/A"},{"$error":"#N/A"},{"$error":"#N/A"},1,{"$nulls":11},1,1,1,1]
["23:00:00","23:30:00",null,{"$error":"#N/A"},{"$error":"#N/A"},{"$error":"#N/A"},{"$error":"#N/A"},{"$error":"#N/A"},{"$error":"#N/A"},1,{"$nulls":11},0,0,0,0]
["23:30:00",1.0000000000000007,null,{"$error":"#N/A"},{"$error":"#N/A"},{"$error":"#N/A"},{"$error":"#N/A"},{"$error":"#N/A"},{"$error":"#N/A"},1,{"$nulls":11},0,0,0,0]
[]
[{"$f":"B531","v":"Commerces"}]
[]
[]
[]
[{"$nulls":3},"Aire de vente","Bureau","Sanitaires","Passagère","Autres","24h/24h",{"$nulls":12},"Profil d'apport perso 1","Profil d'apport perso 2","Profil d'apport perso 3","Profil d'apport perso 4"]
["Occupé uniquement pendant la pause",null,null,"non","non","non","non","non","non","non","non","non","non","non","non","non","non","non","non","non","non","non","non","non","non"]
["00:00:00","00:30:00",null,{"$f":"IF(D$225=\"non\",IF(OR($A226<$D$531,$B226>$E$531,AND($A226>=$G$531,$B226<=$H$531)),0,1),IF(AND($A226>=$G$531,$B226<=$H$531,$I$531=\"oui\"),1,0))","v":{"$error":"#N/A"}},{"$error":"#N/A"},{"$f":"IF(OR($A226<$D$531,$B226>$E$531),0,1)","v":{"$error":"#N/A"}},{"$error":"#N/A"},{"$f":"IF(H$225=\"non\",IF(OR($A226<$D$531,$B226>$E$531,AND($A226>=$G$531,$B226<=$H$531)),0,1),IF(AND($A226>=$G$531,$B226<=$H$531,$I$531=\"oui\"),1,0))","v":{"$error":"#N/A"}},1,{"$nulls":12},0,0,0,0]
[{"$f":"B226","v":"00:30:00"},{"$f":"B226+0.5/24","v":"01:00:00"},null,{"$error":"#N/A"},{"$error":"#N/A"},{"$error":"#N/A"},{"$error":"#N/A"},{"$error":"#N/A"},1,{"$nulls":12},0,0,0,0]
[{"$f":"B227","v":"01:00:00"},{"$f":"B227+0.5/24","v":"01:30:00"},null,{"$error":"#N/A"},{"$error":"#N/A"},{"$error":"#N/A"},{"$error":"#N/A"},{"$error":"#N/A"},1,{"$nulls":12},1,1,1,1]
["01:30:00","02:00:00",null,{"$error":"#N/A"},{"$error":"#N/A"},{"$error":"#N/A"},{"$error":"#N/A"},{"$error":"#N/A"},1,{"$nulls":12},1,1,1,1]
["02:00:00","02:30:00",null,{"$error":"#N/A"},{"$error":"#N/A"},{"$error":"#N/A"},{"$error":"#N/A"},{"$error":"#N/A"},1,{"$nulls":12},0,0,0,0]
["02:30:00","03:00:00",null,{"$error":"#N/A"},{"$error":"#N/A"},{"$error":"#N/A"},{"$error":"#N/A"},{"$error":"#N/A"},1,{"$nulls":12},0,0,0,0]
["03:00:00","03:30:00",null,{"$error":"#N/A"},{"$error":"#N/A"},{"$error":"#N/A"},{"$error":"#N/A"},{"$error":"#N/A"},1,{"$nulls":12},0,0,0,0]
["03:30:00","04:00:00",null,{"$error":"#N/A"},{"$error":"#N/A"},{"$error":"#N/A"},{"$error":"#N/A"},{"$error":"#N/A"},1,{"$nulls":12},0,0,0,0]
["04:00:00","04:30:00",null,{"$error":"#N/A"},{"$error":"#N/A"},{"$error":"#N/A"},{"$error":"#N/A"},{"$error":"#N/A"},1,{"$nulls":12},1,1,1,1]
["04:30:00","05:00:00",null,{"$error":"#N/A"},{"$error":"#N/A"},{"$error":"#N/A"},{"$error":"#N/A"},{"$error":"#N/A"},1,{"$nulls":12},1,1,1,1]
["05:00:00","05:30:00",null,{"$error":"#N/A"},{"$error":"#N/A"},{"$error":"#N/A"},{"$error":"#N/A"},{"$error":"#N/A"},1,{"$nulls":12},0,0,0,0]
["05:30:00","06:00:00",null,{"$error":"#N/A"},{"$error":"#N/A"},{"$error":"#N/A"},{"$error":"#N/A"},{"$error":"#N/A"},1,{"$nulls":12},0,0,0,0]
["06:00:00","06:30:00",null,{"$error":"#N/A"},{"$error":"#N/A"},{"$error":"#N/A"},{"$error":"#N/A"},{"$error":"#N/A"},1,{"$nulls":12},0,0,0,0]
["06:30:00","07:00:00",null,{"$error":"#N/A"},{"$error":"#N/A"},{"$error":"#N/A"},{"$error":"#N/A"},{"$error":"#N/A"},1,{"$nulls":12},0,0,0,0]
["07:00:00","07:30:00",null,{"$error":"#N/A"},{"$error":"#N/A"},{"$error":"#N/A"},{"$error":"#N/A"},{"$error":"#N/A"},1,{"$nulls":12},1,1,1,1]
["07:30:00","08:00:00",null,{"$error":"#N/A"},{"$error":"#N/A"},{"$error":"#N/A"},{"$error":"#N/A"},{"$error":"#N/A"},1,{"$nulls":12},1,1,1,1]
["08:00:00","08:30:00",null,{"$error":"#N/A"},{"$error":"#N/A"},{"$error":"#N/A"},{"$error":"#N/A"},{"$error":"#N/A"},1,{"$nulls":12},0,0,0,0]
["08:30:00","09:00:00",null,{"$error":"#N/A"},{"$error":"#N/A"},{"$error":"#N/A"},{"$error":"#N/A"},{"$error":"#N/A"},1,{"$nulls":12},0,0,0,0]
["09:00:00","09:30:00",null,{"$error":"#N/A"},{"$error":"#N/A"},{"$error":"#N/A"},{"$error":"#N/A"},{"$error":"#N/A"},1,{"$nulls":12},0,0,0,0]
["09:30:00","10:00:00",null,{"$error":"#N/A"},{"$error":"#N/A"},{"$error":"#N/A"},{"$error":"#N/A"},{"$error":"#N/A"},1,{"$nulls":12},0,0,0,0]
["10:00:00","10:30:00",null,{"$f":"IF(D$225=\"non\",IF(OR($A246<$D$531,$B246>$E$531,AND($A246>=$G$531,$B246<=$H$531)),0,1),IF(AND($A246>=$G$531,$B246<=$H$531,$I$531=\"oui\"),1,0))","v":{"$error":"#N/A"}},{"$error":"#N/A"},{"$f":"IF(OR($A246<$D$531,$B246>$E$531),0,1)","v":{"$error":"#N/A"}},{"$error":"#N/A"},{"$error":"#N/A"},1,{"$nulls":12},1,1,1,1]
["10:30:00","11:00:00",null,{"$error":"#N/A"},{"$error":"#N/A"},{"$error":"#N/A"},{"$error":"#N/A"},{"$error":"#N/A"},1,{"$nulls":12},1,1,1,1]
["11:00:00","11:30:00",null,{"$error":"#N/A"},{"$error":"#N/A"},{"$error":"#N/A"},{"$error":"#N/A"},{"$error":"#N/A"},1,{"$nulls":12},0,0,0,0]
["11:30:00","12:00:00",null,{"$error":"#N/A"},{"$error":"#N/A"},{"$error":"#N/A"},{"$error":"#N/A"},{"$error":"#N/A"},1,{"$nulls":12},0,0,0,0]
["12:00:00","12:30:00",null,{"$error":"#N/A"},{"$error":"#N/A"},{"$error":"#N/A"},{"$error":"#N/A"},{"$error":"#N/A"},1,{"$nulls":12},0,0,0,0]
["12:30:00","13:00:00",null,{"$error":"#N/A"},{"$error":"#N/A"},{"$error":"#N/A"},{"$error":"#N/A"},{"$error":"#N/A"},1,{"$nulls":12},0,0,0,0]
["13:00:00","13:30:00",null,{"$error":"#N/A"},{"$error":"#N/A"},{"$error":"#N/A"},{"$error":"#N/A"},{"$error":"#N/A"},1,{"$nulls":12},1,1,1,1]
["13:30:00","14:00:00",null,{"$error":"#N/A"},{"$error":"#N/A"},{"$error":"#N/A"},{"$error":"#N/A"},{"$error":"#N/A"},1,{"$nulls":12},1,1,1,1]
[{"$f":"B253","v":"14:00:00"},{"$f":"B253+0.5/24","v":"14:30:00"},null,{"$error":"#N/A"},{"$error":"#N/A"},{"$error":"#N/A"},{"$error":"#N/A"},{"$error":"#N/A"},1,{"$nulls":12},0,0,0,0]
[{"$f":"B254","v":"14:30:00"},{"$f":"B254+0.5/24","v":"15:00:00"},null,{"$error":"#N/A"},{"$error":"#N/A"},{"$error":"#N/A"},{"$error":"#N/A"},{"$error":"#N/A"},1,{"$nulls":12},0,0,0,0]
["15:00:00","15:30:00",null,{"$error":"#N/A"},{"$error":"#N/A"},{"$error":"#N/A"},{"$error":"#N/A"},{"$error":"#N/A"},1,{"$nulls":12},0,0,0,0]
["15:30:00","16:00:00",null,{"$error":"#N/A"},{"$error":"#N/A"},{"$error":"#N/A"},{"$error":"#N/A"},{"$error":"#N/A"},1,{"$nulls":12},0,0,0,0]
["16:00:00","16:30:00",null,{"$error":"#N/A"},{"$error":"#N/A"},{"$error":"#N/A"},{"$error":"#N/A"},{"$error":"#N/A"},1,{"$nulls":12},1,1,1,1]
["16:30:00","17:00:00",null,{"$error":"#N/A"},{"$error":"#N/A"},{"$error":"#N/A"},{"$error":"#N/A"},{"$error":"#N/A"},1,{"$nulls":12},1,1,1,1]
["17:00:00","17:30:00",null,{"$error":"#N/A"},{"$error":"#N/A"},{"$error":"#N/A"},{"$error":"#N/A"},{"$error":"#N/A"},1,{"$nulls":12},0,0,0,0]
["17:30:00","18:00:00",null,{"$error":"#N/A"},{"$error":"#N/A"},{"$error":"#N/A"},{"$error":"#N/A"},{"$error":"#N/A"},1,{"$nulls":12},0,0,0,0]
["18:00:00","18:30:00",null,{"$error":"#N/A"},{"$error":"#N/A"},{"$error":"#N/A"},{"$error":"#N/A"},{"$error":"#N/A"},1,{"$nulls":12},0,0,0,0]
["18:30:00","19:00:00",null,{"$error":"#N/A"},{"$error":"#N/A"},{"$error":"#N/A"},{"$error":"#N/A"},{"$error":"#N/A"},1,{"$nulls":12},0,0,0,0]
["19:00:00","19:30:00",null,{"$error":"#N/A"},{"$error":"#N/A"},{"$error":"#N/A"},{"$error":"#N/A"},{"$error":"#N/A"},1,{"$nulls":12},1,1,1,1]
["19:30:00","20:00:00",null,{"$error":"#N/A"},{"$error":"#N/A"},{"$error":"#N/A"},{"$error":"#N/A"},{"$error":"#N/A"},1,{"$nulls":12},1,1,1,1]
["20:00:00","20:30:00",null,{"$f":"IF(D$225=\"non\",IF(OR($A266<$D$531,$B266>$E$531,AND($A266>=$G$531,$B266<=$H$531)),0,1),IF(AND($A266>=$G$531,$B266<=$H$531,$I$531=\"oui\"),1,0))","v":{"$error":"#N/A"}},{"$error":"#N/A"},{"$f":"IF(OR($A266<$D$531,$B266>$E$531),0,1)","v":{"$error":"#N/A"}},{"$error":"#N/A"},{"$error":"#N/A"},1,{"$nulls":12},0,0,0,0]
["20:30:00","21:00:00",null,{"$error":"#N/A"},{"$error":"#N/A"},{"$error":"#N/A"},{"$error":"#N/A"},{"$error":"#N/A"},1,{"$nulls":12},0,0,0,0]
["21:00:00","21:30:00",null,{"$error":"#N/A"},{"$error":"#N/A"},{"$error":"#N/A"},{"$error":"#N/A"},{"$error":"#N/A"},1,{"$nulls":12},0,0,0,0]
[{"$f":"B268","v":"21:30:00"},{"$f":"B268+0.5/24","v":"22:00:00"},null,{"$error":"#N/A"},{"$error":"#N/A"},{"$error":"#N/A"},{"$error":"#N/A"},{"$error":"#N/A"},1,{"$nulls":12},0,0,0,0]
[{"$f":"B269","v":"22:00:00"},{"$f":"B269+0.5/24","v":"22:30:00"},null,{"$error":"#N/A"},{"$error":"#N/A"},{"$error":"#N/A"},{"$error":"#N/A"},{"$error":"#N/A"},1,{"$nulls":12},1,1,1,1]
["22:30:00","23:00:00",null,{"$error":"#N/A"},{"$error":"#N/A"},{"$error":"#N/A"},{"$error":"#N/A"},{"$error":"#N/A"},1,{"$nulls":12},1,1,1,1]
["23:00:00","23:30:00",null,{"$error":"#N/A"},{"$error":"#N/A"},{"$error":"#N/A"},{"$error":"#N/A"},{"$error":"#N/A"},1,{"$nulls":12},0,0,0,0]
["23:30:00",1.0000000000000007,null,{"$error":"#N/A"},{"$error":"#N/A"},{"$error":"#N/A"},{"$error":"#N/A"},{"$error":"#N/A"},1,{"$nulls":12},0,0,0,0]
[]
[]
[]
[]
[{"$f":"B532","v":"Autres"}]
[]
[{"$nulls":3},"Hotel","Sport","Hopital","Transport","Industrie","Tribunal","Sanitaires","Passagère","Autres","24h/24h",{"$nulls":8},"Profil d'apport perso 1","Profil d'apport perso 2","Profil d'apport perso 3","Profil d'apport perso 4"]
["Occupé uniquement pendant la pause",null,null,"non","non","non","non","non","non","non","non","non","non","non","non","non","non","non","non","non","non","non","non","non","non"]
["00:00:00","00:30:00",null,{"$f":"IF(D$281=\"non\",IF(OR($A282<$D$532,$B282>$E$532,AND($A282>=$G$532,$B282<=$H$532)),0,1),IF(AND($A282>=$G$532,$B282<=$H$532,$I$532=\"oui\"),1,0))","v":{"$error":"#N/A"}},{"$error":"#N/A"},{"$error":"#N/A"},{"$error":"#N/A"},{"$error":"#N/A"},{"$error":"#N/A"},{"$f":"IF(OR($A282<$D$532,$B282>$E$532),0,1)","v":{"$error":"#N/A"}},{"$error":"#N/A"},{"$f":"IF(L$281=\"non\",IF(OR($A282<$D$532,$B282>$E$532,AND($A282>=$G$532,$B282<=$H$532)),0,1),IF(AND($A282>=$G$532,$B282<=$H$532,$I$532=\"oui\"),1,0))","v":{"$error":"#N/A"}},1,{"$nulls":8},0,0,0,0]
[{"$f":"B282","v":"00:30:00"},{"$f":"B282+0.5/24","v":"01:00:00"},null,{"$error":"#N/A"},{"$error":"#N/A"},{"$error":"#N/A"},{"$error":"#N/A"},{"$error":"#N/A"},{"$error":"#N/A"},{"$error":"#N/A"},{"$error":"#N/A"},{"$error":"#N/A"},1,{"$nulls":8},0,0,0,0]
[{"$f":"B283","v":"01:00:00"},{"$f":"B283+0.5/24","v":"01:30:00"},null,{"$error":"#N/A"},{"$error":"#N/A"},{"$error":"#N/A"},{"$error":"#N/A"},{"$error":"#N/A"},{"$error":"#N/A"},{"$error":"#N/A"},{"$error":"#N/A"},{"$error":"#N/A"},1,{"$nulls":8},1,1,1,1]
["01:30:00","02:00:00",null,{"$error":"#N/A"},{"$error":"#N/A"},{"$error":"#N/A"},{"$error":"#N/A"},{"$error":"#N/A"},{"$error":"#N/A"},{"$error":"#N/A"},{"$error":"#N/A"},{"$error":"#N/A"},1,{"$nulls":8},1,1,1,1]
["02:00:00","02:30:00",null,{"$error":"#N/A"},{"$error":"#N/A"},{"$error":"#N/A"},{"$error":"#N/A"},{"$error":"#N/A"},{"$error":"#N/A"},{"$error":"#N/A"},{"$error":"#N/A"},{"$error":"#N/A"},1,{"$nulls":8},0,0,0,0]
["02:30:00","03:00:00",null,{"$error":"#N/A"},{"$error":"#N/A"},{"$error":"#N/A"},{"$error":"#N/A"},{"$error":"#N/A"},{"$error":"#N/A"},{"$error":"#N/A"},{"$error":"#N/A"},{"$error":"#N/A"},1,{"$nulls":8},0,0,0,0]
["03:00:00","03:30:00",null,{"$error":"#N/A"},{"$error":"#N/A"},{"$error":"#N/A"},{"$error":"#N/A"},{"$error":"#N/A"},{"$error":"#N/A"},{"$error":"#N/A"},{"$error":"#N/A"},{"$error":"#N/A"},1,{"$nulls":8},0,0,0,0]
["03:30:00","04:00:00",null,{"$error":"#N/A"},{"$error":"#N/A"},{"$error":"#N/A"},{"$error":"#N/A"},{"$error":"#N/A"},{"$error":"#N/A"},{"$error":"#N/A"},{"$error":"#N/A"},{"$error":"#N/A"},1,{"$nulls":8},0,0,0,0]
["04:00:00","04:30:00",null,{"$error":"#N/A"},{"$error":"#N/A"},{"$error":"#N/A"},{"$error":"#N/A"},{"$error":"#N/A"},{"$error":"#N/A"},{"$error":"#N/A"},{"$error":"#N/A"},{"$error":"#N/A"},1,{"$nulls":8},1,1,1,1]
["04:30:00","05:00:00",null,{"$error":"#N/A"},{"$error":"#N/A"},{"$error":"#N/A"},{"$error":"#N/A"},{"$error":"#N/A"},{"$error":"#N/A"},{"$error":"#N/A"},{"$error":"#N/A"},{"$error":"#N/A"},1,{"$nulls":8},1,1,1,1]
["05:00:00","05:30:00",null,{"$f":"IF(D$281=\"non\",IF(OR($A292<$D$532,$B292>$E$532,AND($A292>=$G$532,$B292<=$H$532)),0,1),IF(AND($A292>=$G$532,$B292<=$H$532,$I$532=\"oui\"),1,0))","v":{"$error":"#N/A"}},{"$error":"#N/A"},{"$error":"#N/A"},{"$error":"#N/A"},{"$error":"#N/A"},{"$error":"#N/A"},{"$error":"#N/A"},{"$error":"#N/A"},{"$error":"#N/A"},1,{"$nulls":8},0,0,0,0]
["05:30:00","06:00:00",null,{"$error":"#N/A"},{"$error":"#N/A"},{"$error":"#N/A"},{"$error":"#N/A"},{"$error":"#N/A"},{"$error":"#N/A"},{"$error":"#N/A"},{"$error":"#N/A"},{"$error":"#N/A"},1,{"$nulls":8},0,0,0,0]
["06:00:00","06:30:00",null,{"$error":"#N/A"},{"$error":"#N/A"},{"$error":"#N/A"},{"$error":"#N/A"},{"$error":"#N/A"},{"$error":"#N/A"},{"$error":"#N/A"},{"$error":"#N/A"},{"$error":"#N/A"},1,{"$nulls":8},0,0,0,0]
["06:30:00","07:00:00",null,{"$error":"#N/A"},{"$error":"#N/A"},{"$error":"#N/A"},{"$error":"#N/A"},{"$error":"#N/A"},{"$error":"#N/A"},{"$error":"#N/A"},{"$error":"#N/A"},{"$error":"#N/A"},1,{"$nulls":8},0,0,0,0]
["07:00:00","07:30:00",null,{"$error":"#N/A"},{"$error":"#N/A"},{"$error":"#N/A"},{"$error":"#N/A"},{"$error":"#N/A"},{"$error":"#N/A"},{"$error":"#N/A"},{"$error":"#N/A"},{"$error":"#N/A"},1,{"$nulls":8},1,1,1,1]
["07:30:00","08:00:00",null,{"$error":"#N/A"},{"$error":"#N/A"},{"$error":"#N/A"},{"$error":"#N/A"},{"$error":"#N/A"},{"$error":"#N/A"},{"$error":"#N/A"},{"$error":"#N/A"},{"$error":"#N/A"},1,{"$nulls":8},1,1,1,1]
["08:00:00","08:30:00",null,{"$error":"#N/A"},{"$error":"#N/A"},{"$error":"#N/A"},{"$error":"#N/A"},{"$error":"#N/A"},{"$error":"#N/A"},{"$error":"#N/A"},{"$error":"#N/A"},{"$error":"#N/A"},1,{"$nulls":8},0,0,0,0]
["08:30:00","09:00:00",null,{"$error":"#N/A"},{"$error":"#N/A"},{"$error":"#N/A"},{"$error":"#N/A"},{"$error":"#N/A"},{"$error":"#N/A"},{"$error":"#N/A"},{"$error":"#N/A"},{"$error":"#N/A"},1,{"$nulls":8},0,0,0,0]
["09:00:00","09:30:00",null,{"$error":"#N/A"},{"$error":"#N/A"},{"$error":"#N/A"},{"$error":"#N/A"},{"$error":"#N/A"},{"$error":"#N/A"},{"$error":"#N/A"},{"$error":"#N/A"},{"$error":"#N/A"},1,{"$nulls":8},0,0,0,0]
["09:30:00","10:00:00",null,{"$error":"#N/A"},{"$error":"#N/A"},{"$error":"#N/A"},{"$error":"#N/A"},{"$error":"#N/A"},{"$error":"#N/A"},{"$error":"#N/A"},{"$error":"#N/A"},{"$error":"#N/A"},1,{"$nulls":8},0,0,0,0]
["10:00:00","10:30:00",null,{"$f":"IF(D$281=\"non\",IF(OR($A302<$D$532,$B302>$E$532,AND($A302>=$G$532,$B302<=$H$532)),0,1),IF(AND($A302>=$G$532,$B302<=$H$532,$I$532=\"oui\"),1,0))","v":{"$error":"#N/A"}},{"$error":"#N/A"},{"$error":"#N/A"},{"$error":"#N/A"},{"$error":"#N/A"},{"$error":"#N/A"},{"$f":"IF(OR($A302<$D$532,$B302>$E$532),0,1)","v":{"$error":"#N/A"}},{"$error":"#N/A"},{"$error":"#N/A"},1,{"$nulls":8},1,1,1,1]
["10:30:00","11:00:00",null,{"$error":"#N/A"},{"$error":"#N/A"},{"$error":"#N/A"},{"$error":"#N/A"},{"$error":"#N/A"},{"$error":"#N/A"},{"$error":"#N/A"},{"$error":"#N/A"},{"$error":"#N/A"},1,{"$nulls":8},1,1,1,1]
["11:00:00","11:30:00",null,{"$error":"#N/A"},{"$error":"#N/A"},{"$error":"#N/A"},{"$error":"#N/A"},{"$error":"#N/A"},{"$error":"#N/A"},{"$error":"#N/A"},{"$error":"#N/A"},{"$error":"#N/A"},1,{"$nulls":8},0,0,0,0]
["11:30:00","12:00:00",null,{"$error":"#N/A"},{"$error":"#N/A"},{"$error":"#N/A"},{"$error":"#N/A"},{"$error":"#N/A"},{"$error":"#N/A"},{"$error":"#N/A"},{"$error":"#N/A"},{"$error":"#N/A"},1,{"$nulls":8},0,0,0,0]
["12:00:00","12:30:00",null,{"$error":"#N/A"},{"$error":"#N/A"},{"$error":"#N/A"},{"$error":"#N/A"},{"$error":"#N/A"},{"$error":"#N/A"},{"$error":"#N/A"},{"$error":"#N/A"},{"$error":"#N/A"},1,{"$nulls":8},0,0,0,0]
["12:30:00","13:00:00",null,{"$error":"#N/A"},{"$error":"#N/A"},{"$error":"#N/A"},{"$error":"#N/A"},{"$error":"#N/A"},{"$error":"#N/A"},{"$error":"#N/A"},{"$error":"#N/A"},{"$error":"#N/A"},1,{"$nulls":8},0,0,0,0]
["13:00:00","13:30:00",null,{"$error":"#N/A"},{"$error":"#N/A"},{"$error":"#N/A"},{"$error":"#N/A"},{"$error":"#N/A"},{"$error":"#N/A"},{"$error":"#N/A"},{"$error":"#N/A"},{"$error":"#N/A"},1,{"$nulls":8},1,1,1,1]
["13:30:00","14:00:00",null,{"$error":"#N/A"},{"$error":"#N/A"},{"$error":"#N/A"},{"$error":"#N/A"},{"$error":"#N/A"},{"$error":"#N/A"},{"$error":"#N/A"},{"$error":"#N/A"},{"$error":"#N/A"},1,{"$nulls":8},1,1,1,1]
[{"$f":"B309","v":"14:00:00"},{"$f":"B309+0.5/24","v":"14:30:00"},null,{"$error":"#N/A"},{"$error":"#N/A"},{"$error":"#N/A"},{"$error":"#N/A"},{"$error":"#N/A"},{"$error":"#N/A"},{"$error":"#N/A"},{"$error":"#N/A"},{"$error":"#N/A"},1,{"$nulls":8},0,0,0,0]
[{"$f":"B310","v":"14:30:00"},{"$f":"B310+0.5/24","v":"15:00:00"},null,{"$error":"#N/A"},{"$error":"#N/A"},{"$error":"#N/A"},{"$error":"#N/A"},{"$error":"#N/A"},{"$error":"#N/A"},{"$error":"#N/A"},{"$error":"#N/A"},{"$error":"#N/A"},1,{"$nulls":8},0,0,0,0]
["15:00:00","15:30:00",null,{"$f":"IF(D$281=\"non\",IF(OR($A312<$D$532,$B312>$E$532,AND($A312>=$G$532,$B312<=$H$532)),0,1),IF(AND($A312>=$G$532,$B312<=$H$532,$I$532=\"oui\"),1,0))","v":{"$error":"#N/A"}},{"$error":"#N/A"},{"$error":"#N/A"},{"$error":"#N/A"},{"$error":"#N/A"},{"$error":"#N/A"},{"$error":"#N/A"},{"$error":"#N/A"},{"$error":"#N/A"},1,{"$nulls":8},0,0,0,0]
["15:30:00","16:00:00",null,{"$error":"#N/A"},{"$error":"#N/A"},{"$error":"#N/A"},{"$error":"#N/A"},{"$error":"#N/A"},{"$error":"#N/A"},{"$error":"#N/A"},{"$error":"#N/A"},{"$error":"#N/A"},1,{"$nulls":8},0,0,0,0]
["16:00:00","16:30:00",null,{"$error":"#N/A"},{"$error":"#N/A"},{"$error":"#N/A"},{"$error":"#N/A"},{"$error":"#N/A"},{"$error":"#N/A"},{"$error":"#N/A"},{"$error":"#N/A"},{"$error":"#N/A"},1,{"$nulls":8},1,1,1,1]
["16:30:00","17:00:00",null,{"$error":"#N/A"},{"$error":"#N/A"},{"$error":"#N/A"},{"$error":"#N/A"},{"$error":"#N/A"},{"$error":"#N/A"},{"$error":"#N/A"},{"$error":"#N/A"},{"$error":"#N/A"},1,{"$nulls":8},1,1,1,1]
["17:00:00","17:30:00",null,{"$error":"#N/A"},{"$error":"#N/A"},{"$error":"#N/A"},{"$error":"#N/A"},{"$error":"#N/A"},{"$error":"#N/A"},{"$error":"#N/A"},{"$error":"#N/A"},{"$error":"#N/A"},1,{"$nulls":8},0,0,0,0]
["17:30:00","18:00:00",null,{"$error":"#N/A"},{"$error":"#N/A"},{"$error":"#N/A"},{"$error":"#N/A"},{"$error":"#N/A"},{"$error":"#N/A"},{"$error":"#N/A"},{"$error":"#N/A"},{"$error":"#N/A"},1,{"$nulls":8},0,0,0,0]
["18:00:00","18:30:00",null,{"$error":"#N/A"},{"$error":"#N/A"},{"$error":"#N/A"},{"$error":"#N/A"},{"$error":"#N/A"},{"$error":"#N/A"},{"$error":"#N/A"},{"$error":"#N/A"},{"$error":"#N/A"},1,{"$nulls":8},0,0,0,0]
["18:30:00","19:00:00",null,{"$error":"#N/A"},{"$error":"#N/A"},{"$error":"#N/A"},{"$error":"#N/A"},{"$error":"#N/A"},{"$error":"#N/A"},{"$error":"#N/A"},{"$error":"#N/A"},{"$error":"#N/A"},1,{"$nulls":8},0,0,0,0]
["19:00:00","19:30:00",null,{"$error":"#N/A"},{"$error":"#N/A"},{"$error":"#N/A"},{"$error":"#N/A"},{"$error":"#N/A"},{"$error":"#N/A"},{"$error":"#N/A"},{"$error":"#N/A"},{"$error":"#N/A"},1,{"$nulls":8},1,1,1,1]
["19:30:00","20:00:00",null,{"$error":"#N/A"},{"$error":"#N/A"},{"$error":"#N/A"},{"$error":"#N/A"},{"$error":"#N/A"},{"$error":"#N/A"},{"$error":"#N/A"},{"$error":"#N/A"},{"$error":"#N/A"},1,{"$nulls":8},1,1,1,1]
["20:00:00","20:30:00",null,{"$f":"IF(D$281=\"non\",IF(OR($A322<$D$532,$B322>$E$532,AND($A322>=$G$532,$B322<=$H$532)),0,1),IF(AND($A322>=$G$532,$B322<=$H$532,$I$532=\"oui\"),1,0))","v":{"$error":"#N/A"}},{"$error":"#N/A"},{"$error":"#N/A"},{"$error":"#N/A"},{"$error":"#N/A"},{"$error":"#N/A"},{"$f":"IF(OR($A322<$D$532,$B322>$E$532),0,1)","v":{"$error":"#N/A"}},{"$error":"#N/A"},{"$error":"#N/A"},1,{"$nulls":8},0,0,0,0]
["20:30:00","21:00:00",null,{"$error":"#N/A"},{"$error":"#N/A"},{"$error":"#N/A"},{"$error":"#N/A"},{"$error":"#N/A"},{"$error":"#N/A"},{"$error":"#N/A"},{"$error":"#N/A"},{"$error":"#N/A"},1,{"$nulls":8},0,0,0,0]
["21:00:00","21:30:00",null,{"$error":"#N/A"},{"$error":"#N/A"},{"$error":"#N/A"},{"$error":"#N/A"},{"$error":"#N/A"},{"$error":"#N/A"},{"$error":"#N/A"},{"$error":"#N/A"},{"$error":"#N/A"},1,{"$nulls":8},0,0,0,0]
[{"$f":"B324","v":"21:30:00"},{"$f":"B324+0.5/24","v":"22:00:00"},null,{"$error":"#N/A"},{"$error":"#N/A"},{"$error":"#N/A"},{"$error":"#N/A"},{"$error":"#N/A"},{"$error":"#N/A"},{"$error":"#N/A"},{"$error":"#N/A"},{"$error":"#N/A"},1,{"$nulls":8},0,0,0,0]
[{"$f":"B325","v":"22:00:00"},{"$f":"B325+0.5/24","v":"22:30:00"},null,{"$error":"#N/A"},{"$error":"#N/A"},{"$error":"#N/A"},{"$error":"#N/A"},{"$error":"#N/A"},{"$error":"#N/A"},{"$error":"#N/A"},{"$error":"#N/A"},{"$error":"#N/A"},1,{"$nulls":8},1,1,1,1]
["22:30:00","23:00:00",null,{"$error":"#N/A"},{"$error":"#N/A"},{"$error":"#N/A"},{"$error":"#N/A"},{"$error":"#N/A"},{"$error":"#N/A"},{"$error":"#N/A"},{"$error":"#N/A"},{"$error":"#N/A"},1,{"$nulls":8},1,1,1,1]
["23:00:00","23:30:00",null,{"$error":"#N/A"},{"$error":"#N/A"},{"$error":"#N/A"},{"$error":"#N/A"},{"$error":"#N/A"},{"$error":"#N/A"},{"$error":"#N/A"},{"$error":"#N/A"},{"$error":"#N/A"},1,{"$nulls":8},0,0,0,0]
["23:30:00",1.0000000000000007,null,{"$error":"#N/A"},{"$error":"#N/A"},{"$error":"#N/A"},{"$error":"#N/A"},{"$error":"#N/A"},{"$error":"#N/A"},{"$error":"#N/A"},{"$error":"#N/A"},{"$error":"#N/A"},1,{"$nulls":8},0,0,0,0]
[]
[]
[]
[]
[]
["Données diagramme solaire : Ne pas modifier sans savoir"]
[]
[]
[]
[]
[{"$nulls":7},"23 jan/nov",null,"23 fev/oct",null,"23 mar/sept",null,"23 avr/aou",null,"23 mai/juil",null,"1992-06-22",{"$nulls":11},"23 dec"]
[{"$nulls":6},"Date","1990-01-22","Date","1990-02-22","Date","1990-03-22","Date","1990-04-22","Date","1990-05-22","Date","1990-06-22","Date","1990-07-22","Date","1990-08-22","Date","1990-09-22","Date","1990-10-22","Date","1990-11-22","Date","1990-12-22"]
[{"$nulls":6},"Déclin",{"$f":"LOOKUP(H341,$B345:$B418,$C345:$C418)","v":-20.138014821567577},"Déclin",{"$f":"LOOKUP(J341,$B345:$B418,$C345:$C418)","v":-11.579036651251466},"Déclin",{"$f":"LOOKUP(L341,$B345:$B418,$C345:$C418)","v":0},"Déclin",{"$f":"LOOKUP(N341,$B345:$B418,$C345:$C418)","v":11.579036651251466},"Déclin",{"$f":"LOOKUP(P341,$B345:$B418,$C345:$C418)","v":20.138014821567577},"Déclin",{"$f":"LOOKUP(R341,$B345:$B418,$C345:$C418)","v":23.44457137142844},"Déclin",{"$f":"LOOKUP(T341,$B345:$B418,$C345:$C418)","v":20.63628618317941},"Déclin",{"$f":"LOOKUP(V341,$B345:$B418,$C345:$C418)","v":12.445619629397337},"Déclin",{"$f":"LOOKUP(X341,$B345:$B418,$C345:$C418)","v":-1.0088713639562366},"Déclin",{"$f":"LOOKUP(Z341,$B345:$B418,$C345:$C418)","v":-12.445619629397331},"Déclin",{"$f":"LOOKUP(AB341,$B345:$B418,$C345:$C418)","v":-20.63628618317941},"Déclin",{"$f":"LOOKUP(AD341,$B345:$B418,$C345:$C418)","v":-23.44457137142844}]
[null,null,"Déclinaison"]
["N° jour","Date","Déclin","H à midi","Heure","Angle horaire rad","Hauteur °","Azimut °","Hauteur °","Azimut °","Hauteur °","Azimut °","Hauteur °","Azimut °","Hauteur °","Azimut °","Hauteur °","Azimut °","Hauteur °","Azimut °","Hauteur °","Azimut °","Hauteur °","Azimut °","Hauteur °","Azimut °","Hauteur °","Azimut °","Hauteur °","Azimut °"]
[1,"1989-12-31",{"$f":"23.45*SIN((A345-81)*2*PI()/365)","v":{"v":-23.011636727869238,"d":"-23"}},{"$f":"(90-#REF!)+C345","v":{"$error":"#REF!"}},1,{"$f":"(E345-12)*2*PI()/24","v":{"v":-2.8797932657906435,"d":"-2.88"}},{"$f":"ASIN(COS(#REF!*PI()/180)*COS(H$342*PI()/180)*COS($F345)+SIN(#REF!*PI()/180)*SIN(H$342*PI()/180))*180/PI()","v":{"$error":"#REF!"}},{"$f":"180-180-ASIN(COS(H$342*PI()/180)*SIN($F345)/COS(G345*PI()/180))*180/PI()","v":{"$error":"#REF!"}},{"$f":"ASIN(COS(#REF!*PI()/180)*COS(J$342*PI()/180)*COS($F345)+SIN(#REF!*PI()/180)*SIN(J$342*PI()/180))*180/PI()","v":{"$error":"#REF!"}},{"$f":"180-180-ASIN(COS(J$342*PI()/180)*SIN($F345)/COS(I345*PI()/180))*180/PI()","v":{"$error":"#REF!"}},{"$f":"ASIN(COS(#REF!*PI()/180)*COS(L$342*PI()/180)*COS($F345)+SIN(#REF!*PI()/180)*SIN(L$342*PI()/180))*180/PI()","v":{"$error":"#REF!"}},{"$f":"180-180-ASIN(COS(L$342*PI()/180)*SIN($F345)/COS(K345*PI()/180))*180/PI()","v":{"$error":"#REF!"}},{"$f":"ASIN(COS(#REF!*PI()/180)*COS(N$342*PI()/180)*COS($F345)+SIN(#REF!*PI()/180)*SIN(N$342*PI()/180))*180/PI()","v":{"$error":"#REF!"}},{"$f":"180-180-ASIN(COS(N$342*PI()/180)*SIN($F345)/COS(M345*PI()/180))*180/PI()","v":{"$error":"#REF!"}},{"$f":"ASIN(COS(#REF!*PI()/180)*COS(P$342*PI()/180)*COS($F345)+SIN(#REF!*PI()/180)*SIN(P$342*PI()/180))*180/PI()","v":{"$error":"#REF!"}},{"$f":"180-180-ASIN(COS(P$342*PI()/180)*SIN($F345)/COS(O345*PI()/180))*180/PI()","v":{"$error":"#REF!"}},{"$f":"ASIN(COS(#REF!*PI()/180)*COS(R$342*PI()/180)*COS($F345)+SIN(#REF!*PI()/180)*SIN(R$342*PI()/180))*180/PI()","v":{"$error":"#REF!"}},{"$f":"180-180-ASIN(COS(R$342*PI()/180)*SIN($F345)/COS(Q345*PI()/180))*180/PI()","v":{"$error":"#REF!"}},{"$f":"ASIN(COS(#REF!*PI()/180)*COS(T$342*PI()/180)*COS($F345)+SIN(#REF!*PI()/180)*SIN(T$342*PI()/180))*180/PI()","v":{"$error":"#REF!"}},{"$f":"180-180-ASIN(COS(T$342*PI()/180)*SIN($F345)/COS(S345*PI()/180))*180/PI()","v":{"$error":"#REF!"}},{"$f":"ASIN(COS(#REF!*PI()/180)*COS(V$342*PI()/180)*COS($F345)+SIN(#REF!*PI()/180)*SIN(V$342*PI()/180))*180/PI()","v":{"$error":"#REF!"}},{"$f":"180-180-ASIN(COS(V$342*PI()/180)*SIN($F345)/COS(U345*PI()/180))*180/PI()","v":{"$error":"#REF!"}},{"$f":"ASIN(COS(#REF!*PI()/180)*COS(X$342*PI()/180)*COS($F345)+SIN(#REF!*PI()/180)*SIN(X$342*PI()/180))*180/PI()","v":{"$error":"#REF!"}},{"$f":"180-180-ASIN(COS(X$342*PI()/180)*SIN($F345)/COS(W345*PI()/180))*180/PI()","v":{"$error":"#REF!"}},{"$f":"ASIN(COS(#REF!*PI()/180)*COS(Z$342*PI()/180)*COS($F345)+SIN(#REF!*PI()/180)*SIN(Z$342*PI()/180))*180/PI()","v":{"$error":"#REF!"}},{"$f":"180-180-ASIN(COS(Z$342*PI()/180)*SIN($F345)/COS(Y345*PI()/180))*180/PI()","v":{"$error":"#REF!"}},{"$f":"ASIN(COS(#REF!*PI()/180)*COS(AB$342*PI()/180)*COS($F345)+SIN(#REF!*PI()/180)*SIN(AB$342*PI()/180))*180/PI()","v":{"$error":"#REF!"}},{"$f":"180-180-ASIN(COS(AB$342*PI()/180)*SIN($F345)/COS(AA345*PI()/180))*180/PI()","v":{"$error":"#REF!"}},{"$f":"ASIN(COS(#REF!*PI()/180)*COS(AD$342*PI()/180)*COS($F345)+SIN(#REF!*PI()/180)*SIN(AD$342*PI()/180))*180/PI()","v":{"$error":"#REF!"}},{"$f":"180-180-ASIN(COS(AD$342*PI()/180)*SIN($F345)/COS(AC345*PI()/180))*180/PI()","v":{"$error":"#REF!"}}]
[6,"1990-01-05",{"v":-22.538493431805453,"d":"-23"},{"$f":"(90-#REF!)+C346","v":{"$error":"#REF!"}},2,{"v":-2.6179938779914944,"d":"-2.62"},{"$f":"ASIN(COS(#REF!*PI()/180)*COS(H$342*PI()/180)*COS($F346)+SIN(#REF!*PI()/180)*SIN(H$342*PI()/180))*180/PI()","v":{"$error":"#REF!"}},{"$f":"180-180-ASIN(COS(H$342*PI()/180)*SIN($F346)/COS(G346*PI()/180))*180/PI()","v":{"$error":"#REF!"}},{"$f":"ASIN(COS(#REF!*PI()/180)*COS(J$342*PI()/180)*COS($F346)+SIN(#REF!*PI()/180)*SIN(J$342*PI()/180))*180/PI()","v":{"$error":"#REF!"}},{"$f":"180-180-ASIN(COS(J$342*PI()/180)*SIN($F346)/COS(I346*PI()/180))*180/PI()","v":{"$error":"#REF!"}},{"$f":"ASIN(COS(#REF!*PI()/180)*COS(L$342*PI()/180)*COS($F346)+SIN(#REF!*PI()/180)*SIN(L$342*PI()/180))*180/PI()","v":{"$error":"#REF!"}},{"$error":"#REF!"},{"$f":"ASIN(COS(#REF!*PI()/180)*COS(N$342*PI()/180)*COS($F346)+SIN(#REF!*PI()/180)*SIN(N$342*PI()/180))*180/PI()","v":{"$error":"#REF!"}},{"$error":"#REF!"},{"$f":"ASIN(COS(#REF!*PI()/180)*COS(P$342*PI()/180)*COS($F346)+SIN(#REF!*PI()/180)*SIN(P$342*PI()/180))*180/PI()","v":{"$error":"#REF!"}},{"$error":"#REF!"},{"$f":"ASIN(COS(#REF!*PI()/180)*COS(R$342*PI()/180)*COS($F346)+SIN(#REF!*PI()/180)*SIN(R$342*PI()/180))*180/PI()","v":{"$error":"#REF!"}},{"$error":"#REF!"},{"$f":"ASIN(COS(#REF!*PI()/180)*COS(T$342*PI()/180)*COS($F346)+SIN(#REF!*PI()/180)*SIN(T$342*PI()/180))*180/PI()","v":{"$error":"#REF!"}},{"$error":"#REF!"},{"$f":"ASIN(COS(#REF!*PI()/180)*COS(V$342*PI()/180)*COS($F346)+SIN(#REF!*PI()/180)*SIN(V$342*PI()/180))*180/PI()","v":{"$error":"#REF!"}},{"$error":"#REF!"},{"$f":"ASIN(COS(#REF!*PI()/180)*COS(X$342*PI()/180)*COS($F346)+SIN(#REF!*PI()/180)*SIN(X$342*PI()/180))*180/PI()","v":{"$error":"#REF!"}},{"$f":"180-180-ASIN(COS(X$342*PI()/180)*SIN($F346)/COS(W346*PI()/180))*180/PI()","v":{"$error":"#REF!"}},{"$f":"ASIN(COS(#REF!*PI()/180)*COS(Z$342*PI()/180)*COS($F346)+SIN(#REF!*PI()/180)*SIN(Z$342*PI()/180))*180/PI()","v":{"$error":"#REF!"}},{"$f":"180-180-ASIN(COS(Z$342*PI()/180)*SIN($F346)/COS(Y346*PI()/180))*180/PI()","v":{"$error":"#REF!"}},{"$f":"ASIN(COS(#REF!*PI()/180)*COS(AB$342*PI()/180)*COS($F346)+SIN(#REF!*PI()/180)*SIN(AB$342*PI()/180))*180/PI()","v":{"$error":"#REF!"}},{"$f":"180-180-ASIN(COS(AB$342*PI()/180)*SIN($F346)/COS(AA346*PI()/180))*180/PI()","v":{"$error":"#REF!"}},{"$f":"ASIN(COS(#REF!*PI()/180)*COS(AD$342*PI()/180)*COS($F346)+SIN(#REF!*PI()/180)*SIN(AD$342*PI()/180))*180/PI()","v":{"$error":"#REF!"}},{"$f":"180-180-ASIN(COS(AD$342*PI()/180)*SIN($F346)/COS(AC346*PI()/180))*180/PI()","v":{"$error":"#REF!"}}]
[11,"1990-01-10",{"v":-21.898483015897597,"d":"-22"},{"$f":"(90-#REF!)+C347","v":{"$error":"#REF!"}},3,{"v":-2.356194490192345,"d":"-2.36"},{"$f":"ASIN(COS(#REF!*PI()/180)*COS(H$342*PI()/180)*COS($F347)+SIN(#REF!*PI()/180)*SIN(H$342*PI()/180))*180/PI()","v":{"$error":"#REF!"}},{"$f":"180-180-ASIN(COS(H$342*PI()/180)*SIN($F347)/COS(G347*PI()/180))*180/PI()","v":{"$error":"#REF!"}},{"$f":"ASIN(COS(#REF!*PI()/180)*COS(J$342*PI()/180)*COS($F347)+SIN(#REF!*PI()/180)*SIN(J$342*PI()/180))*180/PI()","v":{"$error":"#REF!"}},{"$f":"180-180-ASIN(COS(J$342*PI()/180)*SIN($F347)/COS(I347*PI()/180))*180/PI()","v":{"$error":"#REF!"}},{"$f":"ASIN(COS(#REF!*PI()/180)*COS(L$342*PI()/180)*COS($F347)+SIN(#REF!*PI()/180)*SIN(L$342*PI()/180))*180/PI()","v":{"$error":"#REF!"}},{"$error":"#REF!"},{"$f":"ASIN(COS(#REF!*PI()/180)*COS(N$342*PI()/180)*COS($F347)+SIN(#REF!*PI()/180)*SIN(N$342*PI()/180))*180/PI()","v":{"$error":"#REF!"}},{"$error":"#REF!"},{"$f":"ASIN(COS(#REF!*PI()/180)*COS(P$342*PI()/180)*COS($F347)+SIN(#REF!*PI()/180)*SIN(P$342*PI()/180))*180/PI()","v":{"$error":"#REF!"}},{"$error":"#REF!"},{"$f":"ASIN(COS(#REF!*PI()/180)*COS(R$342*PI()/180)*COS($F347)+SIN(#REF!*PI()/180)*SIN(R$342*PI()/180))*180/PI()","v":{"$error":"#REF!"}},{"$error":"#REF!"},{"$f":"ASIN(COS(#REF!*PI()/180)*COS(T$342*PI()/180)*COS($F347)+SIN(#REF!*PI()/180)*SIN(T$342*PI()/180))*180/PI()","v":{"$error":"#REF!"}},{"$error":"#REF!"},{"$f":"ASIN(COS(#REF!*PI()/180)*COS(V$342*PI()/180)*COS($F347)+SIN(#REF!*PI()/180)*SIN(V$342*PI()/180))*180/PI()","v":{"$error":"#REF!"}},{"$error":"#REF!"},{"$f":"ASIN(COS(#REF!*PI()/180)*COS(X$342*PI()/180)*COS($F347)+SIN(#REF!*PI()/180)*SIN(X$342*PI()/180))*180/PI()","v":{"$error":"#REF!"}},{"$f":"180-180-ASIN(COS(X$342*PI()/180)*SIN($F347)/COS(W347*PI()/180))*180/PI()","v":{"$error":"#REF!"}},{"$f":"ASIN(COS(#REF!*PI()/180)*COS(Z$342*PI()/180)*COS($F347)+SIN(#REF!*PI()/180)*SIN(Z$342*PI()/180))*180/PI()","v":{"$error":"#REF!"}},{"$f":"180-180-ASIN(COS(Z$342*PI()/180)*SIN($F347)/COS(Y347*PI()/180))*180/PI()","v":{"$error":"#REF!"}},{"$f":"ASIN(COS(#REF!*PI()/180)*COS(AB$342*PI()/180)*COS($F347)+SIN(#REF!*PI()/180)*SIN(AB$342*PI()/180))*180/PI()","v":{"$error":"#REF!"}},{"$f":"180-180-ASIN(COS(AB$342*PI()/180)*SIN($F347)/COS(AA347*PI()/180))*180/PI()","v":{"$error":"#REF!"}},{"$f":"ASIN(COS(#REF!*PI()/180)*COS(AD$342*PI()/180)*COS($F347)+SIN(#REF!*PI()/180)*SIN(AD$342*PI()/180))*180/PI()","v":{"$error":"#REF!"}},{"$f":"180-180-ASIN(COS(AD$342*PI()/180)*SIN($F347)/COS(AC347*PI()/180))*180/PI()","v":{"$error":"#REF!"}}]
[16,"1990-01-15",{"v":-21.096343893345104,"d":"-21"},{"$f":"(90-#REF!)+C348","v":{"$error":"#REF!"}},4,{"v":-2.0943951023931953,"d":"-2.09"},{"$f":"ASIN(COS(#REF!*PI()/180)*COS(H$342*PI()/180)*COS($F348)+SIN(#REF!*PI()/180)*SIN(H$342*PI()/180))*180/PI()","v":{"$error":"#REF!"}},{"$f":"180+ASIN(COS(H$342*PI()/180)*SIN($F348)/COS(G348*PI()/180))*180/PI()","v":{"$error":"#REF!"}},{"$f":"ASIN(COS(#REF!*PI()/180)*COS(J$342*PI()/180)*COS($F348)+SIN(#REF!*PI()/180)*SIN(J$342*PI()/180))*180/PI()","v":{"$error":"#REF!"}},{"$f":"180-180-ASIN(COS(J$342*PI()/180)*SIN($F348)/COS(I348*PI()/180))*180/PI()","v":{"$error":"#REF!"}},{"$f":"ASIN(COS(#REF!*PI()/180)*COS(L$342*PI()/180)*COS($F348)+SIN(#REF!*PI()/180)*SIN(L$342*PI()/180))*180/PI()","v":{"$error":"#REF!"}},{"$error":"#REF!"},{"$f":"ASIN(COS(#REF!*PI()/180)*COS(N$342*PI()/180)*COS($F348)+SIN(#REF!*PI()/180)*SIN(N$342*PI()/180))*180/PI()","v":{"$error":"#REF!"}},{"$error":"#REF!"},{"$f":"ASIN(COS(#REF!*PI()/180)*COS(P$342*PI()/180)*COS($F348)+SIN(#REF!*PI()/180)*SIN(P$342*PI()/180))*180/PI()","v":{"$error":"#REF!"}},{"$error":"#REF!"},{"$f":"ASIN(COS(#REF!*PI()/180)*COS(R$342*PI()/180)*COS($F348)+SIN(#REF!*PI()/180)*SIN(R$342*PI()/180))*180/PI()","v":{"$error":"#REF!"}},{"$error":"#REF!"},{"$f":"ASIN(COS(#REF!*PI()/180)*COS(T$342*PI()/180)*COS($F348)+SIN(#REF!*PI()/180)*SIN(T$342*PI()/180))*180/PI()","v":{"$error":"#REF!"}},{"$error":"#REF!"},{"$f":"ASIN(COS(#REF!*PI()/180)*COS(V$342*PI()/180)*COS($F348)+SIN(#REF!*PI()/180)*SIN(V$342*PI()/180))*180/PI()","v":{"$error":"#REF!"}},{"$error":"#REF!"},{"$f":"ASIN(COS(#REF!*PI()/180)*COS(X$342*PI()/180)*COS($F348)+SIN(#REF!*PI()/180)*SIN(X$342*PI()/180))*180/PI()","v":{"$error":"#REF!"}},{"$f":"180-180-ASIN(COS(X$342*PI()/180)*SIN($F348)/COS(W348*PI()/180))*180/PI()","v":{"$error":"#REF!"}},{"$f":"ASIN(COS(#REF!*PI()/180)*COS(Z$342*PI()/180)*COS($F348)+SIN(#REF!*PI()/180)*SIN(Z$342*PI()/180))*180/PI()","v":{"$error":"#REF!"}},{"$f":"180-180-ASIN(COS(Z$342*PI()/180)*SIN($F348)/COS(Y348*PI()/180))*180/PI()","v":{"$error":"#REF!"}},{"$f":"ASIN(COS(#REF!*PI()/180)*COS(AB$342*PI()/180)*COS($F348)+SIN(#REF!*PI()/180)*SIN(AB$342*PI()/180))*180/PI()","v":{"$error":"#REF!"}},{"$f":"180+ASIN(COS(AB$342*PI()/180)*SIN($F348)/COS(AA348*PI()/180))*180/PI()","v":{"$error":"#REF!"}},{"$f":"ASIN(COS(#REF!*PI()/180)*COS(AD$342*PI()/180)*COS($F348)+SIN(#REF!*PI()/180)*SIN(AD$342*PI()/180))*180/PI()","v":{"$error":"#REF!"}},{"$f":"180+ASIN(COS(AD$342*PI()/180)*SIN($F348)/COS(AC348*PI()/180))*180/PI()","v":{"$error":"#REF!"}}]
[21,"1990-01-20",{"v":-20.138014821567577,"d":"-20"},{"$f":"(90-#REF!)+C349","v":{"$error":"#REF!"}},5,{"v":-1.832595714594046,"d":"-1.83"},{"$f":"ASIN(COS(#REF!*PI()/180)*COS(H$342*PI()/180)*COS($F349)+SIN(#REF!*PI()/180)*SIN(H$342*PI()/180))*180/PI()","v":{"$error":"#REF!"}},{"$error":"#REF!"},{"$f":"ASIN(COS(#REF!*PI()/180)*COS(J$342*PI()/180)*COS($F349)+SIN(#REF!*PI()/180)*SIN(J$342*PI()/180))*180/PI()","v":{"$error":"#REF!"}},{"$f":"180-180-ASIN(COS(J$342*PI()/180)*SIN($F349)/COS(I349*PI()/180))*180/PI()","v":{"$error":"#REF!"}},{"$f":"ASIN(COS(#REF!*PI()/180)*COS(L$342*PI()/180)*COS($F349)+SIN(#REF!*PI()/180)*SIN(L$342*PI()/180))*180/PI()","v":{"$error":"#REF!"}},{"$error":"#REF!"},{"$f":"ASIN(COS(#REF!*PI()/180)*COS(N$342*PI()/180)*COS($F349)+SIN(#REF!*PI()/180)*SIN(N$342*PI()/180))*180/PI()","v":{"$error":"#REF!"}},{"$error":"#REF!"},{"$f":"ASIN(COS(#REF!*PI()/180)*COS(P$342*PI()/180)*COS($F349)+SIN(#REF!*PI()/180)*SIN(P$342*PI()/180))*180/PI()","v":{"$error":"#REF!"}},{"$error":"#REF!"},{"$f":"ASIN(COS(#REF!*PI()/180)*COS(R$342*PI()/180)*COS($F349)+SIN(#REF!*PI()/180)*SIN(R$342*PI()/180))*180/PI()","v":{"$error":"#REF!"}},{"$error":"#REF!"},{"$f":"ASIN(COS(#REF!*PI()/180)*COS(T$342*PI()/180)*COS($F349)+SIN(#REF!*PI()/180)*SIN(T$342*PI()/180))*180/PI()","v":{"$error":"#REF!"}},{"$error":"#REF!"},{"$f":"ASIN(COS(#REF!*PI()/180)*COS(V$342*PI()/180)*COS($F349)+SIN(#REF!*PI()/180)*SIN(V$342*PI()/180))*180/PI()","v":{"$error":"#REF!"}},{"$error":"#REF!"},{"$f":"ASIN(COS(#REF!*PI()/180)*COS(X$342*PI()/180)*COS($F349)+SIN(#REF!*PI()/180)*SIN(X$342*PI()/180))*180/PI()","v":{"$error":"#REF!"}},{"$f":"180-180-ASIN(COS(X$342*PI()/180)*SIN($F349)/COS(W349*PI()/180))*180/PI()","v":{"$error":"#REF!"}},{"$f":"ASIN(COS(#REF!*PI()/180)*COS(Z$342*PI()/180)*COS($F349)+SIN(#REF!*PI()/180)*SIN(Z$342*PI()/180))*180/PI()","v":{"$error":"#REF!"}},{"$f":"180+ASIN(COS(Z$342*PI()/180)*SIN($F349)/COS(Y349*PI()/180))*180/PI()","v":{"$error":"#REF!"}},{"$f":"ASIN(COS(#REF!*PI()/180)*COS(AB$342*PI()/180)*COS($F349)+SIN(#REF!*PI()/180)*SIN(AB$342*PI()/180))*180/PI()","v":{"$error":"#REF!"}},{"$error":"#REF!"},{"$f":"ASIN(COS(#REF!*PI()/180)*COS(AD$342*PI()/180)*COS($F349)+SIN(#REF!*PI()/180)*SIN(AD$342*PI()/180))*180/PI()","v":{"$error":"#REF!"}},{"$error":"#REF!"}]
[26,"1990-01-25",{"v":-19.030590933722614,"d":"-19"},{"$f":"(90-#REF!)+C350","v":{"$error":"#REF!"}},6,{"v":-1.5707963267948966,"d":"-1.57"},{"$f":"ASIN(COS(#REF!*PI()/180)*COS(H$342*PI()/180)*COS($F350)+SIN(#REF!*PI()/180)*SIN(H$342*PI()/180))*180/PI()","v":{"$error":"#REF!"}},{"$error":"#REF!"},{"$f":"ASIN(COS(#REF!*PI()/180)*COS(J$342*PI()/180)*COS($F350)+SIN(#REF!*PI()/180)*SIN(J$342*PI()/180))*180/PI()","v":{"$error":"#REF!"}},{"$f":"180+ASIN(COS(J$342*PI()/180)*SIN($F350)/COS(I350*PI()/180))*180/PI()","v":{"$error":"#REF!"}},{"$f":"ASIN(COS(#REF!*PI()/180)*COS(L$342*PI()/180)*COS($F350)+SIN(#REF!*PI()/180)*SIN(L$342*PI()/180))*180/PI()","v":{"$error":"#REF!"}},{"$error":"#REF!"},{"$f":"ASIN(COS(#REF!*PI()/180)*COS(N$342*PI()/180)*COS($F350)+SIN(#REF!*PI()/180)*SIN(N$342*PI()/180))*180/PI()","v":{"$error":"#REF!"}},{"$error":"#REF!"},{"$f":"ASIN(COS(#REF!*PI()/180)*COS(P$342*PI()/180)*COS($F350)+SIN(#REF!*PI()/180)*SIN(P$342*PI()/180))*180/PI()","v":{"$error":"#REF!"}},{"$error":"#REF!"},{"$f":"ASIN(COS(#REF!*PI()/180)*COS(R$342*PI()/180)*COS($F350)+SIN(#REF!*PI()/180)*SIN(R$342*PI()/180))*180/PI()","v":{"$error":"#REF!"}},{"$error":"#REF!"},{"$f":"ASIN(COS(#REF!*PI()/180)*COS(T$342*PI()/180)*COS($F350)+SIN(#REF!*PI()/180)*SIN(T$342*PI()/180))*180/PI()","v":{"$error":"#REF!"}},{"$error":"#REF!"},{"$f":"ASIN(COS(#REF!*PI()/180)*COS(V$342*PI()/180)*COS($F350)+SIN(#REF!*PI()/180)*SIN(V$342*PI()/180))*180/PI()","v":{"$error":"#REF!"}},{"$error":"#REF!"},{"$f":"ASIN(COS(#REF!*PI()/180)*COS(X$342*PI()/180)*COS($F350)+SIN(#REF!*PI()/180)*SIN(X$342*PI()/180))*180/PI()","v":{"$error":"#REF!"}},{"$f":"180+ASIN(COS(X$342*PI()/180)*SIN($F350)/COS(W350*PI()/180))*180/PI()","v":{"$error":"#REF!"}},{"$f":"ASIN(COS(#REF!*PI()/180)*COS(Z$342*PI()/180)*COS($F350)+SIN(#REF!*PI()/180)*SIN(Z$342*PI()/180))*180/PI()","v":{"$error":"#REF!"}},{"$error":"#REF!"},{"$f":"ASIN(COS(#REF!*PI()/180)*COS(AB$342*PI()/180)*COS($F350)+SIN(#REF!*PI()/180)*SIN(AB$342*PI()/180))*180/PI()","v":{"$error":"#REF!"}},{"$error":"#REF!"},{"$f":"ASIN(COS(#REF!*PI()/180)*COS(AD$342*PI()/180)*COS($F350)+SIN(#REF!*PI()/180)*SIN(AD$342*PI()/180))*180/PI()","v":{"$error":"#REF!"}},{"$error":"#REF!"}]
[31,"1990-01-30",{"v":-17.782271208822287,"d":"-18"},{"$f":"(90-#REF!)+C351","v":{"$error":"#REF!"}},7,{"v":-1.3089969389957472,"d":"-1.31"},{"$f":"ASIN(COS(#REF!*PI()/180)*COS(H$342*PI()/180)*COS($F351)+SIN(#REF!*PI()/180)*SIN(H$342*PI()/180))*180/PI()","v":{"$error":"#REF!"}},{"$error":"#REF!"},{"$f":"ASIN(COS(#REF!*PI()/180)*COS(J$342*PI()/180)*COS($F351)+SIN(#REF!*PI()/180)*SIN(J$342*PI()/180))*180/PI()","v":{"$error":"#REF!"}},{"$error":"#REF!"},{"$f":"ASIN(COS(#REF!*PI()/180)*COS(L$342*PI()/180)*COS($F351)+SIN(#REF!*PI()/180)*SIN(L$342*PI()/180))*180/PI()","v":{"$error":"#REF!"}},{"$f":"180+ASIN(COS(L$342*PI()/180)*SIN($F351)/COS(K351*PI()/180))*180/PI()","v":{"$error":"#REF!"}},{"$f":"ASIN(COS(#REF!*PI()/180)*COS(N$342*PI()/180)*COS($F351)+SIN(#REF!*PI()/180)*SIN(N$342*PI()/180))*180/PI()","v":{"$error":"#REF!"}},{"$f":"180+ASIN(COS(N$342*PI()/180)*SIN($F351)/COS(M351*PI()/180))*180/PI()","v":{"$error":"#REF!"}},{"$f":"ASIN(COS(#REF!*PI()/180)*COS(P$342*PI()/180)*COS($F351)+SIN(#REF!*PI()/180)*SIN(P$342*PI()/180))*180/PI()","v":{"$error":"#REF!"}},{"$error":"#REF!"},{"$f":"ASIN(COS(#REF!*PI()/180)*COS(R$342*PI()/180)*COS($F351)+SIN(#REF!*PI()/180)*SIN(R$342*PI()/180))*180/PI()","v":{"$error":"#REF!"}},{"$error":"#REF!"},{"$f":"ASIN(COS(#REF!*PI()/180)*COS(T$342*PI()/180)*COS($F351)+SIN(#REF!*PI()/180)*SIN(T$342*PI()/180))*180/PI()","v":{"$error":"#REF!"}},{"$error":"#REF!"},{"$f":"ASIN(COS(#REF!*PI()/180)*COS(V$342*PI()/180)*COS($F351)+SIN(#REF!*PI()/180)*SIN(V$342*PI()/180))*180/PI()","v":{"$error":"#REF!"}},{"$f":"180+ASIN(COS(V$342*PI()/180)*SIN($F351)/COS(U351*PI()/180))*180/PI()","v":{"$error":"#REF!"}},{"$f":"ASIN(COS(#REF!*PI()/180)*COS(X$342*PI()/180)*COS($F351)+SIN(#REF!*PI()/180)*SIN(X$342*PI()/180))*180/PI()","v":{"$error":"#REF!"}},{"$error":"#REF!"},{"$f":"ASIN(COS(#REF!*PI()/180)*COS(Z$342*PI()/180)*COS($F351)+SIN(#REF!*PI()/180)*SIN(Z$342*PI()/180))*180/PI()","v":{"$error":"#REF!"}},{"$error":"#REF!"},{"$f":"ASIN(COS(#REF!*PI()/180)*COS(AB$342*PI()/180)*COS($F351)+SIN(#REF!*PI()/180)*SIN(AB$342*PI()/180))*180/PI()","v":{"$error":"#REF!"}},{"$error":"#REF!"},{"$f":"ASIN(COS(#REF!*PI()/180)*COS(AD$342*PI()/180)*COS($F351)+SIN(#REF!*PI()/180)*SIN(AD$342*PI()/180))*180/PI()","v":{"$error":"#REF!"}},{"$error":"#REF!"}]
[36,"1990-02-04",{"v":-16.402297769361123,"d":"-16"},{"$f":"(90-#REF!)+C352","v":{"$error":"#REF!"}},8,{"v":-1.0471975511965976,"d":"-1.05"},{"$f":"ASIN(COS(#REF!*PI()/180)*COS(H$342*PI()/180)*COS($F352)+SIN(#REF!*PI()/180)*SIN(H$342*PI()/180))*180/PI()","v":{"$error":"#REF!"}},{"$error":"#REF!"},{"$f":"ASIN(COS(#REF!*PI()/180)*COS(J$342*PI()/180)*COS($F352)+SIN(#REF!*PI()/180)*SIN(J$342*PI()/180))*180/PI()","v":{"$error":"#REF!"}},{"$error":"#REF!"},{"$f":"ASIN(COS(#REF!*PI()/180)*COS(L$342*PI()/180)*COS($F352)+SIN(#REF!*PI()/180)*SIN(L$342*PI()/180))*180/PI()","v":{"$error":"#REF!"}},{"$error":"#REF!"},{"$f":"ASIN(COS(#REF!*PI()/180)*COS(N$342*PI()/180)*COS($F352)+SIN(#REF!*PI()/180)*SIN(N$342*PI()/180))*180/PI()","v":{"$error":"#REF!"}},{"$error":"#REF!"},{"$f":"ASIN(COS(#REF!*PI()/180)*COS(P$342*PI()/180)*COS($F352)+SIN(#REF!*PI()/180)*SIN(P$342*PI()/180))*180/PI()","v":{"$error":"#REF!"}},{"$f":"180+ASIN(COS(P$342*PI()/180)*SIN($F352)/COS(O352*PI()/180))*180/PI()","v":{"$error":"#REF!"}},{"$f":"ASIN(COS(#REF!*PI()/180)*COS(R$342*PI()/180)*COS($F352)+SIN(#REF!*PI()/180)*SIN(R$342*PI()/180))*180/PI()","v":{"$error":"#REF!"}},{"$f":"180+ASIN(COS(R$342*PI()/180)*SIN($F352)/COS(Q352*PI()/180))*180/PI()","v":{"$error":"#REF!"}},{"$f":"ASIN(COS(#REF!*PI()/180)*COS(T$342*PI()/180)*COS($F352)+SIN(#REF!*PI()/180)*SIN(T$342*PI()/180))*180/PI()","v":{"$error":"#REF!"}},{"$f":"180+ASIN(COS(T$342*PI()/180)*SIN($F352)/COS(S352*PI()/180))*180/PI()","v":{"$error":"#REF!"}},{"$f":"ASIN(COS(#REF!*PI()/180)*COS(V$342*PI()/180)*COS($F352)+SIN(#REF!*PI()/180)*SIN(V$342*PI()/180))*180/PI()","v":{"$error":"#REF!"}},{"$error":"#REF!"},{"$f":"ASIN(COS(#REF!*PI()/180)*COS(X$342*PI()/180)*COS($F352)+SIN(#REF!*PI()/180)*SIN(X$342*PI()/180))*180/PI()","v":{"$error":"#REF!"}},{"$error":"#REF!"},{"$f":"ASIN(COS(#REF!*PI()/180)*COS(Z$342*PI()/180)*COS($F352)+SIN(#REF!*PI()/180)*SIN(Z$342*PI()/180))*180/PI()","v":{"$error":"#REF!"}},{"$error":"#REF!"},{"$f":"ASIN(COS(#REF!*PI()/180)*COS(AB$342*PI()/180)*COS($F352)+SIN(#REF!*PI()/180)*SIN(AB$342*PI()/180))*180/PI()","v":{"$error":"#REF!"}},{"$error":"#REF!"},{"$f":"ASIN(COS(#REF!*PI()/180)*COS(AD$342*PI()/180)*COS($F352)+SIN(#REF!*PI()/180)*SIN(AD$342*PI()/180))*180/PI()","v":{"$error":"#REF!"}},{"$error":"#REF!"}]
[41,"1990-02-09",{"v":-14.90088745587466,"d":"-15"},{"$f":"(90-#REF!)+C353","v":{"$error":"#REF!"}},9,{"v":-0.7853981633974483,"d":"-0.79"},{"$f":"ASIN(COS(#REF!*PI()/180)*COS(H$342*PI()/180)*COS($F353)+SIN(#REF!*PI()/180)*SIN(H$342*PI()/180))*180/PI()","v":{"$error":"#REF!"}},{"$error":"#REF!"},{"$f":"ASIN(COS(#REF!*PI()/180)*COS(J$342*PI()/180)*COS($F353)+SIN(#REF!*PI()/180)*SIN(J$342*PI()/180))*180/PI()","v":{"$error":"#REF!"}},{"$error":"#REF!"},{"$f":"ASIN(COS(#REF!*PI()/180)*COS(L$342*PI()/180)*COS($F353)+SIN(#REF!*PI()/180)*SIN(L$342*PI()/180))*180/PI()","v":{"$error":"#REF!"}},{"$error":"#REF!"},{"$f":"ASIN(COS(#REF!*PI()/180)*COS(N$342*PI()/180)*COS($F353)+SIN(#REF!*PI()/180)*SIN(N$342*PI()/180))*180/PI()","v":{"$error":"#REF!"}},{"$error":"#REF!"},{"$f":"ASIN(COS(#REF!*PI()/180)*COS(P$342*PI()/180)*COS($F353)+SIN(#REF!*PI()/180)*SIN(P$342*PI()/180))*180/PI()","v":{"$error":"#REF!"}},{"$error":"#REF!"},{"$f":"ASIN(COS(#REF!*PI()/180)*COS(R$342*PI()/180)*COS($F353)+SIN(#REF!*PI()/180)*SIN(R$342*PI()/180))*180/PI()","v":{"$error":"#REF!"}},{"$error":"#REF!"},{"$f":"ASIN(COS(#REF!*PI()/180)*COS(T$342*PI()/180)*COS($F353)+SIN(#REF!*PI()/180)*SIN(T$342*PI()/180))*180/PI()","v":{"$error":"#REF!"}},{"$error":"#REF!"},{"$f":"ASIN(COS(#REF!*PI()/180)*COS(V$342*PI()/180)*COS($F353)+SIN(#REF!*PI()/180)*SIN(V$342*PI()/180))*180/PI()","v":{"$error":"#REF!"}},{"$error":"#REF!"},{"$f":"ASIN(COS(#REF!*PI()/180)*COS(X$342*PI()/180)*COS($F353)+SIN(#REF!*PI()/180)*SIN(X$342*PI()/180))*180/PI()","v":{"$error":"#REF!"}},{"$error":"#REF!"},{"$f":"ASIN(COS(#REF!*PI()/180)*COS(Z$342*PI()/180)*COS($F353)+SIN(#REF!*PI()/180)*SIN(Z$342*PI()/180))*180/PI()","v":{"$error":"#REF!"}},{"$error":"#REF!"},{"$f":"ASIN(COS(#REF!*PI()/180)*COS(AB$342*PI()/180)*COS($F353)+SIN(#REF!*PI()/180)*SIN(AB$342*PI()/180))*180/PI()","v":{"$error":"#REF!"}},{"$error":"#REF!"},{"$f":"ASIN(COS(#REF!*PI()/180)*COS(AD$342*PI()/180)*COS($F353)+SIN(#REF!*PI()/180)*SIN(AD$342*PI()/180))*180/PI()","v":{"$error":"#REF!"}},{"$error":"#REF!"}]
[46,"1990-02-14",{"v":-13.289156185026709,"d":"-13"},{"$f":"(90-#REF!)+C354","v":{"$error":"#REF!"}},10,{"v":-0.5235987755982988,"d":"-0.52"},{"$f":"ASIN(COS(#REF!*PI()/180)*COS(H$342*PI()/180)*COS($F354)+SIN(#REF!*PI()/180)*SIN(H$342*PI()/180))*180/PI()","v":{"$error":"#REF!"}},{"$error":"#REF!"},{"$f":"ASIN(COS(#REF!*PI()/180)*COS(J$342*PI()/180)*COS($F354)+SIN(#REF!*PI()/180)*SIN(J$342*PI()/180))*180/PI()","v":{"$error":"#REF!"}},{"$error":"#REF!"},{"$f":"ASIN(COS(#REF!*PI()/180)*COS(L$342*PI()/180)*COS($F354)+SIN(#REF!*PI()/180)*SIN(L$342*PI()/180))*180/PI()","v":{"$error":"#REF!"}},{"$error":"#REF!"},{"$f":"ASIN(COS(#REF!*PI()/180)*COS(N$342*PI()/180)*COS($F354)+SIN(#REF!*PI()/180)*SIN(N$342*PI()/180))*180/PI()","v":{"$error":"#REF!"}},{"$error":"#REF!"},{"$f":"ASIN(COS(#REF!*PI()/180)*COS(P$342*PI()/180)*COS($F354)+SIN(#REF!*PI()/180)*SIN(P$342*PI()/180))*180/PI()","v":{"$error":"#REF!"}},{"$error":"#REF!"},{"$f":"ASIN(COS(#REF!*PI()/180)*COS(R$342*PI()/180)*COS($F354)+SIN(#REF!*PI()/180)*SIN(R$342*PI()/180))*180/PI()","v":{"$error":"#REF!"}},{"$error":"#REF!"},{"$f":"ASIN(COS(#REF!*PI()/180)*COS(T$342*PI()/180)*COS($F354)+SIN(#REF!*PI()/180)*SIN(T$342*PI()/180))*180/PI()","v":{"$error":"#REF!"}},{"$error":"#REF!"},{"$f":"ASIN(COS(#REF!*PI()/180)*COS(V$342*PI()/180)*COS($F354)+SIN(#REF!*PI()/180)*SIN(V$342*PI()/180))*180/PI()","v":{"$error":"#REF!"}},{"$error":"#REF!"},{"$f":"ASIN(COS(#REF!*PI()/180)*COS(X$342*PI()/180)*COS($F354)+SIN(#REF!*PI()/180)*SIN(X$342*PI()/180))*180/PI()","v":{"$error":"#REF!"}},{"$error":"#REF!"},{"$f":"ASIN(COS(#REF!*PI()/180)*COS(Z$342*PI()/180)*COS($F354)+SIN(#REF!*PI()/180)*SIN(Z$342*PI()/180))*180/PI()","v":{"$error":"#REF!"}},{"$error":"#REF!"},{"$f":"ASIN(COS(#REF!*PI()/180)*COS(AB$342*PI()/180)*COS($F354)+SIN(#REF!*PI()/180)*SIN(AB$342*PI()/180))*180/PI()","v":{"$error":"#REF!"}},{"$error":"#REF!"},{"$f":"ASIN(COS(#REF!*PI()/180)*COS(AD$342*PI()/180)*COS($F354)+SIN(#REF!*PI()/180)*SIN(AD$342*PI()/180))*180/PI()","v":{"$error":"#REF!"}},{"$error":"#REF!"}]
[51,"1990-02-19",{"v":-11.579036651251466,"d":"-12"},{"$f":"(90-#REF!)+C355","v":{"$error":"#REF!"}},11,{"v":-0.2617993877991494,"d":"-0.26"},{"$f":"ASIN(COS(#REF!*PI()/180)*COS(H$342*PI()/180)*COS($F355)+SIN(#REF!*PI()/180)*SIN(H$342*PI()/180))*180/PI()","v":{"$error":"#REF!"}},{"$error":"#REF!"},{"$f":"ASIN(COS(#REF!*PI()/180)*COS(J$342*PI()/180)*COS($F355)+SIN(#REF!*PI()/180)*SIN(J$342*PI()/180))*180/PI()","v":{"$error":"#REF!"}},{"$error":"#REF!"},{"$f":"ASIN(COS(#REF!*PI()/180)*COS(L$342*PI()/180)*COS($F355)+SIN(#REF!*PI()/180)*SIN(L$342*PI()/180))*180/PI()","v":{"$error":"#REF!"}},{"$error":"#REF!"},{"$f":"ASIN(COS(#REF!*PI()/180)*COS(N$342*PI()/180)*COS($F355)+SIN(#REF!*PI()/180)*SIN(N$342*PI()/180))*180/PI()","v":{"$error":"#REF!"}},{"$error":"#REF!"},{"$f":"ASIN(COS(#REF!*PI()/180)*COS(P$342*PI()/180)*COS($F355)+SIN(#REF!*PI()/180)*SIN(P$342*PI()/180))*180/PI()","v":{"$error":"#REF!"}},{"$error":"#REF!"},{"$f":"ASIN(COS(#REF!*PI()/180)*COS(R$342*PI()/180)*COS($F355)+SIN(#REF!*PI()/180)*SIN(R$342*PI()/180))*180/PI()","v":{"$error":"#REF!"}},{"$error":"#REF!"},{"$f":"ASIN(COS(#REF!*PI()/180)*COS(T$342*PI()/180)*COS($F355)+SIN(#REF!*PI()/180)*SIN(T$342*PI()/180))*180/PI()","v":{"$error":"#REF!"}},{"$error":"#REF!"},{"$f":"ASIN(COS(#REF!*PI()/180)*COS(V$342*PI()/180)*COS($F355)+SIN(#REF!*PI()/180)*SIN(V$342*PI()/180))*180/PI()","v":{"$error":"#REF!"}},{"$error":"#REF!"},{"$f":"ASIN(COS(#REF!*PI()/180)*COS(X$342*PI()/180)*COS($F355)+SIN(#REF!*PI()/180)*SIN(X$342*PI()/180))*180/PI()","v":{"$error":"#REF!"}},{"$error":"#REF!"},{"$f":"ASIN(COS(#REF!*PI()/180)*COS(Z$342*PI()/180)*COS($F355)+SIN(#REF!*PI()/180)*SIN(Z$342*PI()/180))*180/PI()","v":{"$error":"#REF!"}},{"$error":"#REF!"},{"$f":"ASIN(COS(#REF!*PI()/180)*COS(AB$342*PI()/180)*COS($F355)+SIN(#REF!*PI()/180)*SIN(AB$342*PI()/180))*180/PI()","v":{"$error":"#REF!"}},{"$error":"#REF!"},{"$f":"ASIN(COS(#REF!*PI()/180)*COS(AD$342*PI()/180)*COS($F355)+SIN(#REF!*PI()/180)*SIN(AD$342*PI()/180))*180/PI()","v":{"$error":"#REF!"}},{"$error":"#REF!"}]
[56,"1990-02-24",{"v":-9.783189981258829,"d":"-10"},{"$f":"(90-#REF!)+C356","v":{"$error":"#REF!"}},12,{"v":0,"d":"0.00"},{"$f":"ASIN(COS(#REF!*PI()/180)*COS(H$342*PI()/180)*COS($F356)+SIN(#REF!*PI()/180)*SIN(H$342*PI()/180))*180/PI()","v":{"$error":"#REF!"}},{"$error":"#REF!"},{"$f":"ASIN(COS(#REF!*PI()/180)*COS(J$342*PI()/180)*COS($F356)+SIN(#REF!*PI()/180)*SIN(J$342*PI()/180))*180/PI()","v":{"$error":"#REF!"}},{"$error":"#REF!"},{"$f":"ASIN(COS(#REF!*PI()/180)*COS(L$342*PI()/180)*COS($F356)+SIN(#REF!*PI()/180)*SIN(L$342*PI()/180))*180/PI()","v":{"$error":"#REF!"}},{"$error":"#REF!"},{"$f":"ASIN(COS(#REF!*PI()/180)*COS(N$342*PI()/180)*COS($F356)+SIN(#REF!*PI()/180)*SIN(N$342*PI()/180))*180/PI()","v":{"$error":"#REF!"}},{"$error":"#REF!"},{"$f":"ASIN(COS(#REF!*PI()/180)*COS(P$342*PI()/180)*COS($F356)+SIN(#REF!*PI()/180)*SIN(P$342*PI()/180))*180/PI()","v":{"$error":"#REF!"}},{"$error":"#REF!"},{"$f":"ASIN(COS(#REF!*PI()/180)*COS(R$342*PI()/180)*COS($F356)+SIN(#REF!*PI()/180)*SIN(R$342*PI()/180))*180/PI()","v":{"$error":"#REF!"}},{"$error":"#REF!"},{"$f":"ASIN(COS(#REF!*PI()/180)*COS(T$342*PI()/180)*COS($F356)+SIN(#REF!*PI()/180)*SIN(T$342*PI()/180))*180/PI()","v":{"$error":"#REF!"}},{"$error":"#REF!"},{"$f":"ASIN(COS(#REF!*PI()/180)*COS(V$342*PI()/180)*COS($F356)+SIN(#REF!*PI()/180)*SIN(V$342*PI()/180))*180/PI()","v":{"$error":"#REF!"}},{"$error":"#REF!"},{"$f":"ASIN(COS(#REF!*PI()/180)*COS(X$342*PI()/180)*COS($F356)+SIN(#REF!*PI()/180)*SIN(X$342*PI()/180))*180/PI()","v":{"$error":"#REF!"}},{"$error":"#REF!"},{"$f":"ASIN(COS(#REF!*PI()/180)*COS(Z$342*PI()/180)*COS($F356)+SIN(#REF!*PI()/180)*SIN(Z$342*PI()/180))*180/PI()","v":{"$error":"#REF!"}},{"$error":"#REF!"},{"$f":"ASIN(COS(#REF!*PI()/180)*COS(AB$342*PI()/180)*COS($F356)+SIN(#REF!*PI()/180)*SIN(AB$342*PI()/180))*180/PI()","v":{"$error":"#REF!"}},{"$error":"#REF!"},{"$f":"ASIN(COS(#REF!*PI()/180)*COS(AD$342*PI()/180)*COS($F356)+SIN(#REF!*PI()/180)*SIN(AD$342*PI()/180))*180/PI()","v":{"$error":"#REF!"}},{"$error":"#REF!"}]
[61,"1990-03-01",{"v":-7.9149119954819565,"d":"-8"},{"$f":"(90-#REF!)+C357","v":{"$error":"#REF!"}},13,{"v":0.2617993877991494,"d":"0.26"},{"$f":"ASIN(COS(#REF!*PI()/180)*COS(H$342*PI()/180)*COS($F357)+SIN(#REF!*PI()/180)*SIN(H$342*PI()/180))*180/PI()","v":{"$error":"#REF!"}},{"$error":"#REF!"},{"$f":"ASIN(COS(#REF!*PI()/180)*COS(J$342*PI()/180)*COS($F357)+SIN(#REF!*PI()/180)*SIN(J$342*PI()/180))*180/PI()","v":{"$error":"#REF!"}},{"$error":"#REF!"},{"$f":"ASIN(COS(#REF!*PI()/180)*COS(L$342*PI()/180)*COS($F357)+SIN(#REF!*PI()/180)*SIN(L$342*PI()/180))*180/PI()","v":{"$error":"#REF!"}},{"$error":"#REF!"},{"$f":"ASIN(COS(#REF!*PI()/180)*COS(N$342*PI()/180)*COS($F357)+SIN(#REF!*PI()/180)*SIN(N$342*PI()/180))*180/PI()","v":{"$error":"#REF!"}},{"$error":"#REF!"},{"$f":"ASIN(COS(#REF!*PI()/180)*COS(P$342*PI()/180)*COS($F357)+SIN(#REF!*PI()/180)*SIN(P$342*PI()/180))*180/PI()","v":{"$error":"#REF!"}},{"$error":"#REF!"},{"$f":"ASIN(COS(#REF!*PI()/180)*COS(R$342*PI()/180)*COS($F357)+SIN(#REF!*PI()/180)*SIN(R$342*PI()/180))*180/PI()","v":{"$error":"#REF!"}},{"$error":"#REF!"},{"$f":"ASIN(COS(#REF!*PI()/180)*COS(T$342*PI()/180)*COS($F357)+SIN(#REF!*PI()/180)*SIN(T$342*PI()/180))*180/PI()","v":{"$error":"#REF!"}},{"$error":"#REF!"},{"$f":"ASIN(COS(#REF!*PI()/180)*COS(V$342*PI()/180)*COS($F357)+SIN(#REF!*PI()/180)*SIN(V$342*PI()/180))*180/PI()","v":{"$error":"#REF!"}},{"$error":"#REF!"},{"$f":"ASIN(COS(#REF!*PI()/180)*COS(X$342*PI()/180)*COS($F357)+SIN(#REF!*PI()/180)*SIN(X$342*PI()/180))*180/PI()","v":{"$error":"#REF!"}},{"$error":"#REF!"},{"$f":"ASIN(COS(#REF!*PI()/180)*COS(Z$342*PI()/180)*COS($F357)+SIN(#REF!*PI()/180)*SIN(Z$342*PI()/180))*180/PI()","v":{"$error":"#REF!"}},{"$error":"#REF!"},{"$f":"ASIN(COS(#REF!*PI()/180)*COS(AB$342*PI()/180)*COS($F357)+SIN(#REF!*PI()/180)*SIN(AB$342*PI()/180))*180/PI()","v":{"$error":"#REF!"}},{"$error":"#REF!"},{"$f":"ASIN(COS(#REF!*PI()/180)*COS(AD$342*PI()/180)*COS($F357)+SIN(#REF!*PI()/180)*SIN(AD$342*PI()/180))*180/PI()","v":{"$error":"#REF!"}},{"$error":"#REF!"}]
[66,"1990-03-06",{"v":-5.988034770474584,"d":"-6"},{"$f":"(90-#REF!)+C358","v":{"$error":"#REF!"}},14,{"v":0.5235987755982988,"d":"0.52"},{"$f":"ASIN(COS(#REF!*PI()/180)*COS(H$342*PI()/180)*COS($F358)+SIN(#REF!*PI()/180)*SIN(H$342*PI()/180))*180/PI()","v":{"$error":"#REF!"}},{"$error":"#REF!"},{"$f":"ASIN(COS(#REF!*PI()/180)*COS(J$342*PI()/180)*COS($F358)+SIN(#REF!*PI()/180)*SIN(J$342*PI()/180))*180/PI()","v":{"$error":"#REF!"}},{"$error":"#REF!"},{"$f":"ASIN(COS(#REF!*PI()/180)*COS(L$342*PI()/180)*COS($F358)+SIN(#REF!*PI()/180)*SIN(L$342*PI()/180))*180/PI()","v":{"$error":"#REF!"}},{"$error":"#REF!"},{"$f":"ASIN(COS(#REF!*PI()/180)*COS(N$342*PI()/180)*COS($F358)+SIN(#REF!*PI()/180)*SIN(N$342*PI()/180))*180/PI()","v":{"$error":"#REF!"}},{"$error":"#REF!"},{"$f":"ASIN(COS(#REF!*PI()/180)*COS(P$342*PI()/180)*COS($F358)+SIN(#REF!*PI()/180)*SIN(P$342*PI()/180))*180/PI()","v":{"$error":"#REF!"}},{"$error":"#REF!"},{"$f":"ASIN(COS(#REF!*PI()/180)*COS(R$342*PI()/180)*COS($F358)+SIN(#REF!*PI()/180)*SIN(R$342*PI()/180))*180/PI()","v":{"$error":"#REF!"}},{"$error":"#REF!"},{"$f":"ASIN(COS(#REF!*PI()/180)*COS(T$342*PI()/180)*COS($F358)+SIN(#REF!*PI()/180)*SIN(T$342*PI()/180))*180/PI()","v":{"$error":"#REF!"}},{"$error":"#REF!"},{"$f":"ASIN(COS(#REF!*PI()/180)*COS(V$342*PI()/180)*COS($F358)+SIN(#REF!*PI()/180)*SIN(V$342*PI()/180))*180/PI()","v":{"$error":"#REF!"}},{"$error":"#REF!"},{"$f":"ASIN(COS(#REF!*PI()/180)*COS(X$342*PI()/180)*COS($F358)+SIN(#REF!*PI()/180)*SIN(X$342*PI()/180))*180/PI()","v":{"$error":"#REF!"}},{"$error":"#REF!"},{"$f":"ASIN(COS(#REF!*PI()/180)*COS(Z$342*PI()/180)*COS($F358)+SIN(#REF!*PI()/180)*SIN(Z$342*PI()/180))*180/PI()","v":{"$error":"#REF!"}},{"$error":"#REF!"},{"$f":"ASIN(COS(#REF!*PI()/180)*COS(AB$342*PI()/180)*COS($F358)+SIN(#REF!*PI()/180)*SIN(AB$342*PI()/180))*180/PI()","v":{"$error":"#REF!"}},{"$error":"#REF!"},{"$f":"ASIN(COS(#REF!*PI()/180)*COS(AD$342*PI()/180)*COS($F358)+SIN(#REF!*PI()/180)*SIN(AD$342*PI()/180))*180/PI()","v":{"$error":"#REF!"}},{"$error":"#REF!"}]
[71,"1990-03-11",{"v":-4.016824231055649,"d":"-4"},{"$f":"(90-#REF!)+C359","v":{"$error":"#REF!"}},15,{"v":0.7853981633974483,"d":"0.79"},{"$f":"ASIN(COS(#REF!*PI()/180)*COS(H$342*PI()/180)*COS($F359)+SIN(#REF!*PI()/180)*SIN(H$342*PI()/180))*180/PI()","v":{"$error":"#REF!"}},{"$error":"#REF!"},{"$f":"ASIN(COS(#REF!*PI()/180)*COS(J$342*PI()/180)*COS($F359)+SIN(#REF!*PI()/180)*SIN(J$342*PI()/180))*180/PI()","v":{"$error":"#REF!"}},{"$error":"#REF!"},{"$f":"ASIN(COS(#REF!*PI()/180)*COS(L$342*PI()/180)*COS($F359)+SIN(#REF!*PI()/180)*SIN(L$342*PI()/180))*180/PI()","v":{"$error":"#REF!"}},{"$error":"#REF!"},{"$f":"ASIN(COS(#REF!*PI()/180)*COS(N$342*PI()/180)*COS($F359)+SIN(#REF!*PI()/180)*SIN(N$342*PI()/180))*180/PI()","v":{"$error":"#REF!"}},{"$error":"#REF!"},{"$f":"ASIN(COS(#REF!*PI()/180)*COS(P$342*PI()/180)*COS($F359)+SIN(#REF!*PI()/180)*SIN(P$342*PI()/180))*180/PI()","v":{"$error":"#REF!"}},{"$error":"#REF!"},{"$f":"ASIN(COS(#REF!*PI()/180)*COS(R$342*PI()/180)*COS($F359)+SIN(#REF!*PI()/180)*SIN(R$342*PI()/180))*180/PI()","v":{"$error":"#REF!"}},{"$error":"#REF!"},{"$f":"ASIN(COS(#REF!*PI()/180)*COS(T$342*PI()/180)*COS($F359)+SIN(#REF!*PI()/180)*SIN(T$342*PI()/180))*180/PI()","v":{"$error":"#REF!"}},{"$error":"#REF!"},{"$f":"ASIN(COS(#REF!*PI()/180)*COS(V$342*PI()/180)*COS($F359)+SIN(#REF!*PI()/180)*SIN(V$342*PI()/180))*180/PI()","v":{"$error":"#REF!"}},{"$error":"#REF!"},{"$f":"ASIN(COS(#REF!*PI()/180)*COS(X$342*PI()/180)*COS($F359)+SIN(#REF!*PI()/180)*SIN(X$342*PI()/180))*180/PI()","v":{"$error":"#REF!"}},{"$error":"#REF!"},{"$f":"ASIN(COS(#REF!*PI()/180)*COS(Z$342*PI()/180)*COS($F359)+SIN(#REF!*PI()/180)*SIN(Z$342*PI()/180))*180/PI()","v":{"$error":"#REF!"}},{"$error":"#REF!"},{"$f":"ASIN(COS(#REF!*PI()/180)*COS(AB$342*PI()/180)*COS($F359)+SIN(#REF!*PI()/180)*SIN(AB$342*PI()/180))*180/PI()","v":{"$error":"#REF!"}},{"$error":"#REF!"},{"$f":"ASIN(COS(#REF!*PI()/180)*COS(AD$342*PI()/180)*COS($F359)+SIN(#REF!*PI()/180)*SIN(AD$342*PI()/180))*180/PI()","v":{"$error":"#REF!"}},{"$error":"#REF!"}]
[76,"1990-03-16",{"v":-2.01587453039312,"d":"-2"},{"$f":"(90-#REF!)+C360","v":{"$error":"#REF!"}},16,{"v":1.0471975511965976,"d":"1.05"},{"$f":"ASIN(COS(#REF!*PI()/180)*COS(H$342*PI()/180)*COS($F360)+SIN(#REF!*PI()/180)*SIN(H$342*PI()/180))*180/PI()","v":{"$error":"#REF!"}},{"$error":"#REF!"},{"$f":"ASIN(COS(#REF!*PI()/180)*COS(J$342*PI()/180)*COS($F360)+SIN(#REF!*PI()/180)*SIN(J$342*PI()/180))*180/PI()","v":{"$error":"#REF!"}},{"$error":"#REF!"},{"$f":"ASIN(COS(#REF!*PI()/180)*COS(L$342*PI()/180)*COS($F360)+SIN(#REF!*PI()/180)*SIN(L$342*PI()/180))*180/PI()","v":{"$error":"#REF!"}},{"$error":"#REF!"},{"$f":"ASIN(COS(#REF!*PI()/180)*COS(N$342*PI()/180)*COS($F360)+SIN(#REF!*PI()/180)*SIN(N$342*PI()/180))*180/PI()","v":{"$error":"#REF!"}},{"$error":"#REF!"},{"$f":"ASIN(COS(#REF!*PI()/180)*COS(P$342*PI()/180)*COS($F360)+SIN(#REF!*PI()/180)*SIN(P$342*PI()/180))*180/PI()","v":{"$error":"#REF!"}},{"$error":"#REF!"},{"$f":"ASIN(COS(#REF!*PI()/180)*COS(R$342*PI()/180)*COS($F360)+SIN(#REF!*PI()/180)*SIN(R$342*PI()/180))*180/PI()","v":{"$error":"#REF!"}},{"$error":"#REF!"},{"$f":"ASIN(COS(#REF!*PI()/180)*COS(T$342*PI()/180)*COS($F360)+SIN(#REF!*PI()/180)*SIN(T$342*PI()/180))*180/PI()","v":{"$error":"#REF!"}},{"$error":"#REF!"},{"$f":"ASIN(COS(#REF!*PI()/180)*COS(V$342*PI()/180)*COS($F360)+SIN(#REF!*PI()/180)*SIN(V$342*PI()/180))*180/PI()","v":{"$error":"#REF!"}},{"$error":"#REF!"},{"$f":"ASIN(COS(#REF!*PI()/180)*COS(X$342*PI()/180)*COS($F360)+SIN(#REF!*PI()/180)*SIN(X$342*PI()/180))*180/PI()","v":{"$error":"#REF!"}},{"$error":"#REF!"},{"$f":"ASIN(COS(#REF!*PI()/180)*COS(Z$342*PI()/180)*COS($F360)+SIN(#REF!*PI()/180)*SIN(Z$342*PI()/180))*180/PI()","v":{"$error":"#REF!"}},{"$error":"#REF!"},{"$f":"ASIN(COS(#REF!*PI()/180)*COS(AB$342*PI()/180)*COS($F360)+SIN(#REF!*PI()/180)*SIN(AB$342*PI()/180))*180/PI()","v":{"$error":"#REF!"}},{"$error":"#REF!"},{"$f":"ASIN(COS(#REF!*PI()/180)*COS(AD$342*PI()/180)*COS($F360)+SIN(#REF!*PI()/180)*SIN(AD$342*PI()/180))*180/PI()","v":{"$error":"#REF!"}},{"$error":"#REF!"}]
[81,"1990-03-21",0,{"$f":"(90-#REF!)+C361","v":{"$error":"#REF!"}},17,{"v":1.3089969389957472,"d":"1.31"},{"$f":"ASIN(COS(#REF!*PI()/180)*COS(H$342*PI()/180)*COS($F361)+SIN(#REF!*PI()/180)*SIN(H$342*PI()/180))*180/PI()","v":{"$error":"#REF!"}},{"$error":"#REF!"},{"$f":"ASIN(COS(#REF!*PI()/180)*COS(J$342*PI()/180)*COS($F361)+SIN(#REF!*PI()/180)*SIN(J$342*PI()/180))*180/PI()","v":{"$error":"#REF!"}},{"$error":"#REF!"},{"$f":"ASIN(COS(#REF!*PI()/180)*COS(L$342*PI()/180)*COS($F361)+SIN(#REF!*PI()/180)*SIN(L$342*PI()/180))*180/PI()","v":{"$error":"#REF!"}},{"$error":"#REF!"},{"$f":"ASIN(COS(#REF!*PI()/180)*COS(N$342*PI()/180)*COS($F361)+SIN(#REF!*PI()/180)*SIN(N$342*PI()/180))*180/PI()","v":{"$error":"#REF!"}},{"$error":"#REF!"},{"$f":"ASIN(COS(#REF!*PI()/180)*COS(P$342*PI()/180)*COS($F361)+SIN(#REF!*PI()/180)*SIN(P$342*PI()/180))*180/PI()","v":{"$error":"#REF!"}},{"$f":"360-ASIN(COS(P$342*PI()/180)*SIN($F361)/COS(O361*PI()/180))*180/PI()","v":{"$error":"#REF!"}},{"$f":"ASIN(COS(#REF!*PI()/180)*COS(R$342*PI()/180)*COS($F361)+SIN(#REF!*PI()/180)*SIN(R$342*PI()/180))*180/PI()","v":{"$error":"#REF!"}},{"$f":"360-ASIN(COS(R$342*PI()/180)*SIN($F361)/COS(Q361*PI()/180))*180/PI()","v":{"$error":"#REF!"}},{"$f":"ASIN(COS(#REF!*PI()/180)*COS(T$342*PI()/180)*COS($F361)+SIN(#REF!*PI()/180)*SIN(T$342*PI()/180))*180/PI()","v":{"$error":"#REF!"}},{"$error":"#REF!"},{"$f":"ASIN(COS(#REF!*PI()/180)*COS(V$342*PI()/180)*COS($F361)+SIN(#REF!*PI()/180)*SIN(V$342*PI()/180))*180/PI()","v":{"$error":"#REF!"}},{"$error":"#REF!"},{"$f":"ASIN(COS(#REF!*PI()/180)*COS(X$342*PI()/180)*COS($F361)+SIN(#REF!*PI()/180)*SIN(X$342*PI()/180))*180/PI()","v":{"$error":"#REF!"}},{"$error":"#REF!"},{"$f":"ASIN(COS(#REF!*PI()/180)*COS(Z$342*PI()/180)*COS($F361)+SIN(#REF!*PI()/180)*SIN(Z$342*PI()/180))*180/PI()","v":{"$error":"#REF!"}},{"$error":"#REF!"},{"$f":"ASIN(COS(#REF!*PI()/180)*COS(AB$342*PI()/180)*COS($F361)+SIN(#REF!*PI()/180)*SIN(AB$342*PI()/180))*180/PI()","v":{"$error":"#REF!"}},{"$error":"#REF!"},{"$f":"ASIN(COS(#REF!*PI()/180)*COS(AD$342*PI()/180)*COS($F361)+SIN(#REF!*PI()/180)*SIN(AD$342*PI()/180))*180/PI()","v":{"$error":"#REF!"}},{"$error":"#REF!"}]
[86,"1990-03-26",{"v":2.01587453039312,"d":"2"},{"$f":"(90-#REF!)+C362","v":{"$error":"#REF!"}},18,{"v":1.5707963267948966,"d":"1.57"},{"$f":"ASIN(COS(#REF!*PI()/180)*COS(H$342*PI()/180)*COS($F362)+SIN(#REF!*PI()/180)*SIN(H$342*PI()/180))*180/PI()","v":{"$error":"#REF!"}},{"$error":"#REF!"},{"$f":"ASIN(COS(#REF!*PI()/180)*COS(J$342*PI()/180)*COS($F362)+SIN(#REF!*PI()/180)*SIN(J$342*PI()/180))*180/PI()","v":{"$error":"#REF!"}},{"$error":"#REF!"},{"$f":"ASIN(COS(#REF!*PI()/180)*COS(L$342*PI()/180)*COS($F362)+SIN(#REF!*PI()/180)*SIN(L$342*PI()/180))*180/PI()","v":{"$error":"#REF!"}},{"$error":"#REF!"},{"$f":"ASIN(COS(#REF!*PI()/180)*COS(N$342*PI()/180)*COS($F362)+SIN(#REF!*PI()/180)*SIN(N$342*PI()/180))*180/PI()","v":{"$error":"#REF!"}},{"$f":"360-ASIN(COS(N$342*PI()/180)*SIN($F362)/COS(M362*PI()/180))*180/PI()","v":{"$error":"#REF!"}},{"$f":"ASIN(COS(#REF!*PI()/180)*COS(P$342*PI()/180)*COS($F362)+SIN(#REF!*PI()/180)*SIN(P$342*PI()/180))*180/PI()","v":{"$error":"#REF!"}},{"$error":"#REF!"},{"$f":"ASIN(COS(#REF!*PI()/180)*COS(R$342*PI()/180)*COS($F362)+SIN(#REF!*PI()/180)*SIN(R$342*PI()/180))*180/PI()","v":{"$error":"#REF!"}},{"$error":"#REF!"},{"$f":"ASIN(COS(#REF!*PI()/180)*COS(T$342*PI()/180)*COS($F362)+SIN(#REF!*PI()/180)*SIN(T$342*PI()/180))*180/PI()","v":{"$error":"#REF!"}},{"$error":"#REF!"},{"$f":"ASIN(COS(#REF!*PI()/180)*COS(V$342*PI()/180)*COS($F362)+SIN(#REF!*PI()/180)*SIN(V$342*PI()/180))*180/PI()","v":{"$error":"#REF!"}},{"$error":"#REF!"},{"$f":"ASIN(COS(#REF!*PI()/180)*COS(X$342*PI()/180)*COS($F362)+SIN(#REF!*PI()/180)*SIN(X$342*PI()/180))*180/PI()","v":{"$error":"#REF!"}},{"$error":"#REF!"},{"$f":"ASIN(COS(#REF!*PI()/180)*COS(Z$342*PI()/180)*COS($F362)+SIN(#REF!*PI()/180)*SIN(Z$342*PI()/180))*180/PI()","v":{"$error":"#REF!"}},{"$error":"#REF!"},{"$f":"ASIN(COS(#REF!*PI()/180)*COS(AB$342*PI()/180)*COS($F362)+SIN(#REF!*PI()/180)*SIN(AB$342*PI()/180))*180/PI()","v":{"$error":"#REF!"}},{"$error":"#REF!"},{"$f":"ASIN(COS(#REF!*PI()/180)*COS(AD$342*PI()/180)*COS($F362)+SIN(#REF!*PI()/180)*SIN(AD$342*PI()/180))*180/PI()","v":{"$error":"#REF!"}},{"$error":"#REF!"}]
[91,"1990-03-31",{"v":4.016824231055649,"d":"4"},{"$f":"(90-#REF!)+C363","v":{"$error":"#REF!"}},19,{"v":1.832595714594046,"d":"1.83"},{"$f":"ASIN(COS(#REF!*PI()/180)*COS(H$342*PI()/180)*COS($F363)+SIN(#REF!*PI()/180)*SIN(H$342*PI()/180))*180/PI()","v":{"$error":"#REF!"}},{"$error":"#REF!"},{"$f":"ASIN(COS(#REF!*PI()/180)*COS(J$342*PI()/180)*COS($F363)+SIN(#REF!*PI()/180)*SIN(J$342*PI()/180))*180/PI()","v":{"$error":"#REF!"}},{"$f":"360-ASIN(COS(J$342*PI()/180)*SIN($F363)/COS(I363*PI()/180))*180/PI()","v":{"$error":"#REF!"}},{"$f":"ASIN(COS(#REF!*PI()/180)*COS(L$342*PI()/180)*COS($F363)+SIN(#REF!*PI()/180)*SIN(L$342*PI()/180))*180/PI()","v":{"$error":"#REF!"}},{"$f":"360-ASIN(COS(L$342*PI()/180)*SIN($F363)/COS(K363*PI()/180))*180/PI()","v":{"$error":"#REF!"}},{"$f":"ASIN(COS(#REF!*PI()/180)*COS(N$342*PI()/180)*COS($F363)+SIN(#REF!*PI()/180)*SIN(N$342*PI()/180))*180/PI()","v":{"$error":"#REF!"}},{"$error":"#REF!"},{"$f":"ASIN(COS(#REF!*PI()/180)*COS(P$342*PI()/180)*COS($F363)+SIN(#REF!*PI()/180)*SIN(P$342*PI()/180))*180/PI()","v":{"$error":"#REF!"}},{"$error":"#REF!"},{"$f":"ASIN(COS(#REF!*PI()/180)*COS(R$342*PI()/180)*COS($F363)+SIN(#REF!*PI()/180)*SIN(R$342*PI()/180))*180/PI()","v":{"$error":"#REF!"}},{"$error":"#REF!"},{"$f":"ASIN(COS(#REF!*PI()/180)*COS(T$342*PI()/180)*COS($F363)+SIN(#REF!*PI()/180)*SIN(T$342*PI()/180))*180/PI()","v":{"$error":"#REF!"}},{"$error":"#REF!"},{"$f":"ASIN(COS(#REF!*PI()/180)*COS(V$342*PI()/180)*COS($F363)+SIN(#REF!*PI()/180)*SIN(V$342*PI()/180))*180/PI()","v":{"$error":"#REF!"}},{"$error":"#REF!"},{"$f":"ASIN(COS(#REF!*PI()/180)*COS(X$342*PI()/180)*COS($F363)+SIN(#REF!*PI()/180)*SIN(X$342*PI()/180))*180/PI()","v":{"$error":"#REF!"}},{"$error":"#REF!"},{"$f":"ASIN(COS(#REF!*PI()/180)*COS(Z$342*PI()/180)*COS($F363)+SIN(#REF!*PI()/180)*SIN(Z$342*PI()/180))*180/PI()","v":{"$error":"#REF!"}},{"$error":"#REF!"},{"$f":"ASIN(COS(#REF!*PI()/180)*COS(AB$342*PI()/180)*COS($F363)+SIN(#REF!*PI()/180)*SIN(AB$342*PI()/180))*180/PI()","v":{"$error":"#REF!"}},{"$error":"#REF!"},{"$f":"ASIN(COS(#REF!*PI()/180)*COS(AD$342*PI()/180)*COS($F363)+SIN(#REF!*PI()/180)*SIN(AD$342*PI()/180))*180/PI()","v":{"$error":"#REF!"}},{"$error":"#REF!"}]
[96,"1990-04-05",{"v":5.988034770474584,"d":"6"},{"$f":"(90-#REF!)+C364","v":{"$error":"#REF!"}},20,{"v":2.0943951023931953,"d":"2.09"},{"$f":"ASIN(COS(#REF!*PI()/180)*COS(H$342*PI()/180)*COS($F364)+SIN(#REF!*PI()/180)*SIN(H$342*PI()/180))*180/PI()","v":{"$error":"#REF!"}},{"$error":"#REF!"},{"$f":"ASIN(COS(#REF!*PI()/180)*COS(J$342*PI()/180)*COS($F364)+SIN(#REF!*PI()/180)*SIN(J$342*PI()/180))*180/PI()","v":{"$error":"#REF!"}},{"$error":"#REF!"},{"$f":"ASIN(COS(#REF!*PI()/180)*COS(L$342*PI()/180)*COS($F364)+SIN(#REF!*PI()/180)*SIN(L$342*PI()/180))*180/PI()","v":{"$error":"#REF!"}},{"$error":"#REF!"},{"$f":"ASIN(COS(#REF!*PI()/180)*COS(N$342*PI()/180)*COS($F364)+SIN(#REF!*PI()/180)*SIN(N$342*PI()/180))*180/PI()","v":{"$error":"#REF!"}},{"$error":"#REF!"},{"$f":"ASIN(COS(#REF!*PI()/180)*COS(P$342*PI()/180)*COS($F364)+SIN(#REF!*PI()/180)*SIN(P$342*PI()/180))*180/PI()","v":{"$error":"#REF!"}},{"$error":"#REF!"},{"$f":"ASIN(COS(#REF!*PI()/180)*COS(R$342*PI()/180)*COS($F364)+SIN(#REF!*PI()/180)*SIN(R$342*PI()/180))*180/PI()","v":{"$error":"#REF!"}},{"$error":"#REF!"},{"$f":"ASIN(COS(#REF!*PI()/180)*COS(T$342*PI()/180)*COS($F364)+SIN(#REF!*PI()/180)*SIN(T$342*PI()/180))*180/PI()","v":{"$error":"#REF!"}},{"$error":"#REF!"},{"$f":"ASIN(COS(#REF!*PI()/180)*COS(V$342*PI()/180)*COS($F364)+SIN(#REF!*PI()/180)*SIN(V$342*PI()/180))*180/PI()","v":{"$error":"#REF!"}},{"$error":"#REF!"},{"$f":"ASIN(COS(#REF!*PI()/180)*COS(X$342*PI()/180)*COS($F364)+SIN(#REF!*PI()/180)*SIN(X$342*PI()/180))*180/PI()","v":{"$error":"#REF!"}},{"$error":"#REF!"},{"$f":"ASIN(COS(#REF!*PI()/180)*COS(Z$342*PI()/180)*COS($F364)+SIN(#REF!*PI()/180)*SIN(Z$342*PI()/180))*180/PI()","v":{"$error":"#REF!"}},{"$error":"#REF!"},{"$f":"ASIN(COS(#REF!*PI()/180)*COS(AB$342*PI()/180)*COS($F364)+SIN(#REF!*PI()/180)*SIN(AB$342*PI()/180))*180/PI()","v":{"$error":"#REF!"}},{"$error":"#REF!"},{"$f":"ASIN(COS(#REF!*PI()/180)*COS(AD$342*PI()/180)*COS($F364)+SIN(#REF!*PI()/180)*SIN(AD$342*PI()/180))*180/PI()","v":{"$error":"#REF!"}},{"$error":"#REF!"}]
[101,"1990-04-10",{"v":7.9149119954819565,"d":"8"},{"$f":"(90-#REF!)+C365","v":{"$error":"#REF!"}},21,{"v":2.356194490192345,"d":"2.36"},{"$f":"ASIN(COS(#REF!*PI()/180)*COS(H$342*PI()/180)*COS($F365)+SIN(#REF!*PI()/180)*SIN(H$342*PI()/180))*180/PI()","v":{"$error":"#REF!"}},{"$f":"360-ASIN(COS(H$342*PI()/180)*SIN($F365)/COS(G365*PI()/180))*180/PI()","v":{"$error":"#REF!"}},{"$f":"ASIN(COS(#REF!*PI()/180)*COS(J$342*PI()/180)*COS($F365)+SIN(#REF!*PI()/180)*SIN(J$342*PI()/180))*180/PI()","v":{"$error":"#REF!"}},{"$error":"#REF!"},{"$f":"ASIN(COS(#REF!*PI()/180)*COS(L$342*PI()/180)*COS($F365)+SIN(#REF!*PI()/180)*SIN(L$342*PI()/180))*180/PI()","v":{"$error":"#REF!"}},{"$error":"#REF!"},{"$f":"ASIN(COS(#REF!*PI()/180)*COS(N$342*PI()/180)*COS($F365)+SIN(#REF!*PI()/180)*SIN(N$342*PI()/180))*180/PI()","v":{"$error":"#REF!"}},{"$error":"#REF!"},{"$f":"ASIN(COS(#REF!*PI()/180)*COS(P$342*PI()/180)*COS($F365)+SIN(#REF!*PI()/180)*SIN(P$342*PI()/180))*180/PI()","v":{"$error":"#REF!"}},{"$error":"#REF!"},{"$f":"ASIN(COS(#REF!*PI()/180)*COS(R$342*PI()/180)*COS($F365)+SIN(#REF!*PI()/180)*SIN(R$342*PI()/180))*180/PI()","v":{"$error":"#REF!"}},{"$error":"#REF!"},{"$f":"ASIN(COS(#REF!*PI()/180)*COS(T$342*PI()/180)*COS($F365)+SIN(#REF!*PI()/180)*SIN(T$342*PI()/180))*180/PI()","v":{"$error":"#REF!"}},{"$f":"360-ASIN(COS(T$342*PI()/180)*SIN($F365)/COS(S365*PI()/180))*180/PI()","v":{"$error":"#REF!"}},{"$f":"ASIN(COS(#REF!*PI()/180)*COS(V$342*PI()/180)*COS($F365)+SIN(#REF!*PI()/180)*SIN(V$342*PI()/180))*180/PI()","v":{"$error":"#REF!"}},{"$f":"360-ASIN(COS(V$342*PI()/180)*SIN($F365)/COS(U365*PI()/180))*180/PI()","v":{"$error":"#REF!"}},{"$f":"ASIN(COS(#REF!*PI()/180)*COS(X$342*PI()/180)*COS($F365)+SIN(#REF!*PI()/180)*SIN(X$342*PI()/180))*180/PI()","v":{"$error":"#REF!"}},{"$f":"360-ASIN(COS(X$342*PI()/180)*SIN($F365)/COS(W365*PI()/180))*180/PI()","v":{"$error":"#REF!"}},{"$f":"ASIN(COS(#REF!*PI()/180)*COS(Z$342*PI()/180)*COS($F365)+SIN(#REF!*PI()/180)*SIN(Z$342*PI()/180))*180/PI()","v":{"$error":"#REF!"}},{"$f":"360-ASIN(COS(Z$342*PI()/180)*SIN($F365)/COS(Y365*PI()/180))*180/PI()","v":{"$error":"#REF!"}},{"$f":"ASIN(COS(#REF!*PI()/180)*COS(AB$342*PI()/180)*COS($F365)+SIN(#REF!*PI()/180)*SIN(AB$342*PI()/180))*180/PI()","v":{"$error":"#REF!"}},{"$f":"360-ASIN(COS(AB$342*PI()/180)*SIN($F365)/COS(AA365*PI()/180))*180/PI()","v":{"$error":"#REF!"}},{"$f":"ASIN(COS(#REF!*PI()/180)*COS(AD$342*PI()/180)*COS($F365)+SIN(#REF!*PI()/180)*SIN(AD$342*PI()/180))*180/PI()","v":{"$error":"#REF!"}},{"$f":"360-ASIN(COS(AD$342*PI()/180)*SIN($F365)/COS(AC365*PI()/180))*180/PI()","v":{"$error":"#REF!"}}]
[106,"1990-04-15",{"v":9.783189981258829,"d":"10"},{"$f":"(90-#REF!)+C366","v":{"$error":"#REF!"}},22,{"v":2.6179938779914944,"d":"2.62"},{"$f":"ASIN(COS(#REF!*PI()/180)*COS(H$342*PI()/180)*COS($F366)+SIN(#REF!*PI()/180)*SIN(H$342*PI()/180))*180/PI()","v":{"$error":"#REF!"}},{"$f":"360-ASIN(COS(H$342*PI()/180)*SIN($F366)/COS(G366*PI()/180))*180/PI()","v":{"$error":"#REF!"}},{"$f":"ASIN(COS(#REF!*PI()/180)*COS(J$342*PI()/180)*COS($F366)+SIN(#REF!*PI()/180)*SIN(J$342*PI()/180))*180/PI()","v":{"$error":"#REF!"}},{"$error":"#REF!"},{"$f":"ASIN(COS(#REF!*PI()/180)*COS(L$342*PI()/180)*COS($F366)+SIN(#REF!*PI()/180)*SIN(L$342*PI()/180))*180/PI()","v":{"$error":"#REF!"}},{"$error":"#REF!"},{"$f":"ASIN(COS(#REF!*PI()/180)*COS(N$342*PI()/180)*COS($F366)+SIN(#REF!*PI()/180)*SIN(N$342*PI()/180))*180/PI()","v":{"$error":"#REF!"}},{"$error":"#REF!"},{"$f":"ASIN(COS(#REF!*PI()/180)*COS(P$342*PI()/180)*COS($F366)+SIN(#REF!*PI()/180)*SIN(P$342*PI()/180))*180/PI()","v":{"$error":"#REF!"}},{"$error":"#REF!"},{"$f":"ASIN(COS(#REF!*PI()/180)*COS(R$342*PI()/180)*COS($F366)+SIN(#REF!*PI()/180)*SIN(R$342*PI()/180))*180/PI()","v":{"$error":"#REF!"}},{"$error":"#REF!"},{"$f":"ASIN(COS(#REF!*PI()/180)*COS(T$342*PI()/180)*COS($F366)+SIN(#REF!*PI()/180)*SIN(T$342*PI()/180))*180/PI()","v":{"$error":"#REF!"}},{"$f":"360-ASIN(COS(T$342*PI()/180)*SIN($F366)/COS(S366*PI()/180))*180/PI()","v":{"$error":"#REF!"}},{"$f":"ASIN(COS(#REF!*PI()/180)*COS(V$342*PI()/180)*COS($F366)+SIN(#REF!*PI()/180)*SIN(V$342*PI()/180))*180/PI()","v":{"$error":"#REF!"}},{"$f":"360-ASIN(COS(V$342*PI()/180)*SIN($F366)/COS(U366*PI()/180))*180/PI()","v":{"$error":"#REF!"}},{"$f":"ASIN(COS(#REF!*PI()/180)*COS(X$342*PI()/180)*COS($F366)+SIN(#REF!*PI()/180)*SIN(X$342*PI()/180))*180/PI()","v":{"$error":"#REF!"}},{"$f":"360-ASIN(COS(X$342*PI()/180)*SIN($F366)/COS(W366*PI()/180))*180/PI()","v":{"$error":"#REF!"}},{"$f":"ASIN(COS(#REF!*PI()/180)*COS(Z$342*PI()/180)*COS($F366)+SIN(#REF!*PI()/180)*SIN(Z$342*PI()/180))*180/PI()","v":{"$error":"#REF!"}},{"$f":"360-ASIN(COS(Z$342*PI()/180)*SIN($F366)/COS(Y366*PI()/180))*180/PI()","v":{"$error":"#REF!"}},{"$f":"ASIN(COS(#REF!*PI()/180)*COS(AB$342*PI()/180)*COS($F366)+SIN(#REF!*PI()/180)*SIN(AB$342*PI()/180))*180/PI()","v":{"$error":"#REF!"}},{"$f":"360-ASIN(COS(AB$342*PI()/180)*SIN($F366)/COS(AA366*PI()/180))*180/PI()","v":{"$error":"#REF!"}},{"$f":"ASIN(COS(#REF!*PI()/180)*COS(AD$342*PI()/180)*COS($F366)+SIN(#REF!*PI()/180)*SIN(AD$342*PI()/180))*180/PI()","v":{"$error":"#REF!"}},{"$f":"360-ASIN(COS(AD$342*PI()/180)*SIN($F366)/COS(AC366*PI()/180))*180/PI()","v":{"$error":"#REF!"}}]
[111,"1990-04-20",{"v":11.579036651251466,"d":"12"},{"$f":"(90-#REF!)+C367","v":{"$error":"#REF!"}},23,{"v":2.8797932657906435,"d":"2.88"},{"$f":"ASIN(COS(#REF!*PI()/180)*COS(H$342*PI()/180)*COS($F367)+SIN(#REF!*PI()/180)*SIN(H$342*PI()/180))*180/PI()","v":{"$error":"#REF!"}},{"$f":"360-ASIN(COS(H$342*PI()/180)*SIN($F367)/COS(G367*PI()/180))*180/PI()","v":{"$error":"#REF!"}},{"$f":"ASIN(COS(#REF!*PI()/180)*COS(J$342*PI()/180)*COS($F367)+SIN(#REF!*PI()/180)*SIN(J$342*PI()/180))*180/PI()","v":{"$error":"#REF!"}},{"$error":"#REF!"},{"$f":"ASIN(COS(#REF!*PI()/180)*COS(L$342*PI()/180)*COS($F367)+SIN(#REF!*PI()/180)*SIN(L$342*PI()/180))*180/PI()","v":{"$error":"#REF!"}},{"$error":"#REF!"},{"$f":"ASIN(COS(#REF!*PI()/180)*COS(N$342*PI()/180)*COS($F367)+SIN(#REF!*PI()/180)*SIN(N$342*PI()/180))*180/PI()","v":{"$error":"#REF!"}},{"$error":"#REF!"},{"$f":"ASIN(COS(#REF!*PI()/180)*COS(P$342*PI()/180)*COS($F367)+SIN(#REF!*PI()/180)*SIN(P$342*PI()/180))*180/PI()","v":{"$error":"#REF!"}},{"$error":"#REF!"},{"$f":"ASIN(COS(#REF!*PI()/180)*COS(R$342*PI()/180)*COS($F367)+SIN(#REF!*PI()/180)*SIN(R$342*PI()/180))*180/PI()","v":{"$error":"#REF!"}},{"$error":"#REF!"},{"$f":"ASIN(COS(#REF!*PI()/180)*COS(T$342*PI()/180)*COS($F367)+SIN(#REF!*PI()/180)*SIN(T$342*PI()/180))*180/PI()","v":{"$error":"#REF!"}},{"$f":"360-ASIN(COS(T$342*PI()/180)*SIN($F367)/COS(S367*PI()/180))*180/PI()","v":{"$error":"#REF!"}},{"$f":"ASIN(COS(#REF!*PI()/180)*COS(V$342*PI()/180)*COS($F367)+SIN(#REF!*PI()/180)*SIN(V$342*PI()/180))*180/PI()","v":{"$error":"#REF!"}},{"$f":"360-ASIN(COS(V$342*PI()/180)*SIN($F367)/COS(U367*PI()/180))*180/PI()","v":{"$error":"#REF!"}},{"$f":"ASIN(COS(#REF!*PI()/180)*COS(X$342*PI()/180)*COS($F367)+SIN(#REF!*PI()/180)*SIN(X$342*PI()/180))*180/PI()","v":{"$error":"#REF!"}},{"$f":"360-ASIN(COS(X$342*PI()/180)*SIN($F367)/COS(W367*PI()/180))*180/PI()","v":{"$error":"#REF!"}},{"$f":"ASIN(COS(#REF!*PI()/180)*COS(Z$342*PI()/180)*COS($F367)+SIN(#REF!*PI()/180)*SIN(Z$342*PI()/180))*180/PI()","v":{"$error":"#REF!"}},{"$f":"360-ASIN(COS(Z$342*PI()/180)*SIN($F367)/COS(Y367*PI()/180))*180/PI()","v":{"$error":"#REF!"}},{"$f":"ASIN(COS(#REF!*PI()/180)*COS(AB$342*PI()/180)*COS($F367)+SIN(#REF!*PI()/180)*SIN(AB$342*PI()/180))*180/PI()","v":{"$error":"#REF!"}},{"$f":"360-ASIN(COS(AB$342*PI()/180)*SIN($F367)/COS(AA367*PI()/180))*180/PI()","v":{"$error":"#REF!"}},{"$f":"ASIN(COS(#REF!*PI()/180)*COS(AD$342*PI()/180)*COS($F367)+SIN(#REF!*PI()/180)*SIN(AD$342*PI()/180))*180/PI()","v":{"$error":"#REF!"}},{"$f":"360-ASIN(COS(AD$342*PI()/180)*SIN($F367)/COS(AC367*PI()/180))*180/PI()","v":{"$error":"#REF!"}}]
[116,"1990-04-25",{"v":13.289156185026709,"d":"13"},{"$f":"(90-#REF!)+C368","v":{"$error":"#REF!"}},24,{"v":3.141592653589793,"d":"3.14"},{"$f":"ASIN(COS(#REF!*PI()/180)*COS(H$342*PI()/180)*COS($F368)+SIN(#REF!*PI()/180)*SIN(H$342*PI()/180))*180/PI()","v":{"$error":"#REF!"}},{"$f":"360-ASIN(COS(H$342*PI()/180)*SIN($F368)/COS(G368*PI()/180))*180/PI()","v":{"$error":"#REF!"}},{"$f":"ASIN(COS(#REF!*PI()/180)*COS(J$342*PI()/180)*COS($F368)+SIN(#REF!*PI()/180)*SIN(J$342*PI()/180))*180/PI()","v":{"$error":"#REF!"}},{"$error":"#REF!"},{"$f":"ASIN(COS(#REF!*PI()/180)*COS(L$342*PI()/180)*COS($F368)+SIN(#REF!*PI()/180)*SIN(L$342*PI()/180))*180/PI()","v":{"$error":"#REF!"}},{"$error":"#REF!"},{"$f":"ASIN(COS(#REF!*PI()/180)*COS(N$342*PI()/180)*COS($F368)+SIN(#REF!*PI()/180)*SIN(N$342*PI()/180))*180/PI()","v":{"$error":"#REF!"}},{"$error":"#REF!"},{"$f":"ASIN(COS(#REF!*PI()/180)*COS(P$342*PI()/180)*COS($F368)+SIN(#REF!*PI()/180)*SIN(P$342*PI()/180))*180/PI()","v":{"$error":"#REF!"}},{"$error":"#REF!"},{"$f":"ASIN(COS(#REF!*PI()/180)*COS(R$342*PI()/180)*COS($F368)+SIN(#REF!*PI()/180)*SIN(R$342*PI()/180))*180/PI()","v":{"$error":"#REF!"}},{"$error":"#REF!"},{"$f":"ASIN(COS(#REF!*PI()/180)*COS(T$342*PI()/180)*COS($F368)+SIN(#REF!*PI()/180)*SIN(T$342*PI()/180))*180/PI()","v":{"$error":"#REF!"}},{"$f":"360-ASIN(COS(T$342*PI()/180)*SIN($F368)/COS(S368*PI()/180))*180/PI()","v":{"$error":"#REF!"}},{"$f":"ASIN(COS(#REF!*PI()/180)*COS(V$342*PI()/180)*COS($F368)+SIN(#REF!*PI()/180)*SIN(V$342*PI()/180))*180/PI()","v":{"$error":"#REF!"}},{"$f":"360-ASIN(COS(V$342*PI()/180)*SIN($F368)/COS(U368*PI()/180))*180/PI()","v":{"$error":"#REF!"}},{"$f":"ASIN(COS(#REF!*PI()/180)*COS(X$342*PI()/180)*COS($F368)+SIN(#REF!*PI()/180)*SIN(X$342*PI()/180))*180/PI()","v":{"$error":"#REF!"}},{"$f":"360-ASIN(COS(X$342*PI()/180)*SIN($F368)/COS(W368*PI()/180))*180/PI()","v":{"$error":"#REF!"}},{"$f":"ASIN(COS(#REF!*PI()/180)*COS(Z$342*PI()/180)*COS($F368)+SIN(#REF!*PI()/180)*SIN(Z$342*PI()/180))*180/PI()","v":{"$error":"#REF!"}},{"$f":"360-ASIN(COS(Z$342*PI()/180)*SIN($F368)/COS(Y368*PI()/180))*180/PI()","v":{"$error":"#REF!"}},{"$f":"ASIN(COS(#REF!*PI()/180)*COS(AB$342*PI()/180)*COS($F368)+SIN(#REF!*PI()/180)*SIN(AB$342*PI()/180))*180/PI()","v":{"$error":"#REF!"}},{"$f":"360-ASIN(COS(AB$342*PI()/180)*SIN($F368)/COS(AA368*PI()/180))*180/PI()","v":{"$error":"#REF!"}},{"$f":"ASIN(COS(#REF!*PI()/180)*COS(AD$342*PI()/180)*COS($F368)+SIN(#REF!*PI()/180)*SIN(AD$342*PI()/180))*180/PI()","v":{"$error":"#REF!"}},{"$f":"360-ASIN(COS(AD$342*PI()/180)*SIN($F368)/COS(AC368*PI()/180))*180/PI()","v":{"$error":"#REF!"}}]
[121,"1990-04-30",{"v":14.90088745587466,"d":"15"},{"$f":"(90-#REF!)+C369","v":{"$error":"#REF!"}}]
[126,"1990-05-05",{"v":16.402297769361123,"d":"16"},{"$f":"(90-#REF!)+C370","v":{"$error":"#REF!"}}]
[131,"1990-05-10",{"v":17.782271208822287,"d":"18"},{"$f":"(90-#REF!)+C371","v":{"$error":"#REF!"}}]
[136,"1990-05-15",{"v":19.030590933722614,"d":"19"},{"$f":"(90-#REF!)+C372","v":{"$error":"#REF!"}}]
[141,"1990-05-20",{"v":20.138014821567577,"d":"20"},{"$f":"(90-#REF!)+C373","v":{"$error":"#REF!"}}]
[146,"1990-05-25",{"v":21.096343893345104,"d":"21"},{"$f":"(90-#REF!)+C374","v":{"$error":"#REF!"}}]
[151,"1990-05-30",{"v":21.898483015897597,"d":"22"},{"$f":"(90-#REF!)+C375","v":{"$error":"#REF!"}}]
[156,"1990-06-04",{"v":22.538493431805453,"d":"23"},{"$f":"(90-#REF!)+C376","v":{"$error":"#REF!"}}]
[161,"1990-06-09",{"$f":"23.45*SIN((A377-81)*2*PI()/365)","v":{"v":23.011636727869238,"d":"23"}},{"$f":"(90-#REF!)+C377","v":{"$error":"#REF!"}}]
[166,"1990-06-14",{"v":23.314409916663173,"d":"23"},{"$f":"(90-#REF!)+C378","v":{"$error":"#REF!"}}]
[171,"1990-06-19",{"v":23.44457137142844,"d":"23"},{"$f":"(90-#REF!)+C379","v":{"$error":"#REF!"}}]
[176,"1990-06-24",{"v":23.401157422293444,"d":"23"},{"$f":"(90-#REF!)+C380","v":{"$error":"#REF!"}}]
[181,"1990-06-29",{"v":23.184489490948383,"d":"23"},{"$f":"(90-#REF!)+C381","v":{"$error":"#REF!"}}]
[186,"1990-07-04",{"v":22.796171710951487,"d":"23"},{"$f":"(90-#REF!)+C382","v":{"$error":"#REF!"}}]
[191,"1990-07-09",{"v":22.239079051285422,"d":"22"},{"$f":"(90-#REF!)+C383","v":{"$error":"#REF!"}}]
[196,"1990-07-14",{"v":21.517336031092782,"d":"22"},{"$f":"(90-#REF!)+C384","v":{"$error":"#REF!"}}]
[201,"1990-07-19",{"v":20.63628618317941,"d":"21"},{"$f":"(90-#REF!)+C385","v":{"$error":"#REF!"}}]
[206,"1990-07-24",{"v":19.60245249236704,"d":"20"},{"$f":"(90-#REF!)+C386","v":{"$error":"#REF!"}}]
[211,"1990-07-29",{"v":18.42348910159586,"d":"18"},{"$f":"(90-#REF!)+C387","v":{"$error":"#REF!"}}]
[216,"1990-08-03",{"v":17.108124643328132,"d":"17"},{"$f":"(90-#REF!)+C388","v":{"$error":"#REF!"}}]
[221,"1990-08-08",{"v":15.66609761580736,"d":"16"},{"$f":"(90-#REF!)+C389","v":{"$error":"#REF!"}}]
[226,"1990-08-13",{"v":14.108084282624434,"d":"14"},{"$f":"(90-#REF!)+C390","v":{"$error":"#REF!"}}]
[231,"1990-08-18",{"v":12.445619629397337,"d":"12"},{"$f":"(90-#REF!)+C391","v":{"$error":"#REF!"}}]
[236,"1990-08-23",{"v":10.69101196277336,"d":"11"},{"$f":"(90-#REF!)+C392","v":{"$error":"#REF!"}}]
[241,"1990-08-28",{"v":8.857251784032977,"d":"9"},{"$f":"(90-#REF!)+C393","v":{"$error":"#REF!"}}]
[246,"1990-09-02",{"v":6.957915611963358,"d":"7"},{"$f":"(90-#REF!)+C394","v":{"$error":"#REF!"}}]
[251,"1990-09-07",{"v":5.007065467063219,"d":"5"},{"$f":"(90-#REF!)+C395","v":{"$error":"#REF!"}}]
[256,"1990-09-12",{"v":3.019144761263032,"d":"3"},{"$f":"(90-#REF!)+C396","v":{"$error":"#REF!"}}]
[261,"1990-09-17",{"v":1.0088713639562423,"d":"1"},{"$f":"(90-#REF!)+C397","v":{"$error":"#REF!"}}]
[266,"1990-09-22",{"v":-1.0088713639562366,"d":"-1"},{"$f":"(90-#REF!)+C398","v":{"$error":"#REF!"}}]
[271,"1990-09-27",{"v":-3.0191447612630165,"d":"-3"},{"$f":"(90-#REF!)+C399","v":{"$error":"#REF!"}}]
[276,"1990-10-02",{"v":-5.007065467063214,"d":"-5"},{"$f":"(90-#REF!)+C400","v":{"$error":"#REF!"}}]
[281,"1990-10-07",{"v":-6.957915611963342,"d":"-7"},{"$f":"(90-#REF!)+C401","v":{"$error":"#REF!"}}]
[286,"1990-10-12",{"v":-8.857251784032972,"d":"-9"},{"$f":"(90-#REF!)+C402","v":{"$error":"#REF!"}}]
[291,"1990-10-17",{"v":-10.691011962773365,"d":"-11"},{"$f":"(90-#REF!)+C403","v":{"$error":"#REF!"}}]
[296,"1990-10-22",{"v":-12.445619629397331,"d":"-12"},{"$f":"(90-#REF!)+C404","v":{"$error":"#REF!"}}]
[301,"1990-10-27",{"v":-14.108084282624436,"d":"-14"},{"$f":"(90-#REF!)+C405","v":{"$error":"#REF!"}}]
[306,"1990-11-01",{"v":-15.666097615807354,"d":"-16"},{"$f":"(90-#REF!)+C406","v":{"$error":"#REF!"}}]
[311,"1990-11-06",{"v":-17.108124643328132,"d":"-17"},{"$f":"(90-#REF!)+C407","v":{"$error":"#REF!"}}]
[316,"1990-11-11",{"v":-18.42348910159585,"d":"-18"},{"$f":"(90-#REF!)+C408","v":{"$error":"#REF!"}}]
[321,"1990-11-16",{"$f":"23.45*SIN((A409-81)*2*PI()/365)","v":{"v":-19.602452492367025,"d":"-20"}},{"$f":"(90-#REF!)+C409","v":{"$error":"#REF!"}}]
[326,"1990-11-21",{"v":-20.63628618317941,"d":"-21"},{"$f":"(90-#REF!)+C410","v":{"$error":"#REF!"}}]
[331,"1990-11-26",{"v":-21.517336031092775,"d":"-22"},{"$f":"(90-#REF!)+C411","v":{"$error":"#REF!"}}]
[336,"1990-12-01",{"v":-22.239079051285422,"d":"-22"},{"$f":"(90-#REF!)+C412","v":{"$error":"#REF!"}}]
[341,"1990-12-06",{"v":-22.796171710951484,"d":"-23"},{"$f":"(90-#REF!)+C413","v":{"$error":"#REF!"}}]
[346,"1990-12-11",{"v":-23.18448949094838,"d":"-23"},{"$f":"(90-#REF!)+C414","v":{"$error":"#REF!"}}]
[351,"1990-12-16",{"v":-23.401157422293444,"d":"-23"},{"$f":"(90-#REF!)+C415","v":{"$error":"#REF!"}}]
[356,"1990-12-21",{"v":-23.44457137142844,"d":"-23"},{"$f":"(90-#REF!)+C416","v":{"$error":"#REF!"}}]
[361,"1990-12-26",{"v":-23.314409916663173,"d":"-23"},{"$f":"(90-#REF!)+C417","v":{"$error":"#REF!"}}]
[366,"1990-12-31",{"v":-23.011636727869238,"d":"-23"},{"$f":"(90-#REF!)+C418","v":{"$error":"#REF!"}}]
[]
[]
[]
[]
[]
["Données déperditions hydrauliques : Ne pas modifier sans savoir"]
[]
[]
[]
[null,"Matériau","Conductivité thermique (W/m.K)",null,"Matériau","Conductivité thermique (W/m.K)","Epaisseur du tube (m)","Classe d'isolation",null,null,"Calcul de marge","Knauf HPS035 ALuR <30mm"]
[{"$nulls":4},"Cuivre ",{"v":380,"d":"380.000"},{"v":2E-3,"d":"0.002"},"Classe 1",null,"Température",10,20,30,40,50,80,100]
[null,"Laine minérale",{"v":0.04,"d":"0.040"},null,"PVC_HTA ",{"v":0.16,"d":"0.160"},0.003,"Classe 2",null,"Lambda équivalent",{"v":0.031917600000000004,"d":"0.032"},{"v":0.033000400000000006,"d":"0.033"},{"v":0.0341484,"d":"0.034"},{"v":0.0353616,"d":"0.035"},{"v":0.036640000000000006,"d":"0.037"},{"v":0.040866400000000004,"d":"0.041"},{"v":0.04401,"d":"0.044"}]
[null,"Armaflex",{"v":0.03,"d":"0.030"},null,"Acier",{"v":26,"d":"26.000"},0.008,"Classe 3",null,"% d'augementation",{"$f":"K430/$K$430-1","v":{"v":0,"d":"0.0"}},{"$f":"L430/$K$430-1","v":{"v":0.0339248565055017,"d":"0.0"}},{"v":0.06989247311827951,"d":"0.1"},{"v":0.10790284983833365,"d":"0.1"},{"v":0.14795598666566412,"d":"0.1"},{"v":0.28037195779131263,"d":"0.3"},{"v":0.37886307241145945,"d":"0.4"}]
[null,"NON ISOLE",{"$nulls":5},"Classe 4"]
[null,"Isolant spécifique",{"$f":"#REF!","v":{"$error":"#REF!"}},{"$nulls":4},"Classe 5"]
[{"$nulls":7},"Classe 6"]
[null,"Emplacement","Temp °C"]
[null,"EXT",{"$f":"#REF!","v":{"$error":"#REF!"}}]
[null,"LNC",{"$f":"#REF!","v":{"$error":"#REF!"}}]
[null,"LC",{"$f":"#REF!","v":{"$error":"#REF!"}}]
[]
[]
[{"$nulls":3},"Classe 1"]
[{"$nulls":4},"Conductivité thermique (W/m.K)"]
[null,"Diamètre extérieur du conduit (sans isolant) mm",{"$f":"IF(A443=\"\",\"\",A443&B443)","v":""},"coefficient de perte Ul (W/m.K)",0.03,0.04,0.05,0.06]
["Classe 1",10,{"$f":"IF(A444=\"\",\"\",A444&B444)","v":"Classe 110"},0.25,1,3,6,11]
["Classe 1",20,"Classe 120",0.29,5,7,11,16]
["Classe 1",30,"Classe 130",0.32,8,12,17,23]
["Classe 1",40,"Classe 140",0.35,10,14,20,28]
["Classe 1",60,"Classe 160",0.42,12,18,26,37]
["Classe 1",80,"Classe 180",0.48,14,22,31,41]
["Classe 1",100,"Classe 1100",0.55,15,23,32,44]
["Classe 1",200,"Classe 1200",0.88,19,26,35,56]
["Classe 1",300,"Classe 1300",1.21,21,29,39,50]
[null,null,"","Classe 2"]
[null,null,"",null,"Conductivité thermique (W/m.K)"]
[null,"Diamètre extérieur du conduit (sans isolant) mm","","coefficient de perte Ul (W/m.K)",0.03,0.04,0.05,0.06]
["Classe 2",10,"Classe 210",0.23,1,3,6,11]
["Classe 2",20,"Classe 220",0.25,5,7,11,16]
["Classe 2",30,"Classe 230",0.28,8,12,17,23]
["Classe 2",40,"Classe 240",0.3,10,14,20,28]
["Classe 2",60,"Classe 260",0.36,12,18,26,37]
["Classe 2",80,"Classe 280",0.41,14,22,31,41]
["Classe 2",100,"Classe 2100",0.46,15,23,32,44]
["Classe 2",200,"Classe 2200",0.72,19,26,35,56]
["Classe 2",300,"Classe 2300",0.98,21,29,39,50]
[null,null,"","Classe 3"]
[null,null,"",null,"Conductivité thermique (W/m.K)"]
[null,"Diamètre extérieur du conduit (sans isolant) mm","","coefficient de perte Ul (W/m.K)",0.03,0.04,0.05,0.06]
["Classe 3",10,"Classe 310",0.2,4,7,13,20]
["Classe 3",20,"Classe 320",0.22,10,17,26,38]
["Classe 3",30,"Classe 330",0.24,14,23,35,50]
["Classe 3",40,"Classe 340",0.26,18,28,41,58]
["Classe 3",60,"Classe 360",0.3,23,35,50,69]
["Classe 3",80,"Classe 380",0.34,26,39,55,74]
["Classe 3",100,"Classe 3100",0.38,29,42,59,78]
["Classe 3",null,"Classe 3"]
["Classe 3",null,"Classe 3"]
[null,null,"","Classe 4"]
[null,null,"",null,"Conductivité thermique (W/m.K)"]
[null,"Diamètre extérieur du conduit (sans isolant) mm","","coefficient de perte Ul (W/m.K)",0.03,0.04,0.05,0.06]
["Classe 4",10,"Classe 410",0.18,6,11,19,31]
["Classe 4",20,"Classe 420",0.19,13,23,36,56]
["Classe 4",30,"Classe 430",0.21,19,31,49,72]
["Classe 4",40,"Classe 440",0.22,24,38,58,84]
["Classe 4",60,"Classe 460",0.25,30,47,70,99]
["Classe 4",80,"Classe 480",0.28,35,54,77,107]
["Classe 4",100,"Classe 4100",0.31,38,58,82,112]
["Classe 4",null,"Classe 4"]
["Classe 4",null,"Classe 4"]
[null,null,"","Classe 5"]
[null,null,"",null,"Conductivité thermique (W/m.K)"]
[null,"Diamètre extérieur du conduit (sans isolant) mm","","coefficient de perte Ul (W/m.K)",0.03,0.04,0.05,0.06]
["Classe 5",10,"Classe 510",0.15,9,17,29,49]
["Classe 5",20,"Classe 520",0.16,18,33,54,86]
["Classe 5",30,"Classe 530",0.17,26,45,71,111]
["Classe 5",40,"Classe 540",0.18,32,54,85,128]
["Classe 5",60,"Classe 560",0.21,41,67,102,150]
["Classe 5",80,"Classe 580",0.23,48,76,113,162]
["Classe 5",100,"Classe 5100",0.25,53,82,120,169]
["Classe 5",200,"Classe 5200",0.36,65,97,134,178]
["Classe 5",300,"Classe 5300",0.47,71,102,137,178]
[null,null,"","Classe 6"]
[null,null,"",null,"Conductivité thermique (W/m.K)"]
[null,"Diamètre extérieur du conduit (sans isolant) mm","","coefficient de perte Ul (W/m.K)",0.03,0.04,0.05,0.06]
["Classe 6",10,"Classe 610",0.13,13,22,40,62]
["Classe 6",20,"Classe 620",0.14,25,36,70,110]
["Classe 6",30,"Classe 630",0.14,35,57,94,148]
["Classe 6",40,"Classe 640",0.15,43,68,110,156]
["Classe 6",60,{"$f":"IF(A508=\"\",\"\",A508&B508)","v":"Classe 660"},0.17,60,90,138,210]
["Classe 6",80,"Classe 680",0.18,70,108,155,240]
["Classe 6",100,"Classe 6100",0.2,75,115,165,260]
["Classe 6",200,"Classe 6200",0.28,83,133,180,280]
["Classe 6",300,"Classe 6300",0.36,89,149,223,280]
[]
[]
[]
["Données Liste déroulantes : Ne pas modifier sans savoir"]
[]
["Ne pas modifier sans savoir"]
[]
[]
[]
[null,"pers",null,"m3/h.pers","WC",null,"oui",null,"DJU fourbe",null,null,"Début :","Fin :","Pause :",null,"% veille","% Foison"]
[null,"pers/m²",null,"Vol/h","Points d'eau",null,"non",null,"DJU méthode météo",null,1,"00:30:00","00:30:00","00:00:00"]
[{"$nulls":3},"m3/h.local",{"$nulls":4},"DJU méthode pro",null,2,{"$f":"L523+0.5/24","v":"01:00:00"},{"$f":"M523+0.5/24","v":"01:00:00"},"00:30:00",null,0,"non"]
[{"$nulls":10},3,{"$f":"L524+0.5/24","v":"01:30:00"},"01:30:00",{"$f":"N524+0.5/24","v":"01:00:00"},null,{"v":0.01,"d":"1%"},{"v":1,"d":"100%"}]
[{"$nulls":3},{"$f":"Typologie!E5","v":"Ouverture :"},{"$f":"Typologie!F5","v":"Fermeture :"},{"$f":"Typologie!H5","v":"Durée de la Pause :"},{"$f":"Typologie!G5","v":"Début de la pause :"},"Fin pause","Pause ?",null,4,"02:00:00","02:00:00",{"$f":"N525+0.5/24","v":"01:30:00"},null,{"v":0.02,"d":"2%"},{"v":0.95,"d":"95%"}]
[null,"Tertiaire",{"$f":"IF(COUNTIF(Typologie!$D$6:$D$10,Données!B527)>0,\"\",Données!B527)","v":""},{"$f":"VLOOKUP($B527,Typologie!$D$6:$I$10,2,0)","v":"08:00:00"},{"$f":"VLOOKUP($B527,Typologie!$D$6:$I$10,3,0)","v":"18:00:00"},{"$f":"VLOOKUP($B527,Typologie!$D$6:$I$10,5,0)","v":"02:00:00"},{"$f":"VLOOKUP($B527,Typologie!$D$6:$G$10,4,0)","v":"12:00:00"},{"$f":"G527+F527+0.00001","v":"14:00:00.864"},{"$f":"IF(G527=H527,\"non\",\"oui\")","v":"oui"},null,5,"02:30:00","02:30:00",{"$f":"N526+0.5/24","v":"02:00:00"},null,{"v":0.03,"d":"3%"},{"v":0.9,"d":"90%"}]
[null,"Logement",{"$f":"IF(COUNTIF(Typologie!$D$6:$D$10,Données!B528)>0,\"\",Données!B528)","v":"Logement"},{"$f":"VLOOKUP($B528,Typologie!$D$6:$I$10,2,0)","v":{"$error":"#N/A"}},{"$f":"VLOOKUP($B528,Typologie!$D$6:$I$10,3,0)","v":{"$error":"#N/A"}},{"$f":"VLOOKUP($B528,Typologie!$D$6:$I$10,5,0)","v":{"$error":"#N/A"}},{"$f":"VLOOKUP($B528,Typologie!$D$6:$G$10,4,0)","v":{"$error":"#N/A"}},{"$f":"G528+F528","v":{"$error":"#N/A"}},{"$f":"IF(G528=H528,\"non\",\"oui\")","v":{"$error":"#N/A"}},null,6,"03:00:00","03:00:00",{"$f":"N527+0.5/24","v":"02:30:00"},null,{"v":0.04,"d":"4%"},{"v":0.85,"d":"85%"}]
[null,"Enseignement",{"$f":"IF(COUNTIF(Typologie!$D$6:$D$10,Données!B529)>0,\"\",Données!B529)","v":"Enseignement"},{"$f":"VLOOKUP($B529,Typologie!$D$6:$I$10,2,0)","v":{"$error":"#N/A"}},{"$f":"VLOOKUP($B529,Typologie!$D$6:$I$10,3,0)","v":{"$error":"#N/A"}},{"$f":"VLOOKUP($B529,Typologie!$D$6:$I$10,5,0)","v":{"$error":"#N/A"}},{"$f":"VLOOKUP($B529,Typologie!$D$6:$G$10,4,0)","v":{"$error":"#N/A"}},{"$error":"#N/A"},{"$error":"#N/A"},null,7,"03:30:00","03:30:00",{"$f":"N528+0.5/24","v":"03:00:00"},null,{"v":0.05,"d":"5%"},{"v":0.8,"d":"80%"}]
[null,"Restauration",{"$f":"IF(COUNTIF(Typologie!$D$6:$D$10,Données!B530)>0,\"\",Données!B530)","v":"Restauration"},{"$f":"VLOOKUP($B530,Typologie!$D$6:$I$10,2,0)","v":{"$error":"#N/A"}},{"$f":"VLOOKUP($B530,Typologie!$D$6:$I$10,3,0)","v":{"$error":"#N/A"}},{"$f":"VLOOKUP($B530,Typologie!$D$6:$I$10,5,0)","v":{"$error":"#N/A"}},{"$f":"VLOOKUP($B530,Typologie!$D$6:$G$10,4,0)","v":{"$error":"#N/A"}},{"$error":"#N/A"},{"$error":"#N/A"},null,8,"04:00:00","04:00:00","01:00:00",null,{"v":0.06,"d":"6%"},{"v":0.75,"d":"75%"}]
[null,"Commerces",{"$f":"IF(COUNTIF(Typologie!$D$6:$D$10,Données!B531)>0,\"\",Données!B531)","v":"Commerces"},{"$f":"VLOOKUP($B531,Typologie!$D$6:$I$10,2,0)","v":{"$error":"#N/A"}},{"$f":"VLOOKUP($B531,Typologie!$D$6:$I$10,3,0)","v":{"$error":"#N/A"}},{"$f":"VLOOKUP($B531,Typologie!$D$6:$I$10,5,0)","v":{"$error":"#N/A"}},{"$f":"VLOOKUP($B531,Typologie!$D$6:$G$10,4,0)","v":{"$error":"#N/A"}},{"$error":"#N/A"},{"$error":"#N/A"},null,9,"04:30:00","04:30:00","01:30:00",null,{"v":0.07,"d":"7%"},{"v":0.7,"d":"70%"}]
[null,"Autres",{"$f":"IF(COUNTIF(Typologie!$D$6:$D$10,Données!B532)>0,\"\",Données!B532)","v":"Autres"},{"$f":"VLOOKUP($B532,Typologie!$D$6:$I$10,2,0)","v":{"$error":"#N/A"}},{"$f":"VLOOKUP($B532,Typologie!$D$6:$I$10,3,0)","v":{"$error":"#N/A"}},{"$f":"VLOOKUP($B532,Typologie!$D$6:$I$10,5,0)","v":{"$error":"#N/A"}},{"$f":"VLOOKUP($B532,Typologie!$D$6:$G$10,4,0)","v":{"$error":"#N/A"}},{"$f":"G532+F532","v":{"$error":"#N/A"}},{"$f":"IF(G532=H532,\"non\",\"oui\")","v":{"$error":"#N/A"}},null,10,"05:00:00","05:00:00","02:00:00",null,{"v":0.08,"d":"8%"},{"v":0.65,"d":"65%"}]
[{"$nulls":10},11,"05:30:00","05:30:00","02:30:00",null,{"v":0.09,"d":"9%"},{"v":0.6,"d":"60%"}]
[{"$nulls":10},12,"06:00:00","06:00:00","03:00:00",null,{"v":0.1,"d":"10%"},{"v":0.55,"d":"55%"}]
[null,"Métabolisme :","W/pers",null,"Régulation de la ventilation","% de débit en innocupation","Préventil et postventil",{"$nulls":3},13,"06:30:00","06:30:00","03:30:00",null,{"v":0.11,"d":"11%"},{"v":0.5,"d":"50%"}]
[null,"Travail de bureau",123,null,"Permanent 24h",{"$nulls":5},14,"07:00:00","07:00:00","04:00:00",null,{"v":0.12,"d":"12%"},{"v":0.45,"d":"45%"}]
[null,"En déplacement",180,null,"Hygro A",{"v":0.5,"d":"50%"},{"$nulls":4},15,"07:30:00","07:30:00","02:00:00",null,{"v":0.13,"d":"13%"},{"v":0.4,"d":"40%"}]
[null,"En train de manger",110,null,"Sonde CO2",{"v":0.1,"d":"10%"},{"$nulls":4},16,"08:00:00","08:00:00","02:30:00",null,{"v":0.14,"d":"14%"},{"v":0.35,"d":"35%"}]
[null,"Debout",133,null,"Planning on/off",null,"01:00:00",{"$nulls":3},17,"08:30:00","08:30:00","03:00:00",null,{"v":0.15,"d":"15%"},{"v":0.3,"d":"30%"}]
[null,"Sport",360,null,"Planning + Sonde",{"v":0.1,"d":"10%"},"01:00:00",{"$nulls":3},18,"09:00:00","09:00:00","03:30:00",null,{"v":0.16,"d":"16%"},{"v":0.25,"d":"25%"}]
[null,"Sommeil",72,{"$nulls":7},19,"09:30:00","09:30:00","04:00:00",null,{"v":0.17,"d":"17%"},{"v":0.2,"d":"20%"}]
[null,"Assis",108,{"$nulls":7},20,"10:00:00","10:00:00","04:30:00",null,{"v":0.18,"d":"18%"},{"v":0.15,"d":"15%"}]
[{"$nulls":10},21,"10:30:00","10:30:00","05:00:00",null,{"v":0.19,"d":"19%"},{"v":0.1,"d":"10%"}]
[{"$nulls":4},"Emetteurs de chaleur","Emetteurs de froid","Système de ventilations :",null,"Janvier",1,22,"11:00:00","11:00:00","03:00:00",null,{"v":0.2,"d":"20%"},{"v":0.05,"d":"5%"}]
[null,"Préchauffage",null,null,"Aérotherme","Aérotherme","VMC Simple flux",null,"février",2,23,"11:30:00","11:30:00","03:30:00",null,{"v":0.3,"d":"30%"},{"v":0.82,"d":"82%"}]
[null,"00:00:00",null,null,"Cassette rayonnante","Tout air","VMC Double Flux",null,"Mars",3,24,"12:00:00","12:00:00","04:00:00",null,{"v":0.4,"d":"40%"}]
[null,"00:30:00",null,null,"Convecteur électrique","Mur rafraichissant","CTA sans échangeur",null,"Avril",4,25,"12:30:00","12:30:00","04:30:00",null,{"v":0.5,"d":"50%"}]
[null,{"$f":"B547+0.5/24","v":"01:00:00"},null,null,"Tout air","Panneau rayonnant","CTA avec échangeur",null,"Mai",5,26,"13:00:00","13:00:00","05:00:00",null,{"v":0.6,"d":"60%"}]
[null,{"$f":"B548+0.5/24","v":"01:30:00"},null,null,"Emetteur à forte induction","Plafond rafraichissant","VMI",null,"Juin",6,27,"13:30:00","13:30:00","05:30:00",null,{"v":0.7,"d":"70%"}]
[null,"02:00:00",null,null,"Mur chauffant","Plancher rafraichissant","Ventilation hybride",null,"Juillet",7,28,"14:00:00","14:00:00","06:00:00",null,{"v":0.8,"d":"80%"}]
[null,"02:30:00",null,null,"Panneau rayonnant","Poutre froide",null,null,"Août",8,29,{"$f":"L550+0.5/24","v":"14:30:00"},{"$f":"M550+0.5/24","v":"14:30:00"},"04:00:00",null,{"v":0.9,"d":"90%"}]
[null,"03:00:00",null,null,"Plafond chauffant","Ventilo-convecteur",null,null,"Septembre",9,30,{"$f":"L551+0.5/24","v":"15:00:00"},"15:00:00","04:30:00",null,{"v":1,"d":"100%"}]
[{"$nulls":4},"Plancher chauffant","Autres",null,null,"Octobre",10,31,"15:30:00","15:30:00","05:00:00"]
[{"$nulls":4},"Poele",{"$nulls":3},"Novembre",11,32,"16:00:00","16:00:00","05:30:00"]
[null,"Profil d'apport internes",null,null,"Radiateur à eau",{"$nulls":3},"Décembre",12,33,"16:30:00","16:30:00","06:00:00"]
[{"$nulls":4},"Tube rayonnant gaz",{"$nulls":5},34,"17:00:00","17:00:00","06:30:00"]
[null,"Constant suivant occupation",null,null,"Ventilo-convecteur",{"$nulls":5},35,"17:30:00","17:30:00","07:00:00"]
[null,"Foisonnement suivant l'occupation",null,null,"Panneau rayonnant électrique",{"$nulls":5},36,"18:00:00","18:00:00","05:00:00"]
[null,"Profil d'apport perso 1",null,null,"Autres",{"$nulls":5},37,"18:30:00","18:30:00","05:30:00"]
[null,"Profil d'apport perso 2",{"$nulls":8},38,"19:00:00","19:00:00","06:00:00"]
[null,"Profil d'apport perso 3",{"$nulls":8},39,"19:30:00","19:30:00","06:30:00"]
[null,"Profil d'apport perso 4",{"$nulls":8},40,"20:00:00","20:00:00","07:00:00"]
[{"$nulls":10},41,"20:30:00","20:30:00","07:30:00"]
[{"$nulls":10},42,"21:00:00","21:00:00","08:00:00"]
[{"$nulls":10},43,"21:30:00","21:30:00","06:00:00"]
[null,null,"Volume intérieur","Air extérieur","Sol",null,"Gestion de l'éclairage","Gradation de l'éclairage",null,null,44,{"$f":"L565+0.5/24","v":"22:00:00"},{"$f":"M565+0.5/24","v":"22:00:00"},"06:30:00"]
[null,null,"RSI","RSE",null,null,"Pas de gestion",{"$nulls":3},45,{"$f":"L566+0.5/24","v":"22:30:00"},"22:30:00","07:00:00"]
["Mur","Paroi verticale flux de chaleur horizontal",0.13,0.04,0,null,"Interrupteur manuel","Par gestion manuelle",null,null,46,"23:00:00","23:00:00","07:30:00"]
["Plancher haut","Paroi horizontale flux de chaleur vers le haut",0.1,{"$nulls":3},"Minuteur","Avec gradation automatique",null,null,47,"23:30:00","23:30:00","08:00:00"]
["Plancher bas","Paroi horizontale flux de chaleur vers le bas",0.17,{"$nulls":3},"Détection de présence","ON/OFF en fonction de seuil",null,null,48,1.0000000000000007,1.0000000000000007,"08:30:00"]
[{"$nulls":6},"ON manuel/OFF détection","OFF en fonction de seuil"]
[]
[null,"Type de pont thermique","Nom","unité","Complément",null,"Type d'apports thermique"]
[null,"Ponctuel","Khi (X)","Khi X  (W/K)","Nombre/m²",null,"Ratio surfacique"]
[null,"Linéique","Psi (ψ)","Psi ψ (W/K.m)","Entraxe (m)",null,"Apports détaillés"]
[null,"Global","Appliqué au matériau suivant :","% des ponts :","λ du pth [W/m.°C]  :"]