{"text_format":"3","workbook":"xlsx","n_sheets":3,"sheets":["Base","Tirage","Inscrip"],"not_rendered":{"macros":1},"read":"whole","date_system":"1900"}

{"sheet":"Base","index":0,"n_rows":71,"n_cols":27,"rows_kept":71}
[]
[]
[]
[null,"TIRAGES des doublettes : ",{"$nulls":8},8,"",{"$nulls":14},{"$f":"MATCH(K4,K:K,0)","v":4}]
[null,"Tour 1",{"$nulls":5},"Tour 2",{"$nulls":5},"Tour 3",{"$nulls":5},"Tour 4",null,null,"F2","A0","C4"]
[{"$nulls":6},"contre :        ",{"$nulls":5},"contre :        ",{"$nulls":5},"contre :        ",{"$nulls":5},"contre :        "]
[null,1,5,null,2,7,null,1,8,null,3,5,null,1,7,null,4,8,null,1,8,null,2,7]
[null,3,8,null,4,6,null,2,6,null,4,7,null,2,5,null,3,6,null,3,5,null,4,6]
{"$rows_empty":16}
[null,"TIRAGES des doublettes : ",{"$nulls":8},9,"1.6.9."]
[null,"Tour 1",{"$nulls":5},"Tour 2",{"$nulls":5},"Tour 3",{"$nulls":5},"Tour 4"]
[{"$nulls":6},"contre :        ",{"$nulls":5},"contre :        ",{"$nulls":5},"contre :        ",{"$nulls":5},"contre :        "]
[null,3,6,null,5,9,null,1,7,null,3,4,null,9,8,null,4,6,null,2,4,null,3,5]
[null,1,4,8,2,7,null,2,5,6,8,9,null,2,7,3,1,5,null,9,6,null,7,8,1]
{"$rows_empty":16}
[null,"TIRAGES des doublettes : ",{"$nulls":8},10,""]
[null,"Tour 1",{"$nulls":5},"Tour 2",{"$nulls":5},"Tour 3",{"$nulls":5},"Tour 4",null,null,"F2","A0","C4"]
[{"$nulls":6},"contre :        ",{"$nulls":5},"contre :        ",{"$nulls":5},"contre :        ",{"$nulls":5},"contre :        "]
[null,1,5,null,2,7,null,1,8,null,3,5,null,9,7,null,4,8,null,5,8,null,10,7]
[null,10,8,null,4,6,null,2,9,null,4,7,null,2,10,null,3,6,null,3,1,null,9,6]
[null,3,9,null,"X","X",null,6,10,null,"X","X",null,1,5,null,"X","X",null,4,2,null,"X","X"]
{"$rows_empty":15}
[null,"TIRAGES des doublettes : ",{"$nulls":8},11,"1.6.9."]
[null,"Tour 1",{"$nulls":5},"Tour 2",{"$nulls":5},"Tour 3",{"$nulls":5},"Tour 4"]
[{"$nulls":6},"contre :        ",{"$nulls":5},"contre :        ",{"$nulls":5},"contre :        ",{"$nulls":5},"contre :        "]
[null,3,6,null,5,9,null,1,7,null,3,4,null,2,8,null,4,6,null,2,4,null,3,5]
[null,1,4,8,2,7,null,2,5,6,8,9,null,3,7,9,1,5,null,1,6,9,7,8]

{"sheet":"Tirage","index":1,"n_rows":12,"n_cols":25,"rows_kept":12}
[]
[]
[]
[]
[null,"TIRAGES des doublettes : ",{"$nulls":8},{"$f":"Inscrip!$H$3","v":10},""]
[null,"Tour 1",{"$nulls":5},"Tour 2",{"$nulls":5},"Tour 3",{"$nulls":5},"Tour 4",null,null,"F2","A0","C4"]
[null,"Blanc :",{"$nulls":4},4,"Blanc :",{"$nulls":4},3,"Blanc :",{"$nulls":4},2,"Blanc :",{"$nulls":4},1]
[null,null,"  TàT",{"$nulls":5},"  TàT",{"$nulls":5},"  TàT",{"$nulls":5},"  TàT"]
[{"$nulls":6},"contre :        ",{"$nulls":5},"contre :        ",{"$nulls":5},"contre :        ",{"$nulls":5},"contre :        "]
[null,{"$f":"OFFSET(INDIRECT(\"Base!$B\"&MATCH(Inscrip!$H$3,Base!$K:$K,0)+ROW($B3)),0,COLUMN(A$1)-1)","v":1},{"$f":"OFFSET(INDIRECT(\"Base!$B\"&MATCH(Inscrip!$H$3,Base!$K:$K,0)+ROW($B3)),0,COLUMN(B$1)-1)","v":5},{"$f":"OFFSET(INDIRECT(\"Base!$B\"&MATCH(Inscrip!$H$3,Base!$K:$K,0)+ROW($B3)),0,COLUMN(C$1)-1)","v":0},{"$f":"OFFSET(INDIRECT(\"Base!$B\"&MATCH(Inscrip!$H$3,Base!$K:$K,0)+ROW($B3)),0,COLUMN(D$1)-1)","v":2},{"$f":"OFFSET(INDIRECT(\"Base!$B\"&MATCH(Inscrip!$H$3,Base!$K:$K,0)+ROW($B3)),0,COLUMN(E$1)-1)","v":7},{"$f":"OFFSET(INDIRECT(\"Base!$B\"&MATCH(Inscrip!$H$3,Base!$K:$K,0)+ROW($B3)),0,COLUMN(F$1)-1)","v":0},{"$f":"OFFSET(INDIRECT(\"Base!$B\"&MATCH(Inscrip!$H$3,Base!$K:$K,0)+ROW($B3)),0,COLUMN(G$1)-1)","v":1},{"$f":"OFFSET(INDIRECT(\"Base!$B\"&MATCH(Inscrip!$H$3,Base!$K:$K,0)+ROW($B3)),0,COLUMN(H$1)-1)","v":8},{"$f":"OFFSET(INDIRECT(\"Base!$B\"&MATCH(Inscrip!$H$3,Base!$K:$K,0)+ROW($B3)),0,COLUMN(I$1)-1)","v":0},{"$f":"OFFSET(INDIRECT(\"Base!$B\"&MATCH(Inscrip!$H$3,Base!$K:$K,0)+ROW($B3)),0,COLUMN(J$1)-1)","v":3},{"$f":"OFFSET(INDIRECT(\"Base!$B\"&MATCH(Inscrip!$H$3,Base!$K:$K,0)+ROW($B3)),0,COLUMN(K$1)-1)","v":5},{"$f":"OFFSET(INDIRECT(\"Base!$B\"&MATCH(Inscrip!$H$3,Base!$K:$K,0)+ROW($B3)),0,COLUMN(L$1)-1)","v":0},{"$f":"OFFSET(INDIRECT(\"Base!$B\"&MATCH(Inscrip!$H$3,Base!$K:$K,0)+ROW($B3)),0,COLUMN(M$1)-1)","v":9},{"$f":"OFFSET(INDIRECT(\"Base!$B\"&MATCH(Inscrip!$H$3,Base!$K:$K,0)+ROW($B3)),0,COLUMN(N$1)-1)","v":7},{"$f":"OFFSET(INDIRECT(\"Base!$B\"&MATCH(Inscrip!$H$3,Base!$K:$K,0)+ROW($B3)),0,COLUMN(O$1)-1)","v":0},{"$f":"OFFSET(INDIRECT(\"Base!$B\"&MATCH(Inscrip!$H$3,Base!$K:$K,0)+ROW($B3)),0,COLUMN(P$1)-1)","v":4},{"$f":"OFFSET(INDIRECT(\"Base!$B\"&MATCH(Inscrip!$H$3,Base!$K:$K,0)+ROW($B3)),0,COLUMN(Q$1)-1)","v":8},{"$f":"OFFSET(INDIRECT(\"Base!$B\"&MATCH(Inscrip!$H$3,Base!$K:$K,0)+ROW($B3)),0,COLUMN(R$1)-1)","v":0},{"$f":"OFFSET(INDIRECT(\"Base!$B\"&MATCH(Inscrip!$H$3,Base!$K:$K,0)+ROW($B3)),0,COLUMN(S$1)-1)","v":5},{"$f":"OFFSET(INDIRECT(\"Base!$B\"&MATCH(Inscrip!$H$3,Base!$K:$K,0)+ROW($B3)),0,COLUMN(T$1)-1)","v":8},{"$f":"OFFSET(INDIRECT(\"Base!$B\"&MATCH(Inscrip!$H$3,Base!$K:$K,0)+ROW($B3)),0,COLUMN(U$1)-1)","v":0},{"$f":"OFFSET(INDIRECT(\"Base!$B\"&MATCH(Inscrip!$H$3,Base!$K:$K,0)+ROW($B3)),0,COLUMN(V$1)-1)","v":10},{"$f":"OFFSET(INDIRECT(\"Base!$B\"&MATCH(Inscrip!$H$3,Base!$K:$K,0)+ROW($B3)),0,COLUMN(W$1)-1)","v":7},{"$f":"OFFSET(INDIRECT(\"Base!$B\"&MATCH(Inscrip!$H$3,Base!$K:$K,0)+ROW($B3)),0,COLUMN(X$1)-1)","v":0}]
[null,{"$f":"OFFSET(INDIRECT(\"Base!$B\"&MATCH(Inscrip!$H$3,Base!$K:$K,0)+ROW($B4)),0,COLUMN(A$1)-1)","v":10},{"$f":"OFFSET(INDIRECT(\"Base!$B\"&MATCH(Inscrip!$H$3,Base!$K:$K,0)+ROW($B4)),0,COLUMN(B$1)-1)","v":8},{"$f":"OFFSET(INDIRECT(\"Base!$B\"&MATCH(Inscrip!$H$3,Base!$K:$K,0)+ROW($B4)),0,COLUMN(C$1)-1)","v":0},{"$f":"OFFSET(INDIRECT(\"Base!$B\"&MATCH(Inscrip!$H$3,Base!$K:$K,0)+ROW($B4)),0,COLUMN(D$1)-1)","v":4},{"$f":"OFFSET(INDIRECT(\"Base!$B\"&MATCH(Inscrip!$H$3,Base!$K:$K,0)+ROW($B4)),0,COLUMN(E$1)-1)","v":6},{"$f":"OFFSET(INDIRECT(\"Base!$B\"&MATCH(Inscrip!$H$3,Base!$K:$K,0)+ROW($B4)),0,COLUMN(F$1)-1)","v":0},{"$f":"OFFSET(INDIRECT(\"Base!$B\"&MATCH(Inscrip!$H$3,Base!$K:$K,0)+ROW($B4)),0,COLUMN(G$1)-1)","v":2},{"$f":"OFFSET(INDIRECT(\"Base!$B\"&MATCH(Inscrip!$H$3,Base!$K:$K,0)+ROW($B4)),0,COLUMN(H$1)-1)","v":9},{"$f":"OFFSET(INDIRECT(\"Base!$B\"&MATCH(Inscrip!$H$3,Base!$K:$K,0)+ROW($B4)),0,COLUMN(I$1)-1)","v":0},{"$f":"OFFSET(INDIRECT(\"Base!$B\"&MATCH(Inscrip!$H$3,Base!$K:$K,0)+ROW($B4)),0,COLUMN(J$1)-1)","v":4},{"$f":"OFFSET(INDIRECT(\"Base!$B\"&MATCH(Inscrip!$H$3,Base!$K:$K,0)+ROW($B4)),0,COLUMN(K$1)-1)","v":7},{"$f":"OFFSET(INDIRECT(\"Base!$B\"&MATCH(Inscrip!$H$3,Base!$K:$K,0)+ROW($B4)),0,COLUMN(L$1)-1)","v":0},{"$f":"OFFSET(INDIRECT(\"Base!$B\"&MATCH(Inscrip!$H$3,Base!$K:$K,0)+ROW($B4)),0,COLUMN(M$1)-1)","v":2},{"$f":"OFFSET(INDIRECT(\"Base!$B\"&MATCH(Inscrip!$H$3,Base!$K:$K,0)+ROW($B4)),0,COLUMN(N$1)-1)","v":10},{"$f":"OFFSET(INDIRECT(\"Base!$B\"&MATCH(Inscrip!$H$3,Base!$K:$K,0)+ROW($B4)),0,COLUMN(O$1)-1)","v":0},{"$f":"OFFSET(INDIRECT(\"Base!$B\"&MATCH(Inscrip!$H$3,Base!$K:$K,0)+ROW($B4)),0,COLUMN(P$1)-1)","v":3},{"$f":"OFFSET(INDIRECT(\"Base!$B\"&MATCH(Inscrip!$H$3,Base!$K:$K,0)+ROW($B4)),0,COLUMN(Q$1)-1)","v":6},{"$f":"OFFSET(INDIRECT(\"Base!$B\"&MATCH(Inscrip!$H$3,Base!$K:$K,0)+ROW($B4)),0,COLUMN(R$1)-1)","v":0},{"$f":"OFFSET(INDIRECT(\"Base!$B\"&MATCH(Inscrip!$H$3,Base!$K:$K,0)+ROW($B4)),0,COLUMN(S$1)-1)","v":3},{"$f":"OFFSET(INDIRECT(\"Base!$B\"&MATCH(Inscrip!$H$3,Base!$K:$K,0)+ROW($B4)),0,COLUMN(T$1)-1)","v":1},{"$f":"OFFSET(INDIRECT(\"Base!$B\"&MATCH(Inscrip!$H$3,Base!$K:$K,0)+ROW($B4)),0,COLUMN(U$1)-1)","v":0},{"$f":"OFFSET(INDIRECT(\"Base!$B\"&MATCH(Inscrip!$H$3,Base!$K:$K,0)+ROW($B4)),0,COLUMN(V$1)-1)","v":9},{"$f":"OFFSET(INDIRECT(\"Base!$B\"&MATCH(Inscrip!$H$3,Base!$K:$K,0)+ROW($B4)),0,COLUMN(W$1)-1)","v":6},{"$f":"OFFSET(INDIRECT(\"Base!$B\"&MATCH(Inscrip!$H$3,Base!$K:$K,0)+ROW($B4)),0,COLUMN(X$1)-1)","v":0}]
[null,{"$f":"OFFSET(INDIRECT(\"Base!$B\"&MATCH(Inscrip!$H$3,Base!$K:$K,0)+ROW($B5)),0,COLUMN(A$1)-1)","v":3},{"$f":"OFFSET(INDIRECT(\"Base!$B\"&MATCH(Inscrip!$H$3,Base!$K:$K,0)+ROW($B5)),0,COLUMN(B$1)-1)","v":9},{"$f":"OFFSET(INDIRECT(\"Base!$B\"&MATCH(Inscrip!$H$3,Base!$K:$K,0)+ROW($B5)),0,COLUMN(C$1)-1)","v":0},{"$f":"OFFSET(INDIRECT(\"Base!$B\"&MATCH(Inscrip!$H$3,Base!$K:$K,0)+ROW($B5)),0,COLUMN(D$1)-1)","v":"X"},{"$f":"OFFSET(INDIRECT(\"Base!$B\"&MATCH(Inscrip!$H$3,Base!$K:$K,0)+ROW($B5)),0,COLUMN(E$1)-1)","v":"X"},{"$f":"OFFSET(INDIRECT(\"Base!$B\"&MATCH(Inscrip!$H$3,Base!$K:$K,0)+ROW($B5)),0,COLUMN(F$1)-1)","v":0},{"$f":"OFFSET(INDIRECT(\"Base!$B\"&MATCH(Inscrip!$H$3,Base!$K:$K,0)+ROW($B5)),0,COLUMN(G$1)-1)","v":6},{"$f":"OFFSET(INDIRECT(\"Base!$B\"&MATCH(Inscrip!$H$3,Base!$K:$K,0)+ROW($B5)),0,COLUMN(H$1)-1)","v":10},{"$f":"OFFSET(INDIRECT(\"Base!$B\"&MATCH(Inscrip!$H$3,Base!$K:$K,0)+ROW($B5)),0,COLUMN(I$1)-1)","v":0},{"$f":"OFFSET(INDIRECT(\"Base!$B\"&MATCH(Inscrip!$H$3,Base!$K:$K,0)+ROW($B5)),0,COLUMN(J$1)-1)","v":"X"},{"$f":"OFFSET(INDIRECT(\"Base!$B\"&MATCH(Inscrip!$H$3,Base!$K:$K,0)+ROW($B5)),0,COLUMN(K$1)-1)","v":"X"},{"$f":"OFFSET(INDIRECT(\"Base!$B\"&MATCH(Inscrip!$H$3,Base!$K:$K,0)+ROW($B5)),0,COLUMN(L$1)-1)","v":0},{"$f":"OFFSET(INDIRECT(\"Base!$B\"&MATCH(Inscrip!$H$3,Base!$K:$K,0)+ROW($B5)),0,COLUMN(M$1)-1)","v":1},{"$f":"OFFSET(INDIRECT(\"Base!$B\"&MATCH(Inscrip!$H$3,Base!$K:$K,0)+ROW($B5)),0,COLUMN(N$1)-1)","v":5},{"$f":"OFFSET(INDIRECT(\"Base!$B\"&MATCH(Inscrip!$H$3,Base!$K:$K,0)+ROW($B5)),0,COLUMN(O$1)-1)","v":0},{"$f":"OFFSET(INDIRECT(\"Base!$B\"&MATCH(Inscrip!$H$3,Base!$K:$K,0)+ROW($B5)),0,COLUMN(P$1)-1)","v":"X"},{"$f":"OFFSET(INDIRECT(\"Base!$B\"&MATCH(Inscrip!$H$3,Base!$K:$K,0)+ROW($B5)),0,COLUMN(Q$1)-1)","v":"X"},{"$f":"OFFSET(INDIRECT(\"Base!$B\"&MATCH(Inscrip!$H$3,Base!$K:$K,0)+ROW($B5)),0,COLUMN(R$1)-1)","v":0},{"$f":"OFFSET(INDIRECT(\"Base!$B\"&MATCH(Inscrip!$H$3,Base!$K:$K,0)+ROW($B5)),0,COLUMN(S$1)-1)","v":4},{"$f":"OFFSET(INDIRECT(\"Base!$B\"&MATCH(Inscrip!$H$3,Base!$K:$K,0)+ROW($B5)),0,COLUMN(T$1)-1)","v":2},{"$f":"OFFSET(INDIRECT(\"Base!$B\"&MATCH(Inscrip!$H$3,Base!$K:$K,0)+ROW($B5)),0,COLUMN(U$1)-1)","v":0},{"$f":"OFFSET(INDIRECT(\"Base!$B\"&MATCH(Inscrip!$H$3,Base!$K:$K,0)+ROW($B5)),0,COLUMN(V$1)-1)","v":"X"},{"$f":"OFFSET(INDIRECT(\"Base!$B\"&MATCH(Inscrip!$H$3,Base!$K:$K,0)+ROW($B5)),0,COLUMN(W$1)-1)","v":"X"},{"$f":"OFFSET(INDIRECT(\"Base!$B\"&MATCH(Inscrip!$H$3,Base!$K:$K,0)+ROW($B5)),0,COLUMN(X$1)-1)","v":0}]

{"sheet":"Inscrip","index":2,"n_rows":13,"n_cols":10,"rows_kept":13}
[]
[null,"N° INSCRIPTION","NOM","PRENOM","PIONTS","ECART",null,"NB  joueur"]
[null,"********","********","*******",{"$nulls":3},10,null,{"$f":"COUNTA(B4:B13)","v":10}]
[null,1,"MOI","Jacques"]
[null,2,"LUI","Vivian"]
[null,3,"ELLE","Martine"]
[null,4,"MOI","Jacques"]
[null,5,"LUI","Vivian"]
[null,6,"ELLE","Martine"]
[null,7,"MOI","Jacques"]
[null,8,"LUI","Vivian"]
[null,9,"ELLE","Martine"]
[null,10,"eux"]