{"text_format":"3","workbook":"xlsx","n_sheets":15,"sheets":["Congé","Janvier","Février","Mars","Avril","Mai","Juin","Juillet","Août","Septembre","Octobre","Novembre","Décembre","Technique","Mode d'emploi"],"not_rendered":{"macros":1,"external_links":1,"defined_names":49,"comments":9},"read":"whole","date_system":"1900"}

{"sheet":"Congé","index":0,"n_rows":66,"n_cols":14,"rows_kept":66,"merged":[[0,4,2,4],[0,5,1,5],[2,6,5,8],[8,6,11,6],[8,7,17,7],[13,6,17,6],[18,8,33,8],[21,6,37,7],[22,10,22,11],[23,10,23,11],[53,2,53,3],[56,2,65,2]]}
[{"$nulls":4},"Groupe"]
[]
["date d'entrée SPP","Grade","Date de nomination",{"$nulls":3},"Minimum par compétence"]
[]
[]
[{"$nulls":4},1,"MATEO"]
[{"$nulls":4},9,"BARREAU","SOG","INC2","INC1"]
[]
["1987-07-01","ADJUDANT","2012-05-01","SOG",10,"CARTIER",1,3]
["1995-07-01","ADJUDANT","2012-05-01","SOG",4,"CARTAUT"]
["1997-10-01","ADJUDANT","2014-01-01"]
["2001-01-01","ADJUDANT","2016-01-01","SOG",3,"HUGUES"]
[]
["1993-12-22","ADJUDANT","2014-01-01","INC2",8,"SELLES"]
["1999-09-01","ADJUDANT","2016-01-01","INC2",9,"MASSELIN"]
[]
["2001-01-01","ADJUDANT","2019-01-01","INC2",1,"MALET"]
["2002-01-01","ADJUDANT","2019-01-01","INC2",2,"REY F"]
["2002-03-01","SERGENT","2014-01-01","INC1",6,"LUBRANO",null,"non formé",5]
["2002-03-01","SERGENT","2014-01-01","INC1",5,"NORMAND",null,"non formé"]
[]
["2002-03-01","SERGENT","2013-01-01","INC1",9,"ROSTAND"]
["2004-09-01","SERGENT","2013-01-01","INC1",6,"LAURENT J",{"$nulls":4},"Nombre de CA maxi",null,12]
["2007-03-01","SERGENT","2014-01-01","INC1",10,"BALLESTER",{"$nulls":4},"Nombre de 12h maxi",null,5]
["2003-12-08","SERGENT","2014-01-01","INC1",7,"GRIMM",{"$nulls":5},"Nbre","Présence mini","Absence maxi"]
["2005-05-01","SERGENT","2015-01-01","INC1",3,"ORIOL",{"$nulls":4},"SOG",{"$f":"COUNTIF(D9:D53,K26)","v":3},{"$f":"G9","v":1},{"$f":"L26-M26","v":2}]
["2007-07-01","SERGENT","2015-01-01","INC1",10,"DEPRAD",{"$nulls":4},"INC2",{"$f":"COUNTIF(D10:D54,K27)+L26","v":7},{"$f":"H9","v":3},{"$f":"L27-M27","v":4}]
["2007-07-01","SERGENT","2015-01-01","INC1",4,"FLORES",{"$nulls":4},"INC1",{"$f":"COUNTIF(D11:D55,K28)","v":15},{"$f":"I19","v":5},{"$f":"L28-M28","v":10}]
["2007-12-01","SERGENT","2015-01-01","INC1",2,"FIGUEIRINHA"]
["2008-04-01","SERGENT","2015-01-01","INC1",8,"HEURTEBISE"]
["2009-04-01","SERGENT","2016-07-01","INC1",3,"BLANCHARD"]
["2014-12-01","SERGENT","2018-07-01","INC1"]
["2015-03-01","SERGENT","2018-07-01","INC1",5,"DECITRE"]
["2019-03-01","SERGENT","2019-03-10","INC1",4,"EON"]
["2010-03-01","SERGENT","2019-07-01","CEQ",6,"DIOLOGENT",null,null,"non formé"]
["2011-02-01","SERGENT","2019-08-01","CEQ",7,"GUEROULT",null,null,"non formé"]
["2011-02-14","SERGENT","2019-07-01","CEQ",1,"SALMI",null,null,"non formé"]
["2014-10-06","SERGENT","2019-07-01","CEQ",7,"DYLIK",null,null,"non formé"]
[]
["2011-07-01","CAPORAL","2017-01-01","CEQ",9,"MONTALEGRE"]
["2014-03-01","CAPORAL","2017-01-01","CEQ",9,"SERANO G"]
["2014-10-01","CAPORAL","2017-01-01","CEQ",7,"LANCIAL"]
["2014-10-01","CAPORAL","2017-01-01","CEQ",8,"MOURCIA"]
["2014-10-01","CAPORAL","2017-01-01","CEQ",2,"GILSON"]
["2015-03-01","CAPORAL","2017-01-01","CEQ"]
["2015-09-01","CAPORAL","2017-01-01","CEQ",5,"PERINO"]
["2019-02-01","CAPORAL","2019-02-01","CEQ",10,"LUPI"]
["2019-02-01","CAPORAL","2019-02-01","CEQ",4,"ROOS"]
["2019-01-01","CAPORAL","2019-01-01","CEQ",1,"VALERIAN"]
["2019-07-01","CAPORAL","2019-07-01","CEQ",3,"ROUSTAN"]
["2019-09-01","CAPORAL","2019-09-01","CEQ",1,"WENGER"]
["2020-01-01","CAPORAL","2020-01-01","CEQ",8,"LHERBIER"]
[]
[null,null,"effectif total",null,{"$f":"COUNTA(E9:E52)","v":37}]
[]
[]
[null,null,"répartition par groupe en 12h",1,{"$f":"COUNTIF($E$9:$E$52,D57)","v":4}]
[{"$nulls":3},2,{"$f":"COUNTIF($E$9:$E$52,D58)","v":3}]
[{"$nulls":3},3,4]
[{"$nulls":3},4,4]
[{"$nulls":3},5,3]
[{"$nulls":3},6,3]
[{"$nulls":3},7,4]
[{"$nulls":3},8,4]
[{"$nulls":3},9,4]
[{"$nulls":3},10,4]

{"sheet":"Janvier","index":1,"n_rows":138,"n_cols":30,"rows_kept":138,"merged":[[0,23,2,23],[0,24,2,24],[0,26,0,27],[1,26,1,27],[4,0,4,1]]}
[null,null,"2020-01-01","2020-01-04",{"$nulls":4},"2020-01-19",null,"2020-01-25",{"$nulls":5},{"$f":"SUM(Q3:Q51)","v":1},{"$f":"SUM(R3:R51)","v":2},{"$f":"SUM(S3:S51)","v":6},null,{"$f":"SUM(U3:U51)","v":1},{"$f":"SUM(V3:V51)","v":3},{"$f":"SUM(W3:W51)","v":7},"Fonctions    24h","Fonctions 12h",null,"Nombre de CA maxi",null,{"$f":"Congé!M23","v":12}]
[{"$nulls":6},{"$f":"RIGHT(CELL(\"nomfichier\",G2),LEN(CELL(\"nomfichier\",G2))-SEARCH(\"]\",CELL(\"nomfichier\",G2)))","v":"Janvier"},{"$nulls":6},"12h",null,"Absence jour","L9:L12","L9:L18","L22:L38","Absence nuit","L9:L12","L9:L18","L22:L38",null,null,"CA","Nombre de 12h maxi",null,{"$f":"Congé!M24","v":5}]
[null,null,1,4,7,10,13,16,19,22,25,28,31,"12h",null,"CA",{"$f":"COUNTIF(INDIRECT(Q$2),$P3)","v":1},{"$f":"COUNTIF(INDIRECT(R$2),$P3)","v":2},{"$f":"COUNTIF(INDIRECT(S$2),$P3)","v":5},"CA",{"$f":"COUNTIF(INDIRECT(U$2),$T3)","v":1},{"$f":"COUNTIF(INDIRECT(V$2),$T3)","v":2},{"$f":"COUNTIF(INDIRECT(W$2),$T3)","v":5},null,null,"CAJ",null,"Nbre","Présence mini","Absence maxi"]
[null,null,"MER","SAM","MAR","VEN","LUN","JEU","DIM","MER","SAM","MAR","VEN",null,null,"CAJ",{"$f":"COUNTIF(INDIRECT(Q$2),$P4)","v":0},0,0,"CAN",{"$f":"COUNTIF(INDIRECT(U$2),$T4)","v":0},0,0,"CG","CG 12h","CAN","SOG",{"$f":"Congé!L26","v":3},{"$f":"Congé!M26","v":1},{"$f":"Congé!N26","v":2}]
["Equipes",null,2,3,4,5,6,7,8,9,10,1,2,null,null,"CAJ/Feu",0,0,0,"Feu/CAN",0,0,0,"CDG","CDG 12h","CAJ/Feu","INC2",{"$f":"Congé!L27","v":7},{"$f":"Congé!M27","v":3},{"$f":"Congé!N27","v":4}]
[{"$f":"Congé!E6","v":1},{"$f":"Congé!F6","v":"MATEO"},"OGG","CA","OGG","CA","CDG","CDG","CDG","CDG","OGG","CA","12h",null,null,"CAJ/V",0,0,0,"V/CAN",0,0,0,"VPUa","VPUa 12h","Feu/CAN","INC1",{"$f":"Congé!L28","v":15},{"$f":"Congé!M28","v":5},{"$f":"Congé!N28","v":10}]
[{"$f":"Congé!E7","v":9},{"$f":"Congé!F7","v":"BARREAU"},"CA","CDG","CDG","CDG","12h","CA","OGG","CA","CDG","CDG","CDG",null,null,"CAJ/PCN",0,0,0,"PCJ/CAN",0,0,0,"VPU","VPU 12h","CAJ/V"]
[{"$nulls":16},0,0,0,null,0,0,0]
[{"$f":"Congé!E9","v":10},{"$f":"Congé!F9","v":"CARTIER"},"CDG","FPTa","SOG","FPTa","CA","CE","CEJ","CA","12h","SOG","FPTa",null,null,"CAJ/STN",0,0,0,"STJ/CAN",0,0,0,"VPUc","VPUc 12h","V/CAN"]
[{"$f":"Congé!E10","v":4},{"$f":"Congé!F10","v":"CARTAUT"},"CA","CA",{"$f":"IF($A10=E$5,\"12h\",IF($A10=\"\",\"\",\"\"))","v":"12h"},"VPUa","SOG","FPTa","FPTa","SOG","VPUa","FPTa","SOG",null,null,"CAJ/CEN",0,0,0,"CEJ/CAN",0,0,0,"FPTa","FPTa 12h","PCJ/CAN"]
[{"$f":"Congé!E11","v":0},"CASTA","SOG","VPUa","FPTa","SOG","12h","CAJ","SOG","FPTa","EVa","CA","CA",{"$nulls":3},0,0,0,null,0,0,0]
[{"$nulls":15},"CAJ/AAN",0,0,0,"AAJ/CAN",0,0,0,"FPT","FPT 12h","CAJ/PCN"]
[{"$nulls":16},0,0,0,null,0,0,0]
[{"$f":"Congé!E14","v":8},{"$f":"Congé!F14","v":"SELLES"},"CA","CA","VPUc","EPSa","VPUa","EPSa",{"$f":"IF($A14=I$5,\"12h\",IF($A14=\"\",\"\",\"\"))","v":"12h"},"VPUa","FPTa","EVa","FPTc",null,null,"CAJ/CPN",0,0,0,"CPJ/CAN",0,0,0,"FPTc","FPTc 12h","CAJ/STN"]
[{"$f":"Congé!E15","v":9},{"$f":"Congé!F15","v":"MASSELIN"},"VSAV 24h","VPU","EVa","VSRa","VSAV 24h","FPT","CA",{"$f":"IF($A15=J$5,\"12h\",IF($A15=\"\",\"\",\"\"))","v":"12h"},"CA","VSAV 24h","VPUa",null,null,"STJ/CAN",0,0,0,"CAJ/STN",0,0,0,"EPSa","EPSa 12h","STJ/CAN"]
[{"$f":"Congé!E16","v":0},"HUGUES","VPUa","EVa","VSAV 24h","CA",{"$f":"IF($A16=G$5,\"12h\",IF($A16=\"\",\"\",\"\"))","v":""},"VSAV nuit","EVa","EPSa","VSAV 24h","VPUa","USSH",{"$nulls":3},0,0,0,null,0,0,0]
[{"$f":"Congé!E17","v":1},{"$f":"Congé!F17","v":"MALET"},"VSAV nuit","CA","Evc","FPTc","VSAV 24h","VPUc","VPUa","Evc","EVa","12h","VSAV 24h",null,null,"CEJ/CAN",0,0,0,"CAJ/CEN",0,0,0,"EPSc","EPSc 12h","CAJ/CEN"]
[{"$f":"Congé!E18","v":2},{"$f":"Congé!F18","v":"REY F"},"CA","VSAV 24h","VPU","CA","FPTa","VSAV 24h","CA","CA","CA","CA","12h",null,null,"AAJ/CAN",0,0,0,"CAJ/AAN",0,0,0,"EPS","EPS 12h","CEJ/CAN"]
[{"$nulls":15},"CPJ/CAN",0,0,0,"CAJ/CPN",0,0,0,"VSRa","VSRa 12h","CAJ/AAN"]
[{"$nulls":15},"RPM",0,0,0,"RPM",0,0,0,"VSRc","VSRc 12h","AAJ/CAN"]
[{"$nulls":9},{"$f":"IF($A21=J$5,\"12h\",IF($A21=\"\",\"\",\"\"))","v":""},{"$nulls":6},0,0,0,null,0,0,0]
[{"$f":"Congé!E22","v":9},{"$f":"Congé!F22","v":"ROSTAND"},"CA","CA","VSAV 24h","CA","12h","CAN","VSAV 24h","CEJ","Evc","VSAV 24h","CA",null,null,"ST",0,0,0,"ST",0,0,0,"VSR","VSR 12h","CAJ/CPN"]
[{"$f":"Congé!E23","v":6},{"$f":"Congé!F23","v":"LAURENT J"},"Evc","VSAV 24h","VPU","VSAV nuit",{"$f":"IF($A23=G$5,\"12h\",IF($A23=\"\",\"\",\"\"))","v":"12h"},"PCN","CA","VSAV 24h","CA","Evc","VSAV 24h",null,null,"STJ/Feu",0,0,0,"STN",0,0,0,"EVa","Eva 12h","CPJ/CAN"]
[{"$f":"Congé!E24","v":10},{"$f":"Congé!F24","v":"BALLESTER"},"CA","CA","VSAV 24h","CA","EVa","VSAV 24h","CA","VSAV nuit","CA","CA","CA",null,null,"STJ/V",0,0,0,"CE",0,0,0,"Evc","Evc 12h"]
[{"$f":"Congé!E25","v":7},{"$f":"Congé!F25","v":"GRIMM"},null,"VSAV 24h","PCJ","Evc","VSAV 24h",{"$f":"IF($A25=H$5,\"12h\",IF($A25=\"\",\"\",\"\"))","v":"12h"},"VSAV 24h","VPUc","CA","CA","CAN",null,null,"STJ/PCN",0,0,0,"CEN",0,0,0,"EV","EV 12h"]
[{"$f":"Congé!E26","v":3},{"$f":"Congé!F26","v":"ORIOL"},"VSAV 24h","CA","PCN","FPT","VPU","VLM nuit","VPU","VLM jour","12h","PCN","CA",null,null,"STJ",0,0,0,"CEJ/CPN",0,0,0,"VID","VID 12h"]
[{"$f":"Congé!E27","v":10},{"$f":"Congé!F27","v":"DEPRAD"},"PCJ","VSAV nuit","VPU","PCJ","VSAV 24h","PCJ","VSAV nuit","PCN","VLM 12h","VPU","CA",null,null,"CE",0,0,0,"CP",0,0,0,"VSAV 24h","VSAV 12h"]
[{"$f":"Congé!E28","v":4},{"$f":"Congé!F28","v":"FLORES"},"CM","CM","CM","CM","PC 24","CA","CA","CA","PC 24","CA","CA",null,null,"CEJ",0,0,0,"CPN",0,0,0,"VSAV jour","VLM 12h"]
[{"$f":"Congé!E29","v":2},{"$f":"Congé!F29","v":"FIGUEIRINHA"},"MUT","MUT","MUT","MUT","MUT","MUT","MUT","MUT","MUT","MUT","MUT",null,null,"CEJ/CPN",0,0,0,"AA",0,0,0,"VSAV nuit","PC 12h"]
[{"$f":"Congé!E30","v":8},{"$f":"Congé!F30","v":"HEURTEBISE"},"VSAV jour","Evc","VID","VSAV 24h","Evc","CA",{"$f":"IF($A30=I$5,\"12h\",IF($A30=\"\",\"\",\"\"))","v":"12h"},"CA","VSAV 24h","VPUc","CA",null,null,"CP",0,0,0,"AAN",0,0,0,"VLM 24h"]
[{"$f":"Congé!E31","v":3},{"$f":"Congé!F31","v":"BLANCHARD"},"VPU","VLM nuit","PCJ","VLM nuit","PCN",null,"VLM nuit","FPTc","CA","CA","CA",null,null,"CPJ",0,0,0,"CM",0,0,0,"VLM jour"]
[{"$f":"Congé!E32","v":0},"BOUISSET","CA","PCN","12h","VSAV 24h","FPTc","VSAV jour","CA","CE","VSAV 24h","FPT","VPU",{"$nulls":3},0,0,0,null,0,0,0]
[{"$f":"Congé!E33","v":5},{"$f":"Congé!F33","v":"DECITRE"},"CA","CA","VSAV 24h",{"$f":"IF($A33=F$5,\"12h\",IF($A33=\"\",\"\",\"\"))","v":"12h"},"CA","Evc","VSAV 24h","VPU","FPT","VSAV jour","VSAV nuit",null,null,"AA",0,0,0,"AT",0,0,0,"VLM nuit"]
[{"$f":"Congé!E34","v":4},{"$f":"Congé!F34","v":"EON"},"VPU","VSAV jour",{"$f":"IF($A34=E$5,\"12h\",IF($A34=\"\",\"\",\"\"))","v":"12h"},"VSAV jour","CA","PCN","CA","CA","VSAV 24h","VPU","MUT",{"$nulls":3},0,0,0,null,0,0,0]
[{"$f":"Congé!E35","v":6},{"$f":"Congé!F35","v":"DIOLOGENT"},null,"VSAV 24h","VPU","VPU",{"$f":"IF($A35=G$5,\"12h\",IF($A35=\"\",\"\",\"\"))","v":"12h"},"VSAV nuit","VPUc","CA","PC 24","CA","CA",null,null,"AAJ",0,0,0,"TP",0,0,0,"PCJ"]
[{"$f":"Congé!E36","v":7},{"$f":"Congé!F36","v":"GUEROULT"},"VSAV 24h",null,"PCN","FPT","EV",{"$f":"IF($A36=H$5,\"12h\",IF($A36=\"\",\"\",\"\"))","v":"12h"},"VSAV 24h","VPU","FPT","PCN","VPU",null,null,"CM",0,0,0,"SHR",0,0,0,"PCN"]
[{"$f":"Congé!E37","v":1},{"$f":"Congé!F37","v":"SALMI"},{"$f":"IF($A37=C$5,\"12h\",IF($A37=\"\",\"\",\"\"))","v":""},{"$f":"IF($A37=D$5,\"12h\",IF($A37=\"\",\"\",\"\"))","v":""},"VSAV 24h","VPU","FPT","VSAV 24h","VPU","PCJ","CA",{"$f":"IF($A37=L$5,\"12h\",IF($A37=\"\",\"\",\"\"))","v":"12h"},"FPT",null,null,"AT",0,0,0,"MUT",0,0,1,"PC 24"]
[{"$f":"Congé!E38","v":7},{"$f":"Congé!F38","v":"DYLIK"},"VPU",null,"CA","VSAV 24h","VPUc","12h","CA","VSAV 24h","VPU",{"$f":"IF($A38=L$5,\"12h\",IF($A38=\"\",\"\",\"\"))","v":""},"VSAV 24h",null,null,"TP",0,0,0,"12h",0,1,1]
[{"$nulls":16},0,0,0,null,0,0,0]
[{"$f":"Congé!E40","v":9},{"$f":"Congé!F40","v":"MONTALEGRE"},"CA","PCN","VID","CA","VSAV 24h","CA","VLM jour","CA","VPUc","CA","CM 12h",null,null,"USSH",0,0,0,"CAN covid",0,0,0]
[{"$f":"Congé!E41","v":9},{"$f":"Congé!F41","v":"SERANO G"},"VPU","CA","VSAV 24h","CE","VSAV jour","FPT","VSAV 24h",{"$f":"IF($A41=J$5,\"12h\",IF($A41=\"\",\"\",\"\"))","v":"12h"},"FPTc","VSAV 24h","ST",null,null,"MUT",0,0,1,"USSH",0,0,0]
[{"$f":"Congé!E42","v":7},{"$f":"Congé!F42","v":"LANCIAL"},"CA","VSAV 24h","FPT","PCN","VPU",{"$f":"IF($A42=H$5,\"12h\",IF($A42=\"\",\"\",\"\"))","v":"12h"},"VSAV nuit","FPT","VSAV 24h","CA","PCN",null,null,"ST 12h",0,0,0,null,0,0,0]
[{"$f":"Congé!E43","v":8},{"$f":"Congé!F43","v":"MOURCIA"},"CA","VSAV 24h","CA","CA","VSAV 24h","FPT",{"$f":"IF($A43=I$5,\"12h\",IF($A43=\"\",\"\",\"\"))","v":"12h"},"VSAV 24h","CA","CA","PCN",null,null,"CE 12h",0,0,0,null,0,0,0]
[{"$f":"Congé!E44","v":2},{"$f":"Congé!F44","v":"GILSON"},{"$f":"IF($A44=C$5,\"12h\",IF($A44=\"\",\"\",\"\"))","v":"12h"},"VSAV 24h","CA","PCN","FPT","VPU","VSAV 24h","CA","VSAV jour","FPTc","12h",null,null,"CP 12h",0,0,0,null,0,0,0]
[{"$f":"Congé!E45","v":0},{"$f":"Congé!F45","v":0},"PCN",{"$f":"IF($A45=D$5,\"12h\",IF($A45=\"\",\"\",\"\"))","v":""},"VLM jour","VPUc","VSAV nuit","VPU","PCN","CA","CA","CA","VSAV jour",{"$nulls":3},{"$f":"COUNTIF(INDIRECT(Q$2),$P46)","v":0},0,0,null,0,0,0]
[{"$f":"Congé!E46","v":5},{"$f":"Congé!F46","v":"PERINO"},"VSAV 24h","CA","VSAV 24h",{"$f":"IF($A46=F$5,\"12h\",IF($A46=\"\",\"\",\"\"))","v":"12h"},"VSAV jour","PCJ","VSAV nuit","CA","CA","VSAV 24h","CA",null,null,"AA 12h",0,0,0,null,0,0,0]
[{"$f":"Congé!E47","v":10},{"$f":"Congé!F47","v":"LUPI"},"VSAV jour","CA","FPT","VSAV 24h","CA","CA","VSAV jour","VSAV jour",{"$f":"IF($A47=K$5,\"12h\",IF($A47=\"\",\"\",\"\"))","v":"12h"},"CA","CA",null,null,"AT 12h",0,0,0,null,0,0,0]
[{"$f":"Congé!E48","v":4},{"$f":"Congé!F48","v":"ROOS"},"VLM nuit","PCJ",{"$f":"IF($A48=E$5,\"12h\",IF($A48=\"\",\"\",\"\"))","v":"12h"},"VSAV 24h","FPT","VSAV nuit","CA","CA","CA","12h","ST",null,null,"RPM 12h",{"$f":"COUNTIF(INDIRECT(Q$2),#REF!)","v":0},{"$f":"COUNTIF(INDIRECT(R$2),#REF!)","v":0},{"$f":"COUNTIF(INDIRECT(S$2),#REF!)","v":0},null,0,0,0]
[{"$f":"Congé!E49","v":1},{"$f":"Congé!F49","v":"VALERIAN"},"PCN","VPU","VSAV 24h","EV","CA","VSAV 24h","VPU","PCJ","VSAV 24h",{"$f":"IF($A49=L$5,\"12h\",IF($A49=\"\",\"\",\"\"))","v":"12h"},"PCJ"]
[{"$f":"Congé!E50","v":3},{"$f":"Congé!F50","v":"ROUSTAN"},"PCJ","VSAV 24h","FPT","VSAV jour","CA","CA","CA","CA","12h","VSAV 24h","12h"]
[{"$f":"Congé!E51","v":1},{"$f":"Congé!F51","v":"WENGER"},"VPU","VSAV jour","FPT","VSAV 24h","FPT","VSAV jour","CA","VSAV 24h","CA",{"$f":"IF($A51=L$5,\"12h\",IF($A51=\"\",\"\",\"\"))","v":"12h"},"VSAV jour",null,null,"CAJ covid",{"$f":"COUNTIF(INDIRECT(Q$2),#REF!)","v":0},{"$f":"COUNTIF(INDIRECT(R$2),#REF!)","v":0},{"$f":"COUNTIF(INDIRECT(S$2),#REF!)","v":0},null,0,0,0]
[{"$f":"Congé!E52","v":8},{"$f":"Congé!F52","v":"LHERBIER"},"VSAV 24h","VPU","12h","CA","VSAV 24h","VPU","CA","VSAV 24h","VPU","VSAV jour","FPT",null,null,"CA ops"]
[]
[null,"CA Jour",{"$f":"COUNTIF(C9:C52,\"CA\")+COUNTIF(C9:C52,\"CAJ*\")+COUNTIF(C9:C52,\"RPM\")","v":10},{"$f":"COUNTIF(D9:D52,\"CA\")+COUNTIF(D9:D52,\"CAJ*\")+COUNTIF(D9:D52,\"RPM\")","v":10},3,7,6,6,12,12,12,12,11]
[null,"Absence jour",{"$f":"SUM(C75:C77)+C81+SUM(C82:C88)+SUM(C92:C102)+C54","v":12},{"$f":"SUM(D75:D77)+D81+SUM(D82:D88)+SUM(D92:D102)+D54","v":12},5,10,7,8,14,15,13,13,15]
[null,"CA Nuit",{"$f":"COUNTIF(C9:C52,\"CA\")+COUNTIF(C9:C52,\"*CAN\")+COUNTIF(C9:C52,\"RPM\")","v":10},{"$f":"COUNTIF(D9:D52,\"CA\")+COUNTIF(D9:D52,\"*CAN\")+COUNTIF(D9:D52,\"RPM\")","v":10},3,7,6,6,12,12,12,12,12]
[null,"Absence Nuit",{"$f":"SUM(C67:C69)+C72+SUM(C89:C102)+C56","v":12},{"$f":"SUM(D67:D69)+D72+SUM(D89:D102)+D56","v":12},5,10,7,8,13,14,13,13,16]
[]
[null,"Nombre de 12h",{"$f":"COUNTIF(C9:C52,\"*12h\")","v":1},{"$f":"COUNTIF(D9:D52,\"*12h\")","v":0},5,2,4,4,3,2,5,5,4]
[{"$nulls":15},"CA"]
[null,"Nbre de pro jour",{"$f":"Congé!$E$54-C55","v":25},{"$f":"Congé!$E$54-D55","v":25},{"$f":"Congé!$E$54-E55","v":32},{"$f":"Congé!$E$54-F55","v":27},{"$f":"Congé!$E$54-G55","v":30},{"$f":"Congé!$E$54-H55","v":29},{"$f":"Congé!$E$54-I55","v":23},{"$f":"Congé!$E$54-J55","v":22},{"$f":"Congé!$E$54-K55","v":24},{"$f":"Congé!$E$54-L55","v":24},{"$f":"Congé!$E$54-M55","v":22},null,null,"CAN"]
[null,"Nbre de pro nuit",{"$f":"Congé!$E$54-C57-C59","v":24},{"$f":"Congé!$E$54-D57-D59","v":25},{"$f":"Congé!$E$54-E57-E59","v":27},{"$f":"Congé!$E$54-F57-F59","v":25},{"$f":"Congé!$E$54-G57-G59","v":26},{"$f":"Congé!$E$54-H57-H59","v":25},{"$f":"Congé!$E$54-I57-I59","v":21},{"$f":"Congé!$E$54-J57-J59","v":21},{"$f":"Congé!$E$54-K57-K59","v":19},{"$f":"Congé!$E$54-L57-L59","v":19},{"$f":"Congé!$E$54-M57-M59","v":17},null,null,"Feu/CAN"]
[{"$nulls":15},"V/CAN"]
[null,"CA",{"$f":"COUNTIF(C$9:C$52,$B64)","v":10},{"$f":"COUNTIF(D$9:D$52,$B64)","v":10},3,7,6,5,12,12,12,12,11,null,null,"PCJ/CAN"]
[null,"RPM",{"$f":"COUNTIF(C$9:C$52,$B65)","v":0},0,0,0,0,0,0,0,0,0,0,null,null,"STJ/CAN"]
[null,"CAJ",0,0,0,0,0,1,0,0,0,0,0,null,null,"CEJ/CAN"]
[null,"CAJ/AAN",0,0,0,0,0,0,0,0,0,0,0,null,null,"AAJ/CAN"]
[null,"CAJ/CEN",0,0,0,0,0,0,0,0,0,0,0,null,null,"CPJ/CAN"]
[null,"CAJ/CPN",0,0,0,0,0,0,0,0,0,0,0,null,null,"CAJ/STN"]
[null,"CAJ/Feu",0,0,0,0,0,0,0,0,0,0,0,null,null,"CAJ/CEN"]
[null,"CAJ/PCN",0,0,0,0,0,0,0,0,0,0,0,null,null,"CAJ/AAN"]
[null,"CAJ/STN",0,0,0,0,0,0,0,0,0,0,0,null,null,"CAJ/CPN"]
[null,"CAJ/V",0,0,0,0,0,0,0,0,0,0,0,null,null,"RPM"]
[null,"CAN",0,0,0,0,0,1,0,0,0,0,1,null,null,"ST"]
[null,"AAJ/CAN",0,0,0,0,0,0,0,0,0,0,0,null,null,"STN"]
[null,"CEJ/CAN",0,0,0,0,0,0,0,0,0,0,0,null,null,"CE"]
[null,"CPJ/CAN",0,0,0,0,0,0,0,0,0,0,0,null,null,"CEN"]
[null,"Feu/CAN",0,0,0,0,0,0,0,0,0,0,0,null,null,"CEJ/CPN"]
[null,"PCJ/CAN",0,0,0,0,0,0,0,0,0,0,0,null,null,"CP"]
[null,"V/CAN",0,0,0,0,0,0,0,0,0,0,0,null,null,"CPN"]
[null,"STJ/CAN",0,0,0,0,0,0,0,0,0,0,0,null,null,"AA"]
[null,"AAJ",0,0,0,0,0,0,0,0,0,0,0,null,null,"AAN"]
[null,"CEJ",0,0,0,0,0,0,1,1,0,0,0,null,null,"CM"]
[null,"CPJ",0,0,0,0,0,0,0,0,0,0,0,null,null,"AT"]
[null,"STJ",0,0,0,0,0,0,0,0,0,0,0,null,null,"TP"]
[null,"STJ/Feu",0,0,0,0,0,0,0,0,0,0,0,null,null,"SHR"]
[null,"STJ/PCN",0,0,0,0,0,0,0,0,0,0,0,null,null,"MUT"]
[null,"STJ/V",0,0,0,0,0,0,0,0,0,0,0,null,null,"12h"]
[null,"AAN",0,0,0,0,0,0,0,0,0,0,0,null,null,"CAN covid"]
[null,"CEN",0,0,0,0,0,0,0,0,0,0,0,null,null,"USSH"]
[null,"CPN",0,0,0,0,0,0,0,0,0,0,0,null,null,"CG"]
[null,"STN",0,0,0,0,0,0,0,0,0,0,0,null,null,"CDG"]
[null,"CE",0,0,0,1,0,1,0,1,0,0,0,null,null,"VPUa"]
[null,"CEJ/CPN",0,0,0,0,0,0,0,0,0,0,0,null,null,"VPU"]
[null,"CM",1,1,1,1,0,0,0,0,0,0,0,null,null,"VPUc"]
[null,"CP",0,0,0,0,0,0,0,0,0,0,0,null,null,"FPTa"]
[null,"TP",0,0,0,0,0,0,0,0,0,0,0,null,null,"FPT"]
[null,"ST",0,0,0,0,0,0,0,0,0,0,2,null,null,"FPTc"]
[null,"SHR",0,0,0,0,0,0,0,0,0,0,0,null,null,"EPSa"]
[null,"MUT",1,1,1,1,1,1,1,1,1,1,2,null,null,"EPSc"]
[null,"AA",0,0,0,0,0,0,0,0,0,{"$f":"COUNTIF(L$9:L$52,$B101)","v":0},0,null,null,"EPS"]
[null,"AT",{"$f":"COUNTIF(C$9:C$52,$B102)","v":0},0,0,0,0,0,0,0,0,0,0,null,null,"VSRa"]
[{"$nulls":15},"VSRc"]
[{"$nulls":15},"VSR"]
[{"$nulls":15},"EVa"]
[{"$nulls":15},"Evc"]
[{"$nulls":15},"EV"]
[{"$nulls":15},"VID"]
[{"$nulls":15},"VSAV 24h"]
[{"$nulls":15},"VSAV jour"]
[{"$nulls":15},"VSAV nuit"]
[{"$nulls":15},"VLM 24h"]
[{"$nulls":15},"VLM jour"]
[{"$nulls":15},"VLM nuit"]
[{"$nulls":15},"PCJ"]
[{"$nulls":15},"PCN"]
[{"$nulls":15},"PC 24"]
[{"$nulls":15},"CG 12h"]
[{"$nulls":15},"CDG 12h"]
[{"$nulls":15},"VPUa 12h"]
[{"$nulls":15},"VPU 12h"]
[{"$nulls":15},"VPUc 12h"]
[{"$nulls":15},"FPTa 12h"]
[{"$nulls":15},"FPT 12h"]
[{"$nulls":15},"FPTc 12h"]
[{"$nulls":15},"EPSa 12h"]
[{"$nulls":15},"EPSc 12h"]
[{"$nulls":15},"EPS 12h"]
[{"$nulls":15},"VSRa 12h"]
[{"$nulls":15},"VSRc 12h"]
[{"$nulls":15},"VSR 12h"]
[{"$nulls":15},"Eva 12h"]
[{"$nulls":15},"Evc 12h"]
[{"$nulls":15},"EV 12h"]
[{"$nulls":15},"VID 12h"]
[{"$nulls":15},"VSAV 12h"]
[{"$nulls":15},"VLM 12h"]
[{"$nulls":15},"PC 12h"]

{"sheet":"Février","index":2,"n_rows":138,"n_cols":30,"rows_kept":138,"merged":[[0,23,2,23],[0,24,2,24],[0,26,0,27],[1,26,1,27],[4,0,4,1]]}
[{"$nulls":4},"2020-02-06",null,"2020-02-12","2020-02-15","2020-02-18","2020-02-21","2020-02-24","2018-01-28","2018-01-31",{"$nulls":3},{"$f":"SUM(Q3:Q51)","v":0},{"$f":"SUM(R3:R51)","v":0},{"$f":"SUM(S3:S51)","v":0},null,{"$f":"SUM(U3:U51)","v":1},{"$f":"SUM(V3:V51)","v":2},{"$f":"SUM(W3:W51)","v":1},"Fonctions    24h","Fonctions 12h",null,"Nombre de CA maxi",null,{"$f":"Congé!M23","v":12}]
[{"$nulls":6},{"$f":"RIGHT(CELL(\"nomfichier\",G2),LEN(CELL(\"nomfichier\",G2))-SEARCH(\"]\",CELL(\"nomfichier\",G2)))","v":"Février"},{"$nulls":6},"12h",null,"Absence jour","L9:L12","L9:L18","L22:L38","Absence nuit","L9:L12","L9:L18","L22:L38",null,null,"CA","Nombre de 12h maxi",null,{"$f":"Congé!M24","v":5}]
[null,null,3,6,9,12,15,18,21,24,27,null,null,"12h",null,"CA",{"$f":"COUNTIF(INDIRECT(Q$2),$P3)","v":0},{"$f":"COUNTIF(INDIRECT(R$2),$P3)","v":0},{"$f":"COUNTIF(INDIRECT(S$2),$P3)","v":0},"CA",{"$f":"COUNTIF(INDIRECT(U$2),$T3)","v":0},{"$f":"COUNTIF(INDIRECT(V$2),$T3)","v":0},{"$f":"COUNTIF(INDIRECT(W$2),$T3)","v":0},null,null,"CAJ",null,"Nbre","Présence mini","Absence maxi"]
[null,null,"LUN","JEU","DIM","MER","SAM","MAR","VEN","LUN.","JEU.",{"$nulls":4},"CAJ",{"$f":"COUNTIF(INDIRECT(Q$2),$P4)","v":0},0,0,"CAN",{"$f":"COUNTIF(INDIRECT(U$2),$T4)","v":0},0,0,"CG","CG 12h","CAN","SOG",{"$f":"Congé!L26","v":3},{"$f":"Congé!M26","v":1},{"$f":"Congé!N26","v":2}]
["Equipes",null,3,4,5,6,7,8,9,10,1,{"$nulls":4},"CAJ/Feu",0,0,0,"Feu/CAN",0,0,0,"CDG","CDG 12h","CAJ/Feu","INC2",{"$f":"Congé!L27","v":7},{"$f":"Congé!M27","v":3},{"$f":"Congé!N27","v":4}]
[{"$f":"Congé!E6","v":1},{"$f":"Congé!F6","v":"MATEO"},"CDG","CDG","CA","OGG","CDG","CDG","CA","OGG",{"$f":"IF($A6=K$5,\"12h\",IF($A6=\"\",\"\",\"\"))","v":"12h"},{"$f":"IF($A6=L$5,\"12h\",IF($A6=\"\",\"\",\"\"))","v":""},{"$f":"IF($A6=M$5,\"12h\",IF($A6=\"\",\"\",\"\"))","v":""},null,null,"CAJ/V",0,0,0,"V/CAN",0,0,0,"VPUa","VPUa 12h","Feu/CAN","INC1",{"$f":"Congé!L28","v":15},{"$f":"Congé!M28","v":5},{"$f":"Congé!N28","v":10}]
[{"$f":"Congé!E7","v":9},{"$f":"Congé!F7","v":"BARREAU"},"OGG",{"$f":"IF($A7=D$5,\"12h\",IF($A7=\"\",\"\",\"\"))","v":""},"CDG","CA","OGG","CA","CDG","CDG","CDG",{"$f":"IF($A7=L$5,\"12h\",IF($A7=\"\",\"\",\"\"))","v":""},{"$f":"IF($A7=M$5,\"12h\",IF($A7=\"\",\"\",\"\"))","v":""},null,null,"CAJ/PCN",0,0,0,"PCJ/CAN",0,0,0,"VPU","VPU 12h","CAJ/V"]
[{"$nulls":16},0,0,0,null,0,0,0]
[{"$f":"Congé!E9","v":10},{"$f":"Congé!F9","v":"CARTIER"},"FPTa","CA","SOG","CDG","VPUa","SOG","FPTa",{"$f":"IF($A9=J$5,\"12h\",IF($A9=\"\",\"\",\"\"))","v":"12h"},"CA",{"$f":"IF($A9=L$5,\"12h\",IF($A9=\"\",\"\",\"\"))","v":""},"",null,null,"CAJ/STN",0,0,0,"STJ/CAN",0,0,0,"VPUc","VPUc 12h","V/CAN"]
[{"$f":"Congé!E10","v":4},{"$f":"Congé!F10","v":"CARTAUT"},"VPUa",{"$f":"IF($A10=D$5,\"12h\",IF($A10=\"\",\"\",\"\"))","v":"12h"},"CA","SOG","EVa","FPTa","SOG","CA","CA","","",null,null,"CAJ/CEN",0,0,0,"CEJ/CAN",0,0,0,"FPTa","FPTa 12h","PCJ/CAN"]
[{"$f":"Congé!E11","v":0},"CASTA","SOG","SOG",{"$f":"IF($A11=E$5,\"12h\",IF($A11=\"\",\"\",\"\"))","v":""},"CA","SOG","VPUa","CA","SOG","SOG","12h","12h",{"$nulls":3},0,0,0,null,0,0,0]
[{"$nulls":15},"CAJ/AAN",0,0,0,"AAJ/CAN",0,0,0,"FPT","FPT 12h","CAJ/PCN"]
[{"$nulls":16},0,0,0,null,0,0,0]
[{"$f":"Congé!E14","v":8},{"$f":"Congé!F14","v":"SELLES"},"CA","VPUa","CA","CA","VPUc",{"$f":"IF($A14=H$5,\"12h\",IF($A14=\"\",\"\",\"\"))","v":"12h"},"VPUa","EVa","CA",{"$f":"IF($A14=L$5,\"12h\",IF($A14=\"\",\"\",\"\"))","v":""},"",null,null,"CAJ/CPN",0,0,0,"CPJ/CAN",0,0,0,"FPTc","FPTc 12h","CAJ/STN"]
[{"$f":"Congé!E15","v":9},{"$f":"Congé!F15","v":"MASSELIN"},"CEJ","VSAV jour","VPUa","VPU","VSAV 24h","EVa","CA","CA","CA","","",null,null,"STJ/CAN",0,0,0,"CAJ/STN",0,0,0,"EPSa","EPSa 12h","STJ/CAN"]
[{"$f":"Congé!E16","v":0},"HUGUES","12h","VSAV 24h","EPSa","USSH","USSH","CA","CA","VSAV 24h","FPTa","12h","12h",{"$nulls":3},0,0,0,null,0,0,0]
[{"$f":"Congé!E17","v":1},{"$f":"Congé!F17","v":"MALET"},"CA","CA","CA","VSAV 24h","CA","CA","CA","VSAV 24h","VID 12h","","",null,null,"CEJ/CAN",0,0,0,"CAJ/CEN",0,0,0,"EPSc","EPSc 12h","CAJ/CEN"]
[{"$f":"Congé!E18","v":2},{"$f":"Congé!F18","v":"REY F"},"VSAV 24h","EVa","CM","CM","CM","CM","VSAV nuit","VPUa","VPUa","","",null,null,"AAJ/CAN",0,0,0,"CAJ/AAN",0,0,0,"EPS","EPS 12h","CEJ/CAN"]
[{"$nulls":15},"CPJ/CAN",0,0,0,"CAJ/CPN",0,0,0,"VSRa","VSRa 12h","CAJ/AAN"]
[{"$nulls":15},"RPM",0,0,0,"RPM",0,0,0,"VSRc","VSRc 12h","AAJ/CAN"]
[{"$nulls":16},0,0,0,null,0,0,0]
[{"$f":"Congé!E22","v":9},{"$f":"Congé!F22","v":"ROSTAND"},"CA","CA","CA","VSAV 24h","VPU","VSAV jour",{"$f":"IF($A22=I$5,\"12h\",IF($A22=\"\",\"\",\"\"))","v":"12h"},"VSAV 24h","CA",{"$f":"IF($A22=L$5,\"12h\",IF($A22=\"\",\"\",\"\"))","v":""},"",null,null,"ST",0,0,0,"ST",0,0,0,"VSR","VSR 12h","CAJ/CPN"]
[{"$f":"Congé!E23","v":6},{"$f":"Congé!F23","v":"LAURENT J"},"VPUc","Evc","VSAV 24h","Feu/CAN","CA","VSAV nuit","Evc","CA","CA","","",null,null,"STJ/Feu",0,0,0,"STN",0,0,0,"EVa","Eva 12h","CPJ/CAN"]
[{"$f":"Congé!E24","v":10},{"$f":"Congé!F24","v":"BALLESTER"},"VSAV 24h","12h","CM","CM","CM","CM","CM","CA","CA","","",null,null,"STJ/V",0,0,0,"CE",0,0,0,"Evc","Evc 12h"]
[{"$f":"Congé!E25","v":7},{"$f":"Congé!F25","v":"GRIMM"},"PCN","VPU","VSAV 24h","Evc",{"$f":"IF($A25=G$5,\"12h\",IF($A25=\"\",\"\",\"\"))","v":"12h"},"VSAV 24h","VPUc","Evc","VSAV 24h","","",null,null,"STJ/PCN",0,0,0,"CEN",0,0,0,"EV","EV 12h"]
[{"$f":"Congé!E26","v":3},{"$f":"Congé!F26","v":"ORIOL"},{"$f":"IF($A26=C$5,\"12h\",IF($A26=\"\",\"\",\"\"))","v":"12h"},"VSAV 24h","CA","VID","VSAV 24h","VPU","VSAV nuit","CA","CA","","",null,null,"STJ",0,0,0,"CEJ/CPN",0,0,0,"VID","VID 12h"]
[{"$f":"Congé!E27","v":10},{"$f":"Congé!F27","v":"DEPRAD"},"CM","VSAV 24h","VSAV nuit","PCN","CA","CA","VSAV 24h","VID 12h","EVa","","",null,null,"CE",0,0,0,"CP",0,0,0,"VSAV 24h","VSAV 12h"]
[{"$f":"Congé!E28","v":4},{"$f":"Congé!F28","v":"FLORES"},"CA",{"$f":"IF($A28=D$5,\"12h\",IF($A28=\"\",\"\",\"\"))","v":"12h"},"PC 24","CAJ/PCN","PC 24","CA","VLM nuit","CA","CA","","",null,null,"CEJ",0,0,0,"CPN",0,0,0,"VSAV jour","VLM 12h"]
[{"$f":"Congé!E29","v":2},{"$f":"Congé!F29","v":"FIGUEIRINHA"},"CA","CA","CM","CM","CM","CE","CA","CA","VSAV 24h","","",null,null,"CEJ/CPN",0,0,0,"AA",0,0,0,"VSAV nuit","PC 12h"]
[{"$f":"Congé!E30","v":8},{"$f":"Congé!F30","v":"HEURTEBISE"},"VSAV jour","PCN","FPTc","VSAV 24h","Evc",{"$f":"IF($A30=H$5,\"12h\",IF($A30=\"\",\"\",\"\"))","v":"12h"},"CA","CA","VSAV 24h","","",null,null,"CP",0,0,0,"AAN",0,0,0,"VLM 24h"]
[{"$f":"Congé!E31","v":3},{"$f":"Congé!F31","v":"BLANCHARD"},{"$f":"IF($A31=C$5,\"12h\",IF($A31=\"\",\"\",\"\"))","v":"12h"},"CA","PCN","VLM 24h","VLM nuit","CA","CA","PCJ","PCJ","","",null,null,"CPJ",0,0,0,"CM",0,0,0,"VLM jour"]
[{"$f":"Congé!E32","v":0},"BOUISSET","VSAV 24h","FPTc","CM","CM","CM","CA","CA","VSAV 24h","FPTc","12h","12h",{"$nulls":3},0,0,0,null,0,0,0]
[{"$f":"Congé!E33","v":5},{"$f":"Congé!F33","v":"DECITRE"},"CA","CA","CA","CA","12h","VSAV nuit","VPU","FPT","VSAV 24h","","",null,null,"AA",0,0,0,"AT",0,0,0,"VLM nuit"]
[{"$f":"Congé!E34","v":4},{"$f":"Congé!F34","v":"EON"},"MUT","MUT","MUT","MUT","MUT","MUT","MUT","MUT","MUT","","",{"$nulls":3},0,0,0,null,0,0,0]
[{"$f":"Congé!E35","v":6},{"$f":"Congé!F35","v":"DIOLOGENT"},"CA","CA","CA","FPT 12h","CA","VLM jour","12h","PCN","Evc","","",null,null,"AAJ",0,0,0,"TP",0,0,0,"PCJ"]
[{"$f":"Congé!E36","v":7},{"$f":"Congé!F36","v":"GUEROULT"},"CA","CA","CA","CA",{"$f":"IF($A36=G$5,\"12h\",IF($A36=\"\",\"\",\"\"))","v":"12h"},"PCN","FPTc","VSAV 24h","VPU","","",null,null,"CM",0,0,0,"SHR",0,0,0,"PCN"]
[{"$f":"Congé!E37","v":1},{"$f":"Congé!F37","v":"SALMI"},"VSAV 24h","FPTc","VSAV 24h","VPU","VPU","CA","CA","VSAV 24h","FPTc 12h","","",null,null,"AT",0,0,0,"MUT",0,0,0,"PC 24"]
[{"$f":"Congé!E38","v":7},{"$f":"Congé!F38","v":"DYLIK"},"ST","ST","CA","VSAV 24h","CA","CA","CA","VSAV 24h","VPUc","","",null,null,"TP",0,0,0,"12h",1,2,1]
[{"$nulls":16},0,0,0,null,0,0,0]
[{"$f":"Congé!E40","v":9},{"$f":"Congé!F40","v":"MONTALEGRE"},"CM","VSAV 24h","VPUc","CA","VSAV 24h","FPT","VSAV 24h","CA","CA",{"$f":"IF($A40=L$5,\"12h\",IF($A40=\"\",\"\",\"\"))","v":""},"",null,null,"USSH",0,0,0,"CAN covid",0,0,0]
[{"$f":"Congé!E41","v":9},{"$f":"Congé!F41","v":"SERANO G"},"CA","VSAV 24h","EV","VSAV jour","PCN","VID","CA","CA","VSAV 24h","","",null,null,"MUT",0,0,0,"USSH",0,0,0]
[{"$f":"Congé!E42","v":7},{"$f":"Congé!F42","v":"LANCIAL"},"VPU","PCN","CM","CM","CM","VSAV 24h","CE","CE","CEJ","","",null,null,"ST 12h",0,0,0,null,0,0,0]
[{"$f":"Congé!E43","v":8},{"$f":"Congé!F43","v":"MOURCIA"},"VPU","VSAV 24h","CM","CM","CM",{"$f":"IF($A43=H$5,\"12h\",IF($A43=\"\",\"\",\"\"))","v":"12h"},"VSAV 24h","FPT","VPU","","",null,null,"CE 12h",0,0,0,null,0,0,0]
[{"$f":"Congé!E44","v":2},{"$f":"Congé!F44","v":"GILSON"},"CA","CA","CM","CM","CM","VSAV 24h","VPU","CA","CA","","",null,null,"CP 12h",0,0,0,null,0,0,0]
[{"$f":"Congé!E45","v":0},{"$f":"Congé!F45","v":0},{"$f":"IF($A45=C$5,\"12h\",IF($A45=\"\",\"\",\"\"))","v":""},"VLM nuit","CM","CM","CM","AT","AT","VSAV 24h","EV","12h","12h",{"$nulls":3},{"$f":"COUNTIF(INDIRECT(Q$2),$P46)","v":0},0,0,null,0,0,0]
[{"$f":"Congé!E46","v":5},{"$f":"Congé!F46","v":"PERINO"},"VSAV 24h","VPU","CM","CM","CM","CA","VSAV 24h","VID","VSAV 24h","","",null,null,"AA 12h",0,0,0,null,0,0,0]
[{"$f":"Congé!E47","v":10},{"$f":"Congé!F47","v":"LUPI"},"VSAV 24h","EV","CA","VSAV 24h","VPU","VID","FPT","CA","CA","","",null,null,"AT 12h",0,0,0,null,0,0,0]
[{"$f":"Congé!E48","v":4},{"$f":"Congé!F48","v":"ROOS"},"PCN","VPU","VSAV 24h","PCJ","AT","AT","AT","AT","AT","","",null,null,"RPM 12h",{"$f":"COUNTIF(INDIRECT(Q$2),#REF!)","v":0},{"$f":"COUNTIF(INDIRECT(R$2),#REF!)","v":0},{"$f":"COUNTIF(INDIRECT(S$2),#REF!)","v":0},null,0,0,0]
[{"$f":"Congé!E49","v":1},{"$f":"Congé!F49","v":"VALERIAN"},"ST","ST","VSAV 24h","EV","CA","STJ","PCJ","VSAV nuit","FPT 12h","",""]
[{"$f":"Congé!E50","v":3},{"$f":"Congé!F50","v":"ROUSTAN"},"VSAV 24h","FPT","VSAV jour",{"$f":"IF($A50=F$5,\"12h\",IF($A50=\"\",\"\",\"\"))","v":""},"VSAV 24h","VPU","VSAV jour","VPU","PCN","",""]
[{"$f":"Congé!E51","v":1},{"$f":"Congé!F51","v":"WENGER"},"VSAV nuit","VPU","VSAV 24h","VPU","CA","CA","PCN","VPU","VPU 12h","","",null,null,"CAJ covid",{"$f":"COUNTIF(INDIRECT(Q$2),#REF!)","v":0},{"$f":"COUNTIF(INDIRECT(R$2),#REF!)","v":0},{"$f":"COUNTIF(INDIRECT(S$2),#REF!)","v":0},null,0,0,0]
[{"$f":"Congé!E52","v":8},{"$f":"Congé!F52","v":"LHERBIER"},"STN","ST","VSAV 24h","VPU","VSAV 24h",null,"PCN","VPU","FPT 12h","","",null,null,"CA ops"]
[]
[null,"CA Jour",{"$f":"COUNTIF(C9:C52,\"CA\")+COUNTIF(C9:C52,\"CAJ*\")+COUNTIF(C9:C52,\"RPM\")","v":10},{"$f":"COUNTIF(D9:D52,\"CA\")+COUNTIF(D9:D52,\"CAJ*\")+COUNTIF(D9:D52,\"RPM\")","v":9},10,6,7,10,11,12,12,0,0]
[null,"Absence jour",{"$f":"SUM(C75:C77)+C81+SUM(C82:C88)+SUM(C92:C102)+C54","v":17},{"$f":"SUM(D75:D77)+D81+SUM(D82:D88)+SUM(D92:D102)+D54","v":13},20,16,18,17,16,15,15,0,0]
[null,"CA Nuit",{"$f":"COUNTIF(C9:C52,\"CA\")+COUNTIF(C9:C52,\"*CAN\")+COUNTIF(C9:C52,\"RPM\")","v":10},{"$f":"COUNTIF(D9:D52,\"CA\")+COUNTIF(D9:D52,\"*CAN\")+COUNTIF(D9:D52,\"RPM\")","v":9},10,6,7,10,11,12,12,0,0]
[null,"Absence Nuit",{"$f":"SUM(C67:C69)+C72+SUM(C89:C102)+C56","v":16},{"$f":"SUM(D67:D69)+D72+SUM(D89:D102)+D56","v":13},20,16,18,16,16,15,14,0,0]
[]
[null,"Nombre de 12h",{"$f":"COUNTIF(C9:C52,\"*12h\")","v":3},{"$f":"COUNTIF(D9:D52,\"*12h\")","v":3},0,1,3,3,2,2,5,4,4]
[{"$nulls":15},"CA"]
[null,"Nbre de pro jour",{"$f":"Congé!$E$54-C55","v":20},{"$f":"Congé!$E$54-D55","v":24},{"$f":"Congé!$E$54-E55","v":17},{"$f":"Congé!$E$54-F55","v":21},{"$f":"Congé!$E$54-G55","v":19},{"$f":"Congé!$E$54-H55","v":20},{"$f":"Congé!$E$54-I55","v":21},{"$f":"Congé!$E$54-J55","v":22},{"$f":"Congé!$E$54-K55","v":22},{"$f":"Congé!$E$54-L55","v":37},{"$f":"Congé!$E$54-M55","v":37},null,null,"CAN"]
[null,"Nbre de pro nuit",{"$f":"Congé!$E$54-C57-C59","v":18},{"$f":"Congé!$E$54-D57-D59","v":21},{"$f":"Congé!$E$54-E57-E59","v":17},{"$f":"Congé!$E$54-F57-F59","v":20},{"$f":"Congé!$E$54-G57-G59","v":16},{"$f":"Congé!$E$54-H57-H59","v":18},{"$f":"Congé!$E$54-I57-I59","v":19},{"$f":"Congé!$E$54-J57-J59","v":20},{"$f":"Congé!$E$54-K57-K59","v":18},{"$f":"Congé!$E$54-L57-L59","v":33},{"$f":"Congé!$E$54-M57-M59","v":33},null,null,"Feu/CAN"]
[{"$nulls":15},"V/CAN"]
[null,"CA",{"$f":"COUNTIF(C$9:C$52,$B64)","v":10},{"$f":"COUNTIF(D$9:D$52,$B64)","v":9},10,5,7,10,11,12,12,0,0,null,null,"PCJ/CAN"]
[null,"RPM",{"$f":"COUNTIF(C$9:C$52,$B65)","v":0},0,0,0,0,0,0,0,0,0,0,null,null,"STJ/CAN"]
[null,"CAJ",0,0,0,0,0,0,0,0,0,0,0,null,null,"CEJ/CAN"]
[null,"CAJ/AAN",0,0,0,0,0,0,0,0,0,0,0,null,null,"AAJ/CAN"]
[null,"CAJ/CEN",0,0,0,0,0,0,0,0,0,0,0,null,null,"CPJ/CAN"]
[null,"CAJ/CPN",0,0,0,0,0,0,0,0,0,0,0,null,null,"CAJ/STN"]
[null,"CAJ/Feu",0,0,0,0,0,0,0,0,0,0,0,null,null,"CAJ/CEN"]
[null,"CAJ/PCN",0,0,0,1,0,0,0,0,0,0,0,null,null,"CAJ/AAN"]
[null,"CAJ/STN",0,0,0,0,0,0,0,0,0,0,0,null,null,"CAJ/CPN"]
[null,"CAJ/V",0,0,0,0,0,0,0,0,0,0,0,null,null,"RPM"]
[null,"CAN",0,0,0,0,0,0,0,0,0,0,0,null,null,"ST"]
[null,"AAJ/CAN",0,0,0,0,0,0,0,0,0,0,0,null,null,"STN"]
[null,"CEJ/CAN",0,0,0,0,0,0,0,0,0,0,0,null,null,"CE"]
[null,"CPJ/CAN",0,0,0,0,0,0,0,0,0,0,0,null,null,"CEN"]
[null,"Feu/CAN",0,0,0,1,0,0,0,0,0,0,0,null,null,"CEJ/CPN"]
[null,"PCJ/CAN",0,0,0,0,0,0,0,0,0,0,0,null,null,"CP"]
[null,"V/CAN",0,0,0,0,0,0,0,0,0,0,0,null,null,"CPN"]
[null,"STJ/CAN",0,0,0,0,0,0,0,0,0,0,0,null,null,"AA"]
[null,"AAJ",0,0,0,0,0,0,0,0,0,0,0,null,null,"AAN"]
[null,"CEJ",1,0,0,0,0,0,0,0,1,0,0,null,null,"CM"]
[null,"CPJ",0,0,0,0,0,0,0,0,0,0,0,null,null,"AT"]
[null,"STJ",0,0,0,0,0,1,0,0,0,0,0,null,null,"TP"]
[null,"STJ/Feu",0,0,0,0,0,0,0,0,0,0,0,null,null,"SHR"]
[null,"STJ/PCN",0,0,0,0,0,0,0,0,0,0,0,null,null,"MUT"]
[null,"STJ/V",0,0,0,0,0,0,0,0,0,0,0,null,null,"12h"]
[null,"AAN",0,0,0,0,0,0,0,0,0,0,0,null,null,"CAN covid"]
[null,"CEN",0,0,0,0,0,0,0,0,0,0,0,null,null,"USSH"]
[null,"CPN",0,0,0,0,0,0,0,0,0,0,0,null,null,"CG"]
[null,"STN",1,0,0,0,0,0,0,0,0,0,0,null,null,"CDG"]
[null,"CE",0,0,0,0,0,1,1,1,0,0,0,null,null,"VPUa"]
[null,"CEJ/CPN",0,0,0,0,0,0,0,0,0,0,0,null,null,"VPU"]
[null,"CM",2,0,9,9,9,2,1,0,0,0,0,null,null,"VPUc"]
[null,"CP",0,0,0,0,0,0,0,0,0,0,0,null,null,"FPTa"]
[null,"TP",0,0,0,0,0,0,0,0,0,0,0,null,null,"FPT"]
[null,"ST",2,3,0,0,0,0,0,0,0,0,0,null,null,"FPTc"]
[null,"SHR",0,0,0,0,0,0,0,0,0,0,0,null,null,"EPSa"]
[null,"MUT",1,1,1,1,1,1,1,1,1,0,0,null,null,"EPSc"]
[null,"AA",0,0,0,0,0,0,0,0,0,{"$f":"COUNTIF(L$9:L$52,$B101)","v":0},{"$f":"COUNTIF(M$9:M$52,$B101)","v":0},null,null,"EPS"]
[null,"AT",{"$f":"COUNTIF(C$9:C$52,$B102)","v":0},0,0,0,1,2,2,1,1,0,0,null,null,"VSRa"]
[{"$nulls":15},"VSRc"]
[{"$nulls":15},"VSR"]
[{"$nulls":15},"EVa"]
[{"$nulls":15},"Evc"]
[{"$nulls":15},"EV"]
[{"$nulls":15},"VID"]
[{"$nulls":15},"VSAV 24h"]
[{"$nulls":15},"VSAV jour"]
[{"$nulls":15},"VSAV nuit"]
[{"$nulls":15},"VLM 24h"]
[{"$nulls":15},"VLM jour"]
[{"$nulls":15},"VLM nuit"]
[{"$nulls":15},"PCJ"]
[{"$nulls":15},"PCN"]
[{"$nulls":15},"PC 24"]
[{"$nulls":15},"CG 12h"]
[{"$nulls":15},"CDG 12h"]
[{"$nulls":15},"VPUa 12h"]
[{"$nulls":15},"VPU 12h"]
[{"$nulls":15},"VPUc 12h"]
[{"$nulls":15},"FPTa 12h"]
[{"$nulls":15},"FPT 12h"]
[{"$nulls":15},"FPTc 12h"]
[{"$nulls":15},"EPSa 12h"]
[{"$nulls":15},"EPSc 12h"]
[{"$nulls":15},"EPS 12h"]
[{"$nulls":15},"VSRa 12h"]
[{"$nulls":15},"VSRc 12h"]
[{"$nulls":15},"VSR 12h"]
[{"$nulls":15},"Eva 12h"]
[{"$nulls":15},"Evc 12h"]
[{"$nulls":15},"EV 12h"]
[{"$nulls":15},"VID 12h"]
[{"$nulls":15},"VSAV 12h"]
[{"$nulls":15},"VLM 12h"]
[{"$nulls":15},"PC 12h"]

{"sheet":"Mars","index":3,"n_rows":138,"n_cols":30,"rows_kept":138,"merged":[[0,23,2,23],[0,24,2,24],[0,26,0,27],[1,26,1,27],[4,0,4,1]]}
[null,null,"2020-02-27",null,"2020-03-04",{"$nulls":4},"2020-03-19",null,"2020-03-25",{"$nulls":4},{"$f":"SUM(Q3:Q51)","v":1},{"$f":"SUM(R3:R51)","v":3},{"$f":"SUM(S3:S51)","v":11},null,{"$f":"SUM(U3:U51)","v":1},{"$f":"SUM(V3:V51)","v":3},{"$f":"SUM(W3:W51)","v":11},"Fonctions    24h","Fonctions 12h",null,"Nombre de CA maxi",null,{"$f":"Congé!M23","v":12}]
[{"$nulls":6},{"$f":"RIGHT(CELL(\"nomfichier\",G2),LEN(CELL(\"nomfichier\",G2))-SEARCH(\"]\",CELL(\"nomfichier\",G2)))","v":"Mars"},{"$nulls":6},"12h",null,"Absence jour","L9:L12","L9:L18","L22:L38","Absence nuit","L9:L12","L9:L18","L22:L38",null,null,"CA","Nombre de 12h maxi",null,{"$f":"Congé!M24","v":5}]
[null,null,1,4,7,10,13,16,19,22,25,28,31,"12h",null,"CA",{"$f":"COUNTIF(INDIRECT(Q$2),$P3)","v":1},{"$f":"COUNTIF(INDIRECT(R$2),$P3)","v":3},{"$f":"COUNTIF(INDIRECT(S$2),$P3)","v":7},"CA",{"$f":"COUNTIF(INDIRECT(U$2),$T3)","v":1},{"$f":"COUNTIF(INDIRECT(V$2),$T3)","v":3},{"$f":"COUNTIF(INDIRECT(W$2),$T3)","v":7},null,null,"CAJ",null,"Nbre","Présence mini","Absence maxi"]
[null,null,"DIM","MER","SAM","MAR","VEN","LUN.","JEU.","DIM.","MER.","SAM.","MAR.",null,null,"CAJ",{"$f":"COUNTIF(INDIRECT(Q$2),$P4)","v":0},0,0,"CAN",{"$f":"COUNTIF(INDIRECT(U$2),$T4)","v":0},0,0,"CG","CG 12h","CAN","SOG",{"$f":"Congé!L26","v":3},{"$f":"Congé!M26","v":1},{"$f":"Congé!N26","v":2}]
["Equipes",null,2,3,4,5,6,7,8,9,10,1,2,null,null,"CAJ/Feu",0,0,0,"Feu/CAN",0,0,0,"CDG","CDG 12h","CAJ/Feu","INC2",{"$f":"Congé!L27","v":7},{"$f":"Congé!M27","v":3},{"$f":"Congé!N27","v":4}]
[{"$f":"Congé!E6","v":1},{"$f":"Congé!F6","v":"MATEO"},"CA","STJ","CDG","OGG","CA","CDG","OGG","CDG","CDG","CA","CE",null,null,"CAJ/V",0,0,0,"V/CAN",0,0,0,"VPUa","VPUa 12h","Feu/CAN","INC1",{"$f":"Congé!L28","v":15},{"$f":"Congé!M28","v":5},{"$f":"Congé!N28","v":10}]
[{"$f":"Congé!E7","v":9},{"$f":"Congé!F7","v":"BARREAU"},"OGG","CA","OGG","CDG",{"$f":"IF($A7=G$5,\"12h\",IF($A7=\"\",\"\",\"\"))","v":""},"OGG","CDG","OGG","CA","OGG","CDG",null,null,"CAJ/PCN",0,0,0,"PCJ/CAN",0,0,0,"VPU","VPU 12h","CAJ/V"]
[{"$nulls":16},0,0,0,null,0,0,0]
[{"$f":"Congé!E9","v":10},{"$f":"Congé!F9","v":"CARTIER"},"CDG","CDG","SOG","FPTa","SOG","CA","SOG","SOG",{"$f":"IF($A9=K$5,\"12h\",IF($A9=\"\",\"\",\"\"))","v":"12h"},"CDG","SOG",null,null,"CAJ/STN",0,0,0,"STJ/CAN",0,0,0,"VPUc","VPUc 12h","V/CAN"]
[{"$f":"Congé!E10","v":4},{"$f":"Congé!F10","v":"CARTAUT"},"CA","FPTa",{"$f":"IF($A10=E$5,\"12h\",IF($A10=\"\",\"\",\"\"))","v":"12h"},"VPUa","STJ","SOG","FPTa","CA","SOG","SOG","CA",null,null,"CAJ/CEN",0,0,0,"CEJ/CAN",0,0,0,"FPTa","FPTa 12h","PCJ/CAN"]
[{"$f":"Congé!E11","v":0},"CASTA","SOG","CA","FPTa","SOG","CA","CE","CE","CE","CE","CA","CA",{"$nulls":3},0,0,0,null,0,0,0]
[{"$nulls":15},"CAJ/AAN",0,0,0,"AAJ/CAN",0,0,0,"FPT","FPT 12h","CAJ/PCN"]
[{"$nulls":16},0,0,0,null,0,0,0]
[{"$f":"Congé!E14","v":8},{"$f":"Congé!F14","v":"SELLES"},"VPUa","EVa","VPUa","FPTc","Evc","FPTa",{"$f":"IF($A14=I$5,\"12h\",IF($A14=\"\",\"\",\"\"))","v":"12h"},"FPTa","CA","CA","VPUa",null,null,"CAJ/CPN",0,0,0,"CPJ/CAN",0,0,0,"FPTc","FPTc 12h","CAJ/STN"]
[{"$f":"Congé!E15","v":9},{"$f":"Congé!F15","v":"MASSELIN"},"CA","12h","VSAV nuit","EVa","VSAV nuit","VPUc","VPU",{"$f":"IF($A15=J$5,\"12h\",IF($A15=\"\",\"\",\"\"))","v":"12h"},"VPUa","CA","VSAV jour",null,null,"STJ/CAN",0,0,0,"CAJ/STN",0,0,0,"EPSa","EPSa 12h","STJ/CAN"]
[{"$f":"Congé!E16","v":0},"HUGUES","VSAV 12h","VPUa","VSAV 24h","VPU","VPUa","VSAV 24h","VID","CA","VSAV jour","VPUa","FPTa",{"$nulls":3},0,0,0,null,0,0,0]
[{"$f":"Congé!E17","v":1},{"$f":"Congé!F17","v":"MALET"},"VSAV nuit","CA","CA","CA","VSAV 24h","VPUa","Evc","12h","VSAV jour","FPTa","CA",null,null,"CEJ/CAN",0,0,0,"CAJ/CEN",0,0,0,"EPSc","EPSc 12h","CAJ/CEN"]
[{"$f":"Congé!E18","v":2},{"$f":"Congé!F18","v":"REY F"},"VSAV 12h","CA","CA","VSAV 24h","VPUc","EVa","VSAV 24h","VPUa","EVa","VSAV 24h",{"$f":"IF($A18=M$5,\"12h\",IF($A18=\"\",\"\",\"\"))","v":"12h"},null,null,"AAJ/CAN",0,0,0,"CAJ/AAN",0,0,0,"EPS","EPS 12h","CEJ/CAN"]
[{"$nulls":15},"CPJ/CAN",0,0,0,"CAJ/CPN",0,0,0,"VSRa","VSRa 12h","CAJ/AAN"]
[{"$nulls":15},"RPM",0,0,0,"RPM",0,0,0,"VSRc","VSRc 12h","AAJ/CAN"]
[{"$nulls":16},0,0,0,null,0,0,0]
[{"$f":"Congé!E22","v":9},{"$f":"Congé!F22","v":"ROSTAND"},"CA","CM","CM","CAJ","VPU","Evc","VSAV 24h","CE","CE","CE","VSAV 24h",null,null,"ST",0,0,0,"ST",0,0,0,"VSR","VSR 12h","CAJ/CPN"]
[{"$f":"Congé!E23","v":6},{"$f":"Congé!F23","v":"LAURENT J"},"CA","VSAV 24h","VPU","VSAV 24h",{"$f":"IF($A23=G$5,\"12h\",IF($A23=\"\",\"\",\"\"))","v":"12h"},"CA","VSAV 24h","Evc","CE","CE","CE",null,null,"STJ/Feu",0,0,0,"STN",0,0,0,"EVa","Eva 12h","CPJ/CAN"]
[{"$f":"Congé!E24","v":10},{"$f":"Congé!F24","v":"BALLESTER"},"CA","VSAV 24h","VPUc","VSAV 24h","FPT","FPTc","VSAV 24h","CE",{"$f":"IF($A24=K$5,\"12h\",IF($A24=\"\",\"\",\"\"))","v":"12h"},"EVa","CE",null,null,"STJ/V",0,0,0,"CE",0,0,2,"Evc","Evc 12h"]
[{"$f":"Congé!E25","v":7},{"$f":"Congé!F25","v":"GRIMM"},"VPUc","VSAV 24h","CA","FPT","VSAV 24h",{"$f":"IF($A25=H$5,\"12h\",IF($A25=\"\",\"\",\"\"))","v":"12h"},"FPT","VSAV 24h","Evc","CA","CA",null,null,"STJ/PCN",0,0,0,"CEN",0,0,0,"EV","EV 12h"]
[{"$f":"Congé!E26","v":3},{"$f":"Congé!F26","v":"ORIOL"},"VSAV 24h","VLM jour",{"$f":"IF($A26=E$5,\"12h\",IF($A26=\"\",\"\",\"\"))","v":""},"FPT","VSAV 24h","PCJ","CA","CE","CE","CA","CE",null,null,"STJ",0,0,0,"CEJ/CPN",0,0,0,"VID","VID 12h"]
[{"$f":"Congé!E27","v":10},{"$f":"Congé!F27","v":"DEPRAD"},"VSAV nuit","VPU","VSAV 24h","VPU","CA","VSAV nuit","PCN","PCJ","CM","CM","CM",null,null,"CE",0,0,2,"CP",0,0,0,"VSAV 24h","VSAV 12h"]
[{"$f":"Congé!E28","v":4},{"$f":"Congé!F28","v":"FLORES"},"CA","PCJ",{"$f":"IF($A28=E$5,\"12h\",IF($A28=\"\",\"\",\"\"))","v":"12h"},"CA","VLM nuit","VLM jour","CA","VLM nuit","VLM jour","CA","CA",null,null,"CEJ",0,0,0,"CPN",0,0,0,"VSAV jour","VLM 12h"]
[{"$f":"Congé!E29","v":2},{"$f":"Congé!F29","v":"FIGUEIRINHA"},"VLM 12h","CA","CA","CA","CA","CA","CA","CA","CA","VSAV 24h",{"$f":"IF($A29=M$5,\"12h\",IF($A29=\"\",\"\",\"\"))","v":"12h"},null,null,"CEJ/CPN",0,0,0,"AA",0,0,0,"VSAV nuit","PC 12h"]
[{"$f":"Congé!E30","v":8},{"$f":"Congé!F30","v":"HEURTEBISE"},"EVa","Evc","VSAV 24h","VPUc","CA","VSAV 24h",{"$f":"IF($A30=I$5,\"12h\",IF($A30=\"\",\"\",\"\"))","v":"12h"},"VSAV nuit","FPTc","CA","CA",null,null,"CP",0,0,0,"AAN",0,0,0,"VLM 24h"]
[{"$f":"Congé!E31","v":3},{"$f":"Congé!F31","v":"BLANCHARD"},"CA","CA","CA","VLM nuit","VLM jour","CA","VSR","VSAV 12h","FPT","VSAV 24h","VPU",null,null,"CPJ",0,0,0,"CM",0,0,1,"VLM jour"]
[{"$f":"Congé!E32","v":0},"BOUISSET","VSAV 24h","VPU",{"$f":"IF($A32=E$5,\"12h\",IF($A32=\"\",\"\",\"\"))","v":""},"CA","CA","12h","CA","CA","VSAV 24h","FPTc","VSAV 24h",{"$nulls":3},0,0,0,null,0,0,0]
[{"$f":"Congé!E33","v":5},{"$f":"Congé!F33","v":"DECITRE"},"Evc","VSAV 24h","FPT",{"$f":"IF($A33=F$5,\"12h\",IF($A33=\"\",\"\",\"\"))","v":"12h"},"VPU","VSAV 24h","VPUc","VLM jour","VSAV nuit","Evc","CE",null,null,"AA",0,0,0,"AT",0,0,0,"VLM nuit"]
[{"$f":"Congé!E34","v":4},{"$f":"Congé!F34","v":"EON"},"MUT","MUT","MUT","MUT","MUT","MUT","MUT","MUT","MUT","MUT","MUT",{"$nulls":3},0,0,0,null,0,0,0]
[{"$f":"Congé!E35","v":6},{"$f":"Congé!F35","v":"DIOLOGENT"},"VSAV 24h","CA","VSAV 24h","VPU","VSAV jour","CA","CA","VSAV 24h","VPUc","CA","VLM nuit",null,null,"AAJ",0,0,0,"TP",0,0,0,"PCJ"]
[{"$f":"Congé!E36","v":7},{"$f":"Congé!F36","v":"GUEROULT"},"VSAV 12h","VSAV jour","FPT","PCN","VPU","FPT","VSAV 24h","CA","CA","CA","PCN",null,null,"CM",0,0,1,"SHR",0,0,0,"PCN"]
[{"$f":"Congé!E37","v":1},{"$f":"Congé!F37","v":"SALMI"},"VSAV nuit","PCN","CA","ST","VSAV jour","VPU","12h","PCN","VPU","CA","VSAV jour",null,null,"AT",0,0,0,"MUT",0,0,1,"PC 24"]
[{"$f":"Congé!E38","v":7},{"$f":"Congé!F38","v":"DYLIK"},"PC 24","VPUc","VSAV 24h","CA","CA","VSAV 24h","CA","CA","CA","VSAV 24h","12h",null,null,"TP",0,0,0,"12h",0,0,0]
[{"$nulls":16},0,0,0,null,0,0,0]
[{"$f":"Congé!E40","v":9},{"$f":"Congé!F40","v":"MONTALEGRE"},"VSAV 24h","CA","PCN","Evc","12h","VSAV 24h","VPU",{"$f":"IF($A40=J$5,\"12h\",IF($A40=\"\",\"\",\"\"))","v":"12h"},"CA","VSAV 24h","Evc",null,null,"USSH",0,0,0,"CAN covid",0,0,0]
[{"$f":"Congé!E41","v":9},{"$f":"Congé!F41","v":"SERANO G"},"VPU","CA","PCN","PCJ","12h","VPU","VLM jour",{"$f":"IF($A41=J$5,\"12h\",IF($A41=\"\",\"\",\"\"))","v":"12h"},"VSAV 24h","CA","CA",null,null,"MUT",0,0,1,"USSH",0,0,0]
[{"$f":"Congé!E42","v":7},{"$f":"Congé!F42","v":"LANCIAL"},"PCN","FPT","VSAV nuit","CA","VSAV jour",{"$f":"IF($A42=H$5,\"12h\",IF($A42=\"\",\"\",\"\"))","v":"12h"},"PCN","VPU","VSAV 24h","VPU","FPTc",null,null,"ST 12h",0,0,0,null,0,0,0]
[{"$f":"Congé!E43","v":8},{"$f":"Congé!F43","v":"MOURCIA"},"VSAV 24h","PCN","CA","VSAV 24h","VPU","PCN",{"$f":"IF($A43=I$5,\"12h\",IF($A43=\"\",\"\",\"\"))","v":"12h"},"CA","VSAV nuit","VPUc","CA",null,null,"CE 12h",0,0,0,null,0,0,0]
[{"$f":"Congé!E44","v":2},{"$f":"Congé!F44","v":"GILSON"},"VSAV 24h","FPTc","VLM nuit","CE","CA","12h","VSAV 24h","VPUc","CA","CE","CE",null,null,"CP 12h",0,0,0,null,0,0,0]
[{"$f":"Congé!E45","v":0},{"$f":"Congé!F45","v":0},"VSAV 24h",{"$f":"IF($A45=D$5,\"12h\",IF($A45=\"\",\"\",\"\"))","v":""},"CA","CA","CA","CA","CE","CE","CE","CE","CE",{"$nulls":3},{"$f":"COUNTIF(INDIRECT(Q$2),$P46)","v":0},0,0,null,0,0,0]
[{"$f":"Congé!E46","v":5},{"$f":"Congé!F46","v":"PERINO"},"EV","CA","CA",{"$f":"IF($A46=F$5,\"12h\",IF($A46=\"\",\"\",\"\"))","v":"12h"},"PCN","FPT","FPTc","VSAV 24h","CA","VSAV 24h","VPUc",null,null,"AA 12h",0,0,0,null,0,0,0]
[{"$f":"Congé!E47","v":10},{"$f":"Congé!F47","v":"LUPI"},"12h","ST","CA","VSAV 24h","CA","VSAV 24h","CE","CE",{"$f":"IF($A47=K$5,\"12h\",IF($A47=\"\",\"\",\"\"))","v":"12h"},"CE","CE",null,null,"AT 12h",0,0,0,null,0,0,0]
[{"$f":"Congé!E48","v":4},{"$f":"Congé!F48","v":"ROOS"},"AT","AT","AT","AT","AT","AT","CM","CM","CM","CM","CM",null,null,"RPM 12h",{"$f":"COUNTIF(INDIRECT(Q$2),#REF!)","v":0},{"$f":"COUNTIF(INDIRECT(R$2),#REF!)","v":0},{"$f":"COUNTIF(INDIRECT(S$2),#REF!)","v":0},null,0,0,0]
[{"$f":"Congé!E49","v":1},{"$f":"Congé!F49","v":"VALERIAN"},"CA","CA","CA","VSAV 24h","CA","VID","VSAV nuit","EV","VSAV 24h","VPU","VSAV jour"]
[{"$f":"Congé!E50","v":3},{"$f":"Congé!F50","v":"ROUSTAN"},"VPU","VSAV 24h","PCJ","CA","CA","CA","CA","VSAV 24h","VPU","PCN","VPU"]
[{"$f":"Congé!E51","v":1},{"$f":"Congé!F51","v":"WENGER"},"VSAV 24h","VSAV nuit","VPU","VSAV 24h","CA","PCN","VPU","CA","VSAV 24h","FPT","VSAV 24h",null,null,"CAJ covid",{"$f":"COUNTIF(INDIRECT(Q$2),#REF!)","v":0},{"$f":"COUNTIF(INDIRECT(R$2),#REF!)","v":0},{"$f":"COUNTIF(INDIRECT(S$2),#REF!)","v":0},null,0,0,0]
[{"$f":"Congé!E52","v":8},{"$f":"Congé!F52","v":"LHERBIER"},"CA","ST","ST","ST","ST","VSAV 24h","PCJ","PCN","VPU","VSAV 24h","CA",null,null,"CA ops"]
[]
[null,"CA Jour",{"$f":"COUNTIF(C9:C52,\"CA\")+COUNTIF(C9:C52,\"CAJ*\")+COUNTIF(C9:C52,\"RPM\")","v":9},{"$f":"COUNTIF(D9:D52,\"CA\")+COUNTIF(D9:D52,\"CAJ*\")+COUNTIF(D9:D52,\"RPM\")","v":10},11,9,12,7,7,8,7,11,9]
[null,"Absence jour",{"$f":"SUM(C75:C77)+C81+SUM(C82:C88)+SUM(C92:C102)+C54","v":11},{"$f":"SUM(D75:D77)+D81+SUM(D82:D88)+SUM(D92:D102)+D54","v":15},15,14,16,10,12,16,15,19,19]
[null,"CA Nuit",{"$f":"COUNTIF(C9:C52,\"CA\")+COUNTIF(C9:C52,\"*CAN\")+COUNTIF(C9:C52,\"RPM\")","v":9},{"$f":"COUNTIF(D9:D52,\"CA\")+COUNTIF(D9:D52,\"*CAN\")+COUNTIF(D9:D52,\"RPM\")","v":10},11,8,12,7,7,8,7,11,9]
[null,"Absence Nuit",{"$f":"SUM(C67:C69)+C72+SUM(C89:C102)+C56","v":11},{"$f":"SUM(D67:D69)+D72+SUM(D89:D102)+D56","v":15},15,13,15,10,12,16,15,19,19]
[]
[null,"Nombre de 12h",{"$f":"COUNTIF(C9:C52,\"*12h\")","v":5},{"$f":"COUNTIF(D9:D52,\"*12h\")","v":1},2,2,3,4,4,5,3,0,3]
[{"$nulls":15},"CA"]
[null,"Nbre de pro jour",{"$f":"Congé!$E$54-C55","v":26},{"$f":"Congé!$E$54-D55","v":22},{"$f":"Congé!$E$54-E55","v":22},{"$f":"Congé!$E$54-F55","v":23},{"$f":"Congé!$E$54-G55","v":21},{"$f":"Congé!$E$54-H55","v":27},{"$f":"Congé!$E$54-I55","v":25},{"$f":"Congé!$E$54-J55","v":21},{"$f":"Congé!$E$54-K55","v":22},{"$f":"Congé!$E$54-L55","v":18},{"$f":"Congé!$E$54-M55","v":18},null,null,"CAN"]
[null,"Nbre de pro nuit",{"$f":"Congé!$E$54-C57-C59","v":21},{"$f":"Congé!$E$54-D57-D59","v":21},{"$f":"Congé!$E$54-E57-E59","v":20},{"$f":"Congé!$E$54-F57-F59","v":22},{"$f":"Congé!$E$54-G57-G59","v":19},{"$f":"Congé!$E$54-H57-H59","v":23},{"$f":"Congé!$E$54-I57-I59","v":21},{"$f":"Congé!$E$54-J57-J59","v":16},{"$f":"Congé!$E$54-K57-K59","v":19},{"$f":"Congé!$E$54-L57-L59","v":18},{"$f":"Congé!$E$54-M57-M59","v":15},null,null,"Feu/CAN"]
[{"$nulls":15},"V/CAN"]
[null,"CA",{"$f":"COUNTIF(C$9:C$52,$B64)","v":9},{"$f":"COUNTIF(D$9:D$52,$B64)","v":10},11,8,12,7,7,8,7,11,9,null,null,"PCJ/CAN"]
[null,"RPM",{"$f":"COUNTIF(C$9:C$52,$B65)","v":0},0,0,0,0,0,0,0,0,0,0,null,null,"STJ/CAN"]
[null,"CAJ",0,0,0,1,0,0,0,0,0,0,0,null,null,"CEJ/CAN"]
[null,"CAJ/AAN",0,0,0,0,0,0,0,0,0,0,0,null,null,"AAJ/CAN"]
[null,"CAJ/CEN",0,0,0,0,0,0,0,0,0,0,0,null,null,"CPJ/CAN"]
[null,"CAJ/CPN",0,0,0,0,0,0,0,0,0,0,0,null,null,"CAJ/STN"]
[null,"CAJ/Feu",0,0,0,0,0,0,0,0,0,0,0,null,null,"CAJ/CEN"]
[null,"CAJ/PCN",0,0,0,0,0,0,0,0,0,0,0,null,null,"CAJ/AAN"]
[null,"CAJ/STN",0,0,0,0,0,0,0,0,0,0,0,null,null,"CAJ/CPN"]
[null,"CAJ/V",0,0,0,0,0,0,0,0,0,0,0,null,null,"RPM"]
[null,"CAN",0,0,0,0,0,0,0,0,0,0,0,null,null,"ST"]
[null,"AAJ/CAN",0,0,0,0,0,0,0,0,0,0,0,null,null,"STN"]
[null,"CEJ/CAN",0,0,0,0,0,0,0,0,0,0,0,null,null,"CE"]
[null,"CPJ/CAN",0,0,0,0,0,0,0,0,0,0,0,null,null,"CEN"]
[null,"Feu/CAN",0,0,0,0,0,0,0,0,0,0,0,null,null,"CEJ/CPN"]
[null,"PCJ/CAN",0,0,0,0,0,0,0,0,0,0,0,null,null,"CP"]
[null,"V/CAN",0,0,0,0,0,0,0,0,0,0,0,null,null,"CPN"]
[null,"STJ/CAN",0,0,0,0,0,0,0,0,0,0,0,null,null,"AA"]
[null,"AAJ",0,0,0,0,0,0,0,0,0,0,0,null,null,"AAN"]
[null,"CEJ",0,0,0,0,0,0,0,0,0,0,0,null,null,"CM"]
[null,"CPJ",0,0,0,0,0,0,0,0,0,0,0,null,null,"AT"]
[null,"STJ",0,0,0,0,1,0,0,0,0,0,0,null,null,"TP"]
[null,"STJ/Feu",0,0,0,0,0,0,0,0,0,0,0,null,null,"SHR"]
[null,"STJ/PCN",0,0,0,0,0,0,0,0,0,0,0,null,null,"MUT"]
[null,"STJ/V",0,0,0,0,0,0,0,0,0,0,0,null,null,"12h"]
[null,"AAN",0,0,0,0,0,0,0,0,0,0,0,null,null,"CAN covid"]
[null,"CEN",0,0,0,0,0,0,0,0,0,0,0,null,null,"USSH"]
[null,"CPN",0,0,0,0,0,0,0,0,0,0,0,null,null,"CG"]
[null,"STN",0,0,0,0,0,0,0,0,0,0,0,null,null,"CDG"]
[null,"CE",0,0,0,1,0,1,3,6,5,5,7,null,null,"VPUa"]
[null,"CEJ/CPN",0,0,0,0,0,0,0,0,0,0,0,null,null,"VPU"]
[null,"CM",0,1,1,0,0,0,1,1,2,2,2,null,null,"VPUc"]
[null,"CP",0,0,0,0,0,0,0,0,0,0,0,null,null,"FPTa"]
[null,"TP",0,0,0,0,0,0,0,0,0,0,0,null,null,"FPT"]
[null,"ST",0,2,1,2,1,0,0,0,0,0,0,null,null,"FPTc"]
[null,"SHR",0,0,0,0,0,0,0,0,0,0,0,null,null,"EPSa"]
[null,"MUT",1,1,1,1,1,1,1,1,1,1,1,null,null,"EPSc"]
[null,"AA",0,0,0,0,0,0,0,0,0,{"$f":"COUNTIF(L$9:L$52,$B101)","v":0},{"$f":"COUNTIF(M$9:M$52,$B101)","v":0},null,null,"EPS"]
[null,"AT",{"$f":"COUNTIF(C$9:C$52,$B102)","v":1},1,1,1,1,1,0,0,0,0,0,null,null,"VSRa"]
[{"$nulls":15},"VSRc"]
[{"$nulls":15},"VSR"]
[{"$nulls":15},"EVa"]
[{"$nulls":15},"Evc"]
[{"$nulls":15},"EV"]
[{"$nulls":15},"VID"]
[{"$nulls":15},"VSAV 24h"]
[{"$nulls":15},"VSAV jour"]
[{"$nulls":15},"VSAV nuit"]
[{"$nulls":15},"VLM 24h"]
[{"$nulls":15},"VLM jour"]
[{"$nulls":15},"VLM nuit"]
[{"$nulls":15},"PCJ"]
[{"$nulls":15},"PCN"]
[{"$nulls":15},"PC 24"]
[{"$nulls":15},"CG 12h"]
[{"$nulls":15},"CDG 12h"]
[{"$nulls":15},"VPUa 12h"]
[{"$nulls":15},"VPU 12h"]
[{"$nulls":15},"VPUc 12h"]
[{"$nulls":15},"FPTa 12h"]
[{"$nulls":15},"FPT 12h"]
[{"$nulls":15},"FPTc 12h"]
[{"$nulls":15},"EPSa 12h"]
[{"$nulls":15},"EPSc 12h"]
[{"$nulls":15},"EPS 12h"]
[{"$nulls":15},"VSRa 12h"]
[{"$nulls":15},"VSRc 12h"]
[{"$nulls":15},"VSR 12h"]
[{"$nulls":15},"Eva 12h"]
[{"$nulls":15},"Evc 12h"]
[{"$nulls":15},"EV 12h"]
[{"$nulls":15},"VID 12h"]
[{"$nulls":15},"VSAV 12h"]
[{"$nulls":15},"VLM 12h"]
[{"$nulls":15},"PC 12h"]

{"sheet":"Avril","index":4,"n_rows":138,"n_cols":30,"rows_kept":138,"merged":[[0,23,2,23],[0,24,2,24],[0,26,0,27],[1,26,1,27],[4,0,4,1]]}
[{"$nulls":5},"2020-04-09","2020-04-12","2020-04-15","2020-04-18","2020-04-21",null,null,"2018-01-31",{"$nulls":3},{"$f":"SUM(Q3:Q51)","v":2},{"$f":"SUM(R3:R51)","v":2},{"$f":"SUM(S3:S51)","v":2},null,{"$f":"SUM(U3:U51)","v":1},{"$f":"SUM(V3:V51)","v":3},{"$f":"SUM(W3:W51)","v":3},"Fonctions    24h","Fonctions 12h",null,"Nombre de CA maxi",null,{"$f":"Congé!M23","v":12}]
[{"$nulls":6},{"$f":"RIGHT(CELL(\"nomfichier\",G2),LEN(CELL(\"nomfichier\",G2))-SEARCH(\"]\",CELL(\"nomfichier\",G2)))","v":"Avril"},{"$nulls":6},"12h",null,"Absence jour","L9:L12","L9:L18","L22:L38","Absence nuit","L9:L12","L9:L18","L22:L38",null,null,"CA","Nombre de 12h maxi",null,{"$f":"Congé!M24","v":5}]
[null,null,3,6,9,12,15,18,21,24,27,30,null,"12h",null,"CA",{"$f":"COUNTIF(INDIRECT(Q$2),$P3)","v":1},{"$f":"COUNTIF(INDIRECT(R$2),$P3)","v":1},{"$f":"COUNTIF(INDIRECT(S$2),$P3)","v":0},"CA",{"$f":"COUNTIF(INDIRECT(U$2),$T3)","v":1},{"$f":"COUNTIF(INDIRECT(V$2),$T3)","v":1},{"$f":"COUNTIF(INDIRECT(W$2),$T3)","v":0},null,null,"CAJ",null,"Nbre","Présence mini","Absence maxi"]
[null,null,"VEN","LUN.","JEU.","DIM.","MER.","SAM.","MAR.","VEN.","LUN.","JEU.",{"$nulls":3},"CAJ",{"$f":"COUNTIF(INDIRECT(Q$2),$P4)","v":0},0,0,"CAN",{"$f":"COUNTIF(INDIRECT(U$2),$T4)","v":0},0,0,"CG","CG 12h","CAN","SOG",{"$f":"Congé!L26","v":3},{"$f":"Congé!M26","v":1},{"$f":"Congé!N26","v":2}]
["Equipes",null,3,4,5,6,7,8,9,10,1,2,{"$nulls":3},"CAJ/Feu",0,0,0,"Feu/CAN",0,0,0,"CDG","CDG 12h","CAJ/Feu","INC2",{"$f":"Congé!L27","v":7},{"$f":"Congé!M27","v":3},{"$f":"Congé!N27","v":4}]
[{"$f":"Congé!E6","v":1},{"$f":"Congé!F6","v":"MATEO"},"CE","CE","CE","CE","12h","CA",{"$f":"IF($A6=I$5,\"12h\",IF($A6=\"\",\"\",\"\"))","v":""},"CA","12h","","",null,null,"CAJ/V",0,0,0,"V/CAN",0,0,0,"VPUa","VPUa 12h","Feu/CAN","INC1",{"$f":"Congé!L28","v":15},{"$f":"Congé!M28","v":5},{"$f":"Congé!N28","v":10}]
[{"$f":"Congé!E7","v":9},{"$f":"Congé!F7","v":"BARREAU"},"CDG","CA","CDG","CDG","CA","CDG","12h","CDG","CDG","","",null,null,"CAJ/PCN",0,0,0,"PCJ/CAN",0,0,0,"VPU","VPU 12h","CAJ/V"]
[{"$nulls":16},0,0,0,null,0,0,0]
[{"$f":"Congé!E9","v":10},{"$f":"Congé!F9","v":"CARTIER"},"FPTa","CDG","CA","SOG","CAJ","FPTa","SOG",{"$f":"IF($A9=J$5,\"12h\",IF($A9=\"\",\"\",\"\"))","v":"12h"},"ST","CA",{"$f":"IF($A9=M$5,\"12h\",IF($A9=\"\",\"\",\"\"))","v":""},null,null,"CAJ/STN",0,0,0,"STJ/CAN",0,0,0,"VPUc","VPUc 12h","V/CAN"]
[{"$f":"Congé!E10","v":4},{"$f":"Congé!F10","v":"CARTAUT"},"VPUa",{"$f":"IF($A10=D$5,\"12h\",IF($A10=\"\",\"\",\"\"))","v":"12h"},"SOG","CAJ","EVa","SOG","CA","CA","SOG",{"$f":"IF($A10=L$5,\"12h\",IF($A10=\"\",\"\",\"\"))","v":""},{"$f":"IF($A10=M$5,\"12h\",IF($A10=\"\",\"\",\"\"))","v":""},null,null,"CAJ/CEN",0,0,0,"CEJ/CAN",0,0,0,"FPTa","FPTa 12h","PCJ/CAN"]
[{"$f":"Congé!E11","v":0},{"$f":"Congé!F11","v":0},{"$f":"IF($A11=C$5,\"12h\",IF($A11=\"\",\"\",\"\"))","v":""},{"$f":"IF($A11=D$5,\"12h\",IF($A11=\"\",\"\",\"\"))","v":""},{"$f":"IF($A11=E$5,\"12h\",IF($A11=\"\",\"\",\"\"))","v":""},{"$nulls":5},{"$f":"IF($A11=K$5,\"12h\",IF($A11=\"\",\"\",\"\"))","v":""},{"$f":"IF($A11=L$5,\"12h\",IF($A11=\"\",\"\",\"\"))","v":""},"MUT",{"$nulls":3},0,0,0,null,0,0,0]
[{"$f":"Congé!E12","v":3},{"$f":"Congé!F12","v":"HUGUES"},"SOG","SOG","CAJ","EVa","SOG","VPUa","CA","SOG","FPTa","ST 12h",{"$nulls":3},"CAJ/AAN",0,0,0,"AAJ/CAN",0,0,0,"FPT","FPT 12h","CAJ/PCN"]
[{"$nulls":16},0,0,0,null,0,0,0]
[{"$f":"Congé!E14","v":8},{"$f":"Congé!F14","v":"SELLES"},null,"EPSa","VPUa","CA","CA","CA","EVa","VPUa","EVa",{"$f":"IF($A14=L$5,\"12h\",IF($A14=\"\",\"\",\"\"))","v":""},{"$f":"IF($A14=M$5,\"12h\",IF($A14=\"\",\"\",\"\"))","v":""},null,null,"CAJ/CPN",0,0,0,"CPJ/CAN",0,0,0,"FPTc","FPTc 12h","CAJ/STN"]
[{"$f":"Congé!E15","v":9},{"$f":"Congé!F15","v":"MASSELIN"},"EVa","VPUa","CAJ","VSAV 24h","VPUa","CA","CA","VSAV 24h","VPUa","12h",{"$f":"IF($A15=M$5,\"12h\",IF($A15=\"\",\"\",\"\"))","v":""},null,null,"STJ/CAN",0,0,0,"CAJ/STN",0,0,0,"EPSa","EPSa 12h","STJ/CAN"]
[{"$f":"Congé!E16","v":0},{"$f":"Congé!F16","v":0},{"$f":"IF($A16=C$5,\"12h\",IF($A16=\"\",\"\",\"\"))","v":""},{"$f":"IF($A16=D$5,\"12h\",IF($A16=\"\",\"\",\"\"))","v":""},{"$f":"IF($A16=E$5,\"12h\",IF($A16=\"\",\"\",\"\"))","v":""},null,{"$f":"IF($A16=G$5,\"12h\",IF($A16=\"\",\"\",\"\"))","v":""},"","","","","","12h",{"$nulls":3},0,0,0,null,0,0,0]
[{"$f":"Congé!E17","v":1},{"$f":"Congé!F17","v":"MALET"},"CA","VSAV jour","EVa","VPUa","VSAV 24h","EVa","CAN","EVa","CA",{"$f":"IF($A17=L$5,\"12h\",IF($A17=\"\",\"\",\"\"))","v":""},"",null,null,"CEJ/CAN",0,0,0,"CAJ/CEN",0,0,0,"EPSc","EPSc 12h","CAJ/CEN"]
[{"$f":"Congé!E18","v":2},{"$f":"Congé!F18","v":"REY F"},"CA","FPTc","VSAV 24h","CA","CM","CM","CM","CM","CM",{"$f":"IF($A18=L$5,\"12h\",IF($A18=\"\",\"\",\"\"))","v":"12h"},"",null,null,"AAJ/CAN",0,0,0,"CAJ/AAN",0,0,0,"EPS","EPS 12h","CEJ/CAN"]
[{"$f":"Congé!E19","v":6},{"$f":"Congé!F19","v":"LUBRANO"},"MUT","MUT","MUT","MUT","MUT","MUT","MUT","MUT","VSAV 24h",{"$f":"IF($A19=L$5,\"12h\",IF($A19=\"\",\"\",\"\"))","v":""},"",null,null,"CPJ/CAN",0,0,0,"CAJ/CPN",0,0,0,"VSRa","VSRa 12h","CAJ/AAN"]
[{"$f":"Congé!E20","v":5},{"$f":"Congé!F20","v":"NORMAND"},"MUT","MUT","MUT","MUT","MUT","MUT","MUT","MUT","VSAV 24h",{"$f":"IF($A20=L$5,\"12h\",IF($A20=\"\",\"\",\"\"))","v":""},"",null,null,"RPM",0,0,0,"RPM",0,0,0,"VSRc","VSRc 12h","AAJ/CAN"]
[{"$nulls":16},0,0,0,null,0,0,0]
[{"$f":"Congé!E22","v":9},{"$f":"Congé!F22","v":"ROSTAND"},"VPUc","CE","CE","VSAV 24h",{"$f":"IF($A22=G$5,\"12h\",IF($A22=\"\",\"\",\"\"))","v":""},"VSAV 24h","CE","CE","PCN",{"$f":"IF($A22=L$5,\"12h\",IF($A22=\"\",\"\",\"\"))","v":""},"",null,null,"ST",0,0,0,"ST",0,0,0,"VSR","VSR 12h","CAJ/CPN"]
[{"$f":"Congé!E23","v":6},{"$f":"Congé!F23","v":"LAURENT J"},"CE","CE","CE","CM","CM","CM","CM","CM","VSAV 24h","","",null,null,"STJ/Feu",0,0,0,"STN",0,0,0,"EVa","Eva 12h","CPJ/CAN"]
[{"$f":"Congé!E24","v":10},{"$f":"Congé!F24","v":"BALLESTER"},"CA","CA","VSAV 24h","Evc","CA","VSAV 12h","EVa",{"$f":"IF($A24=J$5,\"12h\",IF($A24=\"\",\"\",\"\"))","v":"12h"},"VSAV nuit","","",null,null,"STJ/V",0,0,0,"CE",0,0,0,"Evc","Evc 12h"]
[{"$f":"Congé!E25","v":7},{"$f":"Congé!F25","v":"GRIMM"},"CA","CA","CA","VLM nuit","Eva 12h","VSAV 24h","VPUc","EVa","CA","","",null,null,"STJ/PCN",0,0,0,"CEN",0,0,0,"EV","EV 12h"]
[{"$f":"Congé!E26","v":3},{"$f":"Congé!F26","v":"ORIOL"},{"$f":"IF($A26=C$5,\"12h\",IF($A26=\"\",\"\",\"\"))","v":"12h"},"CE","CE","CE","CE","CA","CA","CA","CE","","",null,null,"STJ",0,0,0,"CEJ/CPN",0,0,0,"VID","VID 12h"]
[{"$f":"Congé!E27","v":10},{"$f":"Congé!F27","v":"DEPRAD"},"CM","CM","CA","CA","CA","CA","VSAV 24h",{"$f":"IF($A27=J$5,\"12h\",IF($A27=\"\",\"\",\"\"))","v":"12h"},"EV","","",null,null,"CE",0,0,0,"CP",0,0,0,"VSAV 24h","VSAV 12h"]
[{"$f":"Congé!E28","v":4},{"$f":"Congé!F28","v":"FLORES"},"CM","CM","CM","CM","CM","VLM nuit","VSAV 24h","VPU","VPU","","",null,null,"CEJ",0,0,0,"CPN",0,0,0,"VSAV jour","VLM 12h"]
[{"$f":"Congé!E29","v":2},{"$f":"Congé!F29","v":"FIGUEIRINHA"},"Evc","VSAV 24h","CE","PC 12h","VPUc","CA","CE","VSAV 24h","Evc","12h","",null,null,"CEJ/CPN",0,0,0,"AA",0,0,0,"VSAV nuit","PC 12h"]
[{"$f":"Congé!E30","v":8},{"$f":"Congé!F30","v":"HEURTEBISE"},"VSAV 24h","CA","CAJ","VSAV 24h","CA",{"$f":"IF($A30=H$5,\"12h\",IF($A30=\"\",\"\",\"\"))","v":"12h"},"VSAV 24h","CA","VPU","","",null,null,"CP",0,0,0,"AAN",0,0,0,"VLM 24h"]
[{"$f":"Congé!E31","v":3},{"$f":"Congé!F31","v":"BLANCHARD"},{"$f":"IF($A31=C$5,\"12h\",IF($A31=\"\",\"\",\"\"))","v":"12h"},"VSAV 24h","VPU",null,"VSAV 24h","VPU","CA","CA","CA","","",null,null,"CPJ",0,0,0,"CM",0,0,0,"VLM jour"]
[{"$f":"Congé!E32","v":0},"BOUISSET","PCJ","VPU","VSAV 24h","CA","VLM jour","VSAV nuit","VPU","CA","MUT","MUT",{"$f":"IF($A32=M$5,\"12h\",IF($A32=\"\",\"\",\"\"))","v":"12h"},{"$nulls":3},0,0,0,null,0,0,0]
[{"$f":"Congé!E33","v":5},{"$f":"Congé!F33","v":"DECITRE"},"VSAV 24h","Evc",{"$f":"IF($A33=E$5,\"12h\",IF($A33=\"\",\"\",\"\"))","v":"12h"},null,"VSAV 24h","Evc","CA","CA","CA",{"$f":"IF($A33=L$5,\"12h\",IF($A33=\"\",\"\",\"\"))","v":""},"",null,null,"AA",0,0,0,"AT",0,0,0,"VLM nuit"]
[{"$f":"Congé!E34","v":4},{"$f":"Congé!F34","v":"EON"},"MUT","MUT","MUT","MUT","MUT","MUT","MUT","MUT","MUT","MUT","",{"$nulls":3},0,0,0,null,0,0,0]
[{"$f":"Congé!E35","v":6},{"$f":"Congé!F35","v":"DIOLOGENT"},{"$f":"IF($A35=C$5,\"12h\",IF($A35=\"\",\"\",\"\"))","v":""},"VSAV 24h","Evc","VPU","VSAV nuit","PCJ","CA","CA","CA",{"$f":"IF($A35=L$5,\"12h\",IF($A35=\"\",\"\",\"\"))","v":""},"",null,null,"AAJ",0,0,0,"TP",0,0,0,"PCJ"]
[{"$f":"Congé!E36","v":7},{"$f":"Congé!F36","v":"GUEROULT"},{"$f":"IF($A36=C$5,\"12h\",IF($A36=\"\",\"\",\"\"))","v":""},"CA","CA","CA","CM","CM","CM","CM","CM",{"$f":"IF($A36=L$5,\"12h\",IF($A36=\"\",\"\",\"\"))","v":""},"",null,null,"CM",0,0,0,"SHR",0,0,0,"PCN"]
[{"$f":"Congé!E37","v":1},{"$f":"Congé!F37","v":"SALMI"},"FPTc","CA","VSAV 24h","VPU","EV","VSAV 24h","CA","CA","CA",{"$f":"IF($A37=L$5,\"12h\",IF($A37=\"\",\"\",\"\"))","v":""},"",null,null,"AT",0,0,0,"MUT",0,0,2,"PC 24"]
[{"$f":"Congé!E38","v":7},{"$f":"Congé!F38","v":"DYLIK"},{"$f":"IF($A38=C$5,\"12h\",IF($A38=\"\",\"\",\"\"))","v":""},"VSAV 24h","VPU","VPUc","CA","CA","VSAV 24h","VPUc","CA",{"$f":"IF($A38=L$5,\"12h\",IF($A38=\"\",\"\",\"\"))","v":""},"",null,null,"TP",0,0,0,"12h",0,2,1]
[{"$nulls":16},0,0,0,null,0,0,0]
[{"$f":"Congé!E40","v":9},{"$f":"Congé!F40","v":"MONTALEGRE"},"VSAV 24h","VPUc","CA","VSAV 24h","CA","CA","Evc","Evc","VSAV 24h",{"$f":"IF($A40=L$5,\"12h\",IF($A40=\"\",\"\",\"\"))","v":""},"",null,null,"USSH",0,0,0,"CAN covid",0,0,0]
[{"$f":"Congé!E41","v":9},{"$f":"Congé!F41","v":"SERANO G"},"CA","VLM nuit","CA","EV","CA","VPUc","CA","VSAV 24h","CAJ","","",null,null,"MUT",0,0,2,"USSH",0,0,0]
[{"$f":"Congé!E42","v":7},{"$f":"Congé!F42","v":"LANCIAL"},"VSAV 24h","CAJ","CA","PCN","VPU","FPTc","VSAV 24h","FPTc","CA","","",null,null,"ST 12h",1,1,0,null,0,0,0]
[{"$f":"Congé!E43","v":8},{"$f":"Congé!F43","v":"MOURCIA"},"VSAV 24h","CA","PCN","CA","FPTc","VSAV 24h","FPTc","VPU","VSAV nuit","","",null,null,"CE 12h",0,0,0,null,0,0,0]
[{"$f":"Congé!E44","v":2},{"$f":"Congé!F44","v":"GILSON"},"CA","CE","CE","CE","CA","CA","VSAV 24h","EV","VLM jour","12h","",null,null,"CP 12h",0,0,0,null,0,0,0]
[{"$f":"Congé!E45","v":0},{"$f":"Congé!F45","v":0},{"$f":"IF($A45=C$5,\"12h\",IF($A45=\"\",\"\",\"\"))","v":""},"CE","CE","CE","CE","CE","CA ops","CA","CA","CA",{"$f":"IF($A45=M$5,\"12h\",IF($A45=\"\",\"\",\"\"))","v":"12h"},{"$nulls":3},{"$f":"COUNTIF(INDIRECT(Q$2),$P46)","v":0},0,0,null,0,0,0]
[{"$f":"Congé!E46","v":5},{"$f":"Congé!F46","v":"PERINO"},"VPU","EV",{"$f":"IF($A46=E$5,\"12h\",IF($A46=\"\",\"\",\"\"))","v":"12h"},"VSAV 24h","CA","CA",{"$f":"IF($A46=I$5,\"12h\",IF($A46=\"\",\"\",\"\"))","v":""},"VSAV 24h","CA","CA","",null,null,"AA 12h",0,0,0,null,0,0,0]
[{"$f":"Congé!E47","v":10},{"$f":"Congé!F47","v":"LUPI"},"CE","CE","CE","CA","CE","CE","CE","CE","CE",{"$f":"IF($A47=L$5,\"12h\",IF($A47=\"\",\"\",\"\"))","v":""},"",null,null,"AT 12h",0,0,0,null,0,0,0]
[{"$f":"Congé!E48","v":4},{"$f":"Congé!F48","v":"ROOS"},"PCN","CA","VLM nuit","FPTc","VPUc","VSAV 24h","CA","CA","CA","12h","",null,null,"RPM 12h",{"$f":"COUNTIF(INDIRECT(Q$2),#REF!)","v":0},{"$f":"COUNTIF(INDIRECT(R$2),#REF!)","v":0},{"$f":"COUNTIF(INDIRECT(S$2),#REF!)","v":0},null,0,0,0]
[{"$f":"Congé!E49","v":1},{"$f":"Congé!F49","v":"VALERIAN"},"","VSAV nuit","PCJ","VPU","PCN","EV","CA","CA","CA",{"$f":"IF($A49=L$5,\"12h\",IF($A49=\"\",\"\",\"\"))","v":""},""]
[{"$f":"Congé!E50","v":3},{"$f":"Congé!F50","v":"ROUSTAN"},"12h","VSAV 24h","VPU","CA","VSAV 24h","CA","PCJ","VSAV 24h","CA",{"$f":"IF($A50=L$5,\"12h\",IF($A50=\"\",\"\",\"\"))","v":""},""]
[{"$f":"Congé!E51","v":1},{"$f":"Congé!F51","v":"WENGER"},"","FPT","VSAV 24h","CA","PCJ","VPU","PCN","VPU","CA",{"$f":"IF($A51=L$5,\"12h\",IF($A51=\"\",\"\",\"\"))","v":""},"",null,null,"CAJ covid",{"$f":"COUNTIF(INDIRECT(Q$2),#REF!)","v":0},{"$f":"COUNTIF(INDIRECT(R$2),#REF!)","v":0},{"$f":"COUNTIF(INDIRECT(S$2),#REF!)","v":0},null,0,0,0]
[{"$f":"Congé!E52","v":8},{"$f":"Congé!F52","v":"LHERBIER"},"CA","CA","CA","CM","CM","CA","CA","CAJ","VPU","CA","",null,null,"CA ops"]
[]
[null,"CA Jour",{"$f":"COUNTIF(C9:C52,\"CA\")+COUNTIF(C9:C52,\"CAJ*\")+COUNTIF(C9:C52,\"RPM\")","v":7},{"$f":"COUNTIF(D9:D52,\"CA\")+COUNTIF(D9:D52,\"CAJ*\")+COUNTIF(D9:D52,\"RPM\")","v":9},11,10,10,11,12,12,15,4,0]
[null,"Absence jour",{"$f":"SUM(C75:C77)+C81+SUM(C82:C88)+SUM(C92:C102)+C54","v":14},{"$f":"SUM(D75:D77)+D81+SUM(D82:D88)+SUM(D92:D102)+D54","v":20},22,19,21,19,21,20,22,6,1]
[null,"CA Nuit",{"$f":"COUNTIF(C9:C52,\"CA\")+COUNTIF(C9:C52,\"*CAN\")+COUNTIF(C9:C52,\"RPM\")","v":7},{"$f":"COUNTIF(D9:D52,\"CA\")+COUNTIF(D9:D52,\"*CAN\")+COUNTIF(D9:D52,\"RPM\")","v":8},8,9,9,11,13,11,14,4,0]
[null,"Absence Nuit",{"$f":"SUM(C67:C69)+C72+SUM(C89:C102)+C56","v":14},{"$f":"SUM(D67:D69)+D72+SUM(D89:D102)+D56","v":19},19,18,20,19,22,19,21,6,1]
[]
[null,"Nombre de 12h",{"$f":"COUNTIF(C9:C52,\"*12h\")","v":3},{"$f":"COUNTIF(D9:D52,\"*12h\")","v":1},2,1,1,2,0,3,0,6,3]
[{"$nulls":15},"CA"]
[null,"Nbre de pro jour",{"$f":"Congé!$E$54-C55","v":23},{"$f":"Congé!$E$54-D55","v":17},{"$f":"Congé!$E$54-E55","v":15},{"$f":"Congé!$E$54-F55","v":18},{"$f":"Congé!$E$54-G55","v":16},{"$f":"Congé!$E$54-H55","v":18},{"$f":"Congé!$E$54-I55","v":16},{"$f":"Congé!$E$54-J55","v":17},{"$f":"Congé!$E$54-K55","v":15},{"$f":"Congé!$E$54-L55","v":31},{"$f":"Congé!$E$54-M55","v":36},null,null,"CAN"]
[null,"Nbre de pro nuit",{"$f":"Congé!$E$54-C57-C59","v":20},{"$f":"Congé!$E$54-D57-D59","v":17},{"$f":"Congé!$E$54-E57-E59","v":16},{"$f":"Congé!$E$54-F57-F59","v":18},{"$f":"Congé!$E$54-G57-G59","v":16},{"$f":"Congé!$E$54-H57-H59","v":16},{"$f":"Congé!$E$54-I57-I59","v":15},{"$f":"Congé!$E$54-J57-J59","v":15},{"$f":"Congé!$E$54-K57-K59","v":16},{"$f":"Congé!$E$54-L57-L59","v":25},{"$f":"Congé!$E$54-M57-M59","v":33},null,null,"Feu/CAN"]
[{"$nulls":15},"V/CAN"]
[null,"CA",{"$f":"COUNTIF(C$9:C$52,$B64)","v":7},{"$f":"COUNTIF(D$9:D$52,$B64)","v":8},8,9,9,11,12,11,14,4,0,null,null,"PCJ/CAN"]
[null,"RPM",{"$f":"COUNTIF(C$9:C$52,$B65)","v":0},0,0,0,0,0,0,0,0,0,0,null,null,"STJ/CAN"]
[null,"CAJ",0,1,3,1,1,0,0,1,1,0,0,null,null,"CEJ/CAN"]
[null,"CAJ/AAN",0,0,0,0,0,0,0,0,0,0,0,null,null,"AAJ/CAN"]
[null,"CAJ/CEN",0,0,0,0,0,0,0,0,0,0,0,null,null,"CPJ/CAN"]
[null,"CAJ/CPN",0,0,0,0,0,0,0,0,0,0,0,null,null,"CAJ/STN"]
[null,"CAJ/Feu",0,0,0,0,0,0,0,0,0,0,0,null,null,"CAJ/CEN"]
[null,"CAJ/PCN",0,0,0,0,0,0,0,0,0,0,0,null,null,"CAJ/AAN"]
[null,"CAJ/STN",0,0,0,0,0,0,0,0,0,0,0,null,null,"CAJ/CPN"]
[null,"CAJ/V",0,0,0,0,0,0,0,0,0,0,0,null,null,"RPM"]
[null,"CAN",0,0,0,0,0,0,1,0,0,0,0,null,null,"ST"]
[null,"AAJ/CAN",0,0,0,0,0,0,0,0,0,0,0,null,null,"STN"]
[null,"CEJ/CAN",0,0,0,0,0,0,0,0,0,0,0,null,null,"CE"]
[null,"CPJ/CAN",0,0,0,0,0,0,0,0,0,0,0,null,null,"CEN"]
[null,"Feu/CAN",0,0,0,0,0,0,0,0,0,0,0,null,null,"CEJ/CPN"]
[null,"PCJ/CAN",0,0,0,0,0,0,0,0,0,0,0,null,null,"CP"]
[null,"V/CAN",0,0,0,0,0,0,0,0,0,0,0,null,null,"CPN"]
[null,"STJ/CAN",0,0,0,0,0,0,0,0,0,0,0,null,null,"AA"]
[null,"AAJ",0,0,0,0,0,0,0,0,0,0,0,null,null,"AAN"]
[null,"CEJ",0,0,0,0,0,0,0,0,0,0,0,null,null,"CM"]
[null,"CPJ",0,0,0,0,0,0,0,0,0,0,0,null,null,"AT"]
[null,"STJ",0,0,0,0,0,0,0,0,0,0,0,null,null,"TP"]
[null,"STJ/Feu",0,0,0,0,0,0,0,0,0,0,0,null,null,"SHR"]
[null,"STJ/PCN",0,0,0,0,0,0,0,0,0,0,0,null,null,"MUT"]
[null,"STJ/V",0,0,0,0,0,0,0,0,0,0,0,null,null,"12h"]
[null,"AAN",0,0,0,0,0,0,0,0,0,0,0,null,null,"CAN covid"]
[null,"CEN",0,0,0,0,0,0,0,0,0,0,0,null,null,"USSH"]
[null,"CPN",0,0,0,0,0,0,0,0,0,0,0,null,null,"CG"]
[null,"STN",0,0,0,0,0,0,0,0,0,0,0,null,null,"CDG"]
[null,"CE",2,6,7,3,3,2,3,2,2,0,0,null,null,"VPUa"]
[null,"CEJ/CPN",0,0,0,0,0,0,0,0,0,0,0,null,null,"VPU"]
[null,"CM",2,2,1,3,5,3,3,3,2,0,0,null,null,"VPUc"]
[null,"CP",0,0,0,0,0,0,0,0,0,0,0,null,null,"FPTa"]
[null,"TP",0,0,0,0,0,0,0,0,0,0,0,null,null,"FPT"]
[null,"ST",0,0,0,0,0,0,0,0,1,0,0,null,null,"FPTc"]
[null,"SHR",0,0,0,0,0,0,0,0,0,0,0,null,null,"EPSa"]
[null,"MUT",3,3,3,3,3,3,3,3,2,2,1,null,null,"EPSc"]
[null,"AA",0,0,0,0,0,0,0,0,0,{"$f":"COUNTIF(L$9:L$52,$B101)","v":0},{"$f":"COUNTIF(M$9:M$52,$B101)","v":0},null,null,"EPS"]
[null,"AT",{"$f":"COUNTIF(C$9:C$52,$B102)","v":0},0,0,0,0,0,0,0,0,0,0,null,null,"VSRa"]
[{"$nulls":15},"VSRc"]
[{"$nulls":15},"VSR"]
[{"$nulls":15},"EVa"]
[{"$nulls":15},"Evc"]
[{"$nulls":15},"EV"]
[{"$nulls":15},"VID"]
[{"$nulls":15},"VSAV 24h"]
[{"$nulls":15},"VSAV jour"]
[{"$nulls":15},"VSAV nuit"]
[{"$nulls":15},"VLM 24h"]
[{"$nulls":15},"VLM jour"]
[{"$nulls":15},"VLM nuit"]
[{"$nulls":15},"PCJ"]
[{"$nulls":15},"PCN"]
[{"$nulls":15},"PC 24"]
[{"$nulls":15},"CG 12h"]
[{"$nulls":15},"CDG 12h"]
[{"$nulls":15},"VPUa 12h"]
[{"$nulls":15},"VPU 12h"]
[{"$nulls":15},"VPUc 12h"]
[{"$nulls":15},"FPTa 12h"]
[{"$nulls":15},"FPT 12h"]
[{"$nulls":15},"FPTc 12h"]
[{"$nulls":15},"EPSa 12h"]
[{"$nulls":15},"EPSc 12h"]
[{"$nulls":15},"EPS 12h"]
[{"$nulls":15},"VSRa 12h"]
[{"$nulls":15},"VSRc 12h"]
[{"$nulls":15},"VSR 12h"]
[{"$nulls":15},"Eva 12h"]
[{"$nulls":15},"Evc 12h"]
[{"$nulls":15},"EV 12h"]
[{"$nulls":15},"VID 12h"]
[{"$nulls":15},"VSAV 12h"]
[{"$nulls":15},"VLM 12h"]
[{"$nulls":15},"PC 12h"]

{"sheet":"Mai","index":5,"n_rows":138,"n_cols":30,"rows_kept":138,"merged":[[0,23,2,23],[0,24,2,24],[0,26,0,27],[1,26,1,27],[4,0,4,1]]}
[null,null,"2020-04-30",null,"2020-05-06",{"$nulls":3},"2020-05-18","2020-05-21",null,"2020-05-27","2018-01-31",{"$nulls":3},{"$f":"SUM(Q3:Q51)","v":2},{"$f":"SUM(R3:R51)","v":3},{"$f":"SUM(S3:S51)","v":6},null,{"$f":"SUM(U3:U51)","v":2},{"$f":"SUM(V3:V51)","v":4},{"$f":"SUM(W3:W51)","v":6},"Fonctions    24h","Fonctions 12h",null,"Nombre de CA maxi",null,{"$f":"Congé!M23","v":12}]
[{"$nulls":6},{"$f":"RIGHT(CELL(\"nomfichier\",G2),LEN(CELL(\"nomfichier\",G2))-SEARCH(\"]\",CELL(\"nomfichier\",G2)))","v":"Mai"},{"$nulls":6},"12h",null,"Absence jour","L9:L12","L9:L18","L22:L38","Absence nuit","L9:L12","L9:L18","L22:L38",null,null,"CA","Nombre de 12h maxi",null,{"$f":"Congé!M24","v":5}]
[null,null,3,6,9,12,15,18,21,24,27,30,null,"12h",null,"CA",{"$f":"COUNTIF(INDIRECT(Q$2),$P3)","v":2},{"$f":"COUNTIF(INDIRECT(R$2),$P3)","v":3},{"$f":"COUNTIF(INDIRECT(S$2),$P3)","v":5},"CA",{"$f":"COUNTIF(INDIRECT(U$2),$T3)","v":2},{"$f":"COUNTIF(INDIRECT(V$2),$T3)","v":3},{"$f":"COUNTIF(INDIRECT(W$2),$T3)","v":5},null,null,"CAJ",null,"Nbre","Présence mini","Absence maxi"]
[null,null,"DIM.","MER.","SAM.","MAR.","VEN.","LUN.","JEU.","DIM.","MER.","SAM.",{"$nulls":3},"CAJ",{"$f":"COUNTIF(INDIRECT(Q$2),$P4)","v":0},0,0,"CAN",{"$f":"COUNTIF(INDIRECT(U$2),$T4)","v":0},0,0,"CG","CG 12h","CAN","SOG",{"$f":"Congé!L26","v":3},{"$f":"Congé!M26","v":1},{"$f":"Congé!N26","v":2}]
["Equipes",null,3,4,5,6,7,8,9,10,1,2,{"$nulls":3},"CAJ/Feu",0,0,0,"Feu/CAN",0,0,0,"CDG","CDG 12h","CAJ/Feu","INC2",{"$f":"Congé!L27","v":7},{"$f":"Congé!M27","v":3},{"$f":"Congé!N27","v":4}]
[{"$f":"Congé!E6","v":1},{"$f":"Congé!F6","v":"MATEO"},{"$f":"IF($A6=C$5,\"12h\",IF($A6=\"\",\"\",\"\"))","v":""},"","CA","","","","CA","","12h","","",null,null,"CAJ/V",0,0,0,"V/CAN",0,0,0,"VPUa","VPUa 12h","Feu/CAN","INC1",{"$f":"Congé!L28","v":15},{"$f":"Congé!M28","v":5},{"$f":"Congé!N28","v":10}]
[{"$f":"Congé!E7","v":9},{"$f":"Congé!F7","v":"BARREAU"},"","","","","","","12h","","","","",null,null,"CAJ/PCN",0,0,0,"PCJ/CAN",0,0,0,"VPU","VPU 12h","CAJ/V"]
[{"$nulls":16},0,0,0,null,0,0,0]
[{"$f":"Congé!E9","v":10},{"$f":"Congé!F9","v":"CARTIER"},"CA",{"$f":"IF($A9=D$5,\"12h\",IF($A9=\"\",\"\",\"\"))","v":""},"","","","","","12h","","CA","",null,null,"CAJ/STN",0,0,0,"STJ/CAN",0,0,0,"VPUc","VPUc 12h","V/CAN"]
[{"$f":"Congé!E10","v":4},{"$f":"Congé!F10","v":"CARTAUT"},"","12h","","","","","CA","CA","CA","","",null,null,"CAJ/CEN",0,0,0,"CEJ/CAN",0,0,0,"FPTa","FPTa 12h","PCJ/CAN"]
[{"$f":"Congé!E11","v":0},{"$f":"Congé!F11","v":0},"",null,"","",{"$nulls":4},"","","12h",{"$nulls":3},0,0,0,null,0,0,0]
[{"$f":"Congé!E12","v":3},{"$f":"Congé!F12","v":"HUGUES"},"12h","CA","","CA","USSH","CA","USSH","","","CA",{"$nulls":3},"CAJ/AAN",0,0,0,"AAJ/CAN",0,0,0,"FPT","FPT 12h","CAJ/PCN"]
[{"$nulls":16},0,0,0,null,0,0,0]
[{"$f":"Congé!E14","v":8},{"$f":"Congé!F14","v":"SELLES"},{"$f":"IF($A14=C$5,\"12h\",IF($A14=\"\",\"\",\"\"))","v":""},"","","","","12h","CA ops","CA","","","",null,null,"CAJ/CPN",0,0,0,"CPJ/CAN",0,0,0,"FPTc","FPTc 12h","CAJ/STN"]
[{"$f":"Congé!E15","v":9},{"$f":"Congé!F15","v":"MASSELIN"},"","","","12h","CA","","CA","CA","","","",null,null,"STJ/CAN",0,0,0,"CAJ/STN",0,0,0,"EPSa","EPSa 12h","STJ/CAN"]
[{"$f":"Congé!E16","v":0},{"$f":"Congé!F16","v":0},null,"","","","","","","","","","12h",{"$nulls":3},0,0,0,null,0,0,0]
[{"$f":"Congé!E17","v":1},{"$f":"Congé!F17","v":"MALET"},"CA ops","","CA ops","","","","12h","CA","CA","CA","",null,null,"CEJ/CAN",0,0,0,"CAJ/CEN",0,0,0,"EPSc","EPSc 12h","CAJ/CEN"]
[{"$f":"Congé!E18","v":2},{"$f":"Congé!F18","v":"REY F"},"","CA","CA","","","","","","CA","12h","",null,null,"AAJ/CAN",0,0,0,"CAJ/AAN",0,0,0,"EPS","EPS 12h","CEJ/CAN"]
[{"$f":"Congé!E19","v":6},{"$f":"Congé!F19","v":"LUBRANO"},"","","","12h","","","","","","","",null,null,"CPJ/CAN",0,0,0,"CAJ/CPN",0,0,0,"VSRa","VSRa 12h","CAJ/AAN"]
[{"$f":"Congé!E20","v":5},{"$f":"Congé!F20","v":"NORMAND"},"","","12h","","","","","","","","",null,null,"RPM",0,0,0,"RPM",0,0,0,"VSRc","VSRc 12h","AAJ/CAN"]
[{"$nulls":16},0,0,0,null,0,0,0]
[{"$f":"Congé!E22","v":9},{"$f":"Congé!F22","v":"ROSTAND"},{"$f":"IF($A22=C$5,\"12h\",IF($A22=\"\",\"\",\"\"))","v":""},"","","","","","12h","","","","",null,null,"ST",0,0,0,"ST",0,0,0,"VSR","VSR 12h","CAJ/CPN"]
[{"$f":"Congé!E23","v":6},{"$f":"Congé!F23","v":"LAURENT J"},"","","","12h","CA","CA","CA","","","","",null,null,"STJ/Feu",0,0,0,"STN",0,0,0,"EVa","Eva 12h","CPJ/CAN"]
[{"$f":"Congé!E24","v":10},{"$f":"Congé!F24","v":"BALLESTER"},"","","CA","","","","","12h","","CA","",null,null,"STJ/V",0,0,0,"CE",0,0,0,"Evc","Evc 12h"]
[{"$f":"Congé!E25","v":7},{"$f":"Congé!F25","v":"GRIMM"},"","","CA","CA","12h","","","","","CA","",null,null,"STJ/PCN",0,0,0,"CEN",0,0,0,"EV","EV 12h"]
[{"$f":"Congé!E26","v":3},{"$f":"Congé!F26","v":"ORIOL"},"12h","","CA","","","CA","","","CA","","",null,null,"STJ",0,0,0,"CEJ/CPN",0,0,0,"VID","VID 12h"]
[{"$f":"Congé!E27","v":10},{"$f":"Congé!F27","v":"DEPRAD"},"","","","","CA","CA","","12h","CA","","",null,null,"CE",0,0,0,"CP",0,0,0,"VSAV 24h","VSAV 12h"]
[{"$f":"Congé!E28","v":4},{"$f":"Congé!F28","v":"FLORES"},"","12h","","CA","CA","CA","CA ops","CA","CA ops","CA","",null,null,"CEJ",0,0,0,"CPN",0,0,0,"VSAV jour","VLM 12h"]
[{"$f":"Congé!E29","v":2},{"$f":"Congé!F29","v":"FIGUEIRINHA"},"CA","","","","CA","CA","","","CA","CA","",null,null,"CEJ/CPN",0,0,0,"AA",0,0,0,"VSAV nuit","PC 12h"]
[{"$f":"Congé!E30","v":8},{"$f":"Congé!F30","v":"HEURTEBISE"},"","","","","CA","12h","","","CA","","",null,null,"CP",0,0,0,"AAN",0,0,0,"VLM 24h"]
[{"$f":"Congé!E31","v":3},{"$f":"Congé!F31","v":"BLANCHARD"},"12h","CA","CA","","","CA","CA","","CA","","",null,null,"CPJ",0,0,0,"CM",0,0,0,"VLM jour"]
[{"$f":"Congé!E32","v":0},{"$f":"Congé!F32","v":0},"","","","","","","","","","","12h",{"$nulls":3},0,0,0,null,0,0,0]
[{"$f":"Congé!E33","v":5},{"$f":"Congé!F33","v":"DECITRE"},{"$f":"IF($A33=C$5,\"12h\",IF($A33=\"\",\"\",\"\"))","v":""},{"$f":"IF($A33=D$5,\"12h\",IF($A33=\"\",\"\",\"\"))","v":""},{"$f":"IF($A33=E$5,\"12h\",IF($A33=\"\",\"\",\"\"))","v":"12h"},"","","","","","","","",null,null,"AA",0,0,0,"AT",0,0,0,"VLM nuit"]
[{"$f":"Congé!E34","v":4},{"$f":"Congé!F34","v":"EON"},"MUT","MUT","MUT","MUT","MUT","MUT","MUT","MUT","MUT","MUT","",{"$nulls":3},0,0,0,null,0,0,0]
[{"$f":"Congé!E35","v":6},{"$f":"Congé!F35","v":"DIOLOGENT"},{"$f":"IF($A35=C$5,\"12h\",IF($A35=\"\",\"\",\"\"))","v":""},"","","12h","","","","","CA","CA","",null,null,"AAJ",0,0,0,"TP",0,0,0,"PCJ"]
[{"$f":"Congé!E36","v":7},{"$f":"Congé!F36","v":"GUEROULT"},{"$f":"IF($A36=C$5,\"12h\",IF($A36=\"\",\"\",\"\"))","v":""},"","CA","CA","12h","","","CA ops","","","",null,null,"CM",0,0,0,"SHR",0,0,0,"PCN"]
[{"$f":"Congé!E37","v":1},{"$f":"Congé!F37","v":"SALMI"},{"$f":"IF($A37=C$5,\"12h\",IF($A37=\"\",\"\",\"\"))","v":""},"","CA","CA","CA","CA","","CA","12h","","",null,null,"AT",0,0,0,"MUT",0,0,1,"PC 24"]
[{"$f":"Congé!E38","v":7},{"$f":"Congé!F38","v":"DYLIK"},{"$f":"IF($A38=C$5,\"12h\",IF($A38=\"\",\"\",\"\"))","v":""},"","CA","","12h","","","","","","",null,null,"TP",0,0,0,"12h",0,1,0]
[{"$nulls":16},0,0,0,null,0,0,0]
[{"$f":"Congé!E40","v":9},{"$f":"Congé!F40","v":"MONTALEGRE"},{"$f":"IF($A40=C$5,\"12h\",IF($A40=\"\",\"\",\"\"))","v":""},"","","","","","12h","","CA","","",null,null,"USSH",0,0,0,"CAN covid",0,0,0]
[{"$f":"Congé!E41","v":9},{"$f":"Congé!F41","v":"SERANO G"},{"$f":"IF($A41=C$5,\"12h\",IF($A41=\"\",\"\",\"\"))","v":""},"","","","","","12h","","","","",null,null,"MUT",0,0,1,"USSH",0,0,0]
[{"$f":"Congé!E42","v":7},{"$f":"Congé!F42","v":"LANCIAL"},{"$f":"IF($A42=C$5,\"12h\",IF($A42=\"\",\"\",\"\"))","v":""},"","","","12h","CA","CA","CA","CA","CA","",null,null,"ST 12h",0,0,0,null,0,0,0]
[{"$f":"Congé!E43","v":8},{"$f":"Congé!F43","v":"MOURCIA"},{"$f":"IF($A43=C$5,\"12h\",IF($A43=\"\",\"\",\"\"))","v":""},"","CA","CA","CA","12h","CA","","","CA ops","",null,null,"CE 12h",0,0,0,null,0,0,0]
[{"$f":"Congé!E44","v":2},{"$f":"Congé!F44","v":"GILSON"},"CA","","","","","","CA",null,"","12h","",null,null,"CP 12h",0,0,0,null,0,0,0]
[{"$f":"Congé!E45","v":0},{"$f":"Congé!F45","v":0},{"$f":"IF($A45=C$5,\"12h\",IF($A45=\"\",\"\",\"\"))","v":""},"","","","","","","","","","12h",{"$nulls":3},{"$f":"COUNTIF(INDIRECT(Q$2),$P46)","v":0},0,0,null,0,0,0]
[{"$f":"Congé!E46","v":5},{"$f":"Congé!F46","v":"PERINO"},"","","12h","CA","CA","CA","","CA","","","",null,null,"AA 12h",0,0,0,null,0,0,0]
[{"$f":"Congé!E47","v":10},{"$f":"Congé!F47","v":"LUPI"},"","","CA","","","","","12h","","","",null,null,"AT 12h",0,0,0,null,0,0,0]
[{"$f":"Congé!E48","v":4},{"$f":"Congé!F48","v":"ROOS"},"",{"$f":"IF($A48=D$5,\"12h\",IF($A48=\"\",\"\",\"\"))","v":"12h"},"","","","","","CA","CA","CA","",null,null,"RPM 12h",{"$f":"COUNTIF(INDIRECT(Q$2),#REF!)","v":0},{"$f":"COUNTIF(INDIRECT(R$2),#REF!)","v":0},{"$f":"COUNTIF(INDIRECT(S$2),#REF!)","v":0},null,0,0,0]
[{"$f":"Congé!E49","v":1},{"$f":"Congé!F49","v":"VALERIAN"},"","","CA","","","CA","","CA ops","12h","CA ops",""]
[{"$f":"Congé!E50","v":3},{"$f":"Congé!F50","v":"ROUSTAN"},"12h","","","","","","","","","",""]
[{"$f":"Congé!E51","v":1},{"$f":"Congé!F51","v":"WENGER"},"","","CA","","","","","","12h","","",null,null,"CAJ covid",{"$f":"COUNTIF(INDIRECT(Q$2),#REF!)","v":0},{"$f":"COUNTIF(INDIRECT(R$2),#REF!)","v":0},{"$f":"COUNTIF(INDIRECT(S$2),#REF!)","v":0},null,0,0,0]
[{"$f":"Congé!E52","v":8},{"$f":"Congé!F52","v":"LHERBIER"},"","","","CA","CA","12h","","","","","",null,null,"CA ops"]
[]
[null,"CA Jour",{"$f":"COUNTIF(C9:C52,\"CA\")+COUNTIF(C9:C52,\"CAJ*\")+COUNTIF(C9:C52,\"RPM\")","v":3},{"$f":"COUNTIF(D9:D52,\"CA\")+COUNTIF(D9:D52,\"CAJ*\")+COUNTIF(D9:D52,\"RPM\")","v":3},12,8,10,11,7,9,12,10,0]
[null,"Absence jour",{"$f":"SUM(C75:C77)+C81+SUM(C82:C88)+SUM(C92:C102)+C54","v":4},{"$f":"SUM(D75:D77)+D81+SUM(D82:D88)+SUM(D92:D102)+D54","v":4},13,9,11,12,8,10,13,11,0]
[null,"CA Nuit",{"$f":"COUNTIF(C9:C52,\"CA\")+COUNTIF(C9:C52,\"*CAN\")+COUNTIF(C9:C52,\"RPM\")","v":3},{"$f":"COUNTIF(D9:D52,\"CA\")+COUNTIF(D9:D52,\"*CAN\")+COUNTIF(D9:D52,\"RPM\")","v":3},12,8,10,11,7,9,12,10,0]
[null,"Absence Nuit",{"$f":"SUM(C67:C69)+C72+SUM(C89:C102)+C56","v":4},{"$f":"SUM(D67:D69)+D72+SUM(D89:D102)+D56","v":4},13,9,11,12,8,10,13,11,0]
[]
[null,"Nombre de 12h",{"$f":"COUNTIF(C9:C52,\"*12h\")","v":4},{"$f":"COUNTIF(D9:D52,\"*12h\")","v":3},3,4,4,4,4,4,3,2,4]
[{"$nulls":15},"CA"]
[null,"Nbre de pro jour",{"$f":"Congé!$E$54-C55","v":33},{"$f":"Congé!$E$54-D55","v":33},{"$f":"Congé!$E$54-E55","v":24},{"$f":"Congé!$E$54-F55","v":28},{"$f":"Congé!$E$54-G55","v":26},{"$f":"Congé!$E$54-H55","v":25},{"$f":"Congé!$E$54-I55","v":29},{"$f":"Congé!$E$54-J55","v":27},{"$f":"Congé!$E$54-K55","v":24},{"$f":"Congé!$E$54-L55","v":26},{"$f":"Congé!$E$54-M55","v":37},null,null,"CAN"]
[null,"Nbre de pro nuit",{"$f":"Congé!$E$54-C57-C59","v":29},{"$f":"Congé!$E$54-D57-D59","v":30},{"$f":"Congé!$E$54-E57-E59","v":21},{"$f":"Congé!$E$54-F57-F59","v":24},{"$f":"Congé!$E$54-G57-G59","v":22},{"$f":"Congé!$E$54-H57-H59","v":21},{"$f":"Congé!$E$54-I57-I59","v":25},{"$f":"Congé!$E$54-J57-J59","v":23},{"$f":"Congé!$E$54-K57-K59","v":21},{"$f":"Congé!$E$54-L57-L59","v":24},{"$f":"Congé!$E$54-M57-M59","v":33},null,null,"Feu/CAN"]
[{"$nulls":15},"V/CAN"]
[null,"CA",{"$f":"COUNTIF(C$9:C$52,$B64)","v":3},{"$f":"COUNTIF(D$9:D$52,$B64)","v":3},12,8,10,11,7,9,12,10,0,null,null,"PCJ/CAN"]
[null,"RPM",{"$f":"COUNTIF(C$9:C$52,$B65)","v":0},0,0,0,0,0,0,0,0,0,0,null,null,"STJ/CAN"]
[null,"CAJ",0,0,0,0,0,0,0,0,0,0,0,null,null,"CEJ/CAN"]
[null,"CAJ/AAN",0,0,0,0,0,0,0,0,0,0,0,null,null,"AAJ/CAN"]
[null,"CAJ/CEN",0,0,0,0,0,0,0,0,0,0,0,null,null,"CPJ/CAN"]
[null,"CAJ/CPN",0,0,0,0,0,0,0,0,0,0,0,null,null,"CAJ/STN"]
[null,"CAJ/Feu",0,0,0,0,0,0,0,0,0,0,0,null,null,"CAJ/CEN"]
[null,"CAJ/PCN",0,0,0,0,0,0,0,0,0,0,0,null,null,"CAJ/AAN"]
[null,"CAJ/STN",0,0,0,0,0,0,0,0,0,0,0,null,null,"CAJ/CPN"]
[null,"CAJ/V",0,0,0,0,0,0,0,0,0,0,0,null,null,"RPM"]
[null,"CAN",0,0,0,0,0,0,0,0,0,0,0,null,null,"ST"]
[null,"AAJ/CAN",0,0,0,0,0,0,0,0,0,0,0,null,null,"STN"]
[null,"CEJ/CAN",0,0,0,0,0,0,0,0,0,0,0,null,null,"CE"]
[null,"CPJ/CAN",0,0,0,0,0,0,0,0,0,0,0,null,null,"CEN"]
[null,"Feu/CAN",0,0,0,0,0,0,0,0,0,0,0,null,null,"CEJ/CPN"]
[null,"PCJ/CAN",0,0,0,0,0,0,0,0,0,0,0,null,null,"CP"]
[null,"V/CAN",0,0,0,0,0,0,0,0,0,0,0,null,null,"CPN"]
[null,"STJ/CAN",0,0,0,0,0,0,0,0,0,0,0,null,null,"AA"]
[null,"AAJ",0,0,0,0,0,0,0,0,0,0,0,null,null,"AAN"]
[null,"CEJ",0,0,0,0,0,0,0,0,0,0,0,null,null,"CM"]
[null,"CPJ",0,0,0,0,0,0,0,0,0,0,0,null,null,"AT"]
[null,"STJ",0,0,0,0,0,0,0,0,0,0,0,null,null,"TP"]
[null,"STJ/Feu",0,0,0,0,0,0,0,0,0,0,0,null,null,"SHR"]
[null,"STJ/PCN",0,0,0,0,0,0,0,0,0,0,0,null,null,"MUT"]
[null,"STJ/V",0,0,0,0,0,0,0,0,0,0,0,null,null,"12h"]
[null,"AAN",0,0,0,0,0,0,0,0,0,0,0,null,null,"CAN covid"]
[null,"CEN",0,0,0,0,0,0,0,0,0,0,0,null,null,"USSH"]
[null,"CPN",0,0,0,0,0,0,0,0,0,0,0,null,null,"CG"]
[null,"STN",0,0,0,0,0,0,0,0,0,0,0,null,null,"CDG"]
[null,"CE",0,0,0,0,0,0,0,0,0,0,0,null,null,"VPUa"]
[null,"CEJ/CPN",0,0,0,0,0,0,0,0,0,0,0,null,null,"VPU"]
[null,"CM",0,0,0,0,0,0,0,0,0,0,0,null,null,"VPUc"]
[null,"CP",0,0,0,0,0,0,0,0,0,0,0,null,null,"FPTa"]
[null,"TP",0,0,0,0,0,0,0,0,0,0,0,null,null,"FPT"]
[null,"ST",0,0,0,0,0,0,0,0,0,0,0,null,null,"FPTc"]
[null,"SHR",0,0,0,0,0,0,0,0,0,0,0,null,null,"EPSa"]
[null,"MUT",1,1,1,1,1,1,1,1,1,1,0,null,null,"EPSc"]
[null,"AA",0,0,0,0,0,0,0,0,0,{"$f":"COUNTIF(L$9:L$52,$B101)","v":0},{"$f":"COUNTIF(M$9:M$52,$B101)","v":0},null,null,"EPS"]
[null,"AT",{"$f":"COUNTIF(C$9:C$52,$B102)","v":0},0,0,0,0,0,0,0,0,0,0,null,null,"VSRa"]
[{"$nulls":15},"VSRc"]
[{"$nulls":15},"VSR"]
[{"$nulls":15},"EVa"]
[{"$nulls":15},"Evc"]
[{"$nulls":15},"EV"]
[{"$nulls":15},"VID"]
[{"$nulls":15},"VSAV 24h"]
[{"$nulls":15},"VSAV jour"]
[{"$nulls":15},"VSAV nuit"]
[{"$nulls":15},"VLM 24h"]
[{"$nulls":15},"VLM jour"]
[{"$nulls":15},"VLM nuit"]
[{"$nulls":15},"PCJ"]
[{"$nulls":15},"PCN"]
[{"$nulls":15},"PC 24"]
[{"$nulls":15},"CG 12h"]
[{"$nulls":15},"CDG 12h"]
[{"$nulls":15},"VPUa 12h"]
[{"$nulls":15},"VPU 12h"]
[{"$nulls":15},"VPUc 12h"]
[{"$nulls":15},"FPTa 12h"]
[{"$nulls":15},"FPT 12h"]
[{"$nulls":15},"FPTc 12h"]
[{"$nulls":15},"EPSa 12h"]
[{"$nulls":15},"EPSc 12h"]
[{"$nulls":15},"EPS 12h"]
[{"$nulls":15},"VSRa 12h"]
[{"$nulls":15},"VSRc 12h"]
[{"$nulls":15},"VSR 12h"]
[{"$nulls":15},"Eva 12h"]
[{"$nulls":15},"Evc 12h"]
[{"$nulls":15},"EV 12h"]
[{"$nulls":15},"VID 12h"]
[{"$nulls":15},"VSAV 12h"]
[{"$nulls":15},"VLM 12h"]
[{"$nulls":15},"PC 12h"]

{"sheet":"Juin","index":6,"n_rows":138,"n_cols":30,"rows_kept":138,"merged":[[0,23,2,23],[0,24,2,24],[0,26,0,27],[1,26,1,27],[4,0,4,1]]}
[{"$nulls":6},"2020-06-11",null,"2020-06-17",{"$nulls":3},"2018-01-31",{"$nulls":3},{"$f":"SUM(Q3:Q51)","v":2},{"$f":"SUM(R3:R51)","v":3},{"$f":"SUM(S3:S51)","v":7},null,{"$f":"SUM(U3:U51)","v":2},{"$f":"SUM(V3:V51)","v":4},{"$f":"SUM(W3:W51)","v":9},"Fonctions    24h","Fonctions 12h",null,"Nombre de CA maxi",null,{"$f":"Congé!M23","v":12}]
[{"$nulls":6},{"$f":"RIGHT(CELL(\"nomfichier\",G2),LEN(CELL(\"nomfichier\",G2))-SEARCH(\"]\",CELL(\"nomfichier\",G2)))","v":"Juin"},{"$nulls":6},"12h",null,"Absence jour","K8:K13","K8:K21","K21:K39","Absence nuit","K8:K13","K8:K21","K21:K39",null,null,"CA","Nombre de 12h maxi",null,{"$f":"Congé!M24","v":5}]
[null,null,2,5,8,11,14,17,20,23,26,29,null,"12h",null,"CA",{"$f":"COUNTIF(INDIRECT(Q$2),$P3)","v":2},{"$f":"COUNTIF(INDIRECT(R$2),$P3)","v":3},{"$f":"COUNTIF(INDIRECT(S$2),$P3)","v":6},"CA",{"$f":"COUNTIF(INDIRECT(U$2),$T3)","v":2},{"$f":"COUNTIF(INDIRECT(V$2),$T3)","v":3},{"$f":"COUNTIF(INDIRECT(W$2),$T3)","v":6},null,null,"CAJ",null,"Nbre","Présence mini","Absence maxi"]
[null,null,"MAR.","VEN.","LUN.","JEU.","DIM.","MER.","SAM.","MAR.","VEN.","LUN.",{"$nulls":3},"CAJ",{"$f":"COUNTIF(INDIRECT(Q$2),$P4)","v":0},0,0,"CAN",{"$f":"COUNTIF(INDIRECT(U$2),$T4)","v":0},0,0,"CG","CG 12h","CAN","SOG",{"$f":"Congé!L26","v":3},{"$f":"Congé!M26","v":1},{"$f":"Congé!N26","v":2}]
["Equipes",null,3,4,5,6,7,8,9,10,1,2,{"$nulls":3},"CAJ/Feu",0,0,0,"Feu/CAN",0,0,0,"CDG","CDG 12h","CAJ/Feu","INC2",{"$f":"Congé!L27","v":7},{"$f":"Congé!M27","v":3},{"$f":"Congé!N27","v":4}]
[{"$f":"Congé!E6","v":1},{"$f":"Congé!F6","v":"MATEO"},{"$f":"IF($A6=C$5,\"12h\",IF($A6=\"\",\"\",\"\"))","v":""},"","","","","","","","12h","","",null,null,"CAJ/V",0,0,0,"V/CAN",0,0,0,"VPUa","VPUa 12h","Feu/CAN","INC1",{"$f":"Congé!L28","v":15},{"$f":"Congé!M28","v":5},{"$f":"Congé!N28","v":10}]
[{"$f":"Congé!E7","v":9},{"$f":"Congé!F7","v":"BARREAU"},"","","","","","","12h","","","","",null,null,"CAJ/PCN",0,0,0,"PCJ/CAN",0,0,0,"VPU","VPU 12h","CAJ/V"]
[{"$nulls":16},0,0,0,null,0,0,0]
[{"$f":"Congé!E9","v":10},{"$f":"Congé!F9","v":"CARTIER"},{"$f":"IF($A9=C$5,\"12h\",IF($A9=\"\",\"\",\"\"))","v":""},"","","","",null,"","12h","CA",null,"",null,null,"CAJ/STN",0,0,0,"STJ/CAN",0,0,0,"VPUc","VPUc 12h","V/CAN"]
[{"$f":"Congé!E10","v":4},{"$f":"Congé!F10","v":"CARTAUT"},"","12h",null,"","","","","","CA","12h","",null,null,"CAJ/CEN",0,0,0,"CEJ/CAN",0,0,0,"FPTa","FPTa 12h","PCJ/CAN"]
[{"$f":"Congé!E11","v":0},{"$f":"Congé!F11","v":0},"","","","",{"$nulls":5},"","12h",{"$nulls":3},0,0,0,null,0,0,0]
[{"$f":"Congé!E12","v":3},{"$f":"Congé!F12","v":"HUGUES"},"CA","CA","CAN",null,"CA","","12h","",null,"12h",{"$nulls":3},"CAJ/AAN",0,0,0,"AAJ/CAN",0,0,0,"FPT","FPT 12h","CAJ/PCN"]
[{"$nulls":16},0,0,0,null,0,0,0]
[{"$f":"Congé!E14","v":8},{"$f":"Congé!F14","v":"SELLES"},{"$f":"IF($A14=C$5,\"12h\",IF($A14=\"\",\"\",\"\"))","v":""},"","","","CA ops","12h","","","CA","","",null,null,"CAJ/CPN",0,0,0,"CPJ/CAN",0,0,0,"FPTc","FPTc 12h","CAJ/STN"]
[{"$f":"Congé!E15","v":9},{"$f":"Congé!F15","v":"MASSELIN"},"","","","","","CA","12h","",null,"","",null,null,"STJ/CAN",0,0,0,"CAJ/STN",0,0,0,"EPSa","EPSa 12h","STJ/CAN"]
[{"$f":"Congé!E16","v":0},{"$f":"Congé!F16","v":0},"","","","","","","","","","","12h",{"$nulls":3},0,0,0,null,0,0,0]
[{"$f":"Congé!E17","v":1},{"$f":"Congé!F17","v":"MALET"},"","","","","","","","","12h","","",null,null,"CEJ/CAN",0,0,0,"CAJ/CEN",0,0,0,"EPSc","EPSc 12h","CAJ/CEN"]
[{"$f":"Congé!E18","v":2},{"$f":"Congé!F18","v":"REY F"},"","","","","","","","",null,"12h","",null,null,"AAJ/CAN",0,0,0,"CAJ/AAN",0,0,0,"EPS","EPS 12h","CEJ/CAN"]
[{"$f":"Congé!E19","v":6},{"$f":"Congé!F19","v":"LUBRANO"},"","","","12h","","","","","","","",null,null,"CPJ/CAN",0,0,0,"CAJ/CPN",0,0,0,"VSRa","VSRa 12h","CAJ/AAN"]
[{"$f":"Congé!E20","v":5},{"$f":"Congé!F20","v":"NORMAND"},"","","12h","","","","","","","","",null,null,"RPM",0,0,0,"RPM",0,0,0,"VSRc","VSRc 12h","AAJ/CAN"]
[{"$nulls":16},0,0,0,null,0,0,0]
[{"$f":"Congé!E22","v":9},{"$f":"Congé!F22","v":"ROSTAND"},{"$f":"IF($A22=C$5,\"12h\",IF($A22=\"\",\"\",\"\"))","v":""},"","","","","","12h","",null,null,"",null,null,"ST",0,0,0,"ST",0,0,0,"VSR","VSR 12h","CAJ/CPN"]
[{"$f":"Congé!E23","v":6},{"$f":"Congé!F23","v":"LAURENT J"},"","","","12h","CA ops","","","","12h","","",null,null,"STJ/Feu",0,0,0,"STN",0,0,0,"EVa","Eva 12h","CPJ/CAN"]
[{"$f":"Congé!E24","v":10},{"$f":"Congé!F24","v":"BALLESTER"},"","","","","","","","12h",null,null,"",null,null,"STJ/V",0,0,0,"CE",0,0,0,"Evc","Evc 12h"]
[{"$f":"Congé!E25","v":7},{"$f":"Congé!F25","v":"GRIMM"},"CA","CA","","","12h","","","","CA",null,"",null,null,"STJ/PCN",0,0,0,"CEN",0,0,0,"EV","EV 12h"]
[{"$f":"Congé!E26","v":3},{"$f":"Congé!F26","v":"ORIOL"},"CA","CA","","CA","CA","","","","CA",null,"",null,null,"STJ",0,0,0,"CEJ/CPN",0,0,0,"VID","VID 12h"]
[{"$f":"Congé!E27","v":10},{"$f":"Congé!F27","v":"DEPRAD"},"","CA","","","","","","12h","CA","","",null,null,"CE",0,0,0,"CP",0,0,0,"VSAV 24h","VSAV 12h"]
[{"$f":"Congé!E28","v":4},{"$f":"Congé!F28","v":"FLORES"},"CA","CA","CA","CA","CA ops","","","","CA","","",null,null,"CEJ",0,0,0,"CPN",0,0,0,"VSAV jour","VLM 12h"]
[{"$f":"Congé!E29","v":2},{"$f":"Congé!F29","v":"FIGUEIRINHA"},"CA","CA","","","","CA","","CA","CA","12h","",null,null,"CEJ/CPN",0,0,0,"AA",0,0,0,"VSAV nuit","PC 12h"]
[{"$f":"Congé!E30","v":8},{"$f":"Congé!F30","v":"HEURTEBISE"},"","","","","","12h","","CA","CA","CA","",null,null,"CP",0,0,0,"AAN",0,0,0,"VLM 24h"]
[{"$f":"Congé!E31","v":3},{"$f":"Congé!F31","v":"BLANCHARD"},"12h","","","","","","","",null,"","",null,null,"CPJ",0,0,0,"CM",0,0,0,"VLM jour"]
[{"$f":"Congé!E32","v":0},{"$f":"Congé!F32","v":0},"","","","","","","","","","","12h",{"$nulls":3},0,0,0,null,0,0,0]
[{"$f":"Congé!E33","v":5},{"$f":"Congé!F33","v":"DECITRE"},{"$f":"IF($A33=C$5,\"12h\",IF($A33=\"\",\"\",\"\"))","v":""},"CA",{"$f":"IF($A33=E$5,\"12h\",IF($A33=\"\",\"\",\"\"))","v":"12h"},"","","","","","","","",null,null,"AA",0,0,0,"AT",0,0,0,"VLM nuit"]
[{"$f":"Congé!E34","v":4},{"$f":"Congé!F34","v":"EON"},"MUT","MUT","MUT","MUT","MUT","MUT","MUT","MUT","MUT","MUT","",{"$nulls":3},0,0,0,null,0,0,0]
[{"$f":"Congé!E35","v":6},{"$f":"Congé!F35","v":"DIOLOGENT"},"CA","CA","","12h","","CA","","","","","",null,null,"AAJ",0,0,0,"TP",0,0,0,"PCJ"]
[{"$f":"Congé!E36","v":7},{"$f":"Congé!F36","v":"GUEROULT"},{"$f":"IF($A36=C$5,\"12h\",IF($A36=\"\",\"\",\"\"))","v":""},"","CA","CA","CA ops","","","","","","",null,null,"CM",0,0,0,"SHR",0,0,0,"PCN"]
[{"$f":"Congé!E37","v":1},{"$f":"Congé!F37","v":"SALMI"},{"$f":"IF($A37=C$5,\"12h\",IF($A37=\"\",\"\",\"\"))","v":""},"","","CA","","","","","12h","","",null,null,"AT",0,0,0,"MUT",0,0,1,"PC 24"]
[{"$f":"Congé!E38","v":7},{"$f":"Congé!F38","v":"DYLIK"},null,"","","12h","CA ops","","","","","","",null,null,"TP",0,0,0,"12h",0,1,2]
[{"$nulls":16},0,0,0,null,0,0,0]
[{"$f":"Congé!E40","v":9},{"$f":"Congé!F40","v":"MONTALEGRE"},{"$f":"IF($A40=C$5,\"12h\",IF($A40=\"\",\"\",\"\"))","v":""},"","","","","","12h","","","","",null,null,"USSH",0,0,0,"CAN covid",0,0,0]
[{"$f":"Congé!E41","v":9},{"$f":"Congé!F41","v":"SERANO G"},{"$f":"IF($A41=C$5,\"12h\",IF($A41=\"\",\"\",\"\"))","v":""},"","","","","","12h","",null,"","",null,null,"MUT",0,0,1,"USSH",0,0,0]
[{"$f":"Congé!E42","v":7},{"$f":"Congé!F42","v":"LANCIAL"},"CA","CA","","","12h","","CA","CA","CA","CA","",null,null,"ST 12h",0,0,0,null,0,0,0]
[{"$f":"Congé!E43","v":8},{"$f":"Congé!F43","v":"MOURCIA"},"CA","","CA","","","12h","","","CA","","",null,null,"CE 12h",0,0,0,null,0,0,0]
[{"$f":"Congé!E44","v":2},{"$f":"Congé!F44","v":"GILSON"},{"$f":"IF($A44=C$5,\"12h\",IF($A44=\"\",\"\",\"\"))","v":""},"","","","","","","","","12h","",null,null,"CP 12h",0,0,0,null,0,0,0]
[{"$f":"Congé!E45","v":0},{"$f":"Congé!F45","v":0},"","","","","","","","","","","12h",{"$nulls":3},{"$f":"COUNTIF(INDIRECT(Q$2),$P46)","v":0},0,0,null,0,0,0]
[{"$f":"Congé!E46","v":5},{"$f":"Congé!F46","v":"PERINO"},"","","12h","CA","CA","CA","","","","","",null,null,"AA 12h",0,0,0,null,0,0,0]
[{"$f":"Congé!E47","v":10},{"$f":"Congé!F47","v":"LUPI"},"","","","","","","","12h","","","",null,null,"AT 12h",0,0,0,null,0,0,0]
[{"$f":"Congé!E48","v":4},{"$f":"Congé!F48","v":"ROOS"},"",{"$f":"IF($A48=D$5,\"12h\",IF($A48=\"\",\"\",\"\"))","v":"12h"},"","","","","","CA","CA","CA","",null,null,"RPM 12h",{"$f":"COUNTIF(INDIRECT(Q$2),#REF!)","v":0},{"$f":"COUNTIF(INDIRECT(R$2),#REF!)","v":0},{"$f":"COUNTIF(INDIRECT(S$2),#REF!)","v":0},null,0,0,0]
[{"$f":"Congé!E49","v":1},{"$f":"Congé!F49","v":"VALERIAN"},"","","","","CA","CA","","","12h","",""]
[{"$f":"Congé!E50","v":3},{"$f":"Congé!F50","v":"ROUSTAN"},"12h","","","","","","","","","",""]
[{"$f":"Congé!E51","v":1},{"$f":"Congé!F51","v":"WENGER"},"","","","","","","","","12h","","",null,null,"CAJ covid",{"$f":"COUNTIF(INDIRECT(Q$2),#REF!)","v":0},{"$f":"COUNTIF(INDIRECT(R$2),#REF!)","v":0},{"$f":"COUNTIF(INDIRECT(S$2),#REF!)","v":0},null,0,0,0]
[{"$f":"Congé!E52","v":8},{"$f":"Congé!F52","v":"LHERBIER"},"","","","","","12h","","","","","",null,null,"CA ops"]
[]
[null,"CA Jour",{"$f":"COUNTIF(C9:C52,\"CA\")+COUNTIF(C9:C52,\"CAJ*\")+COUNTIF(C9:C52,\"RPM\")","v":8},{"$f":"COUNTIF(D9:D52,\"CA\")+COUNTIF(D9:D52,\"CAJ*\")+COUNTIF(D9:D52,\"RPM\")","v":9},3,5,4,5,1,4,12,3,0]
[null,"Absence jour",{"$f":"SUM(C75:C77)+C81+SUM(C82:C88)+SUM(C92:C102)+C54","v":9},{"$f":"SUM(D75:D77)+D81+SUM(D82:D88)+SUM(D92:D102)+D54","v":10},4,6,5,6,2,5,13,4,0]
[null,"CA Nuit",{"$f":"COUNTIF(C9:C52,\"CA\")+COUNTIF(C9:C52,\"*CAN\")+COUNTIF(C9:C52,\"RPM\")","v":8},{"$f":"COUNTIF(D9:D52,\"CA\")+COUNTIF(D9:D52,\"*CAN\")+COUNTIF(D9:D52,\"RPM\")","v":9},4,5,4,5,1,4,12,3,0]
[null,"Absence Nuit",{"$f":"SUM(C67:C69)+C72+SUM(C89:C102)+C56","v":9},{"$f":"SUM(D67:D69)+D72+SUM(D89:D102)+D56","v":10},5,6,5,6,2,5,13,4,0]
[]
[null,"Nombre de 12h",{"$f":"COUNTIF(C9:C52,\"*12h\")","v":2},{"$f":"COUNTIF(D9:D52,\"*12h\")","v":2},3,4,2,4,5,4,5,5,4]
[{"$nulls":15},"CA"]
[null,"Nbre de pro jour",{"$f":"Congé!$E$54-C55","v":28},{"$f":"Congé!$E$54-D55","v":27},{"$f":"Congé!$E$54-E55","v":33},{"$f":"Congé!$E$54-F55","v":31},{"$f":"Congé!$E$54-G55","v":32},{"$f":"Congé!$E$54-H55","v":31},{"$f":"Congé!$E$54-I55","v":35},{"$f":"Congé!$E$54-J55","v":32},{"$f":"Congé!$E$54-K55","v":24},{"$f":"Congé!$E$54-L55","v":33},{"$f":"Congé!$E$54-M55","v":37},null,null,"CAN"]
[null,"Nbre de pro nuit",{"$f":"Congé!$E$54-C57-C59","v":26},{"$f":"Congé!$E$54-D57-D59","v":25},{"$f":"Congé!$E$54-E57-E59","v":29},{"$f":"Congé!$E$54-F57-F59","v":27},{"$f":"Congé!$E$54-G57-G59","v":30},{"$f":"Congé!$E$54-H57-H59","v":27},{"$f":"Congé!$E$54-I57-I59","v":30},{"$f":"Congé!$E$54-J57-J59","v":28},{"$f":"Congé!$E$54-K57-K59","v":19},{"$f":"Congé!$E$54-L57-L59","v":28},{"$f":"Congé!$E$54-M57-M59","v":33},null,null,"Feu/CAN"]
[{"$nulls":15},"V/CAN"]
[null,"CA",{"$f":"COUNTIF(C$9:C$52,$B64)","v":8},{"$f":"COUNTIF(D$9:D$52,$B64)","v":9},3,5,4,5,1,4,12,3,0,null,null,"PCJ/CAN"]
[null,"RPM",{"$f":"COUNTIF(C$9:C$52,$B65)","v":0},0,0,0,0,0,0,0,0,0,0,null,null,"STJ/CAN"]
[null,"CAJ",0,0,0,0,0,0,0,0,0,0,0,null,null,"CEJ/CAN"]
[null,"CAJ/AAN",0,0,0,0,0,0,0,0,0,0,0,null,null,"AAJ/CAN"]
[null,"CAJ/CEN",0,0,0,0,0,0,0,0,0,0,0,null,null,"CPJ/CAN"]
[null,"CAJ/CPN",0,0,0,0,0,0,0,0,0,0,0,null,null,"CAJ/STN"]
[null,"CAJ/Feu",0,0,0,0,0,0,0,0,0,0,0,null,null,"CAJ/CEN"]
[null,"CAJ/PCN",0,0,0,0,0,0,0,0,0,0,0,null,null,"CAJ/AAN"]
[null,"CAJ/STN",0,0,0,0,0,0,0,0,0,0,0,null,null,"CAJ/CPN"]
[null,"CAJ/V",0,0,0,0,0,0,0,0,0,0,0,null,null,"RPM"]
[null,"CAN",0,0,1,0,0,0,0,0,0,0,0,null,null,"ST"]
[null,"AAJ/CAN",0,0,0,0,0,0,0,0,0,0,0,null,null,"STN"]
[null,"CEJ/CAN",0,0,0,0,0,0,0,0,0,0,0,null,null,"CE"]
[null,"CPJ/CAN",0,0,0,0,0,0,0,0,0,0,0,null,null,"CEN"]
[null,"Feu/CAN",0,0,0,0,0,0,0,0,0,0,0,null,null,"CEJ/CPN"]
[null,"PCJ/CAN",0,0,0,0,0,0,0,0,0,0,0,null,null,"CP"]
[null,"V/CAN",0,0,0,0,0,0,0,0,0,0,0,null,null,"CPN"]
[null,"STJ/CAN",0,0,0,0,0,0,0,0,0,0,0,null,null,"AA"]
[null,"AAJ",0,0,0,0,0,0,0,0,0,0,0,null,null,"AAN"]
[null,"CEJ",0,0,0,0,0,0,0,0,0,0,0,null,null,"CM"]
[null,"CPJ",0,0,0,0,0,0,0,0,0,0,0,null,null,"AT"]
[null,"STJ",0,0,0,0,0,0,0,0,0,0,0,null,null,"TP"]
[null,"STJ/Feu",0,0,0,0,0,0,0,0,0,0,0,null,null,"SHR"]
[null,"STJ/PCN",0,0,0,0,0,0,0,0,0,0,0,null,null,"MUT"]
[null,"STJ/V",0,0,0,0,0,0,0,0,0,0,0,null,null,"12h"]
[null,"AAN",0,0,0,0,0,0,0,0,0,0,0,null,null,"CAN covid"]
[null,"CEN",0,0,0,0,0,0,0,0,0,0,0,null,null,"USSH"]
[null,"CPN",0,0,0,0,0,0,0,0,0,0,0,null,null,"CG"]
[null,"STN",0,0,0,0,0,0,0,0,0,0,0,null,null,"CDG"]
[null,"CE",0,0,0,0,0,0,0,0,0,0,0,null,null,"VPUa"]
[null,"CEJ/CPN",0,0,0,0,0,0,0,0,0,0,0,null,null,"VPU"]
[null,"CM",0,0,0,0,0,0,0,0,0,0,0,null,null,"VPUc"]
[null,"CP",0,0,0,0,0,0,0,0,0,0,0,null,null,"FPTa"]
[null,"TP",0,0,0,0,0,0,0,0,0,0,0,null,null,"FPT"]
[null,"ST",0,0,0,0,0,0,0,0,0,0,0,null,null,"FPTc"]
[null,"SHR",0,0,0,0,0,0,0,0,0,0,0,null,null,"EPSa"]
[null,"MUT",1,1,1,1,1,1,1,1,1,1,0,null,null,"EPSc"]
[null,"AA",0,0,0,0,0,0,0,0,0,{"$f":"COUNTIF(L$9:L$52,$B101)","v":0},{"$f":"COUNTIF(M$9:M$52,$B101)","v":0},null,null,"EPS"]
[null,"AT",{"$f":"COUNTIF(C$9:C$52,$B102)","v":0},0,0,0,0,0,0,0,0,0,0,null,null,"VSRa"]
[{"$nulls":15},"VSRc"]
[{"$nulls":15},"VSR"]
[{"$nulls":15},"EVa"]
[{"$nulls":15},"Evc"]
[{"$nulls":15},"EV"]
[{"$nulls":15},"VID"]
[{"$nulls":15},"VSAV 24h"]
[{"$nulls":15},"VSAV jour"]
[{"$nulls":15},"VSAV nuit"]
[{"$nulls":15},"VLM 24h"]
[{"$nulls":15},"VLM jour"]
[{"$nulls":15},"VLM nuit"]
[{"$nulls":15},"PCJ"]
[{"$nulls":15},"PCN"]
[{"$nulls":15},"PC 24"]
[{"$nulls":15},"CG 12h"]
[{"$nulls":15},"CDG 12h"]
[{"$nulls":15},"VPUa 12h"]
[{"$nulls":15},"VPU 12h"]
[{"$nulls":15},"VPUc 12h"]
[{"$nulls":15},"FPTa 12h"]
[{"$nulls":15},"FPT 12h"]
[{"$nulls":15},"FPTc 12h"]
[{"$nulls":15},"EPSa 12h"]
[{"$nulls":15},"EPSc 12h"]
[{"$nulls":15},"EPS 12h"]
[{"$nulls":15},"VSRa 12h"]
[{"$nulls":15},"VSRc 12h"]
[{"$nulls":15},"VSR 12h"]
[{"$nulls":15},"Eva 12h"]
[{"$nulls":15},"Evc 12h"]
[{"$nulls":15},"EV 12h"]
[{"$nulls":15},"VID 12h"]
[{"$nulls":15},"VSAV 12h"]
[{"$nulls":15},"VLM 12h"]
[{"$nulls":15},"PC 12h"]

{"sheet":"Juillet","index":7,"n_rows":138,"n_cols":30,"rows_kept":138,"merged":[[0,23,2,23],[0,24,2,24],[0,26,0,27],[1,26,1,27],[4,0,4,1]]}
[null,null,"2020-06-29","2020-07-02","2020-07-05","2020-07-08","2020-07-11","2020-07-14","2020-07-17","2020-07-20","2020-07-23","2020-07-26","2018-01-31",{"$nulls":3},{"$f":"SUM(Q3:Q51)","v":0},{"$f":"SUM(R3:R51)","v":0},{"$f":"SUM(S3:S51)","v":1},null,{"$f":"SUM(U3:U51)","v":0},{"$f":"SUM(V3:V51)","v":1},{"$f":"SUM(W3:W51)","v":2},"Fonctions    24h","Fonctions 12h",null,"Nombre de CA maxi",null,{"$f":"Congé!M23","v":12}]
[{"$nulls":6},{"$f":"RIGHT(CELL(\"nomfichier\",G2),LEN(CELL(\"nomfichier\",G2))-SEARCH(\"]\",CELL(\"nomfichier\",G2)))","v":"Juillet"},{"$nulls":6},"12h",null,"Absence jour","L9:L12","L9:L18","L22:L38","Absence nuit","L9:L12","L9:L18","L22:L38",null,null,"CA","Nombre de 12h maxi",null,{"$f":"Congé!M24","v":5}]
[null,null,2,5,8,11,14,17,20,23,26,29,null,"12h",null,"CA",{"$f":"COUNTIF(INDIRECT(Q$2),$P3)","v":0},{"$f":"COUNTIF(INDIRECT(R$2),$P3)","v":0},{"$f":"COUNTIF(INDIRECT(S$2),$P3)","v":0},"CA",{"$f":"COUNTIF(INDIRECT(U$2),$T3)","v":0},{"$f":"COUNTIF(INDIRECT(V$2),$T3)","v":0},{"$f":"COUNTIF(INDIRECT(W$2),$T3)","v":0},null,null,"CAJ",null,"Nbre","Présence mini","Absence maxi"]
[null,null,"JEU.","DIM.","MER.","SAM.","MAR.","VEN.","LUN.","JEU.","DIM.","MER.",{"$nulls":3},"CAJ",{"$f":"COUNTIF(INDIRECT(Q$2),$P4)","v":0},0,0,"CAN",{"$f":"COUNTIF(INDIRECT(U$2),$T4)","v":0},0,0,"CG","CG 12h","CAN","SOG",{"$f":"Congé!L26","v":3},{"$f":"Congé!M26","v":1},{"$f":"Congé!N26","v":2}]
["Equipes",null,3,4,5,6,7,8,9,10,1,2,{"$nulls":3},"CAJ/Feu",0,0,0,"Feu/CAN",0,0,0,"CDG","CDG 12h","CAJ/Feu","INC2",{"$f":"Congé!L27","v":7},{"$f":"Congé!M27","v":3},{"$f":"Congé!N27","v":4}]
[{"$f":"Congé!E6","v":1},{"$f":"Congé!F6","v":"MATEO"},{"$f":"IF($A6=C$5,\"12h\",IF($A6=\"\",\"\",\"\"))","v":""},"","","","","","","","12h","","",null,null,"CAJ/V",0,0,0,"V/CAN",0,0,0,"VPUa","VPUa 12h","Feu/CAN","INC1",{"$f":"Congé!L28","v":15},{"$f":"Congé!M28","v":5},{"$f":"Congé!N28","v":10}]
[{"$f":"Congé!E7","v":9},{"$f":"Congé!F7","v":"BARREAU"},"","","","","","","12h","","","","",null,null,"CAJ/PCN",0,0,0,"PCJ/CAN",0,0,0,"VPU","VPU 12h","CAJ/V"]
[{"$nulls":16},0,0,0,null,0,0,0]
[{"$f":"Congé!E9","v":10},{"$f":"Congé!F9","v":"CARTIER"},{"$f":"IF($A9=C$5,\"12h\",IF($A9=\"\",\"\",\"\"))","v":""},"","","","","","","12h","","","",null,null,"CAJ/STN",0,0,0,"STJ/CAN",0,0,0,"VPUc","VPUc 12h","V/CAN"]
[{"$f":"Congé!E10","v":4},{"$f":"Congé!F10","v":"CARTAUT"},"","12h","","","","","","","","","",null,null,"CAJ/CEN",0,0,0,"CEJ/CAN",0,0,0,"FPTa","FPTa 12h","PCJ/CAN"]
[{"$f":"Congé!E11","v":0},{"$f":"Congé!F11","v":0},"","","",{"$nulls":5},"","","12h",{"$nulls":3},0,0,0,null,0,0,0]
[{"$f":"Congé!E12","v":3},{"$f":"Congé!F12","v":"HUGUES"},"12h","","","","","","","","","",{"$nulls":3},"CAJ/AAN",0,0,0,"AAJ/CAN",0,0,0,"FPT","FPT 12h","CAJ/PCN"]
[{"$nulls":16},0,0,0,null,0,0,0]
[{"$f":"Congé!E14","v":8},{"$f":"Congé!F14","v":"SELLES"},{"$f":"IF($A14=C$5,\"12h\",IF($A14=\"\",\"\",\"\"))","v":""},"","","","","12h","","","","","",null,null,"CAJ/CPN",0,0,0,"CPJ/CAN",0,0,0,"FPTc","FPTc 12h","CAJ/STN"]
[{"$f":"Congé!E15","v":9},{"$f":"Congé!F15","v":"MASSELIN"},"","","","","","","12h","","","","",null,null,"STJ/CAN",0,0,0,"CAJ/STN",0,0,0,"EPSa","EPSa 12h","STJ/CAN"]
[{"$f":"Congé!E16","v":0},{"$f":"Congé!F16","v":0},"","","","","","","","","","","12h",{"$nulls":3},0,0,0,null,0,0,0]
[{"$f":"Congé!E17","v":1},{"$f":"Congé!F17","v":"MALET"},"","","","","","","","","12h","","",null,null,"CEJ/CAN",0,0,0,"CAJ/CEN",0,0,0,"EPSc","EPSc 12h","CAJ/CEN"]
[{"$f":"Congé!E18","v":2},{"$f":"Congé!F18","v":"REY F"},"","","","","","","","","","12h","",null,null,"AAJ/CAN",0,0,0,"CAJ/AAN",0,0,0,"EPS","EPS 12h","CEJ/CAN"]
[{"$f":"Congé!E19","v":6},{"$f":"Congé!F19","v":"LUBRANO"},"","","","12h","","","","","","",{"$nulls":3},"CPJ/CAN",0,0,0,"CAJ/CPN",0,0,0,"VSRa","VSRa 12h","CAJ/AAN"]
[{"$f":"Congé!E20","v":5},{"$f":"Congé!F20","v":"NORMAND"},"","","12h","","","","","","","",{"$nulls":3},"RPM",0,0,0,"RPM",0,0,0,"VSRc","VSRc 12h","AAJ/CAN"]
[{"$nulls":16},0,0,0,null,0,0,0]
[{"$f":"Congé!E22","v":9},{"$f":"Congé!F22","v":"ROSTAND"},{"$f":"IF($A22=C$5,\"12h\",IF($A22=\"\",\"\",\"\"))","v":""},"","","","","","12h","","","","",null,null,"ST",0,0,0,"ST",0,0,0,"VSR","VSR 12h","CAJ/CPN"]
[{"$f":"Congé!E23","v":6},{"$f":"Congé!F23","v":"LAURENT J"},"","","","12h","","","","","","","",null,null,"STJ/Feu",0,0,0,"STN",0,0,0,"EVa","Eva 12h","CPJ/CAN"]
[{"$f":"Congé!E24","v":10},{"$f":"Congé!F24","v":"BALLESTER"},"","","","","","","","12h","","","",null,null,"STJ/V",0,0,0,"CE",0,0,0,"Evc","Evc 12h"]
[{"$f":"Congé!E25","v":7},{"$f":"Congé!F25","v":"GRIMM"},"","","","","12h","","","","","","",null,null,"STJ/PCN",0,0,0,"CEN",0,0,0,"EV","EV 12h"]
[{"$f":"Congé!E26","v":3},{"$f":"Congé!F26","v":"ORIOL"},"12h","","","","","","","","","","",null,null,"STJ",0,0,0,"CEJ/CPN",0,0,0,"VID","VID 12h"]
[{"$f":"Congé!E27","v":10},{"$f":"Congé!F27","v":"DEPRAD"},"","","","","","","","12h","","","",null,null,"CE",0,0,0,"CP",0,0,0,"VSAV 24h","VSAV 12h"]
[{"$f":"Congé!E28","v":4},{"$f":"Congé!F28","v":"FLORES"},"","12h","","","","","","","","","",null,null,"CEJ",0,0,0,"CPN",0,0,0,"VSAV jour","VLM 12h"]
[{"$f":"Congé!E29","v":2},{"$f":"Congé!F29","v":"FIGUEIRINHA"},"","","","","","","","","","12h","",null,null,"CEJ/CPN",0,0,0,"AA",0,0,0,"VSAV nuit","PC 12h"]
[{"$f":"Congé!E30","v":8},{"$f":"Congé!F30","v":"HEURTEBISE"},"","","","","","12h","","","","","",null,null,"CP",0,0,0,"AAN",0,0,0,"VLM 24h"]
[{"$f":"Congé!E31","v":3},{"$f":"Congé!F31","v":"BLANCHARD"},"12h","","","","","","","","","","",null,null,"CPJ",0,0,0,"CM",0,0,0,"VLM jour"]
[{"$f":"Congé!E32","v":0},{"$f":"Congé!F32","v":0},"","","","","","","","","","","12h",{"$nulls":3},0,0,0,null,0,0,0]
[{"$f":"Congé!E33","v":5},{"$f":"Congé!F33","v":"DECITRE"},{"$f":"IF($A33=C$5,\"12h\",IF($A33=\"\",\"\",\"\"))","v":""},{"$f":"IF($A33=D$5,\"12h\",IF($A33=\"\",\"\",\"\"))","v":""},{"$f":"IF($A33=E$5,\"12h\",IF($A33=\"\",\"\",\"\"))","v":"12h"},"","","","","","","","",null,null,"AA",0,0,0,"AT",0,0,0,"VLM nuit"]
[{"$f":"Congé!E34","v":4},{"$f":"Congé!F34","v":"EON"},"MUT","MUT","MUT","MUT","MUT","MUT","MUT","MUT","MUT","MUT","",{"$nulls":3},0,0,0,null,0,0,0]
[{"$f":"Congé!E35","v":6},{"$f":"Congé!F35","v":"DIOLOGENT"},{"$f":"IF($A35=C$5,\"12h\",IF($A35=\"\",\"\",\"\"))","v":""},"","","12h","","","","","","","",null,null,"AAJ",0,0,0,"TP",0,0,0,"PCJ"]
[{"$f":"Congé!E36","v":7},{"$f":"Congé!F36","v":"GUEROULT"},"","","","","12h","","","","","","",null,null,"CM",0,0,0,"SHR",0,0,0,"PCN"]
[{"$f":"Congé!E37","v":1},{"$f":"Congé!F37","v":"SALMI"},"","","","","","","","","12h","","",null,null,"AT",0,0,0,"MUT",0,0,1,"PC 24"]
[{"$f":"Congé!E38","v":7},{"$f":"Congé!F38","v":"DYLIK"},"","","","","12h","","","","","","",null,null,"TP",0,0,0,"12h",0,1,1]
[{"$nulls":16},0,0,0,null,0,0,0]
[{"$f":"Congé!E40","v":9},{"$f":"Congé!F40","v":"MONTALEGRE"},"","","","","","","12h","","","","",null,null,"USSH",0,0,0,"CAN covid",0,0,0]
[{"$f":"Congé!E41","v":9},{"$f":"Congé!F41","v":"SERANO G"},"","","","","","","12h","","","","",null,null,"MUT",0,0,1,"USSH",0,0,0]
[{"$f":"Congé!E42","v":7},{"$f":"Congé!F42","v":"LANCIAL"},"","","","","12h","","","","","","",null,null,"ST 12h",0,0,0,null,0,0,0]
[{"$f":"Congé!E43","v":8},{"$f":"Congé!F43","v":"MOURCIA"},"","","","","","12h","","","","","",null,null,"CE 12h",0,0,0,null,0,0,0]
[{"$f":"Congé!E44","v":2},{"$f":"Congé!F44","v":"GILSON"},"","","","","","","","","","12h","",null,null,"CP 12h",0,0,0,null,0,0,0]
[{"$f":"Congé!E45","v":0},{"$f":"Congé!F45","v":0},"","","","","","","","","","","12h",{"$nulls":3},{"$f":"COUNTIF(INDIRECT(Q$2),$P46)","v":0},0,0,null,0,0,0]
[{"$f":"Congé!E46","v":5},{"$f":"Congé!F46","v":"PERINO"},"","","12h","","","","","","","","",null,null,"AA 12h",0,0,0,null,0,0,0]
[{"$f":"Congé!E47","v":10},{"$f":"Congé!F47","v":"LUPI"},"","","","","","","","12h","","","",null,null,"AT 12h",0,0,0,null,0,0,0]
[{"$f":"Congé!E48","v":4},{"$f":"Congé!F48","v":"ROOS"},"","12h","","","","","","","","","",null,null,"RPM 12h",{"$f":"COUNTIF(INDIRECT(Q$2),#REF!)","v":0},{"$f":"COUNTIF(INDIRECT(R$2),#REF!)","v":0},{"$f":"COUNTIF(INDIRECT(S$2),#REF!)","v":0},null,0,0,0]
[{"$f":"Congé!E49","v":1},{"$f":"Congé!F49","v":"VALERIAN"},"","","","","","","","","12h","",""]
[{"$f":"Congé!E50","v":3},{"$f":"Congé!F50","v":"ROUSTAN"},"12h","","","","","","","","","",""]
[{"$f":"Congé!E51","v":1},{"$f":"Congé!F51","v":"WENGER"},"","","","","","","","","12h","","",null,null,"CAJ covid",{"$f":"COUNTIF(INDIRECT(Q$2),#REF!)","v":0},{"$f":"COUNTIF(INDIRECT(R$2),#REF!)","v":0},{"$f":"COUNTIF(INDIRECT(S$2),#REF!)","v":0},null,0,0,0]
[{"$f":"Congé!E52","v":8},{"$f":"Congé!F52","v":"LHERBIER"},"","","","","","12h","","","","","",null,null,"CA ops"]
[]
[null,"CA Jour",{"$f":"COUNTIF(C9:C52,\"CA\")+COUNTIF(C9:C52,\"CAJ*\")+COUNTIF(C9:C52,\"RPM\")","v":0},{"$f":"COUNTIF(D9:D52,\"CA\")+COUNTIF(D9:D52,\"CAJ*\")+COUNTIF(D9:D52,\"RPM\")","v":0},0,0,0,0,0,0,0,0,0]
[null,"Absence jour",{"$f":"SUM(C75:C77)+C81+SUM(C82:C88)+SUM(C92:C102)+C54","v":1},{"$f":"SUM(D75:D77)+D81+SUM(D82:D88)+SUM(D92:D102)+D54","v":1},1,1,1,1,1,1,1,1,0]
[null,"CA Nuit",{"$f":"COUNTIF(C9:C52,\"CA\")+COUNTIF(C9:C52,\"*CAN\")+COUNTIF(C9:C52,\"RPM\")","v":0},{"$f":"COUNTIF(D9:D52,\"CA\")+COUNTIF(D9:D52,\"*CAN\")+COUNTIF(D9:D52,\"RPM\")","v":0},0,0,0,0,0,0,0,0,0]
[null,"Absence Nuit",{"$f":"SUM(C67:C69)+C72+SUM(C89:C102)+C56","v":1},{"$f":"SUM(D67:D69)+D72+SUM(D89:D102)+D56","v":1},1,1,1,1,1,1,1,1,0]
[]
[null,"Nombre de 12h",{"$f":"COUNTIF(C9:C52,\"*12h\")","v":4},{"$f":"COUNTIF(D9:D52,\"*12h\")","v":3},3,3,4,4,4,4,4,3,4]
[{"$nulls":15},"CA"]
[null,"Nbre de pro jour",{"$f":"Congé!$E$54-C55","v":36},{"$f":"Congé!$E$54-D55","v":36},{"$f":"Congé!$E$54-E55","v":36},{"$f":"Congé!$E$54-F55","v":36},{"$f":"Congé!$E$54-G55","v":36},{"$f":"Congé!$E$54-H55","v":36},{"$f":"Congé!$E$54-I55","v":36},{"$f":"Congé!$E$54-J55","v":36},{"$f":"Congé!$E$54-K55","v":36},{"$f":"Congé!$E$54-L55","v":36},{"$f":"Congé!$E$54-M55","v":37},null,null,"CAN"]
[null,"Nbre de pro nuit",{"$f":"Congé!$E$54-C57-C59","v":32},{"$f":"Congé!$E$54-D57-D59","v":33},{"$f":"Congé!$E$54-E57-E59","v":33},{"$f":"Congé!$E$54-F57-F59","v":33},{"$f":"Congé!$E$54-G57-G59","v":32},{"$f":"Congé!$E$54-H57-H59","v":32},{"$f":"Congé!$E$54-I57-I59","v":32},{"$f":"Congé!$E$54-J57-J59","v":32},{"$f":"Congé!$E$54-K57-K59","v":32},{"$f":"Congé!$E$54-L57-L59","v":33},{"$f":"Congé!$E$54-M57-M59","v":33},null,null,"Feu/CAN"]
[{"$nulls":15},"V/CAN"]
[null,"CA",{"$f":"COUNTIF(C$9:C$52,$B64)","v":0},{"$f":"COUNTIF(D$9:D$52,$B64)","v":0},0,0,0,0,0,0,0,0,0,null,null,"PCJ/CAN"]
[null,"RPM",{"$f":"COUNTIF(C$9:C$52,$B65)","v":0},0,0,0,0,0,0,0,0,0,0,null,null,"STJ/CAN"]
[null,"CAJ",0,0,0,0,0,0,0,0,0,0,0,null,null,"CEJ/CAN"]
[null,"CAJ/AAN",0,0,0,0,0,0,0,0,0,0,0,null,null,"AAJ/CAN"]
[null,"CAJ/CEN",0,0,0,0,0,0,0,0,0,0,0,null,null,"CPJ/CAN"]
[null,"CAJ/CPN",0,0,0,0,0,0,0,0,0,0,0,null,null,"CAJ/STN"]
[null,"CAJ/Feu",0,0,0,0,0,0,0,0,0,0,0,null,null,"CAJ/CEN"]
[null,"CAJ/PCN",0,0,0,0,0,0,0,0,0,0,0,null,null,"CAJ/AAN"]
[null,"CAJ/STN",0,0,0,0,0,0,0,0,0,0,0,null,null,"CAJ/CPN"]
[null,"CAJ/V",0,0,0,0,0,0,0,0,0,0,0,null,null,"RPM"]
[null,"CAN",0,0,0,0,0,0,0,0,0,0,0,null,null,"ST"]
[null,"AAJ/CAN",0,0,0,0,0,0,0,0,0,0,0,null,null,"STN"]
[null,"CEJ/CAN",0,0,0,0,0,0,0,0,0,0,0,null,null,"CE"]
[null,"CPJ/CAN",0,0,0,0,0,0,0,0,0,0,0,null,null,"CEN"]
[null,"Feu/CAN",0,0,0,0,0,0,0,0,0,0,0,null,null,"CEJ/CPN"]
[null,"PCJ/CAN",0,0,0,0,0,0,0,0,0,0,0,null,null,"CP"]
[null,"V/CAN",0,0,0,0,0,0,0,0,0,0,0,null,null,"CPN"]
[null,"STJ/CAN",0,0,0,0,0,0,0,0,0,0,0,null,null,"AA"]
[null,"AAJ",0,0,0,0,0,0,0,0,0,0,0,null,null,"AAN"]
[null,"CEJ",0,0,0,0,0,0,0,0,0,0,0,null,null,"CM"]
[null,"CPJ",0,0,0,0,0,0,0,0,0,0,0,null,null,"AT"]
[null,"STJ",0,0,0,0,0,0,0,0,0,0,0,null,null,"TP"]
[null,"STJ/Feu",0,0,0,0,0,0,0,0,0,0,0,null,null,"SHR"]
[null,"STJ/PCN",0,0,0,0,0,0,0,0,0,0,0,null,null,"MUT"]
[null,"STJ/V",0,0,0,0,0,0,0,0,0,0,0,null,null,"12h"]
[null,"AAN",0,0,0,0,0,0,0,0,0,0,0,null,null,"CAN covid"]
[null,"CEN",0,0,0,0,0,0,0,0,0,0,0,null,null,"USSH"]
[null,"CPN",0,0,0,0,0,0,0,0,0,0,0,null,null,"CG"]
[null,"STN",0,0,0,0,0,0,0,0,0,0,0,null,null,"CDG"]
[null,"CE",0,0,0,0,0,0,0,0,0,0,0,null,null,"VPUa"]
[null,"CEJ/CPN",0,0,0,0,0,0,0,0,0,0,0,null,null,"VPU"]
[null,"CM",0,0,0,0,0,0,0,0,0,0,0,null,null,"VPUc"]
[null,"CP",0,0,0,0,0,0,0,0,0,0,0,null,null,"FPTa"]
[null,"TP",0,0,0,0,0,0,0,0,0,0,0,null,null,"FPT"]
[null,"ST",0,0,0,0,0,0,0,0,0,0,0,null,null,"FPTc"]
[null,"SHR",0,0,0,0,0,0,0,0,0,0,0,null,null,"EPSa"]
[null,"MUT",1,1,1,1,1,1,1,1,1,1,0,null,null,"EPSc"]
[null,"AA",0,0,0,0,0,0,0,0,0,{"$f":"COUNTIF(L$9:L$52,$B101)","v":0},{"$f":"COUNTIF(M$9:M$52,$B101)","v":0},null,null,"EPS"]
[null,"AT",{"$f":"COUNTIF(C$9:C$52,$B102)","v":0},0,0,0,0,0,0,0,0,0,0,null,null,"VSRa"]
[{"$nulls":15},"VSRc"]
[{"$nulls":15},"VSR"]
[{"$nulls":15},"EVa"]
[{"$nulls":15},"Evc"]
[{"$nulls":15},"EV"]
[{"$nulls":15},"VID"]
[{"$nulls":15},"VSAV 24h"]
[{"$nulls":15},"VSAV jour"]
[{"$nulls":15},"VSAV nuit"]
[{"$nulls":15},"VLM 24h"]
[{"$nulls":15},"VLM jour"]
[{"$nulls":15},"VLM nuit"]
[{"$nulls":15},"PCJ"]
[{"$nulls":15},"PCN"]
[{"$nulls":15},"PC 24"]
[{"$nulls":15},"CG 12h"]
[{"$nulls":15},"CDG 12h"]
[{"$nulls":15},"VPUa 12h"]
[{"$nulls":15},"VPU 12h"]
[{"$nulls":15},"VPUc 12h"]
[{"$nulls":15},"FPTa 12h"]
[{"$nulls":15},"FPT 12h"]
[{"$nulls":15},"FPTc 12h"]
[{"$nulls":15},"EPSa 12h"]
[{"$nulls":15},"EPSc 12h"]
[{"$nulls":15},"EPS 12h"]
[{"$nulls":15},"VSRa 12h"]
[{"$nulls":15},"VSRc 12h"]
[{"$nulls":15},"VSR 12h"]
[{"$nulls":15},"Eva 12h"]
[{"$nulls":15},"Evc 12h"]
[{"$nulls":15},"EV 12h"]
[{"$nulls":15},"VID 12h"]
[{"$nulls":15},"VSAV 12h"]
[{"$nulls":15},"VLM 12h"]
[{"$nulls":15},"PC 12h"]

{"sheet":"Août","index":8,"n_rows":138,"n_cols":30,"rows_kept":138,"merged":[[0,23,2,23],[0,24,2,24],[0,26,0,27],[1,26,1,27],[4,0,4,1]]}
[null,null,"2020-07-29","2020-08-01","2020-08-04","2020-08-07","2020-08-10","2020-08-13","2020-08-16","2020-08-19","2020-08-22","2020-08-25","2020-08-28",{"$nulls":3},{"$f":"SUM(Q3:Q51)","v":0},{"$f":"SUM(R3:R51)","v":0},{"$f":"SUM(S3:S51)","v":1},null,{"$f":"SUM(U3:U51)","v":0},{"$f":"SUM(V3:V51)","v":1},{"$f":"SUM(W3:W51)","v":2},"Fonctions    24h","Fonctions 12h",null,"Nombre de CA maxi",null,{"$f":"Congé!M23","v":12}]
[{"$nulls":6},{"$f":"RIGHT(CELL(\"nomfichier\",G2),LEN(CELL(\"nomfichier\",G2))-SEARCH(\"]\",CELL(\"nomfichier\",G2)))","v":"Août"},{"$nulls":6},"12h",null,"Absence jour","L9:L12","L9:L18","L22:L38","Absence nuit","L9:L12","L9:L18","L22:L38",null,null,"CA","Nombre de 12h maxi",null,{"$f":"Congé!M24","v":5}]
[null,null,1,4,7,10,13,16,19,22,25,28,31,"12h",null,"CA",{"$f":"COUNTIF(INDIRECT(Q$2),$P3)","v":0},{"$f":"COUNTIF(INDIRECT(R$2),$P3)","v":0},{"$f":"COUNTIF(INDIRECT(S$2),$P3)","v":0},"CA",{"$f":"COUNTIF(INDIRECT(U$2),$T3)","v":0},{"$f":"COUNTIF(INDIRECT(V$2),$T3)","v":0},{"$f":"COUNTIF(INDIRECT(W$2),$T3)","v":0},null,null,"CAJ",null,"Nbre","Présence mini","Absence maxi"]
[null,null,"SAM.","MAR.","VEN.","LUN.","JEU.","DIM.","MER.","SAM.","MAR.","VEN.","LUN.",null,null,"CAJ",{"$f":"COUNTIF(INDIRECT(Q$2),$P4)","v":0},0,0,"CAN",{"$f":"COUNTIF(INDIRECT(U$2),$T4)","v":0},0,0,"CG","CG 12h","CAN","SOG",{"$f":"Congé!L26","v":3},{"$f":"Congé!M26","v":1},{"$f":"Congé!N26","v":2}]
["Equipes",null,3,4,5,6,7,8,9,10,1,2,3,null,null,"CAJ/Feu",0,0,0,"Feu/CAN",0,0,0,"CDG","CDG 12h","CAJ/Feu","INC2",{"$f":"Congé!L27","v":7},{"$f":"Congé!M27","v":3},{"$f":"Congé!N27","v":4}]
[{"$f":"Congé!E6","v":1},{"$f":"Congé!F6","v":"MATEO"},{"$f":"IF($A6=C$5,\"12h\",IF($A6=\"\",\"\",\"\"))","v":""},"","","","","","","","12h","","",null,null,"CAJ/V",0,0,0,"V/CAN",0,0,0,"VPUa","VPUa 12h","Feu/CAN","INC1",{"$f":"Congé!L28","v":15},{"$f":"Congé!M28","v":5},{"$f":"Congé!N28","v":10}]
[{"$f":"Congé!E7","v":9},{"$f":"Congé!F7","v":"BARREAU"},"","","","","","","12h","","","","",null,null,"CAJ/PCN",0,0,0,"PCJ/CAN",0,0,0,"VPU","VPU 12h","CAJ/V"]
[{"$nulls":16},0,0,0,null,0,0,0]
[{"$f":"Congé!E9","v":10},{"$f":"Congé!F9","v":"CARTIER"},{"$f":"IF($A9=C$5,\"12h\",IF($A9=\"\",\"\",\"\"))","v":""},"","","","","","","12h","","","",null,null,"CAJ/STN",0,0,0,"STJ/CAN",0,0,0,"VPUc","VPUc 12h","V/CAN"]
[{"$f":"Congé!E10","v":4},{"$f":"Congé!F10","v":"CARTAUT"},"","12h","","","","","","","","","",null,null,"CAJ/CEN",0,0,0,"CEJ/CAN",0,0,0,"FPTa","FPTa 12h","PCJ/CAN"]
[{"$f":"Congé!E11","v":0},{"$f":"Congé!F11","v":0},"","","",{"$nulls":5},"","","",{"$nulls":3},0,0,0,null,0,0,0]
[{"$f":"Congé!E12","v":3},{"$f":"Congé!F12","v":"HUGUES"},"12h","","","","","","","","","","12h",null,null,"CAJ/AAN",0,0,0,"AAJ/CAN",0,0,0,"FPT","FPT 12h","CAJ/PCN"]
[{"$nulls":16},0,0,0,null,0,0,0]
[{"$f":"Congé!E14","v":8},{"$f":"Congé!F14","v":"SELLES"},{"$f":"IF($A14=C$5,\"12h\",IF($A14=\"\",\"\",\"\"))","v":""},"","","","","12h","","","","","",null,null,"CAJ/CPN",0,0,0,"CPJ/CAN",0,0,0,"FPTc","FPTc 12h","CAJ/STN"]
[{"$f":"Congé!E15","v":9},{"$f":"Congé!F15","v":"MASSELIN"},"","","","","","","12h","","","","",null,null,"STJ/CAN",0,0,0,"CAJ/STN",0,0,0,"EPSa","EPSa 12h","STJ/CAN"]
[{"$f":"Congé!E16","v":0},{"$f":"Congé!F16","v":0},"","","","","","","","","","","",{"$nulls":3},0,0,0,null,0,0,0]
[{"$f":"Congé!E17","v":1},{"$f":"Congé!F17","v":"MALET"},"","","","","","","","","12h","","",null,null,"CEJ/CAN",0,0,0,"CAJ/CEN",0,0,0,"EPSc","EPSc 12h","CAJ/CEN"]
[{"$f":"Congé!E18","v":2},{"$f":"Congé!F18","v":"REY F"},"","","","","","","","","","12h","",null,null,"AAJ/CAN",0,0,0,"CAJ/AAN",0,0,0,"EPS","EPS 12h","CEJ/CAN"]
[{"$f":"Congé!E19","v":6},{"$f":"Congé!F19","v":"LUBRANO"},"","","","12h","","","","","","","",null,null,"CPJ/CAN",0,0,0,"CAJ/CPN",0,0,0,"VSRa","VSRa 12h","CAJ/AAN"]
[{"$f":"Congé!E20","v":5},{"$f":"Congé!F20","v":"NORMAND"},"","","12h","","","","","","","","",null,null,"RPM",0,0,0,"RPM",0,0,0,"VSRc","VSRc 12h","AAJ/CAN"]
[{"$nulls":16},0,0,0,null,0,0,0]
[{"$f":"Congé!E22","v":9},{"$f":"Congé!F22","v":"ROSTAND"},{"$f":"IF($A22=C$5,\"12h\",IF($A22=\"\",\"\",\"\"))","v":""},"","","","","","12h","","","","",null,null,"ST",0,0,0,"ST",0,0,0,"VSR","VSR 12h","CAJ/CPN"]
[{"$f":"Congé!E23","v":6},{"$f":"Congé!F23","v":"LAURENT J"},"","","","12h","","","","","","","",null,null,"STJ/Feu",0,0,0,"STN",0,0,0,"EVa","Eva 12h","CPJ/CAN"]
[{"$f":"Congé!E24","v":10},{"$f":"Congé!F24","v":"BALLESTER"},"","","","","","","","12h","","","",null,null,"STJ/V",0,0,0,"CE",0,0,0,"Evc","Evc 12h"]
[{"$f":"Congé!E25","v":7},{"$f":"Congé!F25","v":"GRIMM"},"","","","","12h","","","","","","",null,null,"STJ/PCN",0,0,0,"CEN",0,0,0,"EV","EV 12h"]
[{"$f":"Congé!E26","v":3},{"$f":"Congé!F26","v":"ORIOL"},"12h","","","","","","","","","","12h",null,null,"STJ",0,0,0,"CEJ/CPN",0,0,0,"VID","VID 12h"]
[{"$f":"Congé!E27","v":10},{"$f":"Congé!F27","v":"DEPRAD"},"","","","","","","","12h","","","",null,null,"CE",0,0,0,"CP",0,0,0,"VSAV 24h","VSAV 12h"]
[{"$f":"Congé!E28","v":4},{"$f":"Congé!F28","v":"FLORES"},"","12h","","","","","","","","","",null,null,"CEJ",0,0,0,"CPN",0,0,0,"VSAV jour","VLM 12h"]
[{"$f":"Congé!E29","v":2},{"$f":"Congé!F29","v":"FIGUEIRINHA"},"","","","","","","","","","12h","",null,null,"CEJ/CPN",0,0,0,"AA",0,0,0,"VSAV nuit","PC 12h"]
[{"$f":"Congé!E30","v":8},{"$f":"Congé!F30","v":"HEURTEBISE"},"","","","","","12h","","","","","",null,null,"CP",0,0,0,"AAN",0,0,0,"VLM 24h"]
[{"$f":"Congé!E31","v":3},{"$f":"Congé!F31","v":"BLANCHARD"},"12h","","","","","","","","","","12h",null,null,"CPJ",0,0,0,"CM",0,0,0,"VLM jour"]
[{"$f":"Congé!E32","v":0},{"$f":"Congé!F32","v":0},"","","","","","","","","","","",{"$nulls":3},0,0,0,null,0,0,0]
[{"$f":"Congé!E33","v":5},{"$f":"Congé!F33","v":"DECITRE"},{"$f":"IF($A33=C$5,\"12h\",IF($A33=\"\",\"\",\"\"))","v":""},"","12h",{"$f":"IF($A33=F$5,\"12h\",IF($A33=\"\",\"\",\"\"))","v":""},"","","","","","","",null,null,"AA",0,0,0,"AT",0,0,0,"VLM nuit"]
[{"$f":"Congé!E34","v":4},{"$f":"Congé!F34","v":"EON"},"MUT","MUT","MUT","MUT","MUT","MUT","MUT","MUT","MUT","MUT","MUT",{"$nulls":3},0,0,0,null,0,0,0]
[{"$f":"Congé!E35","v":6},{"$f":"Congé!F35","v":"DIOLOGENT"},{"$f":"IF($A35=C$5,\"12h\",IF($A35=\"\",\"\",\"\"))","v":""},"","","12h","","","","","","","",null,null,"AAJ",0,0,0,"TP",0,0,0,"PCJ"]
[{"$f":"Congé!E36","v":7},{"$f":"Congé!F36","v":"GUEROULT"},"","","","","12h","","","","","","",null,null,"CM",0,0,0,"SHR",0,0,0,"PCN"]
[{"$f":"Congé!E37","v":1},{"$f":"Congé!F37","v":"SALMI"},"","","","","","","","","12h","","",null,null,"AT",0,0,0,"MUT",0,0,1,"PC 24"]
[{"$f":"Congé!E38","v":7},{"$f":"Congé!F38","v":"DYLIK"},"","","","","12h","","","","","","",null,null,"TP",0,0,0,"12h",0,1,1]
[{"$nulls":16},0,0,0,null,0,0,0]
[{"$f":"Congé!E40","v":9},{"$f":"Congé!F40","v":"MONTALEGRE"},"","","","","","","12h","","","","",null,null,"USSH",0,0,0,"CAN covid",0,0,0]
[{"$f":"Congé!E41","v":9},{"$f":"Congé!F41","v":"SERANO G"},"","","","","","","12h","","","","",null,null,"MUT",0,0,1,"USSH",0,0,0]
[{"$f":"Congé!E42","v":7},{"$f":"Congé!F42","v":"LANCIAL"},"","","","","12h","","","","","","",null,null,"ST 12h",0,0,0,null,0,0,0]
[{"$f":"Congé!E43","v":8},{"$f":"Congé!F43","v":"MOURCIA"},"","","","","","12h","","","","","",null,null,"CE 12h",0,0,0,null,0,0,0]
[{"$f":"Congé!E44","v":2},{"$f":"Congé!F44","v":"GILSON"},"","","","","","","","","","12h","",null,null,"CP 12h",0,0,0,null,0,0,0]
[{"$f":"Congé!E45","v":0},{"$f":"Congé!F45","v":0},"","","","","","","","","","","",{"$nulls":3},{"$f":"COUNTIF(INDIRECT(Q$2),$P46)","v":0},0,0,null,0,0,0]
[{"$f":"Congé!E46","v":5},{"$f":"Congé!F46","v":"PERINO"},"","","12h","","","","","","","","",null,null,"AA 12h",0,0,0,null,0,0,0]
[{"$f":"Congé!E47","v":10},{"$f":"Congé!F47","v":"LUPI"},"","","","","","","","12h","","","",null,null,"AT 12h",0,0,0,null,0,0,0]
[{"$f":"Congé!E48","v":4},{"$f":"Congé!F48","v":"ROOS"},"","12h","","","",{"$f":"IF($A48=H$5,\"12h\",IF($A48=\"\",\"\",\"\"))","v":""},"","","","","",null,null,"RPM 12h",{"$f":"COUNTIF(INDIRECT(Q$2),#REF!)","v":0},{"$f":"COUNTIF(INDIRECT(R$2),#REF!)","v":0},{"$f":"COUNTIF(INDIRECT(S$2),#REF!)","v":0},null,0,0,0]
[{"$f":"Congé!E49","v":1},{"$f":"Congé!F49","v":"VALERIAN"},"","","","","","","","","12h","",""]
[{"$f":"Congé!E50","v":3},{"$f":"Congé!F50","v":"ROUSTAN"},"12h","","","","","","","","","","12h"]
[{"$f":"Congé!E51","v":1},{"$f":"Congé!F51","v":"WENGER"},"","","","","","","","","12h","","",null,null,"CAJ covid",{"$f":"COUNTIF(INDIRECT(Q$2),#REF!)","v":0},{"$f":"COUNTIF(INDIRECT(R$2),#REF!)","v":0},{"$f":"COUNTIF(INDIRECT(S$2),#REF!)","v":0},null,0,0,0]
[{"$f":"Congé!E52","v":8},{"$f":"Congé!F52","v":"LHERBIER"},"","","","","","12h","","","","","",null,null,"CA ops"]
[]
[null,"CA Jour",{"$f":"COUNTIF(C9:C52,\"CA\")+COUNTIF(C9:C52,\"CAJ*\")+COUNTIF(C9:C52,\"RPM\")","v":0},{"$f":"COUNTIF(D9:D52,\"CA\")+COUNTIF(D9:D52,\"CAJ*\")+COUNTIF(D9:D52,\"RPM\")","v":0},0,0,0,0,0,0,0,0,0]
[null,"Absence jour",{"$f":"SUM(C75:C77)+C81+SUM(C82:C88)+SUM(C92:C102)+C54","v":1},{"$f":"SUM(D75:D77)+D81+SUM(D82:D88)+SUM(D92:D102)+D54","v":1},1,1,1,1,1,1,1,1,1]
[null,"CA Nuit",{"$f":"COUNTIF(C9:C52,\"CA\")+COUNTIF(C9:C52,\"*CAN\")+COUNTIF(C9:C52,\"RPM\")","v":0},{"$f":"COUNTIF(D9:D52,\"CA\")+COUNTIF(D9:D52,\"*CAN\")+COUNTIF(D9:D52,\"RPM\")","v":0},0,0,0,0,0,0,0,0,0]
[null,"Absence Nuit",{"$f":"SUM(C67:C69)+C72+SUM(C89:C102)+C56","v":1},{"$f":"SUM(D67:D69)+D72+SUM(D89:D102)+D56","v":1},1,1,1,1,1,1,1,1,1]
[]
[null,"Nombre de 12h",{"$f":"COUNTIF(C9:C52,\"*12h\")","v":4},{"$f":"COUNTIF(D9:D52,\"*12h\")","v":3},3,3,4,4,4,4,4,3,4]
[{"$nulls":15},"CA"]
[null,"Nbre de pro jour",{"$f":"Congé!$E$54-C55","v":36},{"$f":"Congé!$E$54-D55","v":36},{"$f":"Congé!$E$54-E55","v":36},{"$f":"Congé!$E$54-F55","v":36},{"$f":"Congé!$E$54-G55","v":36},{"$f":"Congé!$E$54-H55","v":36},{"$f":"Congé!$E$54-I55","v":36},{"$f":"Congé!$E$54-J55","v":36},{"$f":"Congé!$E$54-K55","v":36},{"$f":"Congé!$E$54-L55","v":36},{"$f":"Congé!$E$54-M55","v":36},null,null,"CAN"]
[null,"Nbre de pro nuit",{"$f":"Congé!$E$54-C57-C59","v":32},{"$f":"Congé!$E$54-D57-D59","v":33},{"$f":"Congé!$E$54-E57-E59","v":33},{"$f":"Congé!$E$54-F57-F59","v":33},{"$f":"Congé!$E$54-G57-G59","v":32},{"$f":"Congé!$E$54-H57-H59","v":32},{"$f":"Congé!$E$54-I57-I59","v":32},{"$f":"Congé!$E$54-J57-J59","v":32},{"$f":"Congé!$E$54-K57-K59","v":32},{"$f":"Congé!$E$54-L57-L59","v":33},{"$f":"Congé!$E$54-M57-M59","v":32},null,null,"Feu/CAN"]
[{"$nulls":15},"V/CAN"]
[null,"CA",{"$f":"COUNTIF(C$9:C$52,$B64)","v":0},{"$f":"COUNTIF(D$9:D$52,$B64)","v":0},0,0,0,0,0,0,0,0,0,null,null,"PCJ/CAN"]
[null,"RPM",{"$f":"COUNTIF(C$9:C$52,$B65)","v":0},0,0,0,0,0,0,0,0,0,0,null,null,"STJ/CAN"]
[null,"CAJ",0,0,0,0,0,0,0,0,0,0,0,null,null,"CEJ/CAN"]
[null,"CAJ/AAN",0,0,0,0,0,0,0,0,0,0,0,null,null,"AAJ/CAN"]
[null,"CAJ/CEN",0,0,0,0,0,0,0,0,0,0,0,null,null,"CPJ/CAN"]
[null,"CAJ/CPN",0,0,0,0,0,0,0,0,0,0,0,null,null,"CAJ/STN"]
[null,"CAJ/Feu",0,0,0,0,0,0,0,0,0,0,0,null,null,"CAJ/CEN"]
[null,"CAJ/PCN",0,0,0,0,0,0,0,0,0,0,0,null,null,"CAJ/AAN"]
[null,"CAJ/STN",0,0,0,0,0,0,0,0,0,0,0,null,null,"CAJ/CPN"]
[null,"CAJ/V",0,0,0,0,0,0,0,0,0,0,0,null,null,"RPM"]
[null,"CAN",0,0,0,0,0,0,0,0,0,0,0,null,null,"ST"]
[null,"AAJ/CAN",0,0,0,0,0,0,0,0,0,0,0,null,null,"STN"]
[null,"CEJ/CAN",0,0,0,0,0,0,0,0,0,0,0,null,null,"CE"]
[null,"CPJ/CAN",0,0,0,0,0,0,0,0,0,0,0,null,null,"CEN"]
[null,"Feu/CAN",0,0,0,0,0,0,0,0,0,0,0,null,null,"CEJ/CPN"]
[null,"PCJ/CAN",0,0,0,0,0,0,0,0,0,0,0,null,null,"CP"]
[null,"V/CAN",0,0,0,0,0,0,0,0,0,0,0,null,null,"CPN"]
[null,"STJ/CAN",0,0,0,0,0,0,0,0,0,0,0,null,null,"AA"]
[null,"AAJ",0,0,0,0,0,0,0,0,0,0,0,null,null,"AAN"]
[null,"CEJ",0,0,0,0,0,0,0,0,0,0,0,null,null,"CM"]
[null,"CPJ",0,0,0,0,0,0,0,0,0,0,0,null,null,"AT"]
[null,"STJ",0,0,0,0,0,0,0,0,0,0,0,null,null,"TP"]
[null,"STJ/Feu",0,0,0,0,0,0,0,0,0,0,0,null,null,"SHR"]
[null,"STJ/PCN",0,0,0,0,0,0,0,0,0,0,0,null,null,"MUT"]
[null,"STJ/V",0,0,0,0,0,0,0,0,0,0,0,null,null,"12h"]
[null,"AAN",0,0,0,0,0,0,0,0,0,0,0,null,null,"CAN covid"]
[null,"CEN",0,0,0,0,0,0,0,0,0,0,0,null,null,"USSH"]
[null,"CPN",0,0,0,0,0,0,0,0,0,0,0,null,null,"CG"]
[null,"STN",0,0,0,0,0,0,0,0,0,0,0,null,null,"CDG"]
[null,"CE",0,0,0,0,0,0,0,0,0,0,0,null,null,"VPUa"]
[null,"CEJ/CPN",0,0,0,0,0,0,0,0,0,0,0,null,null,"VPU"]
[null,"CM",0,0,0,0,0,0,0,0,0,0,0,null,null,"VPUc"]
[null,"CP",0,0,0,0,0,0,0,0,0,0,0,null,null,"FPTa"]
[null,"TP",0,0,0,0,0,0,0,0,0,0,0,null,null,"FPT"]
[null,"ST",0,0,0,0,0,0,0,0,0,0,0,null,null,"FPTc"]
[null,"SHR",0,0,0,0,0,0,0,0,0,0,0,null,null,"EPSa"]
[null,"MUT",1,1,1,1,1,1,1,1,1,1,1,null,null,"EPSc"]
[null,"AA",0,0,0,0,0,0,0,0,0,{"$f":"COUNTIF(L$9:L$52,$B101)","v":0},{"$f":"COUNTIF(M$9:M$52,$B101)","v":0},null,null,"EPS"]
[null,"AT",{"$f":"COUNTIF(C$9:C$52,$B102)","v":0},0,0,0,0,0,0,0,0,0,0,null,null,"VSRa"]
[{"$nulls":15},"VSRc"]
[{"$nulls":15},"VSR"]
[{"$nulls":15},"EVa"]
[{"$nulls":15},"Evc"]
[{"$nulls":15},"EV"]
[{"$nulls":15},"VID"]
[{"$nulls":15},"VSAV 24h"]
[{"$nulls":15},"VSAV jour"]
[{"$nulls":15},"VSAV nuit"]
[{"$nulls":15},"VLM 24h"]
[{"$nulls":15},"VLM jour"]
[{"$nulls":15},"VLM nuit"]
[{"$nulls":15},"PCJ"]
[{"$nulls":15},"PCN"]
[{"$nulls":15},"PC 24"]
[{"$nulls":15},"CG 12h"]
[{"$nulls":15},"CDG 12h"]
[{"$nulls":15},"VPUa 12h"]
[{"$nulls":15},"VPU 12h"]
[{"$nulls":15},"VPUc 12h"]
[{"$nulls":15},"FPTa 12h"]
[{"$nulls":15},"FPT 12h"]
[{"$nulls":15},"FPTc 12h"]
[{"$nulls":15},"EPSa 12h"]
[{"$nulls":15},"EPSc 12h"]
[{"$nulls":15},"EPS 12h"]
[{"$nulls":15},"VSRa 12h"]
[{"$nulls":15},"VSRc 12h"]
[{"$nulls":15},"VSR 12h"]
[{"$nulls":15},"Eva 12h"]
[{"$nulls":15},"Evc 12h"]
[{"$nulls":15},"EV 12h"]
[{"$nulls":15},"VID 12h"]
[{"$nulls":15},"VSAV 12h"]
[{"$nulls":15},"VLM 12h"]
[{"$nulls":15},"PC 12h"]

{"sheet":"Septembre","index":9,"n_rows":138,"n_cols":30,"rows_kept":138,"merged":[[0,23,2,23],[0,24,2,24],[0,26,0,27],[1,26,1,27],[4,0,4,1]]}
[{"$nulls":3},"2020-09-03",null,"2020-09-09",{"$nulls":4},"2020-09-24",null,"2018-01-31",{"$nulls":3},{"$f":"SUM(Q3:Q51)","v":0},{"$f":"SUM(R3:R51)","v":0},{"$f":"SUM(S3:S51)","v":1},null,{"$f":"SUM(U3:U51)","v":1},{"$f":"SUM(V3:V51)","v":1},{"$f":"SUM(W3:W51)","v":3},"Fonctions    24h","Fonctions 12h",null,"Nombre de CA maxi",null,{"$f":"Congé!M23","v":12}]
[{"$nulls":6},{"$f":"RIGHT(CELL(\"nomfichier\",G2),LEN(CELL(\"nomfichier\",G2))-SEARCH(\"]\",CELL(\"nomfichier\",G2)))","v":"Septembre"},{"$nulls":6},"12h",null,"Absence jour","L9:L12","L9:L18","L22:L38","Absence nuit","L9:L12","L9:L18","L22:L38",null,null,"CA","Nombre de 12h maxi",null,{"$f":"Congé!M24","v":5}]
[null,null,3,6,9,12,15,18,21,24,27,30,null,"12h",null,"CA",{"$f":"COUNTIF(INDIRECT(Q$2),$P3)","v":0},{"$f":"COUNTIF(INDIRECT(R$2),$P3)","v":0},{"$f":"COUNTIF(INDIRECT(S$2),$P3)","v":0},"CA",{"$f":"COUNTIF(INDIRECT(U$2),$T3)","v":0},{"$f":"COUNTIF(INDIRECT(V$2),$T3)","v":0},{"$f":"COUNTIF(INDIRECT(W$2),$T3)","v":0},null,null,"CAJ",null,"Nbre","Présence mini","Absence maxi"]
[null,null,"JEU.","DIM.","MER.","SAM.","MAR.","VEN.","LUN.","JEU.","DIM.","MER.",{"$nulls":3},"CAJ",{"$f":"COUNTIF(INDIRECT(Q$2),$P4)","v":0},0,0,"CAN",{"$f":"COUNTIF(INDIRECT(U$2),$T4)","v":0},0,0,"CG","CG 12h","CAN","SOG",{"$f":"Congé!L26","v":3},{"$f":"Congé!M26","v":1},{"$f":"Congé!N26","v":2}]
["Equipes",null,4,5,6,7,8,9,10,1,2,3,{"$nulls":3},"CAJ/Feu",0,0,0,"Feu/CAN",0,0,0,"CDG","CDG 12h","CAJ/Feu","INC2",{"$f":"Congé!L27","v":7},{"$f":"Congé!M27","v":3},{"$f":"Congé!N27","v":4}]
[{"$f":"Congé!E6","v":1},{"$f":"Congé!F6","v":"MATEO"},{"$f":"IF($A6=C$5,\"12h\",IF($A6=\"\",\"\",\"\"))","v":""},"","","","","","","12h","","","",null,null,"CAJ/V",0,0,0,"V/CAN",0,0,0,"VPUa","VPUa 12h","Feu/CAN","INC1",{"$f":"Congé!L28","v":15},{"$f":"Congé!M28","v":5},{"$f":"Congé!N28","v":10}]
[{"$f":"Congé!E7","v":9},{"$f":"Congé!F7","v":"BARREAU"},"","","","","","12h","","","","","",null,null,"CAJ/PCN",0,0,0,"PCJ/CAN",0,0,0,"VPU","VPU 12h","CAJ/V"]
[{"$nulls":16},0,0,0,null,0,0,0]
[{"$f":"Congé!E9","v":10},{"$f":"Congé!F9","v":"CARTIER"},{"$f":"IF($A9=C$5,\"12h\",IF($A9=\"\",\"\",\"\"))","v":""},"","","","","","12h","","","","",null,null,"CAJ/STN",0,0,0,"STJ/CAN",0,0,0,"VPUc","VPUc 12h","V/CAN"]
[{"$f":"Congé!E10","v":4},{"$f":"Congé!F10","v":"CARTAUT"},"12h","","","","","","","","","","",null,null,"CAJ/CEN",0,0,0,"CEJ/CAN",0,0,0,"FPTa","FPTa 12h","PCJ/CAN"]
[{"$f":"Congé!E11","v":0},{"$f":"Congé!F11","v":0},"","","",{"$nulls":5},"","","12h",{"$nulls":3},0,0,0,null,0,0,0]
[{"$f":"Congé!E12","v":3},{"$f":"Congé!F12","v":"HUGUES"},"","","","","","","","","","12h",{"$nulls":3},"CAJ/AAN",0,0,0,"AAJ/CAN",0,0,0,"FPT","FPT 12h","CAJ/PCN"]
[{"$nulls":16},0,0,0,null,0,0,0]
[{"$f":"Congé!E14","v":8},{"$f":"Congé!F14","v":"SELLES"},{"$f":"IF($A14=C$5,\"12h\",IF($A14=\"\",\"\",\"\"))","v":""},"","","","12h","","","","","","",null,null,"CAJ/CPN",0,0,0,"CPJ/CAN",0,0,0,"FPTc","FPTc 12h","CAJ/STN"]
[{"$f":"Congé!E15","v":9},{"$f":"Congé!F15","v":"MASSELIN"},"","","","","","12h","","","","","",null,null,"STJ/CAN",0,0,0,"CAJ/STN",0,0,0,"EPSa","EPSa 12h","STJ/CAN"]
[{"$f":"Congé!E16","v":0},{"$f":"Congé!F16","v":0},"","","","","","","","","","","12h",{"$nulls":3},0,0,0,null,0,0,0]
[{"$f":"Congé!E17","v":1},{"$f":"Congé!F17","v":"MALET"},"","","","","","","","12h","","","",null,null,"CEJ/CAN",0,0,0,"CAJ/CEN",0,0,0,"EPSc","EPSc 12h","CAJ/CEN"]
[{"$f":"Congé!E18","v":2},{"$f":"Congé!F18","v":"REY F"},"","","","","","","","","12h","","",null,null,"AAJ/CAN",0,0,0,"CAJ/AAN",0,0,0,"EPS","EPS 12h","CEJ/CAN"]
[{"$f":"Congé!E19","v":6},{"$f":"Congé!F19","v":"LUBRANO"},"","","12h","","","","","","","",{"$nulls":3},"CPJ/CAN",0,0,0,"CAJ/CPN",0,0,0,"VSRa","VSRa 12h","CAJ/AAN"]
[{"$f":"Congé!E20","v":5},{"$f":"Congé!F20","v":"NORMAND"},"","12h","","","","","","","","",{"$nulls":3},"RPM",0,0,0,"RPM",0,0,0,"VSRc","VSRc 12h","AAJ/CAN"]
[{"$nulls":16},0,0,0,null,0,0,0]
[{"$f":"Congé!E22","v":9},{"$f":"Congé!F22","v":"ROSTAND"},{"$f":"IF($A22=C$5,\"12h\",IF($A22=\"\",\"\",\"\"))","v":""},"","","","","12h","","","","","",null,null,"ST",0,0,0,"ST",0,0,0,"VSR","VSR 12h","CAJ/CPN"]
[{"$f":"Congé!E23","v":6},{"$f":"Congé!F23","v":"LAURENT J"},"","","12h","","","","","","","","",null,null,"STJ/Feu",0,0,0,"STN",0,0,0,"EVa","Eva 12h","CPJ/CAN"]
[{"$f":"Congé!E24","v":10},{"$f":"Congé!F24","v":"BALLESTER"},"","","","","","","12h","","","","",null,null,"STJ/V",0,0,0,"CE",0,0,0,"Evc","Evc 12h"]
[{"$f":"Congé!E25","v":7},{"$f":"Congé!F25","v":"GRIMM"},"","","","12h","CA","CA","","","","","",null,null,"STJ/PCN",0,0,0,"CEN",0,0,0,"EV","EV 12h"]
[{"$f":"Congé!E26","v":3},{"$f":"Congé!F26","v":"ORIOL"},"","","","","","","","","","12h","",null,null,"STJ",0,0,0,"CEJ/CPN",0,0,0,"VID","VID 12h"]
[{"$f":"Congé!E27","v":10},{"$f":"Congé!F27","v":"DEPRAD"},"","","","","","","12h","","","","",null,null,"CE",0,0,0,"CP",0,0,0,"VSAV 24h","VSAV 12h"]
[{"$f":"Congé!E28","v":4},{"$f":"Congé!F28","v":"FLORES"},"12h","","","","","","","","","","",null,null,"CEJ",0,0,0,"CPN",0,0,0,"VSAV jour","VLM 12h"]
[{"$f":"Congé!E29","v":2},{"$f":"Congé!F29","v":"FIGUEIRINHA"},"","","","","","","","","12h","","",null,null,"CEJ/CPN",0,0,0,"AA",0,0,0,"VSAV nuit","PC 12h"]
[{"$f":"Congé!E30","v":8},{"$f":"Congé!F30","v":"HEURTEBISE"},"","","","","12h","","","","","","",null,null,"CP",0,0,0,"AAN",0,0,0,"VLM 24h"]
[{"$f":"Congé!E31","v":3},{"$f":"Congé!F31","v":"BLANCHARD"},"","","","","","","","","","12h","",null,null,"CPJ",0,0,0,"CM",0,0,0,"VLM jour"]
[{"$f":"Congé!E32","v":0},{"$f":"Congé!F32","v":0},"","","","","","","","","","","12h",{"$nulls":3},0,0,0,null,0,0,0]
[{"$f":"Congé!E33","v":5},{"$f":"Congé!F33","v":"DECITRE"},{"$f":"IF($A33=C$5,\"12h\",IF($A33=\"\",\"\",\"\"))","v":""},{"$f":"IF($A33=D$5,\"12h\",IF($A33=\"\",\"\",\"\"))","v":"12h"},{"$f":"IF($A33=E$5,\"12h\",IF($A33=\"\",\"\",\"\"))","v":""},"","","","","","","","",null,null,"AA",0,0,0,"AT",0,0,0,"VLM nuit"]
[{"$f":"Congé!E34","v":4},{"$f":"Congé!F34","v":"EON"},"MUT","MUT","MUT","MUT","MUT","MUT","MUT","MUT","MUT","MUT","",{"$nulls":3},0,0,0,null,0,0,0]
[{"$f":"Congé!E35","v":6},{"$f":"Congé!F35","v":"DIOLOGENT"},{"$f":"IF($A35=C$5,\"12h\",IF($A35=\"\",\"\",\"\"))","v":""},"","12h","","","","","","","","",null,null,"AAJ",0,0,0,"TP",0,0,0,"PCJ"]
[{"$f":"Congé!E36","v":7},{"$f":"Congé!F36","v":"GUEROULT"},"","","","12h","","","","","","","",null,null,"CM",0,0,0,"SHR",0,0,0,"PCN"]
[{"$f":"Congé!E37","v":1},{"$f":"Congé!F37","v":"SALMI"},"","","","","","","","12h","","","",null,null,"AT",0,0,0,"MUT",0,0,1,"PC 24"]
[{"$f":"Congé!E38","v":7},{"$f":"Congé!F38","v":"DYLIK"},"","","","12h","","","","","","","",null,null,"TP",0,0,0,"12h",1,1,2]
[{"$nulls":16},0,0,0,null,0,0,0]
[{"$f":"Congé!E40","v":9},{"$f":"Congé!F40","v":"MONTALEGRE"},"","","","","","12h","","","","","",null,null,"USSH",0,0,0,"CAN covid",0,0,0]
[{"$f":"Congé!E41","v":9},{"$f":"Congé!F41","v":"SERANO G"},"","","","","","12h","","","","","",null,null,"MUT",0,0,1,"USSH",0,0,0]
[{"$f":"Congé!E42","v":7},{"$f":"Congé!F42","v":"LANCIAL"},"","","","12h","","","","","","","",null,null,"ST 12h",0,0,0,null,0,0,0]
[{"$f":"Congé!E43","v":8},{"$f":"Congé!F43","v":"MOURCIA"},"","","","","12h","","","","","","",null,null,"CE 12h",0,0,0,null,0,0,0]
[{"$f":"Congé!E44","v":2},{"$f":"Congé!F44","v":"GILSON"},"","","","","","","","","12h","","",null,null,"CP 12h",0,0,0,null,0,0,0]
[{"$f":"Congé!E45","v":0},{"$f":"Congé!F45","v":0},"","","","","","","","","","","12h",{"$nulls":3},{"$f":"COUNTIF(INDIRECT(Q$2),$P46)","v":0},0,0,null,0,0,0]
[{"$f":"Congé!E46","v":5},{"$f":"Congé!F46","v":"PERINO"},"","12h","","","","","","","","","",null,null,"AA 12h",0,0,0,null,0,0,0]
[{"$f":"Congé!E47","v":10},{"$f":"Congé!F47","v":"LUPI"},"","","","","","","12h","","","","",null,null,"AT 12h",0,0,0,null,0,0,0]
[{"$f":"Congé!E48","v":4},{"$f":"Congé!F48","v":"ROOS"},"12h","","","","","","","","","","",null,null,"RPM 12h",{"$f":"COUNTIF(INDIRECT(Q$2),#REF!)","v":0},{"$f":"COUNTIF(INDIRECT(R$2),#REF!)","v":0},{"$f":"COUNTIF(INDIRECT(S$2),#REF!)","v":0},null,0,0,0]
[{"$f":"Congé!E49","v":1},{"$f":"Congé!F49","v":"VALERIAN"},"","","","","","","","12h","","",""]
[{"$f":"Congé!E50","v":3},{"$f":"Congé!F50","v":"ROUSTAN"},"","","","","","","","","","12h",""]
[{"$f":"Congé!E51","v":1},{"$f":"Congé!F51","v":"WENGER"},"","","","","","","","12h","","","",null,null,"CAJ covid",{"$f":"COUNTIF(INDIRECT(Q$2),#REF!)","v":0},{"$f":"COUNTIF(INDIRECT(R$2),#REF!)","v":0},{"$f":"COUNTIF(INDIRECT(S$2),#REF!)","v":0},null,0,0,0]
[{"$f":"Congé!E52","v":8},{"$f":"Congé!F52","v":"LHERBIER"},"","","","","12h","","","","","","",null,null,"CA ops"]
[]
[null,"CA Jour",{"$f":"COUNTIF(C9:C52,\"CA\")+COUNTIF(C9:C52,\"CAJ*\")+COUNTIF(C9:C52,\"RPM\")","v":0},{"$f":"COUNTIF(D9:D52,\"CA\")+COUNTIF(D9:D52,\"CAJ*\")+COUNTIF(D9:D52,\"RPM\")","v":0},0,0,1,1,0,0,0,0,0]
[null,"Absence jour",{"$f":"SUM(C75:C77)+C81+SUM(C82:C88)+SUM(C92:C102)+C54","v":1},{"$f":"SUM(D75:D77)+D81+SUM(D82:D88)+SUM(D92:D102)+D54","v":1},1,1,2,2,1,1,1,1,0]
[null,"CA Nuit",{"$f":"COUNTIF(C9:C52,\"CA\")+COUNTIF(C9:C52,\"*CAN\")+COUNTIF(C9:C52,\"RPM\")","v":0},{"$f":"COUNTIF(D9:D52,\"CA\")+COUNTIF(D9:D52,\"*CAN\")+COUNTIF(D9:D52,\"RPM\")","v":0},0,0,1,1,0,0,0,0,0]
[null,"Absence Nuit",{"$f":"SUM(C67:C69)+C72+SUM(C89:C102)+C56","v":1},{"$f":"SUM(D67:D69)+D72+SUM(D89:D102)+D56","v":1},1,1,2,2,1,1,1,1,0]
[]
[null,"Nombre de 12h",{"$f":"COUNTIF(C9:C52,\"*12h\")","v":3},{"$f":"COUNTIF(D9:D52,\"*12h\")","v":3},3,4,4,4,4,4,3,4,4]
[{"$nulls":15},"CA"]
[null,"Nbre de pro jour",{"$f":"Congé!$E$54-C55","v":36},{"$f":"Congé!$E$54-D55","v":36},{"$f":"Congé!$E$54-E55","v":36},{"$f":"Congé!$E$54-F55","v":36},{"$f":"Congé!$E$54-G55","v":35},{"$f":"Congé!$E$54-H55","v":35},{"$f":"Congé!$E$54-I55","v":36},{"$f":"Congé!$E$54-J55","v":36},{"$f":"Congé!$E$54-K55","v":36},{"$f":"Congé!$E$54-L55","v":36},{"$f":"Congé!$E$54-M55","v":37},null,null,"CAN"]
[null,"Nbre de pro nuit",{"$f":"Congé!$E$54-C57-C59","v":33},{"$f":"Congé!$E$54-D57-D59","v":33},{"$f":"Congé!$E$54-E57-E59","v":33},{"$f":"Congé!$E$54-F57-F59","v":32},{"$f":"Congé!$E$54-G57-G59","v":31},{"$f":"Congé!$E$54-H57-H59","v":31},{"$f":"Congé!$E$54-I57-I59","v":32},{"$f":"Congé!$E$54-J57-J59","v":32},{"$f":"Congé!$E$54-K57-K59","v":33},{"$f":"Congé!$E$54-L57-L59","v":32},{"$f":"Congé!$E$54-M57-M59","v":33},null,null,"Feu/CAN"]
[{"$nulls":15},"V/CAN"]
[null,"CA",{"$f":"COUNTIF(C$9:C$52,$B64)","v":0},{"$f":"COUNTIF(D$9:D$52,$B64)","v":0},0,0,1,1,0,0,0,0,0,null,null,"PCJ/CAN"]
[null,"RPM",{"$f":"COUNTIF(C$9:C$52,$B65)","v":0},0,0,0,0,0,0,0,0,0,0,null,null,"STJ/CAN"]
[null,"CAJ",0,0,0,0,0,0,0,0,0,0,0,null,null,"CEJ/CAN"]
[null,"CAJ/AAN",0,0,0,0,0,0,0,0,0,0,0,null,null,"AAJ/CAN"]
[null,"CAJ/CEN",0,0,0,0,0,0,0,0,0,0,0,null,null,"CPJ/CAN"]
[null,"CAJ/CPN",0,0,0,0,0,0,0,0,0,0,0,null,null,"CAJ/STN"]
[null,"CAJ/Feu",0,0,0,0,0,0,0,0,0,0,0,null,null,"CAJ/CEN"]
[null,"CAJ/PCN",0,0,0,0,0,0,0,0,0,0,0,null,null,"CAJ/AAN"]
[null,"CAJ/STN",0,0,0,0,0,0,0,0,0,0,0,null,null,"CAJ/CPN"]
[null,"CAJ/V",0,0,0,0,0,0,0,0,0,0,0,null,null,"RPM"]
[null,"CAN",0,0,0,0,0,0,0,0,0,0,0,null,null,"ST"]
[null,"AAJ/CAN",0,0,0,0,0,0,0,0,0,0,0,null,null,"STN"]
[null,"CEJ/CAN",0,0,0,0,0,0,0,0,0,0,0,null,null,"CE"]
[null,"CPJ/CAN",0,0,0,0,0,0,0,0,0,0,0,null,null,"CEN"]
[null,"Feu/CAN",0,0,0,0,0,0,0,0,0,0,0,null,null,"CEJ/CPN"]
[null,"PCJ/CAN",0,0,0,0,0,0,0,0,0,0,0,null,null,"CP"]
[null,"V/CAN",0,0,0,0,0,0,0,0,0,0,0,null,null,"CPN"]
[null,"STJ/CAN",0,0,0,0,0,0,0,0,0,0,0,null,null,"AA"]
[null,"AAJ",0,0,0,0,0,0,0,0,0,0,0,null,null,"AAN"]
[null,"CEJ",0,0,0,0,0,0,0,0,0,0,0,null,null,"CM"]
[null,"CPJ",0,0,0,0,0,0,0,0,0,0,0,null,null,"AT"]
[null,"STJ",0,0,0,0,0,0,0,0,0,0,0,null,null,"TP"]
[null,"STJ/Feu",0,0,0,0,0,0,0,0,0,0,0,null,null,"SHR"]
[null,"STJ/PCN",0,0,0,0,0,0,0,0,0,0,0,null,null,"MUT"]
[null,"STJ/V",0,0,0,0,0,0,0,0,0,0,0,null,null,"12h"]
[null,"AAN",0,0,0,0,0,0,0,0,0,0,0,null,null,"CAN covid"]
[null,"CEN",0,0,0,0,0,0,0,0,0,0,0,null,null,"USSH"]
[null,"CPN",0,0,0,0,0,0,0,0,0,0,0,null,null,"CG"]
[null,"STN",0,0,0,0,0,0,0,0,0,0,0,null,null,"CDG"]
[null,"CE",0,0,0,0,0,0,0,0,0,0,0,null,null,"VPUa"]
[null,"CEJ/CPN",0,0,0,0,0,0,0,0,0,0,0,null,null,"VPU"]
[null,"CM",0,0,0,0,0,0,0,0,0,0,0,null,null,"VPUc"]
[null,"CP",0,0,0,0,0,0,0,0,0,0,0,null,null,"FPTa"]
[null,"TP",0,0,0,0,0,0,0,0,0,0,0,null,null,"FPT"]
[null,"ST",0,0,0,0,0,0,0,0,0,0,0,null,null,"FPTc"]
[null,"SHR",0,0,0,0,0,0,0,0,0,0,0,null,null,"EPSa"]
[null,"MUT",1,1,1,1,1,1,1,1,1,1,0,null,null,"EPSc"]
[null,"AA",0,0,0,0,0,0,0,0,0,{"$f":"COUNTIF(L$9:L$52,$B101)","v":0},{"$f":"COUNTIF(M$9:M$52,$B101)","v":0},null,null,"EPS"]
[null,"AT",{"$f":"COUNTIF(C$9:C$52,$B102)","v":0},0,0,0,0,0,0,0,0,0,0,null,null,"VSRa"]
[{"$nulls":15},"VSRc"]
[{"$nulls":15},"VSR"]
[{"$nulls":15},"EVa"]
[{"$nulls":15},"Evc"]
[{"$nulls":15},"EV"]
[{"$nulls":15},"VID"]
[{"$nulls":15},"VSAV 24h"]
[{"$nulls":15},"VSAV jour"]
[{"$nulls":15},"VSAV nuit"]
[{"$nulls":15},"VLM 24h"]
[{"$nulls":15},"VLM jour"]
[{"$nulls":15},"VLM nuit"]
[{"$nulls":15},"PCJ"]
[{"$nulls":15},"PCN"]
[{"$nulls":15},"PC 24"]
[{"$nulls":15},"CG 12h"]
[{"$nulls":15},"CDG 12h"]
[{"$nulls":15},"VPUa 12h"]
[{"$nulls":15},"VPU 12h"]
[{"$nulls":15},"VPUc 12h"]
[{"$nulls":15},"FPTa 12h"]
[{"$nulls":15},"FPT 12h"]
[{"$nulls":15},"FPTc 12h"]
[{"$nulls":15},"EPSa 12h"]
[{"$nulls":15},"EPSc 12h"]
[{"$nulls":15},"EPS 12h"]
[{"$nulls":15},"VSRa 12h"]
[{"$nulls":15},"VSRc 12h"]
[{"$nulls":15},"VSR 12h"]
[{"$nulls":15},"Eva 12h"]
[{"$nulls":15},"Evc 12h"]
[{"$nulls":15},"EV 12h"]
[{"$nulls":15},"VID 12h"]
[{"$nulls":15},"VSAV 12h"]
[{"$nulls":15},"VLM 12h"]
[{"$nulls":15},"PC 12h"]

{"sheet":"Octobre","index":10,"n_rows":138,"n_cols":30,"rows_kept":138,"merged":[[0,23,2,23],[0,24,2,24],[0,26,0,27],[1,26,1,27],[4,0,4,1]]}
[null,null,"2020-09-30",{"$nulls":4},"2020-10-15","2020-10-18","2020-10-21","2020-10-24","2020-10-27","2018-01-31",{"$nulls":3},{"$f":"SUM(Q3:Q51)","v":2},{"$f":"SUM(R3:R51)","v":3},{"$f":"SUM(S3:S51)","v":1},null,{"$f":"SUM(U3:U51)","v":2},{"$f":"SUM(V3:V51)","v":3},{"$f":"SUM(W3:W51)","v":4},"Fonctions    24h","Fonctions 12h",null,"Nombre de CA maxi",null,{"$f":"Congé!M23","v":12}]
[{"$nulls":6},{"$f":"RIGHT(CELL(\"nomfichier\",G2),LEN(CELL(\"nomfichier\",G2))-SEARCH(\"]\",CELL(\"nomfichier\",G2)))","v":"Octobre"},{"$nulls":6},"12h",null,"Absence jour","F8:F13","F8:F21","F21:F39","Absence nuit","F8:F13","F8:F21","F21:F39",null,null,"CA","Nombre de 12h maxi",null,{"$f":"Congé!M24","v":5}]
[null,null,3,6,9,12,15,18,21,24,27,30,null,"12h",null,"CA",{"$f":"COUNTIF(INDIRECT(Q$2),$P3)","v":2},{"$f":"COUNTIF(INDIRECT(R$2),$P3)","v":3},{"$f":"COUNTIF(INDIRECT(S$2),$P3)","v":0},"CA",{"$f":"COUNTIF(INDIRECT(U$2),$T3)","v":2},{"$f":"COUNTIF(INDIRECT(V$2),$T3)","v":3},{"$f":"COUNTIF(INDIRECT(W$2),$T3)","v":0},null,null,"CAJ",null,"Nbre","Présence mini","Absence maxi"]
[null,null,"SAM.","MAR.","VEN.","LUN.","JEU.","DIM.","MER.","SAM.","MAR.","VEN.",{"$nulls":3},"CAJ",{"$f":"COUNTIF(INDIRECT(Q$2),$P4)","v":0},0,0,"CAN",{"$f":"COUNTIF(INDIRECT(U$2),$T4)","v":0},0,0,"CG","CG 12h","CAN","SOG",{"$f":"Congé!L26","v":3},{"$f":"Congé!M26","v":1},{"$f":"Congé!N26","v":2}]
["Equipes",null,4,5,6,7,8,9,10,1,2,3,{"$nulls":3},"CAJ/Feu",0,0,0,"Feu/CAN",0,0,0,"CDG","CDG 12h","CAJ/Feu","INC2",{"$f":"Congé!L27","v":7},{"$f":"Congé!M27","v":3},{"$f":"Congé!N27","v":4}]
[{"$f":"Congé!E6","v":1},{"$f":"Congé!F6","v":"MATEO"},{"$f":"IF($A6=C$5,\"12h\",IF($A6=\"\",\"\",\"\"))","v":""},"","","CA","","","","12h","","","",null,null,"CAJ/V",0,0,0,"V/CAN",0,0,0,"VPUa","VPUa 12h","Feu/CAN","INC1",{"$f":"Congé!L28","v":15},{"$f":"Congé!M28","v":5},{"$f":"Congé!N28","v":10}]
[{"$f":"Congé!E7","v":9},{"$f":"Congé!F7","v":"BARREAU"},"","","","","","12h","","","","","",null,null,"CAJ/PCN",0,0,0,"PCJ/CAN",0,0,0,"VPU","VPU 12h","CAJ/V"]
[{"$nulls":16},0,0,0,null,0,0,0]
[{"$f":"Congé!E9","v":10},{"$f":"Congé!F9","v":"CARTIER"},{"$f":"IF($A9=C$5,\"12h\",IF($A9=\"\",\"\",\"\"))","v":""},"","","CA","","","12h","","","","",null,null,"CAJ/STN",0,0,0,"STJ/CAN",0,0,0,"VPUc","VPUc 12h","V/CAN"]
[{"$f":"Congé!E10","v":4},{"$f":"Congé!F10","v":"CARTAUT"},"12h","","","CA","","","","","","","",null,null,"CAJ/CEN",0,0,0,"CEJ/CAN",0,0,0,"FPTa","FPTa 12h","PCJ/CAN"]
[{"$f":"Congé!E11","v":0},{"$f":"Congé!F11","v":0},"","","",{"$nulls":5},"","","12h",{"$nulls":3},0,0,0,null,0,0,0]
[{"$f":"Congé!E12","v":3},{"$f":"Congé!F12","v":"HUGUES"},"","","",null,"","","","","","12h",{"$nulls":3},"CAJ/AAN",0,0,0,"AAJ/CAN",0,0,0,"FPT","FPT 12h","CAJ/PCN"]
[{"$nulls":16},0,0,0,null,0,0,0]
[{"$f":"Congé!E14","v":8},{"$f":"Congé!F14","v":"SELLES"},{"$f":"IF($A14=C$5,\"12h\",IF($A14=\"\",\"\",\"\"))","v":""},"","","","12h","","","","","","",null,null,"CAJ/CPN",0,0,0,"CPJ/CAN",0,0,0,"FPTc","FPTc 12h","CAJ/STN"]
[{"$f":"Congé!E15","v":9},{"$f":"Congé!F15","v":"MASSELIN"},"","","","CA","","12h","","","","","",null,null,"STJ/CAN",0,0,0,"CAJ/STN",0,0,0,"EPSa","EPSa 12h","STJ/CAN"]
[{"$f":"Congé!E16","v":0},{"$f":"Congé!F16","v":0},"","","","","","","","","","","12h",{"$nulls":3},0,0,0,null,0,0,0]
[{"$f":"Congé!E17","v":1},{"$f":"Congé!F17","v":"MALET"},"","","",null,"","","","12h","","","",null,null,"CEJ/CAN",0,0,0,"CAJ/CEN",0,0,0,"EPSc","EPSc 12h","CAJ/CEN"]
[{"$f":"Congé!E18","v":2},{"$f":"Congé!F18","v":"REY F"},"","","","","","","","","12h","","",null,null,"AAJ/CAN",0,0,0,"CAJ/AAN",0,0,0,"EPS","EPS 12h","CEJ/CAN"]
[{"$f":"Congé!E19","v":6},{"$f":"Congé!F19","v":"LUBRANO"},"","","12h","","","","","","","",{"$nulls":3},"CPJ/CAN",0,0,0,"CAJ/CPN",0,0,0,"VSRa","VSRa 12h","CAJ/AAN"]
[{"$f":"Congé!E20","v":5},{"$f":"Congé!F20","v":"NORMAND"},"","12h","","","","","","","","",{"$nulls":3},"RPM",0,0,0,"RPM",0,0,0,"VSRc","VSRc 12h","AAJ/CAN"]
[{"$nulls":16},0,0,0,null,0,0,0]
[{"$f":"Congé!E22","v":9},{"$f":"Congé!F22","v":"ROSTAND"},{"$f":"IF($A22=C$5,\"12h\",IF($A22=\"\",\"\",\"\"))","v":""},"","","","","12h","","","","","",null,null,"ST",0,0,0,"ST",0,0,0,"VSR","VSR 12h","CAJ/CPN"]
[{"$f":"Congé!E23","v":6},{"$f":"Congé!F23","v":"LAURENT J"},"","","12h","","","","","","","","",null,null,"STJ/Feu",0,0,0,"STN",0,0,0,"EVa","Eva 12h","CPJ/CAN"]
[{"$f":"Congé!E24","v":10},{"$f":"Congé!F24","v":"BALLESTER"},"","","","","","","12h","","","","",null,null,"STJ/V",0,0,0,"CE",0,0,0,"Evc","Evc 12h"]
[{"$f":"Congé!E25","v":7},{"$f":"Congé!F25","v":"GRIMM"},"","","","12h","","","","","","","",null,null,"STJ/PCN",0,0,0,"CEN",0,0,0,"EV","EV 12h"]
[{"$f":"Congé!E26","v":3},{"$f":"Congé!F26","v":"ORIOL"},"","","","","CA","","","","","12h","",null,null,"STJ",0,0,0,"CEJ/CPN",0,0,0,"VID","VID 12h"]
[{"$f":"Congé!E27","v":10},{"$f":"Congé!F27","v":"DEPRAD"},"","","","","","","12h","","","","",null,null,"CE",0,0,0,"CP",0,0,0,"VSAV 24h","VSAV 12h"]
[{"$f":"Congé!E28","v":4},{"$f":"Congé!F28","v":"FLORES"},"12h","","","","","","","","","","",null,null,"CEJ",0,0,0,"CPN",0,0,0,"VSAV jour","VLM 12h"]
[{"$f":"Congé!E29","v":2},{"$f":"Congé!F29","v":"FIGUEIRINHA"},"","","","","","","","","12h","","",null,null,"CEJ/CPN",0,0,0,"AA",0,0,0,"VSAV nuit","PC 12h"]
[{"$f":"Congé!E30","v":8},{"$f":"Congé!F30","v":"HEURTEBISE"},"","","","","12h","","","","","","",null,null,"CP",0,0,0,"AAN",0,0,0,"VLM 24h"]
[{"$f":"Congé!E31","v":3},{"$f":"Congé!F31","v":"BLANCHARD"},"","","","","","","","","","12h","",null,null,"CPJ",0,0,0,"CM",0,0,0,"VLM jour"]
[{"$f":"Congé!E32","v":0},{"$f":"Congé!F32","v":0},"","","","","","","","","","","12h",{"$nulls":3},0,0,0,null,0,0,0]
[{"$f":"Congé!E33","v":5},{"$f":"Congé!F33","v":"DECITRE"},{"$f":"IF($A33=C$5,\"12h\",IF($A33=\"\",\"\",\"\"))","v":""},{"$f":"IF($A33=D$5,\"12h\",IF($A33=\"\",\"\",\"\"))","v":"12h"},{"$f":"IF($A33=E$5,\"12h\",IF($A33=\"\",\"\",\"\"))","v":""},"","","","","","","","",null,null,"AA",0,0,0,"AT",0,0,0,"VLM nuit"]
[{"$f":"Congé!E34","v":4},{"$f":"Congé!F34","v":"EON"},"MUT","MUT","MUT","MUT","MUT","MUT","MUT","MUT","MUT","MUT","",{"$nulls":3},0,0,0,null,0,0,0]
[{"$f":"Congé!E35","v":6},{"$f":"Congé!F35","v":"DIOLOGENT"},{"$f":"IF($A35=C$5,\"12h\",IF($A35=\"\",\"\",\"\"))","v":""},"","12h","","CA","","","","","","",null,null,"AAJ",0,0,0,"TP",0,0,0,"PCJ"]
[{"$f":"Congé!E36","v":7},{"$f":"Congé!F36","v":"GUEROULT"},"","","","12h","","","","","","","",null,null,"CM",0,0,0,"SHR",0,0,0,"PCN"]
[{"$f":"Congé!E37","v":1},{"$f":"Congé!F37","v":"SALMI"},"","","","","","","","12h","","","",null,null,"AT",0,0,0,"MUT",0,0,1,"PC 24"]
[{"$f":"Congé!E38","v":7},{"$f":"Congé!F38","v":"DYLIK"},"","","","12h","","","","","","","",null,null,"TP",0,0,0,"12h",0,0,3]
[{"$nulls":16},0,0,0,null,0,0,0]
[{"$f":"Congé!E40","v":9},{"$f":"Congé!F40","v":"MONTALEGRE"},"","","","","","12h","","","","","",null,null,"USSH",0,0,0,"CAN covid",0,0,0]
[{"$f":"Congé!E41","v":9},{"$f":"Congé!F41","v":"SERANO G"},"","","","","","12h","","","","","",null,null,"MUT",0,0,1,"USSH",0,0,0]
[{"$f":"Congé!E42","v":7},{"$f":"Congé!F42","v":"LANCIAL"},"","","","12h","","","","","","","",null,null,"ST 12h",0,0,0,null,0,0,0]
[{"$f":"Congé!E43","v":8},{"$f":"Congé!F43","v":"MOURCIA"},"","","","","12h","","","","","","",null,null,"CE 12h",0,0,0,null,0,0,0]
[{"$f":"Congé!E44","v":2},{"$f":"Congé!F44","v":"GILSON"},"","","","","","","","","12h","","",null,null,"CP 12h",0,0,0,null,0,0,0]
[{"$f":"Congé!E45","v":0},{"$f":"Congé!F45","v":0},"","","","","","","","","","","12h",{"$nulls":3},{"$f":"COUNTIF(INDIRECT(Q$2),$P46)","v":0},0,0,null,0,0,0]
[{"$f":"Congé!E46","v":5},{"$f":"Congé!F46","v":"PERINO"},"","12h","","","","","","","","","",null,null,"AA 12h",0,0,0,null,0,0,0]
[{"$f":"Congé!E47","v":10},{"$f":"Congé!F47","v":"LUPI"},"","","","","","","12h","","","","",null,null,"AT 12h",0,0,0,null,0,0,0]
[{"$f":"Congé!E48","v":4},{"$f":"Congé!F48","v":"ROOS"},"12h","","","","","","","","","","",null,null,"RPM 12h",{"$f":"COUNTIF(INDIRECT(Q$2),#REF!)","v":0},{"$f":"COUNTIF(INDIRECT(R$2),#REF!)","v":0},{"$f":"COUNTIF(INDIRECT(S$2),#REF!)","v":0},null,0,0,0]
[{"$f":"Congé!E49","v":1},{"$f":"Congé!F49","v":"VALERIAN"},"","","","","","","","12h","","",""]
[{"$f":"Congé!E50","v":3},{"$f":"Congé!F50","v":"ROUSTAN"},"","","","","","","","","","12h",""]
[{"$f":"Congé!E51","v":1},{"$f":"Congé!F51","v":"WENGER"},"","","","","","","","12h","","","",null,null,"CAJ covid",{"$f":"COUNTIF(INDIRECT(Q$2),#REF!)","v":0},{"$f":"COUNTIF(INDIRECT(R$2),#REF!)","v":0},{"$f":"COUNTIF(INDIRECT(S$2),#REF!)","v":0},null,0,0,0]
[{"$f":"Congé!E52","v":8},{"$f":"Congé!F52","v":"LHERBIER"},"","","","","12h","","","","","","",null,null,"CA ops"]
[]
[null,"CA Jour",{"$f":"COUNTIF(C9:C52,\"CA\")+COUNTIF(C9:C52,\"CAJ*\")+COUNTIF(C9:C52,\"RPM\")","v":0},{"$f":"COUNTIF(D9:D52,\"CA\")+COUNTIF(D9:D52,\"CAJ*\")+COUNTIF(D9:D52,\"RPM\")","v":0},0,3,2,0,0,0,0,0,0]
[null,"Absence jour",{"$f":"SUM(C75:C77)+C81+SUM(C82:C88)+SUM(C92:C102)+C54","v":1},{"$f":"SUM(D75:D77)+D81+SUM(D82:D88)+SUM(D92:D102)+D54","v":1},1,4,3,1,1,1,1,1,0]
[null,"CA Nuit",{"$f":"COUNTIF(C9:C52,\"CA\")+COUNTIF(C9:C52,\"*CAN\")+COUNTIF(C9:C52,\"RPM\")","v":0},{"$f":"COUNTIF(D9:D52,\"CA\")+COUNTIF(D9:D52,\"*CAN\")+COUNTIF(D9:D52,\"RPM\")","v":0},0,3,2,0,0,0,0,0,0]
[null,"Absence Nuit",{"$f":"SUM(C67:C69)+C72+SUM(C89:C102)+C56","v":1},{"$f":"SUM(D67:D69)+D72+SUM(D89:D102)+D56","v":1},1,4,3,1,1,1,1,1,0]
[]
[null,"Nombre de 12h",{"$f":"COUNTIF(C9:C52,\"*12h\")","v":3},{"$f":"COUNTIF(D9:D52,\"*12h\")","v":3},3,4,4,4,4,4,3,4,4]
[{"$nulls":15},"CA"]
[null,"Nbre de pro jour",{"$f":"Congé!$E$54-C55","v":36},{"$f":"Congé!$E$54-D55","v":36},{"$f":"Congé!$E$54-E55","v":36},{"$f":"Congé!$E$54-F55","v":33},{"$f":"Congé!$E$54-G55","v":34},{"$f":"Congé!$E$54-H55","v":36},{"$f":"Congé!$E$54-I55","v":36},{"$f":"Congé!$E$54-J55","v":36},{"$f":"Congé!$E$54-K55","v":36},{"$f":"Congé!$E$54-L55","v":36},{"$f":"Congé!$E$54-M55","v":37},null,null,"CAN"]
[null,"Nbre de pro nuit",{"$f":"Congé!$E$54-C57-C59","v":33},{"$f":"Congé!$E$54-D57-D59","v":33},{"$f":"Congé!$E$54-E57-E59","v":33},{"$f":"Congé!$E$54-F57-F59","v":29},{"$f":"Congé!$E$54-G57-G59","v":30},{"$f":"Congé!$E$54-H57-H59","v":32},{"$f":"Congé!$E$54-I57-I59","v":32},{"$f":"Congé!$E$54-J57-J59","v":32},{"$f":"Congé!$E$54-K57-K59","v":33},{"$f":"Congé!$E$54-L57-L59","v":32},{"$f":"Congé!$E$54-M57-M59","v":33},null,null,"Feu/CAN"]
[{"$nulls":15},"V/CAN"]
[null,"CA",{"$f":"COUNTIF(C$9:C$52,$B64)","v":0},{"$f":"COUNTIF(D$9:D$52,$B64)","v":0},0,3,2,0,0,0,0,0,0,null,null,"PCJ/CAN"]
[null,"RPM",{"$f":"COUNTIF(C$9:C$52,$B65)","v":0},0,0,0,0,0,0,0,0,0,0,null,null,"STJ/CAN"]
[null,"CAJ",0,0,0,0,0,0,0,0,0,0,0,null,null,"CEJ/CAN"]
[null,"CAJ/AAN",0,0,0,0,0,0,0,0,0,0,0,null,null,"AAJ/CAN"]
[null,"CAJ/CEN",0,0,0,0,0,0,0,0,0,0,0,null,null,"CPJ/CAN"]
[null,"CAJ/CPN",0,0,0,0,0,0,0,0,0,0,0,null,null,"CAJ/STN"]
[null,"CAJ/Feu",0,0,0,0,0,0,0,0,0,0,0,null,null,"CAJ/CEN"]
[null,"CAJ/PCN",0,0,0,0,0,0,0,0,0,0,0,null,null,"CAJ/AAN"]
[null,"CAJ/STN",0,0,0,0,0,0,0,0,0,0,0,null,null,"CAJ/CPN"]
[null,"CAJ/V",0,0,0,0,0,0,0,0,0,0,0,null,null,"RPM"]
[null,"CAN",0,0,0,0,0,0,0,0,0,0,0,null,null,"ST"]
[null,"AAJ/CAN",0,0,0,0,0,0,0,0,0,0,0,null,null,"STN"]
[null,"CEJ/CAN",0,0,0,0,0,0,0,0,0,0,0,null,null,"CE"]
[null,"CPJ/CAN",0,0,0,0,0,0,0,0,0,0,0,null,null,"CEN"]
[null,"Feu/CAN",0,0,0,0,0,0,0,0,0,0,0,null,null,"CEJ/CPN"]
[null,"PCJ/CAN",0,0,0,0,0,0,0,0,0,0,0,null,null,"CP"]
[null,"V/CAN",0,0,0,0,0,0,0,0,0,0,0,null,null,"CPN"]
[null,"STJ/CAN",0,0,0,0,0,0,0,0,0,0,0,null,null,"AA"]
[null,"AAJ",0,0,0,0,0,0,0,0,0,0,0,null,null,"AAN"]
[null,"CEJ",0,0,0,0,0,0,0,0,0,0,0,null,null,"CM"]
[null,"CPJ",0,0,0,0,0,0,0,0,0,0,0,null,null,"AT"]
[null,"STJ",0,0,0,0,0,0,0,0,0,0,0,null,null,"TP"]
[null,"STJ/Feu",0,0,0,0,0,0,0,0,0,0,0,null,null,"SHR"]
[null,"STJ/PCN",0,0,0,0,0,0,0,0,0,0,0,null,null,"MUT"]
[null,"STJ/V",0,0,0,0,0,0,0,0,0,0,0,null,null,"12h"]
[null,"AAN",0,0,0,0,0,0,0,0,0,0,0,null,null,"CAN covid"]
[null,"CEN",0,0,0,0,0,0,0,0,0,0,0,null,null,"USSH"]
[null,"CPN",0,0,0,0,0,0,0,0,0,0,0,null,null,"CG"]
[null,"STN",0,0,0,0,0,0,0,0,0,0,0,null,null,"CDG"]
[null,"CE",0,0,0,0,0,0,0,0,0,0,0,null,null,"VPUa"]
[null,"CEJ/CPN",0,0,0,0,0,0,0,0,0,0,0,null,null,"VPU"]
[null,"CM",0,0,0,0,0,0,0,0,0,0,0,null,null,"VPUc"]
[null,"CP",0,0,0,0,0,0,0,0,0,0,0,null,null,"FPTa"]
[null,"TP",0,0,0,0,0,0,0,0,0,0,0,null,null,"FPT"]
[null,"ST",0,0,0,0,0,0,0,0,0,0,0,null,null,"FPTc"]
[null,"SHR",0,0,0,0,0,0,0,0,0,0,0,null,null,"EPSa"]
[null,"MUT",1,1,1,1,1,1,1,1,1,1,0,null,null,"EPSc"]
[null,"AA",0,0,0,0,0,0,0,0,0,{"$f":"COUNTIF(L$9:L$52,$B101)","v":0},{"$f":"COUNTIF(M$9:M$52,$B101)","v":0},null,null,"EPS"]
[null,"AT",{"$f":"COUNTIF(C$9:C$52,$B102)","v":0},0,0,0,0,0,0,0,0,0,0,null,null,"VSRa"]
[{"$nulls":15},"VSRc"]
[{"$nulls":15},"VSR"]
[{"$nulls":15},"EVa"]
[{"$nulls":15},"Evc"]
[{"$nulls":15},"EV"]
[{"$nulls":15},"VID"]
[{"$nulls":15},"VSAV 24h"]
[{"$nulls":15},"VSAV jour"]
[{"$nulls":15},"VSAV nuit"]
[{"$nulls":15},"VLM 24h"]
[{"$nulls":15},"VLM jour"]
[{"$nulls":15},"VLM nuit"]
[{"$nulls":15},"PCJ"]
[{"$nulls":15},"PCN"]
[{"$nulls":15},"PC 24"]
[{"$nulls":15},"CG 12h"]
[{"$nulls":15},"CDG 12h"]
[{"$nulls":15},"VPUa 12h"]
[{"$nulls":15},"VPU 12h"]
[{"$nulls":15},"VPUc 12h"]
[{"$nulls":15},"FPTa 12h"]
[{"$nulls":15},"FPT 12h"]
[{"$nulls":15},"FPTc 12h"]
[{"$nulls":15},"EPSa 12h"]
[{"$nulls":15},"EPSc 12h"]
[{"$nulls":15},"EPS 12h"]
[{"$nulls":15},"VSRa 12h"]
[{"$nulls":15},"VSRc 12h"]
[{"$nulls":15},"VSR 12h"]
[{"$nulls":15},"Eva 12h"]
[{"$nulls":15},"Evc 12h"]
[{"$nulls":15},"EV 12h"]
[{"$nulls":15},"VID 12h"]
[{"$nulls":15},"VSAV 12h"]
[{"$nulls":15},"VLM 12h"]
[{"$nulls":15},"PC 12h"]

{"sheet":"Novembre","index":11,"n_rows":138,"n_cols":30,"rows_kept":138,"merged":[[0,23,2,23],[0,24,2,24],[0,26,0,27],[1,26,1,27],[4,0,4,1]]}
[{"$nulls":4},"2020-11-05","2020-11-08","2020-11-11",{"$nulls":4},"2020-11-26","2018-01-31",{"$nulls":3},{"$f":"SUM(Q3:Q51)","v":0},{"$f":"SUM(R3:R51)","v":0},{"$f":"SUM(S3:S51)","v":1},null,{"$f":"SUM(U3:U51)","v":1},{"$f":"SUM(V3:V51)","v":1},{"$f":"SUM(W3:W51)","v":3},"Fonctions    24h","Fonctions 12h",null,"Nombre de CA maxi",null,{"$f":"Congé!M23","v":12}]
[{"$nulls":6},{"$f":"RIGHT(CELL(\"nomfichier\",G2),LEN(CELL(\"nomfichier\",G2))-SEARCH(\"]\",CELL(\"nomfichier\",G2)))","v":"Novembre"},{"$nulls":6},"12h",null,"Absence jour","L9:L12","L9:L18","L22:L38","Absence nuit","L9:L12","L9:L18","L22:L38",null,null,"CA","Nombre de 12h maxi",null,{"$f":"Congé!M24","v":5}]
[null,null,2,5,8,11,14,17,20,23,26,29,null,"12h",null,"CA",{"$f":"COUNTIF(INDIRECT(Q$2),$P3)","v":0},{"$f":"COUNTIF(INDIRECT(R$2),$P3)","v":0},{"$f":"COUNTIF(INDIRECT(S$2),$P3)","v":0},"CA",{"$f":"COUNTIF(INDIRECT(U$2),$T3)","v":0},{"$f":"COUNTIF(INDIRECT(V$2),$T3)","v":0},{"$f":"COUNTIF(INDIRECT(W$2),$T3)","v":0},null,null,"CAJ",null,"Nbre","Présence mini","Absence maxi"]
[null,null,"LUN.","JEU.","DIM.","MER.","SAM.","MAR.","VEN.","LUN.","JEU.","DIM.",{"$nulls":3},"CAJ",{"$f":"COUNTIF(INDIRECT(Q$2),$P4)","v":0},0,0,"CAN",{"$f":"COUNTIF(INDIRECT(U$2),$T4)","v":0},0,0,"CG","CG 12h","CAN","SOG",{"$f":"Congé!L26","v":3},{"$f":"Congé!M26","v":1},{"$f":"Congé!N26","v":2}]
["Equipes",null,4,5,6,7,8,9,10,1,2,3,{"$nulls":3},"CAJ/Feu",0,0,0,"Feu/CAN",0,0,0,"CDG","CDG 12h","CAJ/Feu","INC2",{"$f":"Congé!L27","v":7},{"$f":"Congé!M27","v":3},{"$f":"Congé!N27","v":4}]
[{"$f":"Congé!E6","v":1},{"$f":"Congé!F6","v":"MATEO"},{"$f":"IF($A6=C$5,\"12h\",IF($A6=\"\",\"\",\"\"))","v":""},"","","","","","","12h","","","",null,null,"CAJ/V",0,0,0,"V/CAN",0,0,0,"VPUa","VPUa 12h","Feu/CAN","INC1",{"$f":"Congé!L28","v":15},{"$f":"Congé!M28","v":5},{"$f":"Congé!N28","v":10}]
[{"$f":"Congé!E7","v":9},{"$f":"Congé!F7","v":"BARREAU"},"","","","","","12h","","","","","",null,null,"CAJ/PCN",0,0,0,"PCJ/CAN",0,0,0,"VPU","VPU 12h","CAJ/V"]
[{"$nulls":16},0,0,0,null,0,0,0]
[{"$f":"Congé!E9","v":10},{"$f":"Congé!F9","v":"CARTIER"},{"$f":"IF($A9=C$5,\"12h\",IF($A9=\"\",\"\",\"\"))","v":""},"","","","","","12h","","","","",null,null,"CAJ/STN",0,0,0,"STJ/CAN",0,0,0,"VPUc","VPUc 12h","V/CAN"]
[{"$f":"Congé!E10","v":4},{"$f":"Congé!F10","v":"CARTAUT"},"12h","","","","","","","","","","",null,null,"CAJ/CEN",0,0,0,"CEJ/CAN",0,0,0,"FPTa","FPTa 12h","PCJ/CAN"]
[{"$f":"Congé!E11","v":0},{"$f":"Congé!F11","v":0},"","","",{"$nulls":5},"","","12h",{"$nulls":3},0,0,0,null,0,0,0]
[{"$f":"Congé!E12","v":3},{"$f":"Congé!F12","v":"HUGUES"},"","","","","","","","","","12h",{"$nulls":3},"CAJ/AAN",0,0,0,"AAJ/CAN",0,0,0,"FPT","FPT 12h","CAJ/PCN"]
[{"$nulls":16},0,0,0,null,0,0,0]
[{"$f":"Congé!E14","v":8},{"$f":"Congé!F14","v":"SELLES"},{"$f":"IF($A14=C$5,\"12h\",IF($A14=\"\",\"\",\"\"))","v":""},"","","","12h","","","","","","",null,null,"CAJ/CPN",0,0,0,"CPJ/CAN",0,0,0,"FPTc","FPTc 12h","CAJ/STN"]
[{"$f":"Congé!E15","v":9},{"$f":"Congé!F15","v":"MASSELIN"},"","","","","","12h","","","","","",null,null,"STJ/CAN",0,0,0,"CAJ/STN",0,0,0,"EPSa","EPSa 12h","STJ/CAN"]
[{"$f":"Congé!E16","v":0},{"$f":"Congé!F16","v":0},"","","","","","","","","","","12h",{"$nulls":3},0,0,0,null,0,0,0]
[{"$f":"Congé!E17","v":1},{"$f":"Congé!F17","v":"MALET"},"","","","","","","","12h","","","",null,null,"CEJ/CAN",0,0,0,"CAJ/CEN",0,0,0,"EPSc","EPSc 12h","CAJ/CEN"]
[{"$f":"Congé!E18","v":2},{"$f":"Congé!F18","v":"REY F"},"","","","","","","","","12h","","",null,null,"AAJ/CAN",0,0,0,"CAJ/AAN",0,0,0,"EPS","EPS 12h","CEJ/CAN"]
[{"$f":"Congé!E19","v":6},{"$f":"Congé!F19","v":"LUBRANO"},"","","12h","","","","","","","",{"$nulls":3},"CPJ/CAN",0,0,0,"CAJ/CPN",0,0,0,"VSRa","VSRa 12h","CAJ/AAN"]
[{"$f":"Congé!E20","v":5},{"$f":"Congé!F20","v":"NORMAND"},"","12h","","","","","","","","",{"$nulls":3},"RPM",0,0,0,"RPM",0,0,0,"VSRc","VSRc 12h","AAJ/CAN"]
[{"$nulls":16},0,0,0,null,0,0,0]
[{"$f":"Congé!E22","v":9},{"$f":"Congé!F22","v":"ROSTAND"},{"$f":"IF($A22=C$5,\"12h\",IF($A22=\"\",\"\",\"\"))","v":""},"","","","","12h","","","","","",null,null,"ST",0,0,0,"ST",0,0,0,"VSR","VSR 12h","CAJ/CPN"]
[{"$f":"Congé!E23","v":6},{"$f":"Congé!F23","v":"LAURENT J"},"","","12h","","","","","","","","",null,null,"STJ/Feu",0,0,0,"STN",0,0,0,"EVa","Eva 12h","CPJ/CAN"]
[{"$f":"Congé!E24","v":10},{"$f":"Congé!F24","v":"BALLESTER"},"","","","","","","12h","","","","",null,null,"STJ/V",0,0,0,"CE",0,0,0,"Evc","Evc 12h"]
[{"$f":"Congé!E25","v":7},{"$f":"Congé!F25","v":"GRIMM"},"","","","12h","","CA","CA","","","","",null,null,"STJ/PCN",0,0,0,"CEN",0,0,0,"EV","EV 12h"]
[{"$f":"Congé!E26","v":3},{"$f":"Congé!F26","v":"ORIOL"},"","","","","","","","","","12h","",null,null,"STJ",0,0,0,"CEJ/CPN",0,0,0,"VID","VID 12h"]
[{"$f":"Congé!E27","v":10},{"$f":"Congé!F27","v":"DEPRAD"},"","","","","","","12h","","","","",null,null,"CE",0,0,0,"CP",0,0,0,"VSAV 24h","VSAV 12h"]
[{"$f":"Congé!E28","v":4},{"$f":"Congé!F28","v":"FLORES"},"12h","","","","","","","","","","",null,null,"CEJ",0,0,0,"CPN",0,0,0,"VSAV jour","VLM 12h"]
[{"$f":"Congé!E29","v":2},{"$f":"Congé!F29","v":"FIGUEIRINHA"},"","","","","","","","","12h","","",null,null,"CEJ/CPN",0,0,0,"AA",0,0,0,"VSAV nuit","PC 12h"]
[{"$f":"Congé!E30","v":8},{"$f":"Congé!F30","v":"HEURTEBISE"},"","","","","12h","","","","","","",null,null,"CP",0,0,0,"AAN",0,0,0,"VLM 24h"]
[{"$f":"Congé!E31","v":3},{"$f":"Congé!F31","v":"BLANCHARD"},"","","","","","","","","","12h","",null,null,"CPJ",0,0,0,"CM",0,0,0,"VLM jour"]
[{"$f":"Congé!E32","v":0},{"$f":"Congé!F32","v":0},"","","","","","","","","","","12h",{"$nulls":3},0,0,0,null,0,0,0]
[{"$f":"Congé!E33","v":5},{"$f":"Congé!F33","v":"DECITRE"},{"$f":"IF($A33=C$5,\"12h\",IF($A33=\"\",\"\",\"\"))","v":""},{"$f":"IF($A33=D$5,\"12h\",IF($A33=\"\",\"\",\"\"))","v":"12h"},{"$f":"IF($A33=E$5,\"12h\",IF($A33=\"\",\"\",\"\"))","v":""},"","","","","","","","",null,null,"AA",0,0,0,"AT",0,0,0,"VLM nuit"]
[{"$f":"Congé!E34","v":4},{"$f":"Congé!F34","v":"EON"},"MUT","MUT","MUT","MUT","MUT","MUT","MUT","MUT","MUT","MUT","",{"$nulls":3},0,0,0,null,0,0,0]
[{"$f":"Congé!E35","v":6},{"$f":"Congé!F35","v":"DIOLOGENT"},{"$f":"IF($A35=C$5,\"12h\",IF($A35=\"\",\"\",\"\"))","v":""},"","12h","","","","","","","","",null,null,"AAJ",0,0,0,"TP",0,0,0,"PCJ"]
[{"$f":"Congé!E36","v":7},{"$f":"Congé!F36","v":"GUEROULT"},"","","","12h","","","","","","","",null,null,"CM",0,0,0,"SHR",0,0,0,"PCN"]
[{"$f":"Congé!E37","v":1},{"$f":"Congé!F37","v":"SALMI"},"","","","","","","","12h","","","",null,null,"AT",0,0,0,"MUT",0,0,1,"PC 24"]
[{"$f":"Congé!E38","v":7},{"$f":"Congé!F38","v":"DYLIK"},"","","","12h","","","","","","","",null,null,"TP",0,0,0,"12h",1,1,2]
[{"$nulls":16},0,0,0,null,0,0,0]
[{"$f":"Congé!E40","v":9},{"$f":"Congé!F40","v":"MONTALEGRE"},"","","","","","12h","","","","","",null,null,"USSH",0,0,0,"CAN covid",0,0,0]
[{"$f":"Congé!E41","v":9},{"$f":"Congé!F41","v":"SERANO G"},"","","","","","12h","","","","","",null,null,"MUT",0,0,1,"USSH",0,0,0]
[{"$f":"Congé!E42","v":7},{"$f":"Congé!F42","v":"LANCIAL"},"","","","12h","","","","","","","",null,null,"ST 12h",0,0,0,null,0,0,0]
[{"$f":"Congé!E43","v":8},{"$f":"Congé!F43","v":"MOURCIA"},"","","","","12h","","","","","","",null,null,"CE 12h",0,0,0,null,0,0,0]
[{"$f":"Congé!E44","v":2},{"$f":"Congé!F44","v":"GILSON"},"","","","","","","","","12h","","",null,null,"CP 12h",0,0,0,null,0,0,0]
[{"$f":"Congé!E45","v":0},{"$f":"Congé!F45","v":0},"","","","","","","","","","","12h",{"$nulls":3},{"$f":"COUNTIF(INDIRECT(Q$2),$P46)","v":0},0,0,null,0,0,0]
[{"$f":"Congé!E46","v":5},{"$f":"Congé!F46","v":"PERINO"},"","12h","","","","","","","","","",null,null,"AA 12h",0,0,0,null,0,0,0]
[{"$f":"Congé!E47","v":10},{"$f":"Congé!F47","v":"LUPI"},"","","","","","","12h","","","","",null,null,"AT 12h",0,0,0,null,0,0,0]
[{"$f":"Congé!E48","v":4},{"$f":"Congé!F48","v":"ROOS"},"12h","","","","","","","","","","",null,null,"RPM 12h",{"$f":"COUNTIF(INDIRECT(Q$2),#REF!)","v":0},{"$f":"COUNTIF(INDIRECT(R$2),#REF!)","v":0},{"$f":"COUNTIF(INDIRECT(S$2),#REF!)","v":0},null,0,0,0]
[{"$f":"Congé!E49","v":1},{"$f":"Congé!F49","v":"VALERIAN"},"","","","","","","","12h","","",""]
[{"$f":"Congé!E50","v":3},{"$f":"Congé!F50","v":"ROUSTAN"},"","","","","","","","","","12h",""]
[{"$f":"Congé!E51","v":1},{"$f":"Congé!F51","v":"WENGER"},"","","","","","","","12h","","","",null,null,"CAJ covid",{"$f":"COUNTIF(INDIRECT(Q$2),#REF!)","v":0},{"$f":"COUNTIF(INDIRECT(R$2),#REF!)","v":0},{"$f":"COUNTIF(INDIRECT(S$2),#REF!)","v":0},null,0,0,0]
[{"$f":"Congé!E52","v":8},{"$f":"Congé!F52","v":"LHERBIER"},"","","","","12h","","","","","","",null,null,"CA ops"]
[]
[null,"CA Jour",{"$f":"COUNTIF(C9:C52,\"CA\")+COUNTIF(C9:C52,\"CAJ*\")+COUNTIF(C9:C52,\"RPM\")","v":0},{"$f":"COUNTIF(D9:D52,\"CA\")+COUNTIF(D9:D52,\"CAJ*\")+COUNTIF(D9:D52,\"RPM\")","v":0},0,0,0,1,1,0,0,0,0]
[null,"Absence jour",{"$f":"SUM(C75:C77)+C81+SUM(C82:C88)+SUM(C92:C102)+C54","v":1},{"$f":"SUM(D75:D77)+D81+SUM(D82:D88)+SUM(D92:D102)+D54","v":1},1,1,1,2,2,1,1,1,0]
[null,"CA Nuit",{"$f":"COUNTIF(C9:C52,\"CA\")+COUNTIF(C9:C52,\"*CAN\")+COUNTIF(C9:C52,\"RPM\")","v":0},{"$f":"COUNTIF(D9:D52,\"CA\")+COUNTIF(D9:D52,\"*CAN\")+COUNTIF(D9:D52,\"RPM\")","v":0},0,0,0,1,1,0,0,0,0]
[null,"Absence Nuit",{"$f":"SUM(C67:C69)+C72+SUM(C89:C102)+C56","v":1},{"$f":"SUM(D67:D69)+D72+SUM(D89:D102)+D56","v":1},1,1,1,2,2,1,1,1,0]
[]
[null,"Nombre de 12h",{"$f":"COUNTIF(C9:C52,\"*12h\")","v":3},{"$f":"COUNTIF(D9:D52,\"*12h\")","v":3},3,4,4,4,4,4,3,4,4]
[{"$nulls":15},"CA"]
[null,"Nbre de pro jour",{"$f":"Congé!$E$54-C55","v":36},{"$f":"Congé!$E$54-D55","v":36},{"$f":"Congé!$E$54-E55","v":36},{"$f":"Congé!$E$54-F55","v":36},{"$f":"Congé!$E$54-G55","v":36},{"$f":"Congé!$E$54-H55","v":35},{"$f":"Congé!$E$54-I55","v":35},{"$f":"Congé!$E$54-J55","v":36},{"$f":"Congé!$E$54-K55","v":36},{"$f":"Congé!$E$54-L55","v":36},{"$f":"Congé!$E$54-M55","v":37},null,null,"CAN"]
[null,"Nbre de pro nuit",{"$f":"Congé!$E$54-C57-C59","v":33},{"$f":"Congé!$E$54-D57-D59","v":33},{"$f":"Congé!$E$54-E57-E59","v":33},{"$f":"Congé!$E$54-F57-F59","v":32},{"$f":"Congé!$E$54-G57-G59","v":32},{"$f":"Congé!$E$54-H57-H59","v":31},{"$f":"Congé!$E$54-I57-I59","v":31},{"$f":"Congé!$E$54-J57-J59","v":32},{"$f":"Congé!$E$54-K57-K59","v":33},{"$f":"Congé!$E$54-L57-L59","v":32},{"$f":"Congé!$E$54-M57-M59","v":33},null,null,"Feu/CAN"]
[{"$nulls":15},"V/CAN"]
[null,"CA",{"$f":"COUNTIF(C$9:C$52,$B64)","v":0},{"$f":"COUNTIF(D$9:D$52,$B64)","v":0},0,0,0,1,1,0,0,0,0,null,null,"PCJ/CAN"]
[null,"RPM",{"$f":"COUNTIF(C$9:C$52,$B65)","v":0},0,0,0,0,0,0,0,0,0,0,null,null,"STJ/CAN"]
[null,"CAJ",0,0,0,0,0,0,0,0,0,0,0,null,null,"CEJ/CAN"]
[null,"CAJ/AAN",0,0,0,0,0,0,0,0,0,0,0,null,null,"AAJ/CAN"]
[null,"CAJ/CEN",0,0,0,0,0,0,0,0,0,0,0,null,null,"CPJ/CAN"]
[null,"CAJ/CPN",0,0,0,0,0,0,0,0,0,0,0,null,null,"CAJ/STN"]
[null,"CAJ/Feu",0,0,0,0,0,0,0,0,0,0,0,null,null,"CAJ/CEN"]
[null,"CAJ/PCN",0,0,0,0,0,0,0,0,0,0,0,null,null,"CAJ/AAN"]
[null,"CAJ/STN",0,0,0,0,0,0,0,0,0,0,0,null,null,"CAJ/CPN"]
[null,"CAJ/V",0,0,0,0,0,0,0,0,0,0,0,null,null,"RPM"]
[null,"CAN",0,0,0,0,0,0,0,0,0,0,0,null,null,"ST"]
[null,"AAJ/CAN",0,0,0,0,0,0,0,0,0,0,0,null,null,"STN"]
[null,"CEJ/CAN",0,0,0,0,0,0,0,0,0,0,0,null,null,"CE"]
[null,"CPJ/CAN",0,0,0,0,0,0,0,0,0,0,0,null,null,"CEN"]
[null,"Feu/CAN",0,0,0,0,0,0,0,0,0,0,0,null,null,"CEJ/CPN"]
[null,"PCJ/CAN",0,0,0,0,0,0,0,0,0,0,0,null,null,"CP"]
[null,"V/CAN",0,0,0,0,0,0,0,0,0,0,0,null,null,"CPN"]
[null,"STJ/CAN",0,0,0,0,0,0,0,0,0,0,0,null,null,"AA"]
[null,"AAJ",0,0,0,0,0,0,0,0,0,0,0,null,null,"AAN"]
[null,"CEJ",0,0,0,0,0,0,0,0,0,0,0,null,null,"CM"]
[null,"CPJ",0,0,0,0,0,0,0,0,0,0,0,null,null,"AT"]
[null,"STJ",0,0,0,0,0,0,0,0,0,0,0,null,null,"TP"]
[null,"STJ/Feu",0,0,0,0,0,0,0,0,0,0,0,null,null,"SHR"]
[null,"STJ/PCN",0,0,0,0,0,0,0,0,0,0,0,null,null,"MUT"]
[null,"STJ/V",0,0,0,0,0,0,0,0,0,0,0,null,null,"12h"]
[null,"AAN",0,0,0,0,0,0,0,0,0,0,0,null,null,"CAN covid"]
[null,"CEN",0,0,0,0,0,0,0,0,0,0,0,null,null,"USSH"]
[null,"CPN",0,0,0,0,0,0,0,0,0,0,0,null,null,"CG"]
[null,"STN",0,0,0,0,0,0,0,0,0,0,0,null,null,"CDG"]
[null,"CE",0,0,0,0,0,0,0,0,0,0,0,null,null,"VPUa"]
[null,"CEJ/CPN",0,0,0,0,0,0,0,0,0,0,0,null,null,"VPU"]
[null,"CM",0,0,0,0,0,0,0,0,0,0,0,null,null,"VPUc"]
[null,"CP",0,0,0,0,0,0,0,0,0,0,0,null,null,"FPTa"]
[null,"TP",0,0,0,0,0,0,0,0,0,0,0,null,null,"FPT"]
[null,"ST",0,0,0,0,0,0,0,0,0,0,0,null,null,"FPTc"]
[null,"SHR",0,0,0,0,0,0,0,0,0,0,0,null,null,"EPSa"]
[null,"MUT",1,1,1,1,1,1,1,1,1,1,0,null,null,"EPSc"]
[null,"AA",0,0,0,0,0,0,0,0,0,{"$f":"COUNTIF(L$9:L$52,$B101)","v":0},{"$f":"COUNTIF(M$9:M$52,$B101)","v":0},null,null,"EPS"]
[null,"AT",{"$f":"COUNTIF(C$9:C$52,$B102)","v":0},0,0,0,0,0,0,0,0,0,0,null,null,"VSRa"]
[{"$nulls":15},"VSRc"]
[{"$nulls":15},"VSR"]
[{"$nulls":15},"EVa"]
[{"$nulls":15},"Evc"]
[{"$nulls":15},"EV"]
[{"$nulls":15},"VID"]
[{"$nulls":15},"VSAV 24h"]
[{"$nulls":15},"VSAV jour"]
[{"$nulls":15},"VSAV nuit"]
[{"$nulls":15},"VLM 24h"]
[{"$nulls":15},"VLM jour"]
[{"$nulls":15},"VLM nuit"]
[{"$nulls":15},"PCJ"]
[{"$nulls":15},"PCN"]
[{"$nulls":15},"PC 24"]
[{"$nulls":15},"CG 12h"]
[{"$nulls":15},"CDG 12h"]
[{"$nulls":15},"VPUa 12h"]
[{"$nulls":15},"VPU 12h"]
[{"$nulls":15},"VPUc 12h"]
[{"$nulls":15},"FPTa 12h"]
[{"$nulls":15},"FPT 12h"]
[{"$nulls":15},"FPTc 12h"]
[{"$nulls":15},"EPSa 12h"]
[{"$nulls":15},"EPSc 12h"]
[{"$nulls":15},"EPS 12h"]
[{"$nulls":15},"VSRa 12h"]
[{"$nulls":15},"VSRc 12h"]
[{"$nulls":15},"VSR 12h"]
[{"$nulls":15},"Eva 12h"]
[{"$nulls":15},"Evc 12h"]
[{"$nulls":15},"EV 12h"]
[{"$nulls":15},"VID 12h"]
[{"$nulls":15},"VSAV 12h"]
[{"$nulls":15},"VLM 12h"]
[{"$nulls":15},"PC 12h"]

{"sheet":"Décembre","index":12,"n_rows":138,"n_cols":30,"rows_kept":138,"merged":[[0,23,2,23],[0,24,2,24],[0,26,0,27],[1,26,1,27],[4,0,4,1]]}
[{"$nulls":3},"2020-12-02",{"$nulls":4},"2020-12-17","2020-12-20","2020-12-23","2020-12-26","2018-01-31",{"$nulls":3},{"$f":"SUM(Q3:Q51)","v":0},{"$f":"SUM(R3:R51)","v":0},{"$f":"SUM(S3:S51)","v":1},null,{"$f":"SUM(U3:U51)","v":0},{"$f":"SUM(V3:V51)","v":0},{"$f":"SUM(W3:W51)","v":2},"Fonctions    24h","Fonctions 12h",null,"Nombre de CA maxi",null,{"$f":"Congé!M23","v":12}]
[{"$nulls":6},{"$f":"RIGHT(CELL(\"nomfichier\",G2),LEN(CELL(\"nomfichier\",G2))-SEARCH(\"]\",CELL(\"nomfichier\",G2)))","v":"Décembre"},{"$nulls":6},"12h",null,"Absence jour","L9:L12","L9:L18","L22:L38","Absence nuit","L9:L12","L9:L18","L22:L38",null,null,"CA","Nombre de 12h maxi",null,{"$f":"Congé!M24","v":5}]
[null,null,2,5,8,11,14,17,20,23,26,29,null,"12h",null,"CA",{"$f":"COUNTIF(INDIRECT(Q$2),$P3)","v":0},{"$f":"COUNTIF(INDIRECT(R$2),$P3)","v":0},{"$f":"COUNTIF(INDIRECT(S$2),$P3)","v":0},"CA",{"$f":"COUNTIF(INDIRECT(U$2),$T3)","v":0},{"$f":"COUNTIF(INDIRECT(V$2),$T3)","v":0},{"$f":"COUNTIF(INDIRECT(W$2),$T3)","v":0},null,null,"CAJ",null,"Nbre","Présence mini","Absence maxi"]
[null,null,"MER.","SAM.","MAR.","VEN.","LUN.","JEU.","DIM.","MER.","SAM.","MAR.",{"$nulls":3},"CAJ",{"$f":"COUNTIF(INDIRECT(Q$2),$P4)","v":0},0,0,"CAN",{"$f":"COUNTIF(INDIRECT(U$2),$T4)","v":0},0,0,"CG","CG 12h","CAN","SOG",{"$f":"Congé!L26","v":3},{"$f":"Congé!M26","v":1},{"$f":"Congé!N26","v":2}]
["Equipes",null,4,5,6,7,8,9,10,1,"v","v",{"$nulls":3},"CAJ/Feu",0,0,0,"Feu/CAN",0,0,0,"CDG","CDG 12h","CAJ/Feu","INC2",{"$f":"Congé!L27","v":7},{"$f":"Congé!M27","v":3},{"$f":"Congé!N27","v":4}]
[{"$f":"Congé!E6","v":1},{"$f":"Congé!F6","v":"MATEO"},{"$f":"IF($A6=C$5,\"12h\",IF($A6=\"\",\"\",\"\"))","v":""},{"$f":"IF($A6=D$5,\"12h\",IF($A6=\"\",\"\",\"\"))","v":""},"","","","","","12h","","","",null,null,"CAJ/V",0,0,0,"V/CAN",0,0,0,"VPUa","VPUa 12h","Feu/CAN","INC1",{"$f":"Congé!L28","v":15},{"$f":"Congé!M28","v":5},{"$f":"Congé!N28","v":10}]
[{"$f":"Congé!E7","v":9},{"$f":"Congé!F7","v":"BARREAU"},{"$f":"IF($A7=C$5,\"12h\",IF($A7=\"\",\"\",\"\"))","v":""},"","","","","12h","","","","","",null,null,"CAJ/PCN",0,0,0,"PCJ/CAN",0,0,0,"VPU","VPU 12h","CAJ/V"]
[{"$nulls":16},0,0,0,null,0,0,0]
[{"$f":"Congé!E9","v":10},{"$f":"Congé!F9","v":"CARTIER"},"","","","","","","12h","","","","",null,null,"CAJ/STN",0,0,0,"STJ/CAN",0,0,0,"VPUc","VPUc 12h","V/CAN"]
[{"$f":"Congé!E10","v":4},{"$f":"Congé!F10","v":"CARTAUT"},"12h","","","","","","","","","","",null,null,"CAJ/CEN",0,0,0,"CEJ/CAN",0,0,0,"FPTa","FPTa 12h","PCJ/CAN"]
[{"$f":"Congé!E11","v":0},{"$f":"Congé!F11","v":0},"","","",{"$nulls":5},"","","12h",{"$nulls":3},0,0,0,null,0,0,0]
[{"$f":"Congé!E12","v":3},{"$f":"Congé!F12","v":"HUGUES"},"","","","","","","","","","",{"$nulls":3},"CAJ/AAN",0,0,0,"AAJ/CAN",0,0,0,"FPT","FPT 12h","CAJ/PCN"]
[{"$nulls":16},0,0,0,null,0,0,0]
[{"$f":"Congé!E14","v":8},{"$f":"Congé!F14","v":"SELLES"},"","","","","12h","","","","","","",null,null,"CAJ/CPN",0,0,0,"CPJ/CAN",0,0,0,"FPTc","FPTc 12h","CAJ/STN"]
[{"$f":"Congé!E15","v":9},{"$f":"Congé!F15","v":"MASSELIN"},"","","","","","12h","","","","","",null,null,"STJ/CAN",0,0,0,"CAJ/STN",0,0,0,"EPSa","EPSa 12h","STJ/CAN"]
[{"$f":"Congé!E16","v":0},{"$f":"Congé!F16","v":0},"","","","","","","","","","","12h",{"$nulls":3},0,0,0,null,0,0,0]
[{"$f":"Congé!E17","v":1},{"$f":"Congé!F17","v":"MALET"},"","","","","","","","12h","","","",null,null,"CEJ/CAN",0,0,0,"CAJ/CEN",0,0,0,"EPSc","EPSc 12h","CAJ/CEN"]
[{"$f":"Congé!E18","v":2},{"$f":"Congé!F18","v":"REY F"},"","","","","","","","","","","",null,null,"AAJ/CAN",0,0,0,"CAJ/AAN",0,0,0,"EPS","EPS 12h","CEJ/CAN"]
[{"$f":"Congé!E19","v":6},{"$f":"Congé!F19","v":"LUBRANO"},"","","12h","","","","",{"$f":"IF($A19=J$5,\"12h\",IF($A19=\"\",\"\",\"\"))","v":""},"","",{"$nulls":3},"CPJ/CAN",0,0,0,"CAJ/CPN",0,0,0,"VSRa","VSRa 12h","CAJ/AAN"]
[{"$f":"Congé!E20","v":5},{"$f":"Congé!F20","v":"NORMAND"},"","12h","","","","","","","","",{"$nulls":3},"RPM",0,0,0,"RPM",0,0,0,"VSRc","VSRc 12h","AAJ/CAN"]
[{"$nulls":16},0,0,0,null,0,0,0]
[{"$f":"Congé!E22","v":9},{"$f":"Congé!F22","v":"ROSTAND"},"","","","","","12h","","","","","",null,null,"ST",0,0,0,"ST",0,0,0,"VSR","VSR 12h","CAJ/CPN"]
[{"$f":"Congé!E23","v":6},{"$f":"Congé!F23","v":"LAURENT J"},"","","12h","","","","","","","","",null,null,"STJ/Feu",0,0,0,"STN",0,0,0,"EVa","Eva 12h","CPJ/CAN"]
[{"$f":"Congé!E24","v":10},{"$f":"Congé!F24","v":"BALLESTER"},"","","","","","","12h","","","","",null,null,"STJ/V",0,0,0,"CE",0,0,0,"Evc","Evc 12h"]
[{"$f":"Congé!E25","v":7},{"$f":"Congé!F25","v":"GRIMM"},"","","CA","12h","CA","","","","","","",null,null,"STJ/PCN",0,0,0,"CEN",0,0,0,"EV","EV 12h"]
[{"$f":"Congé!E26","v":3},{"$f":"Congé!F26","v":"ORIOL"},"","","","","","","","","","","",null,null,"STJ",0,0,0,"CEJ/CPN",0,0,0,"VID","VID 12h"]
[{"$f":"Congé!E27","v":10},{"$f":"Congé!F27","v":"DEPRAD"},"","","","","","","12h","","","","",null,null,"CE",0,0,0,"CP",0,0,0,"VSAV 24h","VSAV 12h"]
[{"$f":"Congé!E28","v":4},{"$f":"Congé!F28","v":"FLORES"},"12h","","","","","","","","","","",null,null,"CEJ",0,0,0,"CPN",0,0,0,"VSAV jour","VLM 12h"]
[{"$f":"Congé!E29","v":2},{"$f":"Congé!F29","v":"FIGUEIRINHA"},"","","","","","","","","","","",null,null,"CEJ/CPN",0,0,0,"AA",0,0,0,"VSAV nuit","PC 12h"]
[{"$f":"Congé!E30","v":8},{"$f":"Congé!F30","v":"HEURTEBISE"},"","","","","12h","","","","","","",null,null,"CP",0,0,0,"AAN",0,0,0,"VLM 24h"]
[{"$f":"Congé!E31","v":3},{"$f":"Congé!F31","v":"BLANCHARD"},"","","","","","","","","","12h","",null,null,"CPJ",0,0,0,"CM",0,0,0,"VLM jour"]
[{"$f":"Congé!E32","v":0},{"$f":"Congé!F32","v":0},"","","","","","","","","","","12h",{"$nulls":3},0,0,0,null,0,0,0]
[{"$f":"Congé!E33","v":5},{"$f":"Congé!F33","v":"DECITRE"},"","12h",{"$f":"IF($A33=E$5,\"12h\",IF($A33=\"\",\"\",\"\"))","v":""},"","","","","","","","",null,null,"AA",0,0,0,"AT",0,0,0,"VLM nuit"]
[{"$f":"Congé!E34","v":4},{"$f":"Congé!F34","v":"EON"},"MUT","MUT","MUT","MUT","MUT","MUT","MUT","MUT","MUT","MUT","",{"$nulls":3},0,0,0,null,0,0,0]
[{"$f":"Congé!E35","v":6},{"$f":"Congé!F35","v":"DIOLOGENT"},{"$f":"IF($A35=C$5,\"12h\",IF($A35=\"\",\"\",\"\"))","v":""},"","12h","","","","","","","","",null,null,"AAJ",0,0,0,"TP",0,0,0,"PCJ"]
[{"$f":"Congé!E36","v":7},{"$f":"Congé!F36","v":"GUEROULT"},"","","","12h","","","","","","","",null,null,"CM",0,0,0,"SHR",0,0,0,"PCN"]
[{"$f":"Congé!E37","v":1},{"$f":"Congé!F37","v":"SALMI"},"","","","","","","","12h","","","",null,null,"AT",0,0,0,"MUT",0,0,1,"PC 24"]
[{"$f":"Congé!E38","v":7},{"$f":"Congé!F38","v":"DYLIK"},"","","","12h","","","","","","","",null,null,"TP",0,0,0,"12h",0,0,1]
[{"$nulls":16},0,0,0,null,0,0,0]
[{"$f":"Congé!E40","v":9},{"$f":"Congé!F40","v":"MONTALEGRE"},"","","","","","12h","","","","","",null,null,"USSH",0,0,0,"CAN covid",0,0,0]
[{"$f":"Congé!E41","v":9},{"$f":"Congé!F41","v":"SERANO G"},"","","","","","12h","","","","","",null,null,"MUT",0,0,1,"USSH",0,0,0]
[{"$f":"Congé!E42","v":7},{"$f":"Congé!F42","v":"LANCIAL"},"","","","12h","","","","","","","",null,null,"ST 12h",0,0,0,null,0,0,0]
[{"$f":"Congé!E43","v":8},{"$f":"Congé!F43","v":"MOURCIA"},"","","","","12h","","","","","","",null,null,"CE 12h",0,0,0,null,0,0,0]
[{"$f":"Congé!E44","v":2},{"$f":"Congé!F44","v":"GILSON"},"","","","","","","","","","","",null,null,"CP 12h",0,0,0,null,0,0,0]
[{"$f":"Congé!E45","v":0},{"$f":"Congé!F45","v":0},"","","","","","","","","","","12h",{"$nulls":3},{"$f":"COUNTIF(INDIRECT(Q$2),$P46)","v":0},0,0,null,0,0,0]
[{"$f":"Congé!E46","v":5},{"$f":"Congé!F46","v":"PERINO"},"","12h","","","","","","","","","",null,null,"AA 12h",0,0,0,null,0,0,0]
[{"$f":"Congé!E47","v":10},{"$f":"Congé!F47","v":"LUPI"},"","","","","","","12h","","","","",null,null,"AT 12h",0,0,0,null,0,0,0]
[{"$f":"Congé!E48","v":4},{"$f":"Congé!F48","v":"ROOS"},"12h","","","","","","","","","","",null,null,"RPM 12h",{"$f":"COUNTIF(INDIRECT(Q$2),#REF!)","v":0},{"$f":"COUNTIF(INDIRECT(R$2),#REF!)","v":0},{"$f":"COUNTIF(INDIRECT(S$2),#REF!)","v":0},null,0,0,0]
[{"$f":"Congé!E49","v":1},{"$f":"Congé!F49","v":"VALERIAN"},"","","","","","","","12h","","",""]
[{"$f":"Congé!E50","v":3},{"$f":"Congé!F50","v":"ROUSTAN"},"","","","","","","","","","",""]
[{"$f":"Congé!E51","v":1},{"$f":"Congé!F51","v":"WENGER"},"","","","","","","","12h","","","",null,null,"CAJ covid",{"$f":"COUNTIF(INDIRECT(Q$2),#REF!)","v":0},{"$f":"COUNTIF(INDIRECT(R$2),#REF!)","v":0},{"$f":"COUNTIF(INDIRECT(S$2),#REF!)","v":0},null,0,0,0]
[{"$f":"Congé!E52","v":8},{"$f":"Congé!F52","v":"LHERBIER"},"","","","","12h","","","","","","",null,null,"CA ops"]
[]
[null,"CA Jour",{"$f":"COUNTIF(C9:C52,\"CA\")+COUNTIF(C9:C52,\"CAJ*\")+COUNTIF(C9:C52,\"RPM\")","v":0},{"$f":"COUNTIF(D9:D52,\"CA\")+COUNTIF(D9:D52,\"CAJ*\")+COUNTIF(D9:D52,\"RPM\")","v":0},1,0,1,0,0,0,0,0,0]
[null,"Absence jour",{"$f":"SUM(C75:C77)+C81+SUM(C82:C88)+SUM(C92:C102)+C54","v":1},{"$f":"SUM(D75:D77)+D81+SUM(D82:D88)+SUM(D92:D102)+D54","v":1},2,1,2,1,1,1,1,1,0]
[null,"CA Nuit",{"$f":"COUNTIF(C9:C52,\"CA\")+COUNTIF(C9:C52,\"*CAN\")+COUNTIF(C9:C52,\"RPM\")","v":0},{"$f":"COUNTIF(D9:D52,\"CA\")+COUNTIF(D9:D52,\"*CAN\")+COUNTIF(D9:D52,\"RPM\")","v":0},1,0,1,0,0,0,0,0,0]
[null,"Absence Nuit",{"$f":"SUM(C67:C69)+C72+SUM(C89:C102)+C56","v":1},{"$f":"SUM(D67:D69)+D72+SUM(D89:D102)+D56","v":1},2,1,2,1,1,1,1,1,0]
[]
[null,"Nombre de 12h",{"$f":"COUNTIF(C9:C52,\"*12h\")","v":3},{"$f":"COUNTIF(D9:D52,\"*12h\")","v":3},3,4,4,4,4,4,0,1,4]
[{"$nulls":15},"CA"]
[null,"Nbre de pro jour",{"$f":"Congé!$E$54-C55","v":36},{"$f":"Congé!$E$54-D55","v":36},{"$f":"Congé!$E$54-E55","v":35},{"$f":"Congé!$E$54-F55","v":36},{"$f":"Congé!$E$54-G55","v":35},{"$f":"Congé!$E$54-H55","v":36},{"$f":"Congé!$E$54-I55","v":36},{"$f":"Congé!$E$54-J55","v":36},{"$f":"Congé!$E$54-K55","v":36},{"$f":"Congé!$E$54-L55","v":36},{"$f":"Congé!$E$54-M55","v":37},null,null,"CAN"]
[null,"Nbre de pro nuit",{"$f":"Congé!$E$54-C57-C59","v":33},{"$f":"Congé!$E$54-D57-D59","v":33},{"$f":"Congé!$E$54-E57-E59","v":32},{"$f":"Congé!$E$54-F57-F59","v":32},{"$f":"Congé!$E$54-G57-G59","v":31},{"$f":"Congé!$E$54-H57-H59","v":32},{"$f":"Congé!$E$54-I57-I59","v":32},{"$f":"Congé!$E$54-J57-J59","v":32},{"$f":"Congé!$E$54-K57-K59","v":36},{"$f":"Congé!$E$54-L57-L59","v":35},{"$f":"Congé!$E$54-M57-M59","v":33},null,null,"Feu/CAN"]
[{"$nulls":15},"V/CAN"]
[null,"CA",{"$f":"COUNTIF(C$9:C$52,$B64)","v":0},{"$f":"COUNTIF(D$9:D$52,$B64)","v":0},1,0,1,0,0,0,0,0,0,null,null,"PCJ/CAN"]
[null,"RPM",{"$f":"COUNTIF(C$9:C$52,$B65)","v":0},0,0,0,0,0,0,0,0,0,0,null,null,"STJ/CAN"]
[null,"CAJ",0,0,0,0,0,0,0,0,0,0,0,null,null,"CEJ/CAN"]
[null,"CAJ/AAN",0,0,0,0,0,0,0,0,0,0,0,null,null,"AAJ/CAN"]
[null,"CAJ/CEN",0,0,0,0,0,0,0,0,0,0,0,null,null,"CPJ/CAN"]
[null,"CAJ/CPN",0,0,0,0,0,0,0,0,0,0,0,null,null,"CAJ/STN"]
[null,"CAJ/Feu",0,0,0,0,0,0,0,0,0,0,0,null,null,"CAJ/CEN"]
[null,"CAJ/PCN",0,0,0,0,0,0,0,0,0,0,0,null,null,"CAJ/AAN"]
[null,"CAJ/STN",0,0,0,0,0,0,0,0,0,0,0,null,null,"CAJ/CPN"]
[null,"CAJ/V",0,0,0,0,0,0,0,0,0,0,0,null,null,"RPM"]
[null,"CAN",0,0,0,0,0,0,0,0,0,0,0,null,null,"ST"]
[null,"AAJ/CAN",0,0,0,0,0,0,0,0,0,0,0,null,null,"STN"]
[null,"CEJ/CAN",0,0,0,0,0,0,0,0,0,0,0,null,null,"CE"]
[null,"CPJ/CAN",0,0,0,0,0,0,0,0,0,0,0,null,null,"CEN"]
[null,"Feu/CAN",0,0,0,0,0,0,0,0,0,0,0,null,null,"CEJ/CPN"]
[null,"PCJ/CAN",0,0,0,0,0,0,0,0,0,0,0,null,null,"CP"]
[null,"V/CAN",0,0,0,0,0,0,0,0,0,0,0,null,null,"CPN"]
[null,"STJ/CAN",0,0,0,0,0,0,0,0,0,0,0,null,null,"AA"]
[null,"AAJ",0,0,0,0,0,0,0,0,0,0,0,null,null,"AAN"]
[null,"CEJ",0,0,0,0,0,0,0,0,0,0,0,null,null,"CM"]
[null,"CPJ",0,0,0,0,0,0,0,0,0,0,0,null,null,"AT"]
[null,"STJ",0,0,0,0,0,0,0,0,0,0,0,null,null,"TP"]
[null,"STJ/Feu",0,0,0,0,0,0,0,0,0,0,0,null,null,"SHR"]
[null,"STJ/PCN",0,0,0,0,0,0,0,0,0,0,0,null,null,"MUT"]
[null,"STJ/V",0,0,0,0,0,0,0,0,0,0,0,null,null,"12h"]
[null,"AAN",0,0,0,0,0,0,0,0,0,0,0,null,null,"CAN covid"]
[null,"CEN",0,0,0,0,0,0,0,0,0,0,0,null,null,"USSH"]
[null,"CPN",0,0,0,0,0,0,0,0,0,0,0,null,null,"CG"]
[null,"STN",0,0,0,0,0,0,0,0,0,0,0,null,null,"CDG"]
[null,"CE",0,0,0,0,0,0,0,0,0,0,0,null,null,"VPUa"]
[null,"CEJ/CPN",0,0,0,0,0,0,0,0,0,0,0,null,null,"VPU"]
[null,"CM",0,0,0,0,0,0,0,0,0,0,0,null,null,"VPUc"]
[null,"CP",0,0,0,0,0,0,0,0,0,0,0,null,null,"FPTa"]
[null,"TP",0,0,0,0,0,0,0,0,0,0,0,null,null,"FPT"]
[null,"ST",0,0,0,0,0,0,0,0,0,0,0,null,null,"FPTc"]
[null,"SHR",0,0,0,0,0,0,0,0,0,0,0,null,null,"EPSa"]
[null,"MUT",1,1,1,1,1,1,1,1,1,1,0,null,null,"EPSc"]
[null,"AA",0,0,0,0,0,0,0,0,0,{"$f":"COUNTIF(L$9:L$52,$B101)","v":0},{"$f":"COUNTIF(M$9:M$52,$B101)","v":0},null,null,"EPS"]
[null,"AT",{"$f":"COUNTIF(C$9:C$52,$B102)","v":0},0,0,0,0,0,0,0,0,0,0,null,null,"VSRa"]
[{"$nulls":15},"VSRc"]
[{"$nulls":15},"VSR"]
[{"$nulls":15},"EVa"]
[{"$nulls":15},"Evc"]
[{"$nulls":15},"EV"]
[{"$nulls":15},"VID"]
[{"$nulls":15},"VSAV 24h"]
[{"$nulls":15},"VSAV jour"]
[{"$nulls":15},"VSAV nuit"]
[{"$nulls":15},"VLM 24h"]
[{"$nulls":15},"VLM jour"]
[{"$nulls":15},"VLM nuit"]
[{"$nulls":15},"PCJ"]
[{"$nulls":15},"PCN"]
[{"$nulls":15},"PC 24"]
[{"$nulls":15},"CG 12h"]
[{"$nulls":15},"CDG 12h"]
[{"$nulls":15},"VPUa 12h"]
[{"$nulls":15},"VPU 12h"]
[{"$nulls":15},"VPUc 12h"]
[{"$nulls":15},"FPTa 12h"]
[{"$nulls":15},"FPT 12h"]
[{"$nulls":15},"FPTc 12h"]
[{"$nulls":15},"EPSa 12h"]
[{"$nulls":15},"EPSc 12h"]
[{"$nulls":15},"EPS 12h"]
[{"$nulls":15},"VSRa 12h"]
[{"$nulls":15},"VSRc 12h"]
[{"$nulls":15},"VSR 12h"]
[{"$nulls":15},"Eva 12h"]
[{"$nulls":15},"Evc 12h"]
[{"$nulls":15},"EV 12h"]
[{"$nulls":15},"VID 12h"]
[{"$nulls":15},"VSAV 12h"]
[{"$nulls":15},"VLM 12h"]
[{"$nulls":15},"PC 12h"]

{"sheet":"Technique","index":13,"n_rows":2,"n_cols":3,"rows_kept":2}
["MDP"]
["pi",null,"Précisez votre mot de passe"]

{"sheet":"Mode d'emploi","index":14,"n_rows":9,"n_cols":2,"rows_kept":9}
["MODE D'EMPLOI"]
[1,"A l'ouverture du classeur, un VBA parcoure les 12 onglets mois et protège toutes les colonnes contenant un entête date et dont celles-ci sont inférieures à la date du jour.  Tous ces onglets seront mis sous \"Protection\" et les Opérateurs pourront encoder uniquement dans les colonnes dont la date est inférieure à la date du jour."]
[2,"L'Administrateur pourra enlever cette protection onglet par onglet sous l'onglet supérieur Révision \"Oter la protection\". Un mot de passe lui sera demandé pour pouvoir exécuter cette opération.\nComme normalement l'Administrateur ne gérera que le mois en cours, l'opération ne se fera uniquement que s'il désire toucher aux colonnes dont la date dépasse la date du jour.\nA noter : le VBA d'ouverture adapte automatiquement les Protections donc l'Administrateur ne doit pas se soucier de remettre les Protections pour les onglets dont il les a enlever."]
[3,"La gestion de ce mot de passe se fait dans l'onglet \"Technique\".  Cet onglet est \"Masqué\".  Pour pouvoir \"Afficher\" et gérer le contenu de cet onglet, il faut cliquer droit sur la barre des onglets et cliquer ensuite dans le menu sur \"Afficher\" et choisir l'onglet \"Technique\".  Un autre mot de passe lui sera demandé pour pouvoir réaliser cette opération.  \nCette opération n'est à faire que si on désire changer le mot de passe donc rarement."]
[4,"Les dates des colonnes sont calculées à partir de la première colonne en ajoutant 3 jours à chaque colonne"]
[5,"Le mois en cellule G2 est calculé à partir du nom de l'onglet."]
[6,"Technique :\n- Le module 1 contient les variables PUBLIC càd celles qui restent accessibles à tous les VBA du classeur ;\n- Le module 2 contient le VBA qui affiche l'onglet \"Technique\"\n- La Feuille \"Technique\" contient le VBA qui se déclenche à chaque activation de la feuille et fait appel au VBA d'affichage dans le module 2\n- ThisWorkbook contient le VBA qui se déclenche automatiquement à l'ouverture du classeur et fait la MAJ automatique des colonnes à Protéger et Déprotéger.\n- Les Flag permettent d'éviter certains VBA en fonction du déroulement des Procédures.  \nAinsi la Procédure à l'ouverture du classeur fait appel à l'onglet Technique donc elle déclenche le VBA qui provoque l'affichage de l'onglet et donc également à la demande de mot de passe.  \nPour éviter cela, on positionne le Flag à 1 et on évite le déclenchement de la Procédure de demande de mot de passe. \nDe même le Flag2 évite que la demande de mot de passe se reproduise à chaque fois que l'Administrateur fera appel à l'onglet Technique dès qu'il l'a fait une fois durant une session de travail.\n- Comme il y a moyen de voir le mot de passe dans les VBA, ceux ci sont masqués.  Pour les faire apparaître, il faudra encoder le même mot de passe que pour le point 3"]
[7,"Ce qu'il faut retenir est que, techniquement cela semble complexe mais pratiquement, pour les Opérateurs, cela sera complètement transparent et pour l'Administrateur, il n'aura qu'à enlever la Protection d'un onglet quand il voudra gérer un mois et atteindre les colonnes dont la date et supérieur à la date du jour.  Rarement, il aura à changer le mot de passe gérant l'affichage de l'onglet Technique et donc rarement il devra utiliser la Procédure du point 3"]
[8,"L'adaptation réalisée n'a rien touché d'autre que les points soulevés ci-dessus"]