{"text_format":"3","workbook":"xlsx","n_sheets":4,"sheets":["Registre","Dépenses","Base","RECAP"],"not_rendered":{"macros":1,"comments":1},"read":"whole","date_system":"1900"}

{"sheet":"Registre","index":0,"n_rows":10,"n_cols":20,"rows_kept":10,"merged":[[0,1,0,3]]}
[null,{"$f":"COUNTIF(B3:B114,\"<>\")","v":3},{"$nulls":5},{"$f":"SUM(H3:H114)","v":0},{"$f":"SUM(I3:I114)","v":0},{"$f":"SUM(J3:J114)","v":2},{"$f":"SUM(K3:K114)","v":2},{"$f":"SUM(L3:L114)","v":0},{"$f":"SUM(M3:M114)","v":4},{"$f":"SUM(N3:N114)","v":{"v":86,"d":"86.00 €"}},null,{"$f":"SUM(P3:P114)","v":{"v":86,"d":"86.00 €"}},null,{"$f":"SUM(R3:R114)","v":{"v":0,"d":"0.00 €"}},{"$f":"SUM(S3:S114)","v":{"v":86,"d":"86.00 €"}}]
["CODE CLIENT","CIVILITE","NOM","PRENOM","ADRESSE","C.P.","VILLE","TELEPHONE","E-MAIL","ADULTE","ENFANT","ENTREE SEUL","TOTAL PERSONNES","MONTANT TOTAL","REMISE","NET A PAYER","MODE REGLEMENT","MONTANT PAYER","RESTE A PAYER","OK  \nNON OK"]
["","","elle","lui","","","","","",2,2,"",4,{"v":86,"d":"86.00 €"},null,{"v":86,"d":"86.00 €"},null,"",86]
["","M.","DUPOND","JEAN","","","PAS ICI","","","2","2","",{"$nulls":5},""]
["","","elle","lui","","","","0000000000","","2","2","",null,null,"ICI REMISE ACCORDER (SI DEJA INSCRIT)",null,"= LISTE BASE E2:E5",""]
[]
[]
[{"$nulls":11},"",null,null,"",null,"",""]
[{"$nulls":11},"",null,null,"",null,"",""]
[{"$nulls":11},"",null,null,"",null,"",""]

{"sheet":"Dépenses","index":1,"n_rows":10,"n_cols":10,"rows_kept":10,"merged":[[1,4,2,4],[1,5,2,5],[3,4,4,4],[3,5,4,5],[5,7,5,8]]}
[null,"MONTANT UNITAIRE","QUANTITE","TOTAL"]
["CAR",{"$f":"IF(Registre!$J$1+Registre!$K$1<=$H$10,$J$10,$J$8)","v":{"v":200,"d":"200.00 €"}},{"$f":"IF(Registre!J1+Registre!K1>=1,1*IF(Registre!J1+Registre!K1>=50,2,1))","v":1},{"$f":"B2*C2","v":{"v":200,"d":"200.00 €"}},"TOTAL",{"$f":"SUM(D:D)","v":{"v":300,"d":"300.00 €"}},"Tourisme",49,"Places",{"v":400,"d":"400.00 €"}]
["ENTREE",{"v":25,"d":"25.00 €"},{"$f":"Registre!J1+Registre!K1","v":4},{"$f":"B3*C3","v":{"v":100,"d":"100.00 €"}},null,null,"Scolaire",null,null,{"v":170,"d":"170.00 €"}]
[{"$nulls":3},{"v":0,"d":"0.00 €"},"RESTE",{"$f":"Registre!P1-F2","v":{"v":-214,"d":"-214.00 €"}},"Mini",28,"Places",{"v":370,"d":"370.00 €"}]
[{"$nulls":3},{"v":0,"d":"0.00 €"}]
[{"$nulls":3},{"v":0,"d":"0.00 €"},{"$nulls":3},"REMISE",null,{"v":170,"d":"170.00 €"}]
[{"$nulls":3},{"v":0,"d":"0.00 €"}]
[{"$nulls":3},{"v":0,"d":"0.00 €"},null,null,"Tourisme",49,"Places",{"v":230,"d":"230.00 €"}]
[{"$nulls":6},"Scolaire",null,null,{"v":0,"d":"0.00 €"}]
[{"$nulls":6},"Mini",28,"Places",{"v":200,"d":"200.00 €"}]

{"sheet":"Base","index":2,"n_rows":10,"n_cols":5,"rows_kept":10,"merged":[[0,0,0,2],[6,0,6,1],[9,0,10,0],[9,1,10,1]]}
["TARIFS",{"$nulls":3},"MODE DE PAIEMENT"]
[null,"MAROLLES","EXTERIEUR"]
["ADULTE",{"v":31,"d":"31.00 €"},{"v":34,"d":"34.00 €"},null,"CHÈQUE"]
["ENFANT",{"v":6,"d":"6.00 €"},{"v":9,"d":"9.00 €"},null,"ESPÈCE"]
["ENTREE SEUL",{"v":27,"d":"27.00 €"},{"v":27,"d":"27.00 €"},null,"C.B."]
[]
["FORMULES"]
["MONTANT PAYER"]
[]
["NOMBRES PLACES DISPO",49]

{"sheet":"RECAP","index":3,"n_rows":94,"n_cols":7,"rows_kept":94}
["NOM","TELEPHONE","ADULTE","ENFANT","ENTREE SEUL","TOTAL","PAYER"]
[{"$f":"CONCATENATE(Registre!C3, \" \", Registre!D3)","v":"elle lui"},{"$f":"Registre!G3","v":""},{"$f":"Registre!J3","v":{"v":2,"d":"0    2"}},{"$f":"Registre!K3","v":{"v":2,"d":"0    2"}},{"$f":"Registre!L3","v":""},{"$f":"Registre!M3","v":{"v":4,"d":"0    4"}},{"$f":"Registre!T3","v":{"v":0,"d":"0    "}}]
[{"$f":"CONCATENATE(Registre!C4, \" \", Registre!D4)","v":"DUPOND JEAN"},{"$f":"Registre!G4","v":"PAS ICI"},{"$f":"Registre!J4","v":"2"},{"$f":"Registre!K4","v":"2"},{"$f":"Registre!L4","v":""},{"$f":"Registre!M4","v":{"v":0,"d":"0    "}},{"$f":"Registre!T4","v":{"v":0,"d":"0    "}}]
[{"$f":"CONCATENATE(Registre!C5, \" \", Registre!D5)","v":"elle lui"},{"$f":"Registre!G5","v":""},{"$f":"Registre!J5","v":"2"},{"$f":"Registre!K5","v":"2"},{"$f":"Registre!L5","v":""},{"$f":"Registre!M5","v":{"v":0,"d":"0    "}},{"$f":"Registre!T5","v":{"v":0,"d":"0    "}}]
[{"$f":"CONCATENATE(Registre!C6, \" \", Registre!D6)","v":" "},{"$f":"Registre!G6","v":{"v":0,"d":"0    "}},{"$f":"Registre!J6","v":{"v":0,"d":"0    "}},{"$f":"Registre!K6","v":{"v":0,"d":"0    "}},{"$f":"Registre!L6","v":{"v":0,"d":"0    "}},{"$f":"Registre!M6","v":{"v":0,"d":"0    "}},{"$f":"Registre!T6","v":{"v":0,"d":"0    "}}]
[{"$f":"CONCATENATE(Registre!C7, \" \", Registre!D7)","v":" "},{"$f":"Registre!G7","v":{"v":0,"d":"0    "}},{"$f":"Registre!J7","v":{"v":0,"d":"0    "}},{"$f":"Registre!K7","v":{"v":0,"d":"0    "}},{"$f":"Registre!L7","v":{"v":0,"d":"0    "}},{"$f":"Registre!M7","v":{"v":0,"d":"0    "}},{"$f":"Registre!T7","v":{"v":0,"d":"0    "}}]
[{"$f":"CONCATENATE(Registre!C8, \" \", Registre!D8)","v":" "},{"$f":"Registre!G8","v":{"v":0,"d":"0    "}},{"$f":"Registre!J8","v":{"v":0,"d":"0    "}},{"$f":"Registre!K8","v":{"v":0,"d":"0    "}},{"$f":"Registre!L8","v":""},{"$f":"Registre!M8","v":{"v":0,"d":"0    "}},{"$f":"Registre!T8","v":{"v":0,"d":"0    "}}]
[{"$f":"CONCATENATE(Registre!C9, \" \", Registre!D9)","v":" "},{"$f":"Registre!G9","v":{"v":0,"d":"0    "}},{"$f":"Registre!J9","v":{"v":0,"d":"0    "}},{"$f":"Registre!K9","v":{"v":0,"d":"0    "}},{"$f":"Registre!L9","v":""},{"$f":"Registre!M9","v":{"v":0,"d":"0    "}},{"$f":"Registre!T9","v":{"v":0,"d":"0    "}}]
[{"$f":"CONCATENATE(Registre!C10, \" \", Registre!D10)","v":" "},{"$f":"Registre!G10","v":{"v":0,"d":"0    "}},{"$f":"Registre!J10","v":{"v":0,"d":"0    "}},{"$f":"Registre!K10","v":{"v":0,"d":"0    "}},{"$f":"Registre!L10","v":""},{"$f":"Registre!M10","v":{"v":0,"d":"0    "}},{"$f":"Registre!T10","v":{"v":0,"d":"0    "}}]
[{"$f":"CONCATENATE(Registre!C11, \" \", Registre!D11)","v":" "},{"$f":"Registre!G11","v":{"v":0,"d":"0    "}},{"$f":"Registre!J11","v":{"v":0,"d":"0    "}},{"$f":"Registre!K11","v":{"v":0,"d":"0    "}},{"$f":"Registre!L11","v":{"v":0,"d":"0    "}},{"$f":"Registre!M11","v":{"v":0,"d":"0    "}},{"$f":"Registre!T11","v":{"v":0,"d":"0    "}}]
[{"$f":"CONCATENATE(Registre!C12, \" \", Registre!D12)","v":" "},{"$f":"Registre!G12","v":{"v":0,"d":"0    "}},{"$f":"Registre!J12","v":{"v":0,"d":"0    "}},{"$f":"Registre!K12","v":{"v":0,"d":"0    "}},{"$f":"Registre!L12","v":{"v":0,"d":"0    "}},{"$f":"Registre!M12","v":{"v":0,"d":"0    "}},{"$f":"Registre!T12","v":{"v":0,"d":"0    "}}]
[{"$f":"CONCATENATE(Registre!C13, \" \", Registre!D13)","v":" "},{"$f":"Registre!G13","v":{"v":0,"d":"0    "}},{"$f":"Registre!J13","v":{"v":0,"d":"0    "}},{"$f":"Registre!K13","v":{"v":0,"d":"0    "}},{"$f":"Registre!L13","v":{"v":0,"d":"0    "}},{"$f":"Registre!M13","v":{"v":0,"d":"0    "}},{"$f":"Registre!T13","v":{"v":0,"d":"0    "}}]
[{"$f":"CONCATENATE(Registre!C14, \" \", Registre!D14)","v":" "},{"$f":"Registre!G14","v":{"v":0,"d":"0    "}},{"$f":"Registre!J14","v":{"v":0,"d":"0    "}},{"$f":"Registre!K14","v":{"v":0,"d":"0    "}},{"$f":"Registre!L14","v":{"v":0,"d":"0    "}},{"$f":"Registre!M14","v":{"v":0,"d":"0    "}},{"$f":"Registre!T14","v":{"v":0,"d":"0    "}}]
[{"$f":"CONCATENATE(Registre!C15, \" \", Registre!D15)","v":" "},{"$f":"Registre!G15","v":{"v":0,"d":"0    "}},{"$f":"Registre!J15","v":{"v":0,"d":"0    "}},{"$f":"Registre!K15","v":{"v":0,"d":"0    "}},{"$f":"Registre!L15","v":{"v":0,"d":"0    "}},{"$f":"Registre!M15","v":{"v":0,"d":"0    "}},{"$f":"Registre!T15","v":{"v":0,"d":"0    "}}]
[{"$f":"CONCATENATE(Registre!C16, \" \", Registre!D16)","v":" "},{"$f":"Registre!G16","v":{"v":0,"d":"0    "}},{"$f":"Registre!J16","v":{"v":0,"d":"0    "}},{"$f":"Registre!K16","v":{"v":0,"d":"0    "}},{"$f":"Registre!L16","v":{"v":0,"d":"0    "}},{"$f":"Registre!M16","v":{"v":0,"d":"0    "}},{"$f":"Registre!T16","v":{"v":0,"d":"0    "}}]
[{"$f":"CONCATENATE(Registre!C17, \" \", Registre!D17)","v":" "},{"$f":"Registre!G17","v":{"v":0,"d":"0    "}},{"$f":"Registre!J17","v":{"v":0,"d":"0    "}},{"$f":"Registre!K17","v":{"v":0,"d":"0    "}},{"$f":"Registre!L17","v":{"v":0,"d":"0    "}},{"$f":"Registre!M17","v":{"v":0,"d":"0    "}},{"$f":"Registre!T17","v":{"v":0,"d":"0    "}}]
[{"$f":"CONCATENATE(Registre!C18, \" \", Registre!D18)","v":" "},{"$f":"Registre!G18","v":{"v":0,"d":"0    "}},{"$f":"Registre!J18","v":{"v":0,"d":"0    "}},{"$f":"Registre!K18","v":{"v":0,"d":"0    "}},{"$f":"Registre!L18","v":{"v":0,"d":"0    "}},{"$f":"Registre!M18","v":{"v":0,"d":"0    "}},{"$f":"Registre!T18","v":{"v":0,"d":"0    "}}]
[{"$f":"CONCATENATE(Registre!C19, \" \", Registre!D19)","v":" "},{"$f":"Registre!G19","v":{"v":0,"d":"0    "}},{"$f":"Registre!J19","v":{"v":0,"d":"0    "}},{"$f":"Registre!K19","v":{"v":0,"d":"0    "}},{"$f":"Registre!L19","v":{"v":0,"d":"0    "}},{"$f":"Registre!M19","v":{"v":0,"d":"0    "}},{"$f":"Registre!T19","v":{"v":0,"d":"0    "}}]
[{"$f":"CONCATENATE(Registre!C20, \" \", Registre!D20)","v":" "},{"$f":"Registre!G20","v":{"v":0,"d":"0    "}},{"$f":"Registre!J20","v":{"v":0,"d":"0    "}},{"$f":"Registre!K20","v":{"v":0,"d":"0    "}},{"$f":"Registre!L20","v":{"v":0,"d":"0    "}},{"$f":"Registre!M20","v":{"v":0,"d":"0    "}},{"$f":"Registre!T20","v":{"v":0,"d":"0    "}}]
[{"$f":"CONCATENATE(Registre!C21, \" \", Registre!D21)","v":" "},{"$f":"Registre!G21","v":{"v":0,"d":"0    "}},{"$f":"Registre!J21","v":{"v":0,"d":"0    "}},{"$f":"Registre!K21","v":{"v":0,"d":"0    "}},{"$f":"Registre!L21","v":{"v":0,"d":"0    "}},{"$f":"Registre!M21","v":{"v":0,"d":"0    "}},{"$f":"Registre!T21","v":{"v":0,"d":"0    "}}]
[{"$f":"CONCATENATE(Registre!C22, \" \", Registre!D22)","v":" "},{"$f":"Registre!G22","v":{"v":0,"d":"0    "}},{"$f":"Registre!J22","v":{"v":0,"d":"0    "}},{"$f":"Registre!K22","v":{"v":0,"d":"0    "}},{"$f":"Registre!L22","v":{"v":0,"d":"0    "}},{"$f":"Registre!M22","v":{"v":0,"d":"0    "}},{"$f":"Registre!T22","v":{"v":0,"d":"0    "}}]
[{"$f":"CONCATENATE(Registre!C23, \" \", Registre!D23)","v":" "},{"$f":"Registre!G23","v":{"v":0,"d":"0    "}},{"$f":"Registre!J23","v":{"v":0,"d":"0    "}},{"$f":"Registre!K23","v":{"v":0,"d":"0    "}},{"$f":"Registre!L23","v":{"v":0,"d":"0    "}},{"$f":"Registre!M23","v":{"v":0,"d":"0    "}},{"$f":"Registre!T23","v":{"v":0,"d":"0    "}}]
[{"$f":"CONCATENATE(Registre!C24, \" \", Registre!D24)","v":" "},{"$f":"Registre!G24","v":{"v":0,"d":"0    "}},{"$f":"Registre!J24","v":{"v":0,"d":"0    "}},{"$f":"Registre!K24","v":{"v":0,"d":"0    "}},{"$f":"Registre!L24","v":{"v":0,"d":"0    "}},{"$f":"Registre!M24","v":{"v":0,"d":"0    "}},{"$f":"Registre!T24","v":{"v":0,"d":"0    "}}]
[{"$f":"CONCATENATE(Registre!C25, \" \", Registre!D25)","v":" "},{"$f":"Registre!G25","v":{"v":0,"d":"0    "}},{"$f":"Registre!J25","v":{"v":0,"d":"0    "}},{"$f":"Registre!K25","v":{"v":0,"d":"0    "}},{"$f":"Registre!L25","v":{"v":0,"d":"0    "}},{"$f":"Registre!M25","v":{"v":0,"d":"0    "}},{"$f":"Registre!T25","v":{"v":0,"d":"0    "}}]
[{"$f":"CONCATENATE(Registre!C26, \" \", Registre!D26)","v":" "},{"$f":"Registre!G26","v":{"v":0,"d":"0    "}},{"$f":"Registre!J26","v":{"v":0,"d":"0    "}},{"$f":"Registre!K26","v":{"v":0,"d":"0    "}},{"$f":"Registre!L26","v":{"v":0,"d":"0    "}},{"$f":"Registre!M26","v":{"v":0,"d":"0    "}},{"$f":"Registre!T26","v":{"v":0,"d":"0    "}}]
[{"$f":"CONCATENATE(Registre!C27, \" \", Registre!D27)","v":" "},{"$f":"Registre!G27","v":{"v":0,"d":"0    "}},{"$f":"Registre!J27","v":{"v":0,"d":"0    "}},{"$f":"Registre!K27","v":{"v":0,"d":"0    "}},{"$f":"Registre!L27","v":{"v":0,"d":"0    "}},{"$f":"Registre!M27","v":{"v":0,"d":"0    "}},{"$f":"Registre!T27","v":{"v":0,"d":"0    "}}]
[{"$f":"CONCATENATE(Registre!C28, \" \", Registre!D28)","v":" "},{"$f":"Registre!G28","v":{"v":0,"d":"0    "}},{"$f":"Registre!J28","v":{"v":0,"d":"0    "}},{"$f":"Registre!K28","v":{"v":0,"d":"0    "}},{"$f":"Registre!L28","v":{"v":0,"d":"0    "}},{"$f":"Registre!M28","v":{"v":0,"d":"0    "}},{"$f":"Registre!T28","v":{"v":0,"d":"0    "}}]
[{"$f":"CONCATENATE(Registre!C29, \" \", Registre!D29)","v":" "},{"$f":"Registre!G29","v":{"v":0,"d":"0    "}},{"$f":"Registre!J29","v":{"v":0,"d":"0    "}},{"$f":"Registre!K29","v":{"v":0,"d":"0    "}},{"$f":"Registre!L29","v":{"v":0,"d":"0    "}},{"$f":"Registre!M29","v":{"v":0,"d":"0    "}},{"$f":"Registre!T29","v":{"v":0,"d":"0    "}}]
[{"$f":"CONCATENATE(Registre!C30, \" \", Registre!D30)","v":" "},{"$f":"Registre!G30","v":{"v":0,"d":"0    "}},{"$f":"Registre!J30","v":{"v":0,"d":"0    "}},{"$f":"Registre!K30","v":{"v":0,"d":"0    "}},{"$f":"Registre!L30","v":{"v":0,"d":"0    "}},{"$f":"Registre!M30","v":{"v":0,"d":"0    "}},{"$f":"Registre!T30","v":{"v":0,"d":"0    "}}]
[{"$f":"CONCATENATE(Registre!C31, \" \", Registre!D31)","v":" "},{"$f":"Registre!G31","v":{"v":0,"d":"0    "}},{"$f":"Registre!J31","v":{"v":0,"d":"0    "}},{"$f":"Registre!K31","v":{"v":0,"d":"0    "}},{"$f":"Registre!L31","v":{"v":0,"d":"0    "}},{"$f":"Registre!M31","v":{"v":0,"d":"0    "}},{"$f":"Registre!T31","v":{"v":0,"d":"0    "}}]
[{"$f":"CONCATENATE(Registre!C32, \" \", Registre!D32)","v":" "},{"$f":"Registre!G32","v":{"v":0,"d":"0    "}},{"$f":"Registre!J32","v":{"v":0,"d":"0    "}},{"$f":"Registre!K32","v":{"v":0,"d":"0    "}},{"$f":"Registre!L32","v":{"v":0,"d":"0    "}},{"$f":"Registre!M32","v":{"v":0,"d":"0    "}},{"$f":"Registre!T32","v":{"v":0,"d":"0    "}}]
[{"$f":"CONCATENATE(Registre!C33, \" \", Registre!D33)","v":" "},{"$f":"Registre!G33","v":{"v":0,"d":"0    "}},{"$f":"Registre!J33","v":{"v":0,"d":"0    "}},{"$f":"Registre!K33","v":{"v":0,"d":"0    "}},{"$f":"Registre!L33","v":{"v":0,"d":"0    "}},{"$f":"Registre!M33","v":{"v":0,"d":"0    "}},{"$f":"Registre!T33","v":{"v":0,"d":"0    "}}]
[{"$f":"CONCATENATE(Registre!C34, \" \", Registre!D34)","v":" "},{"$f":"Registre!G34","v":{"v":0,"d":"0    "}},{"$f":"Registre!J34","v":{"v":0,"d":"0    "}},{"$f":"Registre!K34","v":{"v":0,"d":"0    "}},{"$f":"Registre!L34","v":{"v":0,"d":"0    "}},{"$f":"Registre!M34","v":{"v":0,"d":"0    "}},{"$f":"Registre!T34","v":{"v":0,"d":"0    "}}]
[{"$f":"CONCATENATE(Registre!C35, \" \", Registre!D35)","v":" "},{"$f":"Registre!G35","v":{"v":0,"d":"0    "}},{"$f":"Registre!J35","v":{"v":0,"d":"0    "}},{"$f":"Registre!K35","v":{"v":0,"d":"0    "}},{"$f":"Registre!L35","v":{"v":0,"d":"0    "}},{"$f":"Registre!M35","v":{"v":0,"d":"0    "}},{"$f":"Registre!T35","v":{"v":0,"d":"0    "}}]
[{"$f":"CONCATENATE(Registre!C36, \" \", Registre!D36)","v":" "},{"$f":"Registre!G36","v":{"v":0,"d":"0    "}},{"$f":"Registre!J36","v":{"v":0,"d":"0    "}},{"$f":"Registre!K36","v":{"v":0,"d":"0    "}},{"$f":"Registre!L36","v":{"v":0,"d":"0    "}},{"$f":"Registre!M36","v":{"v":0,"d":"0    "}},{"$f":"Registre!T36","v":{"v":0,"d":"0    "}}]
[{"$f":"CONCATENATE(Registre!C37, \" \", Registre!D37)","v":" "},{"$f":"Registre!G37","v":{"v":0,"d":"0    "}},{"$f":"Registre!J37","v":{"v":0,"d":"0    "}},{"$f":"Registre!K37","v":{"v":0,"d":"0    "}},{"$f":"Registre!L37","v":{"v":0,"d":"0    "}},{"$f":"Registre!M37","v":{"v":0,"d":"0    "}},{"$f":"Registre!T37","v":{"v":0,"d":"0    "}}]
[{"$f":"CONCATENATE(Registre!C38, \" \", Registre!D38)","v":" "},{"$f":"Registre!G38","v":{"v":0,"d":"0    "}},{"$f":"Registre!J38","v":{"v":0,"d":"0    "}},{"$f":"Registre!K38","v":{"v":0,"d":"0    "}},{"$f":"Registre!L38","v":{"v":0,"d":"0    "}},{"$f":"Registre!M38","v":{"v":0,"d":"0    "}},{"$f":"Registre!T38","v":{"v":0,"d":"0    "}}]
[{"$f":"CONCATENATE(Registre!C39, \" \", Registre!D39)","v":" "},{"$f":"Registre!G39","v":{"v":0,"d":"0    "}},{"$f":"Registre!J39","v":{"v":0,"d":"0    "}},{"$f":"Registre!K39","v":{"v":0,"d":"0    "}},{"$f":"Registre!L39","v":{"v":0,"d":"0    "}},{"$f":"Registre!M39","v":{"v":0,"d":"0    "}},{"$f":"Registre!T39","v":{"v":0,"d":"0    "}}]
[{"$f":"CONCATENATE(Registre!C40, \" \", Registre!D40)","v":" "},{"$f":"Registre!G40","v":{"v":0,"d":"0    "}},{"$f":"Registre!J40","v":{"v":0,"d":"0    "}},{"$f":"Registre!K40","v":{"v":0,"d":"0    "}},{"$f":"Registre!L40","v":{"v":0,"d":"0    "}},{"$f":"Registre!M40","v":{"v":0,"d":"0    "}},{"$f":"Registre!T40","v":{"v":0,"d":"0    "}}]
[{"$f":"CONCATENATE(Registre!C41, \" \", Registre!D41)","v":" "},{"$f":"Registre!G41","v":{"v":0,"d":"0    "}},{"$f":"Registre!J41","v":{"v":0,"d":"0    "}},{"$f":"Registre!K41","v":{"v":0,"d":"0    "}},{"$f":"Registre!L41","v":{"v":0,"d":"0    "}},{"$f":"Registre!M41","v":{"v":0,"d":"0    "}},{"$f":"Registre!T41","v":{"v":0,"d":"0    "}}]
[{"$f":"CONCATENATE(Registre!C42, \" \", Registre!D42)","v":" "},{"$f":"Registre!G42","v":{"v":0,"d":"0    "}},{"$f":"Registre!J42","v":{"v":0,"d":"0    "}},{"$f":"Registre!K42","v":{"v":0,"d":"0    "}},{"$f":"Registre!L42","v":{"v":0,"d":"0    "}},{"$f":"Registre!M42","v":{"v":0,"d":"0    "}},{"$f":"Registre!T42","v":{"v":0,"d":"0    "}}]
[{"$f":"CONCATENATE(Registre!C43, \" \", Registre!D43)","v":" "},{"$f":"Registre!G43","v":{"v":0,"d":"0    "}},{"$f":"Registre!J43","v":{"v":0,"d":"0    "}},{"$f":"Registre!K43","v":{"v":0,"d":"0    "}},{"$f":"Registre!L43","v":{"v":0,"d":"0    "}},{"$f":"Registre!M43","v":{"v":0,"d":"0    "}},{"$f":"Registre!T43","v":{"v":0,"d":"0    "}}]
[{"$f":"CONCATENATE(Registre!C44, \" \", Registre!D44)","v":" "},{"$f":"Registre!G44","v":{"v":0,"d":"0    "}},{"$f":"Registre!J44","v":{"v":0,"d":"0    "}},{"$f":"Registre!K44","v":{"v":0,"d":"0    "}},{"$f":"Registre!L44","v":{"v":0,"d":"0    "}},{"$f":"Registre!M44","v":{"v":0,"d":"0    "}},{"$f":"Registre!T44","v":{"v":0,"d":"0    "}}]
[{"$f":"CONCATENATE(Registre!C45, \" \", Registre!D45)","v":" "},{"$f":"Registre!G45","v":{"v":0,"d":"0    "}},{"$f":"Registre!J45","v":{"v":0,"d":"0    "}},{"$f":"Registre!K45","v":{"v":0,"d":"0    "}},{"$f":"Registre!L45","v":{"v":0,"d":"0    "}},{"$f":"Registre!M45","v":{"v":0,"d":"0    "}},{"$f":"Registre!T45","v":{"v":0,"d":"0    "}}]
[{"$f":"CONCATENATE(Registre!C46, \" \", Registre!D46)","v":" "},{"$f":"Registre!G46","v":{"v":0,"d":"0    "}},{"$f":"Registre!J46","v":{"v":0,"d":"0    "}},{"$f":"Registre!K46","v":{"v":0,"d":"0    "}},{"$f":"Registre!L46","v":{"v":0,"d":"0    "}},{"$f":"Registre!M46","v":{"v":0,"d":"0    "}},{"$f":"Registre!T46","v":{"v":0,"d":"0    "}}]
[{"$f":"CONCATENATE(Registre!C47, \" \", Registre!D47)","v":" "},{"$f":"Registre!G47","v":{"v":0,"d":"0    "}},{"$f":"Registre!J47","v":{"v":0,"d":"0    "}},{"$f":"Registre!K47","v":{"v":0,"d":"0    "}},{"$f":"Registre!L47","v":{"v":0,"d":"0    "}},{"$f":"Registre!M47","v":{"v":0,"d":"0    "}},{"$f":"Registre!T47","v":{"v":0,"d":"0    "}}]
[{"$f":"CONCATENATE(Registre!C48, \" \", Registre!D48)","v":" "},{"$f":"Registre!G48","v":{"v":0,"d":"0    "}},{"$f":"Registre!J48","v":{"v":0,"d":"0    "}},{"$f":"Registre!K48","v":{"v":0,"d":"0    "}},{"$f":"Registre!L48","v":{"v":0,"d":"0    "}},{"$f":"Registre!M48","v":{"v":0,"d":"0    "}},{"$f":"Registre!T48","v":{"v":0,"d":"0    "}}]
[{"$f":"CONCATENATE(Registre!C49, \" \", Registre!D49)","v":" "},{"$f":"Registre!G49","v":{"v":0,"d":"0    "}},{"$f":"Registre!J49","v":{"v":0,"d":"0    "}},{"$f":"Registre!K49","v":{"v":0,"d":"0    "}},{"$f":"Registre!L49","v":{"v":0,"d":"0    "}},{"$f":"Registre!M49","v":{"v":0,"d":"0    "}},{"$f":"Registre!T49","v":{"v":0,"d":"0    "}}]
[{"$f":"CONCATENATE(Registre!C50, \" \", Registre!D50)","v":" "},{"$f":"Registre!G50","v":{"v":0,"d":"0    "}},{"$f":"Registre!J50","v":{"v":0,"d":"0    "}},{"$f":"Registre!K50","v":{"v":0,"d":"0    "}},{"$f":"Registre!L50","v":{"v":0,"d":"0    "}},{"$f":"Registre!M50","v":{"v":0,"d":"0    "}},{"$f":"Registre!T50","v":{"v":0,"d":"0    "}}]
[{"$f":"CONCATENATE(Registre!C51, \" \", Registre!D51)","v":" "},{"$f":"Registre!G51","v":{"v":0,"d":"0    "}},{"$f":"Registre!J51","v":{"v":0,"d":"0    "}},{"$f":"Registre!K51","v":{"v":0,"d":"0    "}},{"$f":"Registre!L51","v":{"v":0,"d":"0    "}},{"$f":"Registre!M51","v":{"v":0,"d":"0    "}},{"$f":"Registre!T51","v":{"v":0,"d":"0    "}}]
[{"$f":"CONCATENATE(Registre!C52, \" \", Registre!D52)","v":" "},{"$f":"Registre!G52","v":{"v":0,"d":"0    "}},{"$f":"Registre!J52","v":{"v":0,"d":"0    "}},{"$f":"Registre!K52","v":{"v":0,"d":"0    "}},{"$f":"Registre!L52","v":{"v":0,"d":"0    "}},{"$f":"Registre!M52","v":{"v":0,"d":"0    "}},{"$f":"Registre!T52","v":{"v":0,"d":"0    "}}]
[{"$f":"CONCATENATE(Registre!C53, \" \", Registre!D53)","v":" "},{"$f":"Registre!G53","v":{"v":0,"d":"0    "}},{"$f":"Registre!J53","v":{"v":0,"d":"0    "}},{"$f":"Registre!K53","v":{"v":0,"d":"0    "}},{"$f":"Registre!L53","v":{"v":0,"d":"0    "}},{"$f":"Registre!M53","v":{"v":0,"d":"0    "}},{"$f":"Registre!T53","v":{"v":0,"d":"0    "}}]
[{"$f":"CONCATENATE(Registre!C54, \" \", Registre!D54)","v":" "},{"$f":"Registre!G54","v":{"v":0,"d":"0    "}},{"$f":"Registre!J54","v":{"v":0,"d":"0    "}},{"$f":"Registre!K54","v":{"v":0,"d":"0    "}},{"$f":"Registre!L54","v":{"v":0,"d":"0    "}},{"$f":"Registre!M54","v":{"v":0,"d":"0    "}},{"$f":"Registre!T54","v":{"v":0,"d":"0    "}}]
[{"$f":"CONCATENATE(Registre!C55, \" \", Registre!D55)","v":" "},{"$f":"Registre!G55","v":{"v":0,"d":"0    "}},{"$f":"Registre!J55","v":{"v":0,"d":"0    "}},{"$f":"Registre!K55","v":{"v":0,"d":"0    "}},{"$f":"Registre!L55","v":{"v":0,"d":"0    "}},{"$f":"Registre!M55","v":{"v":0,"d":"0    "}},{"$f":"Registre!T55","v":{"v":0,"d":"0    "}}]
[{"$f":"CONCATENATE(Registre!C56, \" \", Registre!D56)","v":" "},{"$f":"Registre!G56","v":{"v":0,"d":"0    "}},{"$f":"Registre!J56","v":{"v":0,"d":"0    "}},{"$f":"Registre!K56","v":{"v":0,"d":"0    "}},{"$f":"Registre!L56","v":{"v":0,"d":"0    "}},{"$f":"Registre!M56","v":{"v":0,"d":"0    "}},{"$f":"Registre!T56","v":{"v":0,"d":"0    "}}]
[{"$f":"CONCATENATE(Registre!C57, \" \", Registre!D57)","v":" "},{"$f":"Registre!G57","v":{"v":0,"d":"0    "}},{"$f":"Registre!J57","v":{"v":0,"d":"0    "}},{"$f":"Registre!K57","v":{"v":0,"d":"0    "}},{"$f":"Registre!L57","v":{"v":0,"d":"0    "}},{"$f":"Registre!M57","v":{"v":0,"d":"0    "}},{"$f":"Registre!T57","v":{"v":0,"d":"0    "}}]
[{"$f":"CONCATENATE(Registre!C58, \" \", Registre!D58)","v":" "},{"$f":"Registre!G58","v":{"v":0,"d":"0    "}},{"$f":"Registre!J58","v":{"v":0,"d":"0    "}},{"$f":"Registre!K58","v":{"v":0,"d":"0    "}},{"$f":"Registre!L58","v":{"v":0,"d":"0    "}},{"$f":"Registre!M58","v":{"v":0,"d":"0    "}},{"$f":"Registre!T58","v":{"v":0,"d":"0    "}}]
[{"$f":"CONCATENATE(Registre!C59, \" \", Registre!D59)","v":" "},{"$f":"Registre!G59","v":{"v":0,"d":"0    "}},{"$f":"Registre!J59","v":{"v":0,"d":"0    "}},{"$f":"Registre!K59","v":{"v":0,"d":"0    "}},{"$f":"Registre!L59","v":{"v":0,"d":"0    "}},{"$f":"Registre!M59","v":{"v":0,"d":"0    "}},{"$f":"Registre!T59","v":{"v":0,"d":"0    "}}]
[{"$f":"CONCATENATE(Registre!C60, \" \", Registre!D60)","v":" "},{"$f":"Registre!G60","v":{"v":0,"d":"0    "}},{"$f":"Registre!J60","v":{"v":0,"d":"0    "}},{"$f":"Registre!K60","v":{"v":0,"d":"0    "}},{"$f":"Registre!L60","v":{"v":0,"d":"0    "}},{"$f":"Registre!M60","v":{"v":0,"d":"0    "}},{"$f":"Registre!T60","v":{"v":0,"d":"0    "}}]
[{"$f":"CONCATENATE(Registre!C61, \" \", Registre!D61)","v":" "},{"$f":"Registre!G61","v":{"v":0,"d":"0    "}},{"$f":"Registre!J61","v":{"v":0,"d":"0    "}},{"$f":"Registre!K61","v":{"v":0,"d":"0    "}},{"$f":"Registre!L61","v":{"v":0,"d":"0    "}},{"$f":"Registre!M61","v":{"v":0,"d":"0    "}},{"$f":"Registre!T61","v":{"v":0,"d":"0    "}}]
[{"$f":"CONCATENATE(Registre!C62, \" \", Registre!D62)","v":" "},{"$f":"Registre!G62","v":{"v":0,"d":"0    "}},{"$f":"Registre!J62","v":{"v":0,"d":"0    "}},{"$f":"Registre!K62","v":{"v":0,"d":"0    "}},{"$f":"Registre!L62","v":{"v":0,"d":"0    "}},{"$f":"Registre!M62","v":{"v":0,"d":"0    "}},{"$f":"Registre!T62","v":{"v":0,"d":"0    "}}]
[{"$f":"CONCATENATE(Registre!C63, \" \", Registre!D63)","v":" "},{"$f":"Registre!G63","v":{"v":0,"d":"0    "}},{"$f":"Registre!J63","v":{"v":0,"d":"0    "}},{"$f":"Registre!K63","v":{"v":0,"d":"0    "}},{"$f":"Registre!L63","v":{"v":0,"d":"0    "}},{"$f":"Registre!M63","v":{"v":0,"d":"0    "}},{"$f":"Registre!T63","v":{"v":0,"d":"0    "}}]
[{"$f":"CONCATENATE(Registre!C64, \" \", Registre!D64)","v":" "},{"$f":"Registre!G64","v":{"v":0,"d":"0    "}},{"$f":"Registre!J64","v":{"v":0,"d":"0    "}},{"$f":"Registre!K64","v":{"v":0,"d":"0    "}},{"$f":"Registre!L64","v":{"v":0,"d":"0    "}},{"$f":"Registre!M64","v":{"v":0,"d":"0    "}},{"$f":"Registre!T64","v":{"v":0,"d":"0    "}}]
[{"$f":"CONCATENATE(Registre!C65, \" \", Registre!D65)","v":" "},{"$f":"Registre!G65","v":{"v":0,"d":"0    "}},{"$f":"Registre!J65","v":{"v":0,"d":"0    "}},{"$f":"Registre!K65","v":{"v":0,"d":"0    "}},{"$f":"Registre!L65","v":{"v":0,"d":"0    "}},{"$f":"Registre!M65","v":{"v":0,"d":"0    "}},{"$f":"Registre!T65","v":{"v":0,"d":"0    "}}]
[{"$f":"CONCATENATE(Registre!C66, \" \", Registre!D66)","v":" "},{"$f":"Registre!G66","v":{"v":0,"d":"0    "}},{"$f":"Registre!J66","v":{"v":0,"d":"0    "}},{"$f":"Registre!K66","v":{"v":0,"d":"0    "}},{"$f":"Registre!L66","v":{"v":0,"d":"0    "}},{"$f":"Registre!M66","v":{"v":0,"d":"0    "}},{"$f":"Registre!T66","v":{"v":0,"d":"0    "}}]
[{"$f":"CONCATENATE(Registre!C67, \" \", Registre!D67)","v":" "},{"$f":"Registre!G67","v":{"v":0,"d":"0    "}},{"$f":"Registre!J67","v":{"v":0,"d":"0    "}},{"$f":"Registre!K67","v":{"v":0,"d":"0    "}},{"$f":"Registre!L67","v":{"v":0,"d":"0    "}},{"$f":"Registre!M67","v":{"v":0,"d":"0    "}},{"$f":"Registre!T67","v":{"v":0,"d":"0    "}}]
[{"$f":"CONCATENATE(Registre!C68, \" \", Registre!D68)","v":" "},{"$f":"Registre!G68","v":{"v":0,"d":"0    "}},{"$f":"Registre!J68","v":{"v":0,"d":"0    "}},{"$f":"Registre!K68","v":{"v":0,"d":"0    "}},{"$f":"Registre!L68","v":{"v":0,"d":"0    "}},{"$f":"Registre!M68","v":{"v":0,"d":"0    "}},{"$f":"Registre!T68","v":{"v":0,"d":"0    "}}]
[{"$f":"CONCATENATE(Registre!C69, \" \", Registre!D69)","v":" "},{"$f":"Registre!G69","v":{"v":0,"d":"0    "}},{"$f":"Registre!J69","v":{"v":0,"d":"0    "}},{"$f":"Registre!K69","v":{"v":0,"d":"0    "}},{"$f":"Registre!L69","v":{"v":0,"d":"0    "}},{"$f":"Registre!M69","v":{"v":0,"d":"0    "}},{"$f":"Registre!T69","v":{"v":0,"d":"0    "}}]
[{"$f":"CONCATENATE(Registre!C70, \" \", Registre!D70)","v":" "},{"$f":"Registre!G70","v":{"v":0,"d":"0    "}},{"$f":"Registre!J70","v":{"v":0,"d":"0    "}},{"$f":"Registre!K70","v":{"v":0,"d":"0    "}},{"$f":"Registre!L70","v":{"v":0,"d":"0    "}},{"$f":"Registre!M70","v":{"v":0,"d":"0    "}},{"$f":"Registre!T70","v":{"v":0,"d":"0    "}}]
[{"$f":"CONCATENATE(Registre!C71, \" \", Registre!D71)","v":" "},{"$f":"Registre!G71","v":{"v":0,"d":"0    "}},{"$f":"Registre!J71","v":{"v":0,"d":"0    "}},{"$f":"Registre!K71","v":{"v":0,"d":"0    "}},{"$f":"Registre!L71","v":{"v":0,"d":"0    "}},{"$f":"Registre!M71","v":{"v":0,"d":"0    "}},{"$f":"Registre!T71","v":{"v":0,"d":"0    "}}]
[{"$f":"CONCATENATE(Registre!C72, \" \", Registre!D72)","v":" "},{"$f":"Registre!G72","v":{"v":0,"d":"0    "}},{"$f":"Registre!J72","v":{"v":0,"d":"0    "}},{"$f":"Registre!K72","v":{"v":0,"d":"0    "}},{"$f":"Registre!L72","v":{"v":0,"d":"0    "}},{"$f":"Registre!M72","v":{"v":0,"d":"0    "}},{"$f":"Registre!T72","v":{"v":0,"d":"0    "}}]
[{"$f":"CONCATENATE(Registre!C73, \" \", Registre!D73)","v":" "},{"$f":"Registre!G73","v":{"v":0,"d":"0    "}},{"$f":"Registre!J73","v":{"v":0,"d":"0    "}},{"$f":"Registre!K73","v":{"v":0,"d":"0    "}},{"$f":"Registre!L73","v":{"v":0,"d":"0    "}},{"$f":"Registre!M73","v":{"v":0,"d":"0    "}},{"$f":"Registre!T73","v":{"v":0,"d":"0    "}}]
[{"$f":"CONCATENATE(Registre!C74, \" \", Registre!D74)","v":" "},{"$f":"Registre!G74","v":{"v":0,"d":"0    "}},{"$f":"Registre!J74","v":{"v":0,"d":"0    "}},{"$f":"Registre!K74","v":{"v":0,"d":"0    "}},{"$f":"Registre!L74","v":{"v":0,"d":"0    "}},{"$f":"Registre!M74","v":{"v":0,"d":"0    "}},{"$f":"Registre!T74","v":{"v":0,"d":"0    "}}]
[{"$f":"CONCATENATE(Registre!C75, \" \", Registre!D75)","v":" "},{"$f":"Registre!G75","v":{"v":0,"d":"0    "}},{"$f":"Registre!J75","v":{"v":0,"d":"0    "}},{"$f":"Registre!K75","v":{"v":0,"d":"0    "}},{"$f":"Registre!L75","v":{"v":0,"d":"0    "}},{"$f":"Registre!M75","v":{"v":0,"d":"0    "}},{"$f":"Registre!T75","v":{"v":0,"d":"0    "}}]
[{"$f":"CONCATENATE(Registre!C76, \" \", Registre!D76)","v":" "},{"$f":"Registre!G76","v":{"v":0,"d":"0    "}},{"$f":"Registre!J76","v":{"v":0,"d":"0    "}},{"$f":"Registre!K76","v":{"v":0,"d":"0    "}},{"$f":"Registre!L76","v":{"v":0,"d":"0    "}},{"$f":"Registre!M76","v":{"v":0,"d":"0    "}},{"$f":"Registre!T76","v":{"v":0,"d":"0    "}}]
[{"$f":"CONCATENATE(Registre!C77, \" \", Registre!D77)","v":" "},{"$f":"Registre!G77","v":{"v":0,"d":"0    "}},{"$f":"Registre!J77","v":{"v":0,"d":"0    "}},{"$f":"Registre!K77","v":{"v":0,"d":"0    "}},{"$f":"Registre!L77","v":{"v":0,"d":"0    "}},{"$f":"Registre!M77","v":{"v":0,"d":"0    "}},{"$f":"Registre!T77","v":{"v":0,"d":"0    "}}]
[{"$f":"CONCATENATE(Registre!C78, \" \", Registre!D78)","v":" "},{"$f":"Registre!G78","v":{"v":0,"d":"0    "}},{"$f":"Registre!J78","v":{"v":0,"d":"0    "}},{"$f":"Registre!K78","v":{"v":0,"d":"0    "}},{"$f":"Registre!L78","v":{"v":0,"d":"0    "}},{"$f":"Registre!M78","v":{"v":0,"d":"0    "}},{"$f":"Registre!T78","v":{"v":0,"d":"0    "}}]
[{"$f":"CONCATENATE(Registre!C79, \" \", Registre!D79)","v":" "},{"$f":"Registre!G79","v":{"v":0,"d":"0    "}},{"$f":"Registre!J79","v":{"v":0,"d":"0    "}},{"$f":"Registre!K79","v":{"v":0,"d":"0    "}},{"$f":"Registre!L79","v":{"v":0,"d":"0    "}},{"$f":"Registre!M79","v":{"v":0,"d":"0    "}},{"$f":"Registre!T79","v":{"v":0,"d":"0    "}}]
[{"$f":"CONCATENATE(Registre!C80, \" \", Registre!D80)","v":" "},{"$f":"Registre!G80","v":{"v":0,"d":"0    "}},{"$f":"Registre!J80","v":{"v":0,"d":"0    "}},{"$f":"Registre!K80","v":{"v":0,"d":"0    "}},{"$f":"Registre!L80","v":{"v":0,"d":"0    "}},{"$f":"Registre!M80","v":{"v":0,"d":"0    "}},{"$f":"Registre!T80","v":{"v":0,"d":"0    "}}]
[{"$f":"CONCATENATE(Registre!C81, \" \", Registre!D81)","v":" "},{"$f":"Registre!G81","v":{"v":0,"d":"0    "}},{"$f":"Registre!J81","v":{"v":0,"d":"0    "}},{"$f":"Registre!K81","v":{"v":0,"d":"0    "}},{"$f":"Registre!L81","v":{"v":0,"d":"0    "}},{"$f":"Registre!M81","v":{"v":0,"d":"0    "}},{"$f":"Registre!T81","v":{"v":0,"d":"0    "}}]
[{"$f":"CONCATENATE(Registre!C82, \" \", Registre!D82)","v":" "},{"$f":"Registre!G82","v":{"v":0,"d":"0    "}},{"$f":"Registre!J82","v":{"v":0,"d":"0    "}},{"$f":"Registre!K82","v":{"v":0,"d":"0    "}},{"$f":"Registre!L82","v":{"v":0,"d":"0    "}},{"$f":"Registre!M82","v":{"v":0,"d":"0    "}},{"$f":"Registre!T82","v":{"v":0,"d":"0    "}}]
[{"$f":"CONCATENATE(Registre!C83, \" \", Registre!D83)","v":" "},{"$f":"Registre!G83","v":{"v":0,"d":"0    "}},{"$f":"Registre!J83","v":{"v":0,"d":"0    "}},{"$f":"Registre!K83","v":{"v":0,"d":"0    "}},{"$f":"Registre!L83","v":{"v":0,"d":"0    "}},{"$f":"Registre!M83","v":{"v":0,"d":"0    "}},{"$f":"Registre!T83","v":{"v":0,"d":"0    "}}]
[{"$f":"CONCATENATE(Registre!C84, \" \", Registre!D84)","v":" "},{"$f":"Registre!G84","v":{"v":0,"d":"0    "}},{"$f":"Registre!J84","v":{"v":0,"d":"0    "}},{"$f":"Registre!K84","v":{"v":0,"d":"0    "}},{"$f":"Registre!L84","v":{"v":0,"d":"0    "}},{"$f":"Registre!M84","v":{"v":0,"d":"0    "}},{"$f":"Registre!T84","v":{"v":0,"d":"0    "}}]
[{"$f":"CONCATENATE(Registre!C85, \" \", Registre!D85)","v":" "},{"$f":"Registre!G85","v":{"v":0,"d":"0    "}},{"$f":"Registre!J85","v":{"v":0,"d":"0    "}},{"$f":"Registre!K85","v":{"v":0,"d":"0    "}},{"$f":"Registre!L85","v":{"v":0,"d":"0    "}},{"$f":"Registre!M85","v":{"v":0,"d":"0    "}},{"$f":"Registre!T85","v":{"v":0,"d":"0    "}}]
[{"$f":"CONCATENATE(Registre!C86, \" \", Registre!D86)","v":" "},{"$f":"Registre!G86","v":{"v":0,"d":"0    "}},{"$f":"Registre!J86","v":{"v":0,"d":"0    "}},{"$f":"Registre!K86","v":{"v":0,"d":"0    "}},{"$f":"Registre!L86","v":{"v":0,"d":"0    "}},{"$f":"Registre!M86","v":{"v":0,"d":"0    "}},{"$f":"Registre!T86","v":{"v":0,"d":"0    "}}]
[{"$f":"CONCATENATE(Registre!C87, \" \", Registre!D87)","v":" "},{"$f":"Registre!G87","v":{"v":0,"d":"0    "}},{"$f":"Registre!J87","v":{"v":0,"d":"0    "}},{"$f":"Registre!K87","v":{"v":0,"d":"0    "}},{"$f":"Registre!L87","v":{"v":0,"d":"0    "}},{"$f":"Registre!M87","v":{"v":0,"d":"0    "}},{"$f":"Registre!T87","v":{"v":0,"d":"0    "}}]
[{"$f":"CONCATENATE(Registre!C88, \" \", Registre!D88)","v":" "},{"$f":"Registre!G88","v":{"v":0,"d":"0    "}},{"$f":"Registre!J88","v":{"v":0,"d":"0    "}},{"$f":"Registre!K88","v":{"v":0,"d":"0    "}},{"$f":"Registre!L88","v":{"v":0,"d":"0    "}},{"$f":"Registre!M88","v":{"v":0,"d":"0    "}},{"$f":"Registre!T88","v":{"v":0,"d":"0    "}}]
[{"$f":"CONCATENATE(Registre!C89, \" \", Registre!D89)","v":" "},{"$f":"Registre!G89","v":{"v":0,"d":"0    "}},{"$f":"Registre!J89","v":{"v":0,"d":"0    "}},{"$f":"Registre!K89","v":{"v":0,"d":"0    "}},{"$f":"Registre!L89","v":{"v":0,"d":"0    "}},{"$f":"Registre!M89","v":{"v":0,"d":"0    "}},{"$f":"Registre!T89","v":{"v":0,"d":"0    "}}]
[{"$f":"CONCATENATE(Registre!C90, \" \", Registre!D90)","v":" "},{"$f":"Registre!G90","v":{"v":0,"d":"0    "}},{"$f":"Registre!J90","v":{"v":0,"d":"0    "}},{"$f":"Registre!K90","v":{"v":0,"d":"0    "}},{"$f":"Registre!L90","v":{"v":0,"d":"0    "}},{"$f":"Registre!M90","v":{"v":0,"d":"0    "}},{"$f":"Registre!T90","v":{"v":0,"d":"0    "}}]
[{"$f":"CONCATENATE(Registre!C91, \" \", Registre!D91)","v":" "},{"$f":"Registre!G91","v":{"v":0,"d":"0    "}},{"$f":"Registre!J91","v":{"v":0,"d":"0    "}},{"$f":"Registre!K91","v":{"v":0,"d":"0    "}},{"$f":"Registre!L91","v":{"v":0,"d":"0    "}},{"$f":"Registre!M91","v":{"v":0,"d":"0    "}},{"$f":"Registre!T91","v":{"v":0,"d":"0    "}}]
[{"$f":"CONCATENATE(Registre!C92, \" \", Registre!D92)","v":" "},{"$f":"Registre!G92","v":{"v":0,"d":"0    "}},{"$f":"Registre!J92","v":{"v":0,"d":"0    "}},{"$f":"Registre!K92","v":{"v":0,"d":"0    "}},{"$f":"Registre!L92","v":{"v":0,"d":"0    "}},{"$f":"Registre!M92","v":{"v":0,"d":"0    "}},{"$f":"Registre!T92","v":{"v":0,"d":"0    "}}]
[{"$f":"CONCATENATE(Registre!C93, \" \", Registre!D93)","v":" "},{"$f":"Registre!G93","v":{"v":0,"d":"0    "}},{"$f":"Registre!J93","v":{"v":0,"d":"0    "}},{"$f":"Registre!K93","v":{"v":0,"d":"0    "}},{"$f":"Registre!L93","v":{"v":0,"d":"0    "}},{"$f":"Registre!M93","v":{"v":0,"d":"0    "}},{"$f":"Registre!T93","v":{"v":0,"d":"0    "}}]
[{"$f":"CONCATENATE(Registre!C94, \" \", Registre!D94)","v":" "},{"$f":"Registre!G94","v":{"v":0,"d":"0    "}},{"$f":"Registre!J94","v":{"v":0,"d":"0    "}},{"$f":"Registre!K94","v":{"v":0,"d":"0    "}},{"$f":"Registre!L94","v":{"v":0,"d":"0    "}},{"$f":"Registre!M94","v":{"v":0,"d":"0    "}},{"$f":"Registre!T94","v":{"v":0,"d":"0    "}}]
[{"$f":"CONCATENATE(Registre!C95, \" \", Registre!D95)","v":" "},{"$f":"Registre!G95","v":{"v":0,"d":"0    "}},{"$f":"Registre!J95","v":{"v":0,"d":"0    "}},{"$f":"Registre!K95","v":{"v":0,"d":"0    "}},{"$f":"Registre!L95","v":{"v":0,"d":"0    "}},{"$f":"Registre!M95","v":{"v":0,"d":"0    "}},{"$f":"Registre!T95","v":{"v":0,"d":"0    "}}]