{"text_format":"3","workbook":"xlsx","n_sheets":6,"sheets":["Menu Principal","Acces Chef de Service","Acces Medecins","Effectifs","Planning","Affichage"],"not_rendered":{"images":4,"macros":1,"defined_names":1},"read":"whole","date_system":"1900"}

{"sheet":"Menu Principal","index":0,"n_rows":27,"n_cols":6,"rows_kept":27}
["HÔPITAL BONNE NOUVELLE"]
["Gestion Planning Gardes Nuits, WE et jours Fériés"]
{"$rows_empty":24}
[{"$nulls":5},"Emilie Wang et David Hornet"]

{"sheet":"Acces Chef de Service","index":1,"n_rows":8,"n_cols":4,"rows_kept":8}
["HÔPITAL BONNE NOUVELLE"]
["ACCES CHEF DE SERVICE"]
[]
[]
[]
[]
[{"$nulls":3},"=> deux choix, mise en place car il faut fixer la date de paque "]
[{"$nulls":3},"=> accès au planing de contrôle avec le calendrier, vert les conditions sont validées, rouge il y a un soucis et expliquer à chaque fois le soucis, mettre un récapitulatif par médecins"]

{"sheet":"Acces Medecins","index":2,"n_rows":8,"n_cols":4,"rows_kept":8}
["HÔPITAL BONNE NOUVELLE"]
["ACCES MEDECINS"]
[]
[{"$nulls":3},"=> créer un menu pour remplir l'onglet effectif"]
[]
[]
[]
[{"$nulls":3},"=> créer un menu pour modifier, vu que toutes les données sont modifiable se baser sur le numéro du médecin "]

{"sheet":"Effectifs","index":3,"n_rows":54,"n_cols":9,"rows_kept":54}
["HÔPITAL BONNE NOUVELLE"]
["Effectifs",{"$nulls":3},1,1,1,1,1]
[]
["Numéro","Prénom","Nom","Régime de travail (%)"]
[1]
[2]
[3]
[4]
[5]
[6]
[7]
[8]
[9]
[10]
[11]
[12]
[13]
[14]
[15]
[16]
[17]
[18]
[19]
[20]
[21]
[22]
[23]
[24]
[25]
[26]
[27]
[28]
[29]
[30]
[31]
[32]
[33]
[34]
[35]
[36]
[37]
[38]
[39]
[40]
[41]
[42]
[43]
[44]
[45]
[46]
[47]
[48]
[49]
[50]

{"sheet":"Planning","index":4,"n_rows":88,"n_cols":32,"rows_kept":88,"merged":[[66,1,66,31],[68,1,68,7],[68,9,68,15],[68,17,68,23],[68,25,68,31],[75,1,75,7],[75,9,75,15],[75,17,75,23],[75,25,75,31],[82,1,82,7],[82,9,82,15],[82,17,82,23],[82,25,82,31]]}
["HÔPITAL BONNE NOUVELLE"]
["PLANNING"]
[]
[]
["janvier",1,2,3,4,5,6,7,8,9,10,11,12,13,14,15,16,17,18,19,20,21,22,23,24,25,26,27,28,29,30,31]
["date",{"$f":"IF(B5=\"\",\"\",B5&\" \"&$A$5&\" \"&$B$67)","v":"1 janvier "},"2 janvier ","3 janvier ","4 janvier ","5 janvier ","6 janvier ","7 janvier ","8 janvier ","9 janvier ","10 janvier ","11 janvier ","12 janvier ","13 janvier ","14 janvier ","15 janvier ","16 janvier ","17 janvier ","18 janvier ","19 janvier ","20 janvier ","21 janvier ","22 janvier ","23 janvier ","24 janvier ","25 janvier ","26 janvier ","27 janvier ","28 janvier ","29 janvier ","30 janvier ","31 janvier "]
[null,{"$f":"Affichage!E2","v":0},{"$f":"Affichage!F2","v":0},{"$f":"Affichage!G2","v":0},{"$f":"Affichage!H2","v":0},{"$f":"Affichage!I2","v":0},{"$f":"Affichage!J2","v":0},{"$f":"Affichage!K2","v":0},{"$f":"Affichage!L2","v":0},{"$f":"Affichage!M2","v":0},{"$f":"Affichage!N2","v":0},{"$f":"Affichage!O2","v":0},{"$f":"Affichage!P2","v":0},{"$f":"Affichage!Q2","v":0},{"$f":"Affichage!R2","v":0},{"$f":"Affichage!S2","v":0},{"$f":"Affichage!T2","v":0},{"$f":"Affichage!U2","v":0},{"$f":"Affichage!V2","v":0},{"$f":"Affichage!W2","v":0},{"$f":"Affichage!X2","v":0},{"$f":"Affichage!Y2","v":0},{"$f":"Affichage!Z2","v":0},{"$f":"Affichage!AA2","v":0},{"$f":"Affichage!AB2","v":0},{"$f":"Affichage!AC2","v":0},{"$f":"Affichage!AD2","v":0},{"$f":"Affichage!AE2","v":0},{"$f":"Affichage!AF2","v":0},{"$f":"Affichage!AG2","v":0},{"$f":"Affichage!AH2","v":0},{"$f":"Affichage!AI2","v":0}]
["jour",{"$f":"IF(B5=\"\",\"\",WEEKDAY(B6,2))","v":1},{"$f":"IF(C5=\"\",\"\",WEEKDAY(C6,2))","v":2},3,4,5,6,7,1,2,3,4,5,6,7,1,2,3,4,5,6,7,1,2,3,4,5,6,7,1,2,3]
[]
["février",1,2,3,4,5,6,7,8,9,10,11,12,13,14,15,16,17,18,19,20,21,22,23,24,25,26,27,28,{"$f":"IF(K2=\"bissextile\",\"29\",\"\")","v":""}]
["date",{"$f":"IF(B10=\"\",\"\",B10&\" \"&$A$10&\" \"&$B$67)","v":"1 février "},"2 février ","3 février ","4 février ","5 février ","6 février ","7 février ","8 février ","9 février ","10 février ","11 février ","12 février ","13 février ","14 février ","15 février ","16 février ","17 février ","18 février ","19 février ","20 février ","21 février ","22 février ","23 février ","24 février ","25 février ","26 février ","27 février ","28 février ","","",""]
[null,{"$f":"Affichage!E3","v":0},{"$f":"Affichage!F3","v":0},{"$f":"Affichage!G3","v":0},{"$f":"Affichage!H3","v":0},{"$f":"Affichage!I3","v":0},{"$f":"Affichage!J3","v":0},{"$f":"Affichage!K3","v":0},{"$f":"Affichage!L3","v":0},{"$f":"Affichage!M3","v":0},{"$f":"Affichage!N3","v":0},{"$f":"Affichage!O3","v":0},{"$f":"Affichage!P3","v":0},{"$f":"Affichage!Q3","v":0},{"$f":"Affichage!R3","v":0},{"$f":"Affichage!S3","v":0},{"$f":"Affichage!T3","v":0},{"$f":"Affichage!U3","v":0},{"$f":"Affichage!V3","v":0},{"$f":"Affichage!W3","v":0},{"$f":"Affichage!X3","v":0},{"$f":"Affichage!Y3","v":0},{"$f":"Affichage!Z3","v":0},{"$f":"Affichage!AA3","v":0},{"$f":"Affichage!AB3","v":0},{"$f":"Affichage!AC3","v":0},{"$f":"Affichage!AD3","v":0},{"$f":"Affichage!AE3","v":0},{"$f":"Affichage!AF3","v":0},{"$f":"IF(AD11=\"\",\"\",Affichage!AG3)","v":""}]
["jour",{"$f":"IF(B10=\"\",\"\",WEEKDAY(B11,2))","v":4},5,6,7,1,2,3,4,5,6,7,1,2,3,4,5,6,7,1,2,3,4,5,6,7,1,2,3,"","",""]
[]
["mars",1,2,3,4,5,6,7,8,9,10,11,12,13,14,15,16,17,18,19,20,21,22,23,24,25,26,27,28,29,30,31]
["date",{"$f":"IF(B15=\"\",\"\",B15&\" \"&$A$15&\" \"&$B$67)","v":"1 mars "},"2 mars ","3 mars ","4 mars ","5 mars ","6 mars ","7 mars ","8 mars ","9 mars ","10 mars ","11 mars ","12 mars ","13 mars ","14 mars ","15 mars ","16 mars ","17 mars ","18 mars ","19 mars ","20 mars ","21 mars ","22 mars ","23 mars ","24 mars ","25 mars ","26 mars ","27 mars ","28 mars ","29 mars ","30 mars ","31 mars "]
[null,{"$f":"Affichage!E4","v":0},{"$f":"Affichage!F4","v":0},{"$f":"Affichage!G4","v":0},{"$f":"Affichage!H4","v":0},{"$f":"Affichage!I4","v":0},{"$f":"Affichage!J4","v":0},{"$f":"Affichage!K4","v":0},{"$f":"Affichage!L4","v":0},{"$f":"Affichage!M4","v":0},{"$f":"Affichage!N4","v":0},{"$f":"Affichage!O4","v":0},{"$f":"Affichage!P4","v":0},{"$f":"Affichage!Q4","v":0},{"$f":"Affichage!R4","v":0},{"$f":"Affichage!S4","v":0},{"$f":"Affichage!T4","v":0},{"$f":"Affichage!U4","v":0},{"$f":"Affichage!V4","v":0},{"$f":"Affichage!W4","v":0},{"$f":"Affichage!X4","v":0},{"$f":"Affichage!Y4","v":0},{"$f":"Affichage!Z4","v":0},{"$f":"Affichage!AA4","v":0},{"$f":"Affichage!AB4","v":0},{"$f":"Affichage!AC4","v":0},{"$f":"Affichage!AD4","v":0},{"$f":"Affichage!AE4","v":0},{"$f":"Affichage!AF4","v":0},{"$f":"Affichage!AG4","v":0},{"$f":"Affichage!AH4","v":0},{"$f":"Affichage!AI4","v":0}]
["jour",{"$f":"IF(B15=\"\",\"\",WEEKDAY(B16,2))","v":4},5,6,7,1,2,3,4,5,6,7,1,2,3,4,5,6,7,1,2,3,4,5,6,7,1,2,3,4,5,6]
[]
["avril",1,2,3,4,5,6,7,8,9,10,11,12,13,14,15,16,17,18,19,20,21,22,23,24,25,26,27,28,29,30]
["date",{"$f":"IF(B20=\"\",\"\",B20&\" \"&$A$20&\" \"&$B$67)","v":"1 avril "},"2 avril ","3 avril ","4 avril ","5 avril ","6 avril ","7 avril ","8 avril ","9 avril ","10 avril ","11 avril ","12 avril ","13 avril ","14 avril ","15 avril ","16 avril ","17 avril ","18 avril ","19 avril ","20 avril ","21 avril ","22 avril ","23 avril ","24 avril ","25 avril ","26 avril ","27 avril ","28 avril ","29 avril ","30 avril ",""]
[null,{"$f":"Affichage!E5","v":0},{"$f":"Affichage!F5","v":0},{"$f":"Affichage!G5","v":0},{"$f":"Affichage!H5","v":0},{"$f":"Affichage!I5","v":0},{"$f":"Affichage!J5","v":0},{"$f":"Affichage!K5","v":0},{"$f":"Affichage!L5","v":0},{"$f":"Affichage!M5","v":0},{"$f":"Affichage!N5","v":0},{"$f":"Affichage!O5","v":0},{"$f":"Affichage!P5","v":0},{"$f":"Affichage!Q5","v":0},{"$f":"Affichage!R5","v":0},{"$f":"Affichage!S5","v":0},{"$f":"Affichage!T5","v":0},{"$f":"Affichage!U5","v":0},{"$f":"Affichage!V5","v":0},{"$f":"Affichage!W5","v":0},{"$f":"Affichage!X5","v":0},{"$f":"Affichage!Y5","v":0},{"$f":"Affichage!Z5","v":0},{"$f":"Affichage!AA5","v":0},{"$f":"Affichage!AB5","v":0},{"$f":"Affichage!AC5","v":0},{"$f":"Affichage!AD5","v":0},{"$f":"Affichage!AE5","v":0},{"$f":"Affichage!AF5","v":0},{"$f":"Affichage!AG5","v":0},{"$f":"Affichage!AH5","v":0}]
["jour",{"$f":"IF(B20=\"\",\"\",WEEKDAY(B21,2))","v":7},1,2,3,4,5,6,7,1,2,3,4,5,6,7,1,2,3,4,5,6,7,1,2,3,4,5,6,7,1,""]
[]
["mai",1,2,3,4,5,6,7,8,9,10,11,12,13,14,15,16,17,18,19,20,21,22,23,24,25,26,27,28,29,30,31]
["date",{"$f":"IF(B25=\"\",\"\",B25&\" \"&$A$25&\" \"&$B$67)","v":"1 mai "},"2 mai ","3 mai ","4 mai ","5 mai ","6 mai ","7 mai ","8 mai ","9 mai ","10 mai ","11 mai ","12 mai ","13 mai ","14 mai ","15 mai ","16 mai ","17 mai ","18 mai ","19 mai ","20 mai ","21 mai ","22 mai ","23 mai ","24 mai ","25 mai ","26 mai ","27 mai ","28 mai ","29 mai ","30 mai ","31 mai "]
[null,{"$f":"Affichage!E6","v":0},{"$f":"Affichage!F6","v":0},{"$f":"Affichage!G6","v":0},{"$f":"Affichage!H6","v":0},{"$f":"Affichage!I6","v":0},{"$f":"Affichage!J6","v":0},{"$f":"Affichage!K6","v":0},{"$f":"Affichage!L6","v":0},{"$f":"Affichage!M6","v":0},{"$f":"Affichage!N6","v":0},{"$f":"Affichage!O6","v":0},{"$f":"Affichage!P6","v":0},{"$f":"Affichage!Q6","v":0},{"$f":"Affichage!R6","v":0},{"$f":"Affichage!S6","v":0},{"$f":"Affichage!T6","v":0},{"$f":"Affichage!U6","v":0},{"$f":"Affichage!V6","v":0},{"$f":"Affichage!W6","v":0},{"$f":"Affichage!X6","v":0},{"$f":"Affichage!Y6","v":0},{"$f":"Affichage!Z6","v":0},{"$f":"Affichage!AA6","v":0},{"$f":"Affichage!AB6","v":0},{"$f":"Affichage!AC6","v":0},{"$f":"Affichage!AD6","v":0},{"$f":"Affichage!AE6","v":0},{"$f":"Affichage!AF6","v":0},{"$f":"Affichage!AG6","v":0},{"$f":"Affichage!AH6","v":0},{"$f":"Affichage!AI6","v":0}]
["jour",{"$f":"IF(B25=\"\",\"\",WEEKDAY(B26,2))","v":2},3,4,5,6,7,1,2,3,4,5,6,7,1,2,3,4,5,6,7,1,2,3,4,5,6,7,1,2,3,4]
[]
["juin",1,2,3,4,5,6,7,8,9,10,11,12,13,14,15,16,17,18,19,20,21,22,23,24,25,26,27,28,29,30]
["date",{"$f":"IF(B30=\"\",\"\",B30&\" \"&$A$30&\" \"&$B$67)","v":"1 juin "},"2 juin ","3 juin ","4 juin ","5 juin ","6 juin ","7 juin ","8 juin ","9 juin ","10 juin ","11 juin ","12 juin ","13 juin ","14 juin ","15 juin ","16 juin ","17 juin ","18 juin ","19 juin ","20 juin ","21 juin ","22 juin ","23 juin ","24 juin ","25 juin ","26 juin ","27 juin ","28 juin ","29 juin ","30 juin ",""]
[null,{"$f":"Affichage!E7","v":0},{"$f":"Affichage!F7","v":0},{"$f":"Affichage!G7","v":0},{"$f":"Affichage!H7","v":0},{"$f":"Affichage!I7","v":0},{"$f":"Affichage!J7","v":0},{"$f":"Affichage!K7","v":0},{"$f":"Affichage!L7","v":0},{"$f":"Affichage!M7","v":0},{"$f":"Affichage!N7","v":0},{"$f":"Affichage!O7","v":0},{"$f":"Affichage!P7","v":0},{"$f":"Affichage!Q7","v":0},{"$f":"Affichage!R7","v":0},{"$f":"Affichage!S7","v":0},{"$f":"Affichage!T7","v":0},{"$f":"Affichage!U7","v":0},{"$f":"Affichage!V7","v":0},{"$f":"Affichage!W7","v":0},{"$f":"Affichage!X7","v":0},{"$f":"Affichage!Y7","v":0},{"$f":"Affichage!Z7","v":0},{"$f":"Affichage!AA7","v":0},{"$f":"Affichage!AB7","v":0},{"$f":"Affichage!AC7","v":0},{"$f":"Affichage!AD7","v":0},{"$f":"Affichage!AE7","v":0},{"$f":"Affichage!AF7","v":0},{"$f":"Affichage!AG7","v":0},{"$f":"Affichage!AH7","v":0}]
["jour",{"$f":"IF(B30=\"\",\"\",WEEKDAY(B31,2))","v":5},6,7,1,2,3,4,5,6,7,1,2,3,4,5,6,7,1,2,3,4,5,6,7,1,2,3,4,5,6,""]
[]
["juillet",1,2,3,4,5,6,7,8,9,10,11,12,13,14,15,16,17,18,19,20,21,22,23,24,25,26,27,28,29,30,31]
["date",{"$f":"IF(B35=\"\",\"\",B35&\" \"&$A$35&\" \"&$B$67)","v":"1 juillet "},"2 juillet ","3 juillet ","4 juillet ","5 juillet ","6 juillet ","7 juillet ","8 juillet ","9 juillet ","10 juillet ","11 juillet ","12 juillet ","13 juillet ","14 juillet ","15 juillet ","16 juillet ","17 juillet ","18 juillet ","19 juillet ","20 juillet ","21 juillet ","22 juillet ","23 juillet ","24 juillet ","25 juillet ","26 juillet ","27 juillet ","28 juillet ","29 juillet ","30 juillet ","31 juillet "]
[null,{"$f":"Affichage!E8","v":0},{"$f":"Affichage!F8","v":0},{"$f":"Affichage!G8","v":0},{"$f":"Affichage!H8","v":0},{"$f":"Affichage!I8","v":0},{"$f":"Affichage!J8","v":0},{"$f":"Affichage!K8","v":0},{"$f":"Affichage!L8","v":0},{"$f":"Affichage!M8","v":0},{"$f":"Affichage!N8","v":0},{"$f":"Affichage!O8","v":0},{"$f":"Affichage!P8","v":0},{"$f":"Affichage!Q8","v":0},{"$f":"Affichage!R8","v":0},{"$f":"Affichage!S8","v":0},{"$f":"Affichage!T8","v":0},{"$f":"Affichage!U8","v":0},{"$f":"Affichage!V8","v":0},{"$f":"Affichage!W8","v":0},{"$f":"Affichage!X8","v":0},{"$f":"Affichage!Y8","v":0},{"$f":"Affichage!Z8","v":0},{"$f":"Affichage!AA8","v":0},{"$f":"Affichage!AB8","v":0},{"$f":"Affichage!AC8","v":0},{"$f":"Affichage!AD8","v":0},{"$f":"Affichage!AE8","v":0},{"$f":"Affichage!AF8","v":0},{"$f":"Affichage!AG8","v":0},{"$f":"Affichage!AH8","v":0},{"$f":"Affichage!AI8","v":0}]
["jour",{"$f":"IF(B35=\"\",\"\",WEEKDAY(B36,2))","v":7},1,2,3,4,5,6,7,1,2,3,4,5,6,7,1,2,3,4,5,6,7,1,2,3,4,5,6,7,1,2]
[]
["août",1,2,3,4,5,6,7,8,9,10,11,12,13,14,15,16,17,18,19,20,21,22,23,24,25,26,27,28,29,30,31]
["date",{"$f":"IF(B40=\"\",\"\",B40&\" \"&$A$40&\" \"&$B$67)","v":"1 août "},"2 août ","3 août ","4 août ","5 août ","6 août ","7 août ","8 août ","9 août ","10 août ","11 août ","12 août ","13 août ","14 août ","15 août ","16 août ","17 août ","18 août ","19 août ","20 août ","21 août ","22 août ","23 août ","24 août ","25 août ","26 août ","27 août ","28 août ","29 août ","30 août ","31 août "]
[null,{"$f":"Affichage!E9","v":0},{"$f":"Affichage!F9","v":0},{"$f":"Affichage!G9","v":0},{"$f":"Affichage!H9","v":0},{"$f":"Affichage!I9","v":0},{"$f":"Affichage!J9","v":0},{"$f":"Affichage!K9","v":0},{"$f":"Affichage!L9","v":0},{"$f":"Affichage!M9","v":0},{"$f":"Affichage!N9","v":0},{"$f":"Affichage!O9","v":0},{"$f":"Affichage!P9","v":0},{"$f":"Affichage!Q9","v":0},{"$f":"Affichage!R9","v":0},{"$f":"Affichage!S9","v":0},{"$f":"Affichage!T9","v":0},{"$f":"Affichage!U9","v":0},{"$f":"Affichage!V9","v":0},{"$f":"Affichage!W9","v":0},{"$f":"Affichage!X9","v":0},{"$f":"Affichage!Y9","v":0},{"$f":"Affichage!Z9","v":0},{"$f":"Affichage!AA9","v":0},{"$f":"Affichage!AB9","v":0},{"$f":"Affichage!AC9","v":0},{"$f":"Affichage!AD9","v":0},{"$f":"Affichage!AE9","v":0},{"$f":"Affichage!AF9","v":0},{"$f":"Affichage!AG9","v":0},{"$f":"Affichage!AH9","v":0},{"$f":"Affichage!AI9","v":0}]
["jour",{"$f":"IF(B40=\"\",\"\",WEEKDAY(B41,2))","v":3},4,5,6,7,1,2,3,4,5,6,7,1,2,3,4,5,6,7,1,2,3,4,5,6,7,1,2,3,4,5]
[]
["septembre",1,2,3,4,5,6,7,8,9,10,11,12,13,14,15,16,17,18,19,20,21,22,23,24,25,26,27,28,29,30]
["date",{"$f":"IF(B45=\"\",\"\",B45&\" \"&$A$45&\" \"&$B$67)","v":"1 septembre "},"2 septembre ","3 septembre ","4 septembre ","5 septembre ","6 septembre ","7 septembre ","8 septembre ","9 septembre ","10 septembre ","11 septembre ","12 septembre ","13 septembre ","14 septembre ","15 septembre ","16 septembre ","17 septembre ","18 septembre ","19 septembre ","20 septembre ","21 septembre ","22 septembre ","23 septembre ","24 septembre ","25 septembre ","26 septembre ","27 septembre ","28 septembre ","29 septembre ","30 septembre ",""]
[null,{"$f":"Affichage!E10","v":0},{"$f":"Affichage!F10","v":0},{"$f":"Affichage!G10","v":0},{"$f":"Affichage!H10","v":0},{"$f":"Affichage!I10","v":0},{"$f":"Affichage!J10","v":0},{"$f":"Affichage!K10","v":0},{"$f":"Affichage!L10","v":0},{"$f":"Affichage!M10","v":0},{"$f":"Affichage!N10","v":0},{"$f":"Affichage!O10","v":0},{"$f":"Affichage!P10","v":0},{"$f":"Affichage!Q10","v":0},{"$f":"Affichage!R10","v":0},{"$f":"Affichage!S10","v":0},{"$f":"Affichage!T10","v":0},{"$f":"Affichage!U10","v":0},{"$f":"Affichage!V10","v":0},{"$f":"Affichage!W10","v":0},{"$f":"Affichage!X10","v":0},{"$f":"Affichage!Y10","v":0},{"$f":"Affichage!Z10","v":0},{"$f":"Affichage!AA10","v":0},{"$f":"Affichage!AB10","v":0},{"$f":"Affichage!AC10","v":0},{"$f":"Affichage!AD10","v":0},{"$f":"Affichage!AE10","v":0},{"$f":"Affichage!AF10","v":0},{"$f":"Affichage!AG10","v":0},{"$f":"Affichage!AH10","v":0}]
["jour",{"$f":"IF(B45=\"\",\"\",WEEKDAY(B46,2))","v":6},7,1,2,3,4,5,6,7,1,2,3,4,5,6,7,1,2,3,4,5,6,7,1,2,3,4,5,6,7,""]
[]
["octobre",1,2,3,4,5,6,7,8,9,10,11,12,13,14,15,16,17,18,19,20,21,22,23,24,25,26,27,28,29,30,31]
["date",{"$f":"IF(B50=\"\",\"\",B50&\" \"&$A$50&\" \"&$B$67)","v":"1 octobre "},"2 octobre ","3 octobre ","4 octobre ","5 octobre ","6 octobre ","7 octobre ","8 octobre ","9 octobre ","10 octobre ","11 octobre ","12 octobre ","13 octobre ","14 octobre ","15 octobre ","16 octobre ","17 octobre ","18 octobre ","19 octobre ","20 octobre ","21 octobre ","22 octobre ","23 octobre ","24 octobre ","25 octobre ","26 octobre ","27 octobre ","28 octobre ","29 octobre ","30 octobre ","31 octobre "]
[null,{"$f":"Affichage!E11","v":0},{"$f":"Affichage!F11","v":0},{"$f":"Affichage!G11","v":0},{"$f":"Affichage!H11","v":0},{"$f":"Affichage!I11","v":0},{"$f":"Affichage!J11","v":0},{"$f":"Affichage!K11","v":0},{"$f":"Affichage!L11","v":0},{"$f":"Affichage!M11","v":0},{"$f":"Affichage!N11","v":0},{"$f":"Affichage!O11","v":0},{"$f":"Affichage!P11","v":0},{"$f":"Affichage!Q11","v":0},{"$f":"Affichage!R11","v":0},{"$f":"Affichage!S11","v":0},{"$f":"Affichage!T11","v":0},{"$f":"Affichage!U11","v":0},{"$f":"Affichage!V11","v":0},{"$f":"Affichage!W11","v":0},{"$f":"Affichage!X11","v":0},{"$f":"Affichage!Y11","v":0},{"$f":"Affichage!Z11","v":0},{"$f":"Affichage!AA11","v":0},{"$f":"Affichage!AB11","v":0},{"$f":"Affichage!AC11","v":0},{"$f":"Affichage!AD11","v":0},{"$f":"Affichage!AE11","v":0},{"$f":"Affichage!AF11","v":0},{"$f":"Affichage!AG11","v":0},{"$f":"Affichage!AH11","v":0},{"$f":"Affichage!AI11","v":0}]
["jour",{"$f":"IF(B50=\"\",\"\",WEEKDAY(B51,2))","v":1},2,3,4,5,6,7,1,2,3,4,5,6,7,1,2,3,4,5,6,7,1,2,3,4,5,6,7,1,2,3]
[]
["novembre",1,2,3,4,5,6,7,8,9,10,11,12,13,14,15,16,17,18,19,20,21,22,23,24,25,26,27,28,29,30]
["date",{"$f":"IF(B55=\"\",\"\",B55&\" \"&$A$55&\" \"&$B$67)","v":"1 novembre "},"2 novembre ","3 novembre ","4 novembre ","5 novembre ","6 novembre ","7 novembre ","8 novembre ","9 novembre ","10 novembre ","11 novembre ","12 novembre ","13 novembre ","14 novembre ","15 novembre ","16 novembre ","17 novembre ","18 novembre ","19 novembre ","20 novembre ","21 novembre ","22 novembre ","23 novembre ","24 novembre ","25 novembre ","26 novembre ","27 novembre ","28 novembre ","29 novembre ","30 novembre ",""]
[null,{"$f":"Affichage!E12","v":0},{"$f":"Affichage!F12","v":0},{"$f":"Affichage!G12","v":0},{"$f":"Affichage!H12","v":0},{"$f":"Affichage!I12","v":0},{"$f":"Affichage!J12","v":0},{"$f":"Affichage!K12","v":0},{"$f":"Affichage!L12","v":0},{"$f":"Affichage!M12","v":0},{"$f":"Affichage!N12","v":0},{"$f":"Affichage!O12","v":0},{"$f":"Affichage!P12","v":0},{"$f":"Affichage!Q12","v":0},{"$f":"Affichage!R12","v":0},{"$f":"Affichage!S12","v":0},{"$f":"Affichage!T12","v":0},{"$f":"Affichage!U12","v":0},{"$f":"Affichage!V12","v":0},{"$f":"Affichage!W12","v":0},{"$f":"Affichage!X12","v":0},{"$f":"Affichage!Y12","v":0},{"$f":"Affichage!Z12","v":0},{"$f":"Affichage!AA12","v":0},{"$f":"Affichage!AB12","v":0},{"$f":"Affichage!AC12","v":0},{"$f":"Affichage!AD12","v":0},{"$f":"Affichage!AE12","v":0},{"$f":"Affichage!AF12","v":0},{"$f":"Affichage!AG12","v":0},{"$f":"Affichage!AH12","v":0}]
["jour",{"$f":"IF(B55=\"\",\"\",WEEKDAY(B56,2))","v":4},5,6,7,1,2,3,4,5,6,7,1,2,3,4,5,6,7,1,2,3,4,5,6,7,1,2,3,4,5,""]
[]
["décembre",1,2,3,4,5,6,7,8,9,10,11,12,13,14,15,16,17,18,19,20,21,22,23,24,25,26,27,28,29,30,31]
["date",{"$f":"IF(B60=\"\",\"\",B60&\" \"&$A$60&\" \"&$B$67)","v":"1 décembre "},{"$f":"C60&\" \"&$A$60&\" \"&$B$67","v":"2 décembre "},"3 décembre ","4 décembre ","5 décembre ","6 décembre ","7 décembre ","8 décembre ","9 décembre ","10 décembre ","11 décembre ","12 décembre ","13 décembre ","14 décembre ","15 décembre ","16 décembre ","17 décembre ","18 décembre ","19 décembre ","20 décembre ","21 décembre ","22 décembre ","23 décembre ","24 décembre ","25 décembre ","26 décembre ","27 décembre ","28 décembre ","29 décembre ","30 décembre ","31 décembre "]
[null,{"$f":"Affichage!E13","v":0},{"$f":"Affichage!F13","v":0},{"$f":"Affichage!G13","v":0},{"$f":"Affichage!H13","v":0},{"$f":"Affichage!I13","v":0},{"$f":"Affichage!J13","v":0},{"$f":"Affichage!K13","v":0},{"$f":"Affichage!L13","v":0},{"$f":"Affichage!M13","v":0},{"$f":"Affichage!N13","v":0},{"$f":"Affichage!O13","v":0},{"$f":"Affichage!P13","v":0},{"$f":"Affichage!Q13","v":0},{"$f":"Affichage!R13","v":0},{"$f":"Affichage!S13","v":0},{"$f":"Affichage!T13","v":0},{"$f":"Affichage!U13","v":0},{"$f":"Affichage!V13","v":0},{"$f":"Affichage!W13","v":0},{"$f":"Affichage!X13","v":0},{"$f":"Affichage!Y13","v":0},{"$f":"Affichage!Z13","v":0},{"$f":"Affichage!AA13","v":0},{"$f":"Affichage!AB13","v":0},{"$f":"Affichage!AC13","v":0},{"$f":"Affichage!AD13","v":0},{"$f":"Affichage!AE13","v":0},{"$f":"Affichage!AF13","v":0},{"$f":"Affichage!AG13","v":0},{"$f":"Affichage!AH13","v":0},{"$f":"Affichage!AI13","v":0}]
["jour",{"$f":"IF(B60=\"\",\"\",WEEKDAY(B61,2))","v":6},7,1,2,3,4,5,6,7,1,2,3,4,5,6,7,1,2,3,4,5,6,7,1,2,3,4,5,6,7,1]
[]
[]
[]
[]
[]
[null,"janvier",{"$nulls":7},"février",{"$nulls":7},"mars",{"$nulls":7},"avril"]
[null,{"$f":"B5","v":1},2,3,4,5,6,7,null,{"$f":"B10","v":1},2,3,4,5,6,7,null,{"$f":"B15","v":1},2,3,4,5,6,7,null,{"$f":"B20","v":1},2,3,4,5,6,7]
[null,{"$f":"I5","v":8},9,10,11,12,13,14,null,{"$f":"I10","v":8},9,10,11,12,13,14,null,{"$f":"I15","v":8},9,10,11,12,13,14,null,{"$f":"I20","v":8},9,10,11,12,13,14]
[null,{"$f":"P5","v":15},16,17,18,19,20,21,null,{"$f":"P10","v":15},16,17,18,19,20,21,null,{"$f":"P15","v":15},16,17,18,19,20,21,null,{"$f":"P20","v":15},16,17,18,19,20,21]
[null,{"$f":"W5","v":22},23,24,25,26,27,28,null,{"$f":"W10","v":22},23,24,25,26,27,28,null,{"$f":"W15","v":22},23,24,25,26,27,28,null,{"$f":"W20","v":22},23,24,25,26,27,28]
[null,{"$f":"AD5","v":29},{"$f":"AE5","v":30},{"$f":"AF5","v":31},{"$nulls":5},{"$f":"IF(AD10=\"\",\"\",AD10)","v":""},{"$nulls":7},{"$f":"AD15","v":29},{"$f":"AE15","v":30},{"$f":"AF15","v":31},{"$nulls":5},{"$f":"AD20","v":29},{"$f":"AE20","v":30}]
[]
[null,"mai",{"$nulls":7},"juin",{"$nulls":7},"juilllet",{"$nulls":7},"aout"]
[null,{"$f":"B25","v":1},2,3,4,5,6,7,null,{"$f":"B30","v":1},2,3,4,5,6,7,null,{"$f":"B35","v":1},2,3,4,5,6,7,null,{"$f":"B40","v":1},2,3,4,5,6,7]
[null,{"$f":"I25","v":8},9,10,11,12,13,14,null,{"$f":"I30","v":8},9,10,11,12,13,14,null,{"$f":"I35","v":8},9,10,11,12,13,14,null,{"$f":"I40","v":8},9,10,11,12,13,14]
[null,{"$f":"P25","v":15},16,17,18,19,20,21,null,{"$f":"P30","v":15},16,17,18,19,20,21,null,{"$f":"P35","v":15},16,17,18,19,20,21,null,{"$f":"P40","v":15},16,17,18,19,20,21]
[null,{"$f":"W25","v":22},23,24,25,26,27,28,null,{"$f":"W30","v":22},23,24,25,26,27,28,null,{"$f":"W35","v":22},23,24,25,26,27,28,null,{"$f":"W40","v":22},23,24,25,26,27,28]
[null,{"$f":"AD25","v":29},{"$f":"AE25","v":30},{"$f":"AF25","v":31},{"$nulls":5},{"$f":"AD30","v":29},{"$f":"AE30","v":30},{"$nulls":6},{"$f":"AD35","v":29},{"$f":"AE35","v":30},{"$f":"AF35","v":31},{"$nulls":5},{"$f":"IF(AD40=\"\",\"\",AD40)","v":29},{"$f":"IF(AE40=\"\",\"\",AE40)","v":30},{"$f":"IF(AF40=\"\",\"\",AF40)","v":31}]
[]
[null,"septembre",{"$nulls":7},"octobre",{"$nulls":7},"novembre",{"$nulls":7},"décembre"]
[null,{"$f":"B45","v":1},2,3,4,5,6,7,null,{"$f":"B50","v":1},2,3,4,5,6,7,null,{"$f":"B55","v":1},2,3,4,5,6,7,null,{"$f":"B60","v":1},2,3,4,5,6,7]
[null,{"$f":"I45","v":8},9,10,11,12,13,14,null,{"$f":"I50","v":8},9,10,11,12,13,14,null,{"$f":"I55","v":8},9,10,11,12,13,14,null,{"$f":"I60","v":8},9,10,11,12,13,14]
[null,{"$f":"P45","v":15},16,17,18,19,20,21,null,{"$f":"P50","v":15},16,17,18,19,20,21,null,{"$f":"P55","v":15},16,17,18,19,20,21,null,{"$f":"P60","v":15},16,17,18,19,20,21]
[null,{"$f":"W45","v":22},23,24,25,26,27,28,null,{"$f":"W50","v":22},23,24,25,26,27,28,null,{"$f":"W55","v":22},23,24,25,26,27,28,null,{"$f":"W60","v":22},23,24,25,26,27,28]
[null,{"$f":"AD45","v":29},{"$f":"AE45","v":30},{"$nulls":6},{"$f":"AD50","v":29},{"$f":"AE50","v":30},{"$f":"AF50","v":31},{"$nulls":5},{"$f":"AD25","v":29},{"$f":"AE25","v":30},{"$nulls":6},{"$f":"AD60","v":29},{"$f":"AE60","v":30},{"$f":"AF60","v":31}]

{"sheet":"Affichage","index":5,"n_rows":24,"n_cols":35,"rows_kept":24}
[{"$nulls":4},"A","B","C","D","E","F","G","H","I","J","K","L","M","N","O","P","Q","R","S","T","U","V","W","X","Y","Z","AA","AB","AC","AD","AE"]
[null,2018,null,"janvier"]
[null,2019,null,"février"]
[null,2020,null,"mars"]
[null,2021,null,"avril"]
[null,2022,null,"mai"]
[null,2023,null,"juin"]
[null,2024,null,"juillet"]
[null,2025,null,"août"]
[null,2026,null,"septembre"]
[null,2027,null,"octobre"]
[null,2028,null,"novembre"]
[null,2029,null,"décembre"]
[null,2030]
[null,2031]
[null,2032]
[null,2033]
[null,2034]
[null,2035]
[null,2036]
[null,2037]
[null,2038]
[null,2039]
[null,2040]