{"text_format":"3","workbook":"xlsx","n_sheets":4,"sheets":["Commandes","Enregistrement","Produits","Contrôle"],"not_rendered":{"macros":1,"external_links":1,"defined_names":2},"read":"whole","date_system":"1900"}

{"sheet":"Commandes","index":0,"n_rows":19,"n_cols":13,"rows_kept":19}
["Fournisseur","Type de Produit","N° Lot","Colonne1","N° Commande","Total unités","Unités réel reçu","Poids réel reçu","Unités SI reçu","Poids SI reçu","Unités SI conso","Fin lot","Stock SI"]
["YUIOP","ACBA",1456,{"$f":"IFERROR(VLOOKUP(C2,[1]Feuil1!$A:$F,5,FALSE),\"0\")","v":"0"},null,{"$f":"IFERROR(VLOOKUP(C2,[1]Feuil1!$B:$D,2,FALSE),\"00\")","v":"00"},{"$f":"IF(C2=\"\",\"00\",SUMIF(Enregistrement!D:E,C2,Enregistrement!E:E))","v":0},{"$f":"SUMIF(Enregistrement!D:H,C2,Enregistrement!H:H)","v":0},{"$f":"IFERROR(IF(C2=\"\",\"00\",COUNTIF(#REF!,Commandes!C2)),0)","v":0},{"$f":"IF(C2=\"\",\"0\",SUMIF(#REF!,Commandes!C2,#REF!))","v":{"$error":"#REF!"}},{"$f":"IF(C2=\"\",\"00\",COUNTIF(#REF!,Commandes!C2))","v":{"$error":"#REF!"}},{"$f":"F2-K2","v":{"$error":"#REF!"}},{"$f":"IFERROR(IF(C2=\"\",\"00\",COUNTIF(#REF!,Commandes!C2)),0)","v":0}]
["AZERTY","OILU",2449,{"$f":"IFERROR(VLOOKUP(C3,[1]Feuil1!$A:$F,5,FALSE),\"0\")","v":"0"},null,{"$f":"IFERROR(VLOOKUP(C3,[1]Feuil1!$B:$D,2,FALSE),\"00\")","v":"00"},{"$f":"IF(C3=\"\",\"00\",SUMIF(Enregistrement!D:E,C3,Enregistrement!E:E))","v":0},{"$f":"SUMIF(Enregistrement!D:H,C3,Enregistrement!H:H)","v":0},{"$f":"IFERROR(IF(C3=\"\",\"00\",COUNTIF(#REF!,Commandes!C3)),0)","v":0},{"$f":"IF(C3=\"\",\"0\",SUMIF(#REF!,Commandes!C3,#REF!))","v":{"$error":"#REF!"}},{"$f":"IF(C3=\"\",\"00\",COUNTIF(#REF!,Commandes!C3))","v":{"$error":"#REF!"}},{"$f":"F3-K3","v":{"$error":"#REF!"}},{"$f":"IFERROR(IF(C3=\"\",\"00\",COUNTIF(#REF!,Commandes!C3)),0)","v":0}]
["KLMAU","KURG",9854,{"$f":"IFERROR(VLOOKUP(C4,[1]Feuil1!$A:$F,5,FALSE),\"0\")","v":"0"},null,{"$f":"IFERROR(VLOOKUP(C4,[1]Feuil1!$B:$D,2,FALSE),\"00\")","v":"00"},{"$f":"IF(C4=\"\",\"00\",SUMIF(Enregistrement!D:E,C4,Enregistrement!E:E))","v":0},{"$f":"SUMIF(Enregistrement!D:H,C4,Enregistrement!H:H)","v":0},{"$f":"IFERROR(IF(C4=\"\",\"00\",COUNTIF(#REF!,Commandes!C4)),0)","v":0},{"$f":"IF(C4=\"\",\"0\",SUMIF(#REF!,Commandes!C4,#REF!))","v":{"$error":"#REF!"}},{"$f":"IF(C4=\"\",\"00\",COUNTIF(#REF!,Commandes!C4))","v":{"$error":"#REF!"}},{"$error":"#REF!"},{"$f":"IFERROR(IF(C4=\"\",\"00\",COUNTIF(#REF!,Commandes!C4)),0)","v":0}]
["YUIOP","YUJY",4106,{"$f":"IFERROR(VLOOKUP(C5,[1]Feuil1!$A:$F,5,FALSE),\"0\")","v":"0"},null,{"$f":"IFERROR(VLOOKUP(C5,[1]Feuil1!$B:$D,2,FALSE),\"00\")","v":"00"},{"$f":"IF(C5=\"\",\"00\",SUMIF(Enregistrement!D:E,C5,Enregistrement!E:E))","v":0},{"$f":"SUMIF(Enregistrement!D:H,C5,Enregistrement!H:H)","v":0},{"$f":"IFERROR(IF(C5=\"\",\"00\",COUNTIF(#REF!,Commandes!C5)),0)","v":0},{"$f":"IF(C5=\"\",\"0\",SUMIF(#REF!,Commandes!C5,#REF!))","v":{"$error":"#REF!"}},{"$f":"IF(C5=\"\",\"00\",COUNTIF(#REF!,Commandes!C5))","v":{"$error":"#REF!"}},{"$f":"F5-K5","v":{"$error":"#REF!"}},{"$f":"IFERROR(IF(C5=\"\",\"00\",COUNTIF(#REF!,Commandes!C5)),0)","v":0}]
["YUIOP","YUJY",7852,{"$f":"IFERROR(VLOOKUP(C6,[1]Feuil1!$A:$F,5,FALSE),\"0\")","v":"0"},null,{"$f":"IFERROR(VLOOKUP(C6,[1]Feuil1!$B:$D,2,FALSE),\"00\")","v":"00"},{"$f":"IF(C6=\"\",\"00\",SUMIF(Enregistrement!D:E,C6,Enregistrement!E:E))","v":0},{"$f":"SUMIF(Enregistrement!D:H,C6,Enregistrement!H:H)","v":0},{"$f":"IFERROR(IF(C6=\"\",\"00\",COUNTIF(#REF!,Commandes!C6)),0)","v":0},{"$f":"IF(C6=\"\",\"0\",SUMIF(#REF!,Commandes!C6,#REF!))","v":{"$error":"#REF!"}},{"$f":"IF(C6=\"\",\"00\",COUNTIF(#REF!,Commandes!C6))","v":{"$error":"#REF!"}},{"$error":"#REF!"},{"$f":"IFERROR(IF(C6=\"\",\"00\",COUNTIF(#REF!,Commandes!C6)),0)","v":0}]
["YUIOP","ACBA",8452,{"$f":"IFERROR(VLOOKUP(C7,[1]Feuil1!$A:$F,5,FALSE),\"0\")","v":"0"},null,{"$f":"IFERROR(VLOOKUP(C7,[1]Feuil1!$B:$D,2,FALSE),\"00\")","v":"00"},{"$f":"IF(C7=\"\",\"00\",SUMIF(Enregistrement!D:E,C7,Enregistrement!E:E))","v":12},{"$f":"SUMIF(Enregistrement!D:H,C7,Enregistrement!H:H)","v":0},{"$f":"IFERROR(IF(C7=\"\",\"00\",COUNTIF(#REF!,Commandes!C7)),0)","v":0},{"$f":"IF(C7=\"\",\"0\",SUMIF(#REF!,Commandes!C7,#REF!))","v":{"$error":"#REF!"}},{"$f":"IF(C7=\"\",\"00\",COUNTIF(#REF!,Commandes!C7))","v":{"$error":"#REF!"}},{"$error":"#REF!"},{"$f":"IFERROR(IF(C7=\"\",\"00\",COUNTIF(#REF!,Commandes!C7)),0)","v":0}]
["AZERTY","OILU",7842,{"$f":"IFERROR(VLOOKUP(C8,[1]Feuil1!$A:$F,5,FALSE),\"0\")","v":"0"},null,{"$f":"IFERROR(VLOOKUP(C8,[1]Feuil1!$B:$D,2,FALSE),\"00\")","v":"00"},{"$f":"IF(C8=\"\",\"00\",SUMIF(Enregistrement!D:E,C8,Enregistrement!E:E))","v":0},{"$f":"SUMIF(Enregistrement!D:H,C8,Enregistrement!H:H)","v":0},{"$f":"IFERROR(IF(C8=\"\",\"00\",COUNTIF(#REF!,Commandes!C8)),0)","v":0},{"$f":"IF(C8=\"\",\"0\",SUMIF(#REF!,Commandes!C8,#REF!))","v":{"$error":"#REF!"}},{"$f":"IF(C8=\"\",\"00\",COUNTIF(#REF!,Commandes!C8))","v":{"$error":"#REF!"}},{"$error":"#REF!"},{"$f":"IFERROR(IF(C8=\"\",\"00\",COUNTIF(#REF!,Commandes!C8)),0)","v":0}]
["YUIOP","YUJY",8547,{"$f":"IFERROR(VLOOKUP(C9,[1]Feuil1!$A:$F,5,FALSE),\"0\")","v":"0"},null,{"$f":"IFERROR(VLOOKUP(C9,[1]Feuil1!$B:$D,2,FALSE),\"00\")","v":"00"},{"$f":"IF(C9=\"\",\"00\",SUMIF(Enregistrement!D:E,C9,Enregistrement!E:E))","v":0},{"$f":"SUMIF(Enregistrement!D:H,C9,Enregistrement!H:H)","v":0},{"$f":"IFERROR(IF(C9=\"\",\"00\",COUNTIF(#REF!,Commandes!C9)),0)","v":0},{"$f":"IF(C9=\"\",\"0\",SUMIF(#REF!,Commandes!C9,#REF!))","v":{"$error":"#REF!"}},{"$f":"IF(C9=\"\",\"00\",COUNTIF(#REF!,Commandes!C9))","v":{"$error":"#REF!"}},{"$error":"#REF!"},{"$f":"IFERROR(IF(C9=\"\",\"00\",COUNTIF(#REF!,Commandes!C9)),0)","v":0}]
["KLMAU","KURG",6585,{"$f":"IFERROR(VLOOKUP(C10,[1]Feuil1!$A:$F,5,FALSE),\"0\")","v":"0"},null,{"$f":"IFERROR(VLOOKUP(C10,[1]Feuil1!$B:$D,2,FALSE),\"00\")","v":"00"},{"$f":"IF(C10=\"\",\"00\",SUMIF(Enregistrement!D:E,C10,Enregistrement!E:E))","v":0},{"$f":"SUMIF(Enregistrement!D:H,C10,Enregistrement!H:H)","v":0},{"$f":"IFERROR(IF(C10=\"\",\"00\",COUNTIF(#REF!,Commandes!C10)),0)","v":0},{"$f":"IF(C10=\"\",\"0\",SUMIF(#REF!,Commandes!C10,#REF!))","v":{"$error":"#REF!"}},{"$f":"IF(C10=\"\",\"00\",COUNTIF(#REF!,Commandes!C10))","v":{"$error":"#REF!"}},{"$error":"#REF!"},{"$f":"IFERROR(IF(C10=\"\",\"00\",COUNTIF(#REF!,Commandes!C10)),0)","v":0}]
["KLMAU","KURG",3257,{"$f":"IFERROR(VLOOKUP(C11,[1]Feuil1!$A:$F,5,FALSE),\"0\")","v":"0"},null,{"$f":"IFERROR(VLOOKUP(C11,[1]Feuil1!$B:$D,2,FALSE),\"00\")","v":"00"},{"$f":"IF(C11=\"\",\"00\",SUMIF(Enregistrement!D:E,C11,Enregistrement!E:E))","v":0},{"$f":"SUMIF(Enregistrement!D:H,C11,Enregistrement!H:H)","v":0},{"$f":"IFERROR(IF(C11=\"\",\"00\",COUNTIF(#REF!,Commandes!C11)),0)","v":0},{"$f":"IF(C11=\"\",\"0\",SUMIF(#REF!,Commandes!C11,#REF!))","v":{"$error":"#REF!"}},{"$f":"IF(C11=\"\",\"00\",COUNTIF(#REF!,Commandes!C11))","v":{"$error":"#REF!"}},{"$error":"#REF!"},{"$f":"IFERROR(IF(C11=\"\",\"00\",COUNTIF(#REF!,Commandes!C11)),0)","v":0}]
["YUIOP","ACBA",4698,{"$f":"IFERROR(VLOOKUP(C12,[1]Feuil1!$A:$F,5,FALSE),\"0\")","v":"0"},null,{"$f":"IFERROR(VLOOKUP(C12,[1]Feuil1!$B:$D,2,FALSE),\"00\")","v":"00"},{"$f":"IF(C12=\"\",\"00\",SUMIF(Enregistrement!D:E,C12,Enregistrement!E:E))","v":0},{"$f":"SUMIF(Enregistrement!D:H,C12,Enregistrement!H:H)","v":0},{"$f":"IFERROR(IF(C12=\"\",\"00\",COUNTIF(#REF!,Commandes!C12)),0)","v":0},{"$f":"IF(C12=\"\",\"0\",SUMIF(#REF!,Commandes!C12,#REF!))","v":{"$error":"#REF!"}},{"$f":"IF(C12=\"\",\"00\",COUNTIF(#REF!,Commandes!C12))","v":{"$error":"#REF!"}},{"$error":"#REF!"},{"$f":"IFERROR(IF(C12=\"\",\"00\",COUNTIF(#REF!,Commandes!C12)),0)","v":0}]
["AZERTY","ADSE",2458,{"$f":"IFERROR(VLOOKUP(C13,[1]Feuil1!$A:$F,5,FALSE),\"0\")","v":"0"},null,{"$f":"IFERROR(VLOOKUP(C13,[1]Feuil1!$B:$D,2,FALSE),\"00\")","v":"00"},{"$f":"IF(C13=\"\",\"00\",SUMIF(Enregistrement!D:E,C13,Enregistrement!E:E))","v":15},{"$f":"SUMIF(Enregistrement!D:H,C13,Enregistrement!H:H)","v":0},{"$f":"IFERROR(IF(C13=\"\",\"00\",COUNTIF(#REF!,Commandes!C13)),0)","v":0},{"$f":"IF(C13=\"\",\"0\",SUMIF(#REF!,Commandes!C13,#REF!))","v":{"$error":"#REF!"}},{"$f":"IF(C13=\"\",\"00\",COUNTIF(#REF!,Commandes!C13))","v":{"$error":"#REF!"}},{"$error":"#REF!"},{"$f":"IFERROR(IF(C13=\"\",\"00\",COUNTIF(#REF!,Commandes!C13)),0)","v":0}]
["YUIOP","ACBA",7812,{"$f":"IFERROR(VLOOKUP(C14,[1]Feuil1!$A:$F,5,FALSE),\"0\")","v":"0"},null,{"$f":"IFERROR(VLOOKUP(C14,[1]Feuil1!$B:$D,2,FALSE),\"00\")","v":"00"},{"$f":"IF(C14=\"\",\"00\",SUMIF(Enregistrement!D:E,C14,Enregistrement!E:E))","v":0},{"$f":"SUMIF(Enregistrement!D:H,C14,Enregistrement!H:H)","v":0},{"$f":"IFERROR(IF(C14=\"\",\"00\",COUNTIF(#REF!,Commandes!C14)),0)","v":0},{"$f":"IF(C14=\"\",\"0\",SUMIF(#REF!,Commandes!C14,#REF!))","v":{"$error":"#REF!"}},{"$f":"IF(C14=\"\",\"00\",COUNTIF(#REF!,Commandes!C14))","v":{"$error":"#REF!"}},{"$error":"#REF!"},{"$f":"IFERROR(IF(C14=\"\",\"00\",COUNTIF(#REF!,Commandes!C14)),0)","v":0}]
["AZERTY","PGHT",5985,{"$f":"IFERROR(VLOOKUP(C15,[1]Feuil1!$A:$F,5,FALSE),\"0\")","v":"0"},null,{"$f":"IFERROR(VLOOKUP(C15,[1]Feuil1!$B:$D,2,FALSE),\"00\")","v":"00"},{"$f":"IF(C15=\"\",\"00\",SUMIF(Enregistrement!D:E,C15,Enregistrement!E:E))","v":0},{"$f":"SUMIF(Enregistrement!D:H,C15,Enregistrement!H:H)","v":0},{"$f":"IFERROR(IF(C15=\"\",\"00\",COUNTIF(#REF!,Commandes!C15)),0)","v":0},{"$f":"IF(C15=\"\",\"0\",SUMIF(#REF!,Commandes!C15,#REF!))","v":{"$error":"#REF!"}},{"$f":"IF(C15=\"\",\"00\",COUNTIF(#REF!,Commandes!C15))","v":{"$error":"#REF!"}},{"$error":"#REF!"},{"$f":"IFERROR(IF(C15=\"\",\"00\",COUNTIF(#REF!,Commandes!C15)),0)","v":0}]
["AZERTY","NJAZ",4522,{"$f":"IFERROR(VLOOKUP(C16,[1]Feuil1!$A:$F,5,FALSE),\"0\")","v":"0"},null,{"$f":"IFERROR(VLOOKUP(C16,[1]Feuil1!$B:$D,2,FALSE),\"00\")","v":"00"},{"$f":"IF(C16=\"\",\"00\",SUMIF(Enregistrement!D:E,C16,Enregistrement!E:E))","v":0},{"$f":"SUMIF(Enregistrement!D:H,C16,Enregistrement!H:H)","v":0},{"$f":"IFERROR(IF(C16=\"\",\"00\",COUNTIF(#REF!,Commandes!C16)),0)","v":0},{"$f":"IF(C16=\"\",\"0\",SUMIF(#REF!,Commandes!C16,#REF!))","v":{"$error":"#REF!"}},{"$f":"IF(C16=\"\",\"00\",COUNTIF(#REF!,Commandes!C16))","v":{"$error":"#REF!"}},{"$error":"#REF!"},{"$f":"IFERROR(IF(C16=\"\",\"00\",COUNTIF(#REF!,Commandes!C16)),0)","v":0}]
["KLMAU","CZES",9654,{"$f":"IFERROR(VLOOKUP(C17,[1]Feuil1!$A:$F,5,FALSE),\"0\")","v":"0"},null,{"$f":"IFERROR(VLOOKUP(C17,[1]Feuil1!$B:$D,2,FALSE),\"00\")","v":"00"},{"$f":"IF(C17=\"\",\"00\",SUMIF(Enregistrement!D:E,C17,Enregistrement!E:E))","v":0},{"$f":"SUMIF(Enregistrement!D:H,C17,Enregistrement!H:H)","v":0},{"$f":"IFERROR(IF(C17=\"\",\"00\",COUNTIF(#REF!,Commandes!C17)),0)","v":0},{"$f":"IF(C17=\"\",\"0\",SUMIF(#REF!,Commandes!C17,#REF!))","v":{"$error":"#REF!"}},{"$f":"IF(C17=\"\",\"00\",COUNTIF(#REF!,Commandes!C17))","v":{"$error":"#REF!"}},{"$error":"#REF!"},{"$f":"IFERROR(IF(C17=\"\",\"00\",COUNTIF(#REF!,Commandes!C17)),0)","v":0}]
["YUIOP","ACBA",4103,{"$f":"IFERROR(VLOOKUP(C18,[1]Feuil1!$A:$F,5,FALSE),\"0\")","v":"0"},null,{"$f":"IFERROR(VLOOKUP(C18,[1]Feuil1!$B:$D,2,FALSE),\"00\")","v":"00"},{"$f":"IF(C18=\"\",\"00\",SUMIF(Enregistrement!D:E,C18,Enregistrement!E:E))","v":0},{"$f":"SUMIF(Enregistrement!D:H,C18,Enregistrement!H:H)","v":0},{"$f":"IFERROR(IF(C18=\"\",\"00\",COUNTIF(#REF!,Commandes!C18)),0)","v":0},{"$f":"IF(C18=\"\",\"0\",SUMIF(#REF!,Commandes!C18,#REF!))","v":{"$error":"#REF!"}},{"$f":"IF(C18=\"\",\"00\",COUNTIF(#REF!,Commandes!C18))","v":{"$error":"#REF!"}},{"$error":"#REF!"},{"$f":"IFERROR(IF(C18=\"\",\"00\",COUNTIF(#REF!,Commandes!C18)),0)","v":0}]
["KLMAU","PHYT",8102,{"$f":"IFERROR(VLOOKUP(C19,[1]Feuil1!$A:$F,5,FALSE),\"0\")","v":"0"},null,{"$f":"IFERROR(VLOOKUP(C19,[1]Feuil1!$B:$D,2,FALSE),\"00\")","v":"00"},{"$f":"IF(C19=\"\",\"00\",SUMIF(Enregistrement!D:E,C19,Enregistrement!E:E))","v":0},{"$f":"SUMIF(Enregistrement!D:H,C19,Enregistrement!H:H)","v":0},{"$f":"IFERROR(IF(C19=\"\",\"00\",COUNTIF(#REF!,Commandes!C19)),0)","v":0},{"$f":"IF(C19=\"\",\"0\",SUMIF(#REF!,Commandes!C19,#REF!))","v":{"$error":"#REF!"}},{"$f":"IF(C19=\"\",\"00\",COUNTIF(#REF!,Commandes!C19))","v":{"$error":"#REF!"}},{"$error":"#REF!"},{"$f":"IFERROR(IF(C19=\"\",\"00\",COUNTIF(#REF!,Commandes!C19)),0)","v":0}]

{"sheet":"Enregistrement","index":1,"n_rows":3,"n_cols":13,"rows_kept":3}
["Date","Agent","Type de produit","N° lot","Nb unités","N° Camion","Emplacement","Poids","Système",{"$nulls":3},{"$f":"TODAY()","v":"2017-08-31"}]
["2017-08-31","DUPONT","ACBA",8452,12,"AA1111AA","38a"]
["2017-08-31","DUPONT","ADSE",2458,15,"BB778TT","78e"]

{"sheet":"Produits","index":2,"n_rows":14,"n_cols":14,"rows_kept":14}
["CODPRO","DESPRO","WEIGHT","ERPQTY","DISCOD","VA","FOURNISSEURS","CODE MFD"]
["ABCD",541552415,1000,0," ",null,"AZERTY"]
["ACBA",548458796,1000,0," ",null,"YUIOP",{"$nulls":3},"Fournisseurs","Produits","Agents","Fournisseurs"]
["ADSE",452106895,1000,0," ",null,"AZERTY",{"$nulls":3},"ABCD","AZERTY","DUPONT","AZERTY"]
["KURG",258749640,1000,0," ",null,"KLMAU",{"$nulls":3},"ACBA","YUIOP","INNOCENT","YUIOP"]
["BHTR",125478965,1000,0," ",null,"YUIOP",{"$nulls":3},"ADSE","AZERTY","DURANT","KLMAU"]
["OILU",495643046,1000,0," ",null,"AZERTY",{"$nulls":3},"KURG","KLMAU"]
["YUJY",587602158,1000,0," ",null,"YUIOP",{"$nulls":3},"BHTR","YUIOP"]
["NJAZ",125879858,1000,0," ",null,"AZERTY",{"$nulls":3},"OILU","AZERTY"]
["PGHT",125486301,1000,0," ",null,"AZERTY",{"$nulls":3},"YUJY","YUIOP"]
["CZES",489654269,1000,0," ",null,"KLMAU",{"$nulls":3},"NJAZ","AZERTY"]
["PHYT",477416545,1000,0," ",null,"KLMAU",{"$nulls":3},"PGHT","AZERTY"]
[{"$nulls":10},"CZES","KLMAU"]
[{"$nulls":10},"PHYT","KLMAU"]

{"sheet":"Contrôle","index":3,"n_rows":22,"n_cols":20,"rows_kept":22,"merged":[[0,1,0,20],[2,0,3,4],[2,5,3,5],[2,6,3,11],[2,12,2,13],[2,14,2,17],[3,12,5,13],[3,16,5,18],[3,20,4,20],[4,1,4,4],[5,1,5,4],[5,6,5,11],[6,0,12,0],[6,1,12,1],[6,2,7,4],[6,5,7,12],[6,13,7,16],[6,17,12,17],[6,18,12,18],[6,19,12,20],[8,2,11,2],[8,3,11,3],[8,4,11,4],[8,5,11,5],[8,6,11,7],[8,8,11,9],[8,10,11,11],[8,12,12,12],[8,13,12,13],[8,14,12,14],[8,15,12,16],[12,6,12,7],[12,8,12,9],[12,10,12,11],[13,6,13,7],[13,8,13,9],[13,10,13,11],[13,15,13,16],[13,19,13,20],[14,6,14,7],[14,8,14,9],[14,10,14,11],[14,15,14,16],[14,19,14,20],[15,6,15,7],[15,8,15,9],[15,10,15,11],[15,15,15,16],[15,19,15,20],[16,6,16,7],[16,8,16,9],[16,10,16,11],[16,15,16,16],[16,19,16,20],[17,6,17,7],[17,8,17,9],[17,10,17,11],[17,15,17,16],[17,19,17,20],[18,6,18,7],[18,8,18,9],[18,10,18,11],[18,15,18,16],[18,19,18,20],[19,6,19,7],[19,8,19,9],[19,10,19,11],[19,15,19,16],[19,19,19,20],[20,0,21,1],[20,2,20,4],[20,5,21,11],[20,12,21,14],[20,15,21,18],[20,19,20,20],[21,2,21,4],[21,19,21,20]]}
["MICHELIN VANNES","CONTRÖLE QUALITE"]
[]
[{"$nulls":5},"FOURNISSEUR",{"$nulls":6},"Nº LOT",null,{"$f":"LOOKUP(9^9,Enregistrement!D:D)","v":2458}]
[{"$nulls":12},"DATES",{"$nulls":3},"État à la livraison",null,null,"S"]
["Ø (mm)",{"$nulls":4},"POIDS",{"$nulls":8},"LIVRAISON",{"$f":"LOOKUP(9^9,Enregistrement!A:A)","v":"2017-08-31"},{"$nulls":3},"A"]
["Type de Produit",{"$nulls":4},"Nbre unités",{"$nulls":8},"RECEPTION",{"$nulls":4},"H"]
[{"$nulls":19},"OBSERVATIONS"]
[]
[null,null,"5 à 9","10 à 19","≥ 20","L > 20/100ème","P de 5/100ème à 10/100ème",null,"P de 11/100ème à 15/100ème",null,"P ≥",null,"IND\nS","R 1","8 VALEURS DONT R 1","X 8"]
[]
[]
[]
[null,null,"CL1","CL2","CL3","CL1","CL2",null,"CL3",null,"CL4"]
[1]
[2]
[3]
[4]
[5]
[{"$nulls":5},"n1 =","n2 =",null,"n3 =",null,"n4 =",null,null,"X",null,"X",null,"X","X"]
[null,null,"X 1","X 5","X 20","X 100","X 1",null,"X 3",null,"X 100"]
[null,null,"M =",null,null,"S =",{"$nulls":6},"Auteur",null,null,"Date"]
[null,null,"I ="]