{"text_format":"3","workbook":"xlsx","n_sheets":6,"sheets":["DEPART","ITEM","SAISIE","AFFECTATION","FACTURE","CAISSE"],"not_rendered":{"images":5,"macros":1,"defined_names":11},"read":"whole","date_system":"1900"}

{"sheet":"DEPART","index":0,"n_rows":23,"n_cols":22,"rows_kept":23,"merged":[[1,0,1,13],[13,1,13,3],[13,5,14,7],[13,9,14,11],[13,14,14,15],[14,1,14,3],[15,1,15,3],[20,5,20,7]]}
[]
["GESTION DES STOCKS ET DES EQUIPEMENTS"]
[]
[{"$nulls":19},"FAMILLE",null,"ETAT"]
[{"$nulls":19},"<>\"\"",null,"sorti"]
{"$rows_empty":8}
[null,"Ajouter / modifier une nomenclature",{"$nulls":3},"Gérer le stock de matériel",{"$nulls":3},"Affecter du matériel\nà un permanent",{"$nulls":4},"Saisir - consulter \nune facture"]
[null,"Ajouter / modifier un fournisseur"]
[null,"Ajouter / modifier une marque"]
[]
[]
[null,{"$f":"SUM(IF(ITEM!A2:A29<>\"\",1/COUNTIF(ITEM!A2:A29,ITEM!A2:A29)))&\" familles référencées dans les nomenclatures\"","v":"5 familles référencées dans les nomenclatures"},{"$nulls":3},{"$f":"DCOUNTA(SAISIE!$A$1:$M$34,2,DEPART!$T$4:$T$5)&\" équiments ou matériels référencés dans les stocks\"","v":"24 équiments ou matériels référencés dans les stocks"},{"$nulls":3},{"$f":"DCOUNTA(AFFECTATION!B2:I137,1,DEPART!V4:V5)&\" équiments actuellement affectés\"","v":"0 équiments actuellement affectés"}]
[]
[null,{"$f":"SUM(IF(ITEM!E2:E500<>\"\",1/COUNTIF(ITEM!E2:E500,ITEM!E2:E500)))&\" fournisseurs référencés dans les nomenclatures\"","v":"52 fournisseurs référencés dans les nomenclatures"},{"$nulls":3},{"$f":"\"Somme investie à ce jour : \"&DSUM(SAISIE!$A$1:$M$34,9,DEPART!$T$4:$T$5)&\" € \"","v":"Somme investie à ce jour : 914,83 € "}]
[]
[null,{"$f":"SUM(IF(ITEM!J2:J502<>\"\",1/COUNTIF(ITEM!J2:J502,ITEM!J2:J502)))&\" marques référencées dans les nomenclatures\"","v":"114 marques référencées dans les nomenclatures"}]

{"sheet":"ITEM","index":1,"n_rows":115,"n_cols":14,"rows_kept":115}
["FAMILLE","RUBRIQUE","LIBELLE",null,"FOURNISSEUR",null,"GARANTIE","Jours",null,"MARQUE",null,"PERMANENT",null,"EMPLACEMENT"]
["CARRELAGE","Matériel - équipement (carrelage)","Bac de nettoyage",null,"A.C.F SARL",null,"1 mois",31,null,"ABAC",null,"Charlie",null,"Annecy"]
["CARRELAGE","Matériel - équipement (carrelage)","Carrelette",null,"ADB SOLIDATECH",null,"3 mois",90,null,"AEG",null,"David",null,"Siège"]
["CARRELAGE","Matériel - équipement (carrelage)","Grattoir à déjointer",null,"ALLOPNEUS",null,"6 mois",180,null,"ALTRAD",null,"Jean-Fred",null,"Valleiry"]
["CARRELAGE","Matériel - équipement (carrelage)","Maillet",null,"ALS Annecy Locations Services",null,"12 mois",365,null,"APPLE",null,"John",null,"Vovray"]
["CARRELAGE","Matériel - équipement (carrelage)","Peigne à colle",null,"AU VIEUX CAMPEUR",null,"24 mois",730,null,"ARCHOS",null,"Laïd"]
["CARRELAGE","Matériel - équipement (carrelage)","Pince coupe-carreaux",null,"Auto-Entreprise Vill'AutoServices",null,"36 mois",1095,null,"ARS",null,"Pierre-Antoine"]
["CARRELAGE","Matériel - équipement (carrelage)","Taloche à joints",null,"AUTOSUR - ST FONS AUTO CONTRÔLE",{"$nulls":4},"ASUS",null,"Yohan"]
["CARRELAGE","Matériel - équipement (carrelage)","Taloche de nettoyage",null,"BATTERIES 74 - ACTIVITE REMORQUES",{"$nulls":4},"BAHCO"]
["CARRELAGE","Matériel - équipement (carrelage)","Tenaille coupe-carreaux",null,"BOSSON S.A.S",{"$nulls":4},"BOSCH"]
["CARRELAGE","Caisse (carrelage)","Caisse (carrelage)",null,"BOULANGER",{"$nulls":4},"BOSTITCH"]
["ESPACES VERTS","Matériel thermique","Débroussailleuse",null,"BRICO-DEPOT",{"$nulls":4},"BRONDI"]
["ESPACES VERTS","Matériel thermique","Souffleur",null,"BRICORAMA",{"$nulls":4},"BULK"]
["ESPACES VERTS","Matériel thermique","Taille-haie",null,"BRUNEAU",{"$nulls":4},"CANON"]
["ESPACES VERTS","Matériel thermique","Tondeuse",null,"CAMET",{"$nulls":4},"CENTAURE"]
["ESPACES VERTS","Matériel thermique","Tronçonneuse",null,"CASTORAMA",{"$nulls":4},"CITROEN"]
["ESPACES VERTS","Consommable (EV)","Fil",null,"CHATELAIN",{"$nulls":4},"CNSE"]
["ESPACES VERTS","Consommable (EV)","Tête",null,"CROCHET AUTO",{"$nulls":4},"COMABI"]
["ESPACES VERTS","Consommable (EV)","Lame",null,"DARTY ANNECY",{"$nulls":4},"DACIA"]
["ESPACES VERTS","Outillage","Clé",null,"DARTY CEN",{"$nulls":4},"DELL"]
["TRAVAIL EN HAUTEUR","Matériel - équipement (hauteur)","Echafaudage roulant",null,"DECOUX ANNECY",{"$nulls":4},"DEWALT"]
["TRAVAIL EN HAUTEUR","Matériel - équipement (hauteur)","Escabeau sécurisé",null,"ETS LONGO P.A",{"$nulls":4},"DEXTER"]
["PLACO","Matériel - équipement (placo)","Cisaille professionnelle",null,"FEU VERT ANNECY SEYNOD",{"$nulls":4},"DIALL"]
["PLACO","Matériel - équipement (placo)","Pince à sertir professionnelle",null,"FirstStop",{"$nulls":4},"DIVERS"]
["PLACO","Matériel - équipement (placo)","Transporteur de plaques",null,"FNAC ANNECY",{"$nulls":4},"D-LINK"]
["PLACO","Matériel - équipement (placo)","Lève-plaques",null,"FNAC.COM",{"$nulls":4},"DOLMAR"]
["PLACO","Matériel - équipement (placo)","Set plaquiste",null,"GARAGE DE LA MITRY - PEUGEOT - SARL THORENS AUTO",{"$nulls":4},"DOMENA"]
["ELECTROPORTATIF","Vissage - perçage","Visseuse",null,"GARAGE RENAULT - S.A.S. H. BAUDET ET FILS",{"$nulls":4},"DROP FORGED"]
["ELECTROPORTATIF","Vissage - perçage","Visseuse à choc",null,"GEANT CASINO",{"$nulls":4},"DUARIB"]
["ELECTROPORTATIF","Vissage - perçage","Ensemble visseuse (batterie + chargeur)",null,"GUEUDET - RENAULT ANNECY",{"$nulls":4},"EASYLIGHT"]
["ELECTROPORTATIF","Accessoires (electroportatif)","Chargeur",null,"J.VAUDAUX",{"$nulls":4},"EATON"]
["ELECTROPORTATIF","Vissage - perçage","Perceuse - visseuse",null,"JEAN LAIN AUTOMOBILES HYUNDAI",{"$nulls":4},"ECHO"]
[{"$nulls":4},"LDLC.COM",{"$nulls":4},"EDMA"]
[{"$nulls":4},"LE VIEUX CAMPEUR",{"$nulls":4},"EPSON"]
[{"$nulls":4},"L'ENTREPÔT DU BRICOLAGE",{"$nulls":4},"ERGOMUST"]
[{"$nulls":4},"LEROY MERLIN",{"$nulls":4},"ETERNUM"]
[{"$nulls":4},"MAGIC PC",{"$nulls":4},"FACOM"]
[{"$nulls":4},"MB2I",{"$nulls":4},"FARTOOLS"]
[{"$nulls":4},"MICHEL METRAL MACONNERIE ET BETON ARME",{"$nulls":4},"FATMAX"]
[{"$nulls":4},"Monsieur BOULANOUAR F.",{"$nulls":4},"FEIN"]
[{"$nulls":4},"Mr PEREIRA Fernand",{"$nulls":4},"FELCO"]
[{"$nulls":4},"NON CONNU",{"$nulls":4},"FESTOOL"]
[{"$nulls":4},"PREMICE",{"$nulls":4},"FIMM"]
[{"$nulls":4},"PROCOLOR 74",{"$nulls":4},"FLEX"]
[{"$nulls":4},"ROCH",{"$nulls":4},"GATEWAY"]
[{"$nulls":4},"S.A.S H. BAUDET ET FILS - RENAULT RUMILLY",{"$nulls":4},"GEANT"]
[{"$nulls":4},"SAFIR AUTO",{"$nulls":4},"GYSMI"]
[{"$nulls":4},"SARL SFCTA ETABLISSEMENT SEYNOD",{"$nulls":4},"HAEMMERLIN"]
[{"$nulls":4},"SFD",{"$nulls":4},"HANNS-G"]
[{"$nulls":4},"SONY.COM",{"$nulls":4},"HITACHI"]
[{"$nulls":4},"Vill'Auto Services",{"$nulls":4},"HONDA"]
[{"$nulls":4},"WINGU IT",{"$nulls":4},"HP-COMPAQ"]
[{"$nulls":4},"ZOOM 28 - PHOX",{"$nulls":4},"HUAWEI"]
[{"$nulls":9},"HUSQVARNA"]
[{"$nulls":9},"HYUNDAI"]
[{"$nulls":9},"INDESIT"]
[{"$nulls":9},"IOMEGA"]
[{"$nulls":9},"KARCHER"]
[{"$nulls":9},"KODAK"]
[{"$nulls":9},"KORMAN"]
[{"$nulls":9},"KSTOOLS"]
[{"$nulls":9},"LEGALLAIS"]
[{"$nulls":9},"LEISTER"]
[{"$nulls":9},"LG"]
[{"$nulls":9},"LIDER"]
[{"$nulls":9},"LIFTER"]
[{"$nulls":9},"LOWEPRO"]
[{"$nulls":9},"MAGNUSSON"]
[{"$nulls":9},"MAKITA"]
[{"$nulls":9},"MANFROTT"]
[{"$nulls":9},"METABO"]
[{"$nulls":9},"METRICA"]
[{"$nulls":9},"MICHELIN"]
[{"$nulls":9},"MILWAUKEE"]
[{"$nulls":9},"MOB"]
[{"$nulls":9},"MOTOROLA"]
[{"$nulls":9},"MULTIQUICK"]
[{"$nulls":9},"NEC"]
[{"$nulls":9},"NETASQ"]
[{"$nulls":9},"NETGEAR"]
[{"$nulls":9},"NOKIA"]
[{"$nulls":9},"NON CONNUE"]
[{"$nulls":9},"OPTIAL"]
[{"$nulls":9},"PARKSIDE"]
[{"$nulls":9},"PENTAX"]
[{"$nulls":9},"PEUGEOT"]
[{"$nulls":9},"PHILIPS"]
[{"$nulls":9},"PRCI"]
[{"$nulls":9},"PRODIF"]
[{"$nulls":9},"PROLINE"]
[{"$nulls":9},"RAPID"]
[{"$nulls":9},"REDSTONE"]
[{"$nulls":9},"RENAULT"]
[{"$nulls":9},"ROWENTA"]
[{"$nulls":9},"RUBI"]
[{"$nulls":9},"RYOBI"]
[{"$nulls":9},"SAMSUNG"]
[{"$nulls":9},"SCHEPPACT"]
[{"$nulls":9},"SHINDAIWA"]
[{"$nulls":9},"SIDAMO"]
[{"$nulls":9},"SKIL"]
[{"$nulls":9},"SOMATERN"]
[{"$nulls":9},"SONY"]
[{"$nulls":9},"STANLEY"]
[{"$nulls":9},"STIHL"]
[{"$nulls":9},"SUPER VANA"]
[{"$nulls":9},"TOSHIBA"]
[{"$nulls":9},"TUBESCA"]
[{"$nulls":9},"VANATUB"]
[{"$nulls":9},"VAPORETTO"]
[{"$nulls":9},"VIEWSONIC"]
[{"$nulls":9},"VIKING"]
[{"$nulls":9},"WESTERN DIGITAL"]
[{"$nulls":9},"WORX"]
[{"$nulls":9},"XANLITE"]

{"sheet":"SAISIE","index":2,"n_rows":3001,"n_cols":14,"rows_kept":3001}
["N°","FAMILLE","RUBRIQUE","LIBELLE","MARQUE","MODELE","NUMERO DE SERIE","DATE ACHAT","PRIX \nACHAT","FOURNISSEUR","CONCATENATION","GARANTIE","DATE FIN DE GARANTIE","EMPLACEMENT"]
[3,"CARRELAGE","Matériel - équipement (carrelage)","Bac de nettoyage",{"$nulls":6},{"$f":"IF(B2=\"\",\"\",D2&\" - \"&F2&\" - \"&G2)","v":"Bac de nettoyage -  - "},null,{"$f":"IF(OR(ISBLANK(L2),ISBLANK(H2)),\"\",H2+(VLOOKUP(L2,garantie,2,FALSE)))","v":""},"Vovray"]
[5,"CARRELAGE","Matériel - équipement (carrelage)","Carrelette","RUBI","TS40",{"$nulls":4},{"$f":"IF(B3=\"\",\"\",D3&\" - \"&F3&\" - \"&G3)","v":"Carrelette - TS40 - "},null,{"$f":"IF(OR(ISBLANK(L3),ISBLANK(H3)),\"\",H3+(VLOOKUP(L3,garantie,2,FALSE)))","v":""},"Vovray"]
[1,"CARRELAGE","Matériel - équipement (carrelage)","Carrelette","RUBI","SPEED PLUS",20150410031,"2015-12-17",{"v":290,"d":"290.00 €"},"LEROY MERLIN",{"$f":"IF(B4=\"\",\"\",D4&\" - \"&F4&\" - \"&G4)","v":"Carrelette - SPEED PLUS - 20150410031"},null,{"$f":"IF(OR(ISBLANK(L4),ISBLANK(H4)),\"\",H4+(VLOOKUP(L4,garantie,2,FALSE)))","v":""},"Vovray"]
[2,"CARRELAGE","Matériel - équipement (carrelage)","Carrelette","RUBI",{"$nulls":5},{"$f":"IF(B5=\"\",\"\",D5&\" - \"&F5&\" - \"&G5)","v":"Carrelette -  - "},null,{"$f":"IF(OR(ISBLANK(L5),ISBLANK(H5)),\"\",H5+(VLOOKUP(L5,garantie,2,FALSE)))","v":""},"Valleiry"]
[4,"CARRELAGE","Matériel - équipement (carrelage)","Carrelette","RUBI",16950,{"$nulls":4},{"$f":"IF(B6=\"\",\"\",D6&\" - \"&F6&\" - \"&G6)","v":"Carrelette - 16950 - "},null,{"$f":"IF(OR(ISBLANK(L6),ISBLANK(H6)),\"\",H6+(VLOOKUP(L6,garantie,2,FALSE)))","v":""},"Annecy"]
[6,"CARRELAGE","Matériel - équipement (carrelage)","Grattoir à déjointer","PRCI",null,null,"2015-12-23",{"v":7.8,"d":"7.80 €"},"LEROY MERLIN",{"$f":"IF(B7=\"\",\"\",D7&\" - \"&F7&\" - \"&G7)","v":"Grattoir à déjointer -  - "},null,{"$f":"IF(OR(ISBLANK(L7),ISBLANK(H7)),\"\",H7+(VLOOKUP(L7,garantie,2,FALSE)))","v":""},"Vovray"]
[7,"CARRELAGE","Matériel - équipement (carrelage)","Maillet","PRCI",null,null,"2015-12-23",{"v":6.3,"d":"6.30 €"},"LEROY MERLIN",{"$f":"IF(B8=\"\",\"\",D8&\" - \"&F8&\" - \"&G8)","v":"Maillet -  - "},null,{"$f":"IF(OR(ISBLANK(L8),ISBLANK(H8)),\"\",H8+(VLOOKUP(L8,garantie,2,FALSE)))","v":""},"Vovray"]
[8,"CARRELAGE","Matériel - équipement (carrelage)","Peigne à colle",null,"U 20 mm",null,"2015-12-23",{"v":9.9,"d":"9.90 €"},"LEROY MERLIN",{"$f":"IF(B9=\"\",\"\",D9&\" - \"&F9&\" - \"&G9)","v":"Peigne à colle - U 20 mm - "},null,{"$f":"IF(OR(ISBLANK(L9),ISBLANK(H9)),\"\",H9+(VLOOKUP(L9,garantie,2,FALSE)))","v":""},"Vovray"]
[9,"CARRELAGE","Matériel - équipement (carrelage)","Peigne à colle",null,"U 06 mm",{"$nulls":4},{"$f":"IF(B10=\"\",\"\",D10&\" - \"&F10&\" - \"&G10)","v":"Peigne à colle - U 06 mm - "},null,{"$f":"IF(OR(ISBLANK(L10),ISBLANK(H10)),\"\",H10+(VLOOKUP(L10,garantie,2,FALSE)))","v":""},"Vovray"]
[10,"CARRELAGE","Matériel - équipement (carrelage)","Peigne à colle",null,"U 09 mm",null,"2015-12-23",{"v":9.5,"d":"9.50 €"},"LEROY MERLIN",{"$f":"IF(B11=\"\",\"\",D11&\" - \"&F11&\" - \"&G11)","v":"Peigne à colle - U 09 mm - "},null,{"$f":"IF(OR(ISBLANK(L11),ISBLANK(H11)),\"\",H11+(VLOOKUP(L11,garantie,2,FALSE)))","v":""},"Vovray"]
[11,"CARRELAGE","Matériel - équipement (carrelage)","Pince coupe-carreaux",{"$nulls":3},"2015-12-23",{"v":8.6,"d":"8.60 €"},"LEROY MERLIN",{"$f":"IF(B12=\"\",\"\",D12&\" - \"&F12&\" - \"&G12)","v":"Pince coupe-carreaux -  - "},null,{"$f":"IF(OR(ISBLANK(L12),ISBLANK(H12)),\"\",H12+(VLOOKUP(L12,garantie,2,FALSE)))","v":""},"Vovray"]
[12,"CARRELAGE","Matériel - équipement (carrelage)","Taloche à joints",{"$nulls":6},{"$f":"IF(B13=\"\",\"\",D13&\" - \"&F13&\" - \"&G13)","v":"Taloche à joints -  - "},null,{"$f":"IF(OR(ISBLANK(L13),ISBLANK(H13)),\"\",H13+(VLOOKUP(L13,garantie,2,FALSE)))","v":""},"Vovray"]
[13,"CARRELAGE","Matériel - équipement (carrelage)","Taloche à joints",{"$nulls":3},"2015-12-23",{"v":6.5,"d":"6.50 €"},"LEROY MERLIN",{"$f":"IF(B14=\"\",\"\",D14&\" - \"&F14&\" - \"&G14)","v":"Taloche à joints -  - "},null,{"$f":"IF(OR(ISBLANK(L14),ISBLANK(H14)),\"\",H14+(VLOOKUP(L14,garantie,2,FALSE)))","v":""},"Vovray"]
[14,"CARRELAGE","Matériel - équipement (carrelage)","Taloche de nettoyage",{"$nulls":6},{"$f":"IF(B15=\"\",\"\",D15&\" - \"&F15&\" - \"&G15)","v":"Taloche de nettoyage -  - "},null,{"$f":"IF(OR(ISBLANK(L15),ISBLANK(H15)),\"\",H15+(VLOOKUP(L15,garantie,2,FALSE)))","v":""},"Vovray"]
[15,"CARRELAGE","Matériel - équipement (carrelage)","Tenaille coupe-carreaux","PRCI",null,null,"2015-12-23",{"v":13.63,"d":"13.63 €"},"LEROY MERLIN",{"$f":"IF(B16=\"\",\"\",D16&\" - \"&F16&\" - \"&G16)","v":"Tenaille coupe-carreaux -  - "},null,{"$f":"IF(OR(ISBLANK(L16),ISBLANK(H16)),\"\",H16+(VLOOKUP(L16,garantie,2,FALSE)))","v":""},"Vovray"]
[24,"CARRELAGE","Caisse (carrelage)","Caisse (carrelage)",null,null,"001",{"$nulls":3},{"$f":"IF(B17=\"\",\"\",D17&\" - \"&F17&\" - \"&G17)","v":"Caisse (carrelage) -  - 001"},null,{"$f":"IF(OR(ISBLANK(L17),ISBLANK(H17)),\"\",H17+(VLOOKUP(L17,garantie,2,FALSE)))","v":""}]
[23,"ELECTROPORTATIF","Vissage - perçage","Perceuse - visseuse",null,"62 mm","58934038","2016-06-30",{"v":334.8,"d":"334.80 €"},"DECOUX ANNECY",{"$f":"IF(B18=\"\",\"\",D18&\" - \"&F18&\" - \"&G18)","v":"Perceuse - visseuse - 62 mm - 58934038"},null,{"$f":"IF(OR(ISBLANK(L18),ISBLANK(H18)),\"\",H18+(VLOOKUP(L18,garantie,2,FALSE)))","v":""},"Vovray"]
[16,"PLACO","Matériel - équipement (placo)","Cisaille professionnelle",{"$nulls":6},{"$f":"IF(B19=\"\",\"\",D19&\" - \"&F19&\" - \"&G19)","v":"Cisaille professionnelle -  - "},null,{"$f":"IF(OR(ISBLANK(L19),ISBLANK(H19)),\"\",H19+(VLOOKUP(L19,garantie,2,FALSE)))","v":""},"Vovray"]
[17,"PLACO","Matériel - équipement (placo)","Pince à sertir professionnelle",{"$nulls":6},{"$f":"IF(B20=\"\",\"\",D20&\" - \"&F20&\" - \"&G20)","v":"Pince à sertir professionnelle -  - "},null,{"$f":"IF(OR(ISBLANK(L20),ISBLANK(H20)),\"\",H20+(VLOOKUP(L20,garantie,2,FALSE)))","v":""},"Vovray"]
[18,"PLACO","Matériel - équipement (placo)","Transporteur de plaques","EDMA",null,"0660",{"$nulls":3},{"$f":"IF(B21=\"\",\"\",D21&\" - \"&F21&\" - \"&G21)","v":"Transporteur de plaques -  - 0660"},null,{"$f":"IF(OR(ISBLANK(L21),ISBLANK(H21)),\"\",H21+(VLOOKUP(L21,garantie,2,FALSE)))","v":""},"Vovray"]
[19,"PLACO","Matériel - équipement (placo)","Set plaquiste",null,null,"001","2016-06-08",{"v":29.9,"d":"29.90 €"},"CASTORAMA",{"$f":"IF(B22=\"\",\"\",D22&\" - \"&F22&\" - \"&G22)","v":"Set plaquiste -  - 001"},null,{"$f":"IF(OR(ISBLANK(L22),ISBLANK(H22)),\"\",H22+(VLOOKUP(L22,garantie,2,FALSE)))","v":""},"Vovray"]
[20,"PLACO","Matériel - équipement (placo)","Set plaquiste",null,null,"002","2016-04-21",{"v":28.9,"d":"28.90 €"},"BRICO-DEPOT",{"$f":"IF(B23=\"\",\"\",D23&\" - \"&F23&\" - \"&G23)","v":"Set plaquiste -  - 002"},null,{"$f":"IF(OR(ISBLANK(L23),ISBLANK(H23)),\"\",H23+(VLOOKUP(L23,garantie,2,FALSE)))","v":""},"Vovray"]
[21,"PLACO","Matériel - équipement (placo)","Lève-plaques","DEXTER",null,"19843","2015-12-23",{"v":169,"d":"169.00 €"},"LEROY MERLIN",{"$f":"IF(B24=\"\",\"\",D24&\" - \"&F24&\" - \"&G24)","v":"Lève-plaques -  - 19843"},null,{"$f":"IF(OR(ISBLANK(L24),ISBLANK(H24)),\"\",H24+(VLOOKUP(L24,garantie,2,FALSE)))","v":""},"Vovray"]
[22,"PLACO","Matériel - équipement (placo)","Lève-plaques","EDMA","0660",{"$nulls":4},{"$f":"IF(B25=\"\",\"\",D25&\" - \"&F25&\" - \"&G25)","v":"Lève-plaques - 0660 - "},null,{"$f":"IF(OR(ISBLANK(L25),ISBLANK(H25)),\"\",H25+(VLOOKUP(L25,garantie,2,FALSE)))","v":""},"Vovray"]
[25,{"$nulls":9},{"$f":"IF(B26=\"\",\"\",D26&\" - \"&F26&\" - \"&G26)","v":""},null,{"$f":"IF(OR(ISBLANK(L26),ISBLANK(H26)),\"\",H26+(VLOOKUP(L26,garantie,2,FALSE)))","v":""}]
[26,{"$nulls":9},{"$f":"IF(B27=\"\",\"\",D27&\" - \"&F27&\" - \"&G27)","v":""},null,{"$f":"IF(OR(ISBLANK(L27),ISBLANK(H27)),\"\",H27+(VLOOKUP(L27,garantie,2,FALSE)))","v":""}]
[27,{"$nulls":9},{"$f":"IF(B28=\"\",\"\",D28&\" - \"&F28&\" - \"&G28)","v":""},null,{"$f":"IF(OR(ISBLANK(L28),ISBLANK(H28)),\"\",H28+(VLOOKUP(L28,garantie,2,FALSE)))","v":""}]
[28,{"$nulls":9},{"$f":"IF(B29=\"\",\"\",D29&\" - \"&F29&\" - \"&G29)","v":""},null,{"$f":"IF(OR(ISBLANK(L29),ISBLANK(H29)),\"\",H29+(VLOOKUP(L29,garantie,2,FALSE)))","v":""}]
[29,{"$nulls":9},{"$f":"IF(B30=\"\",\"\",D30&\" - \"&F30&\" - \"&G30)","v":""},null,{"$f":"IF(OR(ISBLANK(L30),ISBLANK(H30)),\"\",H30+(VLOOKUP(L30,garantie,2,FALSE)))","v":""}]
[30,{"$nulls":9},{"$f":"IF(B31=\"\",\"\",D31&\" - \"&F31&\" - \"&G31)","v":""},null,{"$f":"IF(OR(ISBLANK(L31),ISBLANK(H31)),\"\",H31+(VLOOKUP(L31,garantie,2,FALSE)))","v":""}]
[31,{"$nulls":9},{"$f":"IF(B32=\"\",\"\",D32&\" - \"&F32&\" - \"&G32)","v":""},null,{"$f":"IF(OR(ISBLANK(L32),ISBLANK(H32)),\"\",H32+(VLOOKUP(L32,garantie,2,FALSE)))","v":""}]
[32,{"$nulls":9},{"$f":"IF(B33=\"\",\"\",D33&\" - \"&F33&\" - \"&G33)","v":""},null,{"$f":"IF(OR(ISBLANK(L33),ISBLANK(H33)),\"\",H33+(VLOOKUP(L33,garantie,2,FALSE)))","v":""}]
[33,{"$nulls":9},{"$f":"IF(B34=\"\",\"\",D34&\" - \"&F34&\" - \"&G34)","v":""},null,{"$f":"IF(OR(ISBLANK(L34),ISBLANK(H34)),\"\",H34+(VLOOKUP(L34,garantie,2,FALSE)))","v":""}]
[34,{"$nulls":9},{"$f":"IF(B35=\"\",\"\",D35&\" - \"&F35&\" - \"&G35)","v":""},null,{"$f":"IF(OR(ISBLANK(L35),ISBLANK(H35)),\"\",H35+(VLOOKUP(L35,garantie,2,FALSE)))","v":""}]
[35,{"$nulls":9},{"$f":"IF(B36=\"\",\"\",D36&\" - \"&F36&\" - \"&G36)","v":""},null,{"$f":"IF(OR(ISBLANK(L36),ISBLANK(H36)),\"\",H36+(VLOOKUP(L36,garantie,2,FALSE)))","v":""}]
[36,{"$nulls":9},{"$f":"IF(B37=\"\",\"\",D37&\" - \"&F37&\" - \"&G37)","v":""},null,{"$f":"IF(OR(ISBLANK(L37),ISBLANK(H37)),\"\",H37+(VLOOKUP(L37,garantie,2,FALSE)))","v":""}]
[37,{"$nulls":9},{"$f":"IF(B38=\"\",\"\",D38&\" - \"&F38&\" - \"&G38)","v":""},null,{"$f":"IF(OR(ISBLANK(L38),ISBLANK(H38)),\"\",H38+(VLOOKUP(L38,garantie,2,FALSE)))","v":""}]
[38,{"$nulls":9},{"$f":"IF(B39=\"\",\"\",D39&\" - \"&F39&\" - \"&G39)","v":""},null,{"$f":"IF(OR(ISBLANK(L39),ISBLANK(H39)),\"\",H39+(VLOOKUP(L39,garantie,2,FALSE)))","v":""}]
[39,{"$nulls":9},{"$f":"IF(B40=\"\",\"\",D40&\" - \"&F40&\" - \"&G40)","v":""},null,{"$f":"IF(OR(ISBLANK(L40),ISBLANK(H40)),\"\",H40+(VLOOKUP(L40,garantie,2,FALSE)))","v":""}]
[40,{"$nulls":9},{"$f":"IF(B41=\"\",\"\",D41&\" - \"&F41&\" - \"&G41)","v":""},null,{"$f":"IF(OR(ISBLANK(L41),ISBLANK(H41)),\"\",H41+(VLOOKUP(L41,garantie,2,FALSE)))","v":""}]
[41,{"$nulls":9},{"$f":"IF(B42=\"\",\"\",D42&\" - \"&F42&\" - \"&G42)","v":""},null,{"$f":"IF(OR(ISBLANK(L42),ISBLANK(H42)),\"\",H42+(VLOOKUP(L42,garantie,2,FALSE)))","v":""}]
[42,{"$nulls":9},{"$f":"IF(B43=\"\",\"\",D43&\" - \"&F43&\" - \"&G43)","v":""},null,{"$f":"IF(OR(ISBLANK(L43),ISBLANK(H43)),\"\",H43+(VLOOKUP(L43,garantie,2,FALSE)))","v":""}]
[43,{"$nulls":9},{"$f":"IF(B44=\"\",\"\",D44&\" - \"&F44&\" - \"&G44)","v":""},null,{"$f":"IF(OR(ISBLANK(L44),ISBLANK(H44)),\"\",H44+(VLOOKUP(L44,garantie,2,FALSE)))","v":""}]
[44,{"$nulls":9},{"$f":"IF(B45=\"\",\"\",D45&\" - \"&F45&\" - \"&G45)","v":""},null,{"$f":"IF(OR(ISBLANK(L45),ISBLANK(H45)),\"\",H45+(VLOOKUP(L45,garantie,2,FALSE)))","v":""}]
[45,{"$nulls":9},{"$f":"IF(B46=\"\",\"\",D46&\" - \"&F46&\" - \"&G46)","v":""},null,{"$f":"IF(OR(ISBLANK(L46),ISBLANK(H46)),\"\",H46+(VLOOKUP(L46,garantie,2,FALSE)))","v":""}]
[46,{"$nulls":9},{"$f":"IF(B47=\"\",\"\",D47&\" - \"&F47&\" - \"&G47)","v":""},null,{"$f":"IF(OR(ISBLANK(L47),ISBLANK(H47)),\"\",H47+(VLOOKUP(L47,garantie,2,FALSE)))","v":""}]
[47,{"$nulls":9},{"$f":"IF(B48=\"\",\"\",D48&\" - \"&F48&\" - \"&G48)","v":""},null,{"$f":"IF(OR(ISBLANK(L48),ISBLANK(H48)),\"\",H48+(VLOOKUP(L48,garantie,2,FALSE)))","v":""}]
[48,{"$nulls":9},{"$f":"IF(B49=\"\",\"\",D49&\" - \"&F49&\" - \"&G49)","v":""},null,{"$f":"IF(OR(ISBLANK(L49),ISBLANK(H49)),\"\",H49+(VLOOKUP(L49,garantie,2,FALSE)))","v":""}]
[49,{"$nulls":9},{"$f":"IF(B50=\"\",\"\",D50&\" - \"&F50&\" - \"&G50)","v":""},null,{"$f":"IF(OR(ISBLANK(L50),ISBLANK(H50)),\"\",H50+(VLOOKUP(L50,garantie,2,FALSE)))","v":""}]
[50,{"$nulls":9},{"$f":"IF(B51=\"\",\"\",D51&\" - \"&F51&\" - \"&G51)","v":""},null,{"$f":"IF(OR(ISBLANK(L51),ISBLANK(H51)),\"\",H51+(VLOOKUP(L51,garantie,2,FALSE)))","v":""}]
[51,{"$nulls":9},{"$f":"IF(B52=\"\",\"\",D52&\" - \"&F52&\" - \"&G52)","v":""},null,{"$f":"IF(OR(ISBLANK(L52),ISBLANK(H52)),\"\",H52+(VLOOKUP(L52,garantie,2,FALSE)))","v":""}]
[52,{"$nulls":9},{"$f":"IF(B53=\"\",\"\",D53&\" - \"&F53&\" - \"&G53)","v":""},null,{"$f":"IF(OR(ISBLANK(L53),ISBLANK(H53)),\"\",H53+(VLOOKUP(L53,garantie,2,FALSE)))","v":""}]
[53,{"$nulls":9},{"$f":"IF(B54=\"\",\"\",D54&\" - \"&F54&\" - \"&G54)","v":""},null,{"$f":"IF(OR(ISBLANK(L54),ISBLANK(H54)),\"\",H54+(VLOOKUP(L54,garantie,2,FALSE)))","v":""}]
[54,{"$nulls":9},{"$f":"IF(B55=\"\",\"\",D55&\" - \"&F55&\" - \"&G55)","v":""},null,{"$f":"IF(OR(ISBLANK(L55),ISBLANK(H55)),\"\",H55+(VLOOKUP(L55,garantie,2,FALSE)))","v":""}]
[55,{"$nulls":9},{"$f":"IF(B56=\"\",\"\",D56&\" - \"&F56&\" - \"&G56)","v":""},null,{"$f":"IF(OR(ISBLANK(L56),ISBLANK(H56)),\"\",H56+(VLOOKUP(L56,garantie,2,FALSE)))","v":""}]
[56,{"$nulls":9},{"$f":"IF(B57=\"\",\"\",D57&\" - \"&F57&\" - \"&G57)","v":""},null,{"$f":"IF(OR(ISBLANK(L57),ISBLANK(H57)),\"\",H57+(VLOOKUP(L57,garantie,2,FALSE)))","v":""}]
[57,{"$nulls":9},{"$f":"IF(B58=\"\",\"\",D58&\" - \"&F58&\" - \"&G58)","v":""},null,{"$f":"IF(OR(ISBLANK(L58),ISBLANK(H58)),\"\",H58+(VLOOKUP(L58,garantie,2,FALSE)))","v":""}]
[58,{"$nulls":9},{"$f":"IF(B59=\"\",\"\",D59&\" - \"&F59&\" - \"&G59)","v":""},null,{"$f":"IF(OR(ISBLANK(L59),ISBLANK(H59)),\"\",H59+(VLOOKUP(L59,garantie,2,FALSE)))","v":""}]
[59,{"$nulls":9},{"$f":"IF(B60=\"\",\"\",D60&\" - \"&F60&\" - \"&G60)","v":""},null,{"$f":"IF(OR(ISBLANK(L60),ISBLANK(H60)),\"\",H60+(VLOOKUP(L60,garantie,2,FALSE)))","v":""}]
[60,{"$nulls":9},{"$f":"IF(B61=\"\",\"\",D61&\" - \"&F61&\" - \"&G61)","v":""},null,{"$f":"IF(OR(ISBLANK(L61),ISBLANK(H61)),\"\",H61+(VLOOKUP(L61,garantie,2,FALSE)))","v":""}]
[61,{"$nulls":9},{"$f":"IF(B62=\"\",\"\",D62&\" - \"&F62&\" - \"&G62)","v":""},null,{"$f":"IF(OR(ISBLANK(L62),ISBLANK(H62)),\"\",H62+(VLOOKUP(L62,garantie,2,FALSE)))","v":""}]
[62,{"$nulls":9},{"$f":"IF(B63=\"\",\"\",D63&\" - \"&F63&\" - \"&G63)","v":""},null,{"$f":"IF(OR(ISBLANK(L63),ISBLANK(H63)),\"\",H63+(VLOOKUP(L63,garantie,2,FALSE)))","v":""}]
[63,{"$nulls":9},{"$f":"IF(B64=\"\",\"\",D64&\" - \"&F64&\" - \"&G64)","v":""},null,{"$f":"IF(OR(ISBLANK(L64),ISBLANK(H64)),\"\",H64+(VLOOKUP(L64,garantie,2,FALSE)))","v":""}]
[64,{"$nulls":9},{"$f":"IF(B65=\"\",\"\",D65&\" - \"&F65&\" - \"&G65)","v":""},null,{"$f":"IF(OR(ISBLANK(L65),ISBLANK(H65)),\"\",H65+(VLOOKUP(L65,garantie,2,FALSE)))","v":""}]
[65,{"$nulls":9},{"$f":"IF(B66=\"\",\"\",D66&\" - \"&F66&\" - \"&G66)","v":""},null,{"$f":"IF(OR(ISBLANK(L66),ISBLANK(H66)),\"\",H66+(VLOOKUP(L66,garantie,2,FALSE)))","v":""}]
[66,{"$nulls":9},{"$f":"IF(B67=\"\",\"\",D67&\" - \"&F67&\" - \"&G67)","v":""},null,{"$f":"IF(OR(ISBLANK(L67),ISBLANK(H67)),\"\",H67+(VLOOKUP(L67,garantie,2,FALSE)))","v":""}]
[67,{"$nulls":9},{"$f":"IF(B68=\"\",\"\",D68&\" - \"&F68&\" - \"&G68)","v":""},null,{"$f":"IF(OR(ISBLANK(L68),ISBLANK(H68)),\"\",H68+(VLOOKUP(L68,garantie,2,FALSE)))","v":""}]
[68,{"$nulls":9},{"$f":"IF(B69=\"\",\"\",D69&\" - \"&F69&\" - \"&G69)","v":""},null,{"$f":"IF(OR(ISBLANK(L69),ISBLANK(H69)),\"\",H69+(VLOOKUP(L69,garantie,2,FALSE)))","v":""}]
[69,{"$nulls":9},{"$f":"IF(B70=\"\",\"\",D70&\" - \"&F70&\" - \"&G70)","v":""},null,{"$f":"IF(OR(ISBLANK(L70),ISBLANK(H70)),\"\",H70+(VLOOKUP(L70,garantie,2,FALSE)))","v":""}]
[70,{"$nulls":9},{"$f":"IF(B71=\"\",\"\",D71&\" - \"&F71&\" - \"&G71)","v":""},null,{"$f":"IF(OR(ISBLANK(L71),ISBLANK(H71)),\"\",H71+(VLOOKUP(L71,garantie,2,FALSE)))","v":""}]
[71,{"$nulls":9},{"$f":"IF(B72=\"\",\"\",D72&\" - \"&F72&\" - \"&G72)","v":""},null,{"$f":"IF(OR(ISBLANK(L72),ISBLANK(H72)),\"\",H72+(VLOOKUP(L72,garantie,2,FALSE)))","v":""}]
[72,{"$nulls":9},{"$f":"IF(B73=\"\",\"\",D73&\" - \"&F73&\" - \"&G73)","v":""},null,{"$f":"IF(OR(ISBLANK(L73),ISBLANK(H73)),\"\",H73+(VLOOKUP(L73,garantie,2,FALSE)))","v":""}]
[73,{"$nulls":9},{"$f":"IF(B74=\"\",\"\",D74&\" - \"&F74&\" - \"&G74)","v":""},null,{"$f":"IF(OR(ISBLANK(L74),ISBLANK(H74)),\"\",H74+(VLOOKUP(L74,garantie,2,FALSE)))","v":""}]
[74,{"$nulls":9},{"$f":"IF(B75=\"\",\"\",D75&\" - \"&F75&\" - \"&G75)","v":""},null,{"$f":"IF(OR(ISBLANK(L75),ISBLANK(H75)),\"\",H75+(VLOOKUP(L75,garantie,2,FALSE)))","v":""}]
[75,{"$nulls":9},{"$f":"IF(B76=\"\",\"\",D76&\" - \"&F76&\" - \"&G76)","v":""},null,{"$f":"IF(OR(ISBLANK(L76),ISBLANK(H76)),\"\",H76+(VLOOKUP(L76,garantie,2,FALSE)))","v":""}]
[76,{"$nulls":9},{"$f":"IF(B77=\"\",\"\",D77&\" - \"&F77&\" - \"&G77)","v":""},null,{"$f":"IF(OR(ISBLANK(L77),ISBLANK(H77)),\"\",H77+(VLOOKUP(L77,garantie,2,FALSE)))","v":""}]
[77,{"$nulls":9},{"$f":"IF(B78=\"\",\"\",D78&\" - \"&F78&\" - \"&G78)","v":""},null,{"$f":"IF(OR(ISBLANK(L78),ISBLANK(H78)),\"\",H78+(VLOOKUP(L78,garantie,2,FALSE)))","v":""}]
[78,{"$nulls":9},{"$f":"IF(B79=\"\",\"\",D79&\" - \"&F79&\" - \"&G79)","v":""},null,{"$f":"IF(OR(ISBLANK(L79),ISBLANK(H79)),\"\",H79+(VLOOKUP(L79,garantie,2,FALSE)))","v":""}]
[79,{"$nulls":9},{"$f":"IF(B80=\"\",\"\",D80&\" - \"&F80&\" - \"&G80)","v":""},null,{"$f":"IF(OR(ISBLANK(L80),ISBLANK(H80)),\"\",H80+(VLOOKUP(L80,garantie,2,FALSE)))","v":""}]
[80,{"$nulls":9},{"$f":"IF(B81=\"\",\"\",D81&\" - \"&F81&\" - \"&G81)","v":""},null,{"$f":"IF(OR(ISBLANK(L81),ISBLANK(H81)),\"\",H81+(VLOOKUP(L81,garantie,2,FALSE)))","v":""}]
[81,{"$nulls":9},{"$f":"IF(B82=\"\",\"\",D82&\" - \"&F82&\" - \"&G82)","v":""},null,{"$f":"IF(OR(ISBLANK(L82),ISBLANK(H82)),\"\",H82+(VLOOKUP(L82,garantie,2,FALSE)))","v":""}]
[82,{"$nulls":9},{"$f":"IF(B83=\"\",\"\",D83&\" - \"&F83&\" - \"&G83)","v":""},null,{"$f":"IF(OR(ISBLANK(L83),ISBLANK(H83)),\"\",H83+(VLOOKUP(L83,garantie,2,FALSE)))","v":""}]
[83,{"$nulls":9},{"$f":"IF(B84=\"\",\"\",D84&\" - \"&F84&\" - \"&G84)","v":""},null,{"$f":"IF(OR(ISBLANK(L84),ISBLANK(H84)),\"\",H84+(VLOOKUP(L84,garantie,2,FALSE)))","v":""}]
[84,{"$nulls":9},{"$f":"IF(B85=\"\",\"\",D85&\" - \"&F85&\" - \"&G85)","v":""},null,{"$f":"IF(OR(ISBLANK(L85),ISBLANK(H85)),\"\",H85+(VLOOKUP(L85,garantie,2,FALSE)))","v":""}]
[85,{"$nulls":9},{"$f":"IF(B86=\"\",\"\",D86&\" - \"&F86&\" - \"&G86)","v":""},null,{"$f":"IF(OR(ISBLANK(L86),ISBLANK(H86)),\"\",H86+(VLOOKUP(L86,garantie,2,FALSE)))","v":""}]
[86,{"$nulls":9},{"$f":"IF(B87=\"\",\"\",D87&\" - \"&F87&\" - \"&G87)","v":""},null,{"$f":"IF(OR(ISBLANK(L87),ISBLANK(H87)),\"\",H87+(VLOOKUP(L87,garantie,2,FALSE)))","v":""}]
[87,{"$nulls":9},{"$f":"IF(B88=\"\",\"\",D88&\" - \"&F88&\" - \"&G88)","v":""},null,{"$f":"IF(OR(ISBLANK(L88),ISBLANK(H88)),\"\",H88+(VLOOKUP(L88,garantie,2,FALSE)))","v":""}]
[88,{"$nulls":9},{"$f":"IF(B89=\"\",\"\",D89&\" - \"&F89&\" - \"&G89)","v":""},null,{"$f":"IF(OR(ISBLANK(L89),ISBLANK(H89)),\"\",H89+(VLOOKUP(L89,garantie,2,FALSE)))","v":""}]
[89,{"$nulls":9},{"$f":"IF(B90=\"\",\"\",D90&\" - \"&F90&\" - \"&G90)","v":""},null,{"$f":"IF(OR(ISBLANK(L90),ISBLANK(H90)),\"\",H90+(VLOOKUP(L90,garantie,2,FALSE)))","v":""}]
[90,{"$nulls":9},{"$f":"IF(B91=\"\",\"\",D91&\" - \"&F91&\" - \"&G91)","v":""},null,{"$f":"IF(OR(ISBLANK(L91),ISBLANK(H91)),\"\",H91+(VLOOKUP(L91,garantie,2,FALSE)))","v":""}]
[91,{"$nulls":9},{"$f":"IF(B92=\"\",\"\",D92&\" - \"&F92&\" - \"&G92)","v":""},null,{"$f":"IF(OR(ISBLANK(L92),ISBLANK(H92)),\"\",H92+(VLOOKUP(L92,garantie,2,FALSE)))","v":""}]
[92,{"$nulls":9},{"$f":"IF(B93=\"\",\"\",D93&\" - \"&F93&\" - \"&G93)","v":""},null,{"$f":"IF(OR(ISBLANK(L93),ISBLANK(H93)),\"\",H93+(VLOOKUP(L93,garantie,2,FALSE)))","v":""}]
[93,{"$nulls":9},{"$f":"IF(B94=\"\",\"\",D94&\" - \"&F94&\" - \"&G94)","v":""},null,{"$f":"IF(OR(ISBLANK(L94),ISBLANK(H94)),\"\",H94+(VLOOKUP(L94,garantie,2,FALSE)))","v":""}]
[94,{"$nulls":9},{"$f":"IF(B95=\"\",\"\",D95&\" - \"&F95&\" - \"&G95)","v":""},null,{"$f":"IF(OR(ISBLANK(L95),ISBLANK(H95)),\"\",H95+(VLOOKUP(L95,garantie,2,FALSE)))","v":""}]
[95,{"$nulls":9},{"$f":"IF(B96=\"\",\"\",D96&\" - \"&F96&\" - \"&G96)","v":""},null,{"$f":"IF(OR(ISBLANK(L96),ISBLANK(H96)),\"\",H96+(VLOOKUP(L96,garantie,2,FALSE)))","v":""}]
[96,{"$nulls":9},{"$f":"IF(B97=\"\",\"\",D97&\" - \"&F97&\" - \"&G97)","v":""},null,{"$f":"IF(OR(ISBLANK(L97),ISBLANK(H97)),\"\",H97+(VLOOKUP(L97,garantie,2,FALSE)))","v":""}]
[97,{"$nulls":9},{"$f":"IF(B98=\"\",\"\",D98&\" - \"&F98&\" - \"&G98)","v":""},null,{"$f":"IF(OR(ISBLANK(L98),ISBLANK(H98)),\"\",H98+(VLOOKUP(L98,garantie,2,FALSE)))","v":""}]
[98,{"$nulls":9},{"$f":"IF(B99=\"\",\"\",D99&\" - \"&F99&\" - \"&G99)","v":""},null,{"$f":"IF(OR(ISBLANK(L99),ISBLANK(H99)),\"\",H99+(VLOOKUP(L99,garantie,2,FALSE)))","v":""}]
[99,{"$nulls":9},{"$f":"IF(B100=\"\",\"\",D100&\" - \"&F100&\" - \"&G100)","v":""},null,{"$f":"IF(OR(ISBLANK(L100),ISBLANK(H100)),\"\",H100+(VLOOKUP(L100,garantie,2,FALSE)))","v":""}]
[100,{"$nulls":9},{"$f":"IF(B101=\"\",\"\",D101&\" - \"&F101&\" - \"&G101)","v":""},null,{"$f":"IF(OR(ISBLANK(L101),ISBLANK(H101)),\"\",H101+(VLOOKUP(L101,garantie,2,FALSE)))","v":""}]
[101,{"$nulls":9},{"$f":"IF(B102=\"\",\"\",D102&\" - \"&F102&\" - \"&G102)","v":""},null,{"$f":"IF(OR(ISBLANK(L102),ISBLANK(H102)),\"\",H102+(VLOOKUP(L102,garantie,2,FALSE)))","v":""}]
[102,{"$nulls":9},{"$f":"IF(B103=\"\",\"\",D103&\" - \"&F103&\" - \"&G103)","v":""},null,{"$f":"IF(OR(ISBLANK(L103),ISBLANK(H103)),\"\",H103+(VLOOKUP(L103,garantie,2,FALSE)))","v":""}]
[103,{"$nulls":9},{"$f":"IF(B104=\"\",\"\",D104&\" - \"&F104&\" - \"&G104)","v":""},null,{"$f":"IF(OR(ISBLANK(L104),ISBLANK(H104)),\"\",H104+(VLOOKUP(L104,garantie,2,FALSE)))","v":""}]
[104,{"$nulls":9},{"$f":"IF(B105=\"\",\"\",D105&\" - \"&F105&\" - \"&G105)","v":""},null,{"$f":"IF(OR(ISBLANK(L105),ISBLANK(H105)),\"\",H105+(VLOOKUP(L105,garantie,2,FALSE)))","v":""}]
[105,{"$nulls":9},{"$f":"IF(B106=\"\",\"\",D106&\" - \"&F106&\" - \"&G106)","v":""},null,{"$f":"IF(OR(ISBLANK(L106),ISBLANK(H106)),\"\",H106+(VLOOKUP(L106,garantie,2,FALSE)))","v":""}]
[106,{"$nulls":9},{"$f":"IF(B107=\"\",\"\",D107&\" - \"&F107&\" - \"&G107)","v":""},null,{"$f":"IF(OR(ISBLANK(L107),ISBLANK(H107)),\"\",H107+(VLOOKUP(L107,garantie,2,FALSE)))","v":""}]
[107,{"$nulls":9},{"$f":"IF(B108=\"\",\"\",D108&\" - \"&F108&\" - \"&G108)","v":""},null,{"$f":"IF(OR(ISBLANK(L108),ISBLANK(H108)),\"\",H108+(VLOOKUP(L108,garantie,2,FALSE)))","v":""}]
[108,{"$nulls":9},{"$f":"IF(B109=\"\",\"\",D109&\" - \"&F109&\" - \"&G109)","v":""},null,{"$f":"IF(OR(ISBLANK(L109),ISBLANK(H109)),\"\",H109+(VLOOKUP(L109,garantie,2,FALSE)))","v":""}]
[109,{"$nulls":9},{"$f":"IF(B110=\"\",\"\",D110&\" - \"&F110&\" - \"&G110)","v":""},null,{"$f":"IF(OR(ISBLANK(L110),ISBLANK(H110)),\"\",H110+(VLOOKUP(L110,garantie,2,FALSE)))","v":""}]
[110,{"$nulls":9},{"$f":"IF(B111=\"\",\"\",D111&\" - \"&F111&\" - \"&G111)","v":""},null,{"$f":"IF(OR(ISBLANK(L111),ISBLANK(H111)),\"\",H111+(VLOOKUP(L111,garantie,2,FALSE)))","v":""}]
[111,{"$nulls":9},{"$f":"IF(B112=\"\",\"\",D112&\" - \"&F112&\" - \"&G112)","v":""},null,{"$f":"IF(OR(ISBLANK(L112),ISBLANK(H112)),\"\",H112+(VLOOKUP(L112,garantie,2,FALSE)))","v":""}]
[112,{"$nulls":9},{"$f":"IF(B113=\"\",\"\",D113&\" - \"&F113&\" - \"&G113)","v":""},null,{"$f":"IF(OR(ISBLANK(L113),ISBLANK(H113)),\"\",H113+(VLOOKUP(L113,garantie,2,FALSE)))","v":""}]
[113,{"$nulls":9},{"$f":"IF(B114=\"\",\"\",D114&\" - \"&F114&\" - \"&G114)","v":""},null,{"$f":"IF(OR(ISBLANK(L114),ISBLANK(H114)),\"\",H114+(VLOOKUP(L114,garantie,2,FALSE)))","v":""}]
[114,{"$nulls":9},{"$f":"IF(B115=\"\",\"\",D115&\" - \"&F115&\" - \"&G115)","v":""},null,{"$f":"IF(OR(ISBLANK(L115),ISBLANK(H115)),\"\",H115+(VLOOKUP(L115,garantie,2,FALSE)))","v":""}]
[115,{"$nulls":9},{"$f":"IF(B116=\"\",\"\",D116&\" - \"&F116&\" - \"&G116)","v":""},null,{"$f":"IF(OR(ISBLANK(L116),ISBLANK(H116)),\"\",H116+(VLOOKUP(L116,garantie,2,FALSE)))","v":""}]
[116,{"$nulls":9},{"$f":"IF(B117=\"\",\"\",D117&\" - \"&F117&\" - \"&G117)","v":""},null,{"$f":"IF(OR(ISBLANK(L117),ISBLANK(H117)),\"\",H117+(VLOOKUP(L117,garantie,2,FALSE)))","v":""}]
[117,{"$nulls":9},{"$f":"IF(B118=\"\",\"\",D118&\" - \"&F118&\" - \"&G118)","v":""},null,{"$f":"IF(OR(ISBLANK(L118),ISBLANK(H118)),\"\",H118+(VLOOKUP(L118,garantie,2,FALSE)))","v":""}]
[118,{"$nulls":9},{"$f":"IF(B119=\"\",\"\",D119&\" - \"&F119&\" - \"&G119)","v":""},null,{"$f":"IF(OR(ISBLANK(L119),ISBLANK(H119)),\"\",H119+(VLOOKUP(L119,garantie,2,FALSE)))","v":""}]
[119,{"$nulls":9},{"$f":"IF(B120=\"\",\"\",D120&\" - \"&F120&\" - \"&G120)","v":""},null,{"$f":"IF(OR(ISBLANK(L120),ISBLANK(H120)),\"\",H120+(VLOOKUP(L120,garantie,2,FALSE)))","v":""}]
[120,{"$nulls":9},{"$f":"IF(B121=\"\",\"\",D121&\" - \"&F121&\" - \"&G121)","v":""},null,{"$f":"IF(OR(ISBLANK(L121),ISBLANK(H121)),\"\",H121+(VLOOKUP(L121,garantie,2,FALSE)))","v":""}]
[121,{"$nulls":9},{"$f":"IF(B122=\"\",\"\",D122&\" - \"&F122&\" - \"&G122)","v":""},null,{"$f":"IF(OR(ISBLANK(L122),ISBLANK(H122)),\"\",H122+(VLOOKUP(L122,garantie,2,FALSE)))","v":""}]
[122,{"$nulls":9},{"$f":"IF(B123=\"\",\"\",D123&\" - \"&F123&\" - \"&G123)","v":""},null,{"$f":"IF(OR(ISBLANK(L123),ISBLANK(H123)),\"\",H123+(VLOOKUP(L123,garantie,2,FALSE)))","v":""}]
[123,{"$nulls":9},{"$f":"IF(B124=\"\",\"\",D124&\" - \"&F124&\" - \"&G124)","v":""},null,{"$f":"IF(OR(ISBLANK(L124),ISBLANK(H124)),\"\",H124+(VLOOKUP(L124,garantie,2,FALSE)))","v":""}]
[124,{"$nulls":9},{"$f":"IF(B125=\"\",\"\",D125&\" - \"&F125&\" - \"&G125)","v":""},null,{"$f":"IF(OR(ISBLANK(L125),ISBLANK(H125)),\"\",H125+(VLOOKUP(L125,garantie,2,FALSE)))","v":""}]
[125,{"$nulls":9},{"$f":"IF(B126=\"\",\"\",D126&\" - \"&F126&\" - \"&G126)","v":""},null,{"$f":"IF(OR(ISBLANK(L126),ISBLANK(H126)),\"\",H126+(VLOOKUP(L126,garantie,2,FALSE)))","v":""}]
[126,{"$nulls":9},{"$f":"IF(B127=\"\",\"\",D127&\" - \"&F127&\" - \"&G127)","v":""},null,{"$f":"IF(OR(ISBLANK(L127),ISBLANK(H127)),\"\",H127+(VLOOKUP(L127,garantie,2,FALSE)))","v":""}]
[127,{"$nulls":9},{"$f":"IF(B128=\"\",\"\",D128&\" - \"&F128&\" - \"&G128)","v":""},null,{"$f":"IF(OR(ISBLANK(L128),ISBLANK(H128)),\"\",H128+(VLOOKUP(L128,garantie,2,FALSE)))","v":""}]
[128,{"$nulls":9},{"$f":"IF(B129=\"\",\"\",D129&\" - \"&F129&\" - \"&G129)","v":""},null,{"$f":"IF(OR(ISBLANK(L129),ISBLANK(H129)),\"\",H129+(VLOOKUP(L129,garantie,2,FALSE)))","v":""}]
[129,{"$nulls":9},{"$f":"IF(B130=\"\",\"\",D130&\" - \"&F130&\" - \"&G130)","v":""},null,{"$f":"IF(OR(ISBLANK(L130),ISBLANK(H130)),\"\",H130+(VLOOKUP(L130,garantie,2,FALSE)))","v":""}]
[130,{"$nulls":9},{"$f":"IF(B131=\"\",\"\",D131&\" - \"&F131&\" - \"&G131)","v":""},null,{"$f":"IF(OR(ISBLANK(L131),ISBLANK(H131)),\"\",H131+(VLOOKUP(L131,garantie,2,FALSE)))","v":""}]
[131,{"$nulls":9},{"$f":"IF(B132=\"\",\"\",D132&\" - \"&F132&\" - \"&G132)","v":""},null,{"$f":"IF(OR(ISBLANK(L132),ISBLANK(H132)),\"\",H132+(VLOOKUP(L132,garantie,2,FALSE)))","v":""}]
[132,{"$nulls":9},{"$f":"IF(B133=\"\",\"\",D133&\" - \"&F133&\" - \"&G133)","v":""},null,{"$f":"IF(OR(ISBLANK(L133),ISBLANK(H133)),\"\",H133+(VLOOKUP(L133,garantie,2,FALSE)))","v":""}]
[133,{"$nulls":9},{"$f":"IF(B134=\"\",\"\",D134&\" - \"&F134&\" - \"&G134)","v":""},null,{"$f":"IF(OR(ISBLANK(L134),ISBLANK(H134)),\"\",H134+(VLOOKUP(L134,garantie,2,FALSE)))","v":""}]
[134,{"$nulls":9},{"$f":"IF(B135=\"\",\"\",D135&\" - \"&F135&\" - \"&G135)","v":""},null,{"$f":"IF(OR(ISBLANK(L135),ISBLANK(H135)),\"\",H135+(VLOOKUP(L135,garantie,2,FALSE)))","v":""}]
[135,{"$nulls":9},{"$f":"IF(B136=\"\",\"\",D136&\" - \"&F136&\" - \"&G136)","v":""},null,{"$f":"IF(OR(ISBLANK(L136),ISBLANK(H136)),\"\",H136+(VLOOKUP(L136,garantie,2,FALSE)))","v":""}]
[136,{"$nulls":9},{"$f":"IF(B137=\"\",\"\",D137&\" - \"&F137&\" - \"&G137)","v":""},null,{"$f":"IF(OR(ISBLANK(L137),ISBLANK(H137)),\"\",H137+(VLOOKUP(L137,garantie,2,FALSE)))","v":""}]
[137,{"$nulls":9},{"$f":"IF(B138=\"\",\"\",D138&\" - \"&F138&\" - \"&G138)","v":""},null,{"$f":"IF(OR(ISBLANK(L138),ISBLANK(H138)),\"\",H138+(VLOOKUP(L138,garantie,2,FALSE)))","v":""}]
[138,{"$nulls":9},{"$f":"IF(B139=\"\",\"\",D139&\" - \"&F139&\" - \"&G139)","v":""},null,{"$f":"IF(OR(ISBLANK(L139),ISBLANK(H139)),\"\",H139+(VLOOKUP(L139,garantie,2,FALSE)))","v":""}]
[139,{"$nulls":9},{"$f":"IF(B140=\"\",\"\",D140&\" - \"&F140&\" - \"&G140)","v":""},null,{"$f":"IF(OR(ISBLANK(L140),ISBLANK(H140)),\"\",H140+(VLOOKUP(L140,garantie,2,FALSE)))","v":""}]
[140,{"$nulls":9},{"$f":"IF(B141=\"\",\"\",D141&\" - \"&F141&\" - \"&G141)","v":""},null,{"$f":"IF(OR(ISBLANK(L141),ISBLANK(H141)),\"\",H141+(VLOOKUP(L141,garantie,2,FALSE)))","v":""}]
[141,{"$nulls":9},{"$f":"IF(B142=\"\",\"\",D142&\" - \"&F142&\" - \"&G142)","v":""},null,{"$f":"IF(OR(ISBLANK(L142),ISBLANK(H142)),\"\",H142+(VLOOKUP(L142,garantie,2,FALSE)))","v":""}]
[142,{"$nulls":9},{"$f":"IF(B143=\"\",\"\",D143&\" - \"&F143&\" - \"&G143)","v":""},null,{"$f":"IF(OR(ISBLANK(L143),ISBLANK(H143)),\"\",H143+(VLOOKUP(L143,garantie,2,FALSE)))","v":""}]
[143,{"$nulls":9},{"$f":"IF(B144=\"\",\"\",D144&\" - \"&F144&\" - \"&G144)","v":""},null,{"$f":"IF(OR(ISBLANK(L144),ISBLANK(H144)),\"\",H144+(VLOOKUP(L144,garantie,2,FALSE)))","v":""}]
[144,{"$nulls":9},{"$f":"IF(B145=\"\",\"\",D145&\" - \"&F145&\" - \"&G145)","v":""},null,{"$f":"IF(OR(ISBLANK(L145),ISBLANK(H145)),\"\",H145+(VLOOKUP(L145,garantie,2,FALSE)))","v":""}]
[145,{"$nulls":9},{"$f":"IF(B146=\"\",\"\",D146&\" - \"&F146&\" - \"&G146)","v":""},null,{"$f":"IF(OR(ISBLANK(L146),ISBLANK(H146)),\"\",H146+(VLOOKUP(L146,garantie,2,FALSE)))","v":""}]
[146,{"$nulls":9},{"$f":"IF(B147=\"\",\"\",D147&\" - \"&F147&\" - \"&G147)","v":""},null,{"$f":"IF(OR(ISBLANK(L147),ISBLANK(H147)),\"\",H147+(VLOOKUP(L147,garantie,2,FALSE)))","v":""}]
[147,{"$nulls":9},{"$f":"IF(B148=\"\",\"\",D148&\" - \"&F148&\" - \"&G148)","v":""},null,{"$f":"IF(OR(ISBLANK(L148),ISBLANK(H148)),\"\",H148+(VLOOKUP(L148,garantie,2,FALSE)))","v":""}]
[148,{"$nulls":9},{"$f":"IF(B149=\"\",\"\",D149&\" - \"&F149&\" - \"&G149)","v":""},null,{"$f":"IF(OR(ISBLANK(L149),ISBLANK(H149)),\"\",H149+(VLOOKUP(L149,garantie,2,FALSE)))","v":""}]
[149,{"$nulls":9},{"$f":"IF(B150=\"\",\"\",D150&\" - \"&F150&\" - \"&G150)","v":""},null,{"$f":"IF(OR(ISBLANK(L150),ISBLANK(H150)),\"\",H150+(VLOOKUP(L150,garantie,2,FALSE)))","v":""}]
[150,{"$nulls":9},{"$f":"IF(B151=\"\",\"\",D151&\" - \"&F151&\" - \"&G151)","v":""},null,{"$f":"IF(OR(ISBLANK(L151),ISBLANK(H151)),\"\",H151+(VLOOKUP(L151,garantie,2,FALSE)))","v":""}]
[151,{"$nulls":9},{"$f":"IF(B152=\"\",\"\",D152&\" - \"&F152&\" - \"&G152)","v":""},null,{"$f":"IF(OR(ISBLANK(L152),ISBLANK(H152)),\"\",H152+(VLOOKUP(L152,garantie,2,FALSE)))","v":""}]
[152,{"$nulls":9},{"$f":"IF(B153=\"\",\"\",D153&\" - \"&F153&\" - \"&G153)","v":""},null,{"$f":"IF(OR(ISBLANK(L153),ISBLANK(H153)),\"\",H153+(VLOOKUP(L153,garantie,2,FALSE)))","v":""}]
[153,{"$nulls":9},{"$f":"IF(B154=\"\",\"\",D154&\" - \"&F154&\" - \"&G154)","v":""},null,{"$f":"IF(OR(ISBLANK(L154),ISBLANK(H154)),\"\",H154+(VLOOKUP(L154,garantie,2,FALSE)))","v":""}]
[154,{"$nulls":9},{"$f":"IF(B155=\"\",\"\",D155&\" - \"&F155&\" - \"&G155)","v":""},null,{"$f":"IF(OR(ISBLANK(L155),ISBLANK(H155)),\"\",H155+(VLOOKUP(L155,garantie,2,FALSE)))","v":""}]
[155,{"$nulls":9},{"$f":"IF(B156=\"\",\"\",D156&\" - \"&F156&\" - \"&G156)","v":""},null,{"$f":"IF(OR(ISBLANK(L156),ISBLANK(H156)),\"\",H156+(VLOOKUP(L156,garantie,2,FALSE)))","v":""}]
[156,{"$nulls":9},{"$f":"IF(B157=\"\",\"\",D157&\" - \"&F157&\" - \"&G157)","v":""},null,{"$f":"IF(OR(ISBLANK(L157),ISBLANK(H157)),\"\",H157+(VLOOKUP(L157,garantie,2,FALSE)))","v":""}]
[157,{"$nulls":9},{"$f":"IF(B158=\"\",\"\",D158&\" - \"&F158&\" - \"&G158)","v":""},null,{"$f":"IF(OR(ISBLANK(L158),ISBLANK(H158)),\"\",H158+(VLOOKUP(L158,garantie,2,FALSE)))","v":""}]
[158,{"$nulls":9},{"$f":"IF(B159=\"\",\"\",D159&\" - \"&F159&\" - \"&G159)","v":""},null,{"$f":"IF(OR(ISBLANK(L159),ISBLANK(H159)),\"\",H159+(VLOOKUP(L159,garantie,2,FALSE)))","v":""}]
[159,{"$nulls":9},{"$f":"IF(B160=\"\",\"\",D160&\" - \"&F160&\" - \"&G160)","v":""},null,{"$f":"IF(OR(ISBLANK(L160),ISBLANK(H160)),\"\",H160+(VLOOKUP(L160,garantie,2,FALSE)))","v":""}]
[160,{"$nulls":9},{"$f":"IF(B161=\"\",\"\",D161&\" - \"&F161&\" - \"&G161)","v":""},null,{"$f":"IF(OR(ISBLANK(L161),ISBLANK(H161)),\"\",H161+(VLOOKUP(L161,garantie,2,FALSE)))","v":""}]
[161,{"$nulls":9},{"$f":"IF(B162=\"\",\"\",D162&\" - \"&F162&\" - \"&G162)","v":""},null,{"$f":"IF(OR(ISBLANK(L162),ISBLANK(H162)),\"\",H162+(VLOOKUP(L162,garantie,2,FALSE)))","v":""}]
[162,{"$nulls":9},{"$f":"IF(B163=\"\",\"\",D163&\" - \"&F163&\" - \"&G163)","v":""},null,{"$f":"IF(OR(ISBLANK(L163),ISBLANK(H163)),\"\",H163+(VLOOKUP(L163,garantie,2,FALSE)))","v":""}]
[163,{"$nulls":9},{"$f":"IF(B164=\"\",\"\",D164&\" - \"&F164&\" - \"&G164)","v":""},null,{"$f":"IF(OR(ISBLANK(L164),ISBLANK(H164)),\"\",H164+(VLOOKUP(L164,garantie,2,FALSE)))","v":""}]
[164,{"$nulls":9},{"$f":"IF(B165=\"\",\"\",D165&\" - \"&F165&\" - \"&G165)","v":""},null,{"$f":"IF(OR(ISBLANK(L165),ISBLANK(H165)),\"\",H165+(VLOOKUP(L165,garantie,2,FALSE)))","v":""}]
[165,{"$nulls":9},{"$f":"IF(B166=\"\",\"\",D166&\" - \"&F166&\" - \"&G166)","v":""},null,{"$f":"IF(OR(ISBLANK(L166),ISBLANK(H166)),\"\",H166+(VLOOKUP(L166,garantie,2,FALSE)))","v":""}]
[166,{"$nulls":9},{"$f":"IF(B167=\"\",\"\",D167&\" - \"&F167&\" - \"&G167)","v":""},null,{"$f":"IF(OR(ISBLANK(L167),ISBLANK(H167)),\"\",H167+(VLOOKUP(L167,garantie,2,FALSE)))","v":""}]
[167,{"$nulls":9},{"$f":"IF(B168=\"\",\"\",D168&\" - \"&F168&\" - \"&G168)","v":""},null,{"$f":"IF(OR(ISBLANK(L168),ISBLANK(H168)),\"\",H168+(VLOOKUP(L168,garantie,2,FALSE)))","v":""}]
[168,{"$nulls":9},{"$f":"IF(B169=\"\",\"\",D169&\" - \"&F169&\" - \"&G169)","v":""},null,{"$f":"IF(OR(ISBLANK(L169),ISBLANK(H169)),\"\",H169+(VLOOKUP(L169,garantie,2,FALSE)))","v":""}]
[169,{"$nulls":9},{"$f":"IF(B170=\"\",\"\",D170&\" - \"&F170&\" - \"&G170)","v":""},null,{"$f":"IF(OR(ISBLANK(L170),ISBLANK(H170)),\"\",H170+(VLOOKUP(L170,garantie,2,FALSE)))","v":""}]
[170,{"$nulls":9},{"$f":"IF(B171=\"\",\"\",D171&\" - \"&F171&\" - \"&G171)","v":""},null,{"$f":"IF(OR(ISBLANK(L171),ISBLANK(H171)),\"\",H171+(VLOOKUP(L171,garantie,2,FALSE)))","v":""}]
[171,{"$nulls":9},{"$f":"IF(B172=\"\",\"\",D172&\" - \"&F172&\" - \"&G172)","v":""},null,{"$f":"IF(OR(ISBLANK(L172),ISBLANK(H172)),\"\",H172+(VLOOKUP(L172,garantie,2,FALSE)))","v":""}]
[172,{"$nulls":9},{"$f":"IF(B173=\"\",\"\",D173&\" - \"&F173&\" - \"&G173)","v":""},null,{"$f":"IF(OR(ISBLANK(L173),ISBLANK(H173)),\"\",H173+(VLOOKUP(L173,garantie,2,FALSE)))","v":""}]
[173,{"$nulls":9},{"$f":"IF(B174=\"\",\"\",D174&\" - \"&F174&\" - \"&G174)","v":""},null,{"$f":"IF(OR(ISBLANK(L174),ISBLANK(H174)),\"\",H174+(VLOOKUP(L174,garantie,2,FALSE)))","v":""}]
[174,{"$nulls":9},{"$f":"IF(B175=\"\",\"\",D175&\" - \"&F175&\" - \"&G175)","v":""},null,{"$f":"IF(OR(ISBLANK(L175),ISBLANK(H175)),\"\",H175+(VLOOKUP(L175,garantie,2,FALSE)))","v":""}]
[175,{"$nulls":9},{"$f":"IF(B176=\"\",\"\",D176&\" - \"&F176&\" - \"&G176)","v":""},null,{"$f":"IF(OR(ISBLANK(L176),ISBLANK(H176)),\"\",H176+(VLOOKUP(L176,garantie,2,FALSE)))","v":""}]
[176,{"$nulls":9},{"$f":"IF(B177=\"\",\"\",D177&\" - \"&F177&\" - \"&G177)","v":""},null,{"$f":"IF(OR(ISBLANK(L177),ISBLANK(H177)),\"\",H177+(VLOOKUP(L177,garantie,2,FALSE)))","v":""}]
[177,{"$nulls":9},{"$f":"IF(B178=\"\",\"\",D178&\" - \"&F178&\" - \"&G178)","v":""},null,{"$f":"IF(OR(ISBLANK(L178),ISBLANK(H178)),\"\",H178+(VLOOKUP(L178,garantie,2,FALSE)))","v":""}]
[178,{"$nulls":9},{"$f":"IF(B179=\"\",\"\",D179&\" - \"&F179&\" - \"&G179)","v":""},null,{"$f":"IF(OR(ISBLANK(L179),ISBLANK(H179)),\"\",H179+(VLOOKUP(L179,garantie,2,FALSE)))","v":""}]
[179,{"$nulls":9},{"$f":"IF(B180=\"\",\"\",D180&\" - \"&F180&\" - \"&G180)","v":""},null,{"$f":"IF(OR(ISBLANK(L180),ISBLANK(H180)),\"\",H180+(VLOOKUP(L180,garantie,2,FALSE)))","v":""}]
[180,{"$nulls":9},{"$f":"IF(B181=\"\",\"\",D181&\" - \"&F181&\" - \"&G181)","v":""},null,{"$f":"IF(OR(ISBLANK(L181),ISBLANK(H181)),\"\",H181+(VLOOKUP(L181,garantie,2,FALSE)))","v":""}]
[181,{"$nulls":9},{"$f":"IF(B182=\"\",\"\",D182&\" - \"&F182&\" - \"&G182)","v":""},null,{"$f":"IF(OR(ISBLANK(L182),ISBLANK(H182)),\"\",H182+(VLOOKUP(L182,garantie,2,FALSE)))","v":""}]
[182,{"$nulls":9},{"$f":"IF(B183=\"\",\"\",D183&\" - \"&F183&\" - \"&G183)","v":""},null,{"$f":"IF(OR(ISBLANK(L183),ISBLANK(H183)),\"\",H183+(VLOOKUP(L183,garantie,2,FALSE)))","v":""}]
[183,{"$nulls":9},{"$f":"IF(B184=\"\",\"\",D184&\" - \"&F184&\" - \"&G184)","v":""},null,{"$f":"IF(OR(ISBLANK(L184),ISBLANK(H184)),\"\",H184+(VLOOKUP(L184,garantie,2,FALSE)))","v":""}]
[184,{"$nulls":9},{"$f":"IF(B185=\"\",\"\",D185&\" - \"&F185&\" - \"&G185)","v":""},null,{"$f":"IF(OR(ISBLANK(L185),ISBLANK(H185)),\"\",H185+(VLOOKUP(L185,garantie,2,FALSE)))","v":""}]
[185,{"$nulls":9},{"$f":"IF(B186=\"\",\"\",D186&\" - \"&F186&\" - \"&G186)","v":""},null,{"$f":"IF(OR(ISBLANK(L186),ISBLANK(H186)),\"\",H186+(VLOOKUP(L186,garantie,2,FALSE)))","v":""}]
[186,{"$nulls":9},{"$f":"IF(B187=\"\",\"\",D187&\" - \"&F187&\" - \"&G187)","v":""},null,{"$f":"IF(OR(ISBLANK(L187),ISBLANK(H187)),\"\",H187+(VLOOKUP(L187,garantie,2,FALSE)))","v":""}]
[187,{"$nulls":9},{"$f":"IF(B188=\"\",\"\",D188&\" - \"&F188&\" - \"&G188)","v":""},null,{"$f":"IF(OR(ISBLANK(L188),ISBLANK(H188)),\"\",H188+(VLOOKUP(L188,garantie,2,FALSE)))","v":""}]
[188,{"$nulls":9},{"$f":"IF(B189=\"\",\"\",D189&\" - \"&F189&\" - \"&G189)","v":""},null,{"$f":"IF(OR(ISBLANK(L189),ISBLANK(H189)),\"\",H189+(VLOOKUP(L189,garantie,2,FALSE)))","v":""}]
[189,{"$nulls":9},{"$f":"IF(B190=\"\",\"\",D190&\" - \"&F190&\" - \"&G190)","v":""},null,{"$f":"IF(OR(ISBLANK(L190),ISBLANK(H190)),\"\",H190+(VLOOKUP(L190,garantie,2,FALSE)))","v":""}]
[190,{"$nulls":9},{"$f":"IF(B191=\"\",\"\",D191&\" - \"&F191&\" - \"&G191)","v":""},null,{"$f":"IF(OR(ISBLANK(L191),ISBLANK(H191)),\"\",H191+(VLOOKUP(L191,garantie,2,FALSE)))","v":""}]
[191,{"$nulls":9},{"$f":"IF(B192=\"\",\"\",D192&\" - \"&F192&\" - \"&G192)","v":""},null,{"$f":"IF(OR(ISBLANK(L192),ISBLANK(H192)),\"\",H192+(VLOOKUP(L192,garantie,2,FALSE)))","v":""}]
[192,{"$nulls":9},{"$f":"IF(B193=\"\",\"\",D193&\" - \"&F193&\" - \"&G193)","v":""},null,{"$f":"IF(OR(ISBLANK(L193),ISBLANK(H193)),\"\",H193+(VLOOKUP(L193,garantie,2,FALSE)))","v":""}]
[193,{"$nulls":9},{"$f":"IF(B194=\"\",\"\",D194&\" - \"&F194&\" - \"&G194)","v":""},null,{"$f":"IF(OR(ISBLANK(L194),ISBLANK(H194)),\"\",H194+(VLOOKUP(L194,garantie,2,FALSE)))","v":""}]
[194,{"$nulls":9},{"$f":"IF(B195=\"\",\"\",D195&\" - \"&F195&\" - \"&G195)","v":""},null,{"$f":"IF(OR(ISBLANK(L195),ISBLANK(H195)),\"\",H195+(VLOOKUP(L195,garantie,2,FALSE)))","v":""}]
[195,{"$nulls":9},{"$f":"IF(B196=\"\",\"\",D196&\" - \"&F196&\" - \"&G196)","v":""},null,{"$f":"IF(OR(ISBLANK(L196),ISBLANK(H196)),\"\",H196+(VLOOKUP(L196,garantie,2,FALSE)))","v":""}]
[196,{"$nulls":9},{"$f":"IF(B197=\"\",\"\",D197&\" - \"&F197&\" - \"&G197)","v":""},null,{"$f":"IF(OR(ISBLANK(L197),ISBLANK(H197)),\"\",H197+(VLOOKUP(L197,garantie,2,FALSE)))","v":""}]
[197,{"$nulls":9},{"$f":"IF(B198=\"\",\"\",D198&\" - \"&F198&\" - \"&G198)","v":""},null,{"$f":"IF(OR(ISBLANK(L198),ISBLANK(H198)),\"\",H198+(VLOOKUP(L198,garantie,2,FALSE)))","v":""}]
[198,{"$nulls":9},{"$f":"IF(B199=\"\",\"\",D199&\" - \"&F199&\" - \"&G199)","v":""},null,{"$f":"IF(OR(ISBLANK(L199),ISBLANK(H199)),\"\",H199+(VLOOKUP(L199,garantie,2,FALSE)))","v":""}]
[199,{"$nulls":9},{"$f":"IF(B200=\"\",\"\",D200&\" - \"&F200&\" - \"&G200)","v":""},null,{"$f":"IF(OR(ISBLANK(L200),ISBLANK(H200)),\"\",H200+(VLOOKUP(L200,garantie,2,FALSE)))","v":""}]
[200,{"$nulls":9},{"$f":"IF(B201=\"\",\"\",D201&\" - \"&F201&\" - \"&G201)","v":""},null,{"$f":"IF(OR(ISBLANK(L201),ISBLANK(H201)),\"\",H201+(VLOOKUP(L201,garantie,2,FALSE)))","v":""}]
[201,{"$nulls":9},{"$f":"IF(B202=\"\",\"\",D202&\" - \"&F202&\" - \"&G202)","v":""},null,{"$f":"IF(OR(ISBLANK(L202),ISBLANK(H202)),\"\",H202+(VLOOKUP(L202,garantie,2,FALSE)))","v":""}]
[202,{"$nulls":9},{"$f":"IF(B203=\"\",\"\",D203&\" - \"&F203&\" - \"&G203)","v":""},null,{"$f":"IF(OR(ISBLANK(L203),ISBLANK(H203)),\"\",H203+(VLOOKUP(L203,garantie,2,FALSE)))","v":""}]
[203,{"$nulls":9},{"$f":"IF(B204=\"\",\"\",D204&\" - \"&F204&\" - \"&G204)","v":""},null,{"$f":"IF(OR(ISBLANK(L204),ISBLANK(H204)),\"\",H204+(VLOOKUP(L204,garantie,2,FALSE)))","v":""}]
[204,{"$nulls":9},{"$f":"IF(B205=\"\",\"\",D205&\" - \"&F205&\" - \"&G205)","v":""},null,{"$f":"IF(OR(ISBLANK(L205),ISBLANK(H205)),\"\",H205+(VLOOKUP(L205,garantie,2,FALSE)))","v":""}]
[205,{"$nulls":9},{"$f":"IF(B206=\"\",\"\",D206&\" - \"&F206&\" - \"&G206)","v":""},null,{"$f":"IF(OR(ISBLANK(L206),ISBLANK(H206)),\"\",H206+(VLOOKUP(L206,garantie,2,FALSE)))","v":""}]
[206,{"$nulls":9},{"$f":"IF(B207=\"\",\"\",D207&\" - \"&F207&\" - \"&G207)","v":""},null,{"$f":"IF(OR(ISBLANK(L207),ISBLANK(H207)),\"\",H207+(VLOOKUP(L207,garantie,2,FALSE)))","v":""}]
[207,{"$nulls":9},{"$f":"IF(B208=\"\",\"\",D208&\" - \"&F208&\" - \"&G208)","v":""},null,{"$f":"IF(OR(ISBLANK(L208),ISBLANK(H208)),\"\",H208+(VLOOKUP(L208,garantie,2,FALSE)))","v":""}]
[208,{"$nulls":9},{"$f":"IF(B209=\"\",\"\",D209&\" - \"&F209&\" - \"&G209)","v":""},null,{"$f":"IF(OR(ISBLANK(L209),ISBLANK(H209)),\"\",H209+(VLOOKUP(L209,garantie,2,FALSE)))","v":""}]
[209,{"$nulls":9},{"$f":"IF(B210=\"\",\"\",D210&\" - \"&F210&\" - \"&G210)","v":""},null,{"$f":"IF(OR(ISBLANK(L210),ISBLANK(H210)),\"\",H210+(VLOOKUP(L210,garantie,2,FALSE)))","v":""}]
[210,{"$nulls":9},{"$f":"IF(B211=\"\",\"\",D211&\" - \"&F211&\" - \"&G211)","v":""},null,{"$f":"IF(OR(ISBLANK(L211),ISBLANK(H211)),\"\",H211+(VLOOKUP(L211,garantie,2,FALSE)))","v":""}]
[211,{"$nulls":9},{"$f":"IF(B212=\"\",\"\",D212&\" - \"&F212&\" - \"&G212)","v":""},null,{"$f":"IF(OR(ISBLANK(L212),ISBLANK(H212)),\"\",H212+(VLOOKUP(L212,garantie,2,FALSE)))","v":""}]
[212,{"$nulls":9},{"$f":"IF(B213=\"\",\"\",D213&\" - \"&F213&\" - \"&G213)","v":""},null,{"$f":"IF(OR(ISBLANK(L213),ISBLANK(H213)),\"\",H213+(VLOOKUP(L213,garantie,2,FALSE)))","v":""}]
[213,{"$nulls":9},{"$f":"IF(B214=\"\",\"\",D214&\" - \"&F214&\" - \"&G214)","v":""},null,{"$f":"IF(OR(ISBLANK(L214),ISBLANK(H214)),\"\",H214+(VLOOKUP(L214,garantie,2,FALSE)))","v":""}]
[214,{"$nulls":9},{"$f":"IF(B215=\"\",\"\",D215&\" - \"&F215&\" - \"&G215)","v":""},null,{"$f":"IF(OR(ISBLANK(L215),ISBLANK(H215)),\"\",H215+(VLOOKUP(L215,garantie,2,FALSE)))","v":""}]
[215,{"$nulls":9},{"$f":"IF(B216=\"\",\"\",D216&\" - \"&F216&\" - \"&G216)","v":""},null,{"$f":"IF(OR(ISBLANK(L216),ISBLANK(H216)),\"\",H216+(VLOOKUP(L216,garantie,2,FALSE)))","v":""}]
[216,{"$nulls":9},{"$f":"IF(B217=\"\",\"\",D217&\" - \"&F217&\" - \"&G217)","v":""},null,{"$f":"IF(OR(ISBLANK(L217),ISBLANK(H217)),\"\",H217+(VLOOKUP(L217,garantie,2,FALSE)))","v":""}]
[217,{"$nulls":9},{"$f":"IF(B218=\"\",\"\",D218&\" - \"&F218&\" - \"&G218)","v":""},null,{"$f":"IF(OR(ISBLANK(L218),ISBLANK(H218)),\"\",H218+(VLOOKUP(L218,garantie,2,FALSE)))","v":""}]
[218,{"$nulls":9},{"$f":"IF(B219=\"\",\"\",D219&\" - \"&F219&\" - \"&G219)","v":""},null,{"$f":"IF(OR(ISBLANK(L219),ISBLANK(H219)),\"\",H219+(VLOOKUP(L219,garantie,2,FALSE)))","v":""}]
[219,{"$nulls":9},{"$f":"IF(B220=\"\",\"\",D220&\" - \"&F220&\" - \"&G220)","v":""},null,{"$f":"IF(OR(ISBLANK(L220),ISBLANK(H220)),\"\",H220+(VLOOKUP(L220,garantie,2,FALSE)))","v":""}]
[220,{"$nulls":9},{"$f":"IF(B221=\"\",\"\",D221&\" - \"&F221&\" - \"&G221)","v":""},null,{"$f":"IF(OR(ISBLANK(L221),ISBLANK(H221)),\"\",H221+(VLOOKUP(L221,garantie,2,FALSE)))","v":""}]
[221,{"$nulls":9},{"$f":"IF(B222=\"\",\"\",D222&\" - \"&F222&\" - \"&G222)","v":""},null,{"$f":"IF(OR(ISBLANK(L222),ISBLANK(H222)),\"\",H222+(VLOOKUP(L222,garantie,2,FALSE)))","v":""}]
[222,{"$nulls":9},{"$f":"IF(B223=\"\",\"\",D223&\" - \"&F223&\" - \"&G223)","v":""},null,{"$f":"IF(OR(ISBLANK(L223),ISBLANK(H223)),\"\",H223+(VLOOKUP(L223,garantie,2,FALSE)))","v":""}]
[223,{"$nulls":9},{"$f":"IF(B224=\"\",\"\",D224&\" - \"&F224&\" - \"&G224)","v":""},null,{"$f":"IF(OR(ISBLANK(L224),ISBLANK(H224)),\"\",H224+(VLOOKUP(L224,garantie,2,FALSE)))","v":""}]
[224,{"$nulls":9},{"$f":"IF(B225=\"\",\"\",D225&\" - \"&F225&\" - \"&G225)","v":""},null,{"$f":"IF(OR(ISBLANK(L225),ISBLANK(H225)),\"\",H225+(VLOOKUP(L225,garantie,2,FALSE)))","v":""}]
[225,{"$nulls":9},{"$f":"IF(B226=\"\",\"\",D226&\" - \"&F226&\" - \"&G226)","v":""},null,{"$f":"IF(OR(ISBLANK(L226),ISBLANK(H226)),\"\",H226+(VLOOKUP(L226,garantie,2,FALSE)))","v":""}]
[226,{"$nulls":9},{"$f":"IF(B227=\"\",\"\",D227&\" - \"&F227&\" - \"&G227)","v":""},null,{"$f":"IF(OR(ISBLANK(L227),ISBLANK(H227)),\"\",H227+(VLOOKUP(L227,garantie,2,FALSE)))","v":""}]
[227,{"$nulls":9},{"$f":"IF(B228=\"\",\"\",D228&\" - \"&F228&\" - \"&G228)","v":""},null,{"$f":"IF(OR(ISBLANK(L228),ISBLANK(H228)),\"\",H228+(VLOOKUP(L228,garantie,2,FALSE)))","v":""}]
[228,{"$nulls":9},{"$f":"IF(B229=\"\",\"\",D229&\" - \"&F229&\" - \"&G229)","v":""},null,{"$f":"IF(OR(ISBLANK(L229),ISBLANK(H229)),\"\",H229+(VLOOKUP(L229,garantie,2,FALSE)))","v":""}]
[229,{"$nulls":9},{"$f":"IF(B230=\"\",\"\",D230&\" - \"&F230&\" - \"&G230)","v":""},null,{"$f":"IF(OR(ISBLANK(L230),ISBLANK(H230)),\"\",H230+(VLOOKUP(L230,garantie,2,FALSE)))","v":""}]
[230,{"$nulls":9},{"$f":"IF(B231=\"\",\"\",D231&\" - \"&F231&\" - \"&G231)","v":""},null,{"$f":"IF(OR(ISBLANK(L231),ISBLANK(H231)),\"\",H231+(VLOOKUP(L231,garantie,2,FALSE)))","v":""}]
[231,{"$nulls":9},{"$f":"IF(B232=\"\",\"\",D232&\" - \"&F232&\" - \"&G232)","v":""},null,{"$f":"IF(OR(ISBLANK(L232),ISBLANK(H232)),\"\",H232+(VLOOKUP(L232,garantie,2,FALSE)))","v":""}]
[232,{"$nulls":9},{"$f":"IF(B233=\"\",\"\",D233&\" - \"&F233&\" - \"&G233)","v":""},null,{"$f":"IF(OR(ISBLANK(L233),ISBLANK(H233)),\"\",H233+(VLOOKUP(L233,garantie,2,FALSE)))","v":""}]
[233,{"$nulls":9},{"$f":"IF(B234=\"\",\"\",D234&\" - \"&F234&\" - \"&G234)","v":""},null,{"$f":"IF(OR(ISBLANK(L234),ISBLANK(H234)),\"\",H234+(VLOOKUP(L234,garantie,2,FALSE)))","v":""}]
[234,{"$nulls":9},{"$f":"IF(B235=\"\",\"\",D235&\" - \"&F235&\" - \"&G235)","v":""},null,{"$f":"IF(OR(ISBLANK(L235),ISBLANK(H235)),\"\",H235+(VLOOKUP(L235,garantie,2,FALSE)))","v":""}]
[235,{"$nulls":9},{"$f":"IF(B236=\"\",\"\",D236&\" - \"&F236&\" - \"&G236)","v":""},null,{"$f":"IF(OR(ISBLANK(L236),ISBLANK(H236)),\"\",H236+(VLOOKUP(L236,garantie,2,FALSE)))","v":""}]
[236,{"$nulls":9},{"$f":"IF(B237=\"\",\"\",D237&\" - \"&F237&\" - \"&G237)","v":""},null,{"$f":"IF(OR(ISBLANK(L237),ISBLANK(H237)),\"\",H237+(VLOOKUP(L237,garantie,2,FALSE)))","v":""}]
[237,{"$nulls":9},{"$f":"IF(B238=\"\",\"\",D238&\" - \"&F238&\" - \"&G238)","v":""},null,{"$f":"IF(OR(ISBLANK(L238),ISBLANK(H238)),\"\",H238+(VLOOKUP(L238,garantie,2,FALSE)))","v":""}]
[238,{"$nulls":9},{"$f":"IF(B239=\"\",\"\",D239&\" - \"&F239&\" - \"&G239)","v":""},null,{"$f":"IF(OR(ISBLANK(L239),ISBLANK(H239)),\"\",H239+(VLOOKUP(L239,garantie,2,FALSE)))","v":""}]
[239,{"$nulls":9},{"$f":"IF(B240=\"\",\"\",D240&\" - \"&F240&\" - \"&G240)","v":""},null,{"$f":"IF(OR(ISBLANK(L240),ISBLANK(H240)),\"\",H240+(VLOOKUP(L240,garantie,2,FALSE)))","v":""}]
[240,{"$nulls":9},{"$f":"IF(B241=\"\",\"\",D241&\" - \"&F241&\" - \"&G241)","v":""},null,{"$f":"IF(OR(ISBLANK(L241),ISBLANK(H241)),\"\",H241+(VLOOKUP(L241,garantie,2,FALSE)))","v":""}]
[241,{"$nulls":9},{"$f":"IF(B242=\"\",\"\",D242&\" - \"&F242&\" - \"&G242)","v":""},null,{"$f":"IF(OR(ISBLANK(L242),ISBLANK(H242)),\"\",H242+(VLOOKUP(L242,garantie,2,FALSE)))","v":""}]
[242,{"$nulls":9},{"$f":"IF(B243=\"\",\"\",D243&\" - \"&F243&\" - \"&G243)","v":""},null,{"$f":"IF(OR(ISBLANK(L243),ISBLANK(H243)),\"\",H243+(VLOOKUP(L243,garantie,2,FALSE)))","v":""}]
[243,{"$nulls":9},{"$f":"IF(B244=\"\",\"\",D244&\" - \"&F244&\" - \"&G244)","v":""},null,{"$f":"IF(OR(ISBLANK(L244),ISBLANK(H244)),\"\",H244+(VLOOKUP(L244,garantie,2,FALSE)))","v":""}]
[244,{"$nulls":9},{"$f":"IF(B245=\"\",\"\",D245&\" - \"&F245&\" - \"&G245)","v":""},null,{"$f":"IF(OR(ISBLANK(L245),ISBLANK(H245)),\"\",H245+(VLOOKUP(L245,garantie,2,FALSE)))","v":""}]
[245,{"$nulls":9},{"$f":"IF(B246=\"\",\"\",D246&\" - \"&F246&\" - \"&G246)","v":""},null,{"$f":"IF(OR(ISBLANK(L246),ISBLANK(H246)),\"\",H246+(VLOOKUP(L246,garantie,2,FALSE)))","v":""}]
[246,{"$nulls":9},{"$f":"IF(B247=\"\",\"\",D247&\" - \"&F247&\" - \"&G247)","v":""},null,{"$f":"IF(OR(ISBLANK(L247),ISBLANK(H247)),\"\",H247+(VLOOKUP(L247,garantie,2,FALSE)))","v":""}]
[247,{"$nulls":9},{"$f":"IF(B248=\"\",\"\",D248&\" - \"&F248&\" - \"&G248)","v":""},null,{"$f":"IF(OR(ISBLANK(L248),ISBLANK(H248)),\"\",H248+(VLOOKUP(L248,garantie,2,FALSE)))","v":""}]
[248,{"$nulls":9},{"$f":"IF(B249=\"\",\"\",D249&\" - \"&F249&\" - \"&G249)","v":""},null,{"$f":"IF(OR(ISBLANK(L249),ISBLANK(H249)),\"\",H249+(VLOOKUP(L249,garantie,2,FALSE)))","v":""}]
[249,{"$nulls":9},{"$f":"IF(B250=\"\",\"\",D250&\" - \"&F250&\" - \"&G250)","v":""},null,{"$f":"IF(OR(ISBLANK(L250),ISBLANK(H250)),\"\",H250+(VLOOKUP(L250,garantie,2,FALSE)))","v":""}]
[250,{"$nulls":9},{"$f":"IF(B251=\"\",\"\",D251&\" - \"&F251&\" - \"&G251)","v":""},null,{"$f":"IF(OR(ISBLANK(L251),ISBLANK(H251)),\"\",H251+(VLOOKUP(L251,garantie,2,FALSE)))","v":""}]
[251,{"$nulls":9},{"$f":"IF(B252=\"\",\"\",D252&\" - \"&F252&\" - \"&G252)","v":""},null,{"$f":"IF(OR(ISBLANK(L252),ISBLANK(H252)),\"\",H252+(VLOOKUP(L252,garantie,2,FALSE)))","v":""}]
[252,{"$nulls":9},{"$f":"IF(B253=\"\",\"\",D253&\" - \"&F253&\" - \"&G253)","v":""},null,{"$f":"IF(OR(ISBLANK(L253),ISBLANK(H253)),\"\",H253+(VLOOKUP(L253,garantie,2,FALSE)))","v":""}]
[253,{"$nulls":9},{"$f":"IF(B254=\"\",\"\",D254&\" - \"&F254&\" - \"&G254)","v":""},null,{"$f":"IF(OR(ISBLANK(L254),ISBLANK(H254)),\"\",H254+(VLOOKUP(L254,garantie,2,FALSE)))","v":""}]
[254,{"$nulls":9},{"$f":"IF(B255=\"\",\"\",D255&\" - \"&F255&\" - \"&G255)","v":""},null,{"$f":"IF(OR(ISBLANK(L255),ISBLANK(H255)),\"\",H255+(VLOOKUP(L255,garantie,2,FALSE)))","v":""}]
[255,{"$nulls":9},{"$f":"IF(B256=\"\",\"\",D256&\" - \"&F256&\" - \"&G256)","v":""},null,{"$f":"IF(OR(ISBLANK(L256),ISBLANK(H256)),\"\",H256+(VLOOKUP(L256,garantie,2,FALSE)))","v":""}]
[256,{"$nulls":9},{"$f":"IF(B257=\"\",\"\",D257&\" - \"&F257&\" - \"&G257)","v":""},null,{"$f":"IF(OR(ISBLANK(L257),ISBLANK(H257)),\"\",H257+(VLOOKUP(L257,garantie,2,FALSE)))","v":""}]
[257,{"$nulls":9},{"$f":"IF(B258=\"\",\"\",D258&\" - \"&F258&\" - \"&G258)","v":""},null,{"$f":"IF(OR(ISBLANK(L258),ISBLANK(H258)),\"\",H258+(VLOOKUP(L258,garantie,2,FALSE)))","v":""}]
[258,{"$nulls":9},{"$f":"IF(B259=\"\",\"\",D259&\" - \"&F259&\" - \"&G259)","v":""},null,{"$f":"IF(OR(ISBLANK(L259),ISBLANK(H259)),\"\",H259+(VLOOKUP(L259,garantie,2,FALSE)))","v":""}]
[259,{"$nulls":9},{"$f":"IF(B260=\"\",\"\",D260&\" - \"&F260&\" - \"&G260)","v":""},null,{"$f":"IF(OR(ISBLANK(L260),ISBLANK(H260)),\"\",H260+(VLOOKUP(L260,garantie,2,FALSE)))","v":""}]
[260,{"$nulls":9},{"$f":"IF(B261=\"\",\"\",D261&\" - \"&F261&\" - \"&G261)","v":""},null,{"$f":"IF(OR(ISBLANK(L261),ISBLANK(H261)),\"\",H261+(VLOOKUP(L261,garantie,2,FALSE)))","v":""}]
[261,{"$nulls":9},{"$f":"IF(B262=\"\",\"\",D262&\" - \"&F262&\" - \"&G262)","v":""},null,{"$f":"IF(OR(ISBLANK(L262),ISBLANK(H262)),\"\",H262+(VLOOKUP(L262,garantie,2,FALSE)))","v":""}]
[262,{"$nulls":9},{"$f":"IF(B263=\"\",\"\",D263&\" - \"&F263&\" - \"&G263)","v":""},null,{"$f":"IF(OR(ISBLANK(L263),ISBLANK(H263)),\"\",H263+(VLOOKUP(L263,garantie,2,FALSE)))","v":""}]
[263,{"$nulls":9},{"$f":"IF(B264=\"\",\"\",D264&\" - \"&F264&\" - \"&G264)","v":""},null,{"$f":"IF(OR(ISBLANK(L264),ISBLANK(H264)),\"\",H264+(VLOOKUP(L264,garantie,2,FALSE)))","v":""}]
[264,{"$nulls":9},{"$f":"IF(B265=\"\",\"\",D265&\" - \"&F265&\" - \"&G265)","v":""},null,{"$f":"IF(OR(ISBLANK(L265),ISBLANK(H265)),\"\",H265+(VLOOKUP(L265,garantie,2,FALSE)))","v":""}]
[265,{"$nulls":9},{"$f":"IF(B266=\"\",\"\",D266&\" - \"&F266&\" - \"&G266)","v":""},null,{"$f":"IF(OR(ISBLANK(L266),ISBLANK(H266)),\"\",H266+(VLOOKUP(L266,garantie,2,FALSE)))","v":""}]
[266,{"$nulls":9},{"$f":"IF(B267=\"\",\"\",D267&\" - \"&F267&\" - \"&G267)","v":""},null,{"$f":"IF(OR(ISBLANK(L267),ISBLANK(H267)),\"\",H267+(VLOOKUP(L267,garantie,2,FALSE)))","v":""}]
[267,{"$nulls":9},{"$f":"IF(B268=\"\",\"\",D268&\" - \"&F268&\" - \"&G268)","v":""},null,{"$f":"IF(OR(ISBLANK(L268),ISBLANK(H268)),\"\",H268+(VLOOKUP(L268,garantie,2,FALSE)))","v":""}]
[268,{"$nulls":9},{"$f":"IF(B269=\"\",\"\",D269&\" - \"&F269&\" - \"&G269)","v":""},null,{"$f":"IF(OR(ISBLANK(L269),ISBLANK(H269)),\"\",H269+(VLOOKUP(L269,garantie,2,FALSE)))","v":""}]
[269,{"$nulls":9},{"$f":"IF(B270=\"\",\"\",D270&\" - \"&F270&\" - \"&G270)","v":""},null,{"$f":"IF(OR(ISBLANK(L270),ISBLANK(H270)),\"\",H270+(VLOOKUP(L270,garantie,2,FALSE)))","v":""}]
[270,{"$nulls":9},{"$f":"IF(B271=\"\",\"\",D271&\" - \"&F271&\" - \"&G271)","v":""},null,{"$f":"IF(OR(ISBLANK(L271),ISBLANK(H271)),\"\",H271+(VLOOKUP(L271,garantie,2,FALSE)))","v":""}]
[271,{"$nulls":9},{"$f":"IF(B272=\"\",\"\",D272&\" - \"&F272&\" - \"&G272)","v":""},null,{"$f":"IF(OR(ISBLANK(L272),ISBLANK(H272)),\"\",H272+(VLOOKUP(L272,garantie,2,FALSE)))","v":""}]
[272,{"$nulls":9},{"$f":"IF(B273=\"\",\"\",D273&\" - \"&F273&\" - \"&G273)","v":""},null,{"$f":"IF(OR(ISBLANK(L273),ISBLANK(H273)),\"\",H273+(VLOOKUP(L273,garantie,2,FALSE)))","v":""}]
[273,{"$nulls":9},{"$f":"IF(B274=\"\",\"\",D274&\" - \"&F274&\" - \"&G274)","v":""},null,{"$f":"IF(OR(ISBLANK(L274),ISBLANK(H274)),\"\",H274+(VLOOKUP(L274,garantie,2,FALSE)))","v":""}]
[274,{"$nulls":9},{"$f":"IF(B275=\"\",\"\",D275&\" - \"&F275&\" - \"&G275)","v":""},null,{"$f":"IF(OR(ISBLANK(L275),ISBLANK(H275)),\"\",H275+(VLOOKUP(L275,garantie,2,FALSE)))","v":""}]
[275,{"$nulls":9},{"$f":"IF(B276=\"\",\"\",D276&\" - \"&F276&\" - \"&G276)","v":""},null,{"$f":"IF(OR(ISBLANK(L276),ISBLANK(H276)),\"\",H276+(VLOOKUP(L276,garantie,2,FALSE)))","v":""}]
[276,{"$nulls":9},{"$f":"IF(B277=\"\",\"\",D277&\" - \"&F277&\" - \"&G277)","v":""},null,{"$f":"IF(OR(ISBLANK(L277),ISBLANK(H277)),\"\",H277+(VLOOKUP(L277,garantie,2,FALSE)))","v":""}]
[277,{"$nulls":9},{"$f":"IF(B278=\"\",\"\",D278&\" - \"&F278&\" - \"&G278)","v":""},null,{"$f":"IF(OR(ISBLANK(L278),ISBLANK(H278)),\"\",H278+(VLOOKUP(L278,garantie,2,FALSE)))","v":""}]
[278,{"$nulls":9},{"$f":"IF(B279=\"\",\"\",D279&\" - \"&F279&\" - \"&G279)","v":""},null,{"$f":"IF(OR(ISBLANK(L279),ISBLANK(H279)),\"\",H279+(VLOOKUP(L279,garantie,2,FALSE)))","v":""}]
[279,{"$nulls":9},{"$f":"IF(B280=\"\",\"\",D280&\" - \"&F280&\" - \"&G280)","v":""},null,{"$f":"IF(OR(ISBLANK(L280),ISBLANK(H280)),\"\",H280+(VLOOKUP(L280,garantie,2,FALSE)))","v":""}]
[280,{"$nulls":9},{"$f":"IF(B281=\"\",\"\",D281&\" - \"&F281&\" - \"&G281)","v":""},null,{"$f":"IF(OR(ISBLANK(L281),ISBLANK(H281)),\"\",H281+(VLOOKUP(L281,garantie,2,FALSE)))","v":""}]
[281,{"$nulls":9},{"$f":"IF(B282=\"\",\"\",D282&\" - \"&F282&\" - \"&G282)","v":""},null,{"$f":"IF(OR(ISBLANK(L282),ISBLANK(H282)),\"\",H282+(VLOOKUP(L282,garantie,2,FALSE)))","v":""}]
[282,{"$nulls":9},{"$f":"IF(B283=\"\",\"\",D283&\" - \"&F283&\" - \"&G283)","v":""},null,{"$f":"IF(OR(ISBLANK(L283),ISBLANK(H283)),\"\",H283+(VLOOKUP(L283,garantie,2,FALSE)))","v":""}]
[283,{"$nulls":9},{"$f":"IF(B284=\"\",\"\",D284&\" - \"&F284&\" - \"&G284)","v":""},null,{"$f":"IF(OR(ISBLANK(L284),ISBLANK(H284)),\"\",H284+(VLOOKUP(L284,garantie,2,FALSE)))","v":""}]
[284,{"$nulls":9},{"$f":"IF(B285=\"\",\"\",D285&\" - \"&F285&\" - \"&G285)","v":""},null,{"$f":"IF(OR(ISBLANK(L285),ISBLANK(H285)),\"\",H285+(VLOOKUP(L285,garantie,2,FALSE)))","v":""}]
[285,{"$nulls":9},{"$f":"IF(B286=\"\",\"\",D286&\" - \"&F286&\" - \"&G286)","v":""},null,{"$f":"IF(OR(ISBLANK(L286),ISBLANK(H286)),\"\",H286+(VLOOKUP(L286,garantie,2,FALSE)))","v":""}]
[286,{"$nulls":9},{"$f":"IF(B287=\"\",\"\",D287&\" - \"&F287&\" - \"&G287)","v":""},null,{"$f":"IF(OR(ISBLANK(L287),ISBLANK(H287)),\"\",H287+(VLOOKUP(L287,garantie,2,FALSE)))","v":""}]
[287,{"$nulls":9},{"$f":"IF(B288=\"\",\"\",D288&\" - \"&F288&\" - \"&G288)","v":""},null,{"$f":"IF(OR(ISBLANK(L288),ISBLANK(H288)),\"\",H288+(VLOOKUP(L288,garantie,2,FALSE)))","v":""}]
[288,{"$nulls":9},{"$f":"IF(B289=\"\",\"\",D289&\" - \"&F289&\" - \"&G289)","v":""},null,{"$f":"IF(OR(ISBLANK(L289),ISBLANK(H289)),\"\",H289+(VLOOKUP(L289,garantie,2,FALSE)))","v":""}]
[289,{"$nulls":9},{"$f":"IF(B290=\"\",\"\",D290&\" - \"&F290&\" - \"&G290)","v":""},null,{"$f":"IF(OR(ISBLANK(L290),ISBLANK(H290)),\"\",H290+(VLOOKUP(L290,garantie,2,FALSE)))","v":""}]
[290,{"$nulls":9},{"$f":"IF(B291=\"\",\"\",D291&\" - \"&F291&\" - \"&G291)","v":""},null,{"$f":"IF(OR(ISBLANK(L291),ISBLANK(H291)),\"\",H291+(VLOOKUP(L291,garantie,2,FALSE)))","v":""}]
[291,{"$nulls":9},{"$f":"IF(B292=\"\",\"\",D292&\" - \"&F292&\" - \"&G292)","v":""},null,{"$f":"IF(OR(ISBLANK(L292),ISBLANK(H292)),\"\",H292+(VLOOKUP(L292,garantie,2,FALSE)))","v":""}]
[292,{"$nulls":9},{"$f":"IF(B293=\"\",\"\",D293&\" - \"&F293&\" - \"&G293)","v":""},null,{"$f":"IF(OR(ISBLANK(L293),ISBLANK(H293)),\"\",H293+(VLOOKUP(L293,garantie,2,FALSE)))","v":""}]
[293,{"$nulls":9},{"$f":"IF(B294=\"\",\"\",D294&\" - \"&F294&\" - \"&G294)","v":""},null,{"$f":"IF(OR(ISBLANK(L294),ISBLANK(H294)),\"\",H294+(VLOOKUP(L294,garantie,2,FALSE)))","v":""}]
[294,{"$nulls":9},{"$f":"IF(B295=\"\",\"\",D295&\" - \"&F295&\" - \"&G295)","v":""},null,{"$f":"IF(OR(ISBLANK(L295),ISBLANK(H295)),\"\",H295+(VLOOKUP(L295,garantie,2,FALSE)))","v":""}]
[295,{"$nulls":9},{"$f":"IF(B296=\"\",\"\",D296&\" - \"&F296&\" - \"&G296)","v":""},null,{"$f":"IF(OR(ISBLANK(L296),ISBLANK(H296)),\"\",H296+(VLOOKUP(L296,garantie,2,FALSE)))","v":""}]
[296,{"$nulls":9},{"$f":"IF(B297=\"\",\"\",D297&\" - \"&F297&\" - \"&G297)","v":""},null,{"$f":"IF(OR(ISBLANK(L297),ISBLANK(H297)),\"\",H297+(VLOOKUP(L297,garantie,2,FALSE)))","v":""}]
[297,{"$nulls":9},{"$f":"IF(B298=\"\",\"\",D298&\" - \"&F298&\" - \"&G298)","v":""},null,{"$f":"IF(OR(ISBLANK(L298),ISBLANK(H298)),\"\",H298+(VLOOKUP(L298,garantie,2,FALSE)))","v":""}]
[298,{"$nulls":9},{"$f":"IF(B299=\"\",\"\",D299&\" - \"&F299&\" - \"&G299)","v":""},null,{"$f":"IF(OR(ISBLANK(L299),ISBLANK(H299)),\"\",H299+(VLOOKUP(L299,garantie,2,FALSE)))","v":""}]
[299,{"$nulls":9},{"$f":"IF(B300=\"\",\"\",D300&\" - \"&F300&\" - \"&G300)","v":""},null,{"$f":"IF(OR(ISBLANK(L300),ISBLANK(H300)),\"\",H300+(VLOOKUP(L300,garantie,2,FALSE)))","v":""}]
[300,{"$nulls":9},{"$f":"IF(B301=\"\",\"\",D301&\" - \"&F301&\" - \"&G301)","v":""},null,{"$f":"IF(OR(ISBLANK(L301),ISBLANK(H301)),\"\",H301+(VLOOKUP(L301,garantie,2,FALSE)))","v":""}]
[301,{"$nulls":9},{"$f":"IF(B302=\"\",\"\",D302&\" - \"&F302&\" - \"&G302)","v":""},null,{"$f":"IF(OR(ISBLANK(L302),ISBLANK(H302)),\"\",H302+(VLOOKUP(L302,garantie,2,FALSE)))","v":""}]
[302,{"$nulls":9},{"$f":"IF(B303=\"\",\"\",D303&\" - \"&F303&\" - \"&G303)","v":""},null,{"$f":"IF(OR(ISBLANK(L303),ISBLANK(H303)),\"\",H303+(VLOOKUP(L303,garantie,2,FALSE)))","v":""}]
[303,{"$nulls":9},{"$f":"IF(B304=\"\",\"\",D304&\" - \"&F304&\" - \"&G304)","v":""},null,{"$f":"IF(OR(ISBLANK(L304),ISBLANK(H304)),\"\",H304+(VLOOKUP(L304,garantie,2,FALSE)))","v":""}]
[304,{"$nulls":9},{"$f":"IF(B305=\"\",\"\",D305&\" - \"&F305&\" - \"&G305)","v":""},null,{"$f":"IF(OR(ISBLANK(L305),ISBLANK(H305)),\"\",H305+(VLOOKUP(L305,garantie,2,FALSE)))","v":""}]
[305,{"$nulls":9},{"$f":"IF(B306=\"\",\"\",D306&\" - \"&F306&\" - \"&G306)","v":""},null,{"$f":"IF(OR(ISBLANK(L306),ISBLANK(H306)),\"\",H306+(VLOOKUP(L306,garantie,2,FALSE)))","v":""}]
[306,{"$nulls":9},{"$f":"IF(B307=\"\",\"\",D307&\" - \"&F307&\" - \"&G307)","v":""},null,{"$f":"IF(OR(ISBLANK(L307),ISBLANK(H307)),\"\",H307+(VLOOKUP(L307,garantie,2,FALSE)))","v":""}]
[307,{"$nulls":9},{"$f":"IF(B308=\"\",\"\",D308&\" - \"&F308&\" - \"&G308)","v":""},null,{"$f":"IF(OR(ISBLANK(L308),ISBLANK(H308)),\"\",H308+(VLOOKUP(L308,garantie,2,FALSE)))","v":""}]
[308,{"$nulls":9},{"$f":"IF(B309=\"\",\"\",D309&\" - \"&F309&\" - \"&G309)","v":""},null,{"$f":"IF(OR(ISBLANK(L309),ISBLANK(H309)),\"\",H309+(VLOOKUP(L309,garantie,2,FALSE)))","v":""}]
[309,{"$nulls":9},{"$f":"IF(B310=\"\",\"\",D310&\" - \"&F310&\" - \"&G310)","v":""},null,{"$f":"IF(OR(ISBLANK(L310),ISBLANK(H310)),\"\",H310+(VLOOKUP(L310,garantie,2,FALSE)))","v":""}]
[310,{"$nulls":9},{"$f":"IF(B311=\"\",\"\",D311&\" - \"&F311&\" - \"&G311)","v":""},null,{"$f":"IF(OR(ISBLANK(L311),ISBLANK(H311)),\"\",H311+(VLOOKUP(L311,garantie,2,FALSE)))","v":""}]
[311,{"$nulls":9},{"$f":"IF(B312=\"\",\"\",D312&\" - \"&F312&\" - \"&G312)","v":""},null,{"$f":"IF(OR(ISBLANK(L312),ISBLANK(H312)),\"\",H312+(VLOOKUP(L312,garantie,2,FALSE)))","v":""}]
[312,{"$nulls":9},{"$f":"IF(B313=\"\",\"\",D313&\" - \"&F313&\" - \"&G313)","v":""},null,{"$f":"IF(OR(ISBLANK(L313),ISBLANK(H313)),\"\",H313+(VLOOKUP(L313,garantie,2,FALSE)))","v":""}]
[313,{"$nulls":9},{"$f":"IF(B314=\"\",\"\",D314&\" - \"&F314&\" - \"&G314)","v":""},null,{"$f":"IF(OR(ISBLANK(L314),ISBLANK(H314)),\"\",H314+(VLOOKUP(L314,garantie,2,FALSE)))","v":""}]
[314,{"$nulls":9},{"$f":"IF(B315=\"\",\"\",D315&\" - \"&F315&\" - \"&G315)","v":""},null,{"$f":"IF(OR(ISBLANK(L315),ISBLANK(H315)),\"\",H315+(VLOOKUP(L315,garantie,2,FALSE)))","v":""}]
[315,{"$nulls":9},{"$f":"IF(B316=\"\",\"\",D316&\" - \"&F316&\" - \"&G316)","v":""},null,{"$f":"IF(OR(ISBLANK(L316),ISBLANK(H316)),\"\",H316+(VLOOKUP(L316,garantie,2,FALSE)))","v":""}]
[316,{"$nulls":9},{"$f":"IF(B317=\"\",\"\",D317&\" - \"&F317&\" - \"&G317)","v":""},null,{"$f":"IF(OR(ISBLANK(L317),ISBLANK(H317)),\"\",H317+(VLOOKUP(L317,garantie,2,FALSE)))","v":""}]
[317,{"$nulls":9},{"$f":"IF(B318=\"\",\"\",D318&\" - \"&F318&\" - \"&G318)","v":""},null,{"$f":"IF(OR(ISBLANK(L318),ISBLANK(H318)),\"\",H318+(VLOOKUP(L318,garantie,2,FALSE)))","v":""}]
[318,{"$nulls":9},{"$f":"IF(B319=\"\",\"\",D319&\" - \"&F319&\" - \"&G319)","v":""},null,{"$f":"IF(OR(ISBLANK(L319),ISBLANK(H319)),\"\",H319+(VLOOKUP(L319,garantie,2,FALSE)))","v":""}]
[319,{"$nulls":9},{"$f":"IF(B320=\"\",\"\",D320&\" - \"&F320&\" - \"&G320)","v":""},null,{"$f":"IF(OR(ISBLANK(L320),ISBLANK(H320)),\"\",H320+(VLOOKUP(L320,garantie,2,FALSE)))","v":""}]
[320,{"$nulls":9},{"$f":"IF(B321=\"\",\"\",D321&\" - \"&F321&\" - \"&G321)","v":""},null,{"$f":"IF(OR(ISBLANK(L321),ISBLANK(H321)),\"\",H321+(VLOOKUP(L321,garantie,2,FALSE)))","v":""}]
[321,{"$nulls":9},{"$f":"IF(B322=\"\",\"\",D322&\" - \"&F322&\" - \"&G322)","v":""},null,{"$f":"IF(OR(ISBLANK(L322),ISBLANK(H322)),\"\",H322+(VLOOKUP(L322,garantie,2,FALSE)))","v":""}]
[322,{"$nulls":9},{"$f":"IF(B323=\"\",\"\",D323&\" - \"&F323&\" - \"&G323)","v":""},null,{"$f":"IF(OR(ISBLANK(L323),ISBLANK(H323)),\"\",H323+(VLOOKUP(L323,garantie,2,FALSE)))","v":""}]
[323,{"$nulls":9},{"$f":"IF(B324=\"\",\"\",D324&\" - \"&F324&\" - \"&G324)","v":""},null,{"$f":"IF(OR(ISBLANK(L324),ISBLANK(H324)),\"\",H324+(VLOOKUP(L324,garantie,2,FALSE)))","v":""}]
[324,{"$nulls":9},{"$f":"IF(B325=\"\",\"\",D325&\" - \"&F325&\" - \"&G325)","v":""},null,{"$f":"IF(OR(ISBLANK(L325),ISBLANK(H325)),\"\",H325+(VLOOKUP(L325,garantie,2,FALSE)))","v":""}]
[325,{"$nulls":9},{"$f":"IF(B326=\"\",\"\",D326&\" - \"&F326&\" - \"&G326)","v":""},null,{"$f":"IF(OR(ISBLANK(L326),ISBLANK(H326)),\"\",H326+(VLOOKUP(L326,garantie,2,FALSE)))","v":""}]
[326,{"$nulls":9},{"$f":"IF(B327=\"\",\"\",D327&\" - \"&F327&\" - \"&G327)","v":""},null,{"$f":"IF(OR(ISBLANK(L327),ISBLANK(H327)),\"\",H327+(VLOOKUP(L327,garantie,2,FALSE)))","v":""}]
[327,{"$nulls":9},{"$f":"IF(B328=\"\",\"\",D328&\" - \"&F328&\" - \"&G328)","v":""},null,{"$f":"IF(OR(ISBLANK(L328),ISBLANK(H328)),\"\",H328+(VLOOKUP(L328,garantie,2,FALSE)))","v":""}]
[328,{"$nulls":9},{"$f":"IF(B329=\"\",\"\",D329&\" - \"&F329&\" - \"&G329)","v":""},null,{"$f":"IF(OR(ISBLANK(L329),ISBLANK(H329)),\"\",H329+(VLOOKUP(L329,garantie,2,FALSE)))","v":""}]
[329,{"$nulls":9},{"$f":"IF(B330=\"\",\"\",D330&\" - \"&F330&\" - \"&G330)","v":""},null,{"$f":"IF(OR(ISBLANK(L330),ISBLANK(H330)),\"\",H330+(VLOOKUP(L330,garantie,2,FALSE)))","v":""}]
[330,{"$nulls":9},{"$f":"IF(B331=\"\",\"\",D331&\" - \"&F331&\" - \"&G331)","v":""},null,{"$f":"IF(OR(ISBLANK(L331),ISBLANK(H331)),\"\",H331+(VLOOKUP(L331,garantie,2,FALSE)))","v":""}]
[331,{"$nulls":9},{"$f":"IF(B332=\"\",\"\",D332&\" - \"&F332&\" - \"&G332)","v":""},null,{"$f":"IF(OR(ISBLANK(L332),ISBLANK(H332)),\"\",H332+(VLOOKUP(L332,garantie,2,FALSE)))","v":""}]
[332,{"$nulls":9},{"$f":"IF(B333=\"\",\"\",D333&\" - \"&F333&\" - \"&G333)","v":""},null,{"$f":"IF(OR(ISBLANK(L333),ISBLANK(H333)),\"\",H333+(VLOOKUP(L333,garantie,2,FALSE)))","v":""}]
[333,{"$nulls":9},{"$f":"IF(B334=\"\",\"\",D334&\" - \"&F334&\" - \"&G334)","v":""},null,{"$f":"IF(OR(ISBLANK(L334),ISBLANK(H334)),\"\",H334+(VLOOKUP(L334,garantie,2,FALSE)))","v":""}]
[334,{"$nulls":9},{"$f":"IF(B335=\"\",\"\",D335&\" - \"&F335&\" - \"&G335)","v":""},null,{"$f":"IF(OR(ISBLANK(L335),ISBLANK(H335)),\"\",H335+(VLOOKUP(L335,garantie,2,FALSE)))","v":""}]
[335,{"$nulls":9},{"$f":"IF(B336=\"\",\"\",D336&\" - \"&F336&\" - \"&G336)","v":""},null,{"$f":"IF(OR(ISBLANK(L336),ISBLANK(H336)),\"\",H336+(VLOOKUP(L336,garantie,2,FALSE)))","v":""}]
[336,{"$nulls":9},{"$f":"IF(B337=\"\",\"\",D337&\" - \"&F337&\" - \"&G337)","v":""},null,{"$f":"IF(OR(ISBLANK(L337),ISBLANK(H337)),\"\",H337+(VLOOKUP(L337,garantie,2,FALSE)))","v":""}]
[337,{"$nulls":9},{"$f":"IF(B338=\"\",\"\",D338&\" - \"&F338&\" - \"&G338)","v":""},null,{"$f":"IF(OR(ISBLANK(L338),ISBLANK(H338)),\"\",H338+(VLOOKUP(L338,garantie,2,FALSE)))","v":""}]
[338,{"$nulls":9},{"$f":"IF(B339=\"\",\"\",D339&\" - \"&F339&\" - \"&G339)","v":""},null,{"$f":"IF(OR(ISBLANK(L339),ISBLANK(H339)),\"\",H339+(VLOOKUP(L339,garantie,2,FALSE)))","v":""}]
[339,{"$nulls":9},{"$f":"IF(B340=\"\",\"\",D340&\" - \"&F340&\" - \"&G340)","v":""},null,{"$f":"IF(OR(ISBLANK(L340),ISBLANK(H340)),\"\",H340+(VLOOKUP(L340,garantie,2,FALSE)))","v":""}]
[340,{"$nulls":9},{"$f":"IF(B341=\"\",\"\",D341&\" - \"&F341&\" - \"&G341)","v":""},null,{"$f":"IF(OR(ISBLANK(L341),ISBLANK(H341)),\"\",H341+(VLOOKUP(L341,garantie,2,FALSE)))","v":""}]
[341,{"$nulls":9},{"$f":"IF(B342=\"\",\"\",D342&\" - \"&F342&\" - \"&G342)","v":""},null,{"$f":"IF(OR(ISBLANK(L342),ISBLANK(H342)),\"\",H342+(VLOOKUP(L342,garantie,2,FALSE)))","v":""}]
[342,{"$nulls":9},{"$f":"IF(B343=\"\",\"\",D343&\" - \"&F343&\" - \"&G343)","v":""},null,{"$f":"IF(OR(ISBLANK(L343),ISBLANK(H343)),\"\",H343+(VLOOKUP(L343,garantie,2,FALSE)))","v":""}]
[343,{"$nulls":9},{"$f":"IF(B344=\"\",\"\",D344&\" - \"&F344&\" - \"&G344)","v":""},null,{"$f":"IF(OR(ISBLANK(L344),ISBLANK(H344)),\"\",H344+(VLOOKUP(L344,garantie,2,FALSE)))","v":""}]
[344,{"$nulls":9},{"$f":"IF(B345=\"\",\"\",D345&\" - \"&F345&\" - \"&G345)","v":""},null,{"$f":"IF(OR(ISBLANK(L345),ISBLANK(H345)),\"\",H345+(VLOOKUP(L345,garantie,2,FALSE)))","v":""}]
[345,{"$nulls":9},{"$f":"IF(B346=\"\",\"\",D346&\" - \"&F346&\" - \"&G346)","v":""},null,{"$f":"IF(OR(ISBLANK(L346),ISBLANK(H346)),\"\",H346+(VLOOKUP(L346,garantie,2,FALSE)))","v":""}]
[346,{"$nulls":9},{"$f":"IF(B347=\"\",\"\",D347&\" - \"&F347&\" - \"&G347)","v":""},null,{"$f":"IF(OR(ISBLANK(L347),ISBLANK(H347)),\"\",H347+(VLOOKUP(L347,garantie,2,FALSE)))","v":""}]
[347,{"$nulls":9},{"$f":"IF(B348=\"\",\"\",D348&\" - \"&F348&\" - \"&G348)","v":""},null,{"$f":"IF(OR(ISBLANK(L348),ISBLANK(H348)),\"\",H348+(VLOOKUP(L348,garantie,2,FALSE)))","v":""}]
[348,{"$nulls":9},{"$f":"IF(B349=\"\",\"\",D349&\" - \"&F349&\" - \"&G349)","v":""},null,{"$f":"IF(OR(ISBLANK(L349),ISBLANK(H349)),\"\",H349+(VLOOKUP(L349,garantie,2,FALSE)))","v":""}]
[349,{"$nulls":9},{"$f":"IF(B350=\"\",\"\",D350&\" - \"&F350&\" - \"&G350)","v":""},null,{"$f":"IF(OR(ISBLANK(L350),ISBLANK(H350)),\"\",H350+(VLOOKUP(L350,garantie,2,FALSE)))","v":""}]
[350,{"$nulls":9},{"$f":"IF(B351=\"\",\"\",D351&\" - \"&F351&\" - \"&G351)","v":""},null,{"$f":"IF(OR(ISBLANK(L351),ISBLANK(H351)),\"\",H351+(VLOOKUP(L351,garantie,2,FALSE)))","v":""}]
[351,{"$nulls":9},{"$f":"IF(B352=\"\",\"\",D352&\" - \"&F352&\" - \"&G352)","v":""},null,{"$f":"IF(OR(ISBLANK(L352),ISBLANK(H352)),\"\",H352+(VLOOKUP(L352,garantie,2,FALSE)))","v":""}]
[352,{"$nulls":9},{"$f":"IF(B353=\"\",\"\",D353&\" - \"&F353&\" - \"&G353)","v":""},null,{"$f":"IF(OR(ISBLANK(L353),ISBLANK(H353)),\"\",H353+(VLOOKUP(L353,garantie,2,FALSE)))","v":""}]
[353,{"$nulls":9},{"$f":"IF(B354=\"\",\"\",D354&\" - \"&F354&\" - \"&G354)","v":""},null,{"$f":"IF(OR(ISBLANK(L354),ISBLANK(H354)),\"\",H354+(VLOOKUP(L354,garantie,2,FALSE)))","v":""}]
[354,{"$nulls":9},{"$f":"IF(B355=\"\",\"\",D355&\" - \"&F355&\" - \"&G355)","v":""},null,{"$f":"IF(OR(ISBLANK(L355),ISBLANK(H355)),\"\",H355+(VLOOKUP(L355,garantie,2,FALSE)))","v":""}]
[355,{"$nulls":9},{"$f":"IF(B356=\"\",\"\",D356&\" - \"&F356&\" - \"&G356)","v":""},null,{"$f":"IF(OR(ISBLANK(L356),ISBLANK(H356)),\"\",H356+(VLOOKUP(L356,garantie,2,FALSE)))","v":""}]
[356,{"$nulls":9},{"$f":"IF(B357=\"\",\"\",D357&\" - \"&F357&\" - \"&G357)","v":""},null,{"$f":"IF(OR(ISBLANK(L357),ISBLANK(H357)),\"\",H357+(VLOOKUP(L357,garantie,2,FALSE)))","v":""}]
[357,{"$nulls":9},{"$f":"IF(B358=\"\",\"\",D358&\" - \"&F358&\" - \"&G358)","v":""},null,{"$f":"IF(OR(ISBLANK(L358),ISBLANK(H358)),\"\",H358+(VLOOKUP(L358,garantie,2,FALSE)))","v":""}]
[358,{"$nulls":9},{"$f":"IF(B359=\"\",\"\",D359&\" - \"&F359&\" - \"&G359)","v":""},null,{"$f":"IF(OR(ISBLANK(L359),ISBLANK(H359)),\"\",H359+(VLOOKUP(L359,garantie,2,FALSE)))","v":""}]
[359,{"$nulls":9},{"$f":"IF(B360=\"\",\"\",D360&\" - \"&F360&\" - \"&G360)","v":""},null,{"$f":"IF(OR(ISBLANK(L360),ISBLANK(H360)),\"\",H360+(VLOOKUP(L360,garantie,2,FALSE)))","v":""}]
[360,{"$nulls":9},{"$f":"IF(B361=\"\",\"\",D361&\" - \"&F361&\" - \"&G361)","v":""},null,{"$f":"IF(OR(ISBLANK(L361),ISBLANK(H361)),\"\",H361+(VLOOKUP(L361,garantie,2,FALSE)))","v":""}]
[361,{"$nulls":9},{"$f":"IF(B362=\"\",\"\",D362&\" - \"&F362&\" - \"&G362)","v":""},null,{"$f":"IF(OR(ISBLANK(L362),ISBLANK(H362)),\"\",H362+(VLOOKUP(L362,garantie,2,FALSE)))","v":""}]
[362,{"$nulls":9},{"$f":"IF(B363=\"\",\"\",D363&\" - \"&F363&\" - \"&G363)","v":""},null,{"$f":"IF(OR(ISBLANK(L363),ISBLANK(H363)),\"\",H363+(VLOOKUP(L363,garantie,2,FALSE)))","v":""}]
[363,{"$nulls":9},{"$f":"IF(B364=\"\",\"\",D364&\" - \"&F364&\" - \"&G364)","v":""},null,{"$f":"IF(OR(ISBLANK(L364),ISBLANK(H364)),\"\",H364+(VLOOKUP(L364,garantie,2,FALSE)))","v":""}]
[364,{"$nulls":9},{"$f":"IF(B365=\"\",\"\",D365&\" - \"&F365&\" - \"&G365)","v":""},null,{"$f":"IF(OR(ISBLANK(L365),ISBLANK(H365)),\"\",H365+(VLOOKUP(L365,garantie,2,FALSE)))","v":""}]
[365,{"$nulls":9},{"$f":"IF(B366=\"\",\"\",D366&\" - \"&F366&\" - \"&G366)","v":""},null,{"$f":"IF(OR(ISBLANK(L366),ISBLANK(H366)),\"\",H366+(VLOOKUP(L366,garantie,2,FALSE)))","v":""}]
[366,{"$nulls":9},{"$f":"IF(B367=\"\",\"\",D367&\" - \"&F367&\" - \"&G367)","v":""},null,{"$f":"IF(OR(ISBLANK(L367),ISBLANK(H367)),\"\",H367+(VLOOKUP(L367,garantie,2,FALSE)))","v":""}]
[367,{"$nulls":9},{"$f":"IF(B368=\"\",\"\",D368&\" - \"&F368&\" - \"&G368)","v":""},null,{"$f":"IF(OR(ISBLANK(L368),ISBLANK(H368)),\"\",H368+(VLOOKUP(L368,garantie,2,FALSE)))","v":""}]
[368,{"$nulls":9},{"$f":"IF(B369=\"\",\"\",D369&\" - \"&F369&\" - \"&G369)","v":""},null,{"$f":"IF(OR(ISBLANK(L369),ISBLANK(H369)),\"\",H369+(VLOOKUP(L369,garantie,2,FALSE)))","v":""}]
[369,{"$nulls":9},{"$f":"IF(B370=\"\",\"\",D370&\" - \"&F370&\" - \"&G370)","v":""},null,{"$f":"IF(OR(ISBLANK(L370),ISBLANK(H370)),\"\",H370+(VLOOKUP(L370,garantie,2,FALSE)))","v":""}]
[370,{"$nulls":9},{"$f":"IF(B371=\"\",\"\",D371&\" - \"&F371&\" - \"&G371)","v":""},null,{"$f":"IF(OR(ISBLANK(L371),ISBLANK(H371)),\"\",H371+(VLOOKUP(L371,garantie,2,FALSE)))","v":""}]
[371,{"$nulls":9},{"$f":"IF(B372=\"\",\"\",D372&\" - \"&F372&\" - \"&G372)","v":""},null,{"$f":"IF(OR(ISBLANK(L372),ISBLANK(H372)),\"\",H372+(VLOOKUP(L372,garantie,2,FALSE)))","v":""}]
[372,{"$nulls":9},{"$f":"IF(B373=\"\",\"\",D373&\" - \"&F373&\" - \"&G373)","v":""},null,{"$f":"IF(OR(ISBLANK(L373),ISBLANK(H373)),\"\",H373+(VLOOKUP(L373,garantie,2,FALSE)))","v":""}]
[373,{"$nulls":9},{"$f":"IF(B374=\"\",\"\",D374&\" - \"&F374&\" - \"&G374)","v":""},null,{"$f":"IF(OR(ISBLANK(L374),ISBLANK(H374)),\"\",H374+(VLOOKUP(L374,garantie,2,FALSE)))","v":""}]
[374,{"$nulls":9},{"$f":"IF(B375=\"\",\"\",D375&\" - \"&F375&\" - \"&G375)","v":""},null,{"$f":"IF(OR(ISBLANK(L375),ISBLANK(H375)),\"\",H375+(VLOOKUP(L375,garantie,2,FALSE)))","v":""}]
[375,{"$nulls":9},{"$f":"IF(B376=\"\",\"\",D376&\" - \"&F376&\" - \"&G376)","v":""},null,{"$f":"IF(OR(ISBLANK(L376),ISBLANK(H376)),\"\",H376+(VLOOKUP(L376,garantie,2,FALSE)))","v":""}]
[376,{"$nulls":9},{"$f":"IF(B377=\"\",\"\",D377&\" - \"&F377&\" - \"&G377)","v":""},null,{"$f":"IF(OR(ISBLANK(L377),ISBLANK(H377)),\"\",H377+(VLOOKUP(L377,garantie,2,FALSE)))","v":""}]
[377,{"$nulls":9},{"$f":"IF(B378=\"\",\"\",D378&\" - \"&F378&\" - \"&G378)","v":""},null,{"$f":"IF(OR(ISBLANK(L378),ISBLANK(H378)),\"\",H378+(VLOOKUP(L378,garantie,2,FALSE)))","v":""}]
[378,{"$nulls":9},{"$f":"IF(B379=\"\",\"\",D379&\" - \"&F379&\" - \"&G379)","v":""},null,{"$f":"IF(OR(ISBLANK(L379),ISBLANK(H379)),\"\",H379+(VLOOKUP(L379,garantie,2,FALSE)))","v":""}]
[379,{"$nulls":9},{"$f":"IF(B380=\"\",\"\",D380&\" - \"&F380&\" - \"&G380)","v":""},null,{"$f":"IF(OR(ISBLANK(L380),ISBLANK(H380)),\"\",H380+(VLOOKUP(L380,garantie,2,FALSE)))","v":""}]
[380,{"$nulls":9},{"$f":"IF(B381=\"\",\"\",D381&\" - \"&F381&\" - \"&G381)","v":""},null,{"$f":"IF(OR(ISBLANK(L381),ISBLANK(H381)),\"\",H381+(VLOOKUP(L381,garantie,2,FALSE)))","v":""}]
[381,{"$nulls":9},{"$f":"IF(B382=\"\",\"\",D382&\" - \"&F382&\" - \"&G382)","v":""},null,{"$f":"IF(OR(ISBLANK(L382),ISBLANK(H382)),\"\",H382+(VLOOKUP(L382,garantie,2,FALSE)))","v":""}]
[382,{"$nulls":9},{"$f":"IF(B383=\"\",\"\",D383&\" - \"&F383&\" - \"&G383)","v":""},null,{"$f":"IF(OR(ISBLANK(L383),ISBLANK(H383)),\"\",H383+(VLOOKUP(L383,garantie,2,FALSE)))","v":""}]
[383,{"$nulls":9},{"$f":"IF(B384=\"\",\"\",D384&\" - \"&F384&\" - \"&G384)","v":""},null,{"$f":"IF(OR(ISBLANK(L384),ISBLANK(H384)),\"\",H384+(VLOOKUP(L384,garantie,2,FALSE)))","v":""}]
[384,{"$nulls":9},{"$f":"IF(B385=\"\",\"\",D385&\" - \"&F385&\" - \"&G385)","v":""},null,{"$f":"IF(OR(ISBLANK(L385),ISBLANK(H385)),\"\",H385+(VLOOKUP(L385,garantie,2,FALSE)))","v":""}]
[385,{"$nulls":9},{"$f":"IF(B386=\"\",\"\",D386&\" - \"&F386&\" - \"&G386)","v":""},null,{"$f":"IF(OR(ISBLANK(L386),ISBLANK(H386)),\"\",H386+(VLOOKUP(L386,garantie,2,FALSE)))","v":""}]
[386,{"$nulls":9},{"$f":"IF(B387=\"\",\"\",D387&\" - \"&F387&\" - \"&G387)","v":""},null,{"$f":"IF(OR(ISBLANK(L387),ISBLANK(H387)),\"\",H387+(VLOOKUP(L387,garantie,2,FALSE)))","v":""}]
[387,{"$nulls":9},{"$f":"IF(B388=\"\",\"\",D388&\" - \"&F388&\" - \"&G388)","v":""},null,{"$f":"IF(OR(ISBLANK(L388),ISBLANK(H388)),\"\",H388+(VLOOKUP(L388,garantie,2,FALSE)))","v":""}]
[388,{"$nulls":9},{"$f":"IF(B389=\"\",\"\",D389&\" - \"&F389&\" - \"&G389)","v":""},null,{"$f":"IF(OR(ISBLANK(L389),ISBLANK(H389)),\"\",H389+(VLOOKUP(L389,garantie,2,FALSE)))","v":""}]
[389,{"$nulls":9},{"$f":"IF(B390=\"\",\"\",D390&\" - \"&F390&\" - \"&G390)","v":""},null,{"$f":"IF(OR(ISBLANK(L390),ISBLANK(H390)),\"\",H390+(VLOOKUP(L390,garantie,2,FALSE)))","v":""}]
[390,{"$nulls":9},{"$f":"IF(B391=\"\",\"\",D391&\" - \"&F391&\" - \"&G391)","v":""},null,{"$f":"IF(OR(ISBLANK(L391),ISBLANK(H391)),\"\",H391+(VLOOKUP(L391,garantie,2,FALSE)))","v":""}]
[391,{"$nulls":9},{"$f":"IF(B392=\"\",\"\",D392&\" - \"&F392&\" - \"&G392)","v":""},null,{"$f":"IF(OR(ISBLANK(L392),ISBLANK(H392)),\"\",H392+(VLOOKUP(L392,garantie,2,FALSE)))","v":""}]
[392,{"$nulls":9},{"$f":"IF(B393=\"\",\"\",D393&\" - \"&F393&\" - \"&G393)","v":""},null,{"$f":"IF(OR(ISBLANK(L393),ISBLANK(H393)),\"\",H393+(VLOOKUP(L393,garantie,2,FALSE)))","v":""}]
[393,{"$nulls":9},{"$f":"IF(B394=\"\",\"\",D394&\" - \"&F394&\" - \"&G394)","v":""},null,{"$f":"IF(OR(ISBLANK(L394),ISBLANK(H394)),\"\",H394+(VLOOKUP(L394,garantie,2,FALSE)))","v":""}]
[394,{"$nulls":9},{"$f":"IF(B395=\"\",\"\",D395&\" - \"&F395&\" - \"&G395)","v":""},null,{"$f":"IF(OR(ISBLANK(L395),ISBLANK(H395)),\"\",H395+(VLOOKUP(L395,garantie,2,FALSE)))","v":""}]
[395,{"$nulls":9},{"$f":"IF(B396=\"\",\"\",D396&\" - \"&F396&\" - \"&G396)","v":""},null,{"$f":"IF(OR(ISBLANK(L396),ISBLANK(H396)),\"\",H396+(VLOOKUP(L396,garantie,2,FALSE)))","v":""}]
[396,{"$nulls":9},{"$f":"IF(B397=\"\",\"\",D397&\" - \"&F397&\" - \"&G397)","v":""},null,{"$f":"IF(OR(ISBLANK(L397),ISBLANK(H397)),\"\",H397+(VLOOKUP(L397,garantie,2,FALSE)))","v":""}]
[397,{"$nulls":9},{"$f":"IF(B398=\"\",\"\",D398&\" - \"&F398&\" - \"&G398)","v":""},null,{"$f":"IF(OR(ISBLANK(L398),ISBLANK(H398)),\"\",H398+(VLOOKUP(L398,garantie,2,FALSE)))","v":""}]
[398,{"$nulls":9},{"$f":"IF(B399=\"\",\"\",D399&\" - \"&F399&\" - \"&G399)","v":""},null,{"$f":"IF(OR(ISBLANK(L399),ISBLANK(H399)),\"\",H399+(VLOOKUP(L399,garantie,2,FALSE)))","v":""}]
[399,{"$nulls":9},{"$f":"IF(B400=\"\",\"\",D400&\" - \"&F400&\" - \"&G400)","v":""},null,{"$f":"IF(OR(ISBLANK(L400),ISBLANK(H400)),\"\",H400+(VLOOKUP(L400,garantie,2,FALSE)))","v":""}]
[400,{"$nulls":9},{"$f":"IF(B401=\"\",\"\",D401&\" - \"&F401&\" - \"&G401)","v":""},null,{"$f":"IF(OR(ISBLANK(L401),ISBLANK(H401)),\"\",H401+(VLOOKUP(L401,garantie,2,FALSE)))","v":""}]
[401,{"$nulls":9},{"$f":"IF(B402=\"\",\"\",D402&\" - \"&F402&\" - \"&G402)","v":""},null,{"$f":"IF(OR(ISBLANK(L402),ISBLANK(H402)),\"\",H402+(VLOOKUP(L402,garantie,2,FALSE)))","v":""}]
[402,{"$nulls":9},{"$f":"IF(B403=\"\",\"\",D403&\" - \"&F403&\" - \"&G403)","v":""},null,{"$f":"IF(OR(ISBLANK(L403),ISBLANK(H403)),\"\",H403+(VLOOKUP(L403,garantie,2,FALSE)))","v":""}]
[403,{"$nulls":9},{"$f":"IF(B404=\"\",\"\",D404&\" - \"&F404&\" - \"&G404)","v":""},null,{"$f":"IF(OR(ISBLANK(L404),ISBLANK(H404)),\"\",H404+(VLOOKUP(L404,garantie,2,FALSE)))","v":""}]
[404,{"$nulls":9},{"$f":"IF(B405=\"\",\"\",D405&\" - \"&F405&\" - \"&G405)","v":""},null,{"$f":"IF(OR(ISBLANK(L405),ISBLANK(H405)),\"\",H405+(VLOOKUP(L405,garantie,2,FALSE)))","v":""}]
[405,{"$nulls":9},{"$f":"IF(B406=\"\",\"\",D406&\" - \"&F406&\" - \"&G406)","v":""},null,{"$f":"IF(OR(ISBLANK(L406),ISBLANK(H406)),\"\",H406+(VLOOKUP(L406,garantie,2,FALSE)))","v":""}]
[406,{"$nulls":9},{"$f":"IF(B407=\"\",\"\",D407&\" - \"&F407&\" - \"&G407)","v":""},null,{"$f":"IF(OR(ISBLANK(L407),ISBLANK(H407)),\"\",H407+(VLOOKUP(L407,garantie,2,FALSE)))","v":""}]
[407,{"$nulls":9},{"$f":"IF(B408=\"\",\"\",D408&\" - \"&F408&\" - \"&G408)","v":""},null,{"$f":"IF(OR(ISBLANK(L408),ISBLANK(H408)),\"\",H408+(VLOOKUP(L408,garantie,2,FALSE)))","v":""}]
[408,{"$nulls":9},{"$f":"IF(B409=\"\",\"\",D409&\" - \"&F409&\" - \"&G409)","v":""},null,{"$f":"IF(OR(ISBLANK(L409),ISBLANK(H409)),\"\",H409+(VLOOKUP(L409,garantie,2,FALSE)))","v":""}]
[409,{"$nulls":9},{"$f":"IF(B410=\"\",\"\",D410&\" - \"&F410&\" - \"&G410)","v":""},null,{"$f":"IF(OR(ISBLANK(L410),ISBLANK(H410)),\"\",H410+(VLOOKUP(L410,garantie,2,FALSE)))","v":""}]
[410,{"$nulls":9},{"$f":"IF(B411=\"\",\"\",D411&\" - \"&F411&\" - \"&G411)","v":""},null,{"$f":"IF(OR(ISBLANK(L411),ISBLANK(H411)),\"\",H411+(VLOOKUP(L411,garantie,2,FALSE)))","v":""}]
[411,{"$nulls":9},{"$f":"IF(B412=\"\",\"\",D412&\" - \"&F412&\" - \"&G412)","v":""},null,{"$f":"IF(OR(ISBLANK(L412),ISBLANK(H412)),\"\",H412+(VLOOKUP(L412,garantie,2,FALSE)))","v":""}]
[412,{"$nulls":9},{"$f":"IF(B413=\"\",\"\",D413&\" - \"&F413&\" - \"&G413)","v":""},null,{"$f":"IF(OR(ISBLANK(L413),ISBLANK(H413)),\"\",H413+(VLOOKUP(L413,garantie,2,FALSE)))","v":""}]
[413,{"$nulls":9},{"$f":"IF(B414=\"\",\"\",D414&\" - \"&F414&\" - \"&G414)","v":""},null,{"$f":"IF(OR(ISBLANK(L414),ISBLANK(H414)),\"\",H414+(VLOOKUP(L414,garantie,2,FALSE)))","v":""}]
[414,{"$nulls":9},{"$f":"IF(B415=\"\",\"\",D415&\" - \"&F415&\" - \"&G415)","v":""},null,{"$f":"IF(OR(ISBLANK(L415),ISBLANK(H415)),\"\",H415+(VLOOKUP(L415,garantie,2,FALSE)))","v":""}]
[415,{"$nulls":9},{"$f":"IF(B416=\"\",\"\",D416&\" - \"&F416&\" - \"&G416)","v":""},null,{"$f":"IF(OR(ISBLANK(L416),ISBLANK(H416)),\"\",H416+(VLOOKUP(L416,garantie,2,FALSE)))","v":""}]
[416,{"$nulls":9},{"$f":"IF(B417=\"\",\"\",D417&\" - \"&F417&\" - \"&G417)","v":""},null,{"$f":"IF(OR(ISBLANK(L417),ISBLANK(H417)),\"\",H417+(VLOOKUP(L417,garantie,2,FALSE)))","v":""}]
[417,{"$nulls":9},{"$f":"IF(B418=\"\",\"\",D418&\" - \"&F418&\" - \"&G418)","v":""},null,{"$f":"IF(OR(ISBLANK(L418),ISBLANK(H418)),\"\",H418+(VLOOKUP(L418,garantie,2,FALSE)))","v":""}]
[418,{"$nulls":9},{"$f":"IF(B419=\"\",\"\",D419&\" - \"&F419&\" - \"&G419)","v":""},null,{"$f":"IF(OR(ISBLANK(L419),ISBLANK(H419)),\"\",H419+(VLOOKUP(L419,garantie,2,FALSE)))","v":""}]
[419,{"$nulls":9},{"$f":"IF(B420=\"\",\"\",D420&\" - \"&F420&\" - \"&G420)","v":""},null,{"$f":"IF(OR(ISBLANK(L420),ISBLANK(H420)),\"\",H420+(VLOOKUP(L420,garantie,2,FALSE)))","v":""}]
[420,{"$nulls":9},{"$f":"IF(B421=\"\",\"\",D421&\" - \"&F421&\" - \"&G421)","v":""},null,{"$f":"IF(OR(ISBLANK(L421),ISBLANK(H421)),\"\",H421+(VLOOKUP(L421,garantie,2,FALSE)))","v":""}]
[421,{"$nulls":9},{"$f":"IF(B422=\"\",\"\",D422&\" - \"&F422&\" - \"&G422)","v":""},null,{"$f":"IF(OR(ISBLANK(L422),ISBLANK(H422)),\"\",H422+(VLOOKUP(L422,garantie,2,FALSE)))","v":""}]
[422,{"$nulls":9},{"$f":"IF(B423=\"\",\"\",D423&\" - \"&F423&\" - \"&G423)","v":""},null,{"$f":"IF(OR(ISBLANK(L423),ISBLANK(H423)),\"\",H423+(VLOOKUP(L423,garantie,2,FALSE)))","v":""}]
[423,{"$nulls":9},{"$f":"IF(B424=\"\",\"\",D424&\" - \"&F424&\" - \"&G424)","v":""},null,{"$f":"IF(OR(ISBLANK(L424),ISBLANK(H424)),\"\",H424+(VLOOKUP(L424,garantie,2,FALSE)))","v":""}]
[424,{"$nulls":9},{"$f":"IF(B425=\"\",\"\",D425&\" - \"&F425&\" - \"&G425)","v":""},null,{"$f":"IF(OR(ISBLANK(L425),ISBLANK(H425)),\"\",H425+(VLOOKUP(L425,garantie,2,FALSE)))","v":""}]
[425,{"$nulls":9},{"$f":"IF(B426=\"\",\"\",D426&\" - \"&F426&\" - \"&G426)","v":""},null,{"$f":"IF(OR(ISBLANK(L426),ISBLANK(H426)),\"\",H426+(VLOOKUP(L426,garantie,2,FALSE)))","v":""}]
[426,{"$nulls":9},{"$f":"IF(B427=\"\",\"\",D427&\" - \"&F427&\" - \"&G427)","v":""},null,{"$f":"IF(OR(ISBLANK(L427),ISBLANK(H427)),\"\",H427+(VLOOKUP(L427,garantie,2,FALSE)))","v":""}]
[427,{"$nulls":9},{"$f":"IF(B428=\"\",\"\",D428&\" - \"&F428&\" - \"&G428)","v":""},null,{"$f":"IF(OR(ISBLANK(L428),ISBLANK(H428)),\"\",H428+(VLOOKUP(L428,garantie,2,FALSE)))","v":""}]
[428,{"$nulls":9},{"$f":"IF(B429=\"\",\"\",D429&\" - \"&F429&\" - \"&G429)","v":""},null,{"$f":"IF(OR(ISBLANK(L429),ISBLANK(H429)),\"\",H429+(VLOOKUP(L429,garantie,2,FALSE)))","v":""}]
[429,{"$nulls":9},{"$f":"IF(B430=\"\",\"\",D430&\" - \"&F430&\" - \"&G430)","v":""},null,{"$f":"IF(OR(ISBLANK(L430),ISBLANK(H430)),\"\",H430+(VLOOKUP(L430,garantie,2,FALSE)))","v":""}]
[430,{"$nulls":9},{"$f":"IF(B431=\"\",\"\",D431&\" - \"&F431&\" - \"&G431)","v":""},null,{"$f":"IF(OR(ISBLANK(L431),ISBLANK(H431)),\"\",H431+(VLOOKUP(L431,garantie,2,FALSE)))","v":""}]
[431,{"$nulls":9},{"$f":"IF(B432=\"\",\"\",D432&\" - \"&F432&\" - \"&G432)","v":""},null,{"$f":"IF(OR(ISBLANK(L432),ISBLANK(H432)),\"\",H432+(VLOOKUP(L432,garantie,2,FALSE)))","v":""}]
[432,{"$nulls":9},{"$f":"IF(B433=\"\",\"\",D433&\" - \"&F433&\" - \"&G433)","v":""},null,{"$f":"IF(OR(ISBLANK(L433),ISBLANK(H433)),\"\",H433+(VLOOKUP(L433,garantie,2,FALSE)))","v":""}]
[433,{"$nulls":9},{"$f":"IF(B434=\"\",\"\",D434&\" - \"&F434&\" - \"&G434)","v":""},null,{"$f":"IF(OR(ISBLANK(L434),ISBLANK(H434)),\"\",H434+(VLOOKUP(L434,garantie,2,FALSE)))","v":""}]
[434,{"$nulls":9},{"$f":"IF(B435=\"\",\"\",D435&\" - \"&F435&\" - \"&G435)","v":""},null,{"$f":"IF(OR(ISBLANK(L435),ISBLANK(H435)),\"\",H435+(VLOOKUP(L435,garantie,2,FALSE)))","v":""}]
[435,{"$nulls":9},{"$f":"IF(B436=\"\",\"\",D436&\" - \"&F436&\" - \"&G436)","v":""},null,{"$f":"IF(OR(ISBLANK(L436),ISBLANK(H436)),\"\",H436+(VLOOKUP(L436,garantie,2,FALSE)))","v":""}]
[436,{"$nulls":9},{"$f":"IF(B437=\"\",\"\",D437&\" - \"&F437&\" - \"&G437)","v":""},null,{"$f":"IF(OR(ISBLANK(L437),ISBLANK(H437)),\"\",H437+(VLOOKUP(L437,garantie,2,FALSE)))","v":""}]
[437,{"$nulls":9},{"$f":"IF(B438=\"\",\"\",D438&\" - \"&F438&\" - \"&G438)","v":""},null,{"$f":"IF(OR(ISBLANK(L438),ISBLANK(H438)),\"\",H438+(VLOOKUP(L438,garantie,2,FALSE)))","v":""}]
[438,{"$nulls":9},{"$f":"IF(B439=\"\",\"\",D439&\" - \"&F439&\" - \"&G439)","v":""},null,{"$f":"IF(OR(ISBLANK(L439),ISBLANK(H439)),\"\",H439+(VLOOKUP(L439,garantie,2,FALSE)))","v":""}]
[439,{"$nulls":9},{"$f":"IF(B440=\"\",\"\",D440&\" - \"&F440&\" - \"&G440)","v":""},null,{"$f":"IF(OR(ISBLANK(L440),ISBLANK(H440)),\"\",H440+(VLOOKUP(L440,garantie,2,FALSE)))","v":""}]
[440,{"$nulls":9},{"$f":"IF(B441=\"\",\"\",D441&\" - \"&F441&\" - \"&G441)","v":""},null,{"$f":"IF(OR(ISBLANK(L441),ISBLANK(H441)),\"\",H441+(VLOOKUP(L441,garantie,2,FALSE)))","v":""}]
[441,{"$nulls":9},{"$f":"IF(B442=\"\",\"\",D442&\" - \"&F442&\" - \"&G442)","v":""},null,{"$f":"IF(OR(ISBLANK(L442),ISBLANK(H442)),\"\",H442+(VLOOKUP(L442,garantie,2,FALSE)))","v":""}]
[442,{"$nulls":9},{"$f":"IF(B443=\"\",\"\",D443&\" - \"&F443&\" - \"&G443)","v":""},null,{"$f":"IF(OR(ISBLANK(L443),ISBLANK(H443)),\"\",H443+(VLOOKUP(L443,garantie,2,FALSE)))","v":""}]
[443,{"$nulls":9},{"$f":"IF(B444=\"\",\"\",D444&\" - \"&F444&\" - \"&G444)","v":""},null,{"$f":"IF(OR(ISBLANK(L444),ISBLANK(H444)),\"\",H444+(VLOOKUP(L444,garantie,2,FALSE)))","v":""}]
[444,{"$nulls":9},{"$f":"IF(B445=\"\",\"\",D445&\" - \"&F445&\" - \"&G445)","v":""},null,{"$f":"IF(OR(ISBLANK(L445),ISBLANK(H445)),\"\",H445+(VLOOKUP(L445,garantie,2,FALSE)))","v":""}]
[445,{"$nulls":9},{"$f":"IF(B446=\"\",\"\",D446&\" - \"&F446&\" - \"&G446)","v":""},null,{"$f":"IF(OR(ISBLANK(L446),ISBLANK(H446)),\"\",H446+(VLOOKUP(L446,garantie,2,FALSE)))","v":""}]
[446,{"$nulls":9},{"$f":"IF(B447=\"\",\"\",D447&\" - \"&F447&\" - \"&G447)","v":""},null,{"$f":"IF(OR(ISBLANK(L447),ISBLANK(H447)),\"\",H447+(VLOOKUP(L447,garantie,2,FALSE)))","v":""}]
[447,{"$nulls":9},{"$f":"IF(B448=\"\",\"\",D448&\" - \"&F448&\" - \"&G448)","v":""},null,{"$f":"IF(OR(ISBLANK(L448),ISBLANK(H448)),\"\",H448+(VLOOKUP(L448,garantie,2,FALSE)))","v":""}]
[448,{"$nulls":9},{"$f":"IF(B449=\"\",\"\",D449&\" - \"&F449&\" - \"&G449)","v":""},null,{"$f":"IF(OR(ISBLANK(L449),ISBLANK(H449)),\"\",H449+(VLOOKUP(L449,garantie,2,FALSE)))","v":""}]
[449,{"$nulls":9},{"$f":"IF(B450=\"\",\"\",D450&\" - \"&F450&\" - \"&G450)","v":""},null,{"$f":"IF(OR(ISBLANK(L450),ISBLANK(H450)),\"\",H450+(VLOOKUP(L450,garantie,2,FALSE)))","v":""}]
[450,{"$nulls":9},{"$f":"IF(B451=\"\",\"\",D451&\" - \"&F451&\" - \"&G451)","v":""},null,{"$f":"IF(OR(ISBLANK(L451),ISBLANK(H451)),\"\",H451+(VLOOKUP(L451,garantie,2,FALSE)))","v":""}]
[451,{"$nulls":9},{"$f":"IF(B452=\"\",\"\",D452&\" - \"&F452&\" - \"&G452)","v":""},null,{"$f":"IF(OR(ISBLANK(L452),ISBLANK(H452)),\"\",H452+(VLOOKUP(L452,garantie,2,FALSE)))","v":""}]
[452,{"$nulls":9},{"$f":"IF(B453=\"\",\"\",D453&\" - \"&F453&\" - \"&G453)","v":""},null,{"$f":"IF(OR(ISBLANK(L453),ISBLANK(H453)),\"\",H453+(VLOOKUP(L453,garantie,2,FALSE)))","v":""}]
[453,{"$nulls":9},{"$f":"IF(B454=\"\",\"\",D454&\" - \"&F454&\" - \"&G454)","v":""},null,{"$f":"IF(OR(ISBLANK(L454),ISBLANK(H454)),\"\",H454+(VLOOKUP(L454,garantie,2,FALSE)))","v":""}]
[454,{"$nulls":9},{"$f":"IF(B455=\"\",\"\",D455&\" - \"&F455&\" - \"&G455)","v":""},null,{"$f":"IF(OR(ISBLANK(L455),ISBLANK(H455)),\"\",H455+(VLOOKUP(L455,garantie,2,FALSE)))","v":""}]
[455,{"$nulls":9},{"$f":"IF(B456=\"\",\"\",D456&\" - \"&F456&\" - \"&G456)","v":""},null,{"$f":"IF(OR(ISBLANK(L456),ISBLANK(H456)),\"\",H456+(VLOOKUP(L456,garantie,2,FALSE)))","v":""}]
[456,{"$nulls":9},{"$f":"IF(B457=\"\",\"\",D457&\" - \"&F457&\" - \"&G457)","v":""},null,{"$f":"IF(OR(ISBLANK(L457),ISBLANK(H457)),\"\",H457+(VLOOKUP(L457,garantie,2,FALSE)))","v":""}]
[457,{"$nulls":9},{"$f":"IF(B458=\"\",\"\",D458&\" - \"&F458&\" - \"&G458)","v":""},null,{"$f":"IF(OR(ISBLANK(L458),ISBLANK(H458)),\"\",H458+(VLOOKUP(L458,garantie,2,FALSE)))","v":""}]
[458,{"$nulls":9},{"$f":"IF(B459=\"\",\"\",D459&\" - \"&F459&\" - \"&G459)","v":""},null,{"$f":"IF(OR(ISBLANK(L459),ISBLANK(H459)),\"\",H459+(VLOOKUP(L459,garantie,2,FALSE)))","v":""}]
[459,{"$nulls":9},{"$f":"IF(B460=\"\",\"\",D460&\" - \"&F460&\" - \"&G460)","v":""},null,{"$f":"IF(OR(ISBLANK(L460),ISBLANK(H460)),\"\",H460+(VLOOKUP(L460,garantie,2,FALSE)))","v":""}]
[460,{"$nulls":9},{"$f":"IF(B461=\"\",\"\",D461&\" - \"&F461&\" - \"&G461)","v":""},null,{"$f":"IF(OR(ISBLANK(L461),ISBLANK(H461)),\"\",H461+(VLOOKUP(L461,garantie,2,FALSE)))","v":""}]
[461,{"$nulls":9},{"$f":"IF(B462=\"\",\"\",D462&\" - \"&F462&\" - \"&G462)","v":""},null,{"$f":"IF(OR(ISBLANK(L462),ISBLANK(H462)),\"\",H462+(VLOOKUP(L462,garantie,2,FALSE)))","v":""}]
[462,{"$nulls":9},{"$f":"IF(B463=\"\",\"\",D463&\" - \"&F463&\" - \"&G463)","v":""},null,{"$f":"IF(OR(ISBLANK(L463),ISBLANK(H463)),\"\",H463+(VLOOKUP(L463,garantie,2,FALSE)))","v":""}]
[463,{"$nulls":9},{"$f":"IF(B464=\"\",\"\",D464&\" - \"&F464&\" - \"&G464)","v":""},null,{"$f":"IF(OR(ISBLANK(L464),ISBLANK(H464)),\"\",H464+(VLOOKUP(L464,garantie,2,FALSE)))","v":""}]
[464,{"$nulls":9},{"$f":"IF(B465=\"\",\"\",D465&\" - \"&F465&\" - \"&G465)","v":""},null,{"$f":"IF(OR(ISBLANK(L465),ISBLANK(H465)),\"\",H465+(VLOOKUP(L465,garantie,2,FALSE)))","v":""}]
[465,{"$nulls":9},{"$f":"IF(B466=\"\",\"\",D466&\" - \"&F466&\" - \"&G466)","v":""},null,{"$f":"IF(OR(ISBLANK(L466),ISBLANK(H466)),\"\",H466+(VLOOKUP(L466,garantie,2,FALSE)))","v":""}]
[466,{"$nulls":9},{"$f":"IF(B467=\"\",\"\",D467&\" - \"&F467&\" - \"&G467)","v":""},null,{"$f":"IF(OR(ISBLANK(L467),ISBLANK(H467)),\"\",H467+(VLOOKUP(L467,garantie,2,FALSE)))","v":""}]
[467,{"$nulls":9},{"$f":"IF(B468=\"\",\"\",D468&\" - \"&F468&\" - \"&G468)","v":""},null,{"$f":"IF(OR(ISBLANK(L468),ISBLANK(H468)),\"\",H468+(VLOOKUP(L468,garantie,2,FALSE)))","v":""}]
[468,{"$nulls":9},{"$f":"IF(B469=\"\",\"\",D469&\" - \"&F469&\" - \"&G469)","v":""},null,{"$f":"IF(OR(ISBLANK(L469),ISBLANK(H469)),\"\",H469+(VLOOKUP(L469,garantie,2,FALSE)))","v":""}]
[469,{"$nulls":9},{"$f":"IF(B470=\"\",\"\",D470&\" - \"&F470&\" - \"&G470)","v":""},null,{"$f":"IF(OR(ISBLANK(L470),ISBLANK(H470)),\"\",H470+(VLOOKUP(L470,garantie,2,FALSE)))","v":""}]
[470,{"$nulls":9},{"$f":"IF(B471=\"\",\"\",D471&\" - \"&F471&\" - \"&G471)","v":""},null,{"$f":"IF(OR(ISBLANK(L471),ISBLANK(H471)),\"\",H471+(VLOOKUP(L471,garantie,2,FALSE)))","v":""}]
[471,{"$nulls":9},{"$f":"IF(B472=\"\",\"\",D472&\" - \"&F472&\" - \"&G472)","v":""},null,{"$f":"IF(OR(ISBLANK(L472),ISBLANK(H472)),\"\",H472+(VLOOKUP(L472,garantie,2,FALSE)))","v":""}]
[472,{"$nulls":9},{"$f":"IF(B473=\"\",\"\",D473&\" - \"&F473&\" - \"&G473)","v":""},null,{"$f":"IF(OR(ISBLANK(L473),ISBLANK(H473)),\"\",H473+(VLOOKUP(L473,garantie,2,FALSE)))","v":""}]
[473,{"$nulls":9},{"$f":"IF(B474=\"\",\"\",D474&\" - \"&F474&\" - \"&G474)","v":""},null,{"$f":"IF(OR(ISBLANK(L474),ISBLANK(H474)),\"\",H474+(VLOOKUP(L474,garantie,2,FALSE)))","v":""}]
[474,{"$nulls":9},{"$f":"IF(B475=\"\",\"\",D475&\" - \"&F475&\" - \"&G475)","v":""},null,{"$f":"IF(OR(ISBLANK(L475),ISBLANK(H475)),\"\",H475+(VLOOKUP(L475,garantie,2,FALSE)))","v":""}]
[475,{"$nulls":9},{"$f":"IF(B476=\"\",\"\",D476&\" - \"&F476&\" - \"&G476)","v":""},null,{"$f":"IF(OR(ISBLANK(L476),ISBLANK(H476)),\"\",H476+(VLOOKUP(L476,garantie,2,FALSE)))","v":""}]
[476,{"$nulls":9},{"$f":"IF(B477=\"\",\"\",D477&\" - \"&F477&\" - \"&G477)","v":""},null,{"$f":"IF(OR(ISBLANK(L477),ISBLANK(H477)),\"\",H477+(VLOOKUP(L477,garantie,2,FALSE)))","v":""}]
[477,{"$nulls":9},{"$f":"IF(B478=\"\",\"\",D478&\" - \"&F478&\" - \"&G478)","v":""},null,{"$f":"IF(OR(ISBLANK(L478),ISBLANK(H478)),\"\",H478+(VLOOKUP(L478,garantie,2,FALSE)))","v":""}]
[478,{"$nulls":9},{"$f":"IF(B479=\"\",\"\",D479&\" - \"&F479&\" - \"&G479)","v":""},null,{"$f":"IF(OR(ISBLANK(L479),ISBLANK(H479)),\"\",H479+(VLOOKUP(L479,garantie,2,FALSE)))","v":""}]
[479,{"$nulls":9},{"$f":"IF(B480=\"\",\"\",D480&\" - \"&F480&\" - \"&G480)","v":""},null,{"$f":"IF(OR(ISBLANK(L480),ISBLANK(H480)),\"\",H480+(VLOOKUP(L480,garantie,2,FALSE)))","v":""}]
[480,{"$nulls":9},{"$f":"IF(B481=\"\",\"\",D481&\" - \"&F481&\" - \"&G481)","v":""},null,{"$f":"IF(OR(ISBLANK(L481),ISBLANK(H481)),\"\",H481+(VLOOKUP(L481,garantie,2,FALSE)))","v":""}]
[481,{"$nulls":9},{"$f":"IF(B482=\"\",\"\",D482&\" - \"&F482&\" - \"&G482)","v":""},null,{"$f":"IF(OR(ISBLANK(L482),ISBLANK(H482)),\"\",H482+(VLOOKUP(L482,garantie,2,FALSE)))","v":""}]
[482,{"$nulls":9},{"$f":"IF(B483=\"\",\"\",D483&\" - \"&F483&\" - \"&G483)","v":""},null,{"$f":"IF(OR(ISBLANK(L483),ISBLANK(H483)),\"\",H483+(VLOOKUP(L483,garantie,2,FALSE)))","v":""}]
[483,{"$nulls":9},{"$f":"IF(B484=\"\",\"\",D484&\" - \"&F484&\" - \"&G484)","v":""},null,{"$f":"IF(OR(ISBLANK(L484),ISBLANK(H484)),\"\",H484+(VLOOKUP(L484,garantie,2,FALSE)))","v":""}]
[484,{"$nulls":9},{"$f":"IF(B485=\"\",\"\",D485&\" - \"&F485&\" - \"&G485)","v":""},null,{"$f":"IF(OR(ISBLANK(L485),ISBLANK(H485)),\"\",H485+(VLOOKUP(L485,garantie,2,FALSE)))","v":""}]
[485,{"$nulls":9},{"$f":"IF(B486=\"\",\"\",D486&\" - \"&F486&\" - \"&G486)","v":""},null,{"$f":"IF(OR(ISBLANK(L486),ISBLANK(H486)),\"\",H486+(VLOOKUP(L486,garantie,2,FALSE)))","v":""}]
[486,{"$nulls":9},{"$f":"IF(B487=\"\",\"\",D487&\" - \"&F487&\" - \"&G487)","v":""},null,{"$f":"IF(OR(ISBLANK(L487),ISBLANK(H487)),\"\",H487+(VLOOKUP(L487,garantie,2,FALSE)))","v":""}]
[487,{"$nulls":9},{"$f":"IF(B488=\"\",\"\",D488&\" - \"&F488&\" - \"&G488)","v":""},null,{"$f":"IF(OR(ISBLANK(L488),ISBLANK(H488)),\"\",H488+(VLOOKUP(L488,garantie,2,FALSE)))","v":""}]
[488,{"$nulls":9},{"$f":"IF(B489=\"\",\"\",D489&\" - \"&F489&\" - \"&G489)","v":""},null,{"$f":"IF(OR(ISBLANK(L489),ISBLANK(H489)),\"\",H489+(VLOOKUP(L489,garantie,2,FALSE)))","v":""}]
[489,{"$nulls":9},{"$f":"IF(B490=\"\",\"\",D490&\" - \"&F490&\" - \"&G490)","v":""},null,{"$f":"IF(OR(ISBLANK(L490),ISBLANK(H490)),\"\",H490+(VLOOKUP(L490,garantie,2,FALSE)))","v":""}]
[490,{"$nulls":9},{"$f":"IF(B491=\"\",\"\",D491&\" - \"&F491&\" - \"&G491)","v":""},null,{"$f":"IF(OR(ISBLANK(L491),ISBLANK(H491)),\"\",H491+(VLOOKUP(L491,garantie,2,FALSE)))","v":""}]
[491,{"$nulls":9},{"$f":"IF(B492=\"\",\"\",D492&\" - \"&F492&\" - \"&G492)","v":""},null,{"$f":"IF(OR(ISBLANK(L492),ISBLANK(H492)),\"\",H492+(VLOOKUP(L492,garantie,2,FALSE)))","v":""}]
[492,{"$nulls":9},{"$f":"IF(B493=\"\",\"\",D493&\" - \"&F493&\" - \"&G493)","v":""},null,{"$f":"IF(OR(ISBLANK(L493),ISBLANK(H493)),\"\",H493+(VLOOKUP(L493,garantie,2,FALSE)))","v":""}]
[493,{"$nulls":9},{"$f":"IF(B494=\"\",\"\",D494&\" - \"&F494&\" - \"&G494)","v":""},null,{"$f":"IF(OR(ISBLANK(L494),ISBLANK(H494)),\"\",H494+(VLOOKUP(L494,garantie,2,FALSE)))","v":""}]
[494,{"$nulls":9},{"$f":"IF(B495=\"\",\"\",D495&\" - \"&F495&\" - \"&G495)","v":""},null,{"$f":"IF(OR(ISBLANK(L495),ISBLANK(H495)),\"\",H495+(VLOOKUP(L495,garantie,2,FALSE)))","v":""}]
[495,{"$nulls":9},{"$f":"IF(B496=\"\",\"\",D496&\" - \"&F496&\" - \"&G496)","v":""},null,{"$f":"IF(OR(ISBLANK(L496),ISBLANK(H496)),\"\",H496+(VLOOKUP(L496,garantie,2,FALSE)))","v":""}]
[496,{"$nulls":9},{"$f":"IF(B497=\"\",\"\",D497&\" - \"&F497&\" - \"&G497)","v":""},null,{"$f":"IF(OR(ISBLANK(L497),ISBLANK(H497)),\"\",H497+(VLOOKUP(L497,garantie,2,FALSE)))","v":""}]
[497,{"$nulls":9},{"$f":"IF(B498=\"\",\"\",D498&\" - \"&F498&\" - \"&G498)","v":""},null,{"$f":"IF(OR(ISBLANK(L498),ISBLANK(H498)),\"\",H498+(VLOOKUP(L498,garantie,2,FALSE)))","v":""}]
[498,{"$nulls":9},{"$f":"IF(B499=\"\",\"\",D499&\" - \"&F499&\" - \"&G499)","v":""},null,{"$f":"IF(OR(ISBLANK(L499),ISBLANK(H499)),\"\",H499+(VLOOKUP(L499,garantie,2,FALSE)))","v":""}]
[499,{"$nulls":9},{"$f":"IF(B500=\"\",\"\",D500&\" - \"&F500&\" - \"&G500)","v":""},null,{"$f":"IF(OR(ISBLANK(L500),ISBLANK(H500)),\"\",H500+(VLOOKUP(L500,garantie,2,FALSE)))","v":""}]
[500,{"$nulls":9},{"$f":"IF(B501=\"\",\"\",D501&\" - \"&F501&\" - \"&G501)","v":""},null,{"$f":"IF(OR(ISBLANK(L501),ISBLANK(H501)),\"\",H501+(VLOOKUP(L501,garantie,2,FALSE)))","v":""}]
[501,{"$nulls":9},{"$f":"IF(B502=\"\",\"\",D502&\" - \"&F502&\" - \"&G502)","v":""},null,{"$f":"IF(OR(ISBLANK(L502),ISBLANK(H502)),\"\",H502+(VLOOKUP(L502,garantie,2,FALSE)))","v":""}]
[502,{"$nulls":9},{"$f":"IF(B503=\"\",\"\",D503&\" - \"&F503&\" - \"&G503)","v":""},null,{"$f":"IF(OR(ISBLANK(L503),ISBLANK(H503)),\"\",H503+(VLOOKUP(L503,garantie,2,FALSE)))","v":""}]
[503,{"$nulls":9},{"$f":"IF(B504=\"\",\"\",D504&\" - \"&F504&\" - \"&G504)","v":""},null,{"$f":"IF(OR(ISBLANK(L504),ISBLANK(H504)),\"\",H504+(VLOOKUP(L504,garantie,2,FALSE)))","v":""}]
[504,{"$nulls":9},{"$f":"IF(B505=\"\",\"\",D505&\" - \"&F505&\" - \"&G505)","v":""},null,{"$f":"IF(OR(ISBLANK(L505),ISBLANK(H505)),\"\",H505+(VLOOKUP(L505,garantie,2,FALSE)))","v":""}]
[505,{"$nulls":9},{"$f":"IF(B506=\"\",\"\",D506&\" - \"&F506&\" - \"&G506)","v":""},null,{"$f":"IF(OR(ISBLANK(L506),ISBLANK(H506)),\"\",H506+(VLOOKUP(L506,garantie,2,FALSE)))","v":""}]
[506,{"$nulls":9},{"$f":"IF(B507=\"\",\"\",D507&\" - \"&F507&\" - \"&G507)","v":""},null,{"$f":"IF(OR(ISBLANK(L507),ISBLANK(H507)),\"\",H507+(VLOOKUP(L507,garantie,2,FALSE)))","v":""}]
[507,{"$nulls":9},{"$f":"IF(B508=\"\",\"\",D508&\" - \"&F508&\" - \"&G508)","v":""},null,{"$f":"IF(OR(ISBLANK(L508),ISBLANK(H508)),\"\",H508+(VLOOKUP(L508,garantie,2,FALSE)))","v":""}]
[508,{"$nulls":9},{"$f":"IF(B509=\"\",\"\",D509&\" - \"&F509&\" - \"&G509)","v":""},null,{"$f":"IF(OR(ISBLANK(L509),ISBLANK(H509)),\"\",H509+(VLOOKUP(L509,garantie,2,FALSE)))","v":""}]
[509,{"$nulls":9},{"$f":"IF(B510=\"\",\"\",D510&\" - \"&F510&\" - \"&G510)","v":""},null,{"$f":"IF(OR(ISBLANK(L510),ISBLANK(H510)),\"\",H510+(VLOOKUP(L510,garantie,2,FALSE)))","v":""}]
[510,{"$nulls":9},{"$f":"IF(B511=\"\",\"\",D511&\" - \"&F511&\" - \"&G511)","v":""},null,{"$f":"IF(OR(ISBLANK(L511),ISBLANK(H511)),\"\",H511+(VLOOKUP(L511,garantie,2,FALSE)))","v":""}]
[511,{"$nulls":9},{"$f":"IF(B512=\"\",\"\",D512&\" - \"&F512&\" - \"&G512)","v":""},null,{"$f":"IF(OR(ISBLANK(L512),ISBLANK(H512)),\"\",H512+(VLOOKUP(L512,garantie,2,FALSE)))","v":""}]
[512,{"$nulls":9},{"$f":"IF(B513=\"\",\"\",D513&\" - \"&F513&\" - \"&G513)","v":""},null,{"$f":"IF(OR(ISBLANK(L513),ISBLANK(H513)),\"\",H513+(VLOOKUP(L513,garantie,2,FALSE)))","v":""}]
[513,{"$nulls":9},{"$f":"IF(B514=\"\",\"\",D514&\" - \"&F514&\" - \"&G514)","v":""},null,{"$f":"IF(OR(ISBLANK(L514),ISBLANK(H514)),\"\",H514+(VLOOKUP(L514,garantie,2,FALSE)))","v":""}]
[514,{"$nulls":9},{"$f":"IF(B515=\"\",\"\",D515&\" - \"&F515&\" - \"&G515)","v":""},null,{"$f":"IF(OR(ISBLANK(L515),ISBLANK(H515)),\"\",H515+(VLOOKUP(L515,garantie,2,FALSE)))","v":""}]
[515,{"$nulls":9},{"$f":"IF(B516=\"\",\"\",D516&\" - \"&F516&\" - \"&G516)","v":""},null,{"$f":"IF(OR(ISBLANK(L516),ISBLANK(H516)),\"\",H516+(VLOOKUP(L516,garantie,2,FALSE)))","v":""}]
[516,{"$nulls":9},{"$f":"IF(B517=\"\",\"\",D517&\" - \"&F517&\" - \"&G517)","v":""},null,{"$f":"IF(OR(ISBLANK(L517),ISBLANK(H517)),\"\",H517+(VLOOKUP(L517,garantie,2,FALSE)))","v":""}]
[517,{"$nulls":9},{"$f":"IF(B518=\"\",\"\",D518&\" - \"&F518&\" - \"&G518)","v":""},null,{"$f":"IF(OR(ISBLANK(L518),ISBLANK(H518)),\"\",H518+(VLOOKUP(L518,garantie,2,FALSE)))","v":""}]
[518,{"$nulls":9},{"$f":"IF(B519=\"\",\"\",D519&\" - \"&F519&\" - \"&G519)","v":""},null,{"$f":"IF(OR(ISBLANK(L519),ISBLANK(H519)),\"\",H519+(VLOOKUP(L519,garantie,2,FALSE)))","v":""}]
[519,{"$nulls":9},{"$f":"IF(B520=\"\",\"\",D520&\" - \"&F520&\" - \"&G520)","v":""},null,{"$f":"IF(OR(ISBLANK(L520),ISBLANK(H520)),\"\",H520+(VLOOKUP(L520,garantie,2,FALSE)))","v":""}]
[520,{"$nulls":9},{"$f":"IF(B521=\"\",\"\",D521&\" - \"&F521&\" - \"&G521)","v":""},null,{"$f":"IF(OR(ISBLANK(L521),ISBLANK(H521)),\"\",H521+(VLOOKUP(L521,garantie,2,FALSE)))","v":""}]
[521,{"$nulls":9},{"$f":"IF(B522=\"\",\"\",D522&\" - \"&F522&\" - \"&G522)","v":""},null,{"$f":"IF(OR(ISBLANK(L522),ISBLANK(H522)),\"\",H522+(VLOOKUP(L522,garantie,2,FALSE)))","v":""}]
[522,{"$nulls":9},{"$f":"IF(B523=\"\",\"\",D523&\" - \"&F523&\" - \"&G523)","v":""},null,{"$f":"IF(OR(ISBLANK(L523),ISBLANK(H523)),\"\",H523+(VLOOKUP(L523,garantie,2,FALSE)))","v":""}]
[523,{"$nulls":9},{"$f":"IF(B524=\"\",\"\",D524&\" - \"&F524&\" - \"&G524)","v":""},null,{"$f":"IF(OR(ISBLANK(L524),ISBLANK(H524)),\"\",H524+(VLOOKUP(L524,garantie,2,FALSE)))","v":""}]
[524,{"$nulls":9},{"$f":"IF(B525=\"\",\"\",D525&\" - \"&F525&\" - \"&G525)","v":""},null,{"$f":"IF(OR(ISBLANK(L525),ISBLANK(H525)),\"\",H525+(VLOOKUP(L525,garantie,2,FALSE)))","v":""}]
[525,{"$nulls":9},{"$f":"IF(B526=\"\",\"\",D526&\" - \"&F526&\" - \"&G526)","v":""},null,{"$f":"IF(OR(ISBLANK(L526),ISBLANK(H526)),\"\",H526+(VLOOKUP(L526,garantie,2,FALSE)))","v":""}]
[526,{"$nulls":9},{"$f":"IF(B527=\"\",\"\",D527&\" - \"&F527&\" - \"&G527)","v":""},null,{"$f":"IF(OR(ISBLANK(L527),ISBLANK(H527)),\"\",H527+(VLOOKUP(L527,garantie,2,FALSE)))","v":""}]
[527,{"$nulls":9},{"$f":"IF(B528=\"\",\"\",D528&\" - \"&F528&\" - \"&G528)","v":""},null,{"$f":"IF(OR(ISBLANK(L528),ISBLANK(H528)),\"\",H528+(VLOOKUP(L528,garantie,2,FALSE)))","v":""}]
[528,{"$nulls":9},{"$f":"IF(B529=\"\",\"\",D529&\" - \"&F529&\" - \"&G529)","v":""},null,{"$f":"IF(OR(ISBLANK(L529),ISBLANK(H529)),\"\",H529+(VLOOKUP(L529,garantie,2,FALSE)))","v":""}]
[529,{"$nulls":9},{"$f":"IF(B530=\"\",\"\",D530&\" - \"&F530&\" - \"&G530)","v":""},null,{"$f":"IF(OR(ISBLANK(L530),ISBLANK(H530)),\"\",H530+(VLOOKUP(L530,garantie,2,FALSE)))","v":""}]
[530,{"$nulls":9},{"$f":"IF(B531=\"\",\"\",D531&\" - \"&F531&\" - \"&G531)","v":""},null,{"$f":"IF(OR(ISBLANK(L531),ISBLANK(H531)),\"\",H531+(VLOOKUP(L531,garantie,2,FALSE)))","v":""}]
[531,{"$nulls":9},{"$f":"IF(B532=\"\",\"\",D532&\" - \"&F532&\" - \"&G532)","v":""},null,{"$f":"IF(OR(ISBLANK(L532),ISBLANK(H532)),\"\",H532+(VLOOKUP(L532,garantie,2,FALSE)))","v":""}]
[532,{"$nulls":9},{"$f":"IF(B533=\"\",\"\",D533&\" - \"&F533&\" - \"&G533)","v":""},null,{"$f":"IF(OR(ISBLANK(L533),ISBLANK(H533)),\"\",H533+(VLOOKUP(L533,garantie,2,FALSE)))","v":""}]
[533,{"$nulls":9},{"$f":"IF(B534=\"\",\"\",D534&\" - \"&F534&\" - \"&G534)","v":""},null,{"$f":"IF(OR(ISBLANK(L534),ISBLANK(H534)),\"\",H534+(VLOOKUP(L534,garantie,2,FALSE)))","v":""}]
[534,{"$nulls":9},{"$f":"IF(B535=\"\",\"\",D535&\" - \"&F535&\" - \"&G535)","v":""},null,{"$f":"IF(OR(ISBLANK(L535),ISBLANK(H535)),\"\",H535+(VLOOKUP(L535,garantie,2,FALSE)))","v":""}]
[535,{"$nulls":9},{"$f":"IF(B536=\"\",\"\",D536&\" - \"&F536&\" - \"&G536)","v":""},null,{"$f":"IF(OR(ISBLANK(L536),ISBLANK(H536)),\"\",H536+(VLOOKUP(L536,garantie,2,FALSE)))","v":""}]
[536,{"$nulls":9},{"$f":"IF(B537=\"\",\"\",D537&\" - \"&F537&\" - \"&G537)","v":""},null,{"$f":"IF(OR(ISBLANK(L537),ISBLANK(H537)),\"\",H537+(VLOOKUP(L537,garantie,2,FALSE)))","v":""}]
[537,{"$nulls":9},{"$f":"IF(B538=\"\",\"\",D538&\" - \"&F538&\" - \"&G538)","v":""},null,{"$f":"IF(OR(ISBLANK(L538),ISBLANK(H538)),\"\",H538+(VLOOKUP(L538,garantie,2,FALSE)))","v":""}]
[538,{"$nulls":9},{"$f":"IF(B539=\"\",\"\",D539&\" - \"&F539&\" - \"&G539)","v":""},null,{"$f":"IF(OR(ISBLANK(L539),ISBLANK(H539)),\"\",H539+(VLOOKUP(L539,garantie,2,FALSE)))","v":""}]
[539,{"$nulls":9},{"$f":"IF(B540=\"\",\"\",D540&\" - \"&F540&\" - \"&G540)","v":""},null,{"$f":"IF(OR(ISBLANK(L540),ISBLANK(H540)),\"\",H540+(VLOOKUP(L540,garantie,2,FALSE)))","v":""}]
[540,{"$nulls":9},{"$f":"IF(B541=\"\",\"\",D541&\" - \"&F541&\" - \"&G541)","v":""},null,{"$f":"IF(OR(ISBLANK(L541),ISBLANK(H541)),\"\",H541+(VLOOKUP(L541,garantie,2,FALSE)))","v":""}]
[541,{"$nulls":9},{"$f":"IF(B542=\"\",\"\",D542&\" - \"&F542&\" - \"&G542)","v":""},null,{"$f":"IF(OR(ISBLANK(L542),ISBLANK(H542)),\"\",H542+(VLOOKUP(L542,garantie,2,FALSE)))","v":""}]
[542,{"$nulls":9},{"$f":"IF(B543=\"\",\"\",D543&\" - \"&F543&\" - \"&G543)","v":""},null,{"$f":"IF(OR(ISBLANK(L543),ISBLANK(H543)),\"\",H543+(VLOOKUP(L543,garantie,2,FALSE)))","v":""}]
[543,{"$nulls":9},{"$f":"IF(B544=\"\",\"\",D544&\" - \"&F544&\" - \"&G544)","v":""},null,{"$f":"IF(OR(ISBLANK(L544),ISBLANK(H544)),\"\",H544+(VLOOKUP(L544,garantie,2,FALSE)))","v":""}]
[544,{"$nulls":9},{"$f":"IF(B545=\"\",\"\",D545&\" - \"&F545&\" - \"&G545)","v":""},null,{"$f":"IF(OR(ISBLANK(L545),ISBLANK(H545)),\"\",H545+(VLOOKUP(L545,garantie,2,FALSE)))","v":""}]
[545,{"$nulls":9},{"$f":"IF(B546=\"\",\"\",D546&\" - \"&F546&\" - \"&G546)","v":""},null,{"$f":"IF(OR(ISBLANK(L546),ISBLANK(H546)),\"\",H546+(VLOOKUP(L546,garantie,2,FALSE)))","v":""}]
[546,{"$nulls":9},{"$f":"IF(B547=\"\",\"\",D547&\" - \"&F547&\" - \"&G547)","v":""},null,{"$f":"IF(OR(ISBLANK(L547),ISBLANK(H547)),\"\",H547+(VLOOKUP(L547,garantie,2,FALSE)))","v":""}]
[547,{"$nulls":9},{"$f":"IF(B548=\"\",\"\",D548&\" - \"&F548&\" - \"&G548)","v":""},null,{"$f":"IF(OR(ISBLANK(L548),ISBLANK(H548)),\"\",H548+(VLOOKUP(L548,garantie,2,FALSE)))","v":""}]
[548,{"$nulls":9},{"$f":"IF(B549=\"\",\"\",D549&\" - \"&F549&\" - \"&G549)","v":""},null,{"$f":"IF(OR(ISBLANK(L549),ISBLANK(H549)),\"\",H549+(VLOOKUP(L549,garantie,2,FALSE)))","v":""}]
[549,{"$nulls":9},{"$f":"IF(B550=\"\",\"\",D550&\" - \"&F550&\" - \"&G550)","v":""},null,{"$f":"IF(OR(ISBLANK(L550),ISBLANK(H550)),\"\",H550+(VLOOKUP(L550,garantie,2,FALSE)))","v":""}]
[550,{"$nulls":9},{"$f":"IF(B551=\"\",\"\",D551&\" - \"&F551&\" - \"&G551)","v":""},null,{"$f":"IF(OR(ISBLANK(L551),ISBLANK(H551)),\"\",H551+(VLOOKUP(L551,garantie,2,FALSE)))","v":""}]
[551,{"$nulls":9},{"$f":"IF(B552=\"\",\"\",D552&\" - \"&F552&\" - \"&G552)","v":""},null,{"$f":"IF(OR(ISBLANK(L552),ISBLANK(H552)),\"\",H552+(VLOOKUP(L552,garantie,2,FALSE)))","v":""}]
[552,{"$nulls":9},{"$f":"IF(B553=\"\",\"\",D553&\" - \"&F553&\" - \"&G553)","v":""},null,{"$f":"IF(OR(ISBLANK(L553),ISBLANK(H553)),\"\",H553+(VLOOKUP(L553,garantie,2,FALSE)))","v":""}]
[553,{"$nulls":9},{"$f":"IF(B554=\"\",\"\",D554&\" - \"&F554&\" - \"&G554)","v":""},null,{"$f":"IF(OR(ISBLANK(L554),ISBLANK(H554)),\"\",H554+(VLOOKUP(L554,garantie,2,FALSE)))","v":""}]
[554,{"$nulls":9},{"$f":"IF(B555=\"\",\"\",D555&\" - \"&F555&\" - \"&G555)","v":""},null,{"$f":"IF(OR(ISBLANK(L555),ISBLANK(H555)),\"\",H555+(VLOOKUP(L555,garantie,2,FALSE)))","v":""}]
[555,{"$nulls":9},{"$f":"IF(B556=\"\",\"\",D556&\" - \"&F556&\" - \"&G556)","v":""},null,{"$f":"IF(OR(ISBLANK(L556),ISBLANK(H556)),\"\",H556+(VLOOKUP(L556,garantie,2,FALSE)))","v":""}]
[556,{"$nulls":9},{"$f":"IF(B557=\"\",\"\",D557&\" - \"&F557&\" - \"&G557)","v":""},null,{"$f":"IF(OR(ISBLANK(L557),ISBLANK(H557)),\"\",H557+(VLOOKUP(L557,garantie,2,FALSE)))","v":""}]
[557,{"$nulls":9},{"$f":"IF(B558=\"\",\"\",D558&\" - \"&F558&\" - \"&G558)","v":""},null,{"$f":"IF(OR(ISBLANK(L558),ISBLANK(H558)),\"\",H558+(VLOOKUP(L558,garantie,2,FALSE)))","v":""}]
[558,{"$nulls":9},{"$f":"IF(B559=\"\",\"\",D559&\" - \"&F559&\" - \"&G559)","v":""},null,{"$f":"IF(OR(ISBLANK(L559),ISBLANK(H559)),\"\",H559+(VLOOKUP(L559,garantie,2,FALSE)))","v":""}]
[559,{"$nulls":9},{"$f":"IF(B560=\"\",\"\",D560&\" - \"&F560&\" - \"&G560)","v":""},null,{"$f":"IF(OR(ISBLANK(L560),ISBLANK(H560)),\"\",H560+(VLOOKUP(L560,garantie,2,FALSE)))","v":""}]
[560,{"$nulls":9},{"$f":"IF(B561=\"\",\"\",D561&\" - \"&F561&\" - \"&G561)","v":""},null,{"$f":"IF(OR(ISBLANK(L561),ISBLANK(H561)),\"\",H561+(VLOOKUP(L561,garantie,2,FALSE)))","v":""}]
[561,{"$nulls":9},{"$f":"IF(B562=\"\",\"\",D562&\" - \"&F562&\" - \"&G562)","v":""},null,{"$f":"IF(OR(ISBLANK(L562),ISBLANK(H562)),\"\",H562+(VLOOKUP(L562,garantie,2,FALSE)))","v":""}]
[562,{"$nulls":9},{"$f":"IF(B563=\"\",\"\",D563&\" - \"&F563&\" - \"&G563)","v":""},null,{"$f":"IF(OR(ISBLANK(L563),ISBLANK(H563)),\"\",H563+(VLOOKUP(L563,garantie,2,FALSE)))","v":""}]
[563,{"$nulls":9},{"$f":"IF(B564=\"\",\"\",D564&\" - \"&F564&\" - \"&G564)","v":""},null,{"$f":"IF(OR(ISBLANK(L564),ISBLANK(H564)),\"\",H564+(VLOOKUP(L564,garantie,2,FALSE)))","v":""}]
[564,{"$nulls":9},{"$f":"IF(B565=\"\",\"\",D565&\" - \"&F565&\" - \"&G565)","v":""},null,{"$f":"IF(OR(ISBLANK(L565),ISBLANK(H565)),\"\",H565+(VLOOKUP(L565,garantie,2,FALSE)))","v":""}]
[565,{"$nulls":9},{"$f":"IF(B566=\"\",\"\",D566&\" - \"&F566&\" - \"&G566)","v":""},null,{"$f":"IF(OR(ISBLANK(L566),ISBLANK(H566)),\"\",H566+(VLOOKUP(L566,garantie,2,FALSE)))","v":""}]
[566,{"$nulls":9},{"$f":"IF(B567=\"\",\"\",D567&\" - \"&F567&\" - \"&G567)","v":""},null,{"$f":"IF(OR(ISBLANK(L567),ISBLANK(H567)),\"\",H567+(VLOOKUP(L567,garantie,2,FALSE)))","v":""}]
[567,{"$nulls":9},{"$f":"IF(B568=\"\",\"\",D568&\" - \"&F568&\" - \"&G568)","v":""},null,{"$f":"IF(OR(ISBLANK(L568),ISBLANK(H568)),\"\",H568+(VLOOKUP(L568,garantie,2,FALSE)))","v":""}]
[568,{"$nulls":9},{"$f":"IF(B569=\"\",\"\",D569&\" - \"&F569&\" - \"&G569)","v":""},null,{"$f":"IF(OR(ISBLANK(L569),ISBLANK(H569)),\"\",H569+(VLOOKUP(L569,garantie,2,FALSE)))","v":""}]
[569,{"$nulls":9},{"$f":"IF(B570=\"\",\"\",D570&\" - \"&F570&\" - \"&G570)","v":""},null,{"$f":"IF(OR(ISBLANK(L570),ISBLANK(H570)),\"\",H570+(VLOOKUP(L570,garantie,2,FALSE)))","v":""}]
[570,{"$nulls":9},{"$f":"IF(B571=\"\",\"\",D571&\" - \"&F571&\" - \"&G571)","v":""},null,{"$f":"IF(OR(ISBLANK(L571),ISBLANK(H571)),\"\",H571+(VLOOKUP(L571,garantie,2,FALSE)))","v":""}]
[571,{"$nulls":9},{"$f":"IF(B572=\"\",\"\",D572&\" - \"&F572&\" - \"&G572)","v":""},null,{"$f":"IF(OR(ISBLANK(L572),ISBLANK(H572)),\"\",H572+(VLOOKUP(L572,garantie,2,FALSE)))","v":""}]
[572,{"$nulls":9},{"$f":"IF(B573=\"\",\"\",D573&\" - \"&F573&\" - \"&G573)","v":""},null,{"$f":"IF(OR(ISBLANK(L573),ISBLANK(H573)),\"\",H573+(VLOOKUP(L573,garantie,2,FALSE)))","v":""}]
[573,{"$nulls":9},{"$f":"IF(B574=\"\",\"\",D574&\" - \"&F574&\" - \"&G574)","v":""},null,{"$f":"IF(OR(ISBLANK(L574),ISBLANK(H574)),\"\",H574+(VLOOKUP(L574,garantie,2,FALSE)))","v":""}]
[574,{"$nulls":9},{"$f":"IF(B575=\"\",\"\",D575&\" - \"&F575&\" - \"&G575)","v":""},null,{"$f":"IF(OR(ISBLANK(L575),ISBLANK(H575)),\"\",H575+(VLOOKUP(L575,garantie,2,FALSE)))","v":""}]
[575,{"$nulls":9},{"$f":"IF(B576=\"\",\"\",D576&\" - \"&F576&\" - \"&G576)","v":""},null,{"$f":"IF(OR(ISBLANK(L576),ISBLANK(H576)),\"\",H576+(VLOOKUP(L576,garantie,2,FALSE)))","v":""}]
[576,{"$nulls":9},{"$f":"IF(B577=\"\",\"\",D577&\" - \"&F577&\" - \"&G577)","v":""},null,{"$f":"IF(OR(ISBLANK(L577),ISBLANK(H577)),\"\",H577+(VLOOKUP(L577,garantie,2,FALSE)))","v":""}]
[577,{"$nulls":9},{"$f":"IF(B578=\"\",\"\",D578&\" - \"&F578&\" - \"&G578)","v":""},null,{"$f":"IF(OR(ISBLANK(L578),ISBLANK(H578)),\"\",H578+(VLOOKUP(L578,garantie,2,FALSE)))","v":""}]
[578,{"$nulls":9},{"$f":"IF(B579=\"\",\"\",D579&\" - \"&F579&\" - \"&G579)","v":""},null,{"$f":"IF(OR(ISBLANK(L579),ISBLANK(H579)),\"\",H579+(VLOOKUP(L579,garantie,2,FALSE)))","v":""}]
[579,{"$nulls":9},{"$f":"IF(B580=\"\",\"\",D580&\" - \"&F580&\" - \"&G580)","v":""},null,{"$f":"IF(OR(ISBLANK(L580),ISBLANK(H580)),\"\",H580+(VLOOKUP(L580,garantie,2,FALSE)))","v":""}]
[580,{"$nulls":9},{"$f":"IF(B581=\"\",\"\",D581&\" - \"&F581&\" - \"&G581)","v":""},null,{"$f":"IF(OR(ISBLANK(L581),ISBLANK(H581)),\"\",H581+(VLOOKUP(L581,garantie,2,FALSE)))","v":""}]
[581,{"$nulls":9},{"$f":"IF(B582=\"\",\"\",D582&\" - \"&F582&\" - \"&G582)","v":""},null,{"$f":"IF(OR(ISBLANK(L582),ISBLANK(H582)),\"\",H582+(VLOOKUP(L582,garantie,2,FALSE)))","v":""}]
[582,{"$nulls":9},{"$f":"IF(B583=\"\",\"\",D583&\" - \"&F583&\" - \"&G583)","v":""},null,{"$f":"IF(OR(ISBLANK(L583),ISBLANK(H583)),\"\",H583+(VLOOKUP(L583,garantie,2,FALSE)))","v":""}]
[583,{"$nulls":9},{"$f":"IF(B584=\"\",\"\",D584&\" - \"&F584&\" - \"&G584)","v":""},null,{"$f":"IF(OR(ISBLANK(L584),ISBLANK(H584)),\"\",H584+(VLOOKUP(L584,garantie,2,FALSE)))","v":""}]
[584,{"$nulls":9},{"$f":"IF(B585=\"\",\"\",D585&\" - \"&F585&\" - \"&G585)","v":""},null,{"$f":"IF(OR(ISBLANK(L585),ISBLANK(H585)),\"\",H585+(VLOOKUP(L585,garantie,2,FALSE)))","v":""}]
[585,{"$nulls":9},{"$f":"IF(B586=\"\",\"\",D586&\" - \"&F586&\" - \"&G586)","v":""},null,{"$f":"IF(OR(ISBLANK(L586),ISBLANK(H586)),\"\",H586+(VLOOKUP(L586,garantie,2,FALSE)))","v":""}]
[586,{"$nulls":9},{"$f":"IF(B587=\"\",\"\",D587&\" - \"&F587&\" - \"&G587)","v":""},null,{"$f":"IF(OR(ISBLANK(L587),ISBLANK(H587)),\"\",H587+(VLOOKUP(L587,garantie,2,FALSE)))","v":""}]
[587,{"$nulls":9},{"$f":"IF(B588=\"\",\"\",D588&\" - \"&F588&\" - \"&G588)","v":""},null,{"$f":"IF(OR(ISBLANK(L588),ISBLANK(H588)),\"\",H588+(VLOOKUP(L588,garantie,2,FALSE)))","v":""}]
[588,{"$nulls":9},{"$f":"IF(B589=\"\",\"\",D589&\" - \"&F589&\" - \"&G589)","v":""},null,{"$f":"IF(OR(ISBLANK(L589),ISBLANK(H589)),\"\",H589+(VLOOKUP(L589,garantie,2,FALSE)))","v":""}]
[589,{"$nulls":9},{"$f":"IF(B590=\"\",\"\",D590&\" - \"&F590&\" - \"&G590)","v":""},null,{"$f":"IF(OR(ISBLANK(L590),ISBLANK(H590)),\"\",H590+(VLOOKUP(L590,garantie,2,FALSE)))","v":""}]
[590,{"$nulls":9},{"$f":"IF(B591=\"\",\"\",D591&\" - \"&F591&\" - \"&G591)","v":""},null,{"$f":"IF(OR(ISBLANK(L591),ISBLANK(H591)),\"\",H591+(VLOOKUP(L591,garantie,2,FALSE)))","v":""}]
[591,{"$nulls":9},{"$f":"IF(B592=\"\",\"\",D592&\" - \"&F592&\" - \"&G592)","v":""},null,{"$f":"IF(OR(ISBLANK(L592),ISBLANK(H592)),\"\",H592+(VLOOKUP(L592,garantie,2,FALSE)))","v":""}]
[592,{"$nulls":9},{"$f":"IF(B593=\"\",\"\",D593&\" - \"&F593&\" - \"&G593)","v":""},null,{"$f":"IF(OR(ISBLANK(L593),ISBLANK(H593)),\"\",H593+(VLOOKUP(L593,garantie,2,FALSE)))","v":""}]
[593,{"$nulls":9},{"$f":"IF(B594=\"\",\"\",D594&\" - \"&F594&\" - \"&G594)","v":""},null,{"$f":"IF(OR(ISBLANK(L594),ISBLANK(H594)),\"\",H594+(VLOOKUP(L594,garantie,2,FALSE)))","v":""}]
[594,{"$nulls":9},{"$f":"IF(B595=\"\",\"\",D595&\" - \"&F595&\" - \"&G595)","v":""},null,{"$f":"IF(OR(ISBLANK(L595),ISBLANK(H595)),\"\",H595+(VLOOKUP(L595,garantie,2,FALSE)))","v":""}]
[595,{"$nulls":9},{"$f":"IF(B596=\"\",\"\",D596&\" - \"&F596&\" - \"&G596)","v":""},null,{"$f":"IF(OR(ISBLANK(L596),ISBLANK(H596)),\"\",H596+(VLOOKUP(L596,garantie,2,FALSE)))","v":""}]
[596,{"$nulls":9},{"$f":"IF(B597=\"\",\"\",D597&\" - \"&F597&\" - \"&G597)","v":""},null,{"$f":"IF(OR(ISBLANK(L597),ISBLANK(H597)),\"\",H597+(VLOOKUP(L597,garantie,2,FALSE)))","v":""}]
[597,{"$nulls":9},{"$f":"IF(B598=\"\",\"\",D598&\" - \"&F598&\" - \"&G598)","v":""},null,{"$f":"IF(OR(ISBLANK(L598),ISBLANK(H598)),\"\",H598+(VLOOKUP(L598,garantie,2,FALSE)))","v":""}]
[598,{"$nulls":9},{"$f":"IF(B599=\"\",\"\",D599&\" - \"&F599&\" - \"&G599)","v":""},null,{"$f":"IF(OR(ISBLANK(L599),ISBLANK(H599)),\"\",H599+(VLOOKUP(L599,garantie,2,FALSE)))","v":""}]
[599,{"$nulls":9},{"$f":"IF(B600=\"\",\"\",D600&\" - \"&F600&\" - \"&G600)","v":""},null,{"$f":"IF(OR(ISBLANK(L600),ISBLANK(H600)),\"\",H600+(VLOOKUP(L600,garantie,2,FALSE)))","v":""}]
[600,{"$nulls":9},{"$f":"IF(B601=\"\",\"\",D601&\" - \"&F601&\" - \"&G601)","v":""},null,{"$f":"IF(OR(ISBLANK(L601),ISBLANK(H601)),\"\",H601+(VLOOKUP(L601,garantie,2,FALSE)))","v":""}]
[601,{"$nulls":9},{"$f":"IF(B602=\"\",\"\",D602&\" - \"&F602&\" - \"&G602)","v":""},null,{"$f":"IF(OR(ISBLANK(L602),ISBLANK(H602)),\"\",H602+(VLOOKUP(L602,garantie,2,FALSE)))","v":""}]
[602,{"$nulls":9},{"$f":"IF(B603=\"\",\"\",D603&\" - \"&F603&\" - \"&G603)","v":""},null,{"$f":"IF(OR(ISBLANK(L603),ISBLANK(H603)),\"\",H603+(VLOOKUP(L603,garantie,2,FALSE)))","v":""}]
[603,{"$nulls":9},{"$f":"IF(B604=\"\",\"\",D604&\" - \"&F604&\" - \"&G604)","v":""},null,{"$f":"IF(OR(ISBLANK(L604),ISBLANK(H604)),\"\",H604+(VLOOKUP(L604,garantie,2,FALSE)))","v":""}]
[604,{"$nulls":9},{"$f":"IF(B605=\"\",\"\",D605&\" - \"&F605&\" - \"&G605)","v":""},null,{"$f":"IF(OR(ISBLANK(L605),ISBLANK(H605)),\"\",H605+(VLOOKUP(L605,garantie,2,FALSE)))","v":""}]
[605,{"$nulls":9},{"$f":"IF(B606=\"\",\"\",D606&\" - \"&F606&\" - \"&G606)","v":""},null,{"$f":"IF(OR(ISBLANK(L606),ISBLANK(H606)),\"\",H606+(VLOOKUP(L606,garantie,2,FALSE)))","v":""}]
[606,{"$nulls":9},{"$f":"IF(B607=\"\",\"\",D607&\" - \"&F607&\" - \"&G607)","v":""},null,{"$f":"IF(OR(ISBLANK(L607),ISBLANK(H607)),\"\",H607+(VLOOKUP(L607,garantie,2,FALSE)))","v":""}]
[607,{"$nulls":9},{"$f":"IF(B608=\"\",\"\",D608&\" - \"&F608&\" - \"&G608)","v":""},null,{"$f":"IF(OR(ISBLANK(L608),ISBLANK(H608)),\"\",H608+(VLOOKUP(L608,garantie,2,FALSE)))","v":""}]
[608,{"$nulls":9},{"$f":"IF(B609=\"\",\"\",D609&\" - \"&F609&\" - \"&G609)","v":""},null,{"$f":"IF(OR(ISBLANK(L609),ISBLANK(H609)),\"\",H609+(VLOOKUP(L609,garantie,2,FALSE)))","v":""}]
[609,{"$nulls":9},{"$f":"IF(B610=\"\",\"\",D610&\" - \"&F610&\" - \"&G610)","v":""},null,{"$f":"IF(OR(ISBLANK(L610),ISBLANK(H610)),\"\",H610+(VLOOKUP(L610,garantie,2,FALSE)))","v":""}]
[610,{"$nulls":9},{"$f":"IF(B611=\"\",\"\",D611&\" - \"&F611&\" - \"&G611)","v":""},null,{"$f":"IF(OR(ISBLANK(L611),ISBLANK(H611)),\"\",H611+(VLOOKUP(L611,garantie,2,FALSE)))","v":""}]
[611,{"$nulls":9},{"$f":"IF(B612=\"\",\"\",D612&\" - \"&F612&\" - \"&G612)","v":""},null,{"$f":"IF(OR(ISBLANK(L612),ISBLANK(H612)),\"\",H612+(VLOOKUP(L612,garantie,2,FALSE)))","v":""}]
[612,{"$nulls":9},{"$f":"IF(B613=\"\",\"\",D613&\" - \"&F613&\" - \"&G613)","v":""},null,{"$f":"IF(OR(ISBLANK(L613),ISBLANK(H613)),\"\",H613+(VLOOKUP(L613,garantie,2,FALSE)))","v":""}]
[613,{"$nulls":9},{"$f":"IF(B614=\"\",\"\",D614&\" - \"&F614&\" - \"&G614)","v":""},null,{"$f":"IF(OR(ISBLANK(L614),ISBLANK(H614)),\"\",H614+(VLOOKUP(L614,garantie,2,FALSE)))","v":""}]
[614,{"$nulls":9},{"$f":"IF(B615=\"\",\"\",D615&\" - \"&F615&\" - \"&G615)","v":""},null,{"$f":"IF(OR(ISBLANK(L615),ISBLANK(H615)),\"\",H615+(VLOOKUP(L615,garantie,2,FALSE)))","v":""}]
[615,{"$nulls":9},{"$f":"IF(B616=\"\",\"\",D616&\" - \"&F616&\" - \"&G616)","v":""},null,{"$f":"IF(OR(ISBLANK(L616),ISBLANK(H616)),\"\",H616+(VLOOKUP(L616,garantie,2,FALSE)))","v":""}]
[616,{"$nulls":9},{"$f":"IF(B617=\"\",\"\",D617&\" - \"&F617&\" - \"&G617)","v":""},null,{"$f":"IF(OR(ISBLANK(L617),ISBLANK(H617)),\"\",H617+(VLOOKUP(L617,garantie,2,FALSE)))","v":""}]
[617,{"$nulls":9},{"$f":"IF(B618=\"\",\"\",D618&\" - \"&F618&\" - \"&G618)","v":""},null,{"$f":"IF(OR(ISBLANK(L618),ISBLANK(H618)),\"\",H618+(VLOOKUP(L618,garantie,2,FALSE)))","v":""}]
[618,{"$nulls":9},{"$f":"IF(B619=\"\",\"\",D619&\" - \"&F619&\" - \"&G619)","v":""},null,{"$f":"IF(OR(ISBLANK(L619),ISBLANK(H619)),\"\",H619+(VLOOKUP(L619,garantie,2,FALSE)))","v":""}]
[619,{"$nulls":9},{"$f":"IF(B620=\"\",\"\",D620&\" - \"&F620&\" - \"&G620)","v":""},null,{"$f":"IF(OR(ISBLANK(L620),ISBLANK(H620)),\"\",H620+(VLOOKUP(L620,garantie,2,FALSE)))","v":""}]
[620,{"$nulls":9},{"$f":"IF(B621=\"\",\"\",D621&\" - \"&F621&\" - \"&G621)","v":""},null,{"$f":"IF(OR(ISBLANK(L621),ISBLANK(H621)),\"\",H621+(VLOOKUP(L621,garantie,2,FALSE)))","v":""}]
[621,{"$nulls":9},{"$f":"IF(B622=\"\",\"\",D622&\" - \"&F622&\" - \"&G622)","v":""},null,{"$f":"IF(OR(ISBLANK(L622),ISBLANK(H622)),\"\",H622+(VLOOKUP(L622,garantie,2,FALSE)))","v":""}]
[622,{"$nulls":9},{"$f":"IF(B623=\"\",\"\",D623&\" - \"&F623&\" - \"&G623)","v":""},null,{"$f":"IF(OR(ISBLANK(L623),ISBLANK(H623)),\"\",H623+(VLOOKUP(L623,garantie,2,FALSE)))","v":""}]
[623,{"$nulls":9},{"$f":"IF(B624=\"\",\"\",D624&\" - \"&F624&\" - \"&G624)","v":""},null,{"$f":"IF(OR(ISBLANK(L624),ISBLANK(H624)),\"\",H624+(VLOOKUP(L624,garantie,2,FALSE)))","v":""}]
[624,{"$nulls":9},{"$f":"IF(B625=\"\",\"\",D625&\" - \"&F625&\" - \"&G625)","v":""},null,{"$f":"IF(OR(ISBLANK(L625),ISBLANK(H625)),\"\",H625+(VLOOKUP(L625,garantie,2,FALSE)))","v":""}]
[625,{"$nulls":9},{"$f":"IF(B626=\"\",\"\",D626&\" - \"&F626&\" - \"&G626)","v":""},null,{"$f":"IF(OR(ISBLANK(L626),ISBLANK(H626)),\"\",H626+(VLOOKUP(L626,garantie,2,FALSE)))","v":""}]
[626,{"$nulls":9},{"$f":"IF(B627=\"\",\"\",D627&\" - \"&F627&\" - \"&G627)","v":""},null,{"$f":"IF(OR(ISBLANK(L627),ISBLANK(H627)),\"\",H627+(VLOOKUP(L627,garantie,2,FALSE)))","v":""}]
[627,{"$nulls":9},{"$f":"IF(B628=\"\",\"\",D628&\" - \"&F628&\" - \"&G628)","v":""},null,{"$f":"IF(OR(ISBLANK(L628),ISBLANK(H628)),\"\",H628+(VLOOKUP(L628,garantie,2,FALSE)))","v":""}]
[628,{"$nulls":9},{"$f":"IF(B629=\"\",\"\",D629&\" - \"&F629&\" - \"&G629)","v":""},null,{"$f":"IF(OR(ISBLANK(L629),ISBLANK(H629)),\"\",H629+(VLOOKUP(L629,garantie,2,FALSE)))","v":""}]
[629,{"$nulls":9},{"$f":"IF(B630=\"\",\"\",D630&\" - \"&F630&\" - \"&G630)","v":""},null,{"$f":"IF(OR(ISBLANK(L630),ISBLANK(H630)),\"\",H630+(VLOOKUP(L630,garantie,2,FALSE)))","v":""}]
[630,{"$nulls":9},{"$f":"IF(B631=\"\",\"\",D631&\" - \"&F631&\" - \"&G631)","v":""},null,{"$f":"IF(OR(ISBLANK(L631),ISBLANK(H631)),\"\",H631+(VLOOKUP(L631,garantie,2,FALSE)))","v":""}]
[631,{"$nulls":9},{"$f":"IF(B632=\"\",\"\",D632&\" - \"&F632&\" - \"&G632)","v":""},null,{"$f":"IF(OR(ISBLANK(L632),ISBLANK(H632)),\"\",H632+(VLOOKUP(L632,garantie,2,FALSE)))","v":""}]
[632,{"$nulls":9},{"$f":"IF(B633=\"\",\"\",D633&\" - \"&F633&\" - \"&G633)","v":""},null,{"$f":"IF(OR(ISBLANK(L633),ISBLANK(H633)),\"\",H633+(VLOOKUP(L633,garantie,2,FALSE)))","v":""}]
[633,{"$nulls":9},{"$f":"IF(B634=\"\",\"\",D634&\" - \"&F634&\" - \"&G634)","v":""},null,{"$f":"IF(OR(ISBLANK(L634),ISBLANK(H634)),\"\",H634+(VLOOKUP(L634,garantie,2,FALSE)))","v":""}]
[634,{"$nulls":9},{"$f":"IF(B635=\"\",\"\",D635&\" - \"&F635&\" - \"&G635)","v":""},null,{"$f":"IF(OR(ISBLANK(L635),ISBLANK(H635)),\"\",H635+(VLOOKUP(L635,garantie,2,FALSE)))","v":""}]
[635,{"$nulls":9},{"$f":"IF(B636=\"\",\"\",D636&\" - \"&F636&\" - \"&G636)","v":""},null,{"$f":"IF(OR(ISBLANK(L636),ISBLANK(H636)),\"\",H636+(VLOOKUP(L636,garantie,2,FALSE)))","v":""}]
[636,{"$nulls":9},{"$f":"IF(B637=\"\",\"\",D637&\" - \"&F637&\" - \"&G637)","v":""},null,{"$f":"IF(OR(ISBLANK(L637),ISBLANK(H637)),\"\",H637+(VLOOKUP(L637,garantie,2,FALSE)))","v":""}]
[637,{"$nulls":9},{"$f":"IF(B638=\"\",\"\",D638&\" - \"&F638&\" - \"&G638)","v":""},null,{"$f":"IF(OR(ISBLANK(L638),ISBLANK(H638)),\"\",H638+(VLOOKUP(L638,garantie,2,FALSE)))","v":""}]
[638,{"$nulls":9},{"$f":"IF(B639=\"\",\"\",D639&\" - \"&F639&\" - \"&G639)","v":""},null,{"$f":"IF(OR(ISBLANK(L639),ISBLANK(H639)),\"\",H639+(VLOOKUP(L639,garantie,2,FALSE)))","v":""}]
[639,{"$nulls":9},{"$f":"IF(B640=\"\",\"\",D640&\" - \"&F640&\" - \"&G640)","v":""},null,{"$f":"IF(OR(ISBLANK(L640),ISBLANK(H640)),\"\",H640+(VLOOKUP(L640,garantie,2,FALSE)))","v":""}]
[640,{"$nulls":9},{"$f":"IF(B641=\"\",\"\",D641&\" - \"&F641&\" - \"&G641)","v":""},null,{"$f":"IF(OR(ISBLANK(L641),ISBLANK(H641)),\"\",H641+(VLOOKUP(L641,garantie,2,FALSE)))","v":""}]
[641,{"$nulls":9},{"$f":"IF(B642=\"\",\"\",D642&\" - \"&F642&\" - \"&G642)","v":""},null,{"$f":"IF(OR(ISBLANK(L642),ISBLANK(H642)),\"\",H642+(VLOOKUP(L642,garantie,2,FALSE)))","v":""}]
[642,{"$nulls":9},{"$f":"IF(B643=\"\",\"\",D643&\" - \"&F643&\" - \"&G643)","v":""},null,{"$f":"IF(OR(ISBLANK(L643),ISBLANK(H643)),\"\",H643+(VLOOKUP(L643,garantie,2,FALSE)))","v":""}]
[643,{"$nulls":9},{"$f":"IF(B644=\"\",\"\",D644&\" - \"&F644&\" - \"&G644)","v":""},null,{"$f":"IF(OR(ISBLANK(L644),ISBLANK(H644)),\"\",H644+(VLOOKUP(L644,garantie,2,FALSE)))","v":""}]
[644,{"$nulls":9},{"$f":"IF(B645=\"\",\"\",D645&\" - \"&F645&\" - \"&G645)","v":""},null,{"$f":"IF(OR(ISBLANK(L645),ISBLANK(H645)),\"\",H645+(VLOOKUP(L645,garantie,2,FALSE)))","v":""}]
[645,{"$nulls":9},{"$f":"IF(B646=\"\",\"\",D646&\" - \"&F646&\" - \"&G646)","v":""},null,{"$f":"IF(OR(ISBLANK(L646),ISBLANK(H646)),\"\",H646+(VLOOKUP(L646,garantie,2,FALSE)))","v":""}]
[646,{"$nulls":9},{"$f":"IF(B647=\"\",\"\",D647&\" - \"&F647&\" - \"&G647)","v":""},null,{"$f":"IF(OR(ISBLANK(L647),ISBLANK(H647)),\"\",H647+(VLOOKUP(L647,garantie,2,FALSE)))","v":""}]
[647,{"$nulls":9},{"$f":"IF(B648=\"\",\"\",D648&\" - \"&F648&\" - \"&G648)","v":""},null,{"$f":"IF(OR(ISBLANK(L648),ISBLANK(H648)),\"\",H648+(VLOOKUP(L648,garantie,2,FALSE)))","v":""}]
[648,{"$nulls":9},{"$f":"IF(B649=\"\",\"\",D649&\" - \"&F649&\" - \"&G649)","v":""},null,{"$f":"IF(OR(ISBLANK(L649),ISBLANK(H649)),\"\",H649+(VLOOKUP(L649,garantie,2,FALSE)))","v":""}]
[649,{"$nulls":9},{"$f":"IF(B650=\"\",\"\",D650&\" - \"&F650&\" - \"&G650)","v":""},null,{"$f":"IF(OR(ISBLANK(L650),ISBLANK(H650)),\"\",H650+(VLOOKUP(L650,garantie,2,FALSE)))","v":""}]
[650,{"$nulls":9},{"$f":"IF(B651=\"\",\"\",D651&\" - \"&F651&\" - \"&G651)","v":""},null,{"$f":"IF(OR(ISBLANK(L651),ISBLANK(H651)),\"\",H651+(VLOOKUP(L651,garantie,2,FALSE)))","v":""}]
[651,{"$nulls":9},{"$f":"IF(B652=\"\",\"\",D652&\" - \"&F652&\" - \"&G652)","v":""},null,{"$f":"IF(OR(ISBLANK(L652),ISBLANK(H652)),\"\",H652+(VLOOKUP(L652,garantie,2,FALSE)))","v":""}]
[652,{"$nulls":9},{"$f":"IF(B653=\"\",\"\",D653&\" - \"&F653&\" - \"&G653)","v":""},null,{"$f":"IF(OR(ISBLANK(L653),ISBLANK(H653)),\"\",H653+(VLOOKUP(L653,garantie,2,FALSE)))","v":""}]
[653,{"$nulls":9},{"$f":"IF(B654=\"\",\"\",D654&\" - \"&F654&\" - \"&G654)","v":""},null,{"$f":"IF(OR(ISBLANK(L654),ISBLANK(H654)),\"\",H654+(VLOOKUP(L654,garantie,2,FALSE)))","v":""}]
[654,{"$nulls":9},{"$f":"IF(B655=\"\",\"\",D655&\" - \"&F655&\" - \"&G655)","v":""},null,{"$f":"IF(OR(ISBLANK(L655),ISBLANK(H655)),\"\",H655+(VLOOKUP(L655,garantie,2,FALSE)))","v":""}]
[655,{"$nulls":9},{"$f":"IF(B656=\"\",\"\",D656&\" - \"&F656&\" - \"&G656)","v":""},null,{"$f":"IF(OR(ISBLANK(L656),ISBLANK(H656)),\"\",H656+(VLOOKUP(L656,garantie,2,FALSE)))","v":""}]
[656,{"$nulls":9},{"$f":"IF(B657=\"\",\"\",D657&\" - \"&F657&\" - \"&G657)","v":""},null,{"$f":"IF(OR(ISBLANK(L657),ISBLANK(H657)),\"\",H657+(VLOOKUP(L657,garantie,2,FALSE)))","v":""}]
[657,{"$nulls":9},{"$f":"IF(B658=\"\",\"\",D658&\" - \"&F658&\" - \"&G658)","v":""},null,{"$f":"IF(OR(ISBLANK(L658),ISBLANK(H658)),\"\",H658+(VLOOKUP(L658,garantie,2,FALSE)))","v":""}]
[658,{"$nulls":9},{"$f":"IF(B659=\"\",\"\",D659&\" - \"&F659&\" - \"&G659)","v":""},null,{"$f":"IF(OR(ISBLANK(L659),ISBLANK(H659)),\"\",H659+(VLOOKUP(L659,garantie,2,FALSE)))","v":""}]
[659,{"$nulls":9},{"$f":"IF(B660=\"\",\"\",D660&\" - \"&F660&\" - \"&G660)","v":""},null,{"$f":"IF(OR(ISBLANK(L660),ISBLANK(H660)),\"\",H660+(VLOOKUP(L660,garantie,2,FALSE)))","v":""}]
[660,{"$nulls":9},{"$f":"IF(B661=\"\",\"\",D661&\" - \"&F661&\" - \"&G661)","v":""},null,{"$f":"IF(OR(ISBLANK(L661),ISBLANK(H661)),\"\",H661+(VLOOKUP(L661,garantie,2,FALSE)))","v":""}]
[661,{"$nulls":9},{"$f":"IF(B662=\"\",\"\",D662&\" - \"&F662&\" - \"&G662)","v":""},null,{"$f":"IF(OR(ISBLANK(L662),ISBLANK(H662)),\"\",H662+(VLOOKUP(L662,garantie,2,FALSE)))","v":""}]
[662,{"$nulls":9},{"$f":"IF(B663=\"\",\"\",D663&\" - \"&F663&\" - \"&G663)","v":""},null,{"$f":"IF(OR(ISBLANK(L663),ISBLANK(H663)),\"\",H663+(VLOOKUP(L663,garantie,2,FALSE)))","v":""}]
[663,{"$nulls":9},{"$f":"IF(B664=\"\",\"\",D664&\" - \"&F664&\" - \"&G664)","v":""},null,{"$f":"IF(OR(ISBLANK(L664),ISBLANK(H664)),\"\",H664+(VLOOKUP(L664,garantie,2,FALSE)))","v":""}]
[664,{"$nulls":9},{"$f":"IF(B665=\"\",\"\",D665&\" - \"&F665&\" - \"&G665)","v":""},null,{"$f":"IF(OR(ISBLANK(L665),ISBLANK(H665)),\"\",H665+(VLOOKUP(L665,garantie,2,FALSE)))","v":""}]
[665,{"$nulls":9},{"$f":"IF(B666=\"\",\"\",D666&\" - \"&F666&\" - \"&G666)","v":""},null,{"$f":"IF(OR(ISBLANK(L666),ISBLANK(H666)),\"\",H666+(VLOOKUP(L666,garantie,2,FALSE)))","v":""}]
[666,{"$nulls":9},{"$f":"IF(B667=\"\",\"\",D667&\" - \"&F667&\" - \"&G667)","v":""},null,{"$f":"IF(OR(ISBLANK(L667),ISBLANK(H667)),\"\",H667+(VLOOKUP(L667,garantie,2,FALSE)))","v":""}]
[667,{"$nulls":9},{"$f":"IF(B668=\"\",\"\",D668&\" - \"&F668&\" - \"&G668)","v":""},null,{"$f":"IF(OR(ISBLANK(L668),ISBLANK(H668)),\"\",H668+(VLOOKUP(L668,garantie,2,FALSE)))","v":""}]
[668,{"$nulls":9},{"$f":"IF(B669=\"\",\"\",D669&\" - \"&F669&\" - \"&G669)","v":""},null,{"$f":"IF(OR(ISBLANK(L669),ISBLANK(H669)),\"\",H669+(VLOOKUP(L669,garantie,2,FALSE)))","v":""}]
[669,{"$nulls":9},{"$f":"IF(B670=\"\",\"\",D670&\" - \"&F670&\" - \"&G670)","v":""},null,{"$f":"IF(OR(ISBLANK(L670),ISBLANK(H670)),\"\",H670+(VLOOKUP(L670,garantie,2,FALSE)))","v":""}]
[670,{"$nulls":9},{"$f":"IF(B671=\"\",\"\",D671&\" - \"&F671&\" - \"&G671)","v":""},null,{"$f":"IF(OR(ISBLANK(L671),ISBLANK(H671)),\"\",H671+(VLOOKUP(L671,garantie,2,FALSE)))","v":""}]
[671,{"$nulls":9},{"$f":"IF(B672=\"\",\"\",D672&\" - \"&F672&\" - \"&G672)","v":""},null,{"$f":"IF(OR(ISBLANK(L672),ISBLANK(H672)),\"\",H672+(VLOOKUP(L672,garantie,2,FALSE)))","v":""}]
[672,{"$nulls":9},{"$f":"IF(B673=\"\",\"\",D673&\" - \"&F673&\" - \"&G673)","v":""},null,{"$f":"IF(OR(ISBLANK(L673),ISBLANK(H673)),\"\",H673+(VLOOKUP(L673,garantie,2,FALSE)))","v":""}]
[673,{"$nulls":9},{"$f":"IF(B674=\"\",\"\",D674&\" - \"&F674&\" - \"&G674)","v":""},null,{"$f":"IF(OR(ISBLANK(L674),ISBLANK(H674)),\"\",H674+(VLOOKUP(L674,garantie,2,FALSE)))","v":""}]
[674,{"$nulls":9},{"$f":"IF(B675=\"\",\"\",D675&\" - \"&F675&\" - \"&G675)","v":""},null,{"$f":"IF(OR(ISBLANK(L675),ISBLANK(H675)),\"\",H675+(VLOOKUP(L675,garantie,2,FALSE)))","v":""}]
[675,{"$nulls":9},{"$f":"IF(B676=\"\",\"\",D676&\" - \"&F676&\" - \"&G676)","v":""},null,{"$f":"IF(OR(ISBLANK(L676),ISBLANK(H676)),\"\",H676+(VLOOKUP(L676,garantie,2,FALSE)))","v":""}]
[676,{"$nulls":9},{"$f":"IF(B677=\"\",\"\",D677&\" - \"&F677&\" - \"&G677)","v":""},null,{"$f":"IF(OR(ISBLANK(L677),ISBLANK(H677)),\"\",H677+(VLOOKUP(L677,garantie,2,FALSE)))","v":""}]
[677,{"$nulls":9},{"$f":"IF(B678=\"\",\"\",D678&\" - \"&F678&\" - \"&G678)","v":""},null,{"$f":"IF(OR(ISBLANK(L678),ISBLANK(H678)),\"\",H678+(VLOOKUP(L678,garantie,2,FALSE)))","v":""}]
[678,{"$nulls":9},{"$f":"IF(B679=\"\",\"\",D679&\" - \"&F679&\" - \"&G679)","v":""},null,{"$f":"IF(OR(ISBLANK(L679),ISBLANK(H679)),\"\",H679+(VLOOKUP(L679,garantie,2,FALSE)))","v":""}]
[679,{"$nulls":9},{"$f":"IF(B680=\"\",\"\",D680&\" - \"&F680&\" - \"&G680)","v":""},null,{"$f":"IF(OR(ISBLANK(L680),ISBLANK(H680)),\"\",H680+(VLOOKUP(L680,garantie,2,FALSE)))","v":""}]
[680,{"$nulls":9},{"$f":"IF(B681=\"\",\"\",D681&\" - \"&F681&\" - \"&G681)","v":""},null,{"$f":"IF(OR(ISBLANK(L681),ISBLANK(H681)),\"\",H681+(VLOOKUP(L681,garantie,2,FALSE)))","v":""}]
[681,{"$nulls":9},{"$f":"IF(B682=\"\",\"\",D682&\" - \"&F682&\" - \"&G682)","v":""},null,{"$f":"IF(OR(ISBLANK(L682),ISBLANK(H682)),\"\",H682+(VLOOKUP(L682,garantie,2,FALSE)))","v":""}]
[682,{"$nulls":9},{"$f":"IF(B683=\"\",\"\",D683&\" - \"&F683&\" - \"&G683)","v":""},null,{"$f":"IF(OR(ISBLANK(L683),ISBLANK(H683)),\"\",H683+(VLOOKUP(L683,garantie,2,FALSE)))","v":""}]
[683,{"$nulls":9},{"$f":"IF(B684=\"\",\"\",D684&\" - \"&F684&\" - \"&G684)","v":""},null,{"$f":"IF(OR(ISBLANK(L684),ISBLANK(H684)),\"\",H684+(VLOOKUP(L684,garantie,2,FALSE)))","v":""}]
[684,{"$nulls":9},{"$f":"IF(B685=\"\",\"\",D685&\" - \"&F685&\" - \"&G685)","v":""},null,{"$f":"IF(OR(ISBLANK(L685),ISBLANK(H685)),\"\",H685+(VLOOKUP(L685,garantie,2,FALSE)))","v":""}]
[685,{"$nulls":9},{"$f":"IF(B686=\"\",\"\",D686&\" - \"&F686&\" - \"&G686)","v":""},null,{"$f":"IF(OR(ISBLANK(L686),ISBLANK(H686)),\"\",H686+(VLOOKUP(L686,garantie,2,FALSE)))","v":""}]
[686,{"$nulls":9},{"$f":"IF(B687=\"\",\"\",D687&\" - \"&F687&\" - \"&G687)","v":""},null,{"$f":"IF(OR(ISBLANK(L687),ISBLANK(H687)),\"\",H687+(VLOOKUP(L687,garantie,2,FALSE)))","v":""}]
[687,{"$nulls":9},{"$f":"IF(B688=\"\",\"\",D688&\" - \"&F688&\" - \"&G688)","v":""},null,{"$f":"IF(OR(ISBLANK(L688),ISBLANK(H688)),\"\",H688+(VLOOKUP(L688,garantie,2,FALSE)))","v":""}]
[688,{"$nulls":9},{"$f":"IF(B689=\"\",\"\",D689&\" - \"&F689&\" - \"&G689)","v":""},null,{"$f":"IF(OR(ISBLANK(L689),ISBLANK(H689)),\"\",H689+(VLOOKUP(L689,garantie,2,FALSE)))","v":""}]
[689,{"$nulls":9},{"$f":"IF(B690=\"\",\"\",D690&\" - \"&F690&\" - \"&G690)","v":""},null,{"$f":"IF(OR(ISBLANK(L690),ISBLANK(H690)),\"\",H690+(VLOOKUP(L690,garantie,2,FALSE)))","v":""}]
[690,{"$nulls":9},{"$f":"IF(B691=\"\",\"\",D691&\" - \"&F691&\" - \"&G691)","v":""},null,{"$f":"IF(OR(ISBLANK(L691),ISBLANK(H691)),\"\",H691+(VLOOKUP(L691,garantie,2,FALSE)))","v":""}]
[691,{"$nulls":9},{"$f":"IF(B692=\"\",\"\",D692&\" - \"&F692&\" - \"&G692)","v":""},null,{"$f":"IF(OR(ISBLANK(L692),ISBLANK(H692)),\"\",H692+(VLOOKUP(L692,garantie,2,FALSE)))","v":""}]
[692,{"$nulls":9},{"$f":"IF(B693=\"\",\"\",D693&\" - \"&F693&\" - \"&G693)","v":""},null,{"$f":"IF(OR(ISBLANK(L693),ISBLANK(H693)),\"\",H693+(VLOOKUP(L693,garantie,2,FALSE)))","v":""}]
[693,{"$nulls":9},{"$f":"IF(B694=\"\",\"\",D694&\" - \"&F694&\" - \"&G694)","v":""},null,{"$f":"IF(OR(ISBLANK(L694),ISBLANK(H694)),\"\",H694+(VLOOKUP(L694,garantie,2,FALSE)))","v":""}]
[694,{"$nulls":9},{"$f":"IF(B695=\"\",\"\",D695&\" - \"&F695&\" - \"&G695)","v":""},null,{"$f":"IF(OR(ISBLANK(L695),ISBLANK(H695)),\"\",H695+(VLOOKUP(L695,garantie,2,FALSE)))","v":""}]
[695,{"$nulls":9},{"$f":"IF(B696=\"\",\"\",D696&\" - \"&F696&\" - \"&G696)","v":""},null,{"$f":"IF(OR(ISBLANK(L696),ISBLANK(H696)),\"\",H696+(VLOOKUP(L696,garantie,2,FALSE)))","v":""}]
[696,{"$nulls":9},{"$f":"IF(B697=\"\",\"\",D697&\" - \"&F697&\" - \"&G697)","v":""},null,{"$f":"IF(OR(ISBLANK(L697),ISBLANK(H697)),\"\",H697+(VLOOKUP(L697,garantie,2,FALSE)))","v":""}]
[697,{"$nulls":9},{"$f":"IF(B698=\"\",\"\",D698&\" - \"&F698&\" - \"&G698)","v":""},null,{"$f":"IF(OR(ISBLANK(L698),ISBLANK(H698)),\"\",H698+(VLOOKUP(L698,garantie,2,FALSE)))","v":""}]
[698,{"$nulls":9},{"$f":"IF(B699=\"\",\"\",D699&\" - \"&F699&\" - \"&G699)","v":""},null,{"$f":"IF(OR(ISBLANK(L699),ISBLANK(H699)),\"\",H699+(VLOOKUP(L699,garantie,2,FALSE)))","v":""}]
[699,{"$nulls":9},{"$f":"IF(B700=\"\",\"\",D700&\" - \"&F700&\" - \"&G700)","v":""},null,{"$f":"IF(OR(ISBLANK(L700),ISBLANK(H700)),\"\",H700+(VLOOKUP(L700,garantie,2,FALSE)))","v":""}]
[700,{"$nulls":9},{"$f":"IF(B701=\"\",\"\",D701&\" - \"&F701&\" - \"&G701)","v":""},null,{"$f":"IF(OR(ISBLANK(L701),ISBLANK(H701)),\"\",H701+(VLOOKUP(L701,garantie,2,FALSE)))","v":""}]
[701,{"$nulls":9},{"$f":"IF(B702=\"\",\"\",D702&\" - \"&F702&\" - \"&G702)","v":""},null,{"$f":"IF(OR(ISBLANK(L702),ISBLANK(H702)),\"\",H702+(VLOOKUP(L702,garantie,2,FALSE)))","v":""}]
[702,{"$nulls":9},{"$f":"IF(B703=\"\",\"\",D703&\" - \"&F703&\" - \"&G703)","v":""},null,{"$f":"IF(OR(ISBLANK(L703),ISBLANK(H703)),\"\",H703+(VLOOKUP(L703,garantie,2,FALSE)))","v":""}]
[703,{"$nulls":9},{"$f":"IF(B704=\"\",\"\",D704&\" - \"&F704&\" - \"&G704)","v":""},null,{"$f":"IF(OR(ISBLANK(L704),ISBLANK(H704)),\"\",H704+(VLOOKUP(L704,garantie,2,FALSE)))","v":""}]
[704,{"$nulls":9},{"$f":"IF(B705=\"\",\"\",D705&\" - \"&F705&\" - \"&G705)","v":""},null,{"$f":"IF(OR(ISBLANK(L705),ISBLANK(H705)),\"\",H705+(VLOOKUP(L705,garantie,2,FALSE)))","v":""}]
[705,{"$nulls":9},{"$f":"IF(B706=\"\",\"\",D706&\" - \"&F706&\" - \"&G706)","v":""},null,{"$f":"IF(OR(ISBLANK(L706),ISBLANK(H706)),\"\",H706+(VLOOKUP(L706,garantie,2,FALSE)))","v":""}]
[706,{"$nulls":9},{"$f":"IF(B707=\"\",\"\",D707&\" - \"&F707&\" - \"&G707)","v":""},null,{"$f":"IF(OR(ISBLANK(L707),ISBLANK(H707)),\"\",H707+(VLOOKUP(L707,garantie,2,FALSE)))","v":""}]
[707,{"$nulls":9},{"$f":"IF(B708=\"\",\"\",D708&\" - \"&F708&\" - \"&G708)","v":""},null,{"$f":"IF(OR(ISBLANK(L708),ISBLANK(H708)),\"\",H708+(VLOOKUP(L708,garantie,2,FALSE)))","v":""}]
[708,{"$nulls":9},{"$f":"IF(B709=\"\",\"\",D709&\" - \"&F709&\" - \"&G709)","v":""},null,{"$f":"IF(OR(ISBLANK(L709),ISBLANK(H709)),\"\",H709+(VLOOKUP(L709,garantie,2,FALSE)))","v":""}]
[709,{"$nulls":9},{"$f":"IF(B710=\"\",\"\",D710&\" - \"&F710&\" - \"&G710)","v":""},null,{"$f":"IF(OR(ISBLANK(L710),ISBLANK(H710)),\"\",H710+(VLOOKUP(L710,garantie,2,FALSE)))","v":""}]
[710,{"$nulls":9},{"$f":"IF(B711=\"\",\"\",D711&\" - \"&F711&\" - \"&G711)","v":""},null,{"$f":"IF(OR(ISBLANK(L711),ISBLANK(H711)),\"\",H711+(VLOOKUP(L711,garantie,2,FALSE)))","v":""}]
[711,{"$nulls":9},{"$f":"IF(B712=\"\",\"\",D712&\" - \"&F712&\" - \"&G712)","v":""},null,{"$f":"IF(OR(ISBLANK(L712),ISBLANK(H712)),\"\",H712+(VLOOKUP(L712,garantie,2,FALSE)))","v":""}]
[712,{"$nulls":9},{"$f":"IF(B713=\"\",\"\",D713&\" - \"&F713&\" - \"&G713)","v":""},null,{"$f":"IF(OR(ISBLANK(L713),ISBLANK(H713)),\"\",H713+(VLOOKUP(L713,garantie,2,FALSE)))","v":""}]
[713,{"$nulls":9},{"$f":"IF(B714=\"\",\"\",D714&\" - \"&F714&\" - \"&G714)","v":""},null,{"$f":"IF(OR(ISBLANK(L714),ISBLANK(H714)),\"\",H714+(VLOOKUP(L714,garantie,2,FALSE)))","v":""}]
[714,{"$nulls":9},{"$f":"IF(B715=\"\",\"\",D715&\" - \"&F715&\" - \"&G715)","v":""},null,{"$f":"IF(OR(ISBLANK(L715),ISBLANK(H715)),\"\",H715+(VLOOKUP(L715,garantie,2,FALSE)))","v":""}]
[715,{"$nulls":9},{"$f":"IF(B716=\"\",\"\",D716&\" - \"&F716&\" - \"&G716)","v":""},null,{"$f":"IF(OR(ISBLANK(L716),ISBLANK(H716)),\"\",H716+(VLOOKUP(L716,garantie,2,FALSE)))","v":""}]
[716,{"$nulls":9},{"$f":"IF(B717=\"\",\"\",D717&\" - \"&F717&\" - \"&G717)","v":""},null,{"$f":"IF(OR(ISBLANK(L717),ISBLANK(H717)),\"\",H717+(VLOOKUP(L717,garantie,2,FALSE)))","v":""}]
[717,{"$nulls":9},{"$f":"IF(B718=\"\",\"\",D718&\" - \"&F718&\" - \"&G718)","v":""},null,{"$f":"IF(OR(ISBLANK(L718),ISBLANK(H718)),\"\",H718+(VLOOKUP(L718,garantie,2,FALSE)))","v":""}]
[718,{"$nulls":9},{"$f":"IF(B719=\"\",\"\",D719&\" - \"&F719&\" - \"&G719)","v":""},null,{"$f":"IF(OR(ISBLANK(L719),ISBLANK(H719)),\"\",H719+(VLOOKUP(L719,garantie,2,FALSE)))","v":""}]
[719,{"$nulls":9},{"$f":"IF(B720=\"\",\"\",D720&\" - \"&F720&\" - \"&G720)","v":""},null,{"$f":"IF(OR(ISBLANK(L720),ISBLANK(H720)),\"\",H720+(VLOOKUP(L720,garantie,2,FALSE)))","v":""}]
[720,{"$nulls":9},{"$f":"IF(B721=\"\",\"\",D721&\" - \"&F721&\" - \"&G721)","v":""},null,{"$f":"IF(OR(ISBLANK(L721),ISBLANK(H721)),\"\",H721+(VLOOKUP(L721,garantie,2,FALSE)))","v":""}]
[721,{"$nulls":9},{"$f":"IF(B722=\"\",\"\",D722&\" - \"&F722&\" - \"&G722)","v":""},null,{"$f":"IF(OR(ISBLANK(L722),ISBLANK(H722)),\"\",H722+(VLOOKUP(L722,garantie,2,FALSE)))","v":""}]
[722,{"$nulls":9},{"$f":"IF(B723=\"\",\"\",D723&\" - \"&F723&\" - \"&G723)","v":""},null,{"$f":"IF(OR(ISBLANK(L723),ISBLANK(H723)),\"\",H723+(VLOOKUP(L723,garantie,2,FALSE)))","v":""}]
[723,{"$nulls":9},{"$f":"IF(B724=\"\",\"\",D724&\" - \"&F724&\" - \"&G724)","v":""},null,{"$f":"IF(OR(ISBLANK(L724),ISBLANK(H724)),\"\",H724+(VLOOKUP(L724,garantie,2,FALSE)))","v":""}]
[724,{"$nulls":9},{"$f":"IF(B725=\"\",\"\",D725&\" - \"&F725&\" - \"&G725)","v":""},null,{"$f":"IF(OR(ISBLANK(L725),ISBLANK(H725)),\"\",H725+(VLOOKUP(L725,garantie,2,FALSE)))","v":""}]
[725,{"$nulls":9},{"$f":"IF(B726=\"\",\"\",D726&\" - \"&F726&\" - \"&G726)","v":""},null,{"$f":"IF(OR(ISBLANK(L726),ISBLANK(H726)),\"\",H726+(VLOOKUP(L726,garantie,2,FALSE)))","v":""}]
[726,{"$nulls":9},{"$f":"IF(B727=\"\",\"\",D727&\" - \"&F727&\" - \"&G727)","v":""},null,{"$f":"IF(OR(ISBLANK(L727),ISBLANK(H727)),\"\",H727+(VLOOKUP(L727,garantie,2,FALSE)))","v":""}]
[727,{"$nulls":9},{"$f":"IF(B728=\"\",\"\",D728&\" - \"&F728&\" - \"&G728)","v":""},null,{"$f":"IF(OR(ISBLANK(L728),ISBLANK(H728)),\"\",H728+(VLOOKUP(L728,garantie,2,FALSE)))","v":""}]
[728,{"$nulls":9},{"$f":"IF(B729=\"\",\"\",D729&\" - \"&F729&\" - \"&G729)","v":""},null,{"$f":"IF(OR(ISBLANK(L729),ISBLANK(H729)),\"\",H729+(VLOOKUP(L729,garantie,2,FALSE)))","v":""}]
[729,{"$nulls":9},{"$f":"IF(B730=\"\",\"\",D730&\" - \"&F730&\" - \"&G730)","v":""},null,{"$f":"IF(OR(ISBLANK(L730),ISBLANK(H730)),\"\",H730+(VLOOKUP(L730,garantie,2,FALSE)))","v":""}]
[730,{"$nulls":9},{"$f":"IF(B731=\"\",\"\",D731&\" - \"&F731&\" - \"&G731)","v":""},null,{"$f":"IF(OR(ISBLANK(L731),ISBLANK(H731)),\"\",H731+(VLOOKUP(L731,garantie,2,FALSE)))","v":""}]
[731,{"$nulls":9},{"$f":"IF(B732=\"\",\"\",D732&\" - \"&F732&\" - \"&G732)","v":""},null,{"$f":"IF(OR(ISBLANK(L732),ISBLANK(H732)),\"\",H732+(VLOOKUP(L732,garantie,2,FALSE)))","v":""}]
[732,{"$nulls":9},{"$f":"IF(B733=\"\",\"\",D733&\" - \"&F733&\" - \"&G733)","v":""},null,{"$f":"IF(OR(ISBLANK(L733),ISBLANK(H733)),\"\",H733+(VLOOKUP(L733,garantie,2,FALSE)))","v":""}]
[733,{"$nulls":9},{"$f":"IF(B734=\"\",\"\",D734&\" - \"&F734&\" - \"&G734)","v":""},null,{"$f":"IF(OR(ISBLANK(L734),ISBLANK(H734)),\"\",H734+(VLOOKUP(L734,garantie,2,FALSE)))","v":""}]
[734,{"$nulls":9},{"$f":"IF(B735=\"\",\"\",D735&\" - \"&F735&\" - \"&G735)","v":""},null,{"$f":"IF(OR(ISBLANK(L735),ISBLANK(H735)),\"\",H735+(VLOOKUP(L735,garantie,2,FALSE)))","v":""}]
[735,{"$nulls":9},{"$f":"IF(B736=\"\",\"\",D736&\" - \"&F736&\" - \"&G736)","v":""},null,{"$f":"IF(OR(ISBLANK(L736),ISBLANK(H736)),\"\",H736+(VLOOKUP(L736,garantie,2,FALSE)))","v":""}]
[736,{"$nulls":9},{"$f":"IF(B737=\"\",\"\",D737&\" - \"&F737&\" - \"&G737)","v":""},null,{"$f":"IF(OR(ISBLANK(L737),ISBLANK(H737)),\"\",H737+(VLOOKUP(L737,garantie,2,FALSE)))","v":""}]
[737,{"$nulls":9},{"$f":"IF(B738=\"\",\"\",D738&\" - \"&F738&\" - \"&G738)","v":""},null,{"$f":"IF(OR(ISBLANK(L738),ISBLANK(H738)),\"\",H738+(VLOOKUP(L738,garantie,2,FALSE)))","v":""}]
[738,{"$nulls":9},{"$f":"IF(B739=\"\",\"\",D739&\" - \"&F739&\" - \"&G739)","v":""},null,{"$f":"IF(OR(ISBLANK(L739),ISBLANK(H739)),\"\",H739+(VLOOKUP(L739,garantie,2,FALSE)))","v":""}]
[739,{"$nulls":9},{"$f":"IF(B740=\"\",\"\",D740&\" - \"&F740&\" - \"&G740)","v":""},null,{"$f":"IF(OR(ISBLANK(L740),ISBLANK(H740)),\"\",H740+(VLOOKUP(L740,garantie,2,FALSE)))","v":""}]
[740,{"$nulls":9},{"$f":"IF(B741=\"\",\"\",D741&\" - \"&F741&\" - \"&G741)","v":""},null,{"$f":"IF(OR(ISBLANK(L741),ISBLANK(H741)),\"\",H741+(VLOOKUP(L741,garantie,2,FALSE)))","v":""}]
[741,{"$nulls":9},{"$f":"IF(B742=\"\",\"\",D742&\" - \"&F742&\" - \"&G742)","v":""},null,{"$f":"IF(OR(ISBLANK(L742),ISBLANK(H742)),\"\",H742+(VLOOKUP(L742,garantie,2,FALSE)))","v":""}]
[742,{"$nulls":9},{"$f":"IF(B743=\"\",\"\",D743&\" - \"&F743&\" - \"&G743)","v":""},null,{"$f":"IF(OR(ISBLANK(L743),ISBLANK(H743)),\"\",H743+(VLOOKUP(L743,garantie,2,FALSE)))","v":""}]
[743,{"$nulls":9},{"$f":"IF(B744=\"\",\"\",D744&\" - \"&F744&\" - \"&G744)","v":""},null,{"$f":"IF(OR(ISBLANK(L744),ISBLANK(H744)),\"\",H744+(VLOOKUP(L744,garantie,2,FALSE)))","v":""}]
[744,{"$nulls":9},{"$f":"IF(B745=\"\",\"\",D745&\" - \"&F745&\" - \"&G745)","v":""},null,{"$f":"IF(OR(ISBLANK(L745),ISBLANK(H745)),\"\",H745+(VLOOKUP(L745,garantie,2,FALSE)))","v":""}]
[745,{"$nulls":9},{"$f":"IF(B746=\"\",\"\",D746&\" - \"&F746&\" - \"&G746)","v":""},null,{"$f":"IF(OR(ISBLANK(L746),ISBLANK(H746)),\"\",H746+(VLOOKUP(L746,garantie,2,FALSE)))","v":""}]
[746,{"$nulls":9},{"$f":"IF(B747=\"\",\"\",D747&\" - \"&F747&\" - \"&G747)","v":""},null,{"$f":"IF(OR(ISBLANK(L747),ISBLANK(H747)),\"\",H747+(VLOOKUP(L747,garantie,2,FALSE)))","v":""}]
[747,{"$nulls":9},{"$f":"IF(B748=\"\",\"\",D748&\" - \"&F748&\" - \"&G748)","v":""},null,{"$f":"IF(OR(ISBLANK(L748),ISBLANK(H748)),\"\",H748+(VLOOKUP(L748,garantie,2,FALSE)))","v":""}]
[748,{"$nulls":9},{"$f":"IF(B749=\"\",\"\",D749&\" - \"&F749&\" - \"&G749)","v":""},null,{"$f":"IF(OR(ISBLANK(L749),ISBLANK(H749)),\"\",H749+(VLOOKUP(L749,garantie,2,FALSE)))","v":""}]
[749,{"$nulls":9},{"$f":"IF(B750=\"\",\"\",D750&\" - \"&F750&\" - \"&G750)","v":""},null,{"$f":"IF(OR(ISBLANK(L750),ISBLANK(H750)),\"\",H750+(VLOOKUP(L750,garantie,2,FALSE)))","v":""}]
[750,{"$nulls":9},{"$f":"IF(B751=\"\",\"\",D751&\" - \"&F751&\" - \"&G751)","v":""},null,{"$f":"IF(OR(ISBLANK(L751),ISBLANK(H751)),\"\",H751+(VLOOKUP(L751,garantie,2,FALSE)))","v":""}]
[751,{"$nulls":9},{"$f":"IF(B752=\"\",\"\",D752&\" - \"&F752&\" - \"&G752)","v":""},null,{"$f":"IF(OR(ISBLANK(L752),ISBLANK(H752)),\"\",H752+(VLOOKUP(L752,garantie,2,FALSE)))","v":""}]
[752,{"$nulls":9},{"$f":"IF(B753=\"\",\"\",D753&\" - \"&F753&\" - \"&G753)","v":""},null,{"$f":"IF(OR(ISBLANK(L753),ISBLANK(H753)),\"\",H753+(VLOOKUP(L753,garantie,2,FALSE)))","v":""}]
[753,{"$nulls":9},{"$f":"IF(B754=\"\",\"\",D754&\" - \"&F754&\" - \"&G754)","v":""},null,{"$f":"IF(OR(ISBLANK(L754),ISBLANK(H754)),\"\",H754+(VLOOKUP(L754,garantie,2,FALSE)))","v":""}]
[754,{"$nulls":9},{"$f":"IF(B755=\"\",\"\",D755&\" - \"&F755&\" - \"&G755)","v":""},null,{"$f":"IF(OR(ISBLANK(L755),ISBLANK(H755)),\"\",H755+(VLOOKUP(L755,garantie,2,FALSE)))","v":""}]
[755,{"$nulls":9},{"$f":"IF(B756=\"\",\"\",D756&\" - \"&F756&\" - \"&G756)","v":""},null,{"$f":"IF(OR(ISBLANK(L756),ISBLANK(H756)),\"\",H756+(VLOOKUP(L756,garantie,2,FALSE)))","v":""}]
[756,{"$nulls":9},{"$f":"IF(B757=\"\",\"\",D757&\" - \"&F757&\" - \"&G757)","v":""},null,{"$f":"IF(OR(ISBLANK(L757),ISBLANK(H757)),\"\",H757+(VLOOKUP(L757,garantie,2,FALSE)))","v":""}]
[757,{"$nulls":9},{"$f":"IF(B758=\"\",\"\",D758&\" - \"&F758&\" - \"&G758)","v":""},null,{"$f":"IF(OR(ISBLANK(L758),ISBLANK(H758)),\"\",H758+(VLOOKUP(L758,garantie,2,FALSE)))","v":""}]
[758,{"$nulls":9},{"$f":"IF(B759=\"\",\"\",D759&\" - \"&F759&\" - \"&G759)","v":""},null,{"$f":"IF(OR(ISBLANK(L759),ISBLANK(H759)),\"\",H759+(VLOOKUP(L759,garantie,2,FALSE)))","v":""}]
[759,{"$nulls":9},{"$f":"IF(B760=\"\",\"\",D760&\" - \"&F760&\" - \"&G760)","v":""},null,{"$f":"IF(OR(ISBLANK(L760),ISBLANK(H760)),\"\",H760+(VLOOKUP(L760,garantie,2,FALSE)))","v":""}]
[760,{"$nulls":9},{"$f":"IF(B761=\"\",\"\",D761&\" - \"&F761&\" - \"&G761)","v":""},null,{"$f":"IF(OR(ISBLANK(L761),ISBLANK(H761)),\"\",H761+(VLOOKUP(L761,garantie,2,FALSE)))","v":""}]
[761,{"$nulls":9},{"$f":"IF(B762=\"\",\"\",D762&\" - \"&F762&\" - \"&G762)","v":""},null,{"$f":"IF(OR(ISBLANK(L762),ISBLANK(H762)),\"\",H762+(VLOOKUP(L762,garantie,2,FALSE)))","v":""}]
[762,{"$nulls":9},{"$f":"IF(B763=\"\",\"\",D763&\" - \"&F763&\" - \"&G763)","v":""},null,{"$f":"IF(OR(ISBLANK(L763),ISBLANK(H763)),\"\",H763+(VLOOKUP(L763,garantie,2,FALSE)))","v":""}]
[763,{"$nulls":9},{"$f":"IF(B764=\"\",\"\",D764&\" - \"&F764&\" - \"&G764)","v":""},null,{"$f":"IF(OR(ISBLANK(L764),ISBLANK(H764)),\"\",H764+(VLOOKUP(L764,garantie,2,FALSE)))","v":""}]
[764,{"$nulls":9},{"$f":"IF(B765=\"\",\"\",D765&\" - \"&F765&\" - \"&G765)","v":""},null,{"$f":"IF(OR(ISBLANK(L765),ISBLANK(H765)),\"\",H765+(VLOOKUP(L765,garantie,2,FALSE)))","v":""}]
[765,{"$nulls":9},{"$f":"IF(B766=\"\",\"\",D766&\" - \"&F766&\" - \"&G766)","v":""},null,{"$f":"IF(OR(ISBLANK(L766),ISBLANK(H766)),\"\",H766+(VLOOKUP(L766,garantie,2,FALSE)))","v":""}]
[766,{"$nulls":9},{"$f":"IF(B767=\"\",\"\",D767&\" - \"&F767&\" - \"&G767)","v":""},null,{"$f":"IF(OR(ISBLANK(L767),ISBLANK(H767)),\"\",H767+(VLOOKUP(L767,garantie,2,FALSE)))","v":""}]
[767,{"$nulls":9},{"$f":"IF(B768=\"\",\"\",D768&\" - \"&F768&\" - \"&G768)","v":""},null,{"$f":"IF(OR(ISBLANK(L768),ISBLANK(H768)),\"\",H768+(VLOOKUP(L768,garantie,2,FALSE)))","v":""}]
[768,{"$nulls":9},{"$f":"IF(B769=\"\",\"\",D769&\" - \"&F769&\" - \"&G769)","v":""},null,{"$f":"IF(OR(ISBLANK(L769),ISBLANK(H769)),\"\",H769+(VLOOKUP(L769,garantie,2,FALSE)))","v":""}]
[769,{"$nulls":9},{"$f":"IF(B770=\"\",\"\",D770&\" - \"&F770&\" - \"&G770)","v":""},null,{"$f":"IF(OR(ISBLANK(L770),ISBLANK(H770)),\"\",H770+(VLOOKUP(L770,garantie,2,FALSE)))","v":""}]
[770,{"$nulls":9},{"$f":"IF(B771=\"\",\"\",D771&\" - \"&F771&\" - \"&G771)","v":""},null,{"$f":"IF(OR(ISBLANK(L771),ISBLANK(H771)),\"\",H771+(VLOOKUP(L771,garantie,2,FALSE)))","v":""}]
[771,{"$nulls":9},{"$f":"IF(B772=\"\",\"\",D772&\" - \"&F772&\" - \"&G772)","v":""},null,{"$f":"IF(OR(ISBLANK(L772),ISBLANK(H772)),\"\",H772+(VLOOKUP(L772,garantie,2,FALSE)))","v":""}]
[772,{"$nulls":9},{"$f":"IF(B773=\"\",\"\",D773&\" - \"&F773&\" - \"&G773)","v":""},null,{"$f":"IF(OR(ISBLANK(L773),ISBLANK(H773)),\"\",H773+(VLOOKUP(L773,garantie,2,FALSE)))","v":""}]
[773,{"$nulls":9},{"$f":"IF(B774=\"\",\"\",D774&\" - \"&F774&\" - \"&G774)","v":""},null,{"$f":"IF(OR(ISBLANK(L774),ISBLANK(H774)),\"\",H774+(VLOOKUP(L774,garantie,2,FALSE)))","v":""}]
[774,{"$nulls":9},{"$f":"IF(B775=\"\",\"\",D775&\" - \"&F775&\" - \"&G775)","v":""},null,{"$f":"IF(OR(ISBLANK(L775),ISBLANK(H775)),\"\",H775+(VLOOKUP(L775,garantie,2,FALSE)))","v":""}]
[775,{"$nulls":9},{"$f":"IF(B776=\"\",\"\",D776&\" - \"&F776&\" - \"&G776)","v":""},null,{"$f":"IF(OR(ISBLANK(L776),ISBLANK(H776)),\"\",H776+(VLOOKUP(L776,garantie,2,FALSE)))","v":""}]
[776,{"$nulls":9},{"$f":"IF(B777=\"\",\"\",D777&\" - \"&F777&\" - \"&G777)","v":""},null,{"$f":"IF(OR(ISBLANK(L777),ISBLANK(H777)),\"\",H777+(VLOOKUP(L777,garantie,2,FALSE)))","v":""}]
[777,{"$nulls":9},{"$f":"IF(B778=\"\",\"\",D778&\" - \"&F778&\" - \"&G778)","v":""},null,{"$f":"IF(OR(ISBLANK(L778),ISBLANK(H778)),\"\",H778+(VLOOKUP(L778,garantie,2,FALSE)))","v":""}]
[778,{"$nulls":9},{"$f":"IF(B779=\"\",\"\",D779&\" - \"&F779&\" - \"&G779)","v":""},null,{"$f":"IF(OR(ISBLANK(L779),ISBLANK(H779)),\"\",H779+(VLOOKUP(L779,garantie,2,FALSE)))","v":""}]
[779,{"$nulls":9},{"$f":"IF(B780=\"\",\"\",D780&\" - \"&F780&\" - \"&G780)","v":""},null,{"$f":"IF(OR(ISBLANK(L780),ISBLANK(H780)),\"\",H780+(VLOOKUP(L780,garantie,2,FALSE)))","v":""}]
[780,{"$nulls":9},{"$f":"IF(B781=\"\",\"\",D781&\" - \"&F781&\" - \"&G781)","v":""},null,{"$f":"IF(OR(ISBLANK(L781),ISBLANK(H781)),\"\",H781+(VLOOKUP(L781,garantie,2,FALSE)))","v":""}]
[781,{"$nulls":9},{"$f":"IF(B782=\"\",\"\",D782&\" - \"&F782&\" - \"&G782)","v":""},null,{"$f":"IF(OR(ISBLANK(L782),ISBLANK(H782)),\"\",H782+(VLOOKUP(L782,garantie,2,FALSE)))","v":""}]
[782,{"$nulls":9},{"$f":"IF(B783=\"\",\"\",D783&\" - \"&F783&\" - \"&G783)","v":""},null,{"$f":"IF(OR(ISBLANK(L783),ISBLANK(H783)),\"\",H783+(VLOOKUP(L783,garantie,2,FALSE)))","v":""}]
[783,{"$nulls":9},{"$f":"IF(B784=\"\",\"\",D784&\" - \"&F784&\" - \"&G784)","v":""},null,{"$f":"IF(OR(ISBLANK(L784),ISBLANK(H784)),\"\",H784+(VLOOKUP(L784,garantie,2,FALSE)))","v":""}]
[784,{"$nulls":9},{"$f":"IF(B785=\"\",\"\",D785&\" - \"&F785&\" - \"&G785)","v":""},null,{"$f":"IF(OR(ISBLANK(L785),ISBLANK(H785)),\"\",H785+(VLOOKUP(L785,garantie,2,FALSE)))","v":""}]
[785,{"$nulls":9},{"$f":"IF(B786=\"\",\"\",D786&\" - \"&F786&\" - \"&G786)","v":""},null,{"$f":"IF(OR(ISBLANK(L786),ISBLANK(H786)),\"\",H786+(VLOOKUP(L786,garantie,2,FALSE)))","v":""}]
[786,{"$nulls":9},{"$f":"IF(B787=\"\",\"\",D787&\" - \"&F787&\" - \"&G787)","v":""},null,{"$f":"IF(OR(ISBLANK(L787),ISBLANK(H787)),\"\",H787+(VLOOKUP(L787,garantie,2,FALSE)))","v":""}]
[787,{"$nulls":9},{"$f":"IF(B788=\"\",\"\",D788&\" - \"&F788&\" - \"&G788)","v":""},null,{"$f":"IF(OR(ISBLANK(L788),ISBLANK(H788)),\"\",H788+(VLOOKUP(L788,garantie,2,FALSE)))","v":""}]
[788,{"$nulls":9},{"$f":"IF(B789=\"\",\"\",D789&\" - \"&F789&\" - \"&G789)","v":""},null,{"$f":"IF(OR(ISBLANK(L789),ISBLANK(H789)),\"\",H789+(VLOOKUP(L789,garantie,2,FALSE)))","v":""}]
[789,{"$nulls":9},{"$f":"IF(B790=\"\",\"\",D790&\" - \"&F790&\" - \"&G790)","v":""},null,{"$f":"IF(OR(ISBLANK(L790),ISBLANK(H790)),\"\",H790+(VLOOKUP(L790,garantie,2,FALSE)))","v":""}]
[790,{"$nulls":9},{"$f":"IF(B791=\"\",\"\",D791&\" - \"&F791&\" - \"&G791)","v":""},null,{"$f":"IF(OR(ISBLANK(L791),ISBLANK(H791)),\"\",H791+(VLOOKUP(L791,garantie,2,FALSE)))","v":""}]
[791,{"$nulls":9},{"$f":"IF(B792=\"\",\"\",D792&\" - \"&F792&\" - \"&G792)","v":""},null,{"$f":"IF(OR(ISBLANK(L792),ISBLANK(H792)),\"\",H792+(VLOOKUP(L792,garantie,2,FALSE)))","v":""}]
[792,{"$nulls":9},{"$f":"IF(B793=\"\",\"\",D793&\" - \"&F793&\" - \"&G793)","v":""},null,{"$f":"IF(OR(ISBLANK(L793),ISBLANK(H793)),\"\",H793+(VLOOKUP(L793,garantie,2,FALSE)))","v":""}]
[793,{"$nulls":9},{"$f":"IF(B794=\"\",\"\",D794&\" - \"&F794&\" - \"&G794)","v":""},null,{"$f":"IF(OR(ISBLANK(L794),ISBLANK(H794)),\"\",H794+(VLOOKUP(L794,garantie,2,FALSE)))","v":""}]
[794,{"$nulls":9},{"$f":"IF(B795=\"\",\"\",D795&\" - \"&F795&\" - \"&G795)","v":""},null,{"$f":"IF(OR(ISBLANK(L795),ISBLANK(H795)),\"\",H795+(VLOOKUP(L795,garantie,2,FALSE)))","v":""}]
[795,{"$nulls":9},{"$f":"IF(B796=\"\",\"\",D796&\" - \"&F796&\" - \"&G796)","v":""},null,{"$f":"IF(OR(ISBLANK(L796),ISBLANK(H796)),\"\",H796+(VLOOKUP(L796,garantie,2,FALSE)))","v":""}]
[796,{"$nulls":9},{"$f":"IF(B797=\"\",\"\",D797&\" - \"&F797&\" - \"&G797)","v":""},null,{"$f":"IF(OR(ISBLANK(L797),ISBLANK(H797)),\"\",H797+(VLOOKUP(L797,garantie,2,FALSE)))","v":""}]
[797,{"$nulls":9},{"$f":"IF(B798=\"\",\"\",D798&\" - \"&F798&\" - \"&G798)","v":""},null,{"$f":"IF(OR(ISBLANK(L798),ISBLANK(H798)),\"\",H798+(VLOOKUP(L798,garantie,2,FALSE)))","v":""}]
[798,{"$nulls":9},{"$f":"IF(B799=\"\",\"\",D799&\" - \"&F799&\" - \"&G799)","v":""},null,{"$f":"IF(OR(ISBLANK(L799),ISBLANK(H799)),\"\",H799+(VLOOKUP(L799,garantie,2,FALSE)))","v":""}]
[799,{"$nulls":9},{"$f":"IF(B800=\"\",\"\",D800&\" - \"&F800&\" - \"&G800)","v":""},null,{"$f":"IF(OR(ISBLANK(L800),ISBLANK(H800)),\"\",H800+(VLOOKUP(L800,garantie,2,FALSE)))","v":""}]
[800,{"$nulls":9},{"$f":"IF(B801=\"\",\"\",D801&\" - \"&F801&\" - \"&G801)","v":""},null,{"$f":"IF(OR(ISBLANK(L801),ISBLANK(H801)),\"\",H801+(VLOOKUP(L801,garantie,2,FALSE)))","v":""}]
[801,{"$nulls":9},{"$f":"IF(B802=\"\",\"\",D802&\" - \"&F802&\" - \"&G802)","v":""},null,{"$f":"IF(OR(ISBLANK(L802),ISBLANK(H802)),\"\",H802+(VLOOKUP(L802,garantie,2,FALSE)))","v":""}]
[802,{"$nulls":9},{"$f":"IF(B803=\"\",\"\",D803&\" - \"&F803&\" - \"&G803)","v":""},null,{"$f":"IF(OR(ISBLANK(L803),ISBLANK(H803)),\"\",H803+(VLOOKUP(L803,garantie,2,FALSE)))","v":""}]
[803,{"$nulls":9},{"$f":"IF(B804=\"\",\"\",D804&\" - \"&F804&\" - \"&G804)","v":""},null,{"$f":"IF(OR(ISBLANK(L804),ISBLANK(H804)),\"\",H804+(VLOOKUP(L804,garantie,2,FALSE)))","v":""}]
[804,{"$nulls":9},{"$f":"IF(B805=\"\",\"\",D805&\" - \"&F805&\" - \"&G805)","v":""},null,{"$f":"IF(OR(ISBLANK(L805),ISBLANK(H805)),\"\",H805+(VLOOKUP(L805,garantie,2,FALSE)))","v":""}]
[805,{"$nulls":9},{"$f":"IF(B806=\"\",\"\",D806&\" - \"&F806&\" - \"&G806)","v":""},null,{"$f":"IF(OR(ISBLANK(L806),ISBLANK(H806)),\"\",H806+(VLOOKUP(L806,garantie,2,FALSE)))","v":""}]
[806,{"$nulls":9},{"$f":"IF(B807=\"\",\"\",D807&\" - \"&F807&\" - \"&G807)","v":""},null,{"$f":"IF(OR(ISBLANK(L807),ISBLANK(H807)),\"\",H807+(VLOOKUP(L807,garantie,2,FALSE)))","v":""}]
[807,{"$nulls":9},{"$f":"IF(B808=\"\",\"\",D808&\" - \"&F808&\" - \"&G808)","v":""},null,{"$f":"IF(OR(ISBLANK(L808),ISBLANK(H808)),\"\",H808+(VLOOKUP(L808,garantie,2,FALSE)))","v":""}]
[808,{"$nulls":9},{"$f":"IF(B809=\"\",\"\",D809&\" - \"&F809&\" - \"&G809)","v":""},null,{"$f":"IF(OR(ISBLANK(L809),ISBLANK(H809)),\"\",H809+(VLOOKUP(L809,garantie,2,FALSE)))","v":""}]
[809,{"$nulls":9},{"$f":"IF(B810=\"\",\"\",D810&\" - \"&F810&\" - \"&G810)","v":""},null,{"$f":"IF(OR(ISBLANK(L810),ISBLANK(H810)),\"\",H810+(VLOOKUP(L810,garantie,2,FALSE)))","v":""}]
[810,{"$nulls":9},{"$f":"IF(B811=\"\",\"\",D811&\" - \"&F811&\" - \"&G811)","v":""},null,{"$f":"IF(OR(ISBLANK(L811),ISBLANK(H811)),\"\",H811+(VLOOKUP(L811,garantie,2,FALSE)))","v":""}]
[811,{"$nulls":9},{"$f":"IF(B812=\"\",\"\",D812&\" - \"&F812&\" - \"&G812)","v":""},null,{"$f":"IF(OR(ISBLANK(L812),ISBLANK(H812)),\"\",H812+(VLOOKUP(L812,garantie,2,FALSE)))","v":""}]
[812,{"$nulls":9},{"$f":"IF(B813=\"\",\"\",D813&\" - \"&F813&\" - \"&G813)","v":""},null,{"$f":"IF(OR(ISBLANK(L813),ISBLANK(H813)),\"\",H813+(VLOOKUP(L813,garantie,2,FALSE)))","v":""}]
[813,{"$nulls":9},{"$f":"IF(B814=\"\",\"\",D814&\" - \"&F814&\" - \"&G814)","v":""},null,{"$f":"IF(OR(ISBLANK(L814),ISBLANK(H814)),\"\",H814+(VLOOKUP(L814,garantie,2,FALSE)))","v":""}]
[814,{"$nulls":9},{"$f":"IF(B815=\"\",\"\",D815&\" - \"&F815&\" - \"&G815)","v":""},null,{"$f":"IF(OR(ISBLANK(L815),ISBLANK(H815)),\"\",H815+(VLOOKUP(L815,garantie,2,FALSE)))","v":""}]
[815,{"$nulls":9},{"$f":"IF(B816=\"\",\"\",D816&\" - \"&F816&\" - \"&G816)","v":""},null,{"$f":"IF(OR(ISBLANK(L816),ISBLANK(H816)),\"\",H816+(VLOOKUP(L816,garantie,2,FALSE)))","v":""}]
[816,{"$nulls":9},{"$f":"IF(B817=\"\",\"\",D817&\" - \"&F817&\" - \"&G817)","v":""},null,{"$f":"IF(OR(ISBLANK(L817),ISBLANK(H817)),\"\",H817+(VLOOKUP(L817,garantie,2,FALSE)))","v":""}]
[817,{"$nulls":9},{"$f":"IF(B818=\"\",\"\",D818&\" - \"&F818&\" - \"&G818)","v":""},null,{"$f":"IF(OR(ISBLANK(L818),ISBLANK(H818)),\"\",H818+(VLOOKUP(L818,garantie,2,FALSE)))","v":""}]
[818,{"$nulls":9},{"$f":"IF(B819=\"\",\"\",D819&\" - \"&F819&\" - \"&G819)","v":""},null,{"$f":"IF(OR(ISBLANK(L819),ISBLANK(H819)),\"\",H819+(VLOOKUP(L819,garantie,2,FALSE)))","v":""}]
[819,{"$nulls":9},{"$f":"IF(B820=\"\",\"\",D820&\" - \"&F820&\" - \"&G820)","v":""},null,{"$f":"IF(OR(ISBLANK(L820),ISBLANK(H820)),\"\",H820+(VLOOKUP(L820,garantie,2,FALSE)))","v":""}]
[820,{"$nulls":9},{"$f":"IF(B821=\"\",\"\",D821&\" - \"&F821&\" - \"&G821)","v":""},null,{"$f":"IF(OR(ISBLANK(L821),ISBLANK(H821)),\"\",H821+(VLOOKUP(L821,garantie,2,FALSE)))","v":""}]
[821,{"$nulls":9},{"$f":"IF(B822=\"\",\"\",D822&\" - \"&F822&\" - \"&G822)","v":""},null,{"$f":"IF(OR(ISBLANK(L822),ISBLANK(H822)),\"\",H822+(VLOOKUP(L822,garantie,2,FALSE)))","v":""}]
[822,{"$nulls":9},{"$f":"IF(B823=\"\",\"\",D823&\" - \"&F823&\" - \"&G823)","v":""},null,{"$f":"IF(OR(ISBLANK(L823),ISBLANK(H823)),\"\",H823+(VLOOKUP(L823,garantie,2,FALSE)))","v":""}]
[823,{"$nulls":9},{"$f":"IF(B824=\"\",\"\",D824&\" - \"&F824&\" - \"&G824)","v":""},null,{"$f":"IF(OR(ISBLANK(L824),ISBLANK(H824)),\"\",H824+(VLOOKUP(L824,garantie,2,FALSE)))","v":""}]
[824,{"$nulls":9},{"$f":"IF(B825=\"\",\"\",D825&\" - \"&F825&\" - \"&G825)","v":""},null,{"$f":"IF(OR(ISBLANK(L825),ISBLANK(H825)),\"\",H825+(VLOOKUP(L825,garantie,2,FALSE)))","v":""}]
[825,{"$nulls":9},{"$f":"IF(B826=\"\",\"\",D826&\" - \"&F826&\" - \"&G826)","v":""},null,{"$f":"IF(OR(ISBLANK(L826),ISBLANK(H826)),\"\",H826+(VLOOKUP(L826,garantie,2,FALSE)))","v":""}]
[826,{"$nulls":9},{"$f":"IF(B827=\"\",\"\",D827&\" - \"&F827&\" - \"&G827)","v":""},null,{"$f":"IF(OR(ISBLANK(L827),ISBLANK(H827)),\"\",H827+(VLOOKUP(L827,garantie,2,FALSE)))","v":""}]
[827,{"$nulls":9},{"$f":"IF(B828=\"\",\"\",D828&\" - \"&F828&\" - \"&G828)","v":""},null,{"$f":"IF(OR(ISBLANK(L828),ISBLANK(H828)),\"\",H828+(VLOOKUP(L828,garantie,2,FALSE)))","v":""}]
[828,{"$nulls":9},{"$f":"IF(B829=\"\",\"\",D829&\" - \"&F829&\" - \"&G829)","v":""},null,{"$f":"IF(OR(ISBLANK(L829),ISBLANK(H829)),\"\",H829+(VLOOKUP(L829,garantie,2,FALSE)))","v":""}]
[829,{"$nulls":9},{"$f":"IF(B830=\"\",\"\",D830&\" - \"&F830&\" - \"&G830)","v":""},null,{"$f":"IF(OR(ISBLANK(L830),ISBLANK(H830)),\"\",H830+(VLOOKUP(L830,garantie,2,FALSE)))","v":""}]
[830,{"$nulls":9},{"$f":"IF(B831=\"\",\"\",D831&\" - \"&F831&\" - \"&G831)","v":""},null,{"$f":"IF(OR(ISBLANK(L831),ISBLANK(H831)),\"\",H831+(VLOOKUP(L831,garantie,2,FALSE)))","v":""}]
[831,{"$nulls":9},{"$f":"IF(B832=\"\",\"\",D832&\" - \"&F832&\" - \"&G832)","v":""},null,{"$f":"IF(OR(ISBLANK(L832),ISBLANK(H832)),\"\",H832+(VLOOKUP(L832,garantie,2,FALSE)))","v":""}]
[832,{"$nulls":9},{"$f":"IF(B833=\"\",\"\",D833&\" - \"&F833&\" - \"&G833)","v":""},null,{"$f":"IF(OR(ISBLANK(L833),ISBLANK(H833)),\"\",H833+(VLOOKUP(L833,garantie,2,FALSE)))","v":""}]
[833,{"$nulls":9},{"$f":"IF(B834=\"\",\"\",D834&\" - \"&F834&\" - \"&G834)","v":""},null,{"$f":"IF(OR(ISBLANK(L834),ISBLANK(H834)),\"\",H834+(VLOOKUP(L834,garantie,2,FALSE)))","v":""}]
[834,{"$nulls":9},{"$f":"IF(B835=\"\",\"\",D835&\" - \"&F835&\" - \"&G835)","v":""},null,{"$f":"IF(OR(ISBLANK(L835),ISBLANK(H835)),\"\",H835+(VLOOKUP(L835,garantie,2,FALSE)))","v":""}]
[835,{"$nulls":9},{"$f":"IF(B836=\"\",\"\",D836&\" - \"&F836&\" - \"&G836)","v":""},null,{"$f":"IF(OR(ISBLANK(L836),ISBLANK(H836)),\"\",H836+(VLOOKUP(L836,garantie,2,FALSE)))","v":""}]
[836,{"$nulls":9},{"$f":"IF(B837=\"\",\"\",D837&\" - \"&F837&\" - \"&G837)","v":""},null,{"$f":"IF(OR(ISBLANK(L837),ISBLANK(H837)),\"\",H837+(VLOOKUP(L837,garantie,2,FALSE)))","v":""}]
[837,{"$nulls":9},{"$f":"IF(B838=\"\",\"\",D838&\" - \"&F838&\" - \"&G838)","v":""},null,{"$f":"IF(OR(ISBLANK(L838),ISBLANK(H838)),\"\",H838+(VLOOKUP(L838,garantie,2,FALSE)))","v":""}]
[838,{"$nulls":9},{"$f":"IF(B839=\"\",\"\",D839&\" - \"&F839&\" - \"&G839)","v":""},null,{"$f":"IF(OR(ISBLANK(L839),ISBLANK(H839)),\"\",H839+(VLOOKUP(L839,garantie,2,FALSE)))","v":""}]
[839,{"$nulls":9},{"$f":"IF(B840=\"\",\"\",D840&\" - \"&F840&\" - \"&G840)","v":""},null,{"$f":"IF(OR(ISBLANK(L840),ISBLANK(H840)),\"\",H840+(VLOOKUP(L840,garantie,2,FALSE)))","v":""}]
[840,{"$nulls":9},{"$f":"IF(B841=\"\",\"\",D841&\" - \"&F841&\" - \"&G841)","v":""},null,{"$f":"IF(OR(ISBLANK(L841),ISBLANK(H841)),\"\",H841+(VLOOKUP(L841,garantie,2,FALSE)))","v":""}]
[841,{"$nulls":9},{"$f":"IF(B842=\"\",\"\",D842&\" - \"&F842&\" - \"&G842)","v":""},null,{"$f":"IF(OR(ISBLANK(L842),ISBLANK(H842)),\"\",H842+(VLOOKUP(L842,garantie,2,FALSE)))","v":""}]
[842,{"$nulls":9},{"$f":"IF(B843=\"\",\"\",D843&\" - \"&F843&\" - \"&G843)","v":""},null,{"$f":"IF(OR(ISBLANK(L843),ISBLANK(H843)),\"\",H843+(VLOOKUP(L843,garantie,2,FALSE)))","v":""}]
[843,{"$nulls":9},{"$f":"IF(B844=\"\",\"\",D844&\" - \"&F844&\" - \"&G844)","v":""},null,{"$f":"IF(OR(ISBLANK(L844),ISBLANK(H844)),\"\",H844+(VLOOKUP(L844,garantie,2,FALSE)))","v":""}]
[844,{"$nulls":9},{"$f":"IF(B845=\"\",\"\",D845&\" - \"&F845&\" - \"&G845)","v":""},null,{"$f":"IF(OR(ISBLANK(L845),ISBLANK(H845)),\"\",H845+(VLOOKUP(L845,garantie,2,FALSE)))","v":""}]
[845,{"$nulls":9},{"$f":"IF(B846=\"\",\"\",D846&\" - \"&F846&\" - \"&G846)","v":""},null,{"$f":"IF(OR(ISBLANK(L846),ISBLANK(H846)),\"\",H846+(VLOOKUP(L846,garantie,2,FALSE)))","v":""}]
[846,{"$nulls":9},{"$f":"IF(B847=\"\",\"\",D847&\" - \"&F847&\" - \"&G847)","v":""},null,{"$f":"IF(OR(ISBLANK(L847),ISBLANK(H847)),\"\",H847+(VLOOKUP(L847,garantie,2,FALSE)))","v":""}]
[847,{"$nulls":9},{"$f":"IF(B848=\"\",\"\",D848&\" - \"&F848&\" - \"&G848)","v":""},null,{"$f":"IF(OR(ISBLANK(L848),ISBLANK(H848)),\"\",H848+(VLOOKUP(L848,garantie,2,FALSE)))","v":""}]
[848,{"$nulls":9},{"$f":"IF(B849=\"\",\"\",D849&\" - \"&F849&\" - \"&G849)","v":""},null,{"$f":"IF(OR(ISBLANK(L849),ISBLANK(H849)),\"\",H849+(VLOOKUP(L849,garantie,2,FALSE)))","v":""}]
[849,{"$nulls":9},{"$f":"IF(B850=\"\",\"\",D850&\" - \"&F850&\" - \"&G850)","v":""},null,{"$f":"IF(OR(ISBLANK(L850),ISBLANK(H850)),\"\",H850+(VLOOKUP(L850,garantie,2,FALSE)))","v":""}]
[850,{"$nulls":9},{"$f":"IF(B851=\"\",\"\",D851&\" - \"&F851&\" - \"&G851)","v":""},null,{"$f":"IF(OR(ISBLANK(L851),ISBLANK(H851)),\"\",H851+(VLOOKUP(L851,garantie,2,FALSE)))","v":""}]
[851,{"$nulls":9},{"$f":"IF(B852=\"\",\"\",D852&\" - \"&F852&\" - \"&G852)","v":""},null,{"$f":"IF(OR(ISBLANK(L852),ISBLANK(H852)),\"\",H852+(VLOOKUP(L852,garantie,2,FALSE)))","v":""}]
[852,{"$nulls":9},{"$f":"IF(B853=\"\",\"\",D853&\" - \"&F853&\" - \"&G853)","v":""},null,{"$f":"IF(OR(ISBLANK(L853),ISBLANK(H853)),\"\",H853+(VLOOKUP(L853,garantie,2,FALSE)))","v":""}]
[853,{"$nulls":9},{"$f":"IF(B854=\"\",\"\",D854&\" - \"&F854&\" - \"&G854)","v":""},null,{"$f":"IF(OR(ISBLANK(L854),ISBLANK(H854)),\"\",H854+(VLOOKUP(L854,garantie,2,FALSE)))","v":""}]
[854,{"$nulls":9},{"$f":"IF(B855=\"\",\"\",D855&\" - \"&F855&\" - \"&G855)","v":""},null,{"$f":"IF(OR(ISBLANK(L855),ISBLANK(H855)),\"\",H855+(VLOOKUP(L855,garantie,2,FALSE)))","v":""}]
[855,{"$nulls":9},{"$f":"IF(B856=\"\",\"\",D856&\" - \"&F856&\" - \"&G856)","v":""},null,{"$f":"IF(OR(ISBLANK(L856),ISBLANK(H856)),\"\",H856+(VLOOKUP(L856,garantie,2,FALSE)))","v":""}]
[856,{"$nulls":9},{"$f":"IF(B857=\"\",\"\",D857&\" - \"&F857&\" - \"&G857)","v":""},null,{"$f":"IF(OR(ISBLANK(L857),ISBLANK(H857)),\"\",H857+(VLOOKUP(L857,garantie,2,FALSE)))","v":""}]
[857,{"$nulls":9},{"$f":"IF(B858=\"\",\"\",D858&\" - \"&F858&\" - \"&G858)","v":""},null,{"$f":"IF(OR(ISBLANK(L858),ISBLANK(H858)),\"\",H858+(VLOOKUP(L858,garantie,2,FALSE)))","v":""}]
[858,{"$nulls":9},{"$f":"IF(B859=\"\",\"\",D859&\" - \"&F859&\" - \"&G859)","v":""},null,{"$f":"IF(OR(ISBLANK(L859),ISBLANK(H859)),\"\",H859+(VLOOKUP(L859,garantie,2,FALSE)))","v":""}]
[859,{"$nulls":9},{"$f":"IF(B860=\"\",\"\",D860&\" - \"&F860&\" - \"&G860)","v":""},null,{"$f":"IF(OR(ISBLANK(L860),ISBLANK(H860)),\"\",H860+(VLOOKUP(L860,garantie,2,FALSE)))","v":""}]
[860,{"$nulls":9},{"$f":"IF(B861=\"\",\"\",D861&\" - \"&F861&\" - \"&G861)","v":""},null,{"$f":"IF(OR(ISBLANK(L861),ISBLANK(H861)),\"\",H861+(VLOOKUP(L861,garantie,2,FALSE)))","v":""}]
[861,{"$nulls":9},{"$f":"IF(B862=\"\",\"\",D862&\" - \"&F862&\" - \"&G862)","v":""},null,{"$f":"IF(OR(ISBLANK(L862),ISBLANK(H862)),\"\",H862+(VLOOKUP(L862,garantie,2,FALSE)))","v":""}]
[862,{"$nulls":9},{"$f":"IF(B863=\"\",\"\",D863&\" - \"&F863&\" - \"&G863)","v":""},null,{"$f":"IF(OR(ISBLANK(L863),ISBLANK(H863)),\"\",H863+(VLOOKUP(L863,garantie,2,FALSE)))","v":""}]
[863,{"$nulls":9},{"$f":"IF(B864=\"\",\"\",D864&\" - \"&F864&\" - \"&G864)","v":""},null,{"$f":"IF(OR(ISBLANK(L864),ISBLANK(H864)),\"\",H864+(VLOOKUP(L864,garantie,2,FALSE)))","v":""}]
[864,{"$nulls":9},{"$f":"IF(B865=\"\",\"\",D865&\" - \"&F865&\" - \"&G865)","v":""},null,{"$f":"IF(OR(ISBLANK(L865),ISBLANK(H865)),\"\",H865+(VLOOKUP(L865,garantie,2,FALSE)))","v":""}]
[865,{"$nulls":9},{"$f":"IF(B866=\"\",\"\",D866&\" - \"&F866&\" - \"&G866)","v":""},null,{"$f":"IF(OR(ISBLANK(L866),ISBLANK(H866)),\"\",H866+(VLOOKUP(L866,garantie,2,FALSE)))","v":""}]
[866,{"$nulls":9},{"$f":"IF(B867=\"\",\"\",D867&\" - \"&F867&\" - \"&G867)","v":""},null,{"$f":"IF(OR(ISBLANK(L867),ISBLANK(H867)),\"\",H867+(VLOOKUP(L867,garantie,2,FALSE)))","v":""}]
[867,{"$nulls":9},{"$f":"IF(B868=\"\",\"\",D868&\" - \"&F868&\" - \"&G868)","v":""},null,{"$f":"IF(OR(ISBLANK(L868),ISBLANK(H868)),\"\",H868+(VLOOKUP(L868,garantie,2,FALSE)))","v":""}]
[868,{"$nulls":9},{"$f":"IF(B869=\"\",\"\",D869&\" - \"&F869&\" - \"&G869)","v":""},null,{"$f":"IF(OR(ISBLANK(L869),ISBLANK(H869)),\"\",H869+(VLOOKUP(L869,garantie,2,FALSE)))","v":""}]
[869,{"$nulls":9},{"$f":"IF(B870=\"\",\"\",D870&\" - \"&F870&\" - \"&G870)","v":""},null,{"$f":"IF(OR(ISBLANK(L870),ISBLANK(H870)),\"\",H870+(VLOOKUP(L870,garantie,2,FALSE)))","v":""}]
[870,{"$nulls":9},{"$f":"IF(B871=\"\",\"\",D871&\" - \"&F871&\" - \"&G871)","v":""},null,{"$f":"IF(OR(ISBLANK(L871),ISBLANK(H871)),\"\",H871+(VLOOKUP(L871,garantie,2,FALSE)))","v":""}]
[871,{"$nulls":9},{"$f":"IF(B872=\"\",\"\",D872&\" - \"&F872&\" - \"&G872)","v":""},null,{"$f":"IF(OR(ISBLANK(L872),ISBLANK(H872)),\"\",H872+(VLOOKUP(L872,garantie,2,FALSE)))","v":""}]
[872,{"$nulls":9},{"$f":"IF(B873=\"\",\"\",D873&\" - \"&F873&\" - \"&G873)","v":""},null,{"$f":"IF(OR(ISBLANK(L873),ISBLANK(H873)),\"\",H873+(VLOOKUP(L873,garantie,2,FALSE)))","v":""}]
[873,{"$nulls":9},{"$f":"IF(B874=\"\",\"\",D874&\" - \"&F874&\" - \"&G874)","v":""},null,{"$f":"IF(OR(ISBLANK(L874),ISBLANK(H874)),\"\",H874+(VLOOKUP(L874,garantie,2,FALSE)))","v":""}]
[874,{"$nulls":9},{"$f":"IF(B875=\"\",\"\",D875&\" - \"&F875&\" - \"&G875)","v":""},null,{"$f":"IF(OR(ISBLANK(L875),ISBLANK(H875)),\"\",H875+(VLOOKUP(L875,garantie,2,FALSE)))","v":""}]
[875,{"$nulls":9},{"$f":"IF(B876=\"\",\"\",D876&\" - \"&F876&\" - \"&G876)","v":""},null,{"$f":"IF(OR(ISBLANK(L876),ISBLANK(H876)),\"\",H876+(VLOOKUP(L876,garantie,2,FALSE)))","v":""}]
[876,{"$nulls":9},{"$f":"IF(B877=\"\",\"\",D877&\" - \"&F877&\" - \"&G877)","v":""},null,{"$f":"IF(OR(ISBLANK(L877),ISBLANK(H877)),\"\",H877+(VLOOKUP(L877,garantie,2,FALSE)))","v":""}]
[877,{"$nulls":9},{"$f":"IF(B878=\"\",\"\",D878&\" - \"&F878&\" - \"&G878)","v":""},null,{"$f":"IF(OR(ISBLANK(L878),ISBLANK(H878)),\"\",H878+(VLOOKUP(L878,garantie,2,FALSE)))","v":""}]
[878,{"$nulls":9},{"$f":"IF(B879=\"\",\"\",D879&\" - \"&F879&\" - \"&G879)","v":""},null,{"$f":"IF(OR(ISBLANK(L879),ISBLANK(H879)),\"\",H879+(VLOOKUP(L879,garantie,2,FALSE)))","v":""}]
[879,{"$nulls":9},{"$f":"IF(B880=\"\",\"\",D880&\" - \"&F880&\" - \"&G880)","v":""},null,{"$f":"IF(OR(ISBLANK(L880),ISBLANK(H880)),\"\",H880+(VLOOKUP(L880,garantie,2,FALSE)))","v":""}]
[880,{"$nulls":9},{"$f":"IF(B881=\"\",\"\",D881&\" - \"&F881&\" - \"&G881)","v":""},null,{"$f":"IF(OR(ISBLANK(L881),ISBLANK(H881)),\"\",H881+(VLOOKUP(L881,garantie,2,FALSE)))","v":""}]
[881,{"$nulls":9},{"$f":"IF(B882=\"\",\"\",D882&\" - \"&F882&\" - \"&G882)","v":""},null,{"$f":"IF(OR(ISBLANK(L882),ISBLANK(H882)),\"\",H882+(VLOOKUP(L882,garantie,2,FALSE)))","v":""}]
[882,{"$nulls":9},{"$f":"IF(B883=\"\",\"\",D883&\" - \"&F883&\" - \"&G883)","v":""},null,{"$f":"IF(OR(ISBLANK(L883),ISBLANK(H883)),\"\",H883+(VLOOKUP(L883,garantie,2,FALSE)))","v":""}]
[883,{"$nulls":9},{"$f":"IF(B884=\"\",\"\",D884&\" - \"&F884&\" - \"&G884)","v":""},null,{"$f":"IF(OR(ISBLANK(L884),ISBLANK(H884)),\"\",H884+(VLOOKUP(L884,garantie,2,FALSE)))","v":""}]
[884,{"$nulls":9},{"$f":"IF(B885=\"\",\"\",D885&\" - \"&F885&\" - \"&G885)","v":""},null,{"$f":"IF(OR(ISBLANK(L885),ISBLANK(H885)),\"\",H885+(VLOOKUP(L885,garantie,2,FALSE)))","v":""}]
[885,{"$nulls":9},{"$f":"IF(B886=\"\",\"\",D886&\" - \"&F886&\" - \"&G886)","v":""},null,{"$f":"IF(OR(ISBLANK(L886),ISBLANK(H886)),\"\",H886+(VLOOKUP(L886,garantie,2,FALSE)))","v":""}]
[886,{"$nulls":9},{"$f":"IF(B887=\"\",\"\",D887&\" - \"&F887&\" - \"&G887)","v":""},null,{"$f":"IF(OR(ISBLANK(L887),ISBLANK(H887)),\"\",H887+(VLOOKUP(L887,garantie,2,FALSE)))","v":""}]
[887,{"$nulls":9},{"$f":"IF(B888=\"\",\"\",D888&\" - \"&F888&\" - \"&G888)","v":""},null,{"$f":"IF(OR(ISBLANK(L888),ISBLANK(H888)),\"\",H888+(VLOOKUP(L888,garantie,2,FALSE)))","v":""}]
[888,{"$nulls":9},{"$f":"IF(B889=\"\",\"\",D889&\" - \"&F889&\" - \"&G889)","v":""},null,{"$f":"IF(OR(ISBLANK(L889),ISBLANK(H889)),\"\",H889+(VLOOKUP(L889,garantie,2,FALSE)))","v":""}]
[889,{"$nulls":9},{"$f":"IF(B890=\"\",\"\",D890&\" - \"&F890&\" - \"&G890)","v":""},null,{"$f":"IF(OR(ISBLANK(L890),ISBLANK(H890)),\"\",H890+(VLOOKUP(L890,garantie,2,FALSE)))","v":""}]
[890,{"$nulls":9},{"$f":"IF(B891=\"\",\"\",D891&\" - \"&F891&\" - \"&G891)","v":""},null,{"$f":"IF(OR(ISBLANK(L891),ISBLANK(H891)),\"\",H891+(VLOOKUP(L891,garantie,2,FALSE)))","v":""}]
[891,{"$nulls":9},{"$f":"IF(B892=\"\",\"\",D892&\" - \"&F892&\" - \"&G892)","v":""},null,{"$f":"IF(OR(ISBLANK(L892),ISBLANK(H892)),\"\",H892+(VLOOKUP(L892,garantie,2,FALSE)))","v":""}]
[892,{"$nulls":9},{"$f":"IF(B893=\"\",\"\",D893&\" - \"&F893&\" - \"&G893)","v":""},null,{"$f":"IF(OR(ISBLANK(L893),ISBLANK(H893)),\"\",H893+(VLOOKUP(L893,garantie,2,FALSE)))","v":""}]
[893,{"$nulls":9},{"$f":"IF(B894=\"\",\"\",D894&\" - \"&F894&\" - \"&G894)","v":""},null,{"$f":"IF(OR(ISBLANK(L894),ISBLANK(H894)),\"\",H894+(VLOOKUP(L894,garantie,2,FALSE)))","v":""}]
[894,{"$nulls":9},{"$f":"IF(B895=\"\",\"\",D895&\" - \"&F895&\" - \"&G895)","v":""},null,{"$f":"IF(OR(ISBLANK(L895),ISBLANK(H895)),\"\",H895+(VLOOKUP(L895,garantie,2,FALSE)))","v":""}]
[895,{"$nulls":9},{"$f":"IF(B896=\"\",\"\",D896&\" - \"&F896&\" - \"&G896)","v":""},null,{"$f":"IF(OR(ISBLANK(L896),ISBLANK(H896)),\"\",H896+(VLOOKUP(L896,garantie,2,FALSE)))","v":""}]
[896,{"$nulls":9},{"$f":"IF(B897=\"\",\"\",D897&\" - \"&F897&\" - \"&G897)","v":""},null,{"$f":"IF(OR(ISBLANK(L897),ISBLANK(H897)),\"\",H897+(VLOOKUP(L897,garantie,2,FALSE)))","v":""}]
[897,{"$nulls":9},{"$f":"IF(B898=\"\",\"\",D898&\" - \"&F898&\" - \"&G898)","v":""},null,{"$f":"IF(OR(ISBLANK(L898),ISBLANK(H898)),\"\",H898+(VLOOKUP(L898,garantie,2,FALSE)))","v":""}]
[898,{"$nulls":9},{"$f":"IF(B899=\"\",\"\",D899&\" - \"&F899&\" - \"&G899)","v":""},null,{"$f":"IF(OR(ISBLANK(L899),ISBLANK(H899)),\"\",H899+(VLOOKUP(L899,garantie,2,FALSE)))","v":""}]
[899,{"$nulls":9},{"$f":"IF(B900=\"\",\"\",D900&\" - \"&F900&\" - \"&G900)","v":""},null,{"$f":"IF(OR(ISBLANK(L900),ISBLANK(H900)),\"\",H900+(VLOOKUP(L900,garantie,2,FALSE)))","v":""}]
[900,{"$nulls":9},{"$f":"IF(B901=\"\",\"\",D901&\" - \"&F901&\" - \"&G901)","v":""},null,{"$f":"IF(OR(ISBLANK(L901),ISBLANK(H901)),\"\",H901+(VLOOKUP(L901,garantie,2,FALSE)))","v":""}]
[901,{"$nulls":9},{"$f":"IF(B902=\"\",\"\",D902&\" - \"&F902&\" - \"&G902)","v":""},null,{"$f":"IF(OR(ISBLANK(L902),ISBLANK(H902)),\"\",H902+(VLOOKUP(L902,garantie,2,FALSE)))","v":""}]
[902,{"$nulls":9},{"$f":"IF(B903=\"\",\"\",D903&\" - \"&F903&\" - \"&G903)","v":""},null,{"$f":"IF(OR(ISBLANK(L903),ISBLANK(H903)),\"\",H903+(VLOOKUP(L903,garantie,2,FALSE)))","v":""}]
[903,{"$nulls":9},{"$f":"IF(B904=\"\",\"\",D904&\" - \"&F904&\" - \"&G904)","v":""},null,{"$f":"IF(OR(ISBLANK(L904),ISBLANK(H904)),\"\",H904+(VLOOKUP(L904,garantie,2,FALSE)))","v":""}]
[904,{"$nulls":9},{"$f":"IF(B905=\"\",\"\",D905&\" - \"&F905&\" - \"&G905)","v":""},null,{"$f":"IF(OR(ISBLANK(L905),ISBLANK(H905)),\"\",H905+(VLOOKUP(L905,garantie,2,FALSE)))","v":""}]
[905,{"$nulls":9},{"$f":"IF(B906=\"\",\"\",D906&\" - \"&F906&\" - \"&G906)","v":""},null,{"$f":"IF(OR(ISBLANK(L906),ISBLANK(H906)),\"\",H906+(VLOOKUP(L906,garantie,2,FALSE)))","v":""}]
[906,{"$nulls":9},{"$f":"IF(B907=\"\",\"\",D907&\" - \"&F907&\" - \"&G907)","v":""},null,{"$f":"IF(OR(ISBLANK(L907),ISBLANK(H907)),\"\",H907+(VLOOKUP(L907,garantie,2,FALSE)))","v":""}]
[907,{"$nulls":9},{"$f":"IF(B908=\"\",\"\",D908&\" - \"&F908&\" - \"&G908)","v":""},null,{"$f":"IF(OR(ISBLANK(L908),ISBLANK(H908)),\"\",H908+(VLOOKUP(L908,garantie,2,FALSE)))","v":""}]
[908,{"$nulls":9},{"$f":"IF(B909=\"\",\"\",D909&\" - \"&F909&\" - \"&G909)","v":""},null,{"$f":"IF(OR(ISBLANK(L909),ISBLANK(H909)),\"\",H909+(VLOOKUP(L909,garantie,2,FALSE)))","v":""}]
[909,{"$nulls":9},{"$f":"IF(B910=\"\",\"\",D910&\" - \"&F910&\" - \"&G910)","v":""},null,{"$f":"IF(OR(ISBLANK(L910),ISBLANK(H910)),\"\",H910+(VLOOKUP(L910,garantie,2,FALSE)))","v":""}]
[910,{"$nulls":9},{"$f":"IF(B911=\"\",\"\",D911&\" - \"&F911&\" - \"&G911)","v":""},null,{"$f":"IF(OR(ISBLANK(L911),ISBLANK(H911)),\"\",H911+(VLOOKUP(L911,garantie,2,FALSE)))","v":""}]
[911,{"$nulls":9},{"$f":"IF(B912=\"\",\"\",D912&\" - \"&F912&\" - \"&G912)","v":""},null,{"$f":"IF(OR(ISBLANK(L912),ISBLANK(H912)),\"\",H912+(VLOOKUP(L912,garantie,2,FALSE)))","v":""}]
[912,{"$nulls":9},{"$f":"IF(B913=\"\",\"\",D913&\" - \"&F913&\" - \"&G913)","v":""},null,{"$f":"IF(OR(ISBLANK(L913),ISBLANK(H913)),\"\",H913+(VLOOKUP(L913,garantie,2,FALSE)))","v":""}]
[913,{"$nulls":9},{"$f":"IF(B914=\"\",\"\",D914&\" - \"&F914&\" - \"&G914)","v":""},null,{"$f":"IF(OR(ISBLANK(L914),ISBLANK(H914)),\"\",H914+(VLOOKUP(L914,garantie,2,FALSE)))","v":""}]
[914,{"$nulls":9},{"$f":"IF(B915=\"\",\"\",D915&\" - \"&F915&\" - \"&G915)","v":""},null,{"$f":"IF(OR(ISBLANK(L915),ISBLANK(H915)),\"\",H915+(VLOOKUP(L915,garantie,2,FALSE)))","v":""}]
[915,{"$nulls":9},{"$f":"IF(B916=\"\",\"\",D916&\" - \"&F916&\" - \"&G916)","v":""},null,{"$f":"IF(OR(ISBLANK(L916),ISBLANK(H916)),\"\",H916+(VLOOKUP(L916,garantie,2,FALSE)))","v":""}]
[916,{"$nulls":9},{"$f":"IF(B917=\"\",\"\",D917&\" - \"&F917&\" - \"&G917)","v":""},null,{"$f":"IF(OR(ISBLANK(L917),ISBLANK(H917)),\"\",H917+(VLOOKUP(L917,garantie,2,FALSE)))","v":""}]
[917,{"$nulls":9},{"$f":"IF(B918=\"\",\"\",D918&\" - \"&F918&\" - \"&G918)","v":""},null,{"$f":"IF(OR(ISBLANK(L918),ISBLANK(H918)),\"\",H918+(VLOOKUP(L918,garantie,2,FALSE)))","v":""}]
[918,{"$nulls":9},{"$f":"IF(B919=\"\",\"\",D919&\" - \"&F919&\" - \"&G919)","v":""},null,{"$f":"IF(OR(ISBLANK(L919),ISBLANK(H919)),\"\",H919+(VLOOKUP(L919,garantie,2,FALSE)))","v":""}]
[919,{"$nulls":9},{"$f":"IF(B920=\"\",\"\",D920&\" - \"&F920&\" - \"&G920)","v":""},null,{"$f":"IF(OR(ISBLANK(L920),ISBLANK(H920)),\"\",H920+(VLOOKUP(L920,garantie,2,FALSE)))","v":""}]
[920,{"$nulls":9},{"$f":"IF(B921=\"\",\"\",D921&\" - \"&F921&\" - \"&G921)","v":""},null,{"$f":"IF(OR(ISBLANK(L921),ISBLANK(H921)),\"\",H921+(VLOOKUP(L921,garantie,2,FALSE)))","v":""}]
[921,{"$nulls":9},{"$f":"IF(B922=\"\",\"\",D922&\" - \"&F922&\" - \"&G922)","v":""},null,{"$f":"IF(OR(ISBLANK(L922),ISBLANK(H922)),\"\",H922+(VLOOKUP(L922,garantie,2,FALSE)))","v":""}]
[922,{"$nulls":9},{"$f":"IF(B923=\"\",\"\",D923&\" - \"&F923&\" - \"&G923)","v":""},null,{"$f":"IF(OR(ISBLANK(L923),ISBLANK(H923)),\"\",H923+(VLOOKUP(L923,garantie,2,FALSE)))","v":""}]
[923,{"$nulls":9},{"$f":"IF(B924=\"\",\"\",D924&\" - \"&F924&\" - \"&G924)","v":""},null,{"$f":"IF(OR(ISBLANK(L924),ISBLANK(H924)),\"\",H924+(VLOOKUP(L924,garantie,2,FALSE)))","v":""}]
[924,{"$nulls":9},{"$f":"IF(B925=\"\",\"\",D925&\" - \"&F925&\" - \"&G925)","v":""},null,{"$f":"IF(OR(ISBLANK(L925),ISBLANK(H925)),\"\",H925+(VLOOKUP(L925,garantie,2,FALSE)))","v":""}]
[925,{"$nulls":9},{"$f":"IF(B926=\"\",\"\",D926&\" - \"&F926&\" - \"&G926)","v":""},null,{"$f":"IF(OR(ISBLANK(L926),ISBLANK(H926)),\"\",H926+(VLOOKUP(L926,garantie,2,FALSE)))","v":""}]
[926,{"$nulls":9},{"$f":"IF(B927=\"\",\"\",D927&\" - \"&F927&\" - \"&G927)","v":""},null,{"$f":"IF(OR(ISBLANK(L927),ISBLANK(H927)),\"\",H927+(VLOOKUP(L927,garantie,2,FALSE)))","v":""}]
[927,{"$nulls":9},{"$f":"IF(B928=\"\",\"\",D928&\" - \"&F928&\" - \"&G928)","v":""},null,{"$f":"IF(OR(ISBLANK(L928),ISBLANK(H928)),\"\",H928+(VLOOKUP(L928,garantie,2,FALSE)))","v":""}]
[928,{"$nulls":9},{"$f":"IF(B929=\"\",\"\",D929&\" - \"&F929&\" - \"&G929)","v":""},null,{"$f":"IF(OR(ISBLANK(L929),ISBLANK(H929)),\"\",H929+(VLOOKUP(L929,garantie,2,FALSE)))","v":""}]
[929,{"$nulls":9},{"$f":"IF(B930=\"\",\"\",D930&\" - \"&F930&\" - \"&G930)","v":""},null,{"$f":"IF(OR(ISBLANK(L930),ISBLANK(H930)),\"\",H930+(VLOOKUP(L930,garantie,2,FALSE)))","v":""}]
[930,{"$nulls":9},{"$f":"IF(B931=\"\",\"\",D931&\" - \"&F931&\" - \"&G931)","v":""},null,{"$f":"IF(OR(ISBLANK(L931),ISBLANK(H931)),\"\",H931+(VLOOKUP(L931,garantie,2,FALSE)))","v":""}]
[931,{"$nulls":9},{"$f":"IF(B932=\"\",\"\",D932&\" - \"&F932&\" - \"&G932)","v":""},null,{"$f":"IF(OR(ISBLANK(L932),ISBLANK(H932)),\"\",H932+(VLOOKUP(L932,garantie,2,FALSE)))","v":""}]
[932,{"$nulls":9},{"$f":"IF(B933=\"\",\"\",D933&\" - \"&F933&\" - \"&G933)","v":""},null,{"$f":"IF(OR(ISBLANK(L933),ISBLANK(H933)),\"\",H933+(VLOOKUP(L933,garantie,2,FALSE)))","v":""}]
[933,{"$nulls":9},{"$f":"IF(B934=\"\",\"\",D934&\" - \"&F934&\" - \"&G934)","v":""},null,{"$f":"IF(OR(ISBLANK(L934),ISBLANK(H934)),\"\",H934+(VLOOKUP(L934,garantie,2,FALSE)))","v":""}]
[934,{"$nulls":9},{"$f":"IF(B935=\"\",\"\",D935&\" - \"&F935&\" - \"&G935)","v":""},null,{"$f":"IF(OR(ISBLANK(L935),ISBLANK(H935)),\"\",H935+(VLOOKUP(L935,garantie,2,FALSE)))","v":""}]
[935,{"$nulls":9},{"$f":"IF(B936=\"\",\"\",D936&\" - \"&F936&\" - \"&G936)","v":""},null,{"$f":"IF(OR(ISBLANK(L936),ISBLANK(H936)),\"\",H936+(VLOOKUP(L936,garantie,2,FALSE)))","v":""}]
[936,{"$nulls":9},{"$f":"IF(B937=\"\",\"\",D937&\" - \"&F937&\" - \"&G937)","v":""},null,{"$f":"IF(OR(ISBLANK(L937),ISBLANK(H937)),\"\",H937+(VLOOKUP(L937,garantie,2,FALSE)))","v":""}]
[937,{"$nulls":9},{"$f":"IF(B938=\"\",\"\",D938&\" - \"&F938&\" - \"&G938)","v":""},null,{"$f":"IF(OR(ISBLANK(L938),ISBLANK(H938)),\"\",H938+(VLOOKUP(L938,garantie,2,FALSE)))","v":""}]
[938,{"$nulls":9},{"$f":"IF(B939=\"\",\"\",D939&\" - \"&F939&\" - \"&G939)","v":""},null,{"$f":"IF(OR(ISBLANK(L939),ISBLANK(H939)),\"\",H939+(VLOOKUP(L939,garantie,2,FALSE)))","v":""}]
[939,{"$nulls":9},{"$f":"IF(B940=\"\",\"\",D940&\" - \"&F940&\" - \"&G940)","v":""},null,{"$f":"IF(OR(ISBLANK(L940),ISBLANK(H940)),\"\",H940+(VLOOKUP(L940,garantie,2,FALSE)))","v":""}]
[940,{"$nulls":9},{"$f":"IF(B941=\"\",\"\",D941&\" - \"&F941&\" - \"&G941)","v":""},null,{"$f":"IF(OR(ISBLANK(L941),ISBLANK(H941)),\"\",H941+(VLOOKUP(L941,garantie,2,FALSE)))","v":""}]
[941,{"$nulls":9},{"$f":"IF(B942=\"\",\"\",D942&\" - \"&F942&\" - \"&G942)","v":""},null,{"$f":"IF(OR(ISBLANK(L942),ISBLANK(H942)),\"\",H942+(VLOOKUP(L942,garantie,2,FALSE)))","v":""}]
[942,{"$nulls":9},{"$f":"IF(B943=\"\",\"\",D943&\" - \"&F943&\" - \"&G943)","v":""},null,{"$f":"IF(OR(ISBLANK(L943),ISBLANK(H943)),\"\",H943+(VLOOKUP(L943,garantie,2,FALSE)))","v":""}]
[943,{"$nulls":9},{"$f":"IF(B944=\"\",\"\",D944&\" - \"&F944&\" - \"&G944)","v":""},null,{"$f":"IF(OR(ISBLANK(L944),ISBLANK(H944)),\"\",H944+(VLOOKUP(L944,garantie,2,FALSE)))","v":""}]
[944,{"$nulls":9},{"$f":"IF(B945=\"\",\"\",D945&\" - \"&F945&\" - \"&G945)","v":""},null,{"$f":"IF(OR(ISBLANK(L945),ISBLANK(H945)),\"\",H945+(VLOOKUP(L945,garantie,2,FALSE)))","v":""}]
[945,{"$nulls":9},{"$f":"IF(B946=\"\",\"\",D946&\" - \"&F946&\" - \"&G946)","v":""},null,{"$f":"IF(OR(ISBLANK(L946),ISBLANK(H946)),\"\",H946+(VLOOKUP(L946,garantie,2,FALSE)))","v":""}]
[946,{"$nulls":9},{"$f":"IF(B947=\"\",\"\",D947&\" - \"&F947&\" - \"&G947)","v":""},null,{"$f":"IF(OR(ISBLANK(L947),ISBLANK(H947)),\"\",H947+(VLOOKUP(L947,garantie,2,FALSE)))","v":""}]
[947,{"$nulls":9},{"$f":"IF(B948=\"\",\"\",D948&\" - \"&F948&\" - \"&G948)","v":""},null,{"$f":"IF(OR(ISBLANK(L948),ISBLANK(H948)),\"\",H948+(VLOOKUP(L948,garantie,2,FALSE)))","v":""}]
[948,{"$nulls":9},{"$f":"IF(B949=\"\",\"\",D949&\" - \"&F949&\" - \"&G949)","v":""},null,{"$f":"IF(OR(ISBLANK(L949),ISBLANK(H949)),\"\",H949+(VLOOKUP(L949,garantie,2,FALSE)))","v":""}]
[949,{"$nulls":9},{"$f":"IF(B950=\"\",\"\",D950&\" - \"&F950&\" - \"&G950)","v":""},null,{"$f":"IF(OR(ISBLANK(L950),ISBLANK(H950)),\"\",H950+(VLOOKUP(L950,garantie,2,FALSE)))","v":""}]
[950,{"$nulls":9},{"$f":"IF(B951=\"\",\"\",D951&\" - \"&F951&\" - \"&G951)","v":""},null,{"$f":"IF(OR(ISBLANK(L951),ISBLANK(H951)),\"\",H951+(VLOOKUP(L951,garantie,2,FALSE)))","v":""}]
[951,{"$nulls":9},{"$f":"IF(B952=\"\",\"\",D952&\" - \"&F952&\" - \"&G952)","v":""},null,{"$f":"IF(OR(ISBLANK(L952),ISBLANK(H952)),\"\",H952+(VLOOKUP(L952,garantie,2,FALSE)))","v":""}]
[952,{"$nulls":9},{"$f":"IF(B953=\"\",\"\",D953&\" - \"&F953&\" - \"&G953)","v":""},null,{"$f":"IF(OR(ISBLANK(L953),ISBLANK(H953)),\"\",H953+(VLOOKUP(L953,garantie,2,FALSE)))","v":""}]
[953,{"$nulls":9},{"$f":"IF(B954=\"\",\"\",D954&\" - \"&F954&\" - \"&G954)","v":""},null,{"$f":"IF(OR(ISBLANK(L954),ISBLANK(H954)),\"\",H954+(VLOOKUP(L954,garantie,2,FALSE)))","v":""}]
[954,{"$nulls":9},{"$f":"IF(B955=\"\",\"\",D955&\" - \"&F955&\" - \"&G955)","v":""},null,{"$f":"IF(OR(ISBLANK(L955),ISBLANK(H955)),\"\",H955+(VLOOKUP(L955,garantie,2,FALSE)))","v":""}]
[955,{"$nulls":9},{"$f":"IF(B956=\"\",\"\",D956&\" - \"&F956&\" - \"&G956)","v":""},null,{"$f":"IF(OR(ISBLANK(L956),ISBLANK(H956)),\"\",H956+(VLOOKUP(L956,garantie,2,FALSE)))","v":""}]
[956,{"$nulls":9},{"$f":"IF(B957=\"\",\"\",D957&\" - \"&F957&\" - \"&G957)","v":""},null,{"$f":"IF(OR(ISBLANK(L957),ISBLANK(H957)),\"\",H957+(VLOOKUP(L957,garantie,2,FALSE)))","v":""}]
[957,{"$nulls":9},{"$f":"IF(B958=\"\",\"\",D958&\" - \"&F958&\" - \"&G958)","v":""},null,{"$f":"IF(OR(ISBLANK(L958),ISBLANK(H958)),\"\",H958+(VLOOKUP(L958,garantie,2,FALSE)))","v":""}]
[958,{"$nulls":9},{"$f":"IF(B959=\"\",\"\",D959&\" - \"&F959&\" - \"&G959)","v":""},null,{"$f":"IF(OR(ISBLANK(L959),ISBLANK(H959)),\"\",H959+(VLOOKUP(L959,garantie,2,FALSE)))","v":""}]
[959,{"$nulls":9},{"$f":"IF(B960=\"\",\"\",D960&\" - \"&F960&\" - \"&G960)","v":""},null,{"$f":"IF(OR(ISBLANK(L960),ISBLANK(H960)),\"\",H960+(VLOOKUP(L960,garantie,2,FALSE)))","v":""}]
[960,{"$nulls":9},{"$f":"IF(B961=\"\",\"\",D961&\" - \"&F961&\" - \"&G961)","v":""},null,{"$f":"IF(OR(ISBLANK(L961),ISBLANK(H961)),\"\",H961+(VLOOKUP(L961,garantie,2,FALSE)))","v":""}]
[961,{"$nulls":9},{"$f":"IF(B962=\"\",\"\",D962&\" - \"&F962&\" - \"&G962)","v":""},null,{"$f":"IF(OR(ISBLANK(L962),ISBLANK(H962)),\"\",H962+(VLOOKUP(L962,garantie,2,FALSE)))","v":""}]
[962,{"$nulls":9},{"$f":"IF(B963=\"\",\"\",D963&\" - \"&F963&\" - \"&G963)","v":""},null,{"$f":"IF(OR(ISBLANK(L963),ISBLANK(H963)),\"\",H963+(VLOOKUP(L963,garantie,2,FALSE)))","v":""}]
[963,{"$nulls":9},{"$f":"IF(B964=\"\",\"\",D964&\" - \"&F964&\" - \"&G964)","v":""},null,{"$f":"IF(OR(ISBLANK(L964),ISBLANK(H964)),\"\",H964+(VLOOKUP(L964,garantie,2,FALSE)))","v":""}]
[964,{"$nulls":9},{"$f":"IF(B965=\"\",\"\",D965&\" - \"&F965&\" - \"&G965)","v":""},null,{"$f":"IF(OR(ISBLANK(L965),ISBLANK(H965)),\"\",H965+(VLOOKUP(L965,garantie,2,FALSE)))","v":""}]
[965,{"$nulls":9},{"$f":"IF(B966=\"\",\"\",D966&\" - \"&F966&\" - \"&G966)","v":""},null,{"$f":"IF(OR(ISBLANK(L966),ISBLANK(H966)),\"\",H966+(VLOOKUP(L966,garantie,2,FALSE)))","v":""}]
[966,{"$nulls":9},{"$f":"IF(B967=\"\",\"\",D967&\" - \"&F967&\" - \"&G967)","v":""},null,{"$f":"IF(OR(ISBLANK(L967),ISBLANK(H967)),\"\",H967+(VLOOKUP(L967,garantie,2,FALSE)))","v":""}]
[967,{"$nulls":9},{"$f":"IF(B968=\"\",\"\",D968&\" - \"&F968&\" - \"&G968)","v":""},null,{"$f":"IF(OR(ISBLANK(L968),ISBLANK(H968)),\"\",H968+(VLOOKUP(L968,garantie,2,FALSE)))","v":""}]
[968,{"$nulls":9},{"$f":"IF(B969=\"\",\"\",D969&\" - \"&F969&\" - \"&G969)","v":""},null,{"$f":"IF(OR(ISBLANK(L969),ISBLANK(H969)),\"\",H969+(VLOOKUP(L969,garantie,2,FALSE)))","v":""}]
[969,{"$nulls":9},{"$f":"IF(B970=\"\",\"\",D970&\" - \"&F970&\" - \"&G970)","v":""},null,{"$f":"IF(OR(ISBLANK(L970),ISBLANK(H970)),\"\",H970+(VLOOKUP(L970,garantie,2,FALSE)))","v":""}]
[970,{"$nulls":9},{"$f":"IF(B971=\"\",\"\",D971&\" - \"&F971&\" - \"&G971)","v":""},null,{"$f":"IF(OR(ISBLANK(L971),ISBLANK(H971)),\"\",H971+(VLOOKUP(L971,garantie,2,FALSE)))","v":""}]
[971,{"$nulls":9},{"$f":"IF(B972=\"\",\"\",D972&\" - \"&F972&\" - \"&G972)","v":""},null,{"$f":"IF(OR(ISBLANK(L972),ISBLANK(H972)),\"\",H972+(VLOOKUP(L972,garantie,2,FALSE)))","v":""}]
[972,{"$nulls":9},{"$f":"IF(B973=\"\",\"\",D973&\" - \"&F973&\" - \"&G973)","v":""},null,{"$f":"IF(OR(ISBLANK(L973),ISBLANK(H973)),\"\",H973+(VLOOKUP(L973,garantie,2,FALSE)))","v":""}]
[973,{"$nulls":9},{"$f":"IF(B974=\"\",\"\",D974&\" - \"&F974&\" - \"&G974)","v":""},null,{"$f":"IF(OR(ISBLANK(L974),ISBLANK(H974)),\"\",H974+(VLOOKUP(L974,garantie,2,FALSE)))","v":""}]
[974,{"$nulls":9},{"$f":"IF(B975=\"\",\"\",D975&\" - \"&F975&\" - \"&G975)","v":""},null,{"$f":"IF(OR(ISBLANK(L975),ISBLANK(H975)),\"\",H975+(VLOOKUP(L975,garantie,2,FALSE)))","v":""}]
[975,{"$nulls":9},{"$f":"IF(B976=\"\",\"\",D976&\" - \"&F976&\" - \"&G976)","v":""},null,{"$f":"IF(OR(ISBLANK(L976),ISBLANK(H976)),\"\",H976+(VLOOKUP(L976,garantie,2,FALSE)))","v":""}]
[976,{"$nulls":9},{"$f":"IF(B977=\"\",\"\",D977&\" - \"&F977&\" - \"&G977)","v":""},null,{"$f":"IF(OR(ISBLANK(L977),ISBLANK(H977)),\"\",H977+(VLOOKUP(L977,garantie,2,FALSE)))","v":""}]
[977,{"$nulls":9},{"$f":"IF(B978=\"\",\"\",D978&\" - \"&F978&\" - \"&G978)","v":""},null,{"$f":"IF(OR(ISBLANK(L978),ISBLANK(H978)),\"\",H978+(VLOOKUP(L978,garantie,2,FALSE)))","v":""}]
[978,{"$nulls":9},{"$f":"IF(B979=\"\",\"\",D979&\" - \"&F979&\" - \"&G979)","v":""},null,{"$f":"IF(OR(ISBLANK(L979),ISBLANK(H979)),\"\",H979+(VLOOKUP(L979,garantie,2,FALSE)))","v":""}]
[979,{"$nulls":9},{"$f":"IF(B980=\"\",\"\",D980&\" - \"&F980&\" - \"&G980)","v":""},null,{"$f":"IF(OR(ISBLANK(L980),ISBLANK(H980)),\"\",H980+(VLOOKUP(L980,garantie,2,FALSE)))","v":""}]
[980,{"$nulls":9},{"$f":"IF(B981=\"\",\"\",D981&\" - \"&F981&\" - \"&G981)","v":""},null,{"$f":"IF(OR(ISBLANK(L981),ISBLANK(H981)),\"\",H981+(VLOOKUP(L981,garantie,2,FALSE)))","v":""}]
[981,{"$nulls":9},{"$f":"IF(B982=\"\",\"\",D982&\" - \"&F982&\" - \"&G982)","v":""},null,{"$f":"IF(OR(ISBLANK(L982),ISBLANK(H982)),\"\",H982+(VLOOKUP(L982,garantie,2,FALSE)))","v":""}]
[982,{"$nulls":9},{"$f":"IF(B983=\"\",\"\",D983&\" - \"&F983&\" - \"&G983)","v":""},null,{"$f":"IF(OR(ISBLANK(L983),ISBLANK(H983)),\"\",H983+(VLOOKUP(L983,garantie,2,FALSE)))","v":""}]
[983,{"$nulls":9},{"$f":"IF(B984=\"\",\"\",D984&\" - \"&F984&\" - \"&G984)","v":""},null,{"$f":"IF(OR(ISBLANK(L984),ISBLANK(H984)),\"\",H984+(VLOOKUP(L984,garantie,2,FALSE)))","v":""}]
[984,{"$nulls":9},{"$f":"IF(B985=\"\",\"\",D985&\" - \"&F985&\" - \"&G985)","v":""},null,{"$f":"IF(OR(ISBLANK(L985),ISBLANK(H985)),\"\",H985+(VLOOKUP(L985,garantie,2,FALSE)))","v":""}]
[985,{"$nulls":9},{"$f":"IF(B986=\"\",\"\",D986&\" - \"&F986&\" - \"&G986)","v":""},null,{"$f":"IF(OR(ISBLANK(L986),ISBLANK(H986)),\"\",H986+(VLOOKUP(L986,garantie,2,FALSE)))","v":""}]
[986,{"$nulls":9},{"$f":"IF(B987=\"\",\"\",D987&\" - \"&F987&\" - \"&G987)","v":""},null,{"$f":"IF(OR(ISBLANK(L987),ISBLANK(H987)),\"\",H987+(VLOOKUP(L987,garantie,2,FALSE)))","v":""}]
[987,{"$nulls":9},{"$f":"IF(B988=\"\",\"\",D988&\" - \"&F988&\" - \"&G988)","v":""},null,{"$f":"IF(OR(ISBLANK(L988),ISBLANK(H988)),\"\",H988+(VLOOKUP(L988,garantie,2,FALSE)))","v":""}]
[988,{"$nulls":9},{"$f":"IF(B989=\"\",\"\",D989&\" - \"&F989&\" - \"&G989)","v":""},null,{"$f":"IF(OR(ISBLANK(L989),ISBLANK(H989)),\"\",H989+(VLOOKUP(L989,garantie,2,FALSE)))","v":""}]
[989,{"$nulls":9},{"$f":"IF(B990=\"\",\"\",D990&\" - \"&F990&\" - \"&G990)","v":""},null,{"$f":"IF(OR(ISBLANK(L990),ISBLANK(H990)),\"\",H990+(VLOOKUP(L990,garantie,2,FALSE)))","v":""}]
[990,{"$nulls":9},{"$f":"IF(B991=\"\",\"\",D991&\" - \"&F991&\" - \"&G991)","v":""},null,{"$f":"IF(OR(ISBLANK(L991),ISBLANK(H991)),\"\",H991+(VLOOKUP(L991,garantie,2,FALSE)))","v":""}]
[991,{"$nulls":9},{"$f":"IF(B992=\"\",\"\",D992&\" - \"&F992&\" - \"&G992)","v":""},null,{"$f":"IF(OR(ISBLANK(L992),ISBLANK(H992)),\"\",H992+(VLOOKUP(L992,garantie,2,FALSE)))","v":""}]
[992,{"$nulls":9},{"$f":"IF(B993=\"\",\"\",D993&\" - \"&F993&\" - \"&G993)","v":""},null,{"$f":"IF(OR(ISBLANK(L993),ISBLANK(H993)),\"\",H993+(VLOOKUP(L993,garantie,2,FALSE)))","v":""}]
[993,{"$nulls":9},{"$f":"IF(B994=\"\",\"\",D994&\" - \"&F994&\" - \"&G994)","v":""},null,{"$f":"IF(OR(ISBLANK(L994),ISBLANK(H994)),\"\",H994+(VLOOKUP(L994,garantie,2,FALSE)))","v":""}]
[994,{"$nulls":9},{"$f":"IF(B995=\"\",\"\",D995&\" - \"&F995&\" - \"&G995)","v":""},null,{"$f":"IF(OR(ISBLANK(L995),ISBLANK(H995)),\"\",H995+(VLOOKUP(L995,garantie,2,FALSE)))","v":""}]
[995,{"$nulls":9},{"$f":"IF(B996=\"\",\"\",D996&\" - \"&F996&\" - \"&G996)","v":""},null,{"$f":"IF(OR(ISBLANK(L996),ISBLANK(H996)),\"\",H996+(VLOOKUP(L996,garantie,2,FALSE)))","v":""}]
[996,{"$nulls":9},{"$f":"IF(B997=\"\",\"\",D997&\" - \"&F997&\" - \"&G997)","v":""},null,{"$f":"IF(OR(ISBLANK(L997),ISBLANK(H997)),\"\",H997+(VLOOKUP(L997,garantie,2,FALSE)))","v":""}]
[997,{"$nulls":9},{"$f":"IF(B998=\"\",\"\",D998&\" - \"&F998&\" - \"&G998)","v":""},null,{"$f":"IF(OR(ISBLANK(L998),ISBLANK(H998)),\"\",H998+(VLOOKUP(L998,garantie,2,FALSE)))","v":""}]
[998,{"$nulls":9},{"$f":"IF(B999=\"\",\"\",D999&\" - \"&F999&\" - \"&G999)","v":""},null,{"$f":"IF(OR(ISBLANK(L999),ISBLANK(H999)),\"\",H999+(VLOOKUP(L999,garantie,2,FALSE)))","v":""}]
[999,{"$nulls":9},{"$f":"IF(B1000=\"\",\"\",D1000&\" - \"&F1000&\" - \"&G1000)","v":""},null,{"$f":"IF(OR(ISBLANK(L1000),ISBLANK(H1000)),\"\",H1000+(VLOOKUP(L1000,garantie,2,FALSE)))","v":""}]
[1000,{"$nulls":9},{"$f":"IF(B1001=\"\",\"\",D1001&\" - \"&F1001&\" - \"&G1001)","v":""},null,{"$f":"IF(OR(ISBLANK(L1001),ISBLANK(H1001)),\"\",H1001+(VLOOKUP(L1001,garantie,2,FALSE)))","v":""}]
[1001,{"$nulls":9},{"$f":"IF(B1002=\"\",\"\",D1002&\" - \"&F1002&\" - \"&G1002)","v":""},null,{"$f":"IF(OR(ISBLANK(L1002),ISBLANK(H1002)),\"\",H1002+(VLOOKUP(L1002,garantie,2,FALSE)))","v":""}]
[1002,{"$nulls":9},{"$f":"IF(B1003=\"\",\"\",D1003&\" - \"&F1003&\" - \"&G1003)","v":""},null,{"$f":"IF(OR(ISBLANK(L1003),ISBLANK(H1003)),\"\",H1003+(VLOOKUP(L1003,garantie,2,FALSE)))","v":""}]
[1003,{"$nulls":9},{"$f":"IF(B1004=\"\",\"\",D1004&\" - \"&F1004&\" - \"&G1004)","v":""},null,{"$f":"IF(OR(ISBLANK(L1004),ISBLANK(H1004)),\"\",H1004+(VLOOKUP(L1004,garantie,2,FALSE)))","v":""}]
[1004,{"$nulls":9},{"$f":"IF(B1005=\"\",\"\",D1005&\" - \"&F1005&\" - \"&G1005)","v":""},null,{"$f":"IF(OR(ISBLANK(L1005),ISBLANK(H1005)),\"\",H1005+(VLOOKUP(L1005,garantie,2,FALSE)))","v":""}]
[1005,{"$nulls":9},{"$f":"IF(B1006=\"\",\"\",D1006&\" - \"&F1006&\" - \"&G1006)","v":""},null,{"$f":"IF(OR(ISBLANK(L1006),ISBLANK(H1006)),\"\",H1006+(VLOOKUP(L1006,garantie,2,FALSE)))","v":""}]
[1006,{"$nulls":9},{"$f":"IF(B1007=\"\",\"\",D1007&\" - \"&F1007&\" - \"&G1007)","v":""},null,{"$f":"IF(OR(ISBLANK(L1007),ISBLANK(H1007)),\"\",H1007+(VLOOKUP(L1007,garantie,2,FALSE)))","v":""}]
[1007,{"$nulls":9},{"$f":"IF(B1008=\"\",\"\",D1008&\" - \"&F1008&\" - \"&G1008)","v":""},null,{"$f":"IF(OR(ISBLANK(L1008),ISBLANK(H1008)),\"\",H1008+(VLOOKUP(L1008,garantie,2,FALSE)))","v":""}]
[1008,{"$nulls":9},{"$f":"IF(B1009=\"\",\"\",D1009&\" - \"&F1009&\" - \"&G1009)","v":""},null,{"$f":"IF(OR(ISBLANK(L1009),ISBLANK(H1009)),\"\",H1009+(VLOOKUP(L1009,garantie,2,FALSE)))","v":""}]
[1009,{"$nulls":9},{"$f":"IF(B1010=\"\",\"\",D1010&\" - \"&F1010&\" - \"&G1010)","v":""},null,{"$f":"IF(OR(ISBLANK(L1010),ISBLANK(H1010)),\"\",H1010+(VLOOKUP(L1010,garantie,2,FALSE)))","v":""}]
[1010,{"$nulls":9},{"$f":"IF(B1011=\"\",\"\",D1011&\" - \"&F1011&\" - \"&G1011)","v":""},null,{"$f":"IF(OR(ISBLANK(L1011),ISBLANK(H1011)),\"\",H1011+(VLOOKUP(L1011,garantie,2,FALSE)))","v":""}]
[1011,{"$nulls":9},{"$f":"IF(B1012=\"\",\"\",D1012&\" - \"&F1012&\" - \"&G1012)","v":""},null,{"$f":"IF(OR(ISBLANK(L1012),ISBLANK(H1012)),\"\",H1012+(VLOOKUP(L1012,garantie,2,FALSE)))","v":""}]
[1012,{"$nulls":9},{"$f":"IF(B1013=\"\",\"\",D1013&\" - \"&F1013&\" - \"&G1013)","v":""},null,{"$f":"IF(OR(ISBLANK(L1013),ISBLANK(H1013)),\"\",H1013+(VLOOKUP(L1013,garantie,2,FALSE)))","v":""}]
[1013,{"$nulls":9},{"$f":"IF(B1014=\"\",\"\",D1014&\" - \"&F1014&\" - \"&G1014)","v":""},null,{"$f":"IF(OR(ISBLANK(L1014),ISBLANK(H1014)),\"\",H1014+(VLOOKUP(L1014,garantie,2,FALSE)))","v":""}]
[1014,{"$nulls":9},{"$f":"IF(B1015=\"\",\"\",D1015&\" - \"&F1015&\" - \"&G1015)","v":""},null,{"$f":"IF(OR(ISBLANK(L1015),ISBLANK(H1015)),\"\",H1015+(VLOOKUP(L1015,garantie,2,FALSE)))","v":""}]
[1015,{"$nulls":9},{"$f":"IF(B1016=\"\",\"\",D1016&\" - \"&F1016&\" - \"&G1016)","v":""},null,{"$f":"IF(OR(ISBLANK(L1016),ISBLANK(H1016)),\"\",H1016+(VLOOKUP(L1016,garantie,2,FALSE)))","v":""}]
[1016,{"$nulls":9},{"$f":"IF(B1017=\"\",\"\",D1017&\" - \"&F1017&\" - \"&G1017)","v":""},null,{"$f":"IF(OR(ISBLANK(L1017),ISBLANK(H1017)),\"\",H1017+(VLOOKUP(L1017,garantie,2,FALSE)))","v":""}]
[1017,{"$nulls":9},{"$f":"IF(B1018=\"\",\"\",D1018&\" - \"&F1018&\" - \"&G1018)","v":""},null,{"$f":"IF(OR(ISBLANK(L1018),ISBLANK(H1018)),\"\",H1018+(VLOOKUP(L1018,garantie,2,FALSE)))","v":""}]
[1018,{"$nulls":9},{"$f":"IF(B1019=\"\",\"\",D1019&\" - \"&F1019&\" - \"&G1019)","v":""},null,{"$f":"IF(OR(ISBLANK(L1019),ISBLANK(H1019)),\"\",H1019+(VLOOKUP(L1019,garantie,2,FALSE)))","v":""}]
[1019,{"$nulls":9},{"$f":"IF(B1020=\"\",\"\",D1020&\" - \"&F1020&\" - \"&G1020)","v":""},null,{"$f":"IF(OR(ISBLANK(L1020),ISBLANK(H1020)),\"\",H1020+(VLOOKUP(L1020,garantie,2,FALSE)))","v":""}]
[1020,{"$nulls":9},{"$f":"IF(B1021=\"\",\"\",D1021&\" - \"&F1021&\" - \"&G1021)","v":""},null,{"$f":"IF(OR(ISBLANK(L1021),ISBLANK(H1021)),\"\",H1021+(VLOOKUP(L1021,garantie,2,FALSE)))","v":""}]
[1021,{"$nulls":9},{"$f":"IF(B1022=\"\",\"\",D1022&\" - \"&F1022&\" - \"&G1022)","v":""},null,{"$f":"IF(OR(ISBLANK(L1022),ISBLANK(H1022)),\"\",H1022+(VLOOKUP(L1022,garantie,2,FALSE)))","v":""}]
[1022,{"$nulls":9},{"$f":"IF(B1023=\"\",\"\",D1023&\" - \"&F1023&\" - \"&G1023)","v":""},null,{"$f":"IF(OR(ISBLANK(L1023),ISBLANK(H1023)),\"\",H1023+(VLOOKUP(L1023,garantie,2,FALSE)))","v":""}]
[1023,{"$nulls":9},{"$f":"IF(B1024=\"\",\"\",D1024&\" - \"&F1024&\" - \"&G1024)","v":""},null,{"$f":"IF(OR(ISBLANK(L1024),ISBLANK(H1024)),\"\",H1024+(VLOOKUP(L1024,garantie,2,FALSE)))","v":""}]
[1024,{"$nulls":9},{"$f":"IF(B1025=\"\",\"\",D1025&\" - \"&F1025&\" - \"&G1025)","v":""},null,{"$f":"IF(OR(ISBLANK(L1025),ISBLANK(H1025)),\"\",H1025+(VLOOKUP(L1025,garantie,2,FALSE)))","v":""}]
[1025,{"$nulls":9},{"$f":"IF(B1026=\"\",\"\",D1026&\" - \"&F1026&\" - \"&G1026)","v":""},null,{"$f":"IF(OR(ISBLANK(L1026),ISBLANK(H1026)),\"\",H1026+(VLOOKUP(L1026,garantie,2,FALSE)))","v":""}]
[1026,{"$nulls":9},{"$f":"IF(B1027=\"\",\"\",D1027&\" - \"&F1027&\" - \"&G1027)","v":""},null,{"$f":"IF(OR(ISBLANK(L1027),ISBLANK(H1027)),\"\",H1027+(VLOOKUP(L1027,garantie,2,FALSE)))","v":""}]
[1027,{"$nulls":9},{"$f":"IF(B1028=\"\",\"\",D1028&\" - \"&F1028&\" - \"&G1028)","v":""},null,{"$f":"IF(OR(ISBLANK(L1028),ISBLANK(H1028)),\"\",H1028+(VLOOKUP(L1028,garantie,2,FALSE)))","v":""}]
[1028,{"$nulls":9},{"$f":"IF(B1029=\"\",\"\",D1029&\" - \"&F1029&\" - \"&G1029)","v":""},null,{"$f":"IF(OR(ISBLANK(L1029),ISBLANK(H1029)),\"\",H1029+(VLOOKUP(L1029,garantie,2,FALSE)))","v":""}]
[1029,{"$nulls":9},{"$f":"IF(B1030=\"\",\"\",D1030&\" - \"&F1030&\" - \"&G1030)","v":""},null,{"$f":"IF(OR(ISBLANK(L1030),ISBLANK(H1030)),\"\",H1030+(VLOOKUP(L1030,garantie,2,FALSE)))","v":""}]
[1030,{"$nulls":9},{"$f":"IF(B1031=\"\",\"\",D1031&\" - \"&F1031&\" - \"&G1031)","v":""},null,{"$f":"IF(OR(ISBLANK(L1031),ISBLANK(H1031)),\"\",H1031+(VLOOKUP(L1031,garantie,2,FALSE)))","v":""}]
[1031,{"$nulls":9},{"$f":"IF(B1032=\"\",\"\",D1032&\" - \"&F1032&\" - \"&G1032)","v":""},null,{"$f":"IF(OR(ISBLANK(L1032),ISBLANK(H1032)),\"\",H1032+(VLOOKUP(L1032,garantie,2,FALSE)))","v":""}]
[1032,{"$nulls":9},{"$f":"IF(B1033=\"\",\"\",D1033&\" - \"&F1033&\" - \"&G1033)","v":""},null,{"$f":"IF(OR(ISBLANK(L1033),ISBLANK(H1033)),\"\",H1033+(VLOOKUP(L1033,garantie,2,FALSE)))","v":""}]
[1033,{"$nulls":9},{"$f":"IF(B1034=\"\",\"\",D1034&\" - \"&F1034&\" - \"&G1034)","v":""},null,{"$f":"IF(OR(ISBLANK(L1034),ISBLANK(H1034)),\"\",H1034+(VLOOKUP(L1034,garantie,2,FALSE)))","v":""}]
[1034,{"$nulls":9},{"$f":"IF(B1035=\"\",\"\",D1035&\" - \"&F1035&\" - \"&G1035)","v":""},null,{"$f":"IF(OR(ISBLANK(L1035),ISBLANK(H1035)),\"\",H1035+(VLOOKUP(L1035,garantie,2,FALSE)))","v":""}]
[1035,{"$nulls":9},{"$f":"IF(B1036=\"\",\"\",D1036&\" - \"&F1036&\" - \"&G1036)","v":""},null,{"$f":"IF(OR(ISBLANK(L1036),ISBLANK(H1036)),\"\",H1036+(VLOOKUP(L1036,garantie,2,FALSE)))","v":""}]
[1036,{"$nulls":9},{"$f":"IF(B1037=\"\",\"\",D1037&\" - \"&F1037&\" - \"&G1037)","v":""},null,{"$f":"IF(OR(ISBLANK(L1037),ISBLANK(H1037)),\"\",H1037+(VLOOKUP(L1037,garantie,2,FALSE)))","v":""}]
[1037,{"$nulls":9},{"$f":"IF(B1038=\"\",\"\",D1038&\" - \"&F1038&\" - \"&G1038)","v":""},null,{"$f":"IF(OR(ISBLANK(L1038),ISBLANK(H1038)),\"\",H1038+(VLOOKUP(L1038,garantie,2,FALSE)))","v":""}]
[1038,{"$nulls":9},{"$f":"IF(B1039=\"\",\"\",D1039&\" - \"&F1039&\" - \"&G1039)","v":""},null,{"$f":"IF(OR(ISBLANK(L1039),ISBLANK(H1039)),\"\",H1039+(VLOOKUP(L1039,garantie,2,FALSE)))","v":""}]
[1039,{"$nulls":9},{"$f":"IF(B1040=\"\",\"\",D1040&\" - \"&F1040&\" - \"&G1040)","v":""},null,{"$f":"IF(OR(ISBLANK(L1040),ISBLANK(H1040)),\"\",H1040+(VLOOKUP(L1040,garantie,2,FALSE)))","v":""}]
[1040,{"$nulls":9},{"$f":"IF(B1041=\"\",\"\",D1041&\" - \"&F1041&\" - \"&G1041)","v":""},null,{"$f":"IF(OR(ISBLANK(L1041),ISBLANK(H1041)),\"\",H1041+(VLOOKUP(L1041,garantie,2,FALSE)))","v":""}]
[1041,{"$nulls":9},{"$f":"IF(B1042=\"\",\"\",D1042&\" - \"&F1042&\" - \"&G1042)","v":""},null,{"$f":"IF(OR(ISBLANK(L1042),ISBLANK(H1042)),\"\",H1042+(VLOOKUP(L1042,garantie,2,FALSE)))","v":""}]
[1042,{"$nulls":9},{"$f":"IF(B1043=\"\",\"\",D1043&\" - \"&F1043&\" - \"&G1043)","v":""},null,{"$f":"IF(OR(ISBLANK(L1043),ISBLANK(H1043)),\"\",H1043+(VLOOKUP(L1043,garantie,2,FALSE)))","v":""}]
[1043,{"$nulls":9},{"$f":"IF(B1044=\"\",\"\",D1044&\" - \"&F1044&\" - \"&G1044)","v":""},null,{"$f":"IF(OR(ISBLANK(L1044),ISBLANK(H1044)),\"\",H1044+(VLOOKUP(L1044,garantie,2,FALSE)))","v":""}]
[1044,{"$nulls":9},{"$f":"IF(B1045=\"\",\"\",D1045&\" - \"&F1045&\" - \"&G1045)","v":""},null,{"$f":"IF(OR(ISBLANK(L1045),ISBLANK(H1045)),\"\",H1045+(VLOOKUP(L1045,garantie,2,FALSE)))","v":""}]
[1045,{"$nulls":9},{"$f":"IF(B1046=\"\",\"\",D1046&\" - \"&F1046&\" - \"&G1046)","v":""},null,{"$f":"IF(OR(ISBLANK(L1046),ISBLANK(H1046)),\"\",H1046+(VLOOKUP(L1046,garantie,2,FALSE)))","v":""}]
[1046,{"$nulls":9},{"$f":"IF(B1047=\"\",\"\",D1047&\" - \"&F1047&\" - \"&G1047)","v":""},null,{"$f":"IF(OR(ISBLANK(L1047),ISBLANK(H1047)),\"\",H1047+(VLOOKUP(L1047,garantie,2,FALSE)))","v":""}]
[1047,{"$nulls":9},{"$f":"IF(B1048=\"\",\"\",D1048&\" - \"&F1048&\" - \"&G1048)","v":""},null,{"$f":"IF(OR(ISBLANK(L1048),ISBLANK(H1048)),\"\",H1048+(VLOOKUP(L1048,garantie,2,FALSE)))","v":""}]
[1048,{"$nulls":9},{"$f":"IF(B1049=\"\",\"\",D1049&\" - \"&F1049&\" - \"&G1049)","v":""},null,{"$f":"IF(OR(ISBLANK(L1049),ISBLANK(H1049)),\"\",H1049+(VLOOKUP(L1049,garantie,2,FALSE)))","v":""}]
[1049,{"$nulls":9},{"$f":"IF(B1050=\"\",\"\",D1050&\" - \"&F1050&\" - \"&G1050)","v":""},null,{"$f":"IF(OR(ISBLANK(L1050),ISBLANK(H1050)),\"\",H1050+(VLOOKUP(L1050,garantie,2,FALSE)))","v":""}]
[1050,{"$nulls":9},{"$f":"IF(B1051=\"\",\"\",D1051&\" - \"&F1051&\" - \"&G1051)","v":""},null,{"$f":"IF(OR(ISBLANK(L1051),ISBLANK(H1051)),\"\",H1051+(VLOOKUP(L1051,garantie,2,FALSE)))","v":""}]
[1051,{"$nulls":9},{"$f":"IF(B1052=\"\",\"\",D1052&\" - \"&F1052&\" - \"&G1052)","v":""},null,{"$f":"IF(OR(ISBLANK(L1052),ISBLANK(H1052)),\"\",H1052+(VLOOKUP(L1052,garantie,2,FALSE)))","v":""}]
[1052,{"$nulls":9},{"$f":"IF(B1053=\"\",\"\",D1053&\" - \"&F1053&\" - \"&G1053)","v":""},null,{"$f":"IF(OR(ISBLANK(L1053),ISBLANK(H1053)),\"\",H1053+(VLOOKUP(L1053,garantie,2,FALSE)))","v":""}]
[1053,{"$nulls":9},{"$f":"IF(B1054=\"\",\"\",D1054&\" - \"&F1054&\" - \"&G1054)","v":""},null,{"$f":"IF(OR(ISBLANK(L1054),ISBLANK(H1054)),\"\",H1054+(VLOOKUP(L1054,garantie,2,FALSE)))","v":""}]
[1054,{"$nulls":9},{"$f":"IF(B1055=\"\",\"\",D1055&\" - \"&F1055&\" - \"&G1055)","v":""},null,{"$f":"IF(OR(ISBLANK(L1055),ISBLANK(H1055)),\"\",H1055+(VLOOKUP(L1055,garantie,2,FALSE)))","v":""}]
[1055,{"$nulls":9},{"$f":"IF(B1056=\"\",\"\",D1056&\" - \"&F1056&\" - \"&G1056)","v":""},null,{"$f":"IF(OR(ISBLANK(L1056),ISBLANK(H1056)),\"\",H1056+(VLOOKUP(L1056,garantie,2,FALSE)))","v":""}]
[1056,{"$nulls":9},{"$f":"IF(B1057=\"\",\"\",D1057&\" - \"&F1057&\" - \"&G1057)","v":""},null,{"$f":"IF(OR(ISBLANK(L1057),ISBLANK(H1057)),\"\",H1057+(VLOOKUP(L1057,garantie,2,FALSE)))","v":""}]
[1057,{"$nulls":9},{"$f":"IF(B1058=\"\",\"\",D1058&\" - \"&F1058&\" - \"&G1058)","v":""},null,{"$f":"IF(OR(ISBLANK(L1058),ISBLANK(H1058)),\"\",H1058+(VLOOKUP(L1058,garantie,2,FALSE)))","v":""}]
[1058,{"$nulls":9},{"$f":"IF(B1059=\"\",\"\",D1059&\" - \"&F1059&\" - \"&G1059)","v":""},null,{"$f":"IF(OR(ISBLANK(L1059),ISBLANK(H1059)),\"\",H1059+(VLOOKUP(L1059,garantie,2,FALSE)))","v":""}]
[1059,{"$nulls":9},{"$f":"IF(B1060=\"\",\"\",D1060&\" - \"&F1060&\" - \"&G1060)","v":""},null,{"$f":"IF(OR(ISBLANK(L1060),ISBLANK(H1060)),\"\",H1060+(VLOOKUP(L1060,garantie,2,FALSE)))","v":""}]
[1060,{"$nulls":9},{"$f":"IF(B1061=\"\",\"\",D1061&\" - \"&F1061&\" - \"&G1061)","v":""},null,{"$f":"IF(OR(ISBLANK(L1061),ISBLANK(H1061)),\"\",H1061+(VLOOKUP(L1061,garantie,2,FALSE)))","v":""}]
[1061,{"$nulls":9},{"$f":"IF(B1062=\"\",\"\",D1062&\" - \"&F1062&\" - \"&G1062)","v":""},null,{"$f":"IF(OR(ISBLANK(L1062),ISBLANK(H1062)),\"\",H1062+(VLOOKUP(L1062,garantie,2,FALSE)))","v":""}]
[1062,{"$nulls":9},{"$f":"IF(B1063=\"\",\"\",D1063&\" - \"&F1063&\" - \"&G1063)","v":""},null,{"$f":"IF(OR(ISBLANK(L1063),ISBLANK(H1063)),\"\",H1063+(VLOOKUP(L1063,garantie,2,FALSE)))","v":""}]
[1063,{"$nulls":9},{"$f":"IF(B1064=\"\",\"\",D1064&\" - \"&F1064&\" - \"&G1064)","v":""},null,{"$f":"IF(OR(ISBLANK(L1064),ISBLANK(H1064)),\"\",H1064+(VLOOKUP(L1064,garantie,2,FALSE)))","v":""}]
[1064,{"$nulls":9},{"$f":"IF(B1065=\"\",\"\",D1065&\" - \"&F1065&\" - \"&G1065)","v":""},null,{"$f":"IF(OR(ISBLANK(L1065),ISBLANK(H1065)),\"\",H1065+(VLOOKUP(L1065,garantie,2,FALSE)))","v":""}]
[1065,{"$nulls":9},{"$f":"IF(B1066=\"\",\"\",D1066&\" - \"&F1066&\" - \"&G1066)","v":""},null,{"$f":"IF(OR(ISBLANK(L1066),ISBLANK(H1066)),\"\",H1066+(VLOOKUP(L1066,garantie,2,FALSE)))","v":""}]
[1066,{"$nulls":9},{"$f":"IF(B1067=\"\",\"\",D1067&\" - \"&F1067&\" - \"&G1067)","v":""},null,{"$f":"IF(OR(ISBLANK(L1067),ISBLANK(H1067)),\"\",H1067+(VLOOKUP(L1067,garantie,2,FALSE)))","v":""}]
[1067,{"$nulls":9},{"$f":"IF(B1068=\"\",\"\",D1068&\" - \"&F1068&\" - \"&G1068)","v":""},null,{"$f":"IF(OR(ISBLANK(L1068),ISBLANK(H1068)),\"\",H1068+(VLOOKUP(L1068,garantie,2,FALSE)))","v":""}]
[1068,{"$nulls":9},{"$f":"IF(B1069=\"\",\"\",D1069&\" - \"&F1069&\" - \"&G1069)","v":""},null,{"$f":"IF(OR(ISBLANK(L1069),ISBLANK(H1069)),\"\",H1069+(VLOOKUP(L1069,garantie,2,FALSE)))","v":""}]
[1069,{"$nulls":9},{"$f":"IF(B1070=\"\",\"\",D1070&\" - \"&F1070&\" - \"&G1070)","v":""},null,{"$f":"IF(OR(ISBLANK(L1070),ISBLANK(H1070)),\"\",H1070+(VLOOKUP(L1070,garantie,2,FALSE)))","v":""}]
[1070,{"$nulls":9},{"$f":"IF(B1071=\"\",\"\",D1071&\" - \"&F1071&\" - \"&G1071)","v":""},null,{"$f":"IF(OR(ISBLANK(L1071),ISBLANK(H1071)),\"\",H1071+(VLOOKUP(L1071,garantie,2,FALSE)))","v":""}]
[1071,{"$nulls":9},{"$f":"IF(B1072=\"\",\"\",D1072&\" - \"&F1072&\" - \"&G1072)","v":""},null,{"$f":"IF(OR(ISBLANK(L1072),ISBLANK(H1072)),\"\",H1072+(VLOOKUP(L1072,garantie,2,FALSE)))","v":""}]
[1072,{"$nulls":9},{"$f":"IF(B1073=\"\",\"\",D1073&\" - \"&F1073&\" - \"&G1073)","v":""},null,{"$f":"IF(OR(ISBLANK(L1073),ISBLANK(H1073)),\"\",H1073+(VLOOKUP(L1073,garantie,2,FALSE)))","v":""}]
[1073,{"$nulls":9},{"$f":"IF(B1074=\"\",\"\",D1074&\" - \"&F1074&\" - \"&G1074)","v":""},null,{"$f":"IF(OR(ISBLANK(L1074),ISBLANK(H1074)),\"\",H1074+(VLOOKUP(L1074,garantie,2,FALSE)))","v":""}]
[1074,{"$nulls":9},{"$f":"IF(B1075=\"\",\"\",D1075&\" - \"&F1075&\" - \"&G1075)","v":""},null,{"$f":"IF(OR(ISBLANK(L1075),ISBLANK(H1075)),\"\",H1075+(VLOOKUP(L1075,garantie,2,FALSE)))","v":""}]
[1075,{"$nulls":9},{"$f":"IF(B1076=\"\",\"\",D1076&\" - \"&F1076&\" - \"&G1076)","v":""},null,{"$f":"IF(OR(ISBLANK(L1076),ISBLANK(H1076)),\"\",H1076+(VLOOKUP(L1076,garantie,2,FALSE)))","v":""}]
[1076,{"$nulls":9},{"$f":"IF(B1077=\"\",\"\",D1077&\" - \"&F1077&\" - \"&G1077)","v":""},null,{"$f":"IF(OR(ISBLANK(L1077),ISBLANK(H1077)),\"\",H1077+(VLOOKUP(L1077,garantie,2,FALSE)))","v":""}]
[1077,{"$nulls":9},{"$f":"IF(B1078=\"\",\"\",D1078&\" - \"&F1078&\" - \"&G1078)","v":""},null,{"$f":"IF(OR(ISBLANK(L1078),ISBLANK(H1078)),\"\",H1078+(VLOOKUP(L1078,garantie,2,FALSE)))","v":""}]
[1078,{"$nulls":9},{"$f":"IF(B1079=\"\",\"\",D1079&\" - \"&F1079&\" - \"&G1079)","v":""},null,{"$f":"IF(OR(ISBLANK(L1079),ISBLANK(H1079)),\"\",H1079+(VLOOKUP(L1079,garantie,2,FALSE)))","v":""}]
[1079,{"$nulls":9},{"$f":"IF(B1080=\"\",\"\",D1080&\" - \"&F1080&\" - \"&G1080)","v":""},null,{"$f":"IF(OR(ISBLANK(L1080),ISBLANK(H1080)),\"\",H1080+(VLOOKUP(L1080,garantie,2,FALSE)))","v":""}]
[1080,{"$nulls":9},{"$f":"IF(B1081=\"\",\"\",D1081&\" - \"&F1081&\" - \"&G1081)","v":""},null,{"$f":"IF(OR(ISBLANK(L1081),ISBLANK(H1081)),\"\",H1081+(VLOOKUP(L1081,garantie,2,FALSE)))","v":""}]
[1081,{"$nulls":9},{"$f":"IF(B1082=\"\",\"\",D1082&\" - \"&F1082&\" - \"&G1082)","v":""},null,{"$f":"IF(OR(ISBLANK(L1082),ISBLANK(H1082)),\"\",H1082+(VLOOKUP(L1082,garantie,2,FALSE)))","v":""}]
[1082,{"$nulls":9},{"$f":"IF(B1083=\"\",\"\",D1083&\" - \"&F1083&\" - \"&G1083)","v":""},null,{"$f":"IF(OR(ISBLANK(L1083),ISBLANK(H1083)),\"\",H1083+(VLOOKUP(L1083,garantie,2,FALSE)))","v":""}]
[1083,{"$nulls":9},{"$f":"IF(B1084=\"\",\"\",D1084&\" - \"&F1084&\" - \"&G1084)","v":""},null,{"$f":"IF(OR(ISBLANK(L1084),ISBLANK(H1084)),\"\",H1084+(VLOOKUP(L1084,garantie,2,FALSE)))","v":""}]
[1084,{"$nulls":9},{"$f":"IF(B1085=\"\",\"\",D1085&\" - \"&F1085&\" - \"&G1085)","v":""},null,{"$f":"IF(OR(ISBLANK(L1085),ISBLANK(H1085)),\"\",H1085+(VLOOKUP(L1085,garantie,2,FALSE)))","v":""}]
[1085,{"$nulls":9},{"$f":"IF(B1086=\"\",\"\",D1086&\" - \"&F1086&\" - \"&G1086)","v":""},null,{"$f":"IF(OR(ISBLANK(L1086),ISBLANK(H1086)),\"\",H1086+(VLOOKUP(L1086,garantie,2,FALSE)))","v":""}]
[1086,{"$nulls":9},{"$f":"IF(B1087=\"\",\"\",D1087&\" - \"&F1087&\" - \"&G1087)","v":""},null,{"$f":"IF(OR(ISBLANK(L1087),ISBLANK(H1087)),\"\",H1087+(VLOOKUP(L1087,garantie,2,FALSE)))","v":""}]
[1087,{"$nulls":9},{"$f":"IF(B1088=\"\",\"\",D1088&\" - \"&F1088&\" - \"&G1088)","v":""},null,{"$f":"IF(OR(ISBLANK(L1088),ISBLANK(H1088)),\"\",H1088+(VLOOKUP(L1088,garantie,2,FALSE)))","v":""}]
[1088,{"$nulls":9},{"$f":"IF(B1089=\"\",\"\",D1089&\" - \"&F1089&\" - \"&G1089)","v":""},null,{"$f":"IF(OR(ISBLANK(L1089),ISBLANK(H1089)),\"\",H1089+(VLOOKUP(L1089,garantie,2,FALSE)))","v":""}]
[1089,{"$nulls":9},{"$f":"IF(B1090=\"\",\"\",D1090&\" - \"&F1090&\" - \"&G1090)","v":""},null,{"$f":"IF(OR(ISBLANK(L1090),ISBLANK(H1090)),\"\",H1090+(VLOOKUP(L1090,garantie,2,FALSE)))","v":""}]
[1090,{"$nulls":9},{"$f":"IF(B1091=\"\",\"\",D1091&\" - \"&F1091&\" - \"&G1091)","v":""},null,{"$f":"IF(OR(ISBLANK(L1091),ISBLANK(H1091)),\"\",H1091+(VLOOKUP(L1091,garantie,2,FALSE)))","v":""}]
[1091,{"$nulls":9},{"$f":"IF(B1092=\"\",\"\",D1092&\" - \"&F1092&\" - \"&G1092)","v":""},null,{"$f":"IF(OR(ISBLANK(L1092),ISBLANK(H1092)),\"\",H1092+(VLOOKUP(L1092,garantie,2,FALSE)))","v":""}]
[1092,{"$nulls":9},{"$f":"IF(B1093=\"\",\"\",D1093&\" - \"&F1093&\" - \"&G1093)","v":""},null,{"$f":"IF(OR(ISBLANK(L1093),ISBLANK(H1093)),\"\",H1093+(VLOOKUP(L1093,garantie,2,FALSE)))","v":""}]
[1093,{"$nulls":9},{"$f":"IF(B1094=\"\",\"\",D1094&\" - \"&F1094&\" - \"&G1094)","v":""},null,{"$f":"IF(OR(ISBLANK(L1094),ISBLANK(H1094)),\"\",H1094+(VLOOKUP(L1094,garantie,2,FALSE)))","v":""}]
[1094,{"$nulls":9},{"$f":"IF(B1095=\"\",\"\",D1095&\" - \"&F1095&\" - \"&G1095)","v":""},null,{"$f":"IF(OR(ISBLANK(L1095),ISBLANK(H1095)),\"\",H1095+(VLOOKUP(L1095,garantie,2,FALSE)))","v":""}]
[1095,{"$nulls":9},{"$f":"IF(B1096=\"\",\"\",D1096&\" - \"&F1096&\" - \"&G1096)","v":""},null,{"$f":"IF(OR(ISBLANK(L1096),ISBLANK(H1096)),\"\",H1096+(VLOOKUP(L1096,garantie,2,FALSE)))","v":""}]
[1096,{"$nulls":9},{"$f":"IF(B1097=\"\",\"\",D1097&\" - \"&F1097&\" - \"&G1097)","v":""},null,{"$f":"IF(OR(ISBLANK(L1097),ISBLANK(H1097)),\"\",H1097+(VLOOKUP(L1097,garantie,2,FALSE)))","v":""}]
[1097,{"$nulls":9},{"$f":"IF(B1098=\"\",\"\",D1098&\" - \"&F1098&\" - \"&G1098)","v":""},null,{"$f":"IF(OR(ISBLANK(L1098),ISBLANK(H1098)),\"\",H1098+(VLOOKUP(L1098,garantie,2,FALSE)))","v":""}]
[1098,{"$nulls":9},{"$f":"IF(B1099=\"\",\"\",D1099&\" - \"&F1099&\" - \"&G1099)","v":""},null,{"$f":"IF(OR(ISBLANK(L1099),ISBLANK(H1099)),\"\",H1099+(VLOOKUP(L1099,garantie,2,FALSE)))","v":""}]
[1099,{"$nulls":9},{"$f":"IF(B1100=\"\",\"\",D1100&\" - \"&F1100&\" - \"&G1100)","v":""},null,{"$f":"IF(OR(ISBLANK(L1100),ISBLANK(H1100)),\"\",H1100+(VLOOKUP(L1100,garantie,2,FALSE)))","v":""}]
[1100,{"$nulls":9},{"$f":"IF(B1101=\"\",\"\",D1101&\" - \"&F1101&\" - \"&G1101)","v":""},null,{"$f":"IF(OR(ISBLANK(L1101),ISBLANK(H1101)),\"\",H1101+(VLOOKUP(L1101,garantie,2,FALSE)))","v":""}]
[1101,{"$nulls":9},{"$f":"IF(B1102=\"\",\"\",D1102&\" - \"&F1102&\" - \"&G1102)","v":""},null,{"$f":"IF(OR(ISBLANK(L1102),ISBLANK(H1102)),\"\",H1102+(VLOOKUP(L1102,garantie,2,FALSE)))","v":""}]
[1102,{"$nulls":9},{"$f":"IF(B1103=\"\",\"\",D1103&\" - \"&F1103&\" - \"&G1103)","v":""},null,{"$f":"IF(OR(ISBLANK(L1103),ISBLANK(H1103)),\"\",H1103+(VLOOKUP(L1103,garantie,2,FALSE)))","v":""}]
[1103,{"$nulls":9},{"$f":"IF(B1104=\"\",\"\",D1104&\" - \"&F1104&\" - \"&G1104)","v":""},null,{"$f":"IF(OR(ISBLANK(L1104),ISBLANK(H1104)),\"\",H1104+(VLOOKUP(L1104,garantie,2,FALSE)))","v":""}]
[1104,{"$nulls":9},{"$f":"IF(B1105=\"\",\"\",D1105&\" - \"&F1105&\" - \"&G1105)","v":""},null,{"$f":"IF(OR(ISBLANK(L1105),ISBLANK(H1105)),\"\",H1105+(VLOOKUP(L1105,garantie,2,FALSE)))","v":""}]
[1105,{"$nulls":9},{"$f":"IF(B1106=\"\",\"\",D1106&\" - \"&F1106&\" - \"&G1106)","v":""},null,{"$f":"IF(OR(ISBLANK(L1106),ISBLANK(H1106)),\"\",H1106+(VLOOKUP(L1106,garantie,2,FALSE)))","v":""}]
[1106,{"$nulls":9},{"$f":"IF(B1107=\"\",\"\",D1107&\" - \"&F1107&\" - \"&G1107)","v":""},null,{"$f":"IF(OR(ISBLANK(L1107),ISBLANK(H1107)),\"\",H1107+(VLOOKUP(L1107,garantie,2,FALSE)))","v":""}]
[1107,{"$nulls":9},{"$f":"IF(B1108=\"\",\"\",D1108&\" - \"&F1108&\" - \"&G1108)","v":""},null,{"$f":"IF(OR(ISBLANK(L1108),ISBLANK(H1108)),\"\",H1108+(VLOOKUP(L1108,garantie,2,FALSE)))","v":""}]
[1108,{"$nulls":9},{"$f":"IF(B1109=\"\",\"\",D1109&\" - \"&F1109&\" - \"&G1109)","v":""},null,{"$f":"IF(OR(ISBLANK(L1109),ISBLANK(H1109)),\"\",H1109+(VLOOKUP(L1109,garantie,2,FALSE)))","v":""}]
[1109,{"$nulls":9},{"$f":"IF(B1110=\"\",\"\",D1110&\" - \"&F1110&\" - \"&G1110)","v":""},null,{"$f":"IF(OR(ISBLANK(L1110),ISBLANK(H1110)),\"\",H1110+(VLOOKUP(L1110,garantie,2,FALSE)))","v":""}]
[1110,{"$nulls":9},{"$f":"IF(B1111=\"\",\"\",D1111&\" - \"&F1111&\" - \"&G1111)","v":""},null,{"$f":"IF(OR(ISBLANK(L1111),ISBLANK(H1111)),\"\",H1111+(VLOOKUP(L1111,garantie,2,FALSE)))","v":""}]
[1111,{"$nulls":9},{"$f":"IF(B1112=\"\",\"\",D1112&\" - \"&F1112&\" - \"&G1112)","v":""},null,{"$f":"IF(OR(ISBLANK(L1112),ISBLANK(H1112)),\"\",H1112+(VLOOKUP(L1112,garantie,2,FALSE)))","v":""}]
[1112,{"$nulls":9},{"$f":"IF(B1113=\"\",\"\",D1113&\" - \"&F1113&\" - \"&G1113)","v":""},null,{"$f":"IF(OR(ISBLANK(L1113),ISBLANK(H1113)),\"\",H1113+(VLOOKUP(L1113,garantie,2,FALSE)))","v":""}]
[1113,{"$nulls":9},{"$f":"IF(B1114=\"\",\"\",D1114&\" - \"&F1114&\" - \"&G1114)","v":""},null,{"$f":"IF(OR(ISBLANK(L1114),ISBLANK(H1114)),\"\",H1114+(VLOOKUP(L1114,garantie,2,FALSE)))","v":""}]
[1114,{"$nulls":9},{"$f":"IF(B1115=\"\",\"\",D1115&\" - \"&F1115&\" - \"&G1115)","v":""},null,{"$f":"IF(OR(ISBLANK(L1115),ISBLANK(H1115)),\"\",H1115+(VLOOKUP(L1115,garantie,2,FALSE)))","v":""}]
[1115,{"$nulls":9},{"$f":"IF(B1116=\"\",\"\",D1116&\" - \"&F1116&\" - \"&G1116)","v":""},null,{"$f":"IF(OR(ISBLANK(L1116),ISBLANK(H1116)),\"\",H1116+(VLOOKUP(L1116,garantie,2,FALSE)))","v":""}]
[1116,{"$nulls":9},{"$f":"IF(B1117=\"\",\"\",D1117&\" - \"&F1117&\" - \"&G1117)","v":""},null,{"$f":"IF(OR(ISBLANK(L1117),ISBLANK(H1117)),\"\",H1117+(VLOOKUP(L1117,garantie,2,FALSE)))","v":""}]
[1117,{"$nulls":9},{"$f":"IF(B1118=\"\",\"\",D1118&\" - \"&F1118&\" - \"&G1118)","v":""},null,{"$f":"IF(OR(ISBLANK(L1118),ISBLANK(H1118)),\"\",H1118+(VLOOKUP(L1118,garantie,2,FALSE)))","v":""}]
[1118,{"$nulls":9},{"$f":"IF(B1119=\"\",\"\",D1119&\" - \"&F1119&\" - \"&G1119)","v":""},null,{"$f":"IF(OR(ISBLANK(L1119),ISBLANK(H1119)),\"\",H1119+(VLOOKUP(L1119,garantie,2,FALSE)))","v":""}]
[1119,{"$nulls":9},{"$f":"IF(B1120=\"\",\"\",D1120&\" - \"&F1120&\" - \"&G1120)","v":""},null,{"$f":"IF(OR(ISBLANK(L1120),ISBLANK(H1120)),\"\",H1120+(VLOOKUP(L1120,garantie,2,FALSE)))","v":""}]
[1120,{"$nulls":9},{"$f":"IF(B1121=\"\",\"\",D1121&\" - \"&F1121&\" - \"&G1121)","v":""},null,{"$f":"IF(OR(ISBLANK(L1121),ISBLANK(H1121)),\"\",H1121+(VLOOKUP(L1121,garantie,2,FALSE)))","v":""}]
[1121,{"$nulls":9},{"$f":"IF(B1122=\"\",\"\",D1122&\" - \"&F1122&\" - \"&G1122)","v":""},null,{"$f":"IF(OR(ISBLANK(L1122),ISBLANK(H1122)),\"\",H1122+(VLOOKUP(L1122,garantie,2,FALSE)))","v":""}]
[1122,{"$nulls":9},{"$f":"IF(B1123=\"\",\"\",D1123&\" - \"&F1123&\" - \"&G1123)","v":""},null,{"$f":"IF(OR(ISBLANK(L1123),ISBLANK(H1123)),\"\",H1123+(VLOOKUP(L1123,garantie,2,FALSE)))","v":""}]
[1123,{"$nulls":9},{"$f":"IF(B1124=\"\",\"\",D1124&\" - \"&F1124&\" - \"&G1124)","v":""},null,{"$f":"IF(OR(ISBLANK(L1124),ISBLANK(H1124)),\"\",H1124+(VLOOKUP(L1124,garantie,2,FALSE)))","v":""}]
[1124,{"$nulls":9},{"$f":"IF(B1125=\"\",\"\",D1125&\" - \"&F1125&\" - \"&G1125)","v":""},null,{"$f":"IF(OR(ISBLANK(L1125),ISBLANK(H1125)),\"\",H1125+(VLOOKUP(L1125,garantie,2,FALSE)))","v":""}]
[1125,{"$nulls":9},{"$f":"IF(B1126=\"\",\"\",D1126&\" - \"&F1126&\" - \"&G1126)","v":""},null,{"$f":"IF(OR(ISBLANK(L1126),ISBLANK(H1126)),\"\",H1126+(VLOOKUP(L1126,garantie,2,FALSE)))","v":""}]
[1126,{"$nulls":9},{"$f":"IF(B1127=\"\",\"\",D1127&\" - \"&F1127&\" - \"&G1127)","v":""},null,{"$f":"IF(OR(ISBLANK(L1127),ISBLANK(H1127)),\"\",H1127+(VLOOKUP(L1127,garantie,2,FALSE)))","v":""}]
[1127,{"$nulls":9},{"$f":"IF(B1128=\"\",\"\",D1128&\" - \"&F1128&\" - \"&G1128)","v":""},null,{"$f":"IF(OR(ISBLANK(L1128),ISBLANK(H1128)),\"\",H1128+(VLOOKUP(L1128,garantie,2,FALSE)))","v":""}]
[1128,{"$nulls":9},{"$f":"IF(B1129=\"\",\"\",D1129&\" - \"&F1129&\" - \"&G1129)","v":""},null,{"$f":"IF(OR(ISBLANK(L1129),ISBLANK(H1129)),\"\",H1129+(VLOOKUP(L1129,garantie,2,FALSE)))","v":""}]
[1129,{"$nulls":9},{"$f":"IF(B1130=\"\",\"\",D1130&\" - \"&F1130&\" - \"&G1130)","v":""},null,{"$f":"IF(OR(ISBLANK(L1130),ISBLANK(H1130)),\"\",H1130+(VLOOKUP(L1130,garantie,2,FALSE)))","v":""}]
[1130,{"$nulls":9},{"$f":"IF(B1131=\"\",\"\",D1131&\" - \"&F1131&\" - \"&G1131)","v":""},null,{"$f":"IF(OR(ISBLANK(L1131),ISBLANK(H1131)),\"\",H1131+(VLOOKUP(L1131,garantie,2,FALSE)))","v":""}]
[1131,{"$nulls":9},{"$f":"IF(B1132=\"\",\"\",D1132&\" - \"&F1132&\" - \"&G1132)","v":""},null,{"$f":"IF(OR(ISBLANK(L1132),ISBLANK(H1132)),\"\",H1132+(VLOOKUP(L1132,garantie,2,FALSE)))","v":""}]
[1132,{"$nulls":9},{"$f":"IF(B1133=\"\",\"\",D1133&\" - \"&F1133&\" - \"&G1133)","v":""},null,{"$f":"IF(OR(ISBLANK(L1133),ISBLANK(H1133)),\"\",H1133+(VLOOKUP(L1133,garantie,2,FALSE)))","v":""}]
[1133,{"$nulls":9},{"$f":"IF(B1134=\"\",\"\",D1134&\" - \"&F1134&\" - \"&G1134)","v":""},null,{"$f":"IF(OR(ISBLANK(L1134),ISBLANK(H1134)),\"\",H1134+(VLOOKUP(L1134,garantie,2,FALSE)))","v":""}]
[1134,{"$nulls":9},{"$f":"IF(B1135=\"\",\"\",D1135&\" - \"&F1135&\" - \"&G1135)","v":""},null,{"$f":"IF(OR(ISBLANK(L1135),ISBLANK(H1135)),\"\",H1135+(VLOOKUP(L1135,garantie,2,FALSE)))","v":""}]
[1135,{"$nulls":9},{"$f":"IF(B1136=\"\",\"\",D1136&\" - \"&F1136&\" - \"&G1136)","v":""},null,{"$f":"IF(OR(ISBLANK(L1136),ISBLANK(H1136)),\"\",H1136+(VLOOKUP(L1136,garantie,2,FALSE)))","v":""}]
[1136,{"$nulls":9},{"$f":"IF(B1137=\"\",\"\",D1137&\" - \"&F1137&\" - \"&G1137)","v":""},null,{"$f":"IF(OR(ISBLANK(L1137),ISBLANK(H1137)),\"\",H1137+(VLOOKUP(L1137,garantie,2,FALSE)))","v":""}]
[1137,{"$nulls":9},{"$f":"IF(B1138=\"\",\"\",D1138&\" - \"&F1138&\" - \"&G1138)","v":""},null,{"$f":"IF(OR(ISBLANK(L1138),ISBLANK(H1138)),\"\",H1138+(VLOOKUP(L1138,garantie,2,FALSE)))","v":""}]
[1138,{"$nulls":9},{"$f":"IF(B1139=\"\",\"\",D1139&\" - \"&F1139&\" - \"&G1139)","v":""},null,{"$f":"IF(OR(ISBLANK(L1139),ISBLANK(H1139)),\"\",H1139+(VLOOKUP(L1139,garantie,2,FALSE)))","v":""}]
[1139,{"$nulls":9},{"$f":"IF(B1140=\"\",\"\",D1140&\" - \"&F1140&\" - \"&G1140)","v":""},null,{"$f":"IF(OR(ISBLANK(L1140),ISBLANK(H1140)),\"\",H1140+(VLOOKUP(L1140,garantie,2,FALSE)))","v":""}]
[1140,{"$nulls":9},{"$f":"IF(B1141=\"\",\"\",D1141&\" - \"&F1141&\" - \"&G1141)","v":""},null,{"$f":"IF(OR(ISBLANK(L1141),ISBLANK(H1141)),\"\",H1141+(VLOOKUP(L1141,garantie,2,FALSE)))","v":""}]
[1141,{"$nulls":9},{"$f":"IF(B1142=\"\",\"\",D1142&\" - \"&F1142&\" - \"&G1142)","v":""},null,{"$f":"IF(OR(ISBLANK(L1142),ISBLANK(H1142)),\"\",H1142+(VLOOKUP(L1142,garantie,2,FALSE)))","v":""}]
[1142,{"$nulls":9},{"$f":"IF(B1143=\"\",\"\",D1143&\" - \"&F1143&\" - \"&G1143)","v":""},null,{"$f":"IF(OR(ISBLANK(L1143),ISBLANK(H1143)),\"\",H1143+(VLOOKUP(L1143,garantie,2,FALSE)))","v":""}]
[1143,{"$nulls":9},{"$f":"IF(B1144=\"\",\"\",D1144&\" - \"&F1144&\" - \"&G1144)","v":""},null,{"$f":"IF(OR(ISBLANK(L1144),ISBLANK(H1144)),\"\",H1144+(VLOOKUP(L1144,garantie,2,FALSE)))","v":""}]
[1144,{"$nulls":9},{"$f":"IF(B1145=\"\",\"\",D1145&\" - \"&F1145&\" - \"&G1145)","v":""},null,{"$f":"IF(OR(ISBLANK(L1145),ISBLANK(H1145)),\"\",H1145+(VLOOKUP(L1145,garantie,2,FALSE)))","v":""}]
[1145,{"$nulls":9},{"$f":"IF(B1146=\"\",\"\",D1146&\" - \"&F1146&\" - \"&G1146)","v":""},null,{"$f":"IF(OR(ISBLANK(L1146),ISBLANK(H1146)),\"\",H1146+(VLOOKUP(L1146,garantie,2,FALSE)))","v":""}]
[1146,{"$nulls":9},{"$f":"IF(B1147=\"\",\"\",D1147&\" - \"&F1147&\" - \"&G1147)","v":""},null,{"$f":"IF(OR(ISBLANK(L1147),ISBLANK(H1147)),\"\",H1147+(VLOOKUP(L1147,garantie,2,FALSE)))","v":""}]
[1147,{"$nulls":9},{"$f":"IF(B1148=\"\",\"\",D1148&\" - \"&F1148&\" - \"&G1148)","v":""},null,{"$f":"IF(OR(ISBLANK(L1148),ISBLANK(H1148)),\"\",H1148+(VLOOKUP(L1148,garantie,2,FALSE)))","v":""}]
[1148,{"$nulls":9},{"$f":"IF(B1149=\"\",\"\",D1149&\" - \"&F1149&\" - \"&G1149)","v":""},null,{"$f":"IF(OR(ISBLANK(L1149),ISBLANK(H1149)),\"\",H1149+(VLOOKUP(L1149,garantie,2,FALSE)))","v":""}]
[1149,{"$nulls":9},{"$f":"IF(B1150=\"\",\"\",D1150&\" - \"&F1150&\" - \"&G1150)","v":""},null,{"$f":"IF(OR(ISBLANK(L1150),ISBLANK(H1150)),\"\",H1150+(VLOOKUP(L1150,garantie,2,FALSE)))","v":""}]
[1150,{"$nulls":9},{"$f":"IF(B1151=\"\",\"\",D1151&\" - \"&F1151&\" - \"&G1151)","v":""},null,{"$f":"IF(OR(ISBLANK(L1151),ISBLANK(H1151)),\"\",H1151+(VLOOKUP(L1151,garantie,2,FALSE)))","v":""}]
[1151,{"$nulls":9},{"$f":"IF(B1152=\"\",\"\",D1152&\" - \"&F1152&\" - \"&G1152)","v":""},null,{"$f":"IF(OR(ISBLANK(L1152),ISBLANK(H1152)),\"\",H1152+(VLOOKUP(L1152,garantie,2,FALSE)))","v":""}]
[1152,{"$nulls":9},{"$f":"IF(B1153=\"\",\"\",D1153&\" - \"&F1153&\" - \"&G1153)","v":""},null,{"$f":"IF(OR(ISBLANK(L1153),ISBLANK(H1153)),\"\",H1153+(VLOOKUP(L1153,garantie,2,FALSE)))","v":""}]
[1153,{"$nulls":9},{"$f":"IF(B1154=\"\",\"\",D1154&\" - \"&F1154&\" - \"&G1154)","v":""},null,{"$f":"IF(OR(ISBLANK(L1154),ISBLANK(H1154)),\"\",H1154+(VLOOKUP(L1154,garantie,2,FALSE)))","v":""}]
[1154,{"$nulls":9},{"$f":"IF(B1155=\"\",\"\",D1155&\" - \"&F1155&\" - \"&G1155)","v":""},null,{"$f":"IF(OR(ISBLANK(L1155),ISBLANK(H1155)),\"\",H1155+(VLOOKUP(L1155,garantie,2,FALSE)))","v":""}]
[1155,{"$nulls":9},{"$f":"IF(B1156=\"\",\"\",D1156&\" - \"&F1156&\" - \"&G1156)","v":""},null,{"$f":"IF(OR(ISBLANK(L1156),ISBLANK(H1156)),\"\",H1156+(VLOOKUP(L1156,garantie,2,FALSE)))","v":""}]
[1156,{"$nulls":9},{"$f":"IF(B1157=\"\",\"\",D1157&\" - \"&F1157&\" - \"&G1157)","v":""},null,{"$f":"IF(OR(ISBLANK(L1157),ISBLANK(H1157)),\"\",H1157+(VLOOKUP(L1157,garantie,2,FALSE)))","v":""}]
[1157,{"$nulls":9},{"$f":"IF(B1158=\"\",\"\",D1158&\" - \"&F1158&\" - \"&G1158)","v":""},null,{"$f":"IF(OR(ISBLANK(L1158),ISBLANK(H1158)),\"\",H1158+(VLOOKUP(L1158,garantie,2,FALSE)))","v":""}]
[1158,{"$nulls":9},{"$f":"IF(B1159=\"\",\"\",D1159&\" - \"&F1159&\" - \"&G1159)","v":""},null,{"$f":"IF(OR(ISBLANK(L1159),ISBLANK(H1159)),\"\",H1159+(VLOOKUP(L1159,garantie,2,FALSE)))","v":""}]
[1159,{"$nulls":9},{"$f":"IF(B1160=\"\",\"\",D1160&\" - \"&F1160&\" - \"&G1160)","v":""},null,{"$f":"IF(OR(ISBLANK(L1160),ISBLANK(H1160)),\"\",H1160+(VLOOKUP(L1160,garantie,2,FALSE)))","v":""}]
[1160,{"$nulls":9},{"$f":"IF(B1161=\"\",\"\",D1161&\" - \"&F1161&\" - \"&G1161)","v":""},null,{"$f":"IF(OR(ISBLANK(L1161),ISBLANK(H1161)),\"\",H1161+(VLOOKUP(L1161,garantie,2,FALSE)))","v":""}]
[1161,{"$nulls":9},{"$f":"IF(B1162=\"\",\"\",D1162&\" - \"&F1162&\" - \"&G1162)","v":""},null,{"$f":"IF(OR(ISBLANK(L1162),ISBLANK(H1162)),\"\",H1162+(VLOOKUP(L1162,garantie,2,FALSE)))","v":""}]
[1162,{"$nulls":9},{"$f":"IF(B1163=\"\",\"\",D1163&\" - \"&F1163&\" - \"&G1163)","v":""},null,{"$f":"IF(OR(ISBLANK(L1163),ISBLANK(H1163)),\"\",H1163+(VLOOKUP(L1163,garantie,2,FALSE)))","v":""}]
[1163,{"$nulls":9},{"$f":"IF(B1164=\"\",\"\",D1164&\" - \"&F1164&\" - \"&G1164)","v":""},null,{"$f":"IF(OR(ISBLANK(L1164),ISBLANK(H1164)),\"\",H1164+(VLOOKUP(L1164,garantie,2,FALSE)))","v":""}]
[1164,{"$nulls":9},{"$f":"IF(B1165=\"\",\"\",D1165&\" - \"&F1165&\" - \"&G1165)","v":""},null,{"$f":"IF(OR(ISBLANK(L1165),ISBLANK(H1165)),\"\",H1165+(VLOOKUP(L1165,garantie,2,FALSE)))","v":""}]
[1165,{"$nulls":9},{"$f":"IF(B1166=\"\",\"\",D1166&\" - \"&F1166&\" - \"&G1166)","v":""},null,{"$f":"IF(OR(ISBLANK(L1166),ISBLANK(H1166)),\"\",H1166+(VLOOKUP(L1166,garantie,2,FALSE)))","v":""}]
[1166,{"$nulls":9},{"$f":"IF(B1167=\"\",\"\",D1167&\" - \"&F1167&\" - \"&G1167)","v":""},null,{"$f":"IF(OR(ISBLANK(L1167),ISBLANK(H1167)),\"\",H1167+(VLOOKUP(L1167,garantie,2,FALSE)))","v":""}]
[1167,{"$nulls":9},{"$f":"IF(B1168=\"\",\"\",D1168&\" - \"&F1168&\" - \"&G1168)","v":""},null,{"$f":"IF(OR(ISBLANK(L1168),ISBLANK(H1168)),\"\",H1168+(VLOOKUP(L1168,garantie,2,FALSE)))","v":""}]
[1168,{"$nulls":9},{"$f":"IF(B1169=\"\",\"\",D1169&\" - \"&F1169&\" - \"&G1169)","v":""},null,{"$f":"IF(OR(ISBLANK(L1169),ISBLANK(H1169)),\"\",H1169+(VLOOKUP(L1169,garantie,2,FALSE)))","v":""}]
[1169,{"$nulls":9},{"$f":"IF(B1170=\"\",\"\",D1170&\" - \"&F1170&\" - \"&G1170)","v":""},null,{"$f":"IF(OR(ISBLANK(L1170),ISBLANK(H1170)),\"\",H1170+(VLOOKUP(L1170,garantie,2,FALSE)))","v":""}]
[1170,{"$nulls":9},{"$f":"IF(B1171=\"\",\"\",D1171&\" - \"&F1171&\" - \"&G1171)","v":""},null,{"$f":"IF(OR(ISBLANK(L1171),ISBLANK(H1171)),\"\",H1171+(VLOOKUP(L1171,garantie,2,FALSE)))","v":""}]
[1171,{"$nulls":9},{"$f":"IF(B1172=\"\",\"\",D1172&\" - \"&F1172&\" - \"&G1172)","v":""},null,{"$f":"IF(OR(ISBLANK(L1172),ISBLANK(H1172)),\"\",H1172+(VLOOKUP(L1172,garantie,2,FALSE)))","v":""}]
[1172,{"$nulls":9},{"$f":"IF(B1173=\"\",\"\",D1173&\" - \"&F1173&\" - \"&G1173)","v":""},null,{"$f":"IF(OR(ISBLANK(L1173),ISBLANK(H1173)),\"\",H1173+(VLOOKUP(L1173,garantie,2,FALSE)))","v":""}]
[1173,{"$nulls":9},{"$f":"IF(B1174=\"\",\"\",D1174&\" - \"&F1174&\" - \"&G1174)","v":""},null,{"$f":"IF(OR(ISBLANK(L1174),ISBLANK(H1174)),\"\",H1174+(VLOOKUP(L1174,garantie,2,FALSE)))","v":""}]
[1174,{"$nulls":9},{"$f":"IF(B1175=\"\",\"\",D1175&\" - \"&F1175&\" - \"&G1175)","v":""},null,{"$f":"IF(OR(ISBLANK(L1175),ISBLANK(H1175)),\"\",H1175+(VLOOKUP(L1175,garantie,2,FALSE)))","v":""}]
[1175,{"$nulls":9},{"$f":"IF(B1176=\"\",\"\",D1176&\" - \"&F1176&\" - \"&G1176)","v":""},null,{"$f":"IF(OR(ISBLANK(L1176),ISBLANK(H1176)),\"\",H1176+(VLOOKUP(L1176,garantie,2,FALSE)))","v":""}]
[1176,{"$nulls":9},{"$f":"IF(B1177=\"\",\"\",D1177&\" - \"&F1177&\" - \"&G1177)","v":""},null,{"$f":"IF(OR(ISBLANK(L1177),ISBLANK(H1177)),\"\",H1177+(VLOOKUP(L1177,garantie,2,FALSE)))","v":""}]
[1177,{"$nulls":9},{"$f":"IF(B1178=\"\",\"\",D1178&\" - \"&F1178&\" - \"&G1178)","v":""},null,{"$f":"IF(OR(ISBLANK(L1178),ISBLANK(H1178)),\"\",H1178+(VLOOKUP(L1178,garantie,2,FALSE)))","v":""}]
[1178,{"$nulls":9},{"$f":"IF(B1179=\"\",\"\",D1179&\" - \"&F1179&\" - \"&G1179)","v":""},null,{"$f":"IF(OR(ISBLANK(L1179),ISBLANK(H1179)),\"\",H1179+(VLOOKUP(L1179,garantie,2,FALSE)))","v":""}]
[1179,{"$nulls":9},{"$f":"IF(B1180=\"\",\"\",D1180&\" - \"&F1180&\" - \"&G1180)","v":""},null,{"$f":"IF(OR(ISBLANK(L1180),ISBLANK(H1180)),\"\",H1180+(VLOOKUP(L1180,garantie,2,FALSE)))","v":""}]
[1180,{"$nulls":9},{"$f":"IF(B1181=\"\",\"\",D1181&\" - \"&F1181&\" - \"&G1181)","v":""},null,{"$f":"IF(OR(ISBLANK(L1181),ISBLANK(H1181)),\"\",H1181+(VLOOKUP(L1181,garantie,2,FALSE)))","v":""}]
[1181,{"$nulls":9},{"$f":"IF(B1182=\"\",\"\",D1182&\" - \"&F1182&\" - \"&G1182)","v":""},null,{"$f":"IF(OR(ISBLANK(L1182),ISBLANK(H1182)),\"\",H1182+(VLOOKUP(L1182,garantie,2,FALSE)))","v":""}]
[1182,{"$nulls":9},{"$f":"IF(B1183=\"\",\"\",D1183&\" - \"&F1183&\" - \"&G1183)","v":""},null,{"$f":"IF(OR(ISBLANK(L1183),ISBLANK(H1183)),\"\",H1183+(VLOOKUP(L1183,garantie,2,FALSE)))","v":""}]
[1183,{"$nulls":9},{"$f":"IF(B1184=\"\",\"\",D1184&\" - \"&F1184&\" - \"&G1184)","v":""},null,{"$f":"IF(OR(ISBLANK(L1184),ISBLANK(H1184)),\"\",H1184+(VLOOKUP(L1184,garantie,2,FALSE)))","v":""}]
[1184,{"$nulls":9},{"$f":"IF(B1185=\"\",\"\",D1185&\" - \"&F1185&\" - \"&G1185)","v":""},null,{"$f":"IF(OR(ISBLANK(L1185),ISBLANK(H1185)),\"\",H1185+(VLOOKUP(L1185,garantie,2,FALSE)))","v":""}]
[1185,{"$nulls":9},{"$f":"IF(B1186=\"\",\"\",D1186&\" - \"&F1186&\" - \"&G1186)","v":""},null,{"$f":"IF(OR(ISBLANK(L1186),ISBLANK(H1186)),\"\",H1186+(VLOOKUP(L1186,garantie,2,FALSE)))","v":""}]
[1186,{"$nulls":9},{"$f":"IF(B1187=\"\",\"\",D1187&\" - \"&F1187&\" - \"&G1187)","v":""},null,{"$f":"IF(OR(ISBLANK(L1187),ISBLANK(H1187)),\"\",H1187+(VLOOKUP(L1187,garantie,2,FALSE)))","v":""}]
[1187,{"$nulls":9},{"$f":"IF(B1188=\"\",\"\",D1188&\" - \"&F1188&\" - \"&G1188)","v":""},null,{"$f":"IF(OR(ISBLANK(L1188),ISBLANK(H1188)),\"\",H1188+(VLOOKUP(L1188,garantie,2,FALSE)))","v":""}]
[1188,{"$nulls":9},{"$f":"IF(B1189=\"\",\"\",D1189&\" - \"&F1189&\" - \"&G1189)","v":""},null,{"$f":"IF(OR(ISBLANK(L1189),ISBLANK(H1189)),\"\",H1189+(VLOOKUP(L1189,garantie,2,FALSE)))","v":""}]
[1189,{"$nulls":9},{"$f":"IF(B1190=\"\",\"\",D1190&\" - \"&F1190&\" - \"&G1190)","v":""},null,{"$f":"IF(OR(ISBLANK(L1190),ISBLANK(H1190)),\"\",H1190+(VLOOKUP(L1190,garantie,2,FALSE)))","v":""}]
[1190,{"$nulls":9},{"$f":"IF(B1191=\"\",\"\",D1191&\" - \"&F1191&\" - \"&G1191)","v":""},null,{"$f":"IF(OR(ISBLANK(L1191),ISBLANK(H1191)),\"\",H1191+(VLOOKUP(L1191,garantie,2,FALSE)))","v":""}]
[1191,{"$nulls":9},{"$f":"IF(B1192=\"\",\"\",D1192&\" - \"&F1192&\" - \"&G1192)","v":""},null,{"$f":"IF(OR(ISBLANK(L1192),ISBLANK(H1192)),\"\",H1192+(VLOOKUP(L1192,garantie,2,FALSE)))","v":""}]
[1192,{"$nulls":9},{"$f":"IF(B1193=\"\",\"\",D1193&\" - \"&F1193&\" - \"&G1193)","v":""},null,{"$f":"IF(OR(ISBLANK(L1193),ISBLANK(H1193)),\"\",H1193+(VLOOKUP(L1193,garantie,2,FALSE)))","v":""}]
[1193,{"$nulls":9},{"$f":"IF(B1194=\"\",\"\",D1194&\" - \"&F1194&\" - \"&G1194)","v":""},null,{"$f":"IF(OR(ISBLANK(L1194),ISBLANK(H1194)),\"\",H1194+(VLOOKUP(L1194,garantie,2,FALSE)))","v":""}]
[1194,{"$nulls":9},{"$f":"IF(B1195=\"\",\"\",D1195&\" - \"&F1195&\" - \"&G1195)","v":""},null,{"$f":"IF(OR(ISBLANK(L1195),ISBLANK(H1195)),\"\",H1195+(VLOOKUP(L1195,garantie,2,FALSE)))","v":""}]
[1195,{"$nulls":9},{"$f":"IF(B1196=\"\",\"\",D1196&\" - \"&F1196&\" - \"&G1196)","v":""},null,{"$f":"IF(OR(ISBLANK(L1196),ISBLANK(H1196)),\"\",H1196+(VLOOKUP(L1196,garantie,2,FALSE)))","v":""}]
[1196,{"$nulls":9},{"$f":"IF(B1197=\"\",\"\",D1197&\" - \"&F1197&\" - \"&G1197)","v":""},null,{"$f":"IF(OR(ISBLANK(L1197),ISBLANK(H1197)),\"\",H1197+(VLOOKUP(L1197,garantie,2,FALSE)))","v":""}]
[1197,{"$nulls":9},{"$f":"IF(B1198=\"\",\"\",D1198&\" - \"&F1198&\" - \"&G1198)","v":""},null,{"$f":"IF(OR(ISBLANK(L1198),ISBLANK(H1198)),\"\",H1198+(VLOOKUP(L1198,garantie,2,FALSE)))","v":""}]
[1198,{"$nulls":9},{"$f":"IF(B1199=\"\",\"\",D1199&\" - \"&F1199&\" - \"&G1199)","v":""},null,{"$f":"IF(OR(ISBLANK(L1199),ISBLANK(H1199)),\"\",H1199+(VLOOKUP(L1199,garantie,2,FALSE)))","v":""}]
[1199,{"$nulls":9},{"$f":"IF(B1200=\"\",\"\",D1200&\" - \"&F1200&\" - \"&G1200)","v":""},null,{"$f":"IF(OR(ISBLANK(L1200),ISBLANK(H1200)),\"\",H1200+(VLOOKUP(L1200,garantie,2,FALSE)))","v":""}]
[1200,{"$nulls":9},{"$f":"IF(B1201=\"\",\"\",D1201&\" - \"&F1201&\" - \"&G1201)","v":""},null,{"$f":"IF(OR(ISBLANK(L1201),ISBLANK(H1201)),\"\",H1201+(VLOOKUP(L1201,garantie,2,FALSE)))","v":""}]
[1201,{"$nulls":9},{"$f":"IF(B1202=\"\",\"\",D1202&\" - \"&F1202&\" - \"&G1202)","v":""},null,{"$f":"IF(OR(ISBLANK(L1202),ISBLANK(H1202)),\"\",H1202+(VLOOKUP(L1202,garantie,2,FALSE)))","v":""}]
[1202,{"$nulls":9},{"$f":"IF(B1203=\"\",\"\",D1203&\" - \"&F1203&\" - \"&G1203)","v":""},null,{"$f":"IF(OR(ISBLANK(L1203),ISBLANK(H1203)),\"\",H1203+(VLOOKUP(L1203,garantie,2,FALSE)))","v":""}]
[1203,{"$nulls":9},{"$f":"IF(B1204=\"\",\"\",D1204&\" - \"&F1204&\" - \"&G1204)","v":""},null,{"$f":"IF(OR(ISBLANK(L1204),ISBLANK(H1204)),\"\",H1204+(VLOOKUP(L1204,garantie,2,FALSE)))","v":""}]
[1204,{"$nulls":9},{"$f":"IF(B1205=\"\",\"\",D1205&\" - \"&F1205&\" - \"&G1205)","v":""},null,{"$f":"IF(OR(ISBLANK(L1205),ISBLANK(H1205)),\"\",H1205+(VLOOKUP(L1205,garantie,2,FALSE)))","v":""}]
[1205,{"$nulls":9},{"$f":"IF(B1206=\"\",\"\",D1206&\" - \"&F1206&\" - \"&G1206)","v":""},null,{"$f":"IF(OR(ISBLANK(L1206),ISBLANK(H1206)),\"\",H1206+(VLOOKUP(L1206,garantie,2,FALSE)))","v":""}]
[1206,{"$nulls":9},{"$f":"IF(B1207=\"\",\"\",D1207&\" - \"&F1207&\" - \"&G1207)","v":""},null,{"$f":"IF(OR(ISBLANK(L1207),ISBLANK(H1207)),\"\",H1207+(VLOOKUP(L1207,garantie,2,FALSE)))","v":""}]
[1207,{"$nulls":9},{"$f":"IF(B1208=\"\",\"\",D1208&\" - \"&F1208&\" - \"&G1208)","v":""},null,{"$f":"IF(OR(ISBLANK(L1208),ISBLANK(H1208)),\"\",H1208+(VLOOKUP(L1208,garantie,2,FALSE)))","v":""}]
[1208,{"$nulls":9},{"$f":"IF(B1209=\"\",\"\",D1209&\" - \"&F1209&\" - \"&G1209)","v":""},null,{"$f":"IF(OR(ISBLANK(L1209),ISBLANK(H1209)),\"\",H1209+(VLOOKUP(L1209,garantie,2,FALSE)))","v":""}]
[1209,{"$nulls":9},{"$f":"IF(B1210=\"\",\"\",D1210&\" - \"&F1210&\" - \"&G1210)","v":""},null,{"$f":"IF(OR(ISBLANK(L1210),ISBLANK(H1210)),\"\",H1210+(VLOOKUP(L1210,garantie,2,FALSE)))","v":""}]
[1210,{"$nulls":9},{"$f":"IF(B1211=\"\",\"\",D1211&\" - \"&F1211&\" - \"&G1211)","v":""},null,{"$f":"IF(OR(ISBLANK(L1211),ISBLANK(H1211)),\"\",H1211+(VLOOKUP(L1211,garantie,2,FALSE)))","v":""}]
[1211,{"$nulls":9},{"$f":"IF(B1212=\"\",\"\",D1212&\" - \"&F1212&\" - \"&G1212)","v":""},null,{"$f":"IF(OR(ISBLANK(L1212),ISBLANK(H1212)),\"\",H1212+(VLOOKUP(L1212,garantie,2,FALSE)))","v":""}]
[1212,{"$nulls":9},{"$f":"IF(B1213=\"\",\"\",D1213&\" - \"&F1213&\" - \"&G1213)","v":""},null,{"$f":"IF(OR(ISBLANK(L1213),ISBLANK(H1213)),\"\",H1213+(VLOOKUP(L1213,garantie,2,FALSE)))","v":""}]
[1213,{"$nulls":9},{"$f":"IF(B1214=\"\",\"\",D1214&\" - \"&F1214&\" - \"&G1214)","v":""},null,{"$f":"IF(OR(ISBLANK(L1214),ISBLANK(H1214)),\"\",H1214+(VLOOKUP(L1214,garantie,2,FALSE)))","v":""}]
[1214,{"$nulls":9},{"$f":"IF(B1215=\"\",\"\",D1215&\" - \"&F1215&\" - \"&G1215)","v":""},null,{"$f":"IF(OR(ISBLANK(L1215),ISBLANK(H1215)),\"\",H1215+(VLOOKUP(L1215,garantie,2,FALSE)))","v":""}]
[1215,{"$nulls":9},{"$f":"IF(B1216=\"\",\"\",D1216&\" - \"&F1216&\" - \"&G1216)","v":""},null,{"$f":"IF(OR(ISBLANK(L1216),ISBLANK(H1216)),\"\",H1216+(VLOOKUP(L1216,garantie,2,FALSE)))","v":""}]
[1216,{"$nulls":9},{"$f":"IF(B1217=\"\",\"\",D1217&\" - \"&F1217&\" - \"&G1217)","v":""},null,{"$f":"IF(OR(ISBLANK(L1217),ISBLANK(H1217)),\"\",H1217+(VLOOKUP(L1217,garantie,2,FALSE)))","v":""}]
[1217,{"$nulls":9},{"$f":"IF(B1218=\"\",\"\",D1218&\" - \"&F1218&\" - \"&G1218)","v":""},null,{"$f":"IF(OR(ISBLANK(L1218),ISBLANK(H1218)),\"\",H1218+(VLOOKUP(L1218,garantie,2,FALSE)))","v":""}]
[1218,{"$nulls":9},{"$f":"IF(B1219=\"\",\"\",D1219&\" - \"&F1219&\" - \"&G1219)","v":""},null,{"$f":"IF(OR(ISBLANK(L1219),ISBLANK(H1219)),\"\",H1219+(VLOOKUP(L1219,garantie,2,FALSE)))","v":""}]
[1219,{"$nulls":9},{"$f":"IF(B1220=\"\",\"\",D1220&\" - \"&F1220&\" - \"&G1220)","v":""},null,{"$f":"IF(OR(ISBLANK(L1220),ISBLANK(H1220)),\"\",H1220+(VLOOKUP(L1220,garantie,2,FALSE)))","v":""}]
[1220,{"$nulls":9},{"$f":"IF(B1221=\"\",\"\",D1221&\" - \"&F1221&\" - \"&G1221)","v":""},null,{"$f":"IF(OR(ISBLANK(L1221),ISBLANK(H1221)),\"\",H1221+(VLOOKUP(L1221,garantie,2,FALSE)))","v":""}]
[1221,{"$nulls":9},{"$f":"IF(B1222=\"\",\"\",D1222&\" - \"&F1222&\" - \"&G1222)","v":""},null,{"$f":"IF(OR(ISBLANK(L1222),ISBLANK(H1222)),\"\",H1222+(VLOOKUP(L1222,garantie,2,FALSE)))","v":""}]
[1222,{"$nulls":9},{"$f":"IF(B1223=\"\",\"\",D1223&\" - \"&F1223&\" - \"&G1223)","v":""},null,{"$f":"IF(OR(ISBLANK(L1223),ISBLANK(H1223)),\"\",H1223+(VLOOKUP(L1223,garantie,2,FALSE)))","v":""}]
[1223,{"$nulls":9},{"$f":"IF(B1224=\"\",\"\",D1224&\" - \"&F1224&\" - \"&G1224)","v":""},null,{"$f":"IF(OR(ISBLANK(L1224),ISBLANK(H1224)),\"\",H1224+(VLOOKUP(L1224,garantie,2,FALSE)))","v":""}]
[1224,{"$nulls":9},{"$f":"IF(B1225=\"\",\"\",D1225&\" - \"&F1225&\" - \"&G1225)","v":""},null,{"$f":"IF(OR(ISBLANK(L1225),ISBLANK(H1225)),\"\",H1225+(VLOOKUP(L1225,garantie,2,FALSE)))","v":""}]
[1225,{"$nulls":9},{"$f":"IF(B1226=\"\",\"\",D1226&\" - \"&F1226&\" - \"&G1226)","v":""},null,{"$f":"IF(OR(ISBLANK(L1226),ISBLANK(H1226)),\"\",H1226+(VLOOKUP(L1226,garantie,2,FALSE)))","v":""}]
[1226,{"$nulls":9},{"$f":"IF(B1227=\"\",\"\",D1227&\" - \"&F1227&\" - \"&G1227)","v":""},null,{"$f":"IF(OR(ISBLANK(L1227),ISBLANK(H1227)),\"\",H1227+(VLOOKUP(L1227,garantie,2,FALSE)))","v":""}]
[1227,{"$nulls":9},{"$f":"IF(B1228=\"\",\"\",D1228&\" - \"&F1228&\" - \"&G1228)","v":""},null,{"$f":"IF(OR(ISBLANK(L1228),ISBLANK(H1228)),\"\",H1228+(VLOOKUP(L1228,garantie,2,FALSE)))","v":""}]
[1228,{"$nulls":9},{"$f":"IF(B1229=\"\",\"\",D1229&\" - \"&F1229&\" - \"&G1229)","v":""},null,{"$f":"IF(OR(ISBLANK(L1229),ISBLANK(H1229)),\"\",H1229+(VLOOKUP(L1229,garantie,2,FALSE)))","v":""}]
[1229,{"$nulls":9},{"$f":"IF(B1230=\"\",\"\",D1230&\" - \"&F1230&\" - \"&G1230)","v":""},null,{"$f":"IF(OR(ISBLANK(L1230),ISBLANK(H1230)),\"\",H1230+(VLOOKUP(L1230,garantie,2,FALSE)))","v":""}]
[1230,{"$nulls":9},{"$f":"IF(B1231=\"\",\"\",D1231&\" - \"&F1231&\" - \"&G1231)","v":""},null,{"$f":"IF(OR(ISBLANK(L1231),ISBLANK(H1231)),\"\",H1231+(VLOOKUP(L1231,garantie,2,FALSE)))","v":""}]
[1231,{"$nulls":9},{"$f":"IF(B1232=\"\",\"\",D1232&\" - \"&F1232&\" - \"&G1232)","v":""},null,{"$f":"IF(OR(ISBLANK(L1232),ISBLANK(H1232)),\"\",H1232+(VLOOKUP(L1232,garantie,2,FALSE)))","v":""}]
[1232,{"$nulls":9},{"$f":"IF(B1233=\"\",\"\",D1233&\" - \"&F1233&\" - \"&G1233)","v":""},null,{"$f":"IF(OR(ISBLANK(L1233),ISBLANK(H1233)),\"\",H1233+(VLOOKUP(L1233,garantie,2,FALSE)))","v":""}]
[1233,{"$nulls":9},{"$f":"IF(B1234=\"\",\"\",D1234&\" - \"&F1234&\" - \"&G1234)","v":""},null,{"$f":"IF(OR(ISBLANK(L1234),ISBLANK(H1234)),\"\",H1234+(VLOOKUP(L1234,garantie,2,FALSE)))","v":""}]
[1234,{"$nulls":9},{"$f":"IF(B1235=\"\",\"\",D1235&\" - \"&F1235&\" - \"&G1235)","v":""},null,{"$f":"IF(OR(ISBLANK(L1235),ISBLANK(H1235)),\"\",H1235+(VLOOKUP(L1235,garantie,2,FALSE)))","v":""}]
[1235,{"$nulls":9},{"$f":"IF(B1236=\"\",\"\",D1236&\" - \"&F1236&\" - \"&G1236)","v":""},null,{"$f":"IF(OR(ISBLANK(L1236),ISBLANK(H1236)),\"\",H1236+(VLOOKUP(L1236,garantie,2,FALSE)))","v":""}]
[1236,{"$nulls":9},{"$f":"IF(B1237=\"\",\"\",D1237&\" - \"&F1237&\" - \"&G1237)","v":""},null,{"$f":"IF(OR(ISBLANK(L1237),ISBLANK(H1237)),\"\",H1237+(VLOOKUP(L1237,garantie,2,FALSE)))","v":""}]
[1237,{"$nulls":9},{"$f":"IF(B1238=\"\",\"\",D1238&\" - \"&F1238&\" - \"&G1238)","v":""},null,{"$f":"IF(OR(ISBLANK(L1238),ISBLANK(H1238)),\"\",H1238+(VLOOKUP(L1238,garantie,2,FALSE)))","v":""}]
[1238,{"$nulls":9},{"$f":"IF(B1239=\"\",\"\",D1239&\" - \"&F1239&\" - \"&G1239)","v":""},null,{"$f":"IF(OR(ISBLANK(L1239),ISBLANK(H1239)),\"\",H1239+(VLOOKUP(L1239,garantie,2,FALSE)))","v":""}]
[1239,{"$nulls":9},{"$f":"IF(B1240=\"\",\"\",D1240&\" - \"&F1240&\" - \"&G1240)","v":""},null,{"$f":"IF(OR(ISBLANK(L1240),ISBLANK(H1240)),\"\",H1240+(VLOOKUP(L1240,garantie,2,FALSE)))","v":""}]
[1240,{"$nulls":9},{"$f":"IF(B1241=\"\",\"\",D1241&\" - \"&F1241&\" - \"&G1241)","v":""},null,{"$f":"IF(OR(ISBLANK(L1241),ISBLANK(H1241)),\"\",H1241+(VLOOKUP(L1241,garantie,2,FALSE)))","v":""}]
[1241,{"$nulls":9},{"$f":"IF(B1242=\"\",\"\",D1242&\" - \"&F1242&\" - \"&G1242)","v":""},null,{"$f":"IF(OR(ISBLANK(L1242),ISBLANK(H1242)),\"\",H1242+(VLOOKUP(L1242,garantie,2,FALSE)))","v":""}]
[1242,{"$nulls":9},{"$f":"IF(B1243=\"\",\"\",D1243&\" - \"&F1243&\" - \"&G1243)","v":""},null,{"$f":"IF(OR(ISBLANK(L1243),ISBLANK(H1243)),\"\",H1243+(VLOOKUP(L1243,garantie,2,FALSE)))","v":""}]
[1243,{"$nulls":9},{"$f":"IF(B1244=\"\",\"\",D1244&\" - \"&F1244&\" - \"&G1244)","v":""},null,{"$f":"IF(OR(ISBLANK(L1244),ISBLANK(H1244)),\"\",H1244+(VLOOKUP(L1244,garantie,2,FALSE)))","v":""}]
[1244,{"$nulls":9},{"$f":"IF(B1245=\"\",\"\",D1245&\" - \"&F1245&\" - \"&G1245)","v":""},null,{"$f":"IF(OR(ISBLANK(L1245),ISBLANK(H1245)),\"\",H1245+(VLOOKUP(L1245,garantie,2,FALSE)))","v":""}]
[1245,{"$nulls":9},{"$f":"IF(B1246=\"\",\"\",D1246&\" - \"&F1246&\" - \"&G1246)","v":""},null,{"$f":"IF(OR(ISBLANK(L1246),ISBLANK(H1246)),\"\",H1246+(VLOOKUP(L1246,garantie,2,FALSE)))","v":""}]
[1246,{"$nulls":9},{"$f":"IF(B1247=\"\",\"\",D1247&\" - \"&F1247&\" - \"&G1247)","v":""},null,{"$f":"IF(OR(ISBLANK(L1247),ISBLANK(H1247)),\"\",H1247+(VLOOKUP(L1247,garantie,2,FALSE)))","v":""}]
[1247,{"$nulls":9},{"$f":"IF(B1248=\"\",\"\",D1248&\" - \"&F1248&\" - \"&G1248)","v":""},null,{"$f":"IF(OR(ISBLANK(L1248),ISBLANK(H1248)),\"\",H1248+(VLOOKUP(L1248,garantie,2,FALSE)))","v":""}]
[1248,{"$nulls":9},{"$f":"IF(B1249=\"\",\"\",D1249&\" - \"&F1249&\" - \"&G1249)","v":""},null,{"$f":"IF(OR(ISBLANK(L1249),ISBLANK(H1249)),\"\",H1249+(VLOOKUP(L1249,garantie,2,FALSE)))","v":""}]
[1249,{"$nulls":9},{"$f":"IF(B1250=\"\",\"\",D1250&\" - \"&F1250&\" - \"&G1250)","v":""},null,{"$f":"IF(OR(ISBLANK(L1250),ISBLANK(H1250)),\"\",H1250+(VLOOKUP(L1250,garantie,2,FALSE)))","v":""}]
[1250,{"$nulls":9},{"$f":"IF(B1251=\"\",\"\",D1251&\" - \"&F1251&\" - \"&G1251)","v":""},null,{"$f":"IF(OR(ISBLANK(L1251),ISBLANK(H1251)),\"\",H1251+(VLOOKUP(L1251,garantie,2,FALSE)))","v":""}]
[1251,{"$nulls":9},{"$f":"IF(B1252=\"\",\"\",D1252&\" - \"&F1252&\" - \"&G1252)","v":""},null,{"$f":"IF(OR(ISBLANK(L1252),ISBLANK(H1252)),\"\",H1252+(VLOOKUP(L1252,garantie,2,FALSE)))","v":""}]
[1252,{"$nulls":9},{"$f":"IF(B1253=\"\",\"\",D1253&\" - \"&F1253&\" - \"&G1253)","v":""},null,{"$f":"IF(OR(ISBLANK(L1253),ISBLANK(H1253)),\"\",H1253+(VLOOKUP(L1253,garantie,2,FALSE)))","v":""}]
[1253,{"$nulls":9},{"$f":"IF(B1254=\"\",\"\",D1254&\" - \"&F1254&\" - \"&G1254)","v":""},null,{"$f":"IF(OR(ISBLANK(L1254),ISBLANK(H1254)),\"\",H1254+(VLOOKUP(L1254,garantie,2,FALSE)))","v":""}]
[1254,{"$nulls":9},{"$f":"IF(B1255=\"\",\"\",D1255&\" - \"&F1255&\" - \"&G1255)","v":""},null,{"$f":"IF(OR(ISBLANK(L1255),ISBLANK(H1255)),\"\",H1255+(VLOOKUP(L1255,garantie,2,FALSE)))","v":""}]
[1255,{"$nulls":9},{"$f":"IF(B1256=\"\",\"\",D1256&\" - \"&F1256&\" - \"&G1256)","v":""},null,{"$f":"IF(OR(ISBLANK(L1256),ISBLANK(H1256)),\"\",H1256+(VLOOKUP(L1256,garantie,2,FALSE)))","v":""}]
[1256,{"$nulls":9},{"$f":"IF(B1257=\"\",\"\",D1257&\" - \"&F1257&\" - \"&G1257)","v":""},null,{"$f":"IF(OR(ISBLANK(L1257),ISBLANK(H1257)),\"\",H1257+(VLOOKUP(L1257,garantie,2,FALSE)))","v":""}]
[1257,{"$nulls":9},{"$f":"IF(B1258=\"\",\"\",D1258&\" - \"&F1258&\" - \"&G1258)","v":""},null,{"$f":"IF(OR(ISBLANK(L1258),ISBLANK(H1258)),\"\",H1258+(VLOOKUP(L1258,garantie,2,FALSE)))","v":""}]
[1258,{"$nulls":9},{"$f":"IF(B1259=\"\",\"\",D1259&\" - \"&F1259&\" - \"&G1259)","v":""},null,{"$f":"IF(OR(ISBLANK(L1259),ISBLANK(H1259)),\"\",H1259+(VLOOKUP(L1259,garantie,2,FALSE)))","v":""}]
[1259,{"$nulls":9},{"$f":"IF(B1260=\"\",\"\",D1260&\" - \"&F1260&\" - \"&G1260)","v":""},null,{"$f":"IF(OR(ISBLANK(L1260),ISBLANK(H1260)),\"\",H1260+(VLOOKUP(L1260,garantie,2,FALSE)))","v":""}]
[1260,{"$nulls":9},{"$f":"IF(B1261=\"\",\"\",D1261&\" - \"&F1261&\" - \"&G1261)","v":""},null,{"$f":"IF(OR(ISBLANK(L1261),ISBLANK(H1261)),\"\",H1261+(VLOOKUP(L1261,garantie,2,FALSE)))","v":""}]
[1261,{"$nulls":9},{"$f":"IF(B1262=\"\",\"\",D1262&\" - \"&F1262&\" - \"&G1262)","v":""},null,{"$f":"IF(OR(ISBLANK(L1262),ISBLANK(H1262)),\"\",H1262+(VLOOKUP(L1262,garantie,2,FALSE)))","v":""}]
[1262,{"$nulls":9},{"$f":"IF(B1263=\"\",\"\",D1263&\" - \"&F1263&\" - \"&G1263)","v":""},null,{"$f":"IF(OR(ISBLANK(L1263),ISBLANK(H1263)),\"\",H1263+(VLOOKUP(L1263,garantie,2,FALSE)))","v":""}]
[1263,{"$nulls":9},{"$f":"IF(B1264=\"\",\"\",D1264&\" - \"&F1264&\" - \"&G1264)","v":""},null,{"$f":"IF(OR(ISBLANK(L1264),ISBLANK(H1264)),\"\",H1264+(VLOOKUP(L1264,garantie,2,FALSE)))","v":""}]
[1264,{"$nulls":9},{"$f":"IF(B1265=\"\",\"\",D1265&\" - \"&F1265&\" - \"&G1265)","v":""},null,{"$f":"IF(OR(ISBLANK(L1265),ISBLANK(H1265)),\"\",H1265+(VLOOKUP(L1265,garantie,2,FALSE)))","v":""}]
[1265,{"$nulls":9},{"$f":"IF(B1266=\"\",\"\",D1266&\" - \"&F1266&\" - \"&G1266)","v":""},null,{"$f":"IF(OR(ISBLANK(L1266),ISBLANK(H1266)),\"\",H1266+(VLOOKUP(L1266,garantie,2,FALSE)))","v":""}]
[1266,{"$nulls":9},{"$f":"IF(B1267=\"\",\"\",D1267&\" - \"&F1267&\" - \"&G1267)","v":""},null,{"$f":"IF(OR(ISBLANK(L1267),ISBLANK(H1267)),\"\",H1267+(VLOOKUP(L1267,garantie,2,FALSE)))","v":""}]
[1267,{"$nulls":9},{"$f":"IF(B1268=\"\",\"\",D1268&\" - \"&F1268&\" - \"&G1268)","v":""},null,{"$f":"IF(OR(ISBLANK(L1268),ISBLANK(H1268)),\"\",H1268+(VLOOKUP(L1268,garantie,2,FALSE)))","v":""}]
[1268,{"$nulls":9},{"$f":"IF(B1269=\"\",\"\",D1269&\" - \"&F1269&\" - \"&G1269)","v":""},null,{"$f":"IF(OR(ISBLANK(L1269),ISBLANK(H1269)),\"\",H1269+(VLOOKUP(L1269,garantie,2,FALSE)))","v":""}]
[1269,{"$nulls":9},{"$f":"IF(B1270=\"\",\"\",D1270&\" - \"&F1270&\" - \"&G1270)","v":""},null,{"$f":"IF(OR(ISBLANK(L1270),ISBLANK(H1270)),\"\",H1270+(VLOOKUP(L1270,garantie,2,FALSE)))","v":""}]
[1270,{"$nulls":9},{"$f":"IF(B1271=\"\",\"\",D1271&\" - \"&F1271&\" - \"&G1271)","v":""},null,{"$f":"IF(OR(ISBLANK(L1271),ISBLANK(H1271)),\"\",H1271+(VLOOKUP(L1271,garantie,2,FALSE)))","v":""}]
[1271,{"$nulls":9},{"$f":"IF(B1272=\"\",\"\",D1272&\" - \"&F1272&\" - \"&G1272)","v":""},null,{"$f":"IF(OR(ISBLANK(L1272),ISBLANK(H1272)),\"\",H1272+(VLOOKUP(L1272,garantie,2,FALSE)))","v":""}]
[1272,{"$nulls":9},{"$f":"IF(B1273=\"\",\"\",D1273&\" - \"&F1273&\" - \"&G1273)","v":""},null,{"$f":"IF(OR(ISBLANK(L1273),ISBLANK(H1273)),\"\",H1273+(VLOOKUP(L1273,garantie,2,FALSE)))","v":""}]
[1273,{"$nulls":9},{"$f":"IF(B1274=\"\",\"\",D1274&\" - \"&F1274&\" - \"&G1274)","v":""},null,{"$f":"IF(OR(ISBLANK(L1274),ISBLANK(H1274)),\"\",H1274+(VLOOKUP(L1274,garantie,2,FALSE)))","v":""}]
[1274,{"$nulls":9},{"$f":"IF(B1275=\"\",\"\",D1275&\" - \"&F1275&\" - \"&G1275)","v":""},null,{"$f":"IF(OR(ISBLANK(L1275),ISBLANK(H1275)),\"\",H1275+(VLOOKUP(L1275,garantie,2,FALSE)))","v":""}]
[1275,{"$nulls":9},{"$f":"IF(B1276=\"\",\"\",D1276&\" - \"&F1276&\" - \"&G1276)","v":""},null,{"$f":"IF(OR(ISBLANK(L1276),ISBLANK(H1276)),\"\",H1276+(VLOOKUP(L1276,garantie,2,FALSE)))","v":""}]
[1276,{"$nulls":9},{"$f":"IF(B1277=\"\",\"\",D1277&\" - \"&F1277&\" - \"&G1277)","v":""},null,{"$f":"IF(OR(ISBLANK(L1277),ISBLANK(H1277)),\"\",H1277+(VLOOKUP(L1277,garantie,2,FALSE)))","v":""}]
[1277,{"$nulls":9},{"$f":"IF(B1278=\"\",\"\",D1278&\" - \"&F1278&\" - \"&G1278)","v":""},null,{"$f":"IF(OR(ISBLANK(L1278),ISBLANK(H1278)),\"\",H1278+(VLOOKUP(L1278,garantie,2,FALSE)))","v":""}]
[1278,{"$nulls":9},{"$f":"IF(B1279=\"\",\"\",D1279&\" - \"&F1279&\" - \"&G1279)","v":""},null,{"$f":"IF(OR(ISBLANK(L1279),ISBLANK(H1279)),\"\",H1279+(VLOOKUP(L1279,garantie,2,FALSE)))","v":""}]
[1279,{"$nulls":9},{"$f":"IF(B1280=\"\",\"\",D1280&\" - \"&F1280&\" - \"&G1280)","v":""},null,{"$f":"IF(OR(ISBLANK(L1280),ISBLANK(H1280)),\"\",H1280+(VLOOKUP(L1280,garantie,2,FALSE)))","v":""}]
[1280,{"$nulls":9},{"$f":"IF(B1281=\"\",\"\",D1281&\" - \"&F1281&\" - \"&G1281)","v":""},null,{"$f":"IF(OR(ISBLANK(L1281),ISBLANK(H1281)),\"\",H1281+(VLOOKUP(L1281,garantie,2,FALSE)))","v":""}]
[1281,{"$nulls":9},{"$f":"IF(B1282=\"\",\"\",D1282&\" - \"&F1282&\" - \"&G1282)","v":""},null,{"$f":"IF(OR(ISBLANK(L1282),ISBLANK(H1282)),\"\",H1282+(VLOOKUP(L1282,garantie,2,FALSE)))","v":""}]
[1282,{"$nulls":9},{"$f":"IF(B1283=\"\",\"\",D1283&\" - \"&F1283&\" - \"&G1283)","v":""},null,{"$f":"IF(OR(ISBLANK(L1283),ISBLANK(H1283)),\"\",H1283+(VLOOKUP(L1283,garantie,2,FALSE)))","v":""}]
[1283,{"$nulls":9},{"$f":"IF(B1284=\"\",\"\",D1284&\" - \"&F1284&\" - \"&G1284)","v":""},null,{"$f":"IF(OR(ISBLANK(L1284),ISBLANK(H1284)),\"\",H1284+(VLOOKUP(L1284,garantie,2,FALSE)))","v":""}]
[1284,{"$nulls":9},{"$f":"IF(B1285=\"\",\"\",D1285&\" - \"&F1285&\" - \"&G1285)","v":""},null,{"$f":"IF(OR(ISBLANK(L1285),ISBLANK(H1285)),\"\",H1285+(VLOOKUP(L1285,garantie,2,FALSE)))","v":""}]
[1285,{"$nulls":9},{"$f":"IF(B1286=\"\",\"\",D1286&\" - \"&F1286&\" - \"&G1286)","v":""},null,{"$f":"IF(OR(ISBLANK(L1286),ISBLANK(H1286)),\"\",H1286+(VLOOKUP(L1286,garantie,2,FALSE)))","v":""}]
[1286,{"$nulls":9},{"$f":"IF(B1287=\"\",\"\",D1287&\" - \"&F1287&\" - \"&G1287)","v":""},null,{"$f":"IF(OR(ISBLANK(L1287),ISBLANK(H1287)),\"\",H1287+(VLOOKUP(L1287,garantie,2,FALSE)))","v":""}]
[1287,{"$nulls":9},{"$f":"IF(B1288=\"\",\"\",D1288&\" - \"&F1288&\" - \"&G1288)","v":""},null,{"$f":"IF(OR(ISBLANK(L1288),ISBLANK(H1288)),\"\",H1288+(VLOOKUP(L1288,garantie,2,FALSE)))","v":""}]
[1288,{"$nulls":9},{"$f":"IF(B1289=\"\",\"\",D1289&\" - \"&F1289&\" - \"&G1289)","v":""},null,{"$f":"IF(OR(ISBLANK(L1289),ISBLANK(H1289)),\"\",H1289+(VLOOKUP(L1289,garantie,2,FALSE)))","v":""}]
[1289,{"$nulls":9},{"$f":"IF(B1290=\"\",\"\",D1290&\" - \"&F1290&\" - \"&G1290)","v":""},null,{"$f":"IF(OR(ISBLANK(L1290),ISBLANK(H1290)),\"\",H1290+(VLOOKUP(L1290,garantie,2,FALSE)))","v":""}]
[1290,{"$nulls":9},{"$f":"IF(B1291=\"\",\"\",D1291&\" - \"&F1291&\" - \"&G1291)","v":""},null,{"$f":"IF(OR(ISBLANK(L1291),ISBLANK(H1291)),\"\",H1291+(VLOOKUP(L1291,garantie,2,FALSE)))","v":""}]
[1291,{"$nulls":9},{"$f":"IF(B1292=\"\",\"\",D1292&\" - \"&F1292&\" - \"&G1292)","v":""},null,{"$f":"IF(OR(ISBLANK(L1292),ISBLANK(H1292)),\"\",H1292+(VLOOKUP(L1292,garantie,2,FALSE)))","v":""}]
[1292,{"$nulls":9},{"$f":"IF(B1293=\"\",\"\",D1293&\" - \"&F1293&\" - \"&G1293)","v":""},null,{"$f":"IF(OR(ISBLANK(L1293),ISBLANK(H1293)),\"\",H1293+(VLOOKUP(L1293,garantie,2,FALSE)))","v":""}]
[1293,{"$nulls":9},{"$f":"IF(B1294=\"\",\"\",D1294&\" - \"&F1294&\" - \"&G1294)","v":""},null,{"$f":"IF(OR(ISBLANK(L1294),ISBLANK(H1294)),\"\",H1294+(VLOOKUP(L1294,garantie,2,FALSE)))","v":""}]
[1294,{"$nulls":9},{"$f":"IF(B1295=\"\",\"\",D1295&\" - \"&F1295&\" - \"&G1295)","v":""},null,{"$f":"IF(OR(ISBLANK(L1295),ISBLANK(H1295)),\"\",H1295+(VLOOKUP(L1295,garantie,2,FALSE)))","v":""}]
[1295,{"$nulls":9},{"$f":"IF(B1296=\"\",\"\",D1296&\" - \"&F1296&\" - \"&G1296)","v":""},null,{"$f":"IF(OR(ISBLANK(L1296),ISBLANK(H1296)),\"\",H1296+(VLOOKUP(L1296,garantie,2,FALSE)))","v":""}]
[1296,{"$nulls":9},{"$f":"IF(B1297=\"\",\"\",D1297&\" - \"&F1297&\" - \"&G1297)","v":""},null,{"$f":"IF(OR(ISBLANK(L1297),ISBLANK(H1297)),\"\",H1297+(VLOOKUP(L1297,garantie,2,FALSE)))","v":""}]
[1297,{"$nulls":9},{"$f":"IF(B1298=\"\",\"\",D1298&\" - \"&F1298&\" - \"&G1298)","v":""},null,{"$f":"IF(OR(ISBLANK(L1298),ISBLANK(H1298)),\"\",H1298+(VLOOKUP(L1298,garantie,2,FALSE)))","v":""}]
[1298,{"$nulls":9},{"$f":"IF(B1299=\"\",\"\",D1299&\" - \"&F1299&\" - \"&G1299)","v":""},null,{"$f":"IF(OR(ISBLANK(L1299),ISBLANK(H1299)),\"\",H1299+(VLOOKUP(L1299,garantie,2,FALSE)))","v":""}]
[1299,{"$nulls":9},{"$f":"IF(B1300=\"\",\"\",D1300&\" - \"&F1300&\" - \"&G1300)","v":""},null,{"$f":"IF(OR(ISBLANK(L1300),ISBLANK(H1300)),\"\",H1300+(VLOOKUP(L1300,garantie,2,FALSE)))","v":""}]
[1300,{"$nulls":9},{"$f":"IF(B1301=\"\",\"\",D1301&\" - \"&F1301&\" - \"&G1301)","v":""},null,{"$f":"IF(OR(ISBLANK(L1301),ISBLANK(H1301)),\"\",H1301+(VLOOKUP(L1301,garantie,2,FALSE)))","v":""}]
[1301,{"$nulls":9},{"$f":"IF(B1302=\"\",\"\",D1302&\" - \"&F1302&\" - \"&G1302)","v":""},null,{"$f":"IF(OR(ISBLANK(L1302),ISBLANK(H1302)),\"\",H1302+(VLOOKUP(L1302,garantie,2,FALSE)))","v":""}]
[1302,{"$nulls":9},{"$f":"IF(B1303=\"\",\"\",D1303&\" - \"&F1303&\" - \"&G1303)","v":""},null,{"$f":"IF(OR(ISBLANK(L1303),ISBLANK(H1303)),\"\",H1303+(VLOOKUP(L1303,garantie,2,FALSE)))","v":""}]
[1303,{"$nulls":9},{"$f":"IF(B1304=\"\",\"\",D1304&\" - \"&F1304&\" - \"&G1304)","v":""},null,{"$f":"IF(OR(ISBLANK(L1304),ISBLANK(H1304)),\"\",H1304+(VLOOKUP(L1304,garantie,2,FALSE)))","v":""}]
[1304,{"$nulls":9},{"$f":"IF(B1305=\"\",\"\",D1305&\" - \"&F1305&\" - \"&G1305)","v":""},null,{"$f":"IF(OR(ISBLANK(L1305),ISBLANK(H1305)),\"\",H1305+(VLOOKUP(L1305,garantie,2,FALSE)))","v":""}]
[1305,{"$nulls":9},{"$f":"IF(B1306=\"\",\"\",D1306&\" - \"&F1306&\" - \"&G1306)","v":""},null,{"$f":"IF(OR(ISBLANK(L1306),ISBLANK(H1306)),\"\",H1306+(VLOOKUP(L1306,garantie,2,FALSE)))","v":""}]
[1306,{"$nulls":9},{"$f":"IF(B1307=\"\",\"\",D1307&\" - \"&F1307&\" - \"&G1307)","v":""},null,{"$f":"IF(OR(ISBLANK(L1307),ISBLANK(H1307)),\"\",H1307+(VLOOKUP(L1307,garantie,2,FALSE)))","v":""}]
[1307,{"$nulls":9},{"$f":"IF(B1308=\"\",\"\",D1308&\" - \"&F1308&\" - \"&G1308)","v":""},null,{"$f":"IF(OR(ISBLANK(L1308),ISBLANK(H1308)),\"\",H1308+(VLOOKUP(L1308,garantie,2,FALSE)))","v":""}]
[1308,{"$nulls":9},{"$f":"IF(B1309=\"\",\"\",D1309&\" - \"&F1309&\" - \"&G1309)","v":""},null,{"$f":"IF(OR(ISBLANK(L1309),ISBLANK(H1309)),\"\",H1309+(VLOOKUP(L1309,garantie,2,FALSE)))","v":""}]
[1309,{"$nulls":9},{"$f":"IF(B1310=\"\",\"\",D1310&\" - \"&F1310&\" - \"&G1310)","v":""},null,{"$f":"IF(OR(ISBLANK(L1310),ISBLANK(H1310)),\"\",H1310+(VLOOKUP(L1310,garantie,2,FALSE)))","v":""}]
[1310,{"$nulls":9},{"$f":"IF(B1311=\"\",\"\",D1311&\" - \"&F1311&\" - \"&G1311)","v":""},null,{"$f":"IF(OR(ISBLANK(L1311),ISBLANK(H1311)),\"\",H1311+(VLOOKUP(L1311,garantie,2,FALSE)))","v":""}]
[1311,{"$nulls":9},{"$f":"IF(B1312=\"\",\"\",D1312&\" - \"&F1312&\" - \"&G1312)","v":""},null,{"$f":"IF(OR(ISBLANK(L1312),ISBLANK(H1312)),\"\",H1312+(VLOOKUP(L1312,garantie,2,FALSE)))","v":""}]
[1312,{"$nulls":9},{"$f":"IF(B1313=\"\",\"\",D1313&\" - \"&F1313&\" - \"&G1313)","v":""},null,{"$f":"IF(OR(ISBLANK(L1313),ISBLANK(H1313)),\"\",H1313+(VLOOKUP(L1313,garantie,2,FALSE)))","v":""}]
[1313,{"$nulls":9},{"$f":"IF(B1314=\"\",\"\",D1314&\" - \"&F1314&\" - \"&G1314)","v":""},null,{"$f":"IF(OR(ISBLANK(L1314),ISBLANK(H1314)),\"\",H1314+(VLOOKUP(L1314,garantie,2,FALSE)))","v":""}]
[1314,{"$nulls":9},{"$f":"IF(B1315=\"\",\"\",D1315&\" - \"&F1315&\" - \"&G1315)","v":""},null,{"$f":"IF(OR(ISBLANK(L1315),ISBLANK(H1315)),\"\",H1315+(VLOOKUP(L1315,garantie,2,FALSE)))","v":""}]
[1315,{"$nulls":9},{"$f":"IF(B1316=\"\",\"\",D1316&\" - \"&F1316&\" - \"&G1316)","v":""},null,{"$f":"IF(OR(ISBLANK(L1316),ISBLANK(H1316)),\"\",H1316+(VLOOKUP(L1316,garantie,2,FALSE)))","v":""}]
[1316,{"$nulls":9},{"$f":"IF(B1317=\"\",\"\",D1317&\" - \"&F1317&\" - \"&G1317)","v":""},null,{"$f":"IF(OR(ISBLANK(L1317),ISBLANK(H1317)),\"\",H1317+(VLOOKUP(L1317,garantie,2,FALSE)))","v":""}]
[1317,{"$nulls":9},{"$f":"IF(B1318=\"\",\"\",D1318&\" - \"&F1318&\" - \"&G1318)","v":""},null,{"$f":"IF(OR(ISBLANK(L1318),ISBLANK(H1318)),\"\",H1318+(VLOOKUP(L1318,garantie,2,FALSE)))","v":""}]
[1318,{"$nulls":9},{"$f":"IF(B1319=\"\",\"\",D1319&\" - \"&F1319&\" - \"&G1319)","v":""},null,{"$f":"IF(OR(ISBLANK(L1319),ISBLANK(H1319)),\"\",H1319+(VLOOKUP(L1319,garantie,2,FALSE)))","v":""}]
[1319,{"$nulls":9},{"$f":"IF(B1320=\"\",\"\",D1320&\" - \"&F1320&\" - \"&G1320)","v":""},null,{"$f":"IF(OR(ISBLANK(L1320),ISBLANK(H1320)),\"\",H1320+(VLOOKUP(L1320,garantie,2,FALSE)))","v":""}]
[1320,{"$nulls":9},{"$f":"IF(B1321=\"\",\"\",D1321&\" - \"&F1321&\" - \"&G1321)","v":""},null,{"$f":"IF(OR(ISBLANK(L1321),ISBLANK(H1321)),\"\",H1321+(VLOOKUP(L1321,garantie,2,FALSE)))","v":""}]
[1321,{"$nulls":9},{"$f":"IF(B1322=\"\",\"\",D1322&\" - \"&F1322&\" - \"&G1322)","v":""},null,{"$f":"IF(OR(ISBLANK(L1322),ISBLANK(H1322)),\"\",H1322+(VLOOKUP(L1322,garantie,2,FALSE)))","v":""}]
[1322,{"$nulls":9},{"$f":"IF(B1323=\"\",\"\",D1323&\" - \"&F1323&\" - \"&G1323)","v":""},null,{"$f":"IF(OR(ISBLANK(L1323),ISBLANK(H1323)),\"\",H1323+(VLOOKUP(L1323,garantie,2,FALSE)))","v":""}]
[1323,{"$nulls":9},{"$f":"IF(B1324=\"\",\"\",D1324&\" - \"&F1324&\" - \"&G1324)","v":""},null,{"$f":"IF(OR(ISBLANK(L1324),ISBLANK(H1324)),\"\",H1324+(VLOOKUP(L1324,garantie,2,FALSE)))","v":""}]
[1324,{"$nulls":9},{"$f":"IF(B1325=\"\",\"\",D1325&\" - \"&F1325&\" - \"&G1325)","v":""},null,{"$f":"IF(OR(ISBLANK(L1325),ISBLANK(H1325)),\"\",H1325+(VLOOKUP(L1325,garantie,2,FALSE)))","v":""}]
[1325,{"$nulls":9},{"$f":"IF(B1326=\"\",\"\",D1326&\" - \"&F1326&\" - \"&G1326)","v":""},null,{"$f":"IF(OR(ISBLANK(L1326),ISBLANK(H1326)),\"\",H1326+(VLOOKUP(L1326,garantie,2,FALSE)))","v":""}]
[1326,{"$nulls":9},{"$f":"IF(B1327=\"\",\"\",D1327&\" - \"&F1327&\" - \"&G1327)","v":""},null,{"$f":"IF(OR(ISBLANK(L1327),ISBLANK(H1327)),\"\",H1327+(VLOOKUP(L1327,garantie,2,FALSE)))","v":""}]
[1327,{"$nulls":9},{"$f":"IF(B1328=\"\",\"\",D1328&\" - \"&F1328&\" - \"&G1328)","v":""},null,{"$f":"IF(OR(ISBLANK(L1328),ISBLANK(H1328)),\"\",H1328+(VLOOKUP(L1328,garantie,2,FALSE)))","v":""}]
[1328,{"$nulls":9},{"$f":"IF(B1329=\"\",\"\",D1329&\" - \"&F1329&\" - \"&G1329)","v":""},null,{"$f":"IF(OR(ISBLANK(L1329),ISBLANK(H1329)),\"\",H1329+(VLOOKUP(L1329,garantie,2,FALSE)))","v":""}]
[1329,{"$nulls":9},{"$f":"IF(B1330=\"\",\"\",D1330&\" - \"&F1330&\" - \"&G1330)","v":""},null,{"$f":"IF(OR(ISBLANK(L1330),ISBLANK(H1330)),\"\",H1330+(VLOOKUP(L1330,garantie,2,FALSE)))","v":""}]
[1330,{"$nulls":9},{"$f":"IF(B1331=\"\",\"\",D1331&\" - \"&F1331&\" - \"&G1331)","v":""},null,{"$f":"IF(OR(ISBLANK(L1331),ISBLANK(H1331)),\"\",H1331+(VLOOKUP(L1331,garantie,2,FALSE)))","v":""}]
[1331,{"$nulls":9},{"$f":"IF(B1332=\"\",\"\",D1332&\" - \"&F1332&\" - \"&G1332)","v":""},null,{"$f":"IF(OR(ISBLANK(L1332),ISBLANK(H1332)),\"\",H1332+(VLOOKUP(L1332,garantie,2,FALSE)))","v":""}]
[1332,{"$nulls":9},{"$f":"IF(B1333=\"\",\"\",D1333&\" - \"&F1333&\" - \"&G1333)","v":""},null,{"$f":"IF(OR(ISBLANK(L1333),ISBLANK(H1333)),\"\",H1333+(VLOOKUP(L1333,garantie,2,FALSE)))","v":""}]
[1333,{"$nulls":9},{"$f":"IF(B1334=\"\",\"\",D1334&\" - \"&F1334&\" - \"&G1334)","v":""},null,{"$f":"IF(OR(ISBLANK(L1334),ISBLANK(H1334)),\"\",H1334+(VLOOKUP(L1334,garantie,2,FALSE)))","v":""}]
[1334,{"$nulls":9},{"$f":"IF(B1335=\"\",\"\",D1335&\" - \"&F1335&\" - \"&G1335)","v":""},null,{"$f":"IF(OR(ISBLANK(L1335),ISBLANK(H1335)),\"\",H1335+(VLOOKUP(L1335,garantie,2,FALSE)))","v":""}]
[1335,{"$nulls":9},{"$f":"IF(B1336=\"\",\"\",D1336&\" - \"&F1336&\" - \"&G1336)","v":""},null,{"$f":"IF(OR(ISBLANK(L1336),ISBLANK(H1336)),\"\",H1336+(VLOOKUP(L1336,garantie,2,FALSE)))","v":""}]
[1336,{"$nulls":9},{"$f":"IF(B1337=\"\",\"\",D1337&\" - \"&F1337&\" - \"&G1337)","v":""},null,{"$f":"IF(OR(ISBLANK(L1337),ISBLANK(H1337)),\"\",H1337+(VLOOKUP(L1337,garantie,2,FALSE)))","v":""}]
[1337,{"$nulls":9},{"$f":"IF(B1338=\"\",\"\",D1338&\" - \"&F1338&\" - \"&G1338)","v":""},null,{"$f":"IF(OR(ISBLANK(L1338),ISBLANK(H1338)),\"\",H1338+(VLOOKUP(L1338,garantie,2,FALSE)))","v":""}]
[1338,{"$nulls":9},{"$f":"IF(B1339=\"\",\"\",D1339&\" - \"&F1339&\" - \"&G1339)","v":""},null,{"$f":"IF(OR(ISBLANK(L1339),ISBLANK(H1339)),\"\",H1339+(VLOOKUP(L1339,garantie,2,FALSE)))","v":""}]
[1339,{"$nulls":9},{"$f":"IF(B1340=\"\",\"\",D1340&\" - \"&F1340&\" - \"&G1340)","v":""},null,{"$f":"IF(OR(ISBLANK(L1340),ISBLANK(H1340)),\"\",H1340+(VLOOKUP(L1340,garantie,2,FALSE)))","v":""}]
[1340,{"$nulls":9},{"$f":"IF(B1341=\"\",\"\",D1341&\" - \"&F1341&\" - \"&G1341)","v":""},null,{"$f":"IF(OR(ISBLANK(L1341),ISBLANK(H1341)),\"\",H1341+(VLOOKUP(L1341,garantie,2,FALSE)))","v":""}]
[1341,{"$nulls":9},{"$f":"IF(B1342=\"\",\"\",D1342&\" - \"&F1342&\" - \"&G1342)","v":""},null,{"$f":"IF(OR(ISBLANK(L1342),ISBLANK(H1342)),\"\",H1342+(VLOOKUP(L1342,garantie,2,FALSE)))","v":""}]
[1342,{"$nulls":9},{"$f":"IF(B1343=\"\",\"\",D1343&\" - \"&F1343&\" - \"&G1343)","v":""},null,{"$f":"IF(OR(ISBLANK(L1343),ISBLANK(H1343)),\"\",H1343+(VLOOKUP(L1343,garantie,2,FALSE)))","v":""}]
[1343,{"$nulls":9},{"$f":"IF(B1344=\"\",\"\",D1344&\" - \"&F1344&\" - \"&G1344)","v":""},null,{"$f":"IF(OR(ISBLANK(L1344),ISBLANK(H1344)),\"\",H1344+(VLOOKUP(L1344,garantie,2,FALSE)))","v":""}]
[1344,{"$nulls":9},{"$f":"IF(B1345=\"\",\"\",D1345&\" - \"&F1345&\" - \"&G1345)","v":""},null,{"$f":"IF(OR(ISBLANK(L1345),ISBLANK(H1345)),\"\",H1345+(VLOOKUP(L1345,garantie,2,FALSE)))","v":""}]
[1345,{"$nulls":9},{"$f":"IF(B1346=\"\",\"\",D1346&\" - \"&F1346&\" - \"&G1346)","v":""},null,{"$f":"IF(OR(ISBLANK(L1346),ISBLANK(H1346)),\"\",H1346+(VLOOKUP(L1346,garantie,2,FALSE)))","v":""}]
[1346,{"$nulls":9},{"$f":"IF(B1347=\"\",\"\",D1347&\" - \"&F1347&\" - \"&G1347)","v":""},null,{"$f":"IF(OR(ISBLANK(L1347),ISBLANK(H1347)),\"\",H1347+(VLOOKUP(L1347,garantie,2,FALSE)))","v":""}]
[1347,{"$nulls":9},{"$f":"IF(B1348=\"\",\"\",D1348&\" - \"&F1348&\" - \"&G1348)","v":""},null,{"$f":"IF(OR(ISBLANK(L1348),ISBLANK(H1348)),\"\",H1348+(VLOOKUP(L1348,garantie,2,FALSE)))","v":""}]
[1348,{"$nulls":9},{"$f":"IF(B1349=\"\",\"\",D1349&\" - \"&F1349&\" - \"&G1349)","v":""},null,{"$f":"IF(OR(ISBLANK(L1349),ISBLANK(H1349)),\"\",H1349+(VLOOKUP(L1349,garantie,2,FALSE)))","v":""}]
[1349,{"$nulls":9},{"$f":"IF(B1350=\"\",\"\",D1350&\" - \"&F1350&\" - \"&G1350)","v":""},null,{"$f":"IF(OR(ISBLANK(L1350),ISBLANK(H1350)),\"\",H1350+(VLOOKUP(L1350,garantie,2,FALSE)))","v":""}]
[1350,{"$nulls":9},{"$f":"IF(B1351=\"\",\"\",D1351&\" - \"&F1351&\" - \"&G1351)","v":""},null,{"$f":"IF(OR(ISBLANK(L1351),ISBLANK(H1351)),\"\",H1351+(VLOOKUP(L1351,garantie,2,FALSE)))","v":""}]
[1351,{"$nulls":9},{"$f":"IF(B1352=\"\",\"\",D1352&\" - \"&F1352&\" - \"&G1352)","v":""},null,{"$f":"IF(OR(ISBLANK(L1352),ISBLANK(H1352)),\"\",H1352+(VLOOKUP(L1352,garantie,2,FALSE)))","v":""}]
[1352,{"$nulls":9},{"$f":"IF(B1353=\"\",\"\",D1353&\" - \"&F1353&\" - \"&G1353)","v":""},null,{"$f":"IF(OR(ISBLANK(L1353),ISBLANK(H1353)),\"\",H1353+(VLOOKUP(L1353,garantie,2,FALSE)))","v":""}]
[1353,{"$nulls":9},{"$f":"IF(B1354=\"\",\"\",D1354&\" - \"&F1354&\" - \"&G1354)","v":""},null,{"$f":"IF(OR(ISBLANK(L1354),ISBLANK(H1354)),\"\",H1354+(VLOOKUP(L1354,garantie,2,FALSE)))","v":""}]
[1354,{"$nulls":9},{"$f":"IF(B1355=\"\",\"\",D1355&\" - \"&F1355&\" - \"&G1355)","v":""},null,{"$f":"IF(OR(ISBLANK(L1355),ISBLANK(H1355)),\"\",H1355+(VLOOKUP(L1355,garantie,2,FALSE)))","v":""}]
[1355,{"$nulls":9},{"$f":"IF(B1356=\"\",\"\",D1356&\" - \"&F1356&\" - \"&G1356)","v":""},null,{"$f":"IF(OR(ISBLANK(L1356),ISBLANK(H1356)),\"\",H1356+(VLOOKUP(L1356,garantie,2,FALSE)))","v":""}]
[1356,{"$nulls":9},{"$f":"IF(B1357=\"\",\"\",D1357&\" - \"&F1357&\" - \"&G1357)","v":""},null,{"$f":"IF(OR(ISBLANK(L1357),ISBLANK(H1357)),\"\",H1357+(VLOOKUP(L1357,garantie,2,FALSE)))","v":""}]
[1357,{"$nulls":9},{"$f":"IF(B1358=\"\",\"\",D1358&\" - \"&F1358&\" - \"&G1358)","v":""},null,{"$f":"IF(OR(ISBLANK(L1358),ISBLANK(H1358)),\"\",H1358+(VLOOKUP(L1358,garantie,2,FALSE)))","v":""}]
[1358,{"$nulls":9},{"$f":"IF(B1359=\"\",\"\",D1359&\" - \"&F1359&\" - \"&G1359)","v":""},null,{"$f":"IF(OR(ISBLANK(L1359),ISBLANK(H1359)),\"\",H1359+(VLOOKUP(L1359,garantie,2,FALSE)))","v":""}]
[1359,{"$nulls":9},{"$f":"IF(B1360=\"\",\"\",D1360&\" - \"&F1360&\" - \"&G1360)","v":""},null,{"$f":"IF(OR(ISBLANK(L1360),ISBLANK(H1360)),\"\",H1360+(VLOOKUP(L1360,garantie,2,FALSE)))","v":""}]
[1360,{"$nulls":9},{"$f":"IF(B1361=\"\",\"\",D1361&\" - \"&F1361&\" - \"&G1361)","v":""},null,{"$f":"IF(OR(ISBLANK(L1361),ISBLANK(H1361)),\"\",H1361+(VLOOKUP(L1361,garantie,2,FALSE)))","v":""}]
[1361,{"$nulls":9},{"$f":"IF(B1362=\"\",\"\",D1362&\" - \"&F1362&\" - \"&G1362)","v":""},null,{"$f":"IF(OR(ISBLANK(L1362),ISBLANK(H1362)),\"\",H1362+(VLOOKUP(L1362,garantie,2,FALSE)))","v":""}]
[1362,{"$nulls":9},{"$f":"IF(B1363=\"\",\"\",D1363&\" - \"&F1363&\" - \"&G1363)","v":""},null,{"$f":"IF(OR(ISBLANK(L1363),ISBLANK(H1363)),\"\",H1363+(VLOOKUP(L1363,garantie,2,FALSE)))","v":""}]
[1363,{"$nulls":9},{"$f":"IF(B1364=\"\",\"\",D1364&\" - \"&F1364&\" - \"&G1364)","v":""},null,{"$f":"IF(OR(ISBLANK(L1364),ISBLANK(H1364)),\"\",H1364+(VLOOKUP(L1364,garantie,2,FALSE)))","v":""}]
[1364,{"$nulls":9},{"$f":"IF(B1365=\"\",\"\",D1365&\" - \"&F1365&\" - \"&G1365)","v":""},null,{"$f":"IF(OR(ISBLANK(L1365),ISBLANK(H1365)),\"\",H1365+(VLOOKUP(L1365,garantie,2,FALSE)))","v":""}]
[1365,{"$nulls":9},{"$f":"IF(B1366=\"\",\"\",D1366&\" - \"&F1366&\" - \"&G1366)","v":""},null,{"$f":"IF(OR(ISBLANK(L1366),ISBLANK(H1366)),\"\",H1366+(VLOOKUP(L1366,garantie,2,FALSE)))","v":""}]
[1366,{"$nulls":9},{"$f":"IF(B1367=\"\",\"\",D1367&\" - \"&F1367&\" - \"&G1367)","v":""},null,{"$f":"IF(OR(ISBLANK(L1367),ISBLANK(H1367)),\"\",H1367+(VLOOKUP(L1367,garantie,2,FALSE)))","v":""}]
[1367,{"$nulls":9},{"$f":"IF(B1368=\"\",\"\",D1368&\" - \"&F1368&\" - \"&G1368)","v":""},null,{"$f":"IF(OR(ISBLANK(L1368),ISBLANK(H1368)),\"\",H1368+(VLOOKUP(L1368,garantie,2,FALSE)))","v":""}]
[1368,{"$nulls":9},{"$f":"IF(B1369=\"\",\"\",D1369&\" - \"&F1369&\" - \"&G1369)","v":""},null,{"$f":"IF(OR(ISBLANK(L1369),ISBLANK(H1369)),\"\",H1369+(VLOOKUP(L1369,garantie,2,FALSE)))","v":""}]
[1369,{"$nulls":9},{"$f":"IF(B1370=\"\",\"\",D1370&\" - \"&F1370&\" - \"&G1370)","v":""},null,{"$f":"IF(OR(ISBLANK(L1370),ISBLANK(H1370)),\"\",H1370+(VLOOKUP(L1370,garantie,2,FALSE)))","v":""}]
[1370,{"$nulls":9},{"$f":"IF(B1371=\"\",\"\",D1371&\" - \"&F1371&\" - \"&G1371)","v":""},null,{"$f":"IF(OR(ISBLANK(L1371),ISBLANK(H1371)),\"\",H1371+(VLOOKUP(L1371,garantie,2,FALSE)))","v":""}]
[1371,{"$nulls":9},{"$f":"IF(B1372=\"\",\"\",D1372&\" - \"&F1372&\" - \"&G1372)","v":""},null,{"$f":"IF(OR(ISBLANK(L1372),ISBLANK(H1372)),\"\",H1372+(VLOOKUP(L1372,garantie,2,FALSE)))","v":""}]
[1372,{"$nulls":9},{"$f":"IF(B1373=\"\",\"\",D1373&\" - \"&F1373&\" - \"&G1373)","v":""},null,{"$f":"IF(OR(ISBLANK(L1373),ISBLANK(H1373)),\"\",H1373+(VLOOKUP(L1373,garantie,2,FALSE)))","v":""}]
[1373,{"$nulls":9},{"$f":"IF(B1374=\"\",\"\",D1374&\" - \"&F1374&\" - \"&G1374)","v":""},null,{"$f":"IF(OR(ISBLANK(L1374),ISBLANK(H1374)),\"\",H1374+(VLOOKUP(L1374,garantie,2,FALSE)))","v":""}]
[1374,{"$nulls":9},{"$f":"IF(B1375=\"\",\"\",D1375&\" - \"&F1375&\" - \"&G1375)","v":""},null,{"$f":"IF(OR(ISBLANK(L1375),ISBLANK(H1375)),\"\",H1375+(VLOOKUP(L1375,garantie,2,FALSE)))","v":""}]
[1375,{"$nulls":9},{"$f":"IF(B1376=\"\",\"\",D1376&\" - \"&F1376&\" - \"&G1376)","v":""},null,{"$f":"IF(OR(ISBLANK(L1376),ISBLANK(H1376)),\"\",H1376+(VLOOKUP(L1376,garantie,2,FALSE)))","v":""}]
[1376,{"$nulls":9},{"$f":"IF(B1377=\"\",\"\",D1377&\" - \"&F1377&\" - \"&G1377)","v":""},null,{"$f":"IF(OR(ISBLANK(L1377),ISBLANK(H1377)),\"\",H1377+(VLOOKUP(L1377,garantie,2,FALSE)))","v":""}]
[1377,{"$nulls":9},{"$f":"IF(B1378=\"\",\"\",D1378&\" - \"&F1378&\" - \"&G1378)","v":""},null,{"$f":"IF(OR(ISBLANK(L1378),ISBLANK(H1378)),\"\",H1378+(VLOOKUP(L1378,garantie,2,FALSE)))","v":""}]
[1378,{"$nulls":9},{"$f":"IF(B1379=\"\",\"\",D1379&\" - \"&F1379&\" - \"&G1379)","v":""},null,{"$f":"IF(OR(ISBLANK(L1379),ISBLANK(H1379)),\"\",H1379+(VLOOKUP(L1379,garantie,2,FALSE)))","v":""}]
[1379,{"$nulls":9},{"$f":"IF(B1380=\"\",\"\",D1380&\" - \"&F1380&\" - \"&G1380)","v":""},null,{"$f":"IF(OR(ISBLANK(L1380),ISBLANK(H1380)),\"\",H1380+(VLOOKUP(L1380,garantie,2,FALSE)))","v":""}]
[1380,{"$nulls":9},{"$f":"IF(B1381=\"\",\"\",D1381&\" - \"&F1381&\" - \"&G1381)","v":""},null,{"$f":"IF(OR(ISBLANK(L1381),ISBLANK(H1381)),\"\",H1381+(VLOOKUP(L1381,garantie,2,FALSE)))","v":""}]
[1381,{"$nulls":9},{"$f":"IF(B1382=\"\",\"\",D1382&\" - \"&F1382&\" - \"&G1382)","v":""},null,{"$f":"IF(OR(ISBLANK(L1382),ISBLANK(H1382)),\"\",H1382+(VLOOKUP(L1382,garantie,2,FALSE)))","v":""}]
[1382,{"$nulls":9},{"$f":"IF(B1383=\"\",\"\",D1383&\" - \"&F1383&\" - \"&G1383)","v":""},null,{"$f":"IF(OR(ISBLANK(L1383),ISBLANK(H1383)),\"\",H1383+(VLOOKUP(L1383,garantie,2,FALSE)))","v":""}]
[1383,{"$nulls":9},{"$f":"IF(B1384=\"\",\"\",D1384&\" - \"&F1384&\" - \"&G1384)","v":""},null,{"$f":"IF(OR(ISBLANK(L1384),ISBLANK(H1384)),\"\",H1384+(VLOOKUP(L1384,garantie,2,FALSE)))","v":""}]
[1384,{"$nulls":9},{"$f":"IF(B1385=\"\",\"\",D1385&\" - \"&F1385&\" - \"&G1385)","v":""},null,{"$f":"IF(OR(ISBLANK(L1385),ISBLANK(H1385)),\"\",H1385+(VLOOKUP(L1385,garantie,2,FALSE)))","v":""}]
[1385,{"$nulls":9},{"$f":"IF(B1386=\"\",\"\",D1386&\" - \"&F1386&\" - \"&G1386)","v":""},null,{"$f":"IF(OR(ISBLANK(L1386),ISBLANK(H1386)),\"\",H1386+(VLOOKUP(L1386,garantie,2,FALSE)))","v":""}]
[1386,{"$nulls":9},{"$f":"IF(B1387=\"\",\"\",D1387&\" - \"&F1387&\" - \"&G1387)","v":""},null,{"$f":"IF(OR(ISBLANK(L1387),ISBLANK(H1387)),\"\",H1387+(VLOOKUP(L1387,garantie,2,FALSE)))","v":""}]
[1387,{"$nulls":9},{"$f":"IF(B1388=\"\",\"\",D1388&\" - \"&F1388&\" - \"&G1388)","v":""},null,{"$f":"IF(OR(ISBLANK(L1388),ISBLANK(H1388)),\"\",H1388+(VLOOKUP(L1388,garantie,2,FALSE)))","v":""}]
[1388,{"$nulls":9},{"$f":"IF(B1389=\"\",\"\",D1389&\" - \"&F1389&\" - \"&G1389)","v":""},null,{"$f":"IF(OR(ISBLANK(L1389),ISBLANK(H1389)),\"\",H1389+(VLOOKUP(L1389,garantie,2,FALSE)))","v":""}]
[1389,{"$nulls":9},{"$f":"IF(B1390=\"\",\"\",D1390&\" - \"&F1390&\" - \"&G1390)","v":""},null,{"$f":"IF(OR(ISBLANK(L1390),ISBLANK(H1390)),\"\",H1390+(VLOOKUP(L1390,garantie,2,FALSE)))","v":""}]
[1390,{"$nulls":9},{"$f":"IF(B1391=\"\",\"\",D1391&\" - \"&F1391&\" - \"&G1391)","v":""},null,{"$f":"IF(OR(ISBLANK(L1391),ISBLANK(H1391)),\"\",H1391+(VLOOKUP(L1391,garantie,2,FALSE)))","v":""}]
[1391,{"$nulls":9},{"$f":"IF(B1392=\"\",\"\",D1392&\" - \"&F1392&\" - \"&G1392)","v":""},null,{"$f":"IF(OR(ISBLANK(L1392),ISBLANK(H1392)),\"\",H1392+(VLOOKUP(L1392,garantie,2,FALSE)))","v":""}]
[1392,{"$nulls":9},{"$f":"IF(B1393=\"\",\"\",D1393&\" - \"&F1393&\" - \"&G1393)","v":""},null,{"$f":"IF(OR(ISBLANK(L1393),ISBLANK(H1393)),\"\",H1393+(VLOOKUP(L1393,garantie,2,FALSE)))","v":""}]
[1393,{"$nulls":9},{"$f":"IF(B1394=\"\",\"\",D1394&\" - \"&F1394&\" - \"&G1394)","v":""},null,{"$f":"IF(OR(ISBLANK(L1394),ISBLANK(H1394)),\"\",H1394+(VLOOKUP(L1394,garantie,2,FALSE)))","v":""}]
[1394,{"$nulls":9},{"$f":"IF(B1395=\"\",\"\",D1395&\" - \"&F1395&\" - \"&G1395)","v":""},null,{"$f":"IF(OR(ISBLANK(L1395),ISBLANK(H1395)),\"\",H1395+(VLOOKUP(L1395,garantie,2,FALSE)))","v":""}]
[1395,{"$nulls":9},{"$f":"IF(B1396=\"\",\"\",D1396&\" - \"&F1396&\" - \"&G1396)","v":""},null,{"$f":"IF(OR(ISBLANK(L1396),ISBLANK(H1396)),\"\",H1396+(VLOOKUP(L1396,garantie,2,FALSE)))","v":""}]
[1396,{"$nulls":9},{"$f":"IF(B1397=\"\",\"\",D1397&\" - \"&F1397&\" - \"&G1397)","v":""},null,{"$f":"IF(OR(ISBLANK(L1397),ISBLANK(H1397)),\"\",H1397+(VLOOKUP(L1397,garantie,2,FALSE)))","v":""}]
[1397,{"$nulls":9},{"$f":"IF(B1398=\"\",\"\",D1398&\" - \"&F1398&\" - \"&G1398)","v":""},null,{"$f":"IF(OR(ISBLANK(L1398),ISBLANK(H1398)),\"\",H1398+(VLOOKUP(L1398,garantie,2,FALSE)))","v":""}]
[1398,{"$nulls":9},{"$f":"IF(B1399=\"\",\"\",D1399&\" - \"&F1399&\" - \"&G1399)","v":""},null,{"$f":"IF(OR(ISBLANK(L1399),ISBLANK(H1399)),\"\",H1399+(VLOOKUP(L1399,garantie,2,FALSE)))","v":""}]
[1399,{"$nulls":9},{"$f":"IF(B1400=\"\",\"\",D1400&\" - \"&F1400&\" - \"&G1400)","v":""},null,{"$f":"IF(OR(ISBLANK(L1400),ISBLANK(H1400)),\"\",H1400+(VLOOKUP(L1400,garantie,2,FALSE)))","v":""}]
[1400,{"$nulls":9},{"$f":"IF(B1401=\"\",\"\",D1401&\" - \"&F1401&\" - \"&G1401)","v":""},null,{"$f":"IF(OR(ISBLANK(L1401),ISBLANK(H1401)),\"\",H1401+(VLOOKUP(L1401,garantie,2,FALSE)))","v":""}]
[1401,{"$nulls":9},{"$f":"IF(B1402=\"\",\"\",D1402&\" - \"&F1402&\" - \"&G1402)","v":""},null,{"$f":"IF(OR(ISBLANK(L1402),ISBLANK(H1402)),\"\",H1402+(VLOOKUP(L1402,garantie,2,FALSE)))","v":""}]
[1402,{"$nulls":9},{"$f":"IF(B1403=\"\",\"\",D1403&\" - \"&F1403&\" - \"&G1403)","v":""},null,{"$f":"IF(OR(ISBLANK(L1403),ISBLANK(H1403)),\"\",H1403+(VLOOKUP(L1403,garantie,2,FALSE)))","v":""}]
[1403,{"$nulls":9},{"$f":"IF(B1404=\"\",\"\",D1404&\" - \"&F1404&\" - \"&G1404)","v":""},null,{"$f":"IF(OR(ISBLANK(L1404),ISBLANK(H1404)),\"\",H1404+(VLOOKUP(L1404,garantie,2,FALSE)))","v":""}]
[1404,{"$nulls":9},{"$f":"IF(B1405=\"\",\"\",D1405&\" - \"&F1405&\" - \"&G1405)","v":""},null,{"$f":"IF(OR(ISBLANK(L1405),ISBLANK(H1405)),\"\",H1405+(VLOOKUP(L1405,garantie,2,FALSE)))","v":""}]
[1405,{"$nulls":9},{"$f":"IF(B1406=\"\",\"\",D1406&\" - \"&F1406&\" - \"&G1406)","v":""},null,{"$f":"IF(OR(ISBLANK(L1406),ISBLANK(H1406)),\"\",H1406+(VLOOKUP(L1406,garantie,2,FALSE)))","v":""}]
[1406,{"$nulls":9},{"$f":"IF(B1407=\"\",\"\",D1407&\" - \"&F1407&\" - \"&G1407)","v":""},null,{"$f":"IF(OR(ISBLANK(L1407),ISBLANK(H1407)),\"\",H1407+(VLOOKUP(L1407,garantie,2,FALSE)))","v":""}]
[1407,{"$nulls":9},{"$f":"IF(B1408=\"\",\"\",D1408&\" - \"&F1408&\" - \"&G1408)","v":""},null,{"$f":"IF(OR(ISBLANK(L1408),ISBLANK(H1408)),\"\",H1408+(VLOOKUP(L1408,garantie,2,FALSE)))","v":""}]
[1408,{"$nulls":9},{"$f":"IF(B1409=\"\",\"\",D1409&\" - \"&F1409&\" - \"&G1409)","v":""},null,{"$f":"IF(OR(ISBLANK(L1409),ISBLANK(H1409)),\"\",H1409+(VLOOKUP(L1409,garantie,2,FALSE)))","v":""}]
[1409,{"$nulls":9},{"$f":"IF(B1410=\"\",\"\",D1410&\" - \"&F1410&\" - \"&G1410)","v":""},null,{"$f":"IF(OR(ISBLANK(L1410),ISBLANK(H1410)),\"\",H1410+(VLOOKUP(L1410,garantie,2,FALSE)))","v":""}]
[1410,{"$nulls":9},{"$f":"IF(B1411=\"\",\"\",D1411&\" - \"&F1411&\" - \"&G1411)","v":""},null,{"$f":"IF(OR(ISBLANK(L1411),ISBLANK(H1411)),\"\",H1411+(VLOOKUP(L1411,garantie,2,FALSE)))","v":""}]
[1411,{"$nulls":9},{"$f":"IF(B1412=\"\",\"\",D1412&\" - \"&F1412&\" - \"&G1412)","v":""},null,{"$f":"IF(OR(ISBLANK(L1412),ISBLANK(H1412)),\"\",H1412+(VLOOKUP(L1412,garantie,2,FALSE)))","v":""}]
[1412,{"$nulls":9},{"$f":"IF(B1413=\"\",\"\",D1413&\" - \"&F1413&\" - \"&G1413)","v":""},null,{"$f":"IF(OR(ISBLANK(L1413),ISBLANK(H1413)),\"\",H1413+(VLOOKUP(L1413,garantie,2,FALSE)))","v":""}]
[1413,{"$nulls":9},{"$f":"IF(B1414=\"\",\"\",D1414&\" - \"&F1414&\" - \"&G1414)","v":""},null,{"$f":"IF(OR(ISBLANK(L1414),ISBLANK(H1414)),\"\",H1414+(VLOOKUP(L1414,garantie,2,FALSE)))","v":""}]
[1414,{"$nulls":9},{"$f":"IF(B1415=\"\",\"\",D1415&\" - \"&F1415&\" - \"&G1415)","v":""},null,{"$f":"IF(OR(ISBLANK(L1415),ISBLANK(H1415)),\"\",H1415+(VLOOKUP(L1415,garantie,2,FALSE)))","v":""}]
[1415,{"$nulls":9},{"$f":"IF(B1416=\"\",\"\",D1416&\" - \"&F1416&\" - \"&G1416)","v":""},null,{"$f":"IF(OR(ISBLANK(L1416),ISBLANK(H1416)),\"\",H1416+(VLOOKUP(L1416,garantie,2,FALSE)))","v":""}]
[1416,{"$nulls":9},{"$f":"IF(B1417=\"\",\"\",D1417&\" - \"&F1417&\" - \"&G1417)","v":""},null,{"$f":"IF(OR(ISBLANK(L1417),ISBLANK(H1417)),\"\",H1417+(VLOOKUP(L1417,garantie,2,FALSE)))","v":""}]
[1417,{"$nulls":9},{"$f":"IF(B1418=\"\",\"\",D1418&\" - \"&F1418&\" - \"&G1418)","v":""},null,{"$f":"IF(OR(ISBLANK(L1418),ISBLANK(H1418)),\"\",H1418+(VLOOKUP(L1418,garantie,2,FALSE)))","v":""}]
[1418,{"$nulls":9},{"$f":"IF(B1419=\"\",\"\",D1419&\" - \"&F1419&\" - \"&G1419)","v":""},null,{"$f":"IF(OR(ISBLANK(L1419),ISBLANK(H1419)),\"\",H1419+(VLOOKUP(L1419,garantie,2,FALSE)))","v":""}]
[1419,{"$nulls":9},{"$f":"IF(B1420=\"\",\"\",D1420&\" - \"&F1420&\" - \"&G1420)","v":""},null,{"$f":"IF(OR(ISBLANK(L1420),ISBLANK(H1420)),\"\",H1420+(VLOOKUP(L1420,garantie,2,FALSE)))","v":""}]
[1420,{"$nulls":9},{"$f":"IF(B1421=\"\",\"\",D1421&\" - \"&F1421&\" - \"&G1421)","v":""},null,{"$f":"IF(OR(ISBLANK(L1421),ISBLANK(H1421)),\"\",H1421+(VLOOKUP(L1421,garantie,2,FALSE)))","v":""}]
[1421,{"$nulls":9},{"$f":"IF(B1422=\"\",\"\",D1422&\" - \"&F1422&\" - \"&G1422)","v":""},null,{"$f":"IF(OR(ISBLANK(L1422),ISBLANK(H1422)),\"\",H1422+(VLOOKUP(L1422,garantie,2,FALSE)))","v":""}]
[1422,{"$nulls":9},{"$f":"IF(B1423=\"\",\"\",D1423&\" - \"&F1423&\" - \"&G1423)","v":""},null,{"$f":"IF(OR(ISBLANK(L1423),ISBLANK(H1423)),\"\",H1423+(VLOOKUP(L1423,garantie,2,FALSE)))","v":""}]
[1423,{"$nulls":9},{"$f":"IF(B1424=\"\",\"\",D1424&\" - \"&F1424&\" - \"&G1424)","v":""},null,{"$f":"IF(OR(ISBLANK(L1424),ISBLANK(H1424)),\"\",H1424+(VLOOKUP(L1424,garantie,2,FALSE)))","v":""}]
[1424,{"$nulls":9},{"$f":"IF(B1425=\"\",\"\",D1425&\" - \"&F1425&\" - \"&G1425)","v":""},null,{"$f":"IF(OR(ISBLANK(L1425),ISBLANK(H1425)),\"\",H1425+(VLOOKUP(L1425,garantie,2,FALSE)))","v":""}]
[1425,{"$nulls":9},{"$f":"IF(B1426=\"\",\"\",D1426&\" - \"&F1426&\" - \"&G1426)","v":""},null,{"$f":"IF(OR(ISBLANK(L1426),ISBLANK(H1426)),\"\",H1426+(VLOOKUP(L1426,garantie,2,FALSE)))","v":""}]
[1426,{"$nulls":9},{"$f":"IF(B1427=\"\",\"\",D1427&\" - \"&F1427&\" - \"&G1427)","v":""},null,{"$f":"IF(OR(ISBLANK(L1427),ISBLANK(H1427)),\"\",H1427+(VLOOKUP(L1427,garantie,2,FALSE)))","v":""}]
[1427,{"$nulls":9},{"$f":"IF(B1428=\"\",\"\",D1428&\" - \"&F1428&\" - \"&G1428)","v":""},null,{"$f":"IF(OR(ISBLANK(L1428),ISBLANK(H1428)),\"\",H1428+(VLOOKUP(L1428,garantie,2,FALSE)))","v":""}]
[1428,{"$nulls":9},{"$f":"IF(B1429=\"\",\"\",D1429&\" - \"&F1429&\" - \"&G1429)","v":""},null,{"$f":"IF(OR(ISBLANK(L1429),ISBLANK(H1429)),\"\",H1429+(VLOOKUP(L1429,garantie,2,FALSE)))","v":""}]
[1429,{"$nulls":9},{"$f":"IF(B1430=\"\",\"\",D1430&\" - \"&F1430&\" - \"&G1430)","v":""},null,{"$f":"IF(OR(ISBLANK(L1430),ISBLANK(H1430)),\"\",H1430+(VLOOKUP(L1430,garantie,2,FALSE)))","v":""}]
[1430,{"$nulls":9},{"$f":"IF(B1431=\"\",\"\",D1431&\" - \"&F1431&\" - \"&G1431)","v":""},null,{"$f":"IF(OR(ISBLANK(L1431),ISBLANK(H1431)),\"\",H1431+(VLOOKUP(L1431,garantie,2,FALSE)))","v":""}]
[1431,{"$nulls":9},{"$f":"IF(B1432=\"\",\"\",D1432&\" - \"&F1432&\" - \"&G1432)","v":""},null,{"$f":"IF(OR(ISBLANK(L1432),ISBLANK(H1432)),\"\",H1432+(VLOOKUP(L1432,garantie,2,FALSE)))","v":""}]
[1432,{"$nulls":9},{"$f":"IF(B1433=\"\",\"\",D1433&\" - \"&F1433&\" - \"&G1433)","v":""},null,{"$f":"IF(OR(ISBLANK(L1433),ISBLANK(H1433)),\"\",H1433+(VLOOKUP(L1433,garantie,2,FALSE)))","v":""}]
[1433,{"$nulls":9},{"$f":"IF(B1434=\"\",\"\",D1434&\" - \"&F1434&\" - \"&G1434)","v":""},null,{"$f":"IF(OR(ISBLANK(L1434),ISBLANK(H1434)),\"\",H1434+(VLOOKUP(L1434,garantie,2,FALSE)))","v":""}]
[1434,{"$nulls":9},{"$f":"IF(B1435=\"\",\"\",D1435&\" - \"&F1435&\" - \"&G1435)","v":""},null,{"$f":"IF(OR(ISBLANK(L1435),ISBLANK(H1435)),\"\",H1435+(VLOOKUP(L1435,garantie,2,FALSE)))","v":""}]
[1435,{"$nulls":9},{"$f":"IF(B1436=\"\",\"\",D1436&\" - \"&F1436&\" - \"&G1436)","v":""},null,{"$f":"IF(OR(ISBLANK(L1436),ISBLANK(H1436)),\"\",H1436+(VLOOKUP(L1436,garantie,2,FALSE)))","v":""}]
[1436,{"$nulls":9},{"$f":"IF(B1437=\"\",\"\",D1437&\" - \"&F1437&\" - \"&G1437)","v":""},null,{"$f":"IF(OR(ISBLANK(L1437),ISBLANK(H1437)),\"\",H1437+(VLOOKUP(L1437,garantie,2,FALSE)))","v":""}]
[1437,{"$nulls":9},{"$f":"IF(B1438=\"\",\"\",D1438&\" - \"&F1438&\" - \"&G1438)","v":""},null,{"$f":"IF(OR(ISBLANK(L1438),ISBLANK(H1438)),\"\",H1438+(VLOOKUP(L1438,garantie,2,FALSE)))","v":""}]
[1438,{"$nulls":9},{"$f":"IF(B1439=\"\",\"\",D1439&\" - \"&F1439&\" - \"&G1439)","v":""},null,{"$f":"IF(OR(ISBLANK(L1439),ISBLANK(H1439)),\"\",H1439+(VLOOKUP(L1439,garantie,2,FALSE)))","v":""}]
[1439,{"$nulls":9},{"$f":"IF(B1440=\"\",\"\",D1440&\" - \"&F1440&\" - \"&G1440)","v":""},null,{"$f":"IF(OR(ISBLANK(L1440),ISBLANK(H1440)),\"\",H1440+(VLOOKUP(L1440,garantie,2,FALSE)))","v":""}]
[1440,{"$nulls":9},{"$f":"IF(B1441=\"\",\"\",D1441&\" - \"&F1441&\" - \"&G1441)","v":""},null,{"$f":"IF(OR(ISBLANK(L1441),ISBLANK(H1441)),\"\",H1441+(VLOOKUP(L1441,garantie,2,FALSE)))","v":""}]
[1441,{"$nulls":9},{"$f":"IF(B1442=\"\",\"\",D1442&\" - \"&F1442&\" - \"&G1442)","v":""},null,{"$f":"IF(OR(ISBLANK(L1442),ISBLANK(H1442)),\"\",H1442+(VLOOKUP(L1442,garantie,2,FALSE)))","v":""}]
[1442,{"$nulls":9},{"$f":"IF(B1443=\"\",\"\",D1443&\" - \"&F1443&\" - \"&G1443)","v":""},null,{"$f":"IF(OR(ISBLANK(L1443),ISBLANK(H1443)),\"\",H1443+(VLOOKUP(L1443,garantie,2,FALSE)))","v":""}]
[1443,{"$nulls":9},{"$f":"IF(B1444=\"\",\"\",D1444&\" - \"&F1444&\" - \"&G1444)","v":""},null,{"$f":"IF(OR(ISBLANK(L1444),ISBLANK(H1444)),\"\",H1444+(VLOOKUP(L1444,garantie,2,FALSE)))","v":""}]
[1444,{"$nulls":9},{"$f":"IF(B1445=\"\",\"\",D1445&\" - \"&F1445&\" - \"&G1445)","v":""},null,{"$f":"IF(OR(ISBLANK(L1445),ISBLANK(H1445)),\"\",H1445+(VLOOKUP(L1445,garantie,2,FALSE)))","v":""}]
[1445,{"$nulls":9},{"$f":"IF(B1446=\"\",\"\",D1446&\" - \"&F1446&\" - \"&G1446)","v":""},null,{"$f":"IF(OR(ISBLANK(L1446),ISBLANK(H1446)),\"\",H1446+(VLOOKUP(L1446,garantie,2,FALSE)))","v":""}]
[1446,{"$nulls":9},{"$f":"IF(B1447=\"\",\"\",D1447&\" - \"&F1447&\" - \"&G1447)","v":""},null,{"$f":"IF(OR(ISBLANK(L1447),ISBLANK(H1447)),\"\",H1447+(VLOOKUP(L1447,garantie,2,FALSE)))","v":""}]
[1447,{"$nulls":9},{"$f":"IF(B1448=\"\",\"\",D1448&\" - \"&F1448&\" - \"&G1448)","v":""},null,{"$f":"IF(OR(ISBLANK(L1448),ISBLANK(H1448)),\"\",H1448+(VLOOKUP(L1448,garantie,2,FALSE)))","v":""}]
[1448,{"$nulls":9},{"$f":"IF(B1449=\"\",\"\",D1449&\" - \"&F1449&\" - \"&G1449)","v":""},null,{"$f":"IF(OR(ISBLANK(L1449),ISBLANK(H1449)),\"\",H1449+(VLOOKUP(L1449,garantie,2,FALSE)))","v":""}]
[1449,{"$nulls":9},{"$f":"IF(B1450=\"\",\"\",D1450&\" - \"&F1450&\" - \"&G1450)","v":""},null,{"$f":"IF(OR(ISBLANK(L1450),ISBLANK(H1450)),\"\",H1450+(VLOOKUP(L1450,garantie,2,FALSE)))","v":""}]
[1450,{"$nulls":9},{"$f":"IF(B1451=\"\",\"\",D1451&\" - \"&F1451&\" - \"&G1451)","v":""},null,{"$f":"IF(OR(ISBLANK(L1451),ISBLANK(H1451)),\"\",H1451+(VLOOKUP(L1451,garantie,2,FALSE)))","v":""}]
[1451,{"$nulls":9},{"$f":"IF(B1452=\"\",\"\",D1452&\" - \"&F1452&\" - \"&G1452)","v":""},null,{"$f":"IF(OR(ISBLANK(L1452),ISBLANK(H1452)),\"\",H1452+(VLOOKUP(L1452,garantie,2,FALSE)))","v":""}]
[1452,{"$nulls":9},{"$f":"IF(B1453=\"\",\"\",D1453&\" - \"&F1453&\" - \"&G1453)","v":""},null,{"$f":"IF(OR(ISBLANK(L1453),ISBLANK(H1453)),\"\",H1453+(VLOOKUP(L1453,garantie,2,FALSE)))","v":""}]
[1453,{"$nulls":9},{"$f":"IF(B1454=\"\",\"\",D1454&\" - \"&F1454&\" - \"&G1454)","v":""},null,{"$f":"IF(OR(ISBLANK(L1454),ISBLANK(H1454)),\"\",H1454+(VLOOKUP(L1454,garantie,2,FALSE)))","v":""}]
[1454,{"$nulls":9},{"$f":"IF(B1455=\"\",\"\",D1455&\" - \"&F1455&\" - \"&G1455)","v":""},null,{"$f":"IF(OR(ISBLANK(L1455),ISBLANK(H1455)),\"\",H1455+(VLOOKUP(L1455,garantie,2,FALSE)))","v":""}]
[1455,{"$nulls":9},{"$f":"IF(B1456=\"\",\"\",D1456&\" - \"&F1456&\" - \"&G1456)","v":""},null,{"$f":"IF(OR(ISBLANK(L1456),ISBLANK(H1456)),\"\",H1456+(VLOOKUP(L1456,garantie,2,FALSE)))","v":""}]
[1456,{"$nulls":9},{"$f":"IF(B1457=\"\",\"\",D1457&\" - \"&F1457&\" - \"&G1457)","v":""},null,{"$f":"IF(OR(ISBLANK(L1457),ISBLANK(H1457)),\"\",H1457+(VLOOKUP(L1457,garantie,2,FALSE)))","v":""}]
[1457,{"$nulls":9},{"$f":"IF(B1458=\"\",\"\",D1458&\" - \"&F1458&\" - \"&G1458)","v":""},null,{"$f":"IF(OR(ISBLANK(L1458),ISBLANK(H1458)),\"\",H1458+(VLOOKUP(L1458,garantie,2,FALSE)))","v":""}]
[1458,{"$nulls":9},{"$f":"IF(B1459=\"\",\"\",D1459&\" - \"&F1459&\" - \"&G1459)","v":""},null,{"$f":"IF(OR(ISBLANK(L1459),ISBLANK(H1459)),\"\",H1459+(VLOOKUP(L1459,garantie,2,FALSE)))","v":""}]
[1459,{"$nulls":9},{"$f":"IF(B1460=\"\",\"\",D1460&\" - \"&F1460&\" - \"&G1460)","v":""},null,{"$f":"IF(OR(ISBLANK(L1460),ISBLANK(H1460)),\"\",H1460+(VLOOKUP(L1460,garantie,2,FALSE)))","v":""}]
[1460,{"$nulls":9},{"$f":"IF(B1461=\"\",\"\",D1461&\" - \"&F1461&\" - \"&G1461)","v":""},null,{"$f":"IF(OR(ISBLANK(L1461),ISBLANK(H1461)),\"\",H1461+(VLOOKUP(L1461,garantie,2,FALSE)))","v":""}]
[1461,{"$nulls":9},{"$f":"IF(B1462=\"\",\"\",D1462&\" - \"&F1462&\" - \"&G1462)","v":""},null,{"$f":"IF(OR(ISBLANK(L1462),ISBLANK(H1462)),\"\",H1462+(VLOOKUP(L1462,garantie,2,FALSE)))","v":""}]
[1462,{"$nulls":9},{"$f":"IF(B1463=\"\",\"\",D1463&\" - \"&F1463&\" - \"&G1463)","v":""},null,{"$f":"IF(OR(ISBLANK(L1463),ISBLANK(H1463)),\"\",H1463+(VLOOKUP(L1463,garantie,2,FALSE)))","v":""}]
[1463,{"$nulls":9},{"$f":"IF(B1464=\"\",\"\",D1464&\" - \"&F1464&\" - \"&G1464)","v":""},null,{"$f":"IF(OR(ISBLANK(L1464),ISBLANK(H1464)),\"\",H1464+(VLOOKUP(L1464,garantie,2,FALSE)))","v":""}]
[1464,{"$nulls":9},{"$f":"IF(B1465=\"\",\"\",D1465&\" - \"&F1465&\" - \"&G1465)","v":""},null,{"$f":"IF(OR(ISBLANK(L1465),ISBLANK(H1465)),\"\",H1465+(VLOOKUP(L1465,garantie,2,FALSE)))","v":""}]
[1465,{"$nulls":9},{"$f":"IF(B1466=\"\",\"\",D1466&\" - \"&F1466&\" - \"&G1466)","v":""},null,{"$f":"IF(OR(ISBLANK(L1466),ISBLANK(H1466)),\"\",H1466+(VLOOKUP(L1466,garantie,2,FALSE)))","v":""}]
[1466,{"$nulls":9},{"$f":"IF(B1467=\"\",\"\",D1467&\" - \"&F1467&\" - \"&G1467)","v":""},null,{"$f":"IF(OR(ISBLANK(L1467),ISBLANK(H1467)),\"\",H1467+(VLOOKUP(L1467,garantie,2,FALSE)))","v":""}]
[1467,{"$nulls":9},{"$f":"IF(B1468=\"\",\"\",D1468&\" - \"&F1468&\" - \"&G1468)","v":""},null,{"$f":"IF(OR(ISBLANK(L1468),ISBLANK(H1468)),\"\",H1468+(VLOOKUP(L1468,garantie,2,FALSE)))","v":""}]
[1468,{"$nulls":9},{"$f":"IF(B1469=\"\",\"\",D1469&\" - \"&F1469&\" - \"&G1469)","v":""},null,{"$f":"IF(OR(ISBLANK(L1469),ISBLANK(H1469)),\"\",H1469+(VLOOKUP(L1469,garantie,2,FALSE)))","v":""}]
[1469,{"$nulls":9},{"$f":"IF(B1470=\"\",\"\",D1470&\" - \"&F1470&\" - \"&G1470)","v":""},null,{"$f":"IF(OR(ISBLANK(L1470),ISBLANK(H1470)),\"\",H1470+(VLOOKUP(L1470,garantie,2,FALSE)))","v":""}]
[1470,{"$nulls":9},{"$f":"IF(B1471=\"\",\"\",D1471&\" - \"&F1471&\" - \"&G1471)","v":""},null,{"$f":"IF(OR(ISBLANK(L1471),ISBLANK(H1471)),\"\",H1471+(VLOOKUP(L1471,garantie,2,FALSE)))","v":""}]
[1471,{"$nulls":9},{"$f":"IF(B1472=\"\",\"\",D1472&\" - \"&F1472&\" - \"&G1472)","v":""},null,{"$f":"IF(OR(ISBLANK(L1472),ISBLANK(H1472)),\"\",H1472+(VLOOKUP(L1472,garantie,2,FALSE)))","v":""}]
[1472,{"$nulls":9},{"$f":"IF(B1473=\"\",\"\",D1473&\" - \"&F1473&\" - \"&G1473)","v":""},null,{"$f":"IF(OR(ISBLANK(L1473),ISBLANK(H1473)),\"\",H1473+(VLOOKUP(L1473,garantie,2,FALSE)))","v":""}]
[1473,{"$nulls":9},{"$f":"IF(B1474=\"\",\"\",D1474&\" - \"&F1474&\" - \"&G1474)","v":""},null,{"$f":"IF(OR(ISBLANK(L1474),ISBLANK(H1474)),\"\",H1474+(VLOOKUP(L1474,garantie,2,FALSE)))","v":""}]
[1474,{"$nulls":9},{"$f":"IF(B1475=\"\",\"\",D1475&\" - \"&F1475&\" - \"&G1475)","v":""},null,{"$f":"IF(OR(ISBLANK(L1475),ISBLANK(H1475)),\"\",H1475+(VLOOKUP(L1475,garantie,2,FALSE)))","v":""}]
[1475,{"$nulls":9},{"$f":"IF(B1476=\"\",\"\",D1476&\" - \"&F1476&\" - \"&G1476)","v":""},null,{"$f":"IF(OR(ISBLANK(L1476),ISBLANK(H1476)),\"\",H1476+(VLOOKUP(L1476,garantie,2,FALSE)))","v":""}]
[1476,{"$nulls":9},{"$f":"IF(B1477=\"\",\"\",D1477&\" - \"&F1477&\" - \"&G1477)","v":""},null,{"$f":"IF(OR(ISBLANK(L1477),ISBLANK(H1477)),\"\",H1477+(VLOOKUP(L1477,garantie,2,FALSE)))","v":""}]
[1477,{"$nulls":9},{"$f":"IF(B1478=\"\",\"\",D1478&\" - \"&F1478&\" - \"&G1478)","v":""},null,{"$f":"IF(OR(ISBLANK(L1478),ISBLANK(H1478)),\"\",H1478+(VLOOKUP(L1478,garantie,2,FALSE)))","v":""}]
[1478,{"$nulls":9},{"$f":"IF(B1479=\"\",\"\",D1479&\" - \"&F1479&\" - \"&G1479)","v":""},null,{"$f":"IF(OR(ISBLANK(L1479),ISBLANK(H1479)),\"\",H1479+(VLOOKUP(L1479,garantie,2,FALSE)))","v":""}]
[1479,{"$nulls":9},{"$f":"IF(B1480=\"\",\"\",D1480&\" - \"&F1480&\" - \"&G1480)","v":""},null,{"$f":"IF(OR(ISBLANK(L1480),ISBLANK(H1480)),\"\",H1480+(VLOOKUP(L1480,garantie,2,FALSE)))","v":""}]
[1480,{"$nulls":9},{"$f":"IF(B1481=\"\",\"\",D1481&\" - \"&F1481&\" - \"&G1481)","v":""},null,{"$f":"IF(OR(ISBLANK(L1481),ISBLANK(H1481)),\"\",H1481+(VLOOKUP(L1481,garantie,2,FALSE)))","v":""}]
[1481,{"$nulls":9},{"$f":"IF(B1482=\"\",\"\",D1482&\" - \"&F1482&\" - \"&G1482)","v":""},null,{"$f":"IF(OR(ISBLANK(L1482),ISBLANK(H1482)),\"\",H1482+(VLOOKUP(L1482,garantie,2,FALSE)))","v":""}]
[1482,{"$nulls":9},{"$f":"IF(B1483=\"\",\"\",D1483&\" - \"&F1483&\" - \"&G1483)","v":""},null,{"$f":"IF(OR(ISBLANK(L1483),ISBLANK(H1483)),\"\",H1483+(VLOOKUP(L1483,garantie,2,FALSE)))","v":""}]
[1483,{"$nulls":9},{"$f":"IF(B1484=\"\",\"\",D1484&\" - \"&F1484&\" - \"&G1484)","v":""},null,{"$f":"IF(OR(ISBLANK(L1484),ISBLANK(H1484)),\"\",H1484+(VLOOKUP(L1484,garantie,2,FALSE)))","v":""}]
[1484,{"$nulls":9},{"$f":"IF(B1485=\"\",\"\",D1485&\" - \"&F1485&\" - \"&G1485)","v":""},null,{"$f":"IF(OR(ISBLANK(L1485),ISBLANK(H1485)),\"\",H1485+(VLOOKUP(L1485,garantie,2,FALSE)))","v":""}]
[1485,{"$nulls":9},{"$f":"IF(B1486=\"\",\"\",D1486&\" - \"&F1486&\" - \"&G1486)","v":""},null,{"$f":"IF(OR(ISBLANK(L1486),ISBLANK(H1486)),\"\",H1486+(VLOOKUP(L1486,garantie,2,FALSE)))","v":""}]
[1486,{"$nulls":9},{"$f":"IF(B1487=\"\",\"\",D1487&\" - \"&F1487&\" - \"&G1487)","v":""},null,{"$f":"IF(OR(ISBLANK(L1487),ISBLANK(H1487)),\"\",H1487+(VLOOKUP(L1487,garantie,2,FALSE)))","v":""}]
[1487,{"$nulls":9},{"$f":"IF(B1488=\"\",\"\",D1488&\" - \"&F1488&\" - \"&G1488)","v":""},null,{"$f":"IF(OR(ISBLANK(L1488),ISBLANK(H1488)),\"\",H1488+(VLOOKUP(L1488,garantie,2,FALSE)))","v":""}]
[1488,{"$nulls":9},{"$f":"IF(B1489=\"\",\"\",D1489&\" - \"&F1489&\" - \"&G1489)","v":""},null,{"$f":"IF(OR(ISBLANK(L1489),ISBLANK(H1489)),\"\",H1489+(VLOOKUP(L1489,garantie,2,FALSE)))","v":""}]
[1489,{"$nulls":9},{"$f":"IF(B1490=\"\",\"\",D1490&\" - \"&F1490&\" - \"&G1490)","v":""},null,{"$f":"IF(OR(ISBLANK(L1490),ISBLANK(H1490)),\"\",H1490+(VLOOKUP(L1490,garantie,2,FALSE)))","v":""}]
[1490,{"$nulls":9},{"$f":"IF(B1491=\"\",\"\",D1491&\" - \"&F1491&\" - \"&G1491)","v":""},null,{"$f":"IF(OR(ISBLANK(L1491),ISBLANK(H1491)),\"\",H1491+(VLOOKUP(L1491,garantie,2,FALSE)))","v":""}]
[1491,{"$nulls":9},{"$f":"IF(B1492=\"\",\"\",D1492&\" - \"&F1492&\" - \"&G1492)","v":""},null,{"$f":"IF(OR(ISBLANK(L1492),ISBLANK(H1492)),\"\",H1492+(VLOOKUP(L1492,garantie,2,FALSE)))","v":""}]
[1492,{"$nulls":9},{"$f":"IF(B1493=\"\",\"\",D1493&\" - \"&F1493&\" - \"&G1493)","v":""},null,{"$f":"IF(OR(ISBLANK(L1493),ISBLANK(H1493)),\"\",H1493+(VLOOKUP(L1493,garantie,2,FALSE)))","v":""}]
[1493,{"$nulls":9},{"$f":"IF(B1494=\"\",\"\",D1494&\" - \"&F1494&\" - \"&G1494)","v":""},null,{"$f":"IF(OR(ISBLANK(L1494),ISBLANK(H1494)),\"\",H1494+(VLOOKUP(L1494,garantie,2,FALSE)))","v":""}]
[1494,{"$nulls":9},{"$f":"IF(B1495=\"\",\"\",D1495&\" - \"&F1495&\" - \"&G1495)","v":""},null,{"$f":"IF(OR(ISBLANK(L1495),ISBLANK(H1495)),\"\",H1495+(VLOOKUP(L1495,garantie,2,FALSE)))","v":""}]
[1495,{"$nulls":9},{"$f":"IF(B1496=\"\",\"\",D1496&\" - \"&F1496&\" - \"&G1496)","v":""},null,{"$f":"IF(OR(ISBLANK(L1496),ISBLANK(H1496)),\"\",H1496+(VLOOKUP(L1496,garantie,2,FALSE)))","v":""}]
[1496,{"$nulls":9},{"$f":"IF(B1497=\"\",\"\",D1497&\" - \"&F1497&\" - \"&G1497)","v":""},null,{"$f":"IF(OR(ISBLANK(L1497),ISBLANK(H1497)),\"\",H1497+(VLOOKUP(L1497,garantie,2,FALSE)))","v":""}]
[1497,{"$nulls":9},{"$f":"IF(B1498=\"\",\"\",D1498&\" - \"&F1498&\" - \"&G1498)","v":""},null,{"$f":"IF(OR(ISBLANK(L1498),ISBLANK(H1498)),\"\",H1498+(VLOOKUP(L1498,garantie,2,FALSE)))","v":""}]
[1498,{"$nulls":9},{"$f":"IF(B1499=\"\",\"\",D1499&\" - \"&F1499&\" - \"&G1499)","v":""},null,{"$f":"IF(OR(ISBLANK(L1499),ISBLANK(H1499)),\"\",H1499+(VLOOKUP(L1499,garantie,2,FALSE)))","v":""}]
[1499,{"$nulls":9},{"$f":"IF(B1500=\"\",\"\",D1500&\" - \"&F1500&\" - \"&G1500)","v":""},null,{"$f":"IF(OR(ISBLANK(L1500),ISBLANK(H1500)),\"\",H1500+(VLOOKUP(L1500,garantie,2,FALSE)))","v":""}]
[1500,{"$nulls":9},{"$f":"IF(B1501=\"\",\"\",D1501&\" - \"&F1501&\" - \"&G1501)","v":""},null,{"$f":"IF(OR(ISBLANK(L1501),ISBLANK(H1501)),\"\",H1501+(VLOOKUP(L1501,garantie,2,FALSE)))","v":""}]
[1501,{"$nulls":9},{"$f":"IF(B1502=\"\",\"\",D1502&\" - \"&F1502&\" - \"&G1502)","v":""},null,{"$f":"IF(OR(ISBLANK(L1502),ISBLANK(H1502)),\"\",H1502+(VLOOKUP(L1502,garantie,2,FALSE)))","v":""}]
[1502,{"$nulls":9},{"$f":"IF(B1503=\"\",\"\",D1503&\" - \"&F1503&\" - \"&G1503)","v":""},null,{"$f":"IF(OR(ISBLANK(L1503),ISBLANK(H1503)),\"\",H1503+(VLOOKUP(L1503,garantie,2,FALSE)))","v":""}]
[1503,{"$nulls":9},{"$f":"IF(B1504=\"\",\"\",D1504&\" - \"&F1504&\" - \"&G1504)","v":""},null,{"$f":"IF(OR(ISBLANK(L1504),ISBLANK(H1504)),\"\",H1504+(VLOOKUP(L1504,garantie,2,FALSE)))","v":""}]
[1504,{"$nulls":9},{"$f":"IF(B1505=\"\",\"\",D1505&\" - \"&F1505&\" - \"&G1505)","v":""},null,{"$f":"IF(OR(ISBLANK(L1505),ISBLANK(H1505)),\"\",H1505+(VLOOKUP(L1505,garantie,2,FALSE)))","v":""}]
[1505,{"$nulls":9},{"$f":"IF(B1506=\"\",\"\",D1506&\" - \"&F1506&\" - \"&G1506)","v":""},null,{"$f":"IF(OR(ISBLANK(L1506),ISBLANK(H1506)),\"\",H1506+(VLOOKUP(L1506,garantie,2,FALSE)))","v":""}]
[1506,{"$nulls":9},{"$f":"IF(B1507=\"\",\"\",D1507&\" - \"&F1507&\" - \"&G1507)","v":""},null,{"$f":"IF(OR(ISBLANK(L1507),ISBLANK(H1507)),\"\",H1507+(VLOOKUP(L1507,garantie,2,FALSE)))","v":""}]
[1507,{"$nulls":9},{"$f":"IF(B1508=\"\",\"\",D1508&\" - \"&F1508&\" - \"&G1508)","v":""},null,{"$f":"IF(OR(ISBLANK(L1508),ISBLANK(H1508)),\"\",H1508+(VLOOKUP(L1508,garantie,2,FALSE)))","v":""}]
[1508,{"$nulls":9},{"$f":"IF(B1509=\"\",\"\",D1509&\" - \"&F1509&\" - \"&G1509)","v":""},null,{"$f":"IF(OR(ISBLANK(L1509),ISBLANK(H1509)),\"\",H1509+(VLOOKUP(L1509,garantie,2,FALSE)))","v":""}]
[1509,{"$nulls":9},{"$f":"IF(B1510=\"\",\"\",D1510&\" - \"&F1510&\" - \"&G1510)","v":""},null,{"$f":"IF(OR(ISBLANK(L1510),ISBLANK(H1510)),\"\",H1510+(VLOOKUP(L1510,garantie,2,FALSE)))","v":""}]
[1510,{"$nulls":9},{"$f":"IF(B1511=\"\",\"\",D1511&\" - \"&F1511&\" - \"&G1511)","v":""},null,{"$f":"IF(OR(ISBLANK(L1511),ISBLANK(H1511)),\"\",H1511+(VLOOKUP(L1511,garantie,2,FALSE)))","v":""}]
[1511,{"$nulls":9},{"$f":"IF(B1512=\"\",\"\",D1512&\" - \"&F1512&\" - \"&G1512)","v":""},null,{"$f":"IF(OR(ISBLANK(L1512),ISBLANK(H1512)),\"\",H1512+(VLOOKUP(L1512,garantie,2,FALSE)))","v":""}]
[1512,{"$nulls":9},{"$f":"IF(B1513=\"\",\"\",D1513&\" - \"&F1513&\" - \"&G1513)","v":""},null,{"$f":"IF(OR(ISBLANK(L1513),ISBLANK(H1513)),\"\",H1513+(VLOOKUP(L1513,garantie,2,FALSE)))","v":""}]
[1513,{"$nulls":9},{"$f":"IF(B1514=\"\",\"\",D1514&\" - \"&F1514&\" - \"&G1514)","v":""},null,{"$f":"IF(OR(ISBLANK(L1514),ISBLANK(H1514)),\"\",H1514+(VLOOKUP(L1514,garantie,2,FALSE)))","v":""}]
[1514,{"$nulls":9},{"$f":"IF(B1515=\"\",\"\",D1515&\" - \"&F1515&\" - \"&G1515)","v":""},null,{"$f":"IF(OR(ISBLANK(L1515),ISBLANK(H1515)),\"\",H1515+(VLOOKUP(L1515,garantie,2,FALSE)))","v":""}]
[1515,{"$nulls":9},{"$f":"IF(B1516=\"\",\"\",D1516&\" - \"&F1516&\" - \"&G1516)","v":""},null,{"$f":"IF(OR(ISBLANK(L1516),ISBLANK(H1516)),\"\",H1516+(VLOOKUP(L1516,garantie,2,FALSE)))","v":""}]
[1516,{"$nulls":9},{"$f":"IF(B1517=\"\",\"\",D1517&\" - \"&F1517&\" - \"&G1517)","v":""},null,{"$f":"IF(OR(ISBLANK(L1517),ISBLANK(H1517)),\"\",H1517+(VLOOKUP(L1517,garantie,2,FALSE)))","v":""}]
[1517,{"$nulls":9},{"$f":"IF(B1518=\"\",\"\",D1518&\" - \"&F1518&\" - \"&G1518)","v":""},null,{"$f":"IF(OR(ISBLANK(L1518),ISBLANK(H1518)),\"\",H1518+(VLOOKUP(L1518,garantie,2,FALSE)))","v":""}]
[1518,{"$nulls":9},{"$f":"IF(B1519=\"\",\"\",D1519&\" - \"&F1519&\" - \"&G1519)","v":""},null,{"$f":"IF(OR(ISBLANK(L1519),ISBLANK(H1519)),\"\",H1519+(VLOOKUP(L1519,garantie,2,FALSE)))","v":""}]
[1519,{"$nulls":9},{"$f":"IF(B1520=\"\",\"\",D1520&\" - \"&F1520&\" - \"&G1520)","v":""},null,{"$f":"IF(OR(ISBLANK(L1520),ISBLANK(H1520)),\"\",H1520+(VLOOKUP(L1520,garantie,2,FALSE)))","v":""}]
[1520,{"$nulls":9},{"$f":"IF(B1521=\"\",\"\",D1521&\" - \"&F1521&\" - \"&G1521)","v":""},null,{"$f":"IF(OR(ISBLANK(L1521),ISBLANK(H1521)),\"\",H1521+(VLOOKUP(L1521,garantie,2,FALSE)))","v":""}]
[1521,{"$nulls":9},{"$f":"IF(B1522=\"\",\"\",D1522&\" - \"&F1522&\" - \"&G1522)","v":""},null,{"$f":"IF(OR(ISBLANK(L1522),ISBLANK(H1522)),\"\",H1522+(VLOOKUP(L1522,garantie,2,FALSE)))","v":""}]
[1522,{"$nulls":9},{"$f":"IF(B1523=\"\",\"\",D1523&\" - \"&F1523&\" - \"&G1523)","v":""},null,{"$f":"IF(OR(ISBLANK(L1523),ISBLANK(H1523)),\"\",H1523+(VLOOKUP(L1523,garantie,2,FALSE)))","v":""}]
[1523,{"$nulls":9},{"$f":"IF(B1524=\"\",\"\",D1524&\" - \"&F1524&\" - \"&G1524)","v":""},null,{"$f":"IF(OR(ISBLANK(L1524),ISBLANK(H1524)),\"\",H1524+(VLOOKUP(L1524,garantie,2,FALSE)))","v":""}]
[1524,{"$nulls":9},{"$f":"IF(B1525=\"\",\"\",D1525&\" - \"&F1525&\" - \"&G1525)","v":""},null,{"$f":"IF(OR(ISBLANK(L1525),ISBLANK(H1525)),\"\",H1525+(VLOOKUP(L1525,garantie,2,FALSE)))","v":""}]
[1525,{"$nulls":9},{"$f":"IF(B1526=\"\",\"\",D1526&\" - \"&F1526&\" - \"&G1526)","v":""},null,{"$f":"IF(OR(ISBLANK(L1526),ISBLANK(H1526)),\"\",H1526+(VLOOKUP(L1526,garantie,2,FALSE)))","v":""}]
[1526,{"$nulls":9},{"$f":"IF(B1527=\"\",\"\",D1527&\" - \"&F1527&\" - \"&G1527)","v":""},null,{"$f":"IF(OR(ISBLANK(L1527),ISBLANK(H1527)),\"\",H1527+(VLOOKUP(L1527,garantie,2,FALSE)))","v":""}]
[1527,{"$nulls":9},{"$f":"IF(B1528=\"\",\"\",D1528&\" - \"&F1528&\" - \"&G1528)","v":""},null,{"$f":"IF(OR(ISBLANK(L1528),ISBLANK(H1528)),\"\",H1528+(VLOOKUP(L1528,garantie,2,FALSE)))","v":""}]
[1528,{"$nulls":9},{"$f":"IF(B1529=\"\",\"\",D1529&\" - \"&F1529&\" - \"&G1529)","v":""},null,{"$f":"IF(OR(ISBLANK(L1529),ISBLANK(H1529)),\"\",H1529+(VLOOKUP(L1529,garantie,2,FALSE)))","v":""}]
[1529,{"$nulls":9},{"$f":"IF(B1530=\"\",\"\",D1530&\" - \"&F1530&\" - \"&G1530)","v":""},null,{"$f":"IF(OR(ISBLANK(L1530),ISBLANK(H1530)),\"\",H1530+(VLOOKUP(L1530,garantie,2,FALSE)))","v":""}]
[1530,{"$nulls":9},{"$f":"IF(B1531=\"\",\"\",D1531&\" - \"&F1531&\" - \"&G1531)","v":""},null,{"$f":"IF(OR(ISBLANK(L1531),ISBLANK(H1531)),\"\",H1531+(VLOOKUP(L1531,garantie,2,FALSE)))","v":""}]
[1531,{"$nulls":9},{"$f":"IF(B1532=\"\",\"\",D1532&\" - \"&F1532&\" - \"&G1532)","v":""},null,{"$f":"IF(OR(ISBLANK(L1532),ISBLANK(H1532)),\"\",H1532+(VLOOKUP(L1532,garantie,2,FALSE)))","v":""}]
[1532,{"$nulls":9},{"$f":"IF(B1533=\"\",\"\",D1533&\" - \"&F1533&\" - \"&G1533)","v":""},null,{"$f":"IF(OR(ISBLANK(L1533),ISBLANK(H1533)),\"\",H1533+(VLOOKUP(L1533,garantie,2,FALSE)))","v":""}]
[1533,{"$nulls":9},{"$f":"IF(B1534=\"\",\"\",D1534&\" - \"&F1534&\" - \"&G1534)","v":""},null,{"$f":"IF(OR(ISBLANK(L1534),ISBLANK(H1534)),\"\",H1534+(VLOOKUP(L1534,garantie,2,FALSE)))","v":""}]
[1534,{"$nulls":9},{"$f":"IF(B1535=\"\",\"\",D1535&\" - \"&F1535&\" - \"&G1535)","v":""},null,{"$f":"IF(OR(ISBLANK(L1535),ISBLANK(H1535)),\"\",H1535+(VLOOKUP(L1535,garantie,2,FALSE)))","v":""}]
[1535,{"$nulls":9},{"$f":"IF(B1536=\"\",\"\",D1536&\" - \"&F1536&\" - \"&G1536)","v":""},null,{"$f":"IF(OR(ISBLANK(L1536),ISBLANK(H1536)),\"\",H1536+(VLOOKUP(L1536,garantie,2,FALSE)))","v":""}]
[1536,{"$nulls":9},{"$f":"IF(B1537=\"\",\"\",D1537&\" - \"&F1537&\" - \"&G1537)","v":""},null,{"$f":"IF(OR(ISBLANK(L1537),ISBLANK(H1537)),\"\",H1537+(VLOOKUP(L1537,garantie,2,FALSE)))","v":""}]
[1537,{"$nulls":9},{"$f":"IF(B1538=\"\",\"\",D1538&\" - \"&F1538&\" - \"&G1538)","v":""},null,{"$f":"IF(OR(ISBLANK(L1538),ISBLANK(H1538)),\"\",H1538+(VLOOKUP(L1538,garantie,2,FALSE)))","v":""}]
[1538,{"$nulls":9},{"$f":"IF(B1539=\"\",\"\",D1539&\" - \"&F1539&\" - \"&G1539)","v":""},null,{"$f":"IF(OR(ISBLANK(L1539),ISBLANK(H1539)),\"\",H1539+(VLOOKUP(L1539,garantie,2,FALSE)))","v":""}]
[1539,{"$nulls":9},{"$f":"IF(B1540=\"\",\"\",D1540&\" - \"&F1540&\" - \"&G1540)","v":""},null,{"$f":"IF(OR(ISBLANK(L1540),ISBLANK(H1540)),\"\",H1540+(VLOOKUP(L1540,garantie,2,FALSE)))","v":""}]
[1540,{"$nulls":9},{"$f":"IF(B1541=\"\",\"\",D1541&\" - \"&F1541&\" - \"&G1541)","v":""},null,{"$f":"IF(OR(ISBLANK(L1541),ISBLANK(H1541)),\"\",H1541+(VLOOKUP(L1541,garantie,2,FALSE)))","v":""}]
[1541,{"$nulls":9},{"$f":"IF(B1542=\"\",\"\",D1542&\" - \"&F1542&\" - \"&G1542)","v":""},null,{"$f":"IF(OR(ISBLANK(L1542),ISBLANK(H1542)),\"\",H1542+(VLOOKUP(L1542,garantie,2,FALSE)))","v":""}]
[1542,{"$nulls":9},{"$f":"IF(B1543=\"\",\"\",D1543&\" - \"&F1543&\" - \"&G1543)","v":""},null,{"$f":"IF(OR(ISBLANK(L1543),ISBLANK(H1543)),\"\",H1543+(VLOOKUP(L1543,garantie,2,FALSE)))","v":""}]
[1543,{"$nulls":9},{"$f":"IF(B1544=\"\",\"\",D1544&\" - \"&F1544&\" - \"&G1544)","v":""},null,{"$f":"IF(OR(ISBLANK(L1544),ISBLANK(H1544)),\"\",H1544+(VLOOKUP(L1544,garantie,2,FALSE)))","v":""}]
[1544,{"$nulls":9},{"$f":"IF(B1545=\"\",\"\",D1545&\" - \"&F1545&\" - \"&G1545)","v":""},null,{"$f":"IF(OR(ISBLANK(L1545),ISBLANK(H1545)),\"\",H1545+(VLOOKUP(L1545,garantie,2,FALSE)))","v":""}]
[1545,{"$nulls":9},{"$f":"IF(B1546=\"\",\"\",D1546&\" - \"&F1546&\" - \"&G1546)","v":""},null,{"$f":"IF(OR(ISBLANK(L1546),ISBLANK(H1546)),\"\",H1546+(VLOOKUP(L1546,garantie,2,FALSE)))","v":""}]
[1546,{"$nulls":9},{"$f":"IF(B1547=\"\",\"\",D1547&\" - \"&F1547&\" - \"&G1547)","v":""},null,{"$f":"IF(OR(ISBLANK(L1547),ISBLANK(H1547)),\"\",H1547+(VLOOKUP(L1547,garantie,2,FALSE)))","v":""}]
[1547,{"$nulls":9},{"$f":"IF(B1548=\"\",\"\",D1548&\" - \"&F1548&\" - \"&G1548)","v":""},null,{"$f":"IF(OR(ISBLANK(L1548),ISBLANK(H1548)),\"\",H1548+(VLOOKUP(L1548,garantie,2,FALSE)))","v":""}]
[1548,{"$nulls":9},{"$f":"IF(B1549=\"\",\"\",D1549&\" - \"&F1549&\" - \"&G1549)","v":""},null,{"$f":"IF(OR(ISBLANK(L1549),ISBLANK(H1549)),\"\",H1549+(VLOOKUP(L1549,garantie,2,FALSE)))","v":""}]
[1549,{"$nulls":9},{"$f":"IF(B1550=\"\",\"\",D1550&\" - \"&F1550&\" - \"&G1550)","v":""},null,{"$f":"IF(OR(ISBLANK(L1550),ISBLANK(H1550)),\"\",H1550+(VLOOKUP(L1550,garantie,2,FALSE)))","v":""}]
[1550,{"$nulls":9},{"$f":"IF(B1551=\"\",\"\",D1551&\" - \"&F1551&\" - \"&G1551)","v":""},null,{"$f":"IF(OR(ISBLANK(L1551),ISBLANK(H1551)),\"\",H1551+(VLOOKUP(L1551,garantie,2,FALSE)))","v":""}]
[1551,{"$nulls":9},{"$f":"IF(B1552=\"\",\"\",D1552&\" - \"&F1552&\" - \"&G1552)","v":""},null,{"$f":"IF(OR(ISBLANK(L1552),ISBLANK(H1552)),\"\",H1552+(VLOOKUP(L1552,garantie,2,FALSE)))","v":""}]
[1552,{"$nulls":9},{"$f":"IF(B1553=\"\",\"\",D1553&\" - \"&F1553&\" - \"&G1553)","v":""},null,{"$f":"IF(OR(ISBLANK(L1553),ISBLANK(H1553)),\"\",H1553+(VLOOKUP(L1553,garantie,2,FALSE)))","v":""}]
[1553,{"$nulls":9},{"$f":"IF(B1554=\"\",\"\",D1554&\" - \"&F1554&\" - \"&G1554)","v":""},null,{"$f":"IF(OR(ISBLANK(L1554),ISBLANK(H1554)),\"\",H1554+(VLOOKUP(L1554,garantie,2,FALSE)))","v":""}]
[1554,{"$nulls":9},{"$f":"IF(B1555=\"\",\"\",D1555&\" - \"&F1555&\" - \"&G1555)","v":""},null,{"$f":"IF(OR(ISBLANK(L1555),ISBLANK(H1555)),\"\",H1555+(VLOOKUP(L1555,garantie,2,FALSE)))","v":""}]
[1555,{"$nulls":9},{"$f":"IF(B1556=\"\",\"\",D1556&\" - \"&F1556&\" - \"&G1556)","v":""},null,{"$f":"IF(OR(ISBLANK(L1556),ISBLANK(H1556)),\"\",H1556+(VLOOKUP(L1556,garantie,2,FALSE)))","v":""}]
[1556,{"$nulls":9},{"$f":"IF(B1557=\"\",\"\",D1557&\" - \"&F1557&\" - \"&G1557)","v":""},null,{"$f":"IF(OR(ISBLANK(L1557),ISBLANK(H1557)),\"\",H1557+(VLOOKUP(L1557,garantie,2,FALSE)))","v":""}]
[1557,{"$nulls":9},{"$f":"IF(B1558=\"\",\"\",D1558&\" - \"&F1558&\" - \"&G1558)","v":""},null,{"$f":"IF(OR(ISBLANK(L1558),ISBLANK(H1558)),\"\",H1558+(VLOOKUP(L1558,garantie,2,FALSE)))","v":""}]
[1558,{"$nulls":9},{"$f":"IF(B1559=\"\",\"\",D1559&\" - \"&F1559&\" - \"&G1559)","v":""},null,{"$f":"IF(OR(ISBLANK(L1559),ISBLANK(H1559)),\"\",H1559+(VLOOKUP(L1559,garantie,2,FALSE)))","v":""}]
[1559,{"$nulls":9},{"$f":"IF(B1560=\"\",\"\",D1560&\" - \"&F1560&\" - \"&G1560)","v":""},null,{"$f":"IF(OR(ISBLANK(L1560),ISBLANK(H1560)),\"\",H1560+(VLOOKUP(L1560,garantie,2,FALSE)))","v":""}]
[1560,{"$nulls":9},{"$f":"IF(B1561=\"\",\"\",D1561&\" - \"&F1561&\" - \"&G1561)","v":""},null,{"$f":"IF(OR(ISBLANK(L1561),ISBLANK(H1561)),\"\",H1561+(VLOOKUP(L1561,garantie,2,FALSE)))","v":""}]
[1561,{"$nulls":9},{"$f":"IF(B1562=\"\",\"\",D1562&\" - \"&F1562&\" - \"&G1562)","v":""},null,{"$f":"IF(OR(ISBLANK(L1562),ISBLANK(H1562)),\"\",H1562+(VLOOKUP(L1562,garantie,2,FALSE)))","v":""}]
[1562,{"$nulls":9},{"$f":"IF(B1563=\"\",\"\",D1563&\" - \"&F1563&\" - \"&G1563)","v":""},null,{"$f":"IF(OR(ISBLANK(L1563),ISBLANK(H1563)),\"\",H1563+(VLOOKUP(L1563,garantie,2,FALSE)))","v":""}]
[1563,{"$nulls":9},{"$f":"IF(B1564=\"\",\"\",D1564&\" - \"&F1564&\" - \"&G1564)","v":""},null,{"$f":"IF(OR(ISBLANK(L1564),ISBLANK(H1564)),\"\",H1564+(VLOOKUP(L1564,garantie,2,FALSE)))","v":""}]
[1564,{"$nulls":9},{"$f":"IF(B1565=\"\",\"\",D1565&\" - \"&F1565&\" - \"&G1565)","v":""},null,{"$f":"IF(OR(ISBLANK(L1565),ISBLANK(H1565)),\"\",H1565+(VLOOKUP(L1565,garantie,2,FALSE)))","v":""}]
[1565,{"$nulls":9},{"$f":"IF(B1566=\"\",\"\",D1566&\" - \"&F1566&\" - \"&G1566)","v":""},null,{"$f":"IF(OR(ISBLANK(L1566),ISBLANK(H1566)),\"\",H1566+(VLOOKUP(L1566,garantie,2,FALSE)))","v":""}]
[1566,{"$nulls":9},{"$f":"IF(B1567=\"\",\"\",D1567&\" - \"&F1567&\" - \"&G1567)","v":""},null,{"$f":"IF(OR(ISBLANK(L1567),ISBLANK(H1567)),\"\",H1567+(VLOOKUP(L1567,garantie,2,FALSE)))","v":""}]
[1567,{"$nulls":9},{"$f":"IF(B1568=\"\",\"\",D1568&\" - \"&F1568&\" - \"&G1568)","v":""},null,{"$f":"IF(OR(ISBLANK(L1568),ISBLANK(H1568)),\"\",H1568+(VLOOKUP(L1568,garantie,2,FALSE)))","v":""}]
[1568,{"$nulls":9},{"$f":"IF(B1569=\"\",\"\",D1569&\" - \"&F1569&\" - \"&G1569)","v":""},null,{"$f":"IF(OR(ISBLANK(L1569),ISBLANK(H1569)),\"\",H1569+(VLOOKUP(L1569,garantie,2,FALSE)))","v":""}]
[1569,{"$nulls":9},{"$f":"IF(B1570=\"\",\"\",D1570&\" - \"&F1570&\" - \"&G1570)","v":""},null,{"$f":"IF(OR(ISBLANK(L1570),ISBLANK(H1570)),\"\",H1570+(VLOOKUP(L1570,garantie,2,FALSE)))","v":""}]
[1570,{"$nulls":9},{"$f":"IF(B1571=\"\",\"\",D1571&\" - \"&F1571&\" - \"&G1571)","v":""},null,{"$f":"IF(OR(ISBLANK(L1571),ISBLANK(H1571)),\"\",H1571+(VLOOKUP(L1571,garantie,2,FALSE)))","v":""}]
[1571,{"$nulls":9},{"$f":"IF(B1572=\"\",\"\",D1572&\" - \"&F1572&\" - \"&G1572)","v":""},null,{"$f":"IF(OR(ISBLANK(L1572),ISBLANK(H1572)),\"\",H1572+(VLOOKUP(L1572,garantie,2,FALSE)))","v":""}]
[1572,{"$nulls":9},{"$f":"IF(B1573=\"\",\"\",D1573&\" - \"&F1573&\" - \"&G1573)","v":""},null,{"$f":"IF(OR(ISBLANK(L1573),ISBLANK(H1573)),\"\",H1573+(VLOOKUP(L1573,garantie,2,FALSE)))","v":""}]
[1573,{"$nulls":9},{"$f":"IF(B1574=\"\",\"\",D1574&\" - \"&F1574&\" - \"&G1574)","v":""},null,{"$f":"IF(OR(ISBLANK(L1574),ISBLANK(H1574)),\"\",H1574+(VLOOKUP(L1574,garantie,2,FALSE)))","v":""}]
[1574,{"$nulls":9},{"$f":"IF(B1575=\"\",\"\",D1575&\" - \"&F1575&\" - \"&G1575)","v":""},null,{"$f":"IF(OR(ISBLANK(L1575),ISBLANK(H1575)),\"\",H1575+(VLOOKUP(L1575,garantie,2,FALSE)))","v":""}]
[1575,{"$nulls":9},{"$f":"IF(B1576=\"\",\"\",D1576&\" - \"&F1576&\" - \"&G1576)","v":""},null,{"$f":"IF(OR(ISBLANK(L1576),ISBLANK(H1576)),\"\",H1576+(VLOOKUP(L1576,garantie,2,FALSE)))","v":""}]
[1576,{"$nulls":9},{"$f":"IF(B1577=\"\",\"\",D1577&\" - \"&F1577&\" - \"&G1577)","v":""},null,{"$f":"IF(OR(ISBLANK(L1577),ISBLANK(H1577)),\"\",H1577+(VLOOKUP(L1577,garantie,2,FALSE)))","v":""}]
[1577,{"$nulls":9},{"$f":"IF(B1578=\"\",\"\",D1578&\" - \"&F1578&\" - \"&G1578)","v":""},null,{"$f":"IF(OR(ISBLANK(L1578),ISBLANK(H1578)),\"\",H1578+(VLOOKUP(L1578,garantie,2,FALSE)))","v":""}]
[1578,{"$nulls":9},{"$f":"IF(B1579=\"\",\"\",D1579&\" - \"&F1579&\" - \"&G1579)","v":""},null,{"$f":"IF(OR(ISBLANK(L1579),ISBLANK(H1579)),\"\",H1579+(VLOOKUP(L1579,garantie,2,FALSE)))","v":""}]
[1579,{"$nulls":9},{"$f":"IF(B1580=\"\",\"\",D1580&\" - \"&F1580&\" - \"&G1580)","v":""},null,{"$f":"IF(OR(ISBLANK(L1580),ISBLANK(H1580)),\"\",H1580+(VLOOKUP(L1580,garantie,2,FALSE)))","v":""}]
[1580,{"$nulls":9},{"$f":"IF(B1581=\"\",\"\",D1581&\" - \"&F1581&\" - \"&G1581)","v":""},null,{"$f":"IF(OR(ISBLANK(L1581),ISBLANK(H1581)),\"\",H1581+(VLOOKUP(L1581,garantie,2,FALSE)))","v":""}]
[1581,{"$nulls":9},{"$f":"IF(B1582=\"\",\"\",D1582&\" - \"&F1582&\" - \"&G1582)","v":""},null,{"$f":"IF(OR(ISBLANK(L1582),ISBLANK(H1582)),\"\",H1582+(VLOOKUP(L1582,garantie,2,FALSE)))","v":""}]
[1582,{"$nulls":9},{"$f":"IF(B1583=\"\",\"\",D1583&\" - \"&F1583&\" - \"&G1583)","v":""},null,{"$f":"IF(OR(ISBLANK(L1583),ISBLANK(H1583)),\"\",H1583+(VLOOKUP(L1583,garantie,2,FALSE)))","v":""}]
[1583,{"$nulls":9},{"$f":"IF(B1584=\"\",\"\",D1584&\" - \"&F1584&\" - \"&G1584)","v":""},null,{"$f":"IF(OR(ISBLANK(L1584),ISBLANK(H1584)),\"\",H1584+(VLOOKUP(L1584,garantie,2,FALSE)))","v":""}]
[1584,{"$nulls":9},{"$f":"IF(B1585=\"\",\"\",D1585&\" - \"&F1585&\" - \"&G1585)","v":""},null,{"$f":"IF(OR(ISBLANK(L1585),ISBLANK(H1585)),\"\",H1585+(VLOOKUP(L1585,garantie,2,FALSE)))","v":""}]
[1585,{"$nulls":9},{"$f":"IF(B1586=\"\",\"\",D1586&\" - \"&F1586&\" - \"&G1586)","v":""},null,{"$f":"IF(OR(ISBLANK(L1586),ISBLANK(H1586)),\"\",H1586+(VLOOKUP(L1586,garantie,2,FALSE)))","v":""}]
[1586,{"$nulls":9},{"$f":"IF(B1587=\"\",\"\",D1587&\" - \"&F1587&\" - \"&G1587)","v":""},null,{"$f":"IF(OR(ISBLANK(L1587),ISBLANK(H1587)),\"\",H1587+(VLOOKUP(L1587,garantie,2,FALSE)))","v":""}]
[1587,{"$nulls":9},{"$f":"IF(B1588=\"\",\"\",D1588&\" - \"&F1588&\" - \"&G1588)","v":""},null,{"$f":"IF(OR(ISBLANK(L1588),ISBLANK(H1588)),\"\",H1588+(VLOOKUP(L1588,garantie,2,FALSE)))","v":""}]
[1588,{"$nulls":9},{"$f":"IF(B1589=\"\",\"\",D1589&\" - \"&F1589&\" - \"&G1589)","v":""},null,{"$f":"IF(OR(ISBLANK(L1589),ISBLANK(H1589)),\"\",H1589+(VLOOKUP(L1589,garantie,2,FALSE)))","v":""}]
[1589,{"$nulls":9},{"$f":"IF(B1590=\"\",\"\",D1590&\" - \"&F1590&\" - \"&G1590)","v":""},null,{"$f":"IF(OR(ISBLANK(L1590),ISBLANK(H1590)),\"\",H1590+(VLOOKUP(L1590,garantie,2,FALSE)))","v":""}]
[1590,{"$nulls":9},{"$f":"IF(B1591=\"\",\"\",D1591&\" - \"&F1591&\" - \"&G1591)","v":""},null,{"$f":"IF(OR(ISBLANK(L1591),ISBLANK(H1591)),\"\",H1591+(VLOOKUP(L1591,garantie,2,FALSE)))","v":""}]
[1591,{"$nulls":9},{"$f":"IF(B1592=\"\",\"\",D1592&\" - \"&F1592&\" - \"&G1592)","v":""},null,{"$f":"IF(OR(ISBLANK(L1592),ISBLANK(H1592)),\"\",H1592+(VLOOKUP(L1592,garantie,2,FALSE)))","v":""}]
[1592,{"$nulls":9},{"$f":"IF(B1593=\"\",\"\",D1593&\" - \"&F1593&\" - \"&G1593)","v":""},null,{"$f":"IF(OR(ISBLANK(L1593),ISBLANK(H1593)),\"\",H1593+(VLOOKUP(L1593,garantie,2,FALSE)))","v":""}]
[1593,{"$nulls":9},{"$f":"IF(B1594=\"\",\"\",D1594&\" - \"&F1594&\" - \"&G1594)","v":""},null,{"$f":"IF(OR(ISBLANK(L1594),ISBLANK(H1594)),\"\",H1594+(VLOOKUP(L1594,garantie,2,FALSE)))","v":""}]
[1594,{"$nulls":9},{"$f":"IF(B1595=\"\",\"\",D1595&\" - \"&F1595&\" - \"&G1595)","v":""},null,{"$f":"IF(OR(ISBLANK(L1595),ISBLANK(H1595)),\"\",H1595+(VLOOKUP(L1595,garantie,2,FALSE)))","v":""}]
[1595,{"$nulls":9},{"$f":"IF(B1596=\"\",\"\",D1596&\" - \"&F1596&\" - \"&G1596)","v":""},null,{"$f":"IF(OR(ISBLANK(L1596),ISBLANK(H1596)),\"\",H1596+(VLOOKUP(L1596,garantie,2,FALSE)))","v":""}]
[1596,{"$nulls":9},{"$f":"IF(B1597=\"\",\"\",D1597&\" - \"&F1597&\" - \"&G1597)","v":""},null,{"$f":"IF(OR(ISBLANK(L1597),ISBLANK(H1597)),\"\",H1597+(VLOOKUP(L1597,garantie,2,FALSE)))","v":""}]
[1597,{"$nulls":9},{"$f":"IF(B1598=\"\",\"\",D1598&\" - \"&F1598&\" - \"&G1598)","v":""},null,{"$f":"IF(OR(ISBLANK(L1598),ISBLANK(H1598)),\"\",H1598+(VLOOKUP(L1598,garantie,2,FALSE)))","v":""}]
[1598,{"$nulls":9},{"$f":"IF(B1599=\"\",\"\",D1599&\" - \"&F1599&\" - \"&G1599)","v":""},null,{"$f":"IF(OR(ISBLANK(L1599),ISBLANK(H1599)),\"\",H1599+(VLOOKUP(L1599,garantie,2,FALSE)))","v":""}]
[1599,{"$nulls":9},{"$f":"IF(B1600=\"\",\"\",D1600&\" - \"&F1600&\" - \"&G1600)","v":""},null,{"$f":"IF(OR(ISBLANK(L1600),ISBLANK(H1600)),\"\",H1600+(VLOOKUP(L1600,garantie,2,FALSE)))","v":""}]
[1600,{"$nulls":9},{"$f":"IF(B1601=\"\",\"\",D1601&\" - \"&F1601&\" - \"&G1601)","v":""},null,{"$f":"IF(OR(ISBLANK(L1601),ISBLANK(H1601)),\"\",H1601+(VLOOKUP(L1601,garantie,2,FALSE)))","v":""}]
[1601,{"$nulls":9},{"$f":"IF(B1602=\"\",\"\",D1602&\" - \"&F1602&\" - \"&G1602)","v":""},null,{"$f":"IF(OR(ISBLANK(L1602),ISBLANK(H1602)),\"\",H1602+(VLOOKUP(L1602,garantie,2,FALSE)))","v":""}]
[1602,{"$nulls":9},{"$f":"IF(B1603=\"\",\"\",D1603&\" - \"&F1603&\" - \"&G1603)","v":""},null,{"$f":"IF(OR(ISBLANK(L1603),ISBLANK(H1603)),\"\",H1603+(VLOOKUP(L1603,garantie,2,FALSE)))","v":""}]
[1603,{"$nulls":9},{"$f":"IF(B1604=\"\",\"\",D1604&\" - \"&F1604&\" - \"&G1604)","v":""},null,{"$f":"IF(OR(ISBLANK(L1604),ISBLANK(H1604)),\"\",H1604+(VLOOKUP(L1604,garantie,2,FALSE)))","v":""}]
[1604,{"$nulls":9},{"$f":"IF(B1605=\"\",\"\",D1605&\" - \"&F1605&\" - \"&G1605)","v":""},null,{"$f":"IF(OR(ISBLANK(L1605),ISBLANK(H1605)),\"\",H1605+(VLOOKUP(L1605,garantie,2,FALSE)))","v":""}]
[1605,{"$nulls":9},{"$f":"IF(B1606=\"\",\"\",D1606&\" - \"&F1606&\" - \"&G1606)","v":""},null,{"$f":"IF(OR(ISBLANK(L1606),ISBLANK(H1606)),\"\",H1606+(VLOOKUP(L1606,garantie,2,FALSE)))","v":""}]
[1606,{"$nulls":9},{"$f":"IF(B1607=\"\",\"\",D1607&\" - \"&F1607&\" - \"&G1607)","v":""},null,{"$f":"IF(OR(ISBLANK(L1607),ISBLANK(H1607)),\"\",H1607+(VLOOKUP(L1607,garantie,2,FALSE)))","v":""}]
[1607,{"$nulls":9},{"$f":"IF(B1608=\"\",\"\",D1608&\" - \"&F1608&\" - \"&G1608)","v":""},null,{"$f":"IF(OR(ISBLANK(L1608),ISBLANK(H1608)),\"\",H1608+(VLOOKUP(L1608,garantie,2,FALSE)))","v":""}]
[1608,{"$nulls":9},{"$f":"IF(B1609=\"\",\"\",D1609&\" - \"&F1609&\" - \"&G1609)","v":""},null,{"$f":"IF(OR(ISBLANK(L1609),ISBLANK(H1609)),\"\",H1609+(VLOOKUP(L1609,garantie,2,FALSE)))","v":""}]
[1609,{"$nulls":9},{"$f":"IF(B1610=\"\",\"\",D1610&\" - \"&F1610&\" - \"&G1610)","v":""},null,{"$f":"IF(OR(ISBLANK(L1610),ISBLANK(H1610)),\"\",H1610+(VLOOKUP(L1610,garantie,2,FALSE)))","v":""}]
[1610,{"$nulls":9},{"$f":"IF(B1611=\"\",\"\",D1611&\" - \"&F1611&\" - \"&G1611)","v":""},null,{"$f":"IF(OR(ISBLANK(L1611),ISBLANK(H1611)),\"\",H1611+(VLOOKUP(L1611,garantie,2,FALSE)))","v":""}]
[1611,{"$nulls":9},{"$f":"IF(B1612=\"\",\"\",D1612&\" - \"&F1612&\" - \"&G1612)","v":""},null,{"$f":"IF(OR(ISBLANK(L1612),ISBLANK(H1612)),\"\",H1612+(VLOOKUP(L1612,garantie,2,FALSE)))","v":""}]
[1612,{"$nulls":9},{"$f":"IF(B1613=\"\",\"\",D1613&\" - \"&F1613&\" - \"&G1613)","v":""},null,{"$f":"IF(OR(ISBLANK(L1613),ISBLANK(H1613)),\"\",H1613+(VLOOKUP(L1613,garantie,2,FALSE)))","v":""}]
[1613,{"$nulls":9},{"$f":"IF(B1614=\"\",\"\",D1614&\" - \"&F1614&\" - \"&G1614)","v":""},null,{"$f":"IF(OR(ISBLANK(L1614),ISBLANK(H1614)),\"\",H1614+(VLOOKUP(L1614,garantie,2,FALSE)))","v":""}]
[1614,{"$nulls":9},{"$f":"IF(B1615=\"\",\"\",D1615&\" - \"&F1615&\" - \"&G1615)","v":""},null,{"$f":"IF(OR(ISBLANK(L1615),ISBLANK(H1615)),\"\",H1615+(VLOOKUP(L1615,garantie,2,FALSE)))","v":""}]
[1615,{"$nulls":9},{"$f":"IF(B1616=\"\",\"\",D1616&\" - \"&F1616&\" - \"&G1616)","v":""},null,{"$f":"IF(OR(ISBLANK(L1616),ISBLANK(H1616)),\"\",H1616+(VLOOKUP(L1616,garantie,2,FALSE)))","v":""}]
[1616,{"$nulls":9},{"$f":"IF(B1617=\"\",\"\",D1617&\" - \"&F1617&\" - \"&G1617)","v":""},null,{"$f":"IF(OR(ISBLANK(L1617),ISBLANK(H1617)),\"\",H1617+(VLOOKUP(L1617,garantie,2,FALSE)))","v":""}]
[1617,{"$nulls":9},{"$f":"IF(B1618=\"\",\"\",D1618&\" - \"&F1618&\" - \"&G1618)","v":""},null,{"$f":"IF(OR(ISBLANK(L1618),ISBLANK(H1618)),\"\",H1618+(VLOOKUP(L1618,garantie,2,FALSE)))","v":""}]
[1618,{"$nulls":9},{"$f":"IF(B1619=\"\",\"\",D1619&\" - \"&F1619&\" - \"&G1619)","v":""},null,{"$f":"IF(OR(ISBLANK(L1619),ISBLANK(H1619)),\"\",H1619+(VLOOKUP(L1619,garantie,2,FALSE)))","v":""}]
[1619,{"$nulls":9},{"$f":"IF(B1620=\"\",\"\",D1620&\" - \"&F1620&\" - \"&G1620)","v":""},null,{"$f":"IF(OR(ISBLANK(L1620),ISBLANK(H1620)),\"\",H1620+(VLOOKUP(L1620,garantie,2,FALSE)))","v":""}]
[1620,{"$nulls":9},{"$f":"IF(B1621=\"\",\"\",D1621&\" - \"&F1621&\" - \"&G1621)","v":""},null,{"$f":"IF(OR(ISBLANK(L1621),ISBLANK(H1621)),\"\",H1621+(VLOOKUP(L1621,garantie,2,FALSE)))","v":""}]
[1621,{"$nulls":9},{"$f":"IF(B1622=\"\",\"\",D1622&\" - \"&F1622&\" - \"&G1622)","v":""},null,{"$f":"IF(OR(ISBLANK(L1622),ISBLANK(H1622)),\"\",H1622+(VLOOKUP(L1622,garantie,2,FALSE)))","v":""}]
[1622,{"$nulls":9},{"$f":"IF(B1623=\"\",\"\",D1623&\" - \"&F1623&\" - \"&G1623)","v":""},null,{"$f":"IF(OR(ISBLANK(L1623),ISBLANK(H1623)),\"\",H1623+(VLOOKUP(L1623,garantie,2,FALSE)))","v":""}]
[1623,{"$nulls":9},{"$f":"IF(B1624=\"\",\"\",D1624&\" - \"&F1624&\" - \"&G1624)","v":""},null,{"$f":"IF(OR(ISBLANK(L1624),ISBLANK(H1624)),\"\",H1624+(VLOOKUP(L1624,garantie,2,FALSE)))","v":""}]
[1624,{"$nulls":9},{"$f":"IF(B1625=\"\",\"\",D1625&\" - \"&F1625&\" - \"&G1625)","v":""},null,{"$f":"IF(OR(ISBLANK(L1625),ISBLANK(H1625)),\"\",H1625+(VLOOKUP(L1625,garantie,2,FALSE)))","v":""}]
[1625,{"$nulls":9},{"$f":"IF(B1626=\"\",\"\",D1626&\" - \"&F1626&\" - \"&G1626)","v":""},null,{"$f":"IF(OR(ISBLANK(L1626),ISBLANK(H1626)),\"\",H1626+(VLOOKUP(L1626,garantie,2,FALSE)))","v":""}]
[1626,{"$nulls":9},{"$f":"IF(B1627=\"\",\"\",D1627&\" - \"&F1627&\" - \"&G1627)","v":""},null,{"$f":"IF(OR(ISBLANK(L1627),ISBLANK(H1627)),\"\",H1627+(VLOOKUP(L1627,garantie,2,FALSE)))","v":""}]
[1627,{"$nulls":9},{"$f":"IF(B1628=\"\",\"\",D1628&\" - \"&F1628&\" - \"&G1628)","v":""},null,{"$f":"IF(OR(ISBLANK(L1628),ISBLANK(H1628)),\"\",H1628+(VLOOKUP(L1628,garantie,2,FALSE)))","v":""}]
[1628,{"$nulls":9},{"$f":"IF(B1629=\"\",\"\",D1629&\" - \"&F1629&\" - \"&G1629)","v":""},null,{"$f":"IF(OR(ISBLANK(L1629),ISBLANK(H1629)),\"\",H1629+(VLOOKUP(L1629,garantie,2,FALSE)))","v":""}]
[1629,{"$nulls":9},{"$f":"IF(B1630=\"\",\"\",D1630&\" - \"&F1630&\" - \"&G1630)","v":""},null,{"$f":"IF(OR(ISBLANK(L1630),ISBLANK(H1630)),\"\",H1630+(VLOOKUP(L1630,garantie,2,FALSE)))","v":""}]
[1630,{"$nulls":9},{"$f":"IF(B1631=\"\",\"\",D1631&\" - \"&F1631&\" - \"&G1631)","v":""},null,{"$f":"IF(OR(ISBLANK(L1631),ISBLANK(H1631)),\"\",H1631+(VLOOKUP(L1631,garantie,2,FALSE)))","v":""}]
[1631,{"$nulls":9},{"$f":"IF(B1632=\"\",\"\",D1632&\" - \"&F1632&\" - \"&G1632)","v":""},null,{"$f":"IF(OR(ISBLANK(L1632),ISBLANK(H1632)),\"\",H1632+(VLOOKUP(L1632,garantie,2,FALSE)))","v":""}]
[1632,{"$nulls":9},{"$f":"IF(B1633=\"\",\"\",D1633&\" - \"&F1633&\" - \"&G1633)","v":""},null,{"$f":"IF(OR(ISBLANK(L1633),ISBLANK(H1633)),\"\",H1633+(VLOOKUP(L1633,garantie,2,FALSE)))","v":""}]
[1633,{"$nulls":9},{"$f":"IF(B1634=\"\",\"\",D1634&\" - \"&F1634&\" - \"&G1634)","v":""},null,{"$f":"IF(OR(ISBLANK(L1634),ISBLANK(H1634)),\"\",H1634+(VLOOKUP(L1634,garantie,2,FALSE)))","v":""}]
[1634,{"$nulls":9},{"$f":"IF(B1635=\"\",\"\",D1635&\" - \"&F1635&\" - \"&G1635)","v":""},null,{"$f":"IF(OR(ISBLANK(L1635),ISBLANK(H1635)),\"\",H1635+(VLOOKUP(L1635,garantie,2,FALSE)))","v":""}]
[1635,{"$nulls":9},{"$f":"IF(B1636=\"\",\"\",D1636&\" - \"&F1636&\" - \"&G1636)","v":""},null,{"$f":"IF(OR(ISBLANK(L1636),ISBLANK(H1636)),\"\",H1636+(VLOOKUP(L1636,garantie,2,FALSE)))","v":""}]
[1636,{"$nulls":9},{"$f":"IF(B1637=\"\",\"\",D1637&\" - \"&F1637&\" - \"&G1637)","v":""},null,{"$f":"IF(OR(ISBLANK(L1637),ISBLANK(H1637)),\"\",H1637+(VLOOKUP(L1637,garantie,2,FALSE)))","v":""}]
[1637,{"$nulls":9},{"$f":"IF(B1638=\"\",\"\",D1638&\" - \"&F1638&\" - \"&G1638)","v":""},null,{"$f":"IF(OR(ISBLANK(L1638),ISBLANK(H1638)),\"\",H1638+(VLOOKUP(L1638,garantie,2,FALSE)))","v":""}]
[1638,{"$nulls":9},{"$f":"IF(B1639=\"\",\"\",D1639&\" - \"&F1639&\" - \"&G1639)","v":""},null,{"$f":"IF(OR(ISBLANK(L1639),ISBLANK(H1639)),\"\",H1639+(VLOOKUP(L1639,garantie,2,FALSE)))","v":""}]
[1639,{"$nulls":9},{"$f":"IF(B1640=\"\",\"\",D1640&\" - \"&F1640&\" - \"&G1640)","v":""},null,{"$f":"IF(OR(ISBLANK(L1640),ISBLANK(H1640)),\"\",H1640+(VLOOKUP(L1640,garantie,2,FALSE)))","v":""}]
[1640,{"$nulls":9},{"$f":"IF(B1641=\"\",\"\",D1641&\" - \"&F1641&\" - \"&G1641)","v":""},null,{"$f":"IF(OR(ISBLANK(L1641),ISBLANK(H1641)),\"\",H1641+(VLOOKUP(L1641,garantie,2,FALSE)))","v":""}]
[1641,{"$nulls":9},{"$f":"IF(B1642=\"\",\"\",D1642&\" - \"&F1642&\" - \"&G1642)","v":""},null,{"$f":"IF(OR(ISBLANK(L1642),ISBLANK(H1642)),\"\",H1642+(VLOOKUP(L1642,garantie,2,FALSE)))","v":""}]
[1642,{"$nulls":9},{"$f":"IF(B1643=\"\",\"\",D1643&\" - \"&F1643&\" - \"&G1643)","v":""},null,{"$f":"IF(OR(ISBLANK(L1643),ISBLANK(H1643)),\"\",H1643+(VLOOKUP(L1643,garantie,2,FALSE)))","v":""}]
[1643,{"$nulls":9},{"$f":"IF(B1644=\"\",\"\",D1644&\" - \"&F1644&\" - \"&G1644)","v":""},null,{"$f":"IF(OR(ISBLANK(L1644),ISBLANK(H1644)),\"\",H1644+(VLOOKUP(L1644,garantie,2,FALSE)))","v":""}]
[1644,{"$nulls":9},{"$f":"IF(B1645=\"\",\"\",D1645&\" - \"&F1645&\" - \"&G1645)","v":""},null,{"$f":"IF(OR(ISBLANK(L1645),ISBLANK(H1645)),\"\",H1645+(VLOOKUP(L1645,garantie,2,FALSE)))","v":""}]
[1645,{"$nulls":9},{"$f":"IF(B1646=\"\",\"\",D1646&\" - \"&F1646&\" - \"&G1646)","v":""},null,{"$f":"IF(OR(ISBLANK(L1646),ISBLANK(H1646)),\"\",H1646+(VLOOKUP(L1646,garantie,2,FALSE)))","v":""}]
[1646,{"$nulls":9},{"$f":"IF(B1647=\"\",\"\",D1647&\" - \"&F1647&\" - \"&G1647)","v":""},null,{"$f":"IF(OR(ISBLANK(L1647),ISBLANK(H1647)),\"\",H1647+(VLOOKUP(L1647,garantie,2,FALSE)))","v":""}]
[1647,{"$nulls":9},{"$f":"IF(B1648=\"\",\"\",D1648&\" - \"&F1648&\" - \"&G1648)","v":""},null,{"$f":"IF(OR(ISBLANK(L1648),ISBLANK(H1648)),\"\",H1648+(VLOOKUP(L1648,garantie,2,FALSE)))","v":""}]
[1648,{"$nulls":9},{"$f":"IF(B1649=\"\",\"\",D1649&\" - \"&F1649&\" - \"&G1649)","v":""},null,{"$f":"IF(OR(ISBLANK(L1649),ISBLANK(H1649)),\"\",H1649+(VLOOKUP(L1649,garantie,2,FALSE)))","v":""}]
[1649,{"$nulls":9},{"$f":"IF(B1650=\"\",\"\",D1650&\" - \"&F1650&\" - \"&G1650)","v":""},null,{"$f":"IF(OR(ISBLANK(L1650),ISBLANK(H1650)),\"\",H1650+(VLOOKUP(L1650,garantie,2,FALSE)))","v":""}]
[1650,{"$nulls":9},{"$f":"IF(B1651=\"\",\"\",D1651&\" - \"&F1651&\" - \"&G1651)","v":""},null,{"$f":"IF(OR(ISBLANK(L1651),ISBLANK(H1651)),\"\",H1651+(VLOOKUP(L1651,garantie,2,FALSE)))","v":""}]
[1651,{"$nulls":9},{"$f":"IF(B1652=\"\",\"\",D1652&\" - \"&F1652&\" - \"&G1652)","v":""},null,{"$f":"IF(OR(ISBLANK(L1652),ISBLANK(H1652)),\"\",H1652+(VLOOKUP(L1652,garantie,2,FALSE)))","v":""}]
[1652,{"$nulls":9},{"$f":"IF(B1653=\"\",\"\",D1653&\" - \"&F1653&\" - \"&G1653)","v":""},null,{"$f":"IF(OR(ISBLANK(L1653),ISBLANK(H1653)),\"\",H1653+(VLOOKUP(L1653,garantie,2,FALSE)))","v":""}]
[1653,{"$nulls":9},{"$f":"IF(B1654=\"\",\"\",D1654&\" - \"&F1654&\" - \"&G1654)","v":""},null,{"$f":"IF(OR(ISBLANK(L1654),ISBLANK(H1654)),\"\",H1654+(VLOOKUP(L1654,garantie,2,FALSE)))","v":""}]
[1654,{"$nulls":9},{"$f":"IF(B1655=\"\",\"\",D1655&\" - \"&F1655&\" - \"&G1655)","v":""},null,{"$f":"IF(OR(ISBLANK(L1655),ISBLANK(H1655)),\"\",H1655+(VLOOKUP(L1655,garantie,2,FALSE)))","v":""}]
[1655,{"$nulls":9},{"$f":"IF(B1656=\"\",\"\",D1656&\" - \"&F1656&\" - \"&G1656)","v":""},null,{"$f":"IF(OR(ISBLANK(L1656),ISBLANK(H1656)),\"\",H1656+(VLOOKUP(L1656,garantie,2,FALSE)))","v":""}]
[1656,{"$nulls":9},{"$f":"IF(B1657=\"\",\"\",D1657&\" - \"&F1657&\" - \"&G1657)","v":""},null,{"$f":"IF(OR(ISBLANK(L1657),ISBLANK(H1657)),\"\",H1657+(VLOOKUP(L1657,garantie,2,FALSE)))","v":""}]
[1657,{"$nulls":9},{"$f":"IF(B1658=\"\",\"\",D1658&\" - \"&F1658&\" - \"&G1658)","v":""},null,{"$f":"IF(OR(ISBLANK(L1658),ISBLANK(H1658)),\"\",H1658+(VLOOKUP(L1658,garantie,2,FALSE)))","v":""}]
[1658,{"$nulls":9},{"$f":"IF(B1659=\"\",\"\",D1659&\" - \"&F1659&\" - \"&G1659)","v":""},null,{"$f":"IF(OR(ISBLANK(L1659),ISBLANK(H1659)),\"\",H1659+(VLOOKUP(L1659,garantie,2,FALSE)))","v":""}]
[1659,{"$nulls":9},{"$f":"IF(B1660=\"\",\"\",D1660&\" - \"&F1660&\" - \"&G1660)","v":""},null,{"$f":"IF(OR(ISBLANK(L1660),ISBLANK(H1660)),\"\",H1660+(VLOOKUP(L1660,garantie,2,FALSE)))","v":""}]
[1660,{"$nulls":9},{"$f":"IF(B1661=\"\",\"\",D1661&\" - \"&F1661&\" - \"&G1661)","v":""},null,{"$f":"IF(OR(ISBLANK(L1661),ISBLANK(H1661)),\"\",H1661+(VLOOKUP(L1661,garantie,2,FALSE)))","v":""}]
[1661,{"$nulls":9},{"$f":"IF(B1662=\"\",\"\",D1662&\" - \"&F1662&\" - \"&G1662)","v":""},null,{"$f":"IF(OR(ISBLANK(L1662),ISBLANK(H1662)),\"\",H1662+(VLOOKUP(L1662,garantie,2,FALSE)))","v":""}]
[1662,{"$nulls":9},{"$f":"IF(B1663=\"\",\"\",D1663&\" - \"&F1663&\" - \"&G1663)","v":""},null,{"$f":"IF(OR(ISBLANK(L1663),ISBLANK(H1663)),\"\",H1663+(VLOOKUP(L1663,garantie,2,FALSE)))","v":""}]
[1663,{"$nulls":9},{"$f":"IF(B1664=\"\",\"\",D1664&\" - \"&F1664&\" - \"&G1664)","v":""},null,{"$f":"IF(OR(ISBLANK(L1664),ISBLANK(H1664)),\"\",H1664+(VLOOKUP(L1664,garantie,2,FALSE)))","v":""}]
[1664,{"$nulls":9},{"$f":"IF(B1665=\"\",\"\",D1665&\" - \"&F1665&\" - \"&G1665)","v":""},null,{"$f":"IF(OR(ISBLANK(L1665),ISBLANK(H1665)),\"\",H1665+(VLOOKUP(L1665,garantie,2,FALSE)))","v":""}]
[1665,{"$nulls":9},{"$f":"IF(B1666=\"\",\"\",D1666&\" - \"&F1666&\" - \"&G1666)","v":""},null,{"$f":"IF(OR(ISBLANK(L1666),ISBLANK(H1666)),\"\",H1666+(VLOOKUP(L1666,garantie,2,FALSE)))","v":""}]
[1666,{"$nulls":9},{"$f":"IF(B1667=\"\",\"\",D1667&\" - \"&F1667&\" - \"&G1667)","v":""},null,{"$f":"IF(OR(ISBLANK(L1667),ISBLANK(H1667)),\"\",H1667+(VLOOKUP(L1667,garantie,2,FALSE)))","v":""}]
[1667,{"$nulls":9},{"$f":"IF(B1668=\"\",\"\",D1668&\" - \"&F1668&\" - \"&G1668)","v":""},null,{"$f":"IF(OR(ISBLANK(L1668),ISBLANK(H1668)),\"\",H1668+(VLOOKUP(L1668,garantie,2,FALSE)))","v":""}]
[1668,{"$nulls":9},{"$f":"IF(B1669=\"\",\"\",D1669&\" - \"&F1669&\" - \"&G1669)","v":""},null,{"$f":"IF(OR(ISBLANK(L1669),ISBLANK(H1669)),\"\",H1669+(VLOOKUP(L1669,garantie,2,FALSE)))","v":""}]
[1669,{"$nulls":9},{"$f":"IF(B1670=\"\",\"\",D1670&\" - \"&F1670&\" - \"&G1670)","v":""},null,{"$f":"IF(OR(ISBLANK(L1670),ISBLANK(H1670)),\"\",H1670+(VLOOKUP(L1670,garantie,2,FALSE)))","v":""}]
[1670,{"$nulls":9},{"$f":"IF(B1671=\"\",\"\",D1671&\" - \"&F1671&\" - \"&G1671)","v":""},null,{"$f":"IF(OR(ISBLANK(L1671),ISBLANK(H1671)),\"\",H1671+(VLOOKUP(L1671,garantie,2,FALSE)))","v":""}]
[1671,{"$nulls":9},{"$f":"IF(B1672=\"\",\"\",D1672&\" - \"&F1672&\" - \"&G1672)","v":""},null,{"$f":"IF(OR(ISBLANK(L1672),ISBLANK(H1672)),\"\",H1672+(VLOOKUP(L1672,garantie,2,FALSE)))","v":""}]
[1672,{"$nulls":9},{"$f":"IF(B1673=\"\",\"\",D1673&\" - \"&F1673&\" - \"&G1673)","v":""},null,{"$f":"IF(OR(ISBLANK(L1673),ISBLANK(H1673)),\"\",H1673+(VLOOKUP(L1673,garantie,2,FALSE)))","v":""}]
[1673,{"$nulls":9},{"$f":"IF(B1674=\"\",\"\",D1674&\" - \"&F1674&\" - \"&G1674)","v":""},null,{"$f":"IF(OR(ISBLANK(L1674),ISBLANK(H1674)),\"\",H1674+(VLOOKUP(L1674,garantie,2,FALSE)))","v":""}]
[1674,{"$nulls":9},{"$f":"IF(B1675=\"\",\"\",D1675&\" - \"&F1675&\" - \"&G1675)","v":""},null,{"$f":"IF(OR(ISBLANK(L1675),ISBLANK(H1675)),\"\",H1675+(VLOOKUP(L1675,garantie,2,FALSE)))","v":""}]
[1675,{"$nulls":9},{"$f":"IF(B1676=\"\",\"\",D1676&\" - \"&F1676&\" - \"&G1676)","v":""},null,{"$f":"IF(OR(ISBLANK(L1676),ISBLANK(H1676)),\"\",H1676+(VLOOKUP(L1676,garantie,2,FALSE)))","v":""}]
[1676,{"$nulls":9},{"$f":"IF(B1677=\"\",\"\",D1677&\" - \"&F1677&\" - \"&G1677)","v":""},null,{"$f":"IF(OR(ISBLANK(L1677),ISBLANK(H1677)),\"\",H1677+(VLOOKUP(L1677,garantie,2,FALSE)))","v":""}]
[1677,{"$nulls":9},{"$f":"IF(B1678=\"\",\"\",D1678&\" - \"&F1678&\" - \"&G1678)","v":""},null,{"$f":"IF(OR(ISBLANK(L1678),ISBLANK(H1678)),\"\",H1678+(VLOOKUP(L1678,garantie,2,FALSE)))","v":""}]
[1678,{"$nulls":9},{"$f":"IF(B1679=\"\",\"\",D1679&\" - \"&F1679&\" - \"&G1679)","v":""},null,{"$f":"IF(OR(ISBLANK(L1679),ISBLANK(H1679)),\"\",H1679+(VLOOKUP(L1679,garantie,2,FALSE)))","v":""}]
[1679,{"$nulls":9},{"$f":"IF(B1680=\"\",\"\",D1680&\" - \"&F1680&\" - \"&G1680)","v":""},null,{"$f":"IF(OR(ISBLANK(L1680),ISBLANK(H1680)),\"\",H1680+(VLOOKUP(L1680,garantie,2,FALSE)))","v":""}]
[1680,{"$nulls":9},{"$f":"IF(B1681=\"\",\"\",D1681&\" - \"&F1681&\" - \"&G1681)","v":""},null,{"$f":"IF(OR(ISBLANK(L1681),ISBLANK(H1681)),\"\",H1681+(VLOOKUP(L1681,garantie,2,FALSE)))","v":""}]
[1681,{"$nulls":9},{"$f":"IF(B1682=\"\",\"\",D1682&\" - \"&F1682&\" - \"&G1682)","v":""},null,{"$f":"IF(OR(ISBLANK(L1682),ISBLANK(H1682)),\"\",H1682+(VLOOKUP(L1682,garantie,2,FALSE)))","v":""}]
[1682,{"$nulls":9},{"$f":"IF(B1683=\"\",\"\",D1683&\" - \"&F1683&\" - \"&G1683)","v":""},null,{"$f":"IF(OR(ISBLANK(L1683),ISBLANK(H1683)),\"\",H1683+(VLOOKUP(L1683,garantie,2,FALSE)))","v":""}]
[1683,{"$nulls":9},{"$f":"IF(B1684=\"\",\"\",D1684&\" - \"&F1684&\" - \"&G1684)","v":""},null,{"$f":"IF(OR(ISBLANK(L1684),ISBLANK(H1684)),\"\",H1684+(VLOOKUP(L1684,garantie,2,FALSE)))","v":""}]
[1684,{"$nulls":9},{"$f":"IF(B1685=\"\",\"\",D1685&\" - \"&F1685&\" - \"&G1685)","v":""},null,{"$f":"IF(OR(ISBLANK(L1685),ISBLANK(H1685)),\"\",H1685+(VLOOKUP(L1685,garantie,2,FALSE)))","v":""}]
[1685,{"$nulls":9},{"$f":"IF(B1686=\"\",\"\",D1686&\" - \"&F1686&\" - \"&G1686)","v":""},null,{"$f":"IF(OR(ISBLANK(L1686),ISBLANK(H1686)),\"\",H1686+(VLOOKUP(L1686,garantie,2,FALSE)))","v":""}]
[1686,{"$nulls":9},{"$f":"IF(B1687=\"\",\"\",D1687&\" - \"&F1687&\" - \"&G1687)","v":""},null,{"$f":"IF(OR(ISBLANK(L1687),ISBLANK(H1687)),\"\",H1687+(VLOOKUP(L1687,garantie,2,FALSE)))","v":""}]
[1687,{"$nulls":9},{"$f":"IF(B1688=\"\",\"\",D1688&\" - \"&F1688&\" - \"&G1688)","v":""},null,{"$f":"IF(OR(ISBLANK(L1688),ISBLANK(H1688)),\"\",H1688+(VLOOKUP(L1688,garantie,2,FALSE)))","v":""}]
[1688,{"$nulls":9},{"$f":"IF(B1689=\"\",\"\",D1689&\" - \"&F1689&\" - \"&G1689)","v":""},null,{"$f":"IF(OR(ISBLANK(L1689),ISBLANK(H1689)),\"\",H1689+(VLOOKUP(L1689,garantie,2,FALSE)))","v":""}]
[1689,{"$nulls":9},{"$f":"IF(B1690=\"\",\"\",D1690&\" - \"&F1690&\" - \"&G1690)","v":""},null,{"$f":"IF(OR(ISBLANK(L1690),ISBLANK(H1690)),\"\",H1690+(VLOOKUP(L1690,garantie,2,FALSE)))","v":""}]
[1690,{"$nulls":9},{"$f":"IF(B1691=\"\",\"\",D1691&\" - \"&F1691&\" - \"&G1691)","v":""},null,{"$f":"IF(OR(ISBLANK(L1691),ISBLANK(H1691)),\"\",H1691+(VLOOKUP(L1691,garantie,2,FALSE)))","v":""}]
[1691,{"$nulls":9},{"$f":"IF(B1692=\"\",\"\",D1692&\" - \"&F1692&\" - \"&G1692)","v":""},null,{"$f":"IF(OR(ISBLANK(L1692),ISBLANK(H1692)),\"\",H1692+(VLOOKUP(L1692,garantie,2,FALSE)))","v":""}]
[1692,{"$nulls":9},{"$f":"IF(B1693=\"\",\"\",D1693&\" - \"&F1693&\" - \"&G1693)","v":""},null,{"$f":"IF(OR(ISBLANK(L1693),ISBLANK(H1693)),\"\",H1693+(VLOOKUP(L1693,garantie,2,FALSE)))","v":""}]
[1693,{"$nulls":9},{"$f":"IF(B1694=\"\",\"\",D1694&\" - \"&F1694&\" - \"&G1694)","v":""},null,{"$f":"IF(OR(ISBLANK(L1694),ISBLANK(H1694)),\"\",H1694+(VLOOKUP(L1694,garantie,2,FALSE)))","v":""}]
[1694,{"$nulls":9},{"$f":"IF(B1695=\"\",\"\",D1695&\" - \"&F1695&\" - \"&G1695)","v":""},null,{"$f":"IF(OR(ISBLANK(L1695),ISBLANK(H1695)),\"\",H1695+(VLOOKUP(L1695,garantie,2,FALSE)))","v":""}]
[1695,{"$nulls":9},{"$f":"IF(B1696=\"\",\"\",D1696&\" - \"&F1696&\" - \"&G1696)","v":""},null,{"$f":"IF(OR(ISBLANK(L1696),ISBLANK(H1696)),\"\",H1696+(VLOOKUP(L1696,garantie,2,FALSE)))","v":""}]
[1696,{"$nulls":9},{"$f":"IF(B1697=\"\",\"\",D1697&\" - \"&F1697&\" - \"&G1697)","v":""},null,{"$f":"IF(OR(ISBLANK(L1697),ISBLANK(H1697)),\"\",H1697+(VLOOKUP(L1697,garantie,2,FALSE)))","v":""}]
[1697,{"$nulls":9},{"$f":"IF(B1698=\"\",\"\",D1698&\" - \"&F1698&\" - \"&G1698)","v":""},null,{"$f":"IF(OR(ISBLANK(L1698),ISBLANK(H1698)),\"\",H1698+(VLOOKUP(L1698,garantie,2,FALSE)))","v":""}]
[1698,{"$nulls":9},{"$f":"IF(B1699=\"\",\"\",D1699&\" - \"&F1699&\" - \"&G1699)","v":""},null,{"$f":"IF(OR(ISBLANK(L1699),ISBLANK(H1699)),\"\",H1699+(VLOOKUP(L1699,garantie,2,FALSE)))","v":""}]
[1699,{"$nulls":9},{"$f":"IF(B1700=\"\",\"\",D1700&\" - \"&F1700&\" - \"&G1700)","v":""},null,{"$f":"IF(OR(ISBLANK(L1700),ISBLANK(H1700)),\"\",H1700+(VLOOKUP(L1700,garantie,2,FALSE)))","v":""}]
[1700,{"$nulls":9},{"$f":"IF(B1701=\"\",\"\",D1701&\" - \"&F1701&\" - \"&G1701)","v":""},null,{"$f":"IF(OR(ISBLANK(L1701),ISBLANK(H1701)),\"\",H1701+(VLOOKUP(L1701,garantie,2,FALSE)))","v":""}]
[1701,{"$nulls":9},{"$f":"IF(B1702=\"\",\"\",D1702&\" - \"&F1702&\" - \"&G1702)","v":""},null,{"$f":"IF(OR(ISBLANK(L1702),ISBLANK(H1702)),\"\",H1702+(VLOOKUP(L1702,garantie,2,FALSE)))","v":""}]
[1702,{"$nulls":9},{"$f":"IF(B1703=\"\",\"\",D1703&\" - \"&F1703&\" - \"&G1703)","v":""},null,{"$f":"IF(OR(ISBLANK(L1703),ISBLANK(H1703)),\"\",H1703+(VLOOKUP(L1703,garantie,2,FALSE)))","v":""}]
[1703,{"$nulls":9},{"$f":"IF(B1704=\"\",\"\",D1704&\" - \"&F1704&\" - \"&G1704)","v":""},null,{"$f":"IF(OR(ISBLANK(L1704),ISBLANK(H1704)),\"\",H1704+(VLOOKUP(L1704,garantie,2,FALSE)))","v":""}]
[1704,{"$nulls":9},{"$f":"IF(B1705=\"\",\"\",D1705&\" - \"&F1705&\" - \"&G1705)","v":""},null,{"$f":"IF(OR(ISBLANK(L1705),ISBLANK(H1705)),\"\",H1705+(VLOOKUP(L1705,garantie,2,FALSE)))","v":""}]
[1705,{"$nulls":9},{"$f":"IF(B1706=\"\",\"\",D1706&\" - \"&F1706&\" - \"&G1706)","v":""},null,{"$f":"IF(OR(ISBLANK(L1706),ISBLANK(H1706)),\"\",H1706+(VLOOKUP(L1706,garantie,2,FALSE)))","v":""}]
[1706,{"$nulls":9},{"$f":"IF(B1707=\"\",\"\",D1707&\" - \"&F1707&\" - \"&G1707)","v":""},null,{"$f":"IF(OR(ISBLANK(L1707),ISBLANK(H1707)),\"\",H1707+(VLOOKUP(L1707,garantie,2,FALSE)))","v":""}]
[1707,{"$nulls":9},{"$f":"IF(B1708=\"\",\"\",D1708&\" - \"&F1708&\" - \"&G1708)","v":""},null,{"$f":"IF(OR(ISBLANK(L1708),ISBLANK(H1708)),\"\",H1708+(VLOOKUP(L1708,garantie,2,FALSE)))","v":""}]
[1708,{"$nulls":9},{"$f":"IF(B1709=\"\",\"\",D1709&\" - \"&F1709&\" - \"&G1709)","v":""},null,{"$f":"IF(OR(ISBLANK(L1709),ISBLANK(H1709)),\"\",H1709+(VLOOKUP(L1709,garantie,2,FALSE)))","v":""}]
[1709,{"$nulls":9},{"$f":"IF(B1710=\"\",\"\",D1710&\" - \"&F1710&\" - \"&G1710)","v":""},null,{"$f":"IF(OR(ISBLANK(L1710),ISBLANK(H1710)),\"\",H1710+(VLOOKUP(L1710,garantie,2,FALSE)))","v":""}]
[1710,{"$nulls":9},{"$f":"IF(B1711=\"\",\"\",D1711&\" - \"&F1711&\" - \"&G1711)","v":""},null,{"$f":"IF(OR(ISBLANK(L1711),ISBLANK(H1711)),\"\",H1711+(VLOOKUP(L1711,garantie,2,FALSE)))","v":""}]
[1711,{"$nulls":9},{"$f":"IF(B1712=\"\",\"\",D1712&\" - \"&F1712&\" - \"&G1712)","v":""},null,{"$f":"IF(OR(ISBLANK(L1712),ISBLANK(H1712)),\"\",H1712+(VLOOKUP(L1712,garantie,2,FALSE)))","v":""}]
[1712,{"$nulls":9},{"$f":"IF(B1713=\"\",\"\",D1713&\" - \"&F1713&\" - \"&G1713)","v":""},null,{"$f":"IF(OR(ISBLANK(L1713),ISBLANK(H1713)),\"\",H1713+(VLOOKUP(L1713,garantie,2,FALSE)))","v":""}]
[1713,{"$nulls":9},{"$f":"IF(B1714=\"\",\"\",D1714&\" - \"&F1714&\" - \"&G1714)","v":""},null,{"$f":"IF(OR(ISBLANK(L1714),ISBLANK(H1714)),\"\",H1714+(VLOOKUP(L1714,garantie,2,FALSE)))","v":""}]
[1714,{"$nulls":9},{"$f":"IF(B1715=\"\",\"\",D1715&\" - \"&F1715&\" - \"&G1715)","v":""},null,{"$f":"IF(OR(ISBLANK(L1715),ISBLANK(H1715)),\"\",H1715+(VLOOKUP(L1715,garantie,2,FALSE)))","v":""}]
[1715,{"$nulls":9},{"$f":"IF(B1716=\"\",\"\",D1716&\" - \"&F1716&\" - \"&G1716)","v":""},null,{"$f":"IF(OR(ISBLANK(L1716),ISBLANK(H1716)),\"\",H1716+(VLOOKUP(L1716,garantie,2,FALSE)))","v":""}]
[1716,{"$nulls":9},{"$f":"IF(B1717=\"\",\"\",D1717&\" - \"&F1717&\" - \"&G1717)","v":""},null,{"$f":"IF(OR(ISBLANK(L1717),ISBLANK(H1717)),\"\",H1717+(VLOOKUP(L1717,garantie,2,FALSE)))","v":""}]
[1717,{"$nulls":9},{"$f":"IF(B1718=\"\",\"\",D1718&\" - \"&F1718&\" - \"&G1718)","v":""},null,{"$f":"IF(OR(ISBLANK(L1718),ISBLANK(H1718)),\"\",H1718+(VLOOKUP(L1718,garantie,2,FALSE)))","v":""}]
[1718,{"$nulls":9},{"$f":"IF(B1719=\"\",\"\",D1719&\" - \"&F1719&\" - \"&G1719)","v":""},null,{"$f":"IF(OR(ISBLANK(L1719),ISBLANK(H1719)),\"\",H1719+(VLOOKUP(L1719,garantie,2,FALSE)))","v":""}]
[1719,{"$nulls":9},{"$f":"IF(B1720=\"\",\"\",D1720&\" - \"&F1720&\" - \"&G1720)","v":""},null,{"$f":"IF(OR(ISBLANK(L1720),ISBLANK(H1720)),\"\",H1720+(VLOOKUP(L1720,garantie,2,FALSE)))","v":""}]
[1720,{"$nulls":9},{"$f":"IF(B1721=\"\",\"\",D1721&\" - \"&F1721&\" - \"&G1721)","v":""},null,{"$f":"IF(OR(ISBLANK(L1721),ISBLANK(H1721)),\"\",H1721+(VLOOKUP(L1721,garantie,2,FALSE)))","v":""}]
[1721,{"$nulls":9},{"$f":"IF(B1722=\"\",\"\",D1722&\" - \"&F1722&\" - \"&G1722)","v":""},null,{"$f":"IF(OR(ISBLANK(L1722),ISBLANK(H1722)),\"\",H1722+(VLOOKUP(L1722,garantie,2,FALSE)))","v":""}]
[1722,{"$nulls":9},{"$f":"IF(B1723=\"\",\"\",D1723&\" - \"&F1723&\" - \"&G1723)","v":""},null,{"$f":"IF(OR(ISBLANK(L1723),ISBLANK(H1723)),\"\",H1723+(VLOOKUP(L1723,garantie,2,FALSE)))","v":""}]
[1723,{"$nulls":9},{"$f":"IF(B1724=\"\",\"\",D1724&\" - \"&F1724&\" - \"&G1724)","v":""},null,{"$f":"IF(OR(ISBLANK(L1724),ISBLANK(H1724)),\"\",H1724+(VLOOKUP(L1724,garantie,2,FALSE)))","v":""}]
[1724,{"$nulls":9},{"$f":"IF(B1725=\"\",\"\",D1725&\" - \"&F1725&\" - \"&G1725)","v":""},null,{"$f":"IF(OR(ISBLANK(L1725),ISBLANK(H1725)),\"\",H1725+(VLOOKUP(L1725,garantie,2,FALSE)))","v":""}]
[1725,{"$nulls":9},{"$f":"IF(B1726=\"\",\"\",D1726&\" - \"&F1726&\" - \"&G1726)","v":""},null,{"$f":"IF(OR(ISBLANK(L1726),ISBLANK(H1726)),\"\",H1726+(VLOOKUP(L1726,garantie,2,FALSE)))","v":""}]
[1726,{"$nulls":9},{"$f":"IF(B1727=\"\",\"\",D1727&\" - \"&F1727&\" - \"&G1727)","v":""},null,{"$f":"IF(OR(ISBLANK(L1727),ISBLANK(H1727)),\"\",H1727+(VLOOKUP(L1727,garantie,2,FALSE)))","v":""}]
[1727,{"$nulls":9},{"$f":"IF(B1728=\"\",\"\",D1728&\" - \"&F1728&\" - \"&G1728)","v":""},null,{"$f":"IF(OR(ISBLANK(L1728),ISBLANK(H1728)),\"\",H1728+(VLOOKUP(L1728,garantie,2,FALSE)))","v":""}]
[1728,{"$nulls":9},{"$f":"IF(B1729=\"\",\"\",D1729&\" - \"&F1729&\" - \"&G1729)","v":""},null,{"$f":"IF(OR(ISBLANK(L1729),ISBLANK(H1729)),\"\",H1729+(VLOOKUP(L1729,garantie,2,FALSE)))","v":""}]
[1729,{"$nulls":9},{"$f":"IF(B1730=\"\",\"\",D1730&\" - \"&F1730&\" - \"&G1730)","v":""},null,{"$f":"IF(OR(ISBLANK(L1730),ISBLANK(H1730)),\"\",H1730+(VLOOKUP(L1730,garantie,2,FALSE)))","v":""}]
[1730,{"$nulls":9},{"$f":"IF(B1731=\"\",\"\",D1731&\" - \"&F1731&\" - \"&G1731)","v":""},null,{"$f":"IF(OR(ISBLANK(L1731),ISBLANK(H1731)),\"\",H1731+(VLOOKUP(L1731,garantie,2,FALSE)))","v":""}]
[1731,{"$nulls":9},{"$f":"IF(B1732=\"\",\"\",D1732&\" - \"&F1732&\" - \"&G1732)","v":""},null,{"$f":"IF(OR(ISBLANK(L1732),ISBLANK(H1732)),\"\",H1732+(VLOOKUP(L1732,garantie,2,FALSE)))","v":""}]
[1732,{"$nulls":9},{"$f":"IF(B1733=\"\",\"\",D1733&\" - \"&F1733&\" - \"&G1733)","v":""},null,{"$f":"IF(OR(ISBLANK(L1733),ISBLANK(H1733)),\"\",H1733+(VLOOKUP(L1733,garantie,2,FALSE)))","v":""}]
[1733,{"$nulls":9},{"$f":"IF(B1734=\"\",\"\",D1734&\" - \"&F1734&\" - \"&G1734)","v":""},null,{"$f":"IF(OR(ISBLANK(L1734),ISBLANK(H1734)),\"\",H1734+(VLOOKUP(L1734,garantie,2,FALSE)))","v":""}]
[1734,{"$nulls":9},{"$f":"IF(B1735=\"\",\"\",D1735&\" - \"&F1735&\" - \"&G1735)","v":""},null,{"$f":"IF(OR(ISBLANK(L1735),ISBLANK(H1735)),\"\",H1735+(VLOOKUP(L1735,garantie,2,FALSE)))","v":""}]
[1735,{"$nulls":9},{"$f":"IF(B1736=\"\",\"\",D1736&\" - \"&F1736&\" - \"&G1736)","v":""},null,{"$f":"IF(OR(ISBLANK(L1736),ISBLANK(H1736)),\"\",H1736+(VLOOKUP(L1736,garantie,2,FALSE)))","v":""}]
[1736,{"$nulls":9},{"$f":"IF(B1737=\"\",\"\",D1737&\" - \"&F1737&\" - \"&G1737)","v":""},null,{"$f":"IF(OR(ISBLANK(L1737),ISBLANK(H1737)),\"\",H1737+(VLOOKUP(L1737,garantie,2,FALSE)))","v":""}]
[1737,{"$nulls":9},{"$f":"IF(B1738=\"\",\"\",D1738&\" - \"&F1738&\" - \"&G1738)","v":""},null,{"$f":"IF(OR(ISBLANK(L1738),ISBLANK(H1738)),\"\",H1738+(VLOOKUP(L1738,garantie,2,FALSE)))","v":""}]
[1738,{"$nulls":9},{"$f":"IF(B1739=\"\",\"\",D1739&\" - \"&F1739&\" - \"&G1739)","v":""},null,{"$f":"IF(OR(ISBLANK(L1739),ISBLANK(H1739)),\"\",H1739+(VLOOKUP(L1739,garantie,2,FALSE)))","v":""}]
[1739,{"$nulls":9},{"$f":"IF(B1740=\"\",\"\",D1740&\" - \"&F1740&\" - \"&G1740)","v":""},null,{"$f":"IF(OR(ISBLANK(L1740),ISBLANK(H1740)),\"\",H1740+(VLOOKUP(L1740,garantie,2,FALSE)))","v":""}]
[1740,{"$nulls":9},{"$f":"IF(B1741=\"\",\"\",D1741&\" - \"&F1741&\" - \"&G1741)","v":""},null,{"$f":"IF(OR(ISBLANK(L1741),ISBLANK(H1741)),\"\",H1741+(VLOOKUP(L1741,garantie,2,FALSE)))","v":""}]
[1741,{"$nulls":9},{"$f":"IF(B1742=\"\",\"\",D1742&\" - \"&F1742&\" - \"&G1742)","v":""},null,{"$f":"IF(OR(ISBLANK(L1742),ISBLANK(H1742)),\"\",H1742+(VLOOKUP(L1742,garantie,2,FALSE)))","v":""}]
[1742,{"$nulls":9},{"$f":"IF(B1743=\"\",\"\",D1743&\" - \"&F1743&\" - \"&G1743)","v":""},null,{"$f":"IF(OR(ISBLANK(L1743),ISBLANK(H1743)),\"\",H1743+(VLOOKUP(L1743,garantie,2,FALSE)))","v":""}]
[1743,{"$nulls":9},{"$f":"IF(B1744=\"\",\"\",D1744&\" - \"&F1744&\" - \"&G1744)","v":""},null,{"$f":"IF(OR(ISBLANK(L1744),ISBLANK(H1744)),\"\",H1744+(VLOOKUP(L1744,garantie,2,FALSE)))","v":""}]
[1744,{"$nulls":9},{"$f":"IF(B1745=\"\",\"\",D1745&\" - \"&F1745&\" - \"&G1745)","v":""},null,{"$f":"IF(OR(ISBLANK(L1745),ISBLANK(H1745)),\"\",H1745+(VLOOKUP(L1745,garantie,2,FALSE)))","v":""}]
[1745,{"$nulls":9},{"$f":"IF(B1746=\"\",\"\",D1746&\" - \"&F1746&\" - \"&G1746)","v":""},null,{"$f":"IF(OR(ISBLANK(L1746),ISBLANK(H1746)),\"\",H1746+(VLOOKUP(L1746,garantie,2,FALSE)))","v":""}]
[1746,{"$nulls":9},{"$f":"IF(B1747=\"\",\"\",D1747&\" - \"&F1747&\" - \"&G1747)","v":""},null,{"$f":"IF(OR(ISBLANK(L1747),ISBLANK(H1747)),\"\",H1747+(VLOOKUP(L1747,garantie,2,FALSE)))","v":""}]
[1747,{"$nulls":9},{"$f":"IF(B1748=\"\",\"\",D1748&\" - \"&F1748&\" - \"&G1748)","v":""},null,{"$f":"IF(OR(ISBLANK(L1748),ISBLANK(H1748)),\"\",H1748+(VLOOKUP(L1748,garantie,2,FALSE)))","v":""}]
[1748,{"$nulls":9},{"$f":"IF(B1749=\"\",\"\",D1749&\" - \"&F1749&\" - \"&G1749)","v":""},null,{"$f":"IF(OR(ISBLANK(L1749),ISBLANK(H1749)),\"\",H1749+(VLOOKUP(L1749,garantie,2,FALSE)))","v":""}]
[1749,{"$nulls":9},{"$f":"IF(B1750=\"\",\"\",D1750&\" - \"&F1750&\" - \"&G1750)","v":""},null,{"$f":"IF(OR(ISBLANK(L1750),ISBLANK(H1750)),\"\",H1750+(VLOOKUP(L1750,garantie,2,FALSE)))","v":""}]
[1750,{"$nulls":9},{"$f":"IF(B1751=\"\",\"\",D1751&\" - \"&F1751&\" - \"&G1751)","v":""},null,{"$f":"IF(OR(ISBLANK(L1751),ISBLANK(H1751)),\"\",H1751+(VLOOKUP(L1751,garantie,2,FALSE)))","v":""}]
[1751,{"$nulls":9},{"$f":"IF(B1752=\"\",\"\",D1752&\" - \"&F1752&\" - \"&G1752)","v":""},null,{"$f":"IF(OR(ISBLANK(L1752),ISBLANK(H1752)),\"\",H1752+(VLOOKUP(L1752,garantie,2,FALSE)))","v":""}]
[1752,{"$nulls":9},{"$f":"IF(B1753=\"\",\"\",D1753&\" - \"&F1753&\" - \"&G1753)","v":""},null,{"$f":"IF(OR(ISBLANK(L1753),ISBLANK(H1753)),\"\",H1753+(VLOOKUP(L1753,garantie,2,FALSE)))","v":""}]
[1753,{"$nulls":9},{"$f":"IF(B1754=\"\",\"\",D1754&\" - \"&F1754&\" - \"&G1754)","v":""},null,{"$f":"IF(OR(ISBLANK(L1754),ISBLANK(H1754)),\"\",H1754+(VLOOKUP(L1754,garantie,2,FALSE)))","v":""}]
[1754,{"$nulls":9},{"$f":"IF(B1755=\"\",\"\",D1755&\" - \"&F1755&\" - \"&G1755)","v":""},null,{"$f":"IF(OR(ISBLANK(L1755),ISBLANK(H1755)),\"\",H1755+(VLOOKUP(L1755,garantie,2,FALSE)))","v":""}]
[1755,{"$nulls":9},{"$f":"IF(B1756=\"\",\"\",D1756&\" - \"&F1756&\" - \"&G1756)","v":""},null,{"$f":"IF(OR(ISBLANK(L1756),ISBLANK(H1756)),\"\",H1756+(VLOOKUP(L1756,garantie,2,FALSE)))","v":""}]
[1756,{"$nulls":9},{"$f":"IF(B1757=\"\",\"\",D1757&\" - \"&F1757&\" - \"&G1757)","v":""},null,{"$f":"IF(OR(ISBLANK(L1757),ISBLANK(H1757)),\"\",H1757+(VLOOKUP(L1757,garantie,2,FALSE)))","v":""}]
[1757,{"$nulls":9},{"$f":"IF(B1758=\"\",\"\",D1758&\" - \"&F1758&\" - \"&G1758)","v":""},null,{"$f":"IF(OR(ISBLANK(L1758),ISBLANK(H1758)),\"\",H1758+(VLOOKUP(L1758,garantie,2,FALSE)))","v":""}]
[1758,{"$nulls":9},{"$f":"IF(B1759=\"\",\"\",D1759&\" - \"&F1759&\" - \"&G1759)","v":""},null,{"$f":"IF(OR(ISBLANK(L1759),ISBLANK(H1759)),\"\",H1759+(VLOOKUP(L1759,garantie,2,FALSE)))","v":""}]
[1759,{"$nulls":9},{"$f":"IF(B1760=\"\",\"\",D1760&\" - \"&F1760&\" - \"&G1760)","v":""},null,{"$f":"IF(OR(ISBLANK(L1760),ISBLANK(H1760)),\"\",H1760+(VLOOKUP(L1760,garantie,2,FALSE)))","v":""}]
[1760,{"$nulls":9},{"$f":"IF(B1761=\"\",\"\",D1761&\" - \"&F1761&\" - \"&G1761)","v":""},null,{"$f":"IF(OR(ISBLANK(L1761),ISBLANK(H1761)),\"\",H1761+(VLOOKUP(L1761,garantie,2,FALSE)))","v":""}]
[1761,{"$nulls":9},{"$f":"IF(B1762=\"\",\"\",D1762&\" - \"&F1762&\" - \"&G1762)","v":""},null,{"$f":"IF(OR(ISBLANK(L1762),ISBLANK(H1762)),\"\",H1762+(VLOOKUP(L1762,garantie,2,FALSE)))","v":""}]
[1762,{"$nulls":9},{"$f":"IF(B1763=\"\",\"\",D1763&\" - \"&F1763&\" - \"&G1763)","v":""},null,{"$f":"IF(OR(ISBLANK(L1763),ISBLANK(H1763)),\"\",H1763+(VLOOKUP(L1763,garantie,2,FALSE)))","v":""}]
[1763,{"$nulls":9},{"$f":"IF(B1764=\"\",\"\",D1764&\" - \"&F1764&\" - \"&G1764)","v":""},null,{"$f":"IF(OR(ISBLANK(L1764),ISBLANK(H1764)),\"\",H1764+(VLOOKUP(L1764,garantie,2,FALSE)))","v":""}]
[1764,{"$nulls":9},{"$f":"IF(B1765=\"\",\"\",D1765&\" - \"&F1765&\" - \"&G1765)","v":""},null,{"$f":"IF(OR(ISBLANK(L1765),ISBLANK(H1765)),\"\",H1765+(VLOOKUP(L1765,garantie,2,FALSE)))","v":""}]
[1765,{"$nulls":9},{"$f":"IF(B1766=\"\",\"\",D1766&\" - \"&F1766&\" - \"&G1766)","v":""},null,{"$f":"IF(OR(ISBLANK(L1766),ISBLANK(H1766)),\"\",H1766+(VLOOKUP(L1766,garantie,2,FALSE)))","v":""}]
[1766,{"$nulls":9},{"$f":"IF(B1767=\"\",\"\",D1767&\" - \"&F1767&\" - \"&G1767)","v":""},null,{"$f":"IF(OR(ISBLANK(L1767),ISBLANK(H1767)),\"\",H1767+(VLOOKUP(L1767,garantie,2,FALSE)))","v":""}]
[1767,{"$nulls":9},{"$f":"IF(B1768=\"\",\"\",D1768&\" - \"&F1768&\" - \"&G1768)","v":""},null,{"$f":"IF(OR(ISBLANK(L1768),ISBLANK(H1768)),\"\",H1768+(VLOOKUP(L1768,garantie,2,FALSE)))","v":""}]
[1768,{"$nulls":9},{"$f":"IF(B1769=\"\",\"\",D1769&\" - \"&F1769&\" - \"&G1769)","v":""},null,{"$f":"IF(OR(ISBLANK(L1769),ISBLANK(H1769)),\"\",H1769+(VLOOKUP(L1769,garantie,2,FALSE)))","v":""}]
[1769,{"$nulls":9},{"$f":"IF(B1770=\"\",\"\",D1770&\" - \"&F1770&\" - \"&G1770)","v":""},null,{"$f":"IF(OR(ISBLANK(L1770),ISBLANK(H1770)),\"\",H1770+(VLOOKUP(L1770,garantie,2,FALSE)))","v":""}]
[1770,{"$nulls":9},{"$f":"IF(B1771=\"\",\"\",D1771&\" - \"&F1771&\" - \"&G1771)","v":""},null,{"$f":"IF(OR(ISBLANK(L1771),ISBLANK(H1771)),\"\",H1771+(VLOOKUP(L1771,garantie,2,FALSE)))","v":""}]
[1771,{"$nulls":9},{"$f":"IF(B1772=\"\",\"\",D1772&\" - \"&F1772&\" - \"&G1772)","v":""},null,{"$f":"IF(OR(ISBLANK(L1772),ISBLANK(H1772)),\"\",H1772+(VLOOKUP(L1772,garantie,2,FALSE)))","v":""}]
[1772,{"$nulls":9},{"$f":"IF(B1773=\"\",\"\",D1773&\" - \"&F1773&\" - \"&G1773)","v":""},null,{"$f":"IF(OR(ISBLANK(L1773),ISBLANK(H1773)),\"\",H1773+(VLOOKUP(L1773,garantie,2,FALSE)))","v":""}]
[1773,{"$nulls":9},{"$f":"IF(B1774=\"\",\"\",D1774&\" - \"&F1774&\" - \"&G1774)","v":""},null,{"$f":"IF(OR(ISBLANK(L1774),ISBLANK(H1774)),\"\",H1774+(VLOOKUP(L1774,garantie,2,FALSE)))","v":""}]
[1774,{"$nulls":9},{"$f":"IF(B1775=\"\",\"\",D1775&\" - \"&F1775&\" - \"&G1775)","v":""},null,{"$f":"IF(OR(ISBLANK(L1775),ISBLANK(H1775)),\"\",H1775+(VLOOKUP(L1775,garantie,2,FALSE)))","v":""}]
[1775,{"$nulls":9},{"$f":"IF(B1776=\"\",\"\",D1776&\" - \"&F1776&\" - \"&G1776)","v":""},null,{"$f":"IF(OR(ISBLANK(L1776),ISBLANK(H1776)),\"\",H1776+(VLOOKUP(L1776,garantie,2,FALSE)))","v":""}]
[1776,{"$nulls":9},{"$f":"IF(B1777=\"\",\"\",D1777&\" - \"&F1777&\" - \"&G1777)","v":""},null,{"$f":"IF(OR(ISBLANK(L1777),ISBLANK(H1777)),\"\",H1777+(VLOOKUP(L1777,garantie,2,FALSE)))","v":""}]
[1777,{"$nulls":9},{"$f":"IF(B1778=\"\",\"\",D1778&\" - \"&F1778&\" - \"&G1778)","v":""},null,{"$f":"IF(OR(ISBLANK(L1778),ISBLANK(H1778)),\"\",H1778+(VLOOKUP(L1778,garantie,2,FALSE)))","v":""}]
[1778,{"$nulls":9},{"$f":"IF(B1779=\"\",\"\",D1779&\" - \"&F1779&\" - \"&G1779)","v":""},null,{"$f":"IF(OR(ISBLANK(L1779),ISBLANK(H1779)),\"\",H1779+(VLOOKUP(L1779,garantie,2,FALSE)))","v":""}]
[1779,{"$nulls":9},{"$f":"IF(B1780=\"\",\"\",D1780&\" - \"&F1780&\" - \"&G1780)","v":""},null,{"$f":"IF(OR(ISBLANK(L1780),ISBLANK(H1780)),\"\",H1780+(VLOOKUP(L1780,garantie,2,FALSE)))","v":""}]
[1780,{"$nulls":9},{"$f":"IF(B1781=\"\",\"\",D1781&\" - \"&F1781&\" - \"&G1781)","v":""},null,{"$f":"IF(OR(ISBLANK(L1781),ISBLANK(H1781)),\"\",H1781+(VLOOKUP(L1781,garantie,2,FALSE)))","v":""}]
[1781,{"$nulls":9},{"$f":"IF(B1782=\"\",\"\",D1782&\" - \"&F1782&\" - \"&G1782)","v":""},null,{"$f":"IF(OR(ISBLANK(L1782),ISBLANK(H1782)),\"\",H1782+(VLOOKUP(L1782,garantie,2,FALSE)))","v":""}]
[1782,{"$nulls":9},{"$f":"IF(B1783=\"\",\"\",D1783&\" - \"&F1783&\" - \"&G1783)","v":""},null,{"$f":"IF(OR(ISBLANK(L1783),ISBLANK(H1783)),\"\",H1783+(VLOOKUP(L1783,garantie,2,FALSE)))","v":""}]
[1783,{"$nulls":9},{"$f":"IF(B1784=\"\",\"\",D1784&\" - \"&F1784&\" - \"&G1784)","v":""},null,{"$f":"IF(OR(ISBLANK(L1784),ISBLANK(H1784)),\"\",H1784+(VLOOKUP(L1784,garantie,2,FALSE)))","v":""}]
[1784,{"$nulls":9},{"$f":"IF(B1785=\"\",\"\",D1785&\" - \"&F1785&\" - \"&G1785)","v":""},null,{"$f":"IF(OR(ISBLANK(L1785),ISBLANK(H1785)),\"\",H1785+(VLOOKUP(L1785,garantie,2,FALSE)))","v":""}]
[1785,{"$nulls":9},{"$f":"IF(B1786=\"\",\"\",D1786&\" - \"&F1786&\" - \"&G1786)","v":""},null,{"$f":"IF(OR(ISBLANK(L1786),ISBLANK(H1786)),\"\",H1786+(VLOOKUP(L1786,garantie,2,FALSE)))","v":""}]
[1786,{"$nulls":9},{"$f":"IF(B1787=\"\",\"\",D1787&\" - \"&F1787&\" - \"&G1787)","v":""},null,{"$f":"IF(OR(ISBLANK(L1787),ISBLANK(H1787)),\"\",H1787+(VLOOKUP(L1787,garantie,2,FALSE)))","v":""}]
[1787,{"$nulls":9},{"$f":"IF(B1788=\"\",\"\",D1788&\" - \"&F1788&\" - \"&G1788)","v":""},null,{"$f":"IF(OR(ISBLANK(L1788),ISBLANK(H1788)),\"\",H1788+(VLOOKUP(L1788,garantie,2,FALSE)))","v":""}]
[1788,{"$nulls":9},{"$f":"IF(B1789=\"\",\"\",D1789&\" - \"&F1789&\" - \"&G1789)","v":""},null,{"$f":"IF(OR(ISBLANK(L1789),ISBLANK(H1789)),\"\",H1789+(VLOOKUP(L1789,garantie,2,FALSE)))","v":""}]
[1789,{"$nulls":9},{"$f":"IF(B1790=\"\",\"\",D1790&\" - \"&F1790&\" - \"&G1790)","v":""},null,{"$f":"IF(OR(ISBLANK(L1790),ISBLANK(H1790)),\"\",H1790+(VLOOKUP(L1790,garantie,2,FALSE)))","v":""}]
[1790,{"$nulls":9},{"$f":"IF(B1791=\"\",\"\",D1791&\" - \"&F1791&\" - \"&G1791)","v":""},null,{"$f":"IF(OR(ISBLANK(L1791),ISBLANK(H1791)),\"\",H1791+(VLOOKUP(L1791,garantie,2,FALSE)))","v":""}]
[1791,{"$nulls":9},{"$f":"IF(B1792=\"\",\"\",D1792&\" - \"&F1792&\" - \"&G1792)","v":""},null,{"$f":"IF(OR(ISBLANK(L1792),ISBLANK(H1792)),\"\",H1792+(VLOOKUP(L1792,garantie,2,FALSE)))","v":""}]
[1792,{"$nulls":9},{"$f":"IF(B1793=\"\",\"\",D1793&\" - \"&F1793&\" - \"&G1793)","v":""},null,{"$f":"IF(OR(ISBLANK(L1793),ISBLANK(H1793)),\"\",H1793+(VLOOKUP(L1793,garantie,2,FALSE)))","v":""}]
[1793,{"$nulls":9},{"$f":"IF(B1794=\"\",\"\",D1794&\" - \"&F1794&\" - \"&G1794)","v":""},null,{"$f":"IF(OR(ISBLANK(L1794),ISBLANK(H1794)),\"\",H1794+(VLOOKUP(L1794,garantie,2,FALSE)))","v":""}]
[1794,{"$nulls":9},{"$f":"IF(B1795=\"\",\"\",D1795&\" - \"&F1795&\" - \"&G1795)","v":""},null,{"$f":"IF(OR(ISBLANK(L1795),ISBLANK(H1795)),\"\",H1795+(VLOOKUP(L1795,garantie,2,FALSE)))","v":""}]
[1795,{"$nulls":9},{"$f":"IF(B1796=\"\",\"\",D1796&\" - \"&F1796&\" - \"&G1796)","v":""},null,{"$f":"IF(OR(ISBLANK(L1796),ISBLANK(H1796)),\"\",H1796+(VLOOKUP(L1796,garantie,2,FALSE)))","v":""}]
[1796,{"$nulls":9},{"$f":"IF(B1797=\"\",\"\",D1797&\" - \"&F1797&\" - \"&G1797)","v":""},null,{"$f":"IF(OR(ISBLANK(L1797),ISBLANK(H1797)),\"\",H1797+(VLOOKUP(L1797,garantie,2,FALSE)))","v":""}]
[1797,{"$nulls":9},{"$f":"IF(B1798=\"\",\"\",D1798&\" - \"&F1798&\" - \"&G1798)","v":""},null,{"$f":"IF(OR(ISBLANK(L1798),ISBLANK(H1798)),\"\",H1798+(VLOOKUP(L1798,garantie,2,FALSE)))","v":""}]
[1798,{"$nulls":9},{"$f":"IF(B1799=\"\",\"\",D1799&\" - \"&F1799&\" - \"&G1799)","v":""},null,{"$f":"IF(OR(ISBLANK(L1799),ISBLANK(H1799)),\"\",H1799+(VLOOKUP(L1799,garantie,2,FALSE)))","v":""}]
[1799,{"$nulls":9},{"$f":"IF(B1800=\"\",\"\",D1800&\" - \"&F1800&\" - \"&G1800)","v":""},null,{"$f":"IF(OR(ISBLANK(L1800),ISBLANK(H1800)),\"\",H1800+(VLOOKUP(L1800,garantie,2,FALSE)))","v":""}]
[1800,{"$nulls":9},{"$f":"IF(B1801=\"\",\"\",D1801&\" - \"&F1801&\" - \"&G1801)","v":""},null,{"$f":"IF(OR(ISBLANK(L1801),ISBLANK(H1801)),\"\",H1801+(VLOOKUP(L1801,garantie,2,FALSE)))","v":""}]
[1801,{"$nulls":9},{"$f":"IF(B1802=\"\",\"\",D1802&\" - \"&F1802&\" - \"&G1802)","v":""},null,{"$f":"IF(OR(ISBLANK(L1802),ISBLANK(H1802)),\"\",H1802+(VLOOKUP(L1802,garantie,2,FALSE)))","v":""}]
[1802,{"$nulls":9},{"$f":"IF(B1803=\"\",\"\",D1803&\" - \"&F1803&\" - \"&G1803)","v":""},null,{"$f":"IF(OR(ISBLANK(L1803),ISBLANK(H1803)),\"\",H1803+(VLOOKUP(L1803,garantie,2,FALSE)))","v":""}]
[1803,{"$nulls":9},{"$f":"IF(B1804=\"\",\"\",D1804&\" - \"&F1804&\" - \"&G1804)","v":""},null,{"$f":"IF(OR(ISBLANK(L1804),ISBLANK(H1804)),\"\",H1804+(VLOOKUP(L1804,garantie,2,FALSE)))","v":""}]
[1804,{"$nulls":9},{"$f":"IF(B1805=\"\",\"\",D1805&\" - \"&F1805&\" - \"&G1805)","v":""},null,{"$f":"IF(OR(ISBLANK(L1805),ISBLANK(H1805)),\"\",H1805+(VLOOKUP(L1805,garantie,2,FALSE)))","v":""}]
[1805,{"$nulls":9},{"$f":"IF(B1806=\"\",\"\",D1806&\" - \"&F1806&\" - \"&G1806)","v":""},null,{"$f":"IF(OR(ISBLANK(L1806),ISBLANK(H1806)),\"\",H1806+(VLOOKUP(L1806,garantie,2,FALSE)))","v":""}]
[1806,{"$nulls":9},{"$f":"IF(B1807=\"\",\"\",D1807&\" - \"&F1807&\" - \"&G1807)","v":""},null,{"$f":"IF(OR(ISBLANK(L1807),ISBLANK(H1807)),\"\",H1807+(VLOOKUP(L1807,garantie,2,FALSE)))","v":""}]
[1807,{"$nulls":9},{"$f":"IF(B1808=\"\",\"\",D1808&\" - \"&F1808&\" - \"&G1808)","v":""},null,{"$f":"IF(OR(ISBLANK(L1808),ISBLANK(H1808)),\"\",H1808+(VLOOKUP(L1808,garantie,2,FALSE)))","v":""}]
[1808,{"$nulls":9},{"$f":"IF(B1809=\"\",\"\",D1809&\" - \"&F1809&\" - \"&G1809)","v":""},null,{"$f":"IF(OR(ISBLANK(L1809),ISBLANK(H1809)),\"\",H1809+(VLOOKUP(L1809,garantie,2,FALSE)))","v":""}]
[1809,{"$nulls":9},{"$f":"IF(B1810=\"\",\"\",D1810&\" - \"&F1810&\" - \"&G1810)","v":""},null,{"$f":"IF(OR(ISBLANK(L1810),ISBLANK(H1810)),\"\",H1810+(VLOOKUP(L1810,garantie,2,FALSE)))","v":""}]
[1810,{"$nulls":9},{"$f":"IF(B1811=\"\",\"\",D1811&\" - \"&F1811&\" - \"&G1811)","v":""},null,{"$f":"IF(OR(ISBLANK(L1811),ISBLANK(H1811)),\"\",H1811+(VLOOKUP(L1811,garantie,2,FALSE)))","v":""}]
[1811,{"$nulls":9},{"$f":"IF(B1812=\"\",\"\",D1812&\" - \"&F1812&\" - \"&G1812)","v":""},null,{"$f":"IF(OR(ISBLANK(L1812),ISBLANK(H1812)),\"\",H1812+(VLOOKUP(L1812,garantie,2,FALSE)))","v":""}]
[1812,{"$nulls":9},{"$f":"IF(B1813=\"\",\"\",D1813&\" - \"&F1813&\" - \"&G1813)","v":""},null,{"$f":"IF(OR(ISBLANK(L1813),ISBLANK(H1813)),\"\",H1813+(VLOOKUP(L1813,garantie,2,FALSE)))","v":""}]
[1813,{"$nulls":9},{"$f":"IF(B1814=\"\",\"\",D1814&\" - \"&F1814&\" - \"&G1814)","v":""},null,{"$f":"IF(OR(ISBLANK(L1814),ISBLANK(H1814)),\"\",H1814+(VLOOKUP(L1814,garantie,2,FALSE)))","v":""}]
[1814,{"$nulls":9},{"$f":"IF(B1815=\"\",\"\",D1815&\" - \"&F1815&\" - \"&G1815)","v":""},null,{"$f":"IF(OR(ISBLANK(L1815),ISBLANK(H1815)),\"\",H1815+(VLOOKUP(L1815,garantie,2,FALSE)))","v":""}]
[1815,{"$nulls":9},{"$f":"IF(B1816=\"\",\"\",D1816&\" - \"&F1816&\" - \"&G1816)","v":""},null,{"$f":"IF(OR(ISBLANK(L1816),ISBLANK(H1816)),\"\",H1816+(VLOOKUP(L1816,garantie,2,FALSE)))","v":""}]
[1816,{"$nulls":9},{"$f":"IF(B1817=\"\",\"\",D1817&\" - \"&F1817&\" - \"&G1817)","v":""},null,{"$f":"IF(OR(ISBLANK(L1817),ISBLANK(H1817)),\"\",H1817+(VLOOKUP(L1817,garantie,2,FALSE)))","v":""}]
[1817,{"$nulls":9},{"$f":"IF(B1818=\"\",\"\",D1818&\" - \"&F1818&\" - \"&G1818)","v":""},null,{"$f":"IF(OR(ISBLANK(L1818),ISBLANK(H1818)),\"\",H1818+(VLOOKUP(L1818,garantie,2,FALSE)))","v":""}]
[1818,{"$nulls":9},{"$f":"IF(B1819=\"\",\"\",D1819&\" - \"&F1819&\" - \"&G1819)","v":""},null,{"$f":"IF(OR(ISBLANK(L1819),ISBLANK(H1819)),\"\",H1819+(VLOOKUP(L1819,garantie,2,FALSE)))","v":""}]
[1819,{"$nulls":9},{"$f":"IF(B1820=\"\",\"\",D1820&\" - \"&F1820&\" - \"&G1820)","v":""},null,{"$f":"IF(OR(ISBLANK(L1820),ISBLANK(H1820)),\"\",H1820+(VLOOKUP(L1820,garantie,2,FALSE)))","v":""}]
[1820,{"$nulls":9},{"$f":"IF(B1821=\"\",\"\",D1821&\" - \"&F1821&\" - \"&G1821)","v":""},null,{"$f":"IF(OR(ISBLANK(L1821),ISBLANK(H1821)),\"\",H1821+(VLOOKUP(L1821,garantie,2,FALSE)))","v":""}]
[1821,{"$nulls":9},{"$f":"IF(B1822=\"\",\"\",D1822&\" - \"&F1822&\" - \"&G1822)","v":""},null,{"$f":"IF(OR(ISBLANK(L1822),ISBLANK(H1822)),\"\",H1822+(VLOOKUP(L1822,garantie,2,FALSE)))","v":""}]
[1822,{"$nulls":9},{"$f":"IF(B1823=\"\",\"\",D1823&\" - \"&F1823&\" - \"&G1823)","v":""},null,{"$f":"IF(OR(ISBLANK(L1823),ISBLANK(H1823)),\"\",H1823+(VLOOKUP(L1823,garantie,2,FALSE)))","v":""}]
[1823,{"$nulls":9},{"$f":"IF(B1824=\"\",\"\",D1824&\" - \"&F1824&\" - \"&G1824)","v":""},null,{"$f":"IF(OR(ISBLANK(L1824),ISBLANK(H1824)),\"\",H1824+(VLOOKUP(L1824,garantie,2,FALSE)))","v":""}]
[1824,{"$nulls":9},{"$f":"IF(B1825=\"\",\"\",D1825&\" - \"&F1825&\" - \"&G1825)","v":""},null,{"$f":"IF(OR(ISBLANK(L1825),ISBLANK(H1825)),\"\",H1825+(VLOOKUP(L1825,garantie,2,FALSE)))","v":""}]
[1825,{"$nulls":9},{"$f":"IF(B1826=\"\",\"\",D1826&\" - \"&F1826&\" - \"&G1826)","v":""},null,{"$f":"IF(OR(ISBLANK(L1826),ISBLANK(H1826)),\"\",H1826+(VLOOKUP(L1826,garantie,2,FALSE)))","v":""}]
[1826,{"$nulls":9},{"$f":"IF(B1827=\"\",\"\",D1827&\" - \"&F1827&\" - \"&G1827)","v":""},null,{"$f":"IF(OR(ISBLANK(L1827),ISBLANK(H1827)),\"\",H1827+(VLOOKUP(L1827,garantie,2,FALSE)))","v":""}]
[1827,{"$nulls":9},{"$f":"IF(B1828=\"\",\"\",D1828&\" - \"&F1828&\" - \"&G1828)","v":""},null,{"$f":"IF(OR(ISBLANK(L1828),ISBLANK(H1828)),\"\",H1828+(VLOOKUP(L1828,garantie,2,FALSE)))","v":""}]
[1828,{"$nulls":9},{"$f":"IF(B1829=\"\",\"\",D1829&\" - \"&F1829&\" - \"&G1829)","v":""},null,{"$f":"IF(OR(ISBLANK(L1829),ISBLANK(H1829)),\"\",H1829+(VLOOKUP(L1829,garantie,2,FALSE)))","v":""}]
[1829,{"$nulls":9},{"$f":"IF(B1830=\"\",\"\",D1830&\" - \"&F1830&\" - \"&G1830)","v":""},null,{"$f":"IF(OR(ISBLANK(L1830),ISBLANK(H1830)),\"\",H1830+(VLOOKUP(L1830,garantie,2,FALSE)))","v":""}]
[1830,{"$nulls":9},{"$f":"IF(B1831=\"\",\"\",D1831&\" - \"&F1831&\" - \"&G1831)","v":""},null,{"$f":"IF(OR(ISBLANK(L1831),ISBLANK(H1831)),\"\",H1831+(VLOOKUP(L1831,garantie,2,FALSE)))","v":""}]
[1831,{"$nulls":9},{"$f":"IF(B1832=\"\",\"\",D1832&\" - \"&F1832&\" - \"&G1832)","v":""},null,{"$f":"IF(OR(ISBLANK(L1832),ISBLANK(H1832)),\"\",H1832+(VLOOKUP(L1832,garantie,2,FALSE)))","v":""}]
[1832,{"$nulls":9},{"$f":"IF(B1833=\"\",\"\",D1833&\" - \"&F1833&\" - \"&G1833)","v":""},null,{"$f":"IF(OR(ISBLANK(L1833),ISBLANK(H1833)),\"\",H1833+(VLOOKUP(L1833,garantie,2,FALSE)))","v":""}]
[1833,{"$nulls":9},{"$f":"IF(B1834=\"\",\"\",D1834&\" - \"&F1834&\" - \"&G1834)","v":""},null,{"$f":"IF(OR(ISBLANK(L1834),ISBLANK(H1834)),\"\",H1834+(VLOOKUP(L1834,garantie,2,FALSE)))","v":""}]
[1834,{"$nulls":9},{"$f":"IF(B1835=\"\",\"\",D1835&\" - \"&F1835&\" - \"&G1835)","v":""},null,{"$f":"IF(OR(ISBLANK(L1835),ISBLANK(H1835)),\"\",H1835+(VLOOKUP(L1835,garantie,2,FALSE)))","v":""}]
[1835,{"$nulls":9},{"$f":"IF(B1836=\"\",\"\",D1836&\" - \"&F1836&\" - \"&G1836)","v":""},null,{"$f":"IF(OR(ISBLANK(L1836),ISBLANK(H1836)),\"\",H1836+(VLOOKUP(L1836,garantie,2,FALSE)))","v":""}]
[1836,{"$nulls":9},{"$f":"IF(B1837=\"\",\"\",D1837&\" - \"&F1837&\" - \"&G1837)","v":""},null,{"$f":"IF(OR(ISBLANK(L1837),ISBLANK(H1837)),\"\",H1837+(VLOOKUP(L1837,garantie,2,FALSE)))","v":""}]
[1837,{"$nulls":9},{"$f":"IF(B1838=\"\",\"\",D1838&\" - \"&F1838&\" - \"&G1838)","v":""},null,{"$f":"IF(OR(ISBLANK(L1838),ISBLANK(H1838)),\"\",H1838+(VLOOKUP(L1838,garantie,2,FALSE)))","v":""}]
[1838,{"$nulls":9},{"$f":"IF(B1839=\"\",\"\",D1839&\" - \"&F1839&\" - \"&G1839)","v":""},null,{"$f":"IF(OR(ISBLANK(L1839),ISBLANK(H1839)),\"\",H1839+(VLOOKUP(L1839,garantie,2,FALSE)))","v":""}]
[1839,{"$nulls":9},{"$f":"IF(B1840=\"\",\"\",D1840&\" - \"&F1840&\" - \"&G1840)","v":""},null,{"$f":"IF(OR(ISBLANK(L1840),ISBLANK(H1840)),\"\",H1840+(VLOOKUP(L1840,garantie,2,FALSE)))","v":""}]
[1840,{"$nulls":9},{"$f":"IF(B1841=\"\",\"\",D1841&\" - \"&F1841&\" - \"&G1841)","v":""},null,{"$f":"IF(OR(ISBLANK(L1841),ISBLANK(H1841)),\"\",H1841+(VLOOKUP(L1841,garantie,2,FALSE)))","v":""}]
[1841,{"$nulls":9},{"$f":"IF(B1842=\"\",\"\",D1842&\" - \"&F1842&\" - \"&G1842)","v":""},null,{"$f":"IF(OR(ISBLANK(L1842),ISBLANK(H1842)),\"\",H1842+(VLOOKUP(L1842,garantie,2,FALSE)))","v":""}]
[1842,{"$nulls":9},{"$f":"IF(B1843=\"\",\"\",D1843&\" - \"&F1843&\" - \"&G1843)","v":""},null,{"$f":"IF(OR(ISBLANK(L1843),ISBLANK(H1843)),\"\",H1843+(VLOOKUP(L1843,garantie,2,FALSE)))","v":""}]
[1843,{"$nulls":9},{"$f":"IF(B1844=\"\",\"\",D1844&\" - \"&F1844&\" - \"&G1844)","v":""},null,{"$f":"IF(OR(ISBLANK(L1844),ISBLANK(H1844)),\"\",H1844+(VLOOKUP(L1844,garantie,2,FALSE)))","v":""}]
[1844,{"$nulls":9},{"$f":"IF(B1845=\"\",\"\",D1845&\" - \"&F1845&\" - \"&G1845)","v":""},null,{"$f":"IF(OR(ISBLANK(L1845),ISBLANK(H1845)),\"\",H1845+(VLOOKUP(L1845,garantie,2,FALSE)))","v":""}]
[1845,{"$nulls":9},{"$f":"IF(B1846=\"\",\"\",D1846&\" - \"&F1846&\" - \"&G1846)","v":""},null,{"$f":"IF(OR(ISBLANK(L1846),ISBLANK(H1846)),\"\",H1846+(VLOOKUP(L1846,garantie,2,FALSE)))","v":""}]
[1846,{"$nulls":9},{"$f":"IF(B1847=\"\",\"\",D1847&\" - \"&F1847&\" - \"&G1847)","v":""},null,{"$f":"IF(OR(ISBLANK(L1847),ISBLANK(H1847)),\"\",H1847+(VLOOKUP(L1847,garantie,2,FALSE)))","v":""}]
[1847,{"$nulls":9},{"$f":"IF(B1848=\"\",\"\",D1848&\" - \"&F1848&\" - \"&G1848)","v":""},null,{"$f":"IF(OR(ISBLANK(L1848),ISBLANK(H1848)),\"\",H1848+(VLOOKUP(L1848,garantie,2,FALSE)))","v":""}]
[1848,{"$nulls":9},{"$f":"IF(B1849=\"\",\"\",D1849&\" - \"&F1849&\" - \"&G1849)","v":""},null,{"$f":"IF(OR(ISBLANK(L1849),ISBLANK(H1849)),\"\",H1849+(VLOOKUP(L1849,garantie,2,FALSE)))","v":""}]
[1849,{"$nulls":9},{"$f":"IF(B1850=\"\",\"\",D1850&\" - \"&F1850&\" - \"&G1850)","v":""},null,{"$f":"IF(OR(ISBLANK(L1850),ISBLANK(H1850)),\"\",H1850+(VLOOKUP(L1850,garantie,2,FALSE)))","v":""}]
[1850,{"$nulls":9},{"$f":"IF(B1851=\"\",\"\",D1851&\" - \"&F1851&\" - \"&G1851)","v":""},null,{"$f":"IF(OR(ISBLANK(L1851),ISBLANK(H1851)),\"\",H1851+(VLOOKUP(L1851,garantie,2,FALSE)))","v":""}]
[1851,{"$nulls":9},{"$f":"IF(B1852=\"\",\"\",D1852&\" - \"&F1852&\" - \"&G1852)","v":""},null,{"$f":"IF(OR(ISBLANK(L1852),ISBLANK(H1852)),\"\",H1852+(VLOOKUP(L1852,garantie,2,FALSE)))","v":""}]
[1852,{"$nulls":9},{"$f":"IF(B1853=\"\",\"\",D1853&\" - \"&F1853&\" - \"&G1853)","v":""},null,{"$f":"IF(OR(ISBLANK(L1853),ISBLANK(H1853)),\"\",H1853+(VLOOKUP(L1853,garantie,2,FALSE)))","v":""}]
[1853,{"$nulls":9},{"$f":"IF(B1854=\"\",\"\",D1854&\" - \"&F1854&\" - \"&G1854)","v":""},null,{"$f":"IF(OR(ISBLANK(L1854),ISBLANK(H1854)),\"\",H1854+(VLOOKUP(L1854,garantie,2,FALSE)))","v":""}]
[1854,{"$nulls":9},{"$f":"IF(B1855=\"\",\"\",D1855&\" - \"&F1855&\" - \"&G1855)","v":""},null,{"$f":"IF(OR(ISBLANK(L1855),ISBLANK(H1855)),\"\",H1855+(VLOOKUP(L1855,garantie,2,FALSE)))","v":""}]
[1855,{"$nulls":9},{"$f":"IF(B1856=\"\",\"\",D1856&\" - \"&F1856&\" - \"&G1856)","v":""},null,{"$f":"IF(OR(ISBLANK(L1856),ISBLANK(H1856)),\"\",H1856+(VLOOKUP(L1856,garantie,2,FALSE)))","v":""}]
[1856,{"$nulls":9},{"$f":"IF(B1857=\"\",\"\",D1857&\" - \"&F1857&\" - \"&G1857)","v":""},null,{"$f":"IF(OR(ISBLANK(L1857),ISBLANK(H1857)),\"\",H1857+(VLOOKUP(L1857,garantie,2,FALSE)))","v":""}]
[1857,{"$nulls":9},{"$f":"IF(B1858=\"\",\"\",D1858&\" - \"&F1858&\" - \"&G1858)","v":""},null,{"$f":"IF(OR(ISBLANK(L1858),ISBLANK(H1858)),\"\",H1858+(VLOOKUP(L1858,garantie,2,FALSE)))","v":""}]
[1858,{"$nulls":9},{"$f":"IF(B1859=\"\",\"\",D1859&\" - \"&F1859&\" - \"&G1859)","v":""},null,{"$f":"IF(OR(ISBLANK(L1859),ISBLANK(H1859)),\"\",H1859+(VLOOKUP(L1859,garantie,2,FALSE)))","v":""}]
[1859,{"$nulls":9},{"$f":"IF(B1860=\"\",\"\",D1860&\" - \"&F1860&\" - \"&G1860)","v":""},null,{"$f":"IF(OR(ISBLANK(L1860),ISBLANK(H1860)),\"\",H1860+(VLOOKUP(L1860,garantie,2,FALSE)))","v":""}]
[1860,{"$nulls":9},{"$f":"IF(B1861=\"\",\"\",D1861&\" - \"&F1861&\" - \"&G1861)","v":""},null,{"$f":"IF(OR(ISBLANK(L1861),ISBLANK(H1861)),\"\",H1861+(VLOOKUP(L1861,garantie,2,FALSE)))","v":""}]
[1861,{"$nulls":9},{"$f":"IF(B1862=\"\",\"\",D1862&\" - \"&F1862&\" - \"&G1862)","v":""},null,{"$f":"IF(OR(ISBLANK(L1862),ISBLANK(H1862)),\"\",H1862+(VLOOKUP(L1862,garantie,2,FALSE)))","v":""}]
[1862,{"$nulls":9},{"$f":"IF(B1863=\"\",\"\",D1863&\" - \"&F1863&\" - \"&G1863)","v":""},null,{"$f":"IF(OR(ISBLANK(L1863),ISBLANK(H1863)),\"\",H1863+(VLOOKUP(L1863,garantie,2,FALSE)))","v":""}]
[1863,{"$nulls":9},{"$f":"IF(B1864=\"\",\"\",D1864&\" - \"&F1864&\" - \"&G1864)","v":""},null,{"$f":"IF(OR(ISBLANK(L1864),ISBLANK(H1864)),\"\",H1864+(VLOOKUP(L1864,garantie,2,FALSE)))","v":""}]
[1864,{"$nulls":9},{"$f":"IF(B1865=\"\",\"\",D1865&\" - \"&F1865&\" - \"&G1865)","v":""},null,{"$f":"IF(OR(ISBLANK(L1865),ISBLANK(H1865)),\"\",H1865+(VLOOKUP(L1865,garantie,2,FALSE)))","v":""}]
[1865,{"$nulls":9},{"$f":"IF(B1866=\"\",\"\",D1866&\" - \"&F1866&\" - \"&G1866)","v":""},null,{"$f":"IF(OR(ISBLANK(L1866),ISBLANK(H1866)),\"\",H1866+(VLOOKUP(L1866,garantie,2,FALSE)))","v":""}]
[1866,{"$nulls":9},{"$f":"IF(B1867=\"\",\"\",D1867&\" - \"&F1867&\" - \"&G1867)","v":""},null,{"$f":"IF(OR(ISBLANK(L1867),ISBLANK(H1867)),\"\",H1867+(VLOOKUP(L1867,garantie,2,FALSE)))","v":""}]
[1867,{"$nulls":9},{"$f":"IF(B1868=\"\",\"\",D1868&\" - \"&F1868&\" - \"&G1868)","v":""},null,{"$f":"IF(OR(ISBLANK(L1868),ISBLANK(H1868)),\"\",H1868+(VLOOKUP(L1868,garantie,2,FALSE)))","v":""}]
[1868,{"$nulls":9},{"$f":"IF(B1869=\"\",\"\",D1869&\" - \"&F1869&\" - \"&G1869)","v":""},null,{"$f":"IF(OR(ISBLANK(L1869),ISBLANK(H1869)),\"\",H1869+(VLOOKUP(L1869,garantie,2,FALSE)))","v":""}]
[1869,{"$nulls":9},{"$f":"IF(B1870=\"\",\"\",D1870&\" - \"&F1870&\" - \"&G1870)","v":""},null,{"$f":"IF(OR(ISBLANK(L1870),ISBLANK(H1870)),\"\",H1870+(VLOOKUP(L1870,garantie,2,FALSE)))","v":""}]
[1870,{"$nulls":9},{"$f":"IF(B1871=\"\",\"\",D1871&\" - \"&F1871&\" - \"&G1871)","v":""},null,{"$f":"IF(OR(ISBLANK(L1871),ISBLANK(H1871)),\"\",H1871+(VLOOKUP(L1871,garantie,2,FALSE)))","v":""}]
[1871,{"$nulls":9},{"$f":"IF(B1872=\"\",\"\",D1872&\" - \"&F1872&\" - \"&G1872)","v":""},null,{"$f":"IF(OR(ISBLANK(L1872),ISBLANK(H1872)),\"\",H1872+(VLOOKUP(L1872,garantie,2,FALSE)))","v":""}]
[1872,{"$nulls":9},{"$f":"IF(B1873=\"\",\"\",D1873&\" - \"&F1873&\" - \"&G1873)","v":""},null,{"$f":"IF(OR(ISBLANK(L1873),ISBLANK(H1873)),\"\",H1873+(VLOOKUP(L1873,garantie,2,FALSE)))","v":""}]
[1873,{"$nulls":9},{"$f":"IF(B1874=\"\",\"\",D1874&\" - \"&F1874&\" - \"&G1874)","v":""},null,{"$f":"IF(OR(ISBLANK(L1874),ISBLANK(H1874)),\"\",H1874+(VLOOKUP(L1874,garantie,2,FALSE)))","v":""}]
[1874,{"$nulls":9},{"$f":"IF(B1875=\"\",\"\",D1875&\" - \"&F1875&\" - \"&G1875)","v":""},null,{"$f":"IF(OR(ISBLANK(L1875),ISBLANK(H1875)),\"\",H1875+(VLOOKUP(L1875,garantie,2,FALSE)))","v":""}]
[1875,{"$nulls":9},{"$f":"IF(B1876=\"\",\"\",D1876&\" - \"&F1876&\" - \"&G1876)","v":""},null,{"$f":"IF(OR(ISBLANK(L1876),ISBLANK(H1876)),\"\",H1876+(VLOOKUP(L1876,garantie,2,FALSE)))","v":""}]
[1876,{"$nulls":9},{"$f":"IF(B1877=\"\",\"\",D1877&\" - \"&F1877&\" - \"&G1877)","v":""},null,{"$f":"IF(OR(ISBLANK(L1877),ISBLANK(H1877)),\"\",H1877+(VLOOKUP(L1877,garantie,2,FALSE)))","v":""}]
[1877,{"$nulls":9},{"$f":"IF(B1878=\"\",\"\",D1878&\" - \"&F1878&\" - \"&G1878)","v":""},null,{"$f":"IF(OR(ISBLANK(L1878),ISBLANK(H1878)),\"\",H1878+(VLOOKUP(L1878,garantie,2,FALSE)))","v":""}]
[1878,{"$nulls":9},{"$f":"IF(B1879=\"\",\"\",D1879&\" - \"&F1879&\" - \"&G1879)","v":""},null,{"$f":"IF(OR(ISBLANK(L1879),ISBLANK(H1879)),\"\",H1879+(VLOOKUP(L1879,garantie,2,FALSE)))","v":""}]
[1879,{"$nulls":9},{"$f":"IF(B1880=\"\",\"\",D1880&\" - \"&F1880&\" - \"&G1880)","v":""},null,{"$f":"IF(OR(ISBLANK(L1880),ISBLANK(H1880)),\"\",H1880+(VLOOKUP(L1880,garantie,2,FALSE)))","v":""}]
[1880,{"$nulls":9},{"$f":"IF(B1881=\"\",\"\",D1881&\" - \"&F1881&\" - \"&G1881)","v":""},null,{"$f":"IF(OR(ISBLANK(L1881),ISBLANK(H1881)),\"\",H1881+(VLOOKUP(L1881,garantie,2,FALSE)))","v":""}]
[1881,{"$nulls":9},{"$f":"IF(B1882=\"\",\"\",D1882&\" - \"&F1882&\" - \"&G1882)","v":""},null,{"$f":"IF(OR(ISBLANK(L1882),ISBLANK(H1882)),\"\",H1882+(VLOOKUP(L1882,garantie,2,FALSE)))","v":""}]
[1882,{"$nulls":9},{"$f":"IF(B1883=\"\",\"\",D1883&\" - \"&F1883&\" - \"&G1883)","v":""},null,{"$f":"IF(OR(ISBLANK(L1883),ISBLANK(H1883)),\"\",H1883+(VLOOKUP(L1883,garantie,2,FALSE)))","v":""}]
[1883,{"$nulls":9},{"$f":"IF(B1884=\"\",\"\",D1884&\" - \"&F1884&\" - \"&G1884)","v":""},null,{"$f":"IF(OR(ISBLANK(L1884),ISBLANK(H1884)),\"\",H1884+(VLOOKUP(L1884,garantie,2,FALSE)))","v":""}]
[1884,{"$nulls":9},{"$f":"IF(B1885=\"\",\"\",D1885&\" - \"&F1885&\" - \"&G1885)","v":""},null,{"$f":"IF(OR(ISBLANK(L1885),ISBLANK(H1885)),\"\",H1885+(VLOOKUP(L1885,garantie,2,FALSE)))","v":""}]
[1885,{"$nulls":9},{"$f":"IF(B1886=\"\",\"\",D1886&\" - \"&F1886&\" - \"&G1886)","v":""},null,{"$f":"IF(OR(ISBLANK(L1886),ISBLANK(H1886)),\"\",H1886+(VLOOKUP(L1886,garantie,2,FALSE)))","v":""}]
[1886,{"$nulls":9},{"$f":"IF(B1887=\"\",\"\",D1887&\" - \"&F1887&\" - \"&G1887)","v":""},null,{"$f":"IF(OR(ISBLANK(L1887),ISBLANK(H1887)),\"\",H1887+(VLOOKUP(L1887,garantie,2,FALSE)))","v":""}]
[1887,{"$nulls":9},{"$f":"IF(B1888=\"\",\"\",D1888&\" - \"&F1888&\" - \"&G1888)","v":""},null,{"$f":"IF(OR(ISBLANK(L1888),ISBLANK(H1888)),\"\",H1888+(VLOOKUP(L1888,garantie,2,FALSE)))","v":""}]
[1888,{"$nulls":9},{"$f":"IF(B1889=\"\",\"\",D1889&\" - \"&F1889&\" - \"&G1889)","v":""},null,{"$f":"IF(OR(ISBLANK(L1889),ISBLANK(H1889)),\"\",H1889+(VLOOKUP(L1889,garantie,2,FALSE)))","v":""}]
[1889,{"$nulls":9},{"$f":"IF(B1890=\"\",\"\",D1890&\" - \"&F1890&\" - \"&G1890)","v":""},null,{"$f":"IF(OR(ISBLANK(L1890),ISBLANK(H1890)),\"\",H1890+(VLOOKUP(L1890,garantie,2,FALSE)))","v":""}]
[1890,{"$nulls":9},{"$f":"IF(B1891=\"\",\"\",D1891&\" - \"&F1891&\" - \"&G1891)","v":""},null,{"$f":"IF(OR(ISBLANK(L1891),ISBLANK(H1891)),\"\",H1891+(VLOOKUP(L1891,garantie,2,FALSE)))","v":""}]
[1891,{"$nulls":9},{"$f":"IF(B1892=\"\",\"\",D1892&\" - \"&F1892&\" - \"&G1892)","v":""},null,{"$f":"IF(OR(ISBLANK(L1892),ISBLANK(H1892)),\"\",H1892+(VLOOKUP(L1892,garantie,2,FALSE)))","v":""}]
[1892,{"$nulls":9},{"$f":"IF(B1893=\"\",\"\",D1893&\" - \"&F1893&\" - \"&G1893)","v":""},null,{"$f":"IF(OR(ISBLANK(L1893),ISBLANK(H1893)),\"\",H1893+(VLOOKUP(L1893,garantie,2,FALSE)))","v":""}]
[1893,{"$nulls":9},{"$f":"IF(B1894=\"\",\"\",D1894&\" - \"&F1894&\" - \"&G1894)","v":""},null,{"$f":"IF(OR(ISBLANK(L1894),ISBLANK(H1894)),\"\",H1894+(VLOOKUP(L1894,garantie,2,FALSE)))","v":""}]
[1894,{"$nulls":9},{"$f":"IF(B1895=\"\",\"\",D1895&\" - \"&F1895&\" - \"&G1895)","v":""},null,{"$f":"IF(OR(ISBLANK(L1895),ISBLANK(H1895)),\"\",H1895+(VLOOKUP(L1895,garantie,2,FALSE)))","v":""}]
[1895,{"$nulls":9},{"$f":"IF(B1896=\"\",\"\",D1896&\" - \"&F1896&\" - \"&G1896)","v":""},null,{"$f":"IF(OR(ISBLANK(L1896),ISBLANK(H1896)),\"\",H1896+(VLOOKUP(L1896,garantie,2,FALSE)))","v":""}]
[1896,{"$nulls":9},{"$f":"IF(B1897=\"\",\"\",D1897&\" - \"&F1897&\" - \"&G1897)","v":""},null,{"$f":"IF(OR(ISBLANK(L1897),ISBLANK(H1897)),\"\",H1897+(VLOOKUP(L1897,garantie,2,FALSE)))","v":""}]
[1897,{"$nulls":9},{"$f":"IF(B1898=\"\",\"\",D1898&\" - \"&F1898&\" - \"&G1898)","v":""},null,{"$f":"IF(OR(ISBLANK(L1898),ISBLANK(H1898)),\"\",H1898+(VLOOKUP(L1898,garantie,2,FALSE)))","v":""}]
[1898,{"$nulls":9},{"$f":"IF(B1899=\"\",\"\",D1899&\" - \"&F1899&\" - \"&G1899)","v":""},null,{"$f":"IF(OR(ISBLANK(L1899),ISBLANK(H1899)),\"\",H1899+(VLOOKUP(L1899,garantie,2,FALSE)))","v":""}]
[1899,{"$nulls":9},{"$f":"IF(B1900=\"\",\"\",D1900&\" - \"&F1900&\" - \"&G1900)","v":""},null,{"$f":"IF(OR(ISBLANK(L1900),ISBLANK(H1900)),\"\",H1900+(VLOOKUP(L1900,garantie,2,FALSE)))","v":""}]
[1900,{"$nulls":9},{"$f":"IF(B1901=\"\",\"\",D1901&\" - \"&F1901&\" - \"&G1901)","v":""},null,{"$f":"IF(OR(ISBLANK(L1901),ISBLANK(H1901)),\"\",H1901+(VLOOKUP(L1901,garantie,2,FALSE)))","v":""}]
[1901,{"$nulls":9},{"$f":"IF(B1902=\"\",\"\",D1902&\" - \"&F1902&\" - \"&G1902)","v":""},null,{"$f":"IF(OR(ISBLANK(L1902),ISBLANK(H1902)),\"\",H1902+(VLOOKUP(L1902,garantie,2,FALSE)))","v":""}]
[1902,{"$nulls":9},{"$f":"IF(B1903=\"\",\"\",D1903&\" - \"&F1903&\" - \"&G1903)","v":""},null,{"$f":"IF(OR(ISBLANK(L1903),ISBLANK(H1903)),\"\",H1903+(VLOOKUP(L1903,garantie,2,FALSE)))","v":""}]
[1903,{"$nulls":9},{"$f":"IF(B1904=\"\",\"\",D1904&\" - \"&F1904&\" - \"&G1904)","v":""},null,{"$f":"IF(OR(ISBLANK(L1904),ISBLANK(H1904)),\"\",H1904+(VLOOKUP(L1904,garantie,2,FALSE)))","v":""}]
[1904,{"$nulls":9},{"$f":"IF(B1905=\"\",\"\",D1905&\" - \"&F1905&\" - \"&G1905)","v":""},null,{"$f":"IF(OR(ISBLANK(L1905),ISBLANK(H1905)),\"\",H1905+(VLOOKUP(L1905,garantie,2,FALSE)))","v":""}]
[1905,{"$nulls":9},{"$f":"IF(B1906=\"\",\"\",D1906&\" - \"&F1906&\" - \"&G1906)","v":""},null,{"$f":"IF(OR(ISBLANK(L1906),ISBLANK(H1906)),\"\",H1906+(VLOOKUP(L1906,garantie,2,FALSE)))","v":""}]
[1906,{"$nulls":9},{"$f":"IF(B1907=\"\",\"\",D1907&\" - \"&F1907&\" - \"&G1907)","v":""},null,{"$f":"IF(OR(ISBLANK(L1907),ISBLANK(H1907)),\"\",H1907+(VLOOKUP(L1907,garantie,2,FALSE)))","v":""}]
[1907,{"$nulls":9},{"$f":"IF(B1908=\"\",\"\",D1908&\" - \"&F1908&\" - \"&G1908)","v":""},null,{"$f":"IF(OR(ISBLANK(L1908),ISBLANK(H1908)),\"\",H1908+(VLOOKUP(L1908,garantie,2,FALSE)))","v":""}]
[1908,{"$nulls":9},{"$f":"IF(B1909=\"\",\"\",D1909&\" - \"&F1909&\" - \"&G1909)","v":""},null,{"$f":"IF(OR(ISBLANK(L1909),ISBLANK(H1909)),\"\",H1909+(VLOOKUP(L1909,garantie,2,FALSE)))","v":""}]
[1909,{"$nulls":9},{"$f":"IF(B1910=\"\",\"\",D1910&\" - \"&F1910&\" - \"&G1910)","v":""},null,{"$f":"IF(OR(ISBLANK(L1910),ISBLANK(H1910)),\"\",H1910+(VLOOKUP(L1910,garantie,2,FALSE)))","v":""}]
[1910,{"$nulls":9},{"$f":"IF(B1911=\"\",\"\",D1911&\" - \"&F1911&\" - \"&G1911)","v":""},null,{"$f":"IF(OR(ISBLANK(L1911),ISBLANK(H1911)),\"\",H1911+(VLOOKUP(L1911,garantie,2,FALSE)))","v":""}]
[1911,{"$nulls":9},{"$f":"IF(B1912=\"\",\"\",D1912&\" - \"&F1912&\" - \"&G1912)","v":""},null,{"$f":"IF(OR(ISBLANK(L1912),ISBLANK(H1912)),\"\",H1912+(VLOOKUP(L1912,garantie,2,FALSE)))","v":""}]
[1912,{"$nulls":9},{"$f":"IF(B1913=\"\",\"\",D1913&\" - \"&F1913&\" - \"&G1913)","v":""},null,{"$f":"IF(OR(ISBLANK(L1913),ISBLANK(H1913)),\"\",H1913+(VLOOKUP(L1913,garantie,2,FALSE)))","v":""}]
[1913,{"$nulls":9},{"$f":"IF(B1914=\"\",\"\",D1914&\" - \"&F1914&\" - \"&G1914)","v":""},null,{"$f":"IF(OR(ISBLANK(L1914),ISBLANK(H1914)),\"\",H1914+(VLOOKUP(L1914,garantie,2,FALSE)))","v":""}]
[1914,{"$nulls":9},{"$f":"IF(B1915=\"\",\"\",D1915&\" - \"&F1915&\" - \"&G1915)","v":""},null,{"$f":"IF(OR(ISBLANK(L1915),ISBLANK(H1915)),\"\",H1915+(VLOOKUP(L1915,garantie,2,FALSE)))","v":""}]
[1915,{"$nulls":9},{"$f":"IF(B1916=\"\",\"\",D1916&\" - \"&F1916&\" - \"&G1916)","v":""},null,{"$f":"IF(OR(ISBLANK(L1916),ISBLANK(H1916)),\"\",H1916+(VLOOKUP(L1916,garantie,2,FALSE)))","v":""}]
[1916,{"$nulls":9},{"$f":"IF(B1917=\"\",\"\",D1917&\" - \"&F1917&\" - \"&G1917)","v":""},null,{"$f":"IF(OR(ISBLANK(L1917),ISBLANK(H1917)),\"\",H1917+(VLOOKUP(L1917,garantie,2,FALSE)))","v":""}]
[1917,{"$nulls":9},{"$f":"IF(B1918=\"\",\"\",D1918&\" - \"&F1918&\" - \"&G1918)","v":""},null,{"$f":"IF(OR(ISBLANK(L1918),ISBLANK(H1918)),\"\",H1918+(VLOOKUP(L1918,garantie,2,FALSE)))","v":""}]
[1918,{"$nulls":9},{"$f":"IF(B1919=\"\",\"\",D1919&\" - \"&F1919&\" - \"&G1919)","v":""},null,{"$f":"IF(OR(ISBLANK(L1919),ISBLANK(H1919)),\"\",H1919+(VLOOKUP(L1919,garantie,2,FALSE)))","v":""}]
[1919,{"$nulls":9},{"$f":"IF(B1920=\"\",\"\",D1920&\" - \"&F1920&\" - \"&G1920)","v":""},null,{"$f":"IF(OR(ISBLANK(L1920),ISBLANK(H1920)),\"\",H1920+(VLOOKUP(L1920,garantie,2,FALSE)))","v":""}]
[1920,{"$nulls":9},{"$f":"IF(B1921=\"\",\"\",D1921&\" - \"&F1921&\" - \"&G1921)","v":""},null,{"$f":"IF(OR(ISBLANK(L1921),ISBLANK(H1921)),\"\",H1921+(VLOOKUP(L1921,garantie,2,FALSE)))","v":""}]
[1921,{"$nulls":9},{"$f":"IF(B1922=\"\",\"\",D1922&\" - \"&F1922&\" - \"&G1922)","v":""},null,{"$f":"IF(OR(ISBLANK(L1922),ISBLANK(H1922)),\"\",H1922+(VLOOKUP(L1922,garantie,2,FALSE)))","v":""}]
[1922,{"$nulls":9},{"$f":"IF(B1923=\"\",\"\",D1923&\" - \"&F1923&\" - \"&G1923)","v":""},null,{"$f":"IF(OR(ISBLANK(L1923),ISBLANK(H1923)),\"\",H1923+(VLOOKUP(L1923,garantie,2,FALSE)))","v":""}]
[1923,{"$nulls":9},{"$f":"IF(B1924=\"\",\"\",D1924&\" - \"&F1924&\" - \"&G1924)","v":""},null,{"$f":"IF(OR(ISBLANK(L1924),ISBLANK(H1924)),\"\",H1924+(VLOOKUP(L1924,garantie,2,FALSE)))","v":""}]
[1924,{"$nulls":9},{"$f":"IF(B1925=\"\",\"\",D1925&\" - \"&F1925&\" - \"&G1925)","v":""},null,{"$f":"IF(OR(ISBLANK(L1925),ISBLANK(H1925)),\"\",H1925+(VLOOKUP(L1925,garantie,2,FALSE)))","v":""}]
[1925,{"$nulls":9},{"$f":"IF(B1926=\"\",\"\",D1926&\" - \"&F1926&\" - \"&G1926)","v":""},null,{"$f":"IF(OR(ISBLANK(L1926),ISBLANK(H1926)),\"\",H1926+(VLOOKUP(L1926,garantie,2,FALSE)))","v":""}]
[1926,{"$nulls":9},{"$f":"IF(B1927=\"\",\"\",D1927&\" - \"&F1927&\" - \"&G1927)","v":""},null,{"$f":"IF(OR(ISBLANK(L1927),ISBLANK(H1927)),\"\",H1927+(VLOOKUP(L1927,garantie,2,FALSE)))","v":""}]
[1927,{"$nulls":9},{"$f":"IF(B1928=\"\",\"\",D1928&\" - \"&F1928&\" - \"&G1928)","v":""},null,{"$f":"IF(OR(ISBLANK(L1928),ISBLANK(H1928)),\"\",H1928+(VLOOKUP(L1928,garantie,2,FALSE)))","v":""}]
[1928,{"$nulls":9},{"$f":"IF(B1929=\"\",\"\",D1929&\" - \"&F1929&\" - \"&G1929)","v":""},null,{"$f":"IF(OR(ISBLANK(L1929),ISBLANK(H1929)),\"\",H1929+(VLOOKUP(L1929,garantie,2,FALSE)))","v":""}]
[1929,{"$nulls":9},{"$f":"IF(B1930=\"\",\"\",D1930&\" - \"&F1930&\" - \"&G1930)","v":""},null,{"$f":"IF(OR(ISBLANK(L1930),ISBLANK(H1930)),\"\",H1930+(VLOOKUP(L1930,garantie,2,FALSE)))","v":""}]
[1930,{"$nulls":9},{"$f":"IF(B1931=\"\",\"\",D1931&\" - \"&F1931&\" - \"&G1931)","v":""},null,{"$f":"IF(OR(ISBLANK(L1931),ISBLANK(H1931)),\"\",H1931+(VLOOKUP(L1931,garantie,2,FALSE)))","v":""}]
[1931,{"$nulls":9},{"$f":"IF(B1932=\"\",\"\",D1932&\" - \"&F1932&\" - \"&G1932)","v":""},null,{"$f":"IF(OR(ISBLANK(L1932),ISBLANK(H1932)),\"\",H1932+(VLOOKUP(L1932,garantie,2,FALSE)))","v":""}]
[1932,{"$nulls":9},{"$f":"IF(B1933=\"\",\"\",D1933&\" - \"&F1933&\" - \"&G1933)","v":""},null,{"$f":"IF(OR(ISBLANK(L1933),ISBLANK(H1933)),\"\",H1933+(VLOOKUP(L1933,garantie,2,FALSE)))","v":""}]
[1933,{"$nulls":9},{"$f":"IF(B1934=\"\",\"\",D1934&\" - \"&F1934&\" - \"&G1934)","v":""},null,{"$f":"IF(OR(ISBLANK(L1934),ISBLANK(H1934)),\"\",H1934+(VLOOKUP(L1934,garantie,2,FALSE)))","v":""}]
[1934,{"$nulls":9},{"$f":"IF(B1935=\"\",\"\",D1935&\" - \"&F1935&\" - \"&G1935)","v":""},null,{"$f":"IF(OR(ISBLANK(L1935),ISBLANK(H1935)),\"\",H1935+(VLOOKUP(L1935,garantie,2,FALSE)))","v":""}]
[1935,{"$nulls":9},{"$f":"IF(B1936=\"\",\"\",D1936&\" - \"&F1936&\" - \"&G1936)","v":""},null,{"$f":"IF(OR(ISBLANK(L1936),ISBLANK(H1936)),\"\",H1936+(VLOOKUP(L1936,garantie,2,FALSE)))","v":""}]
[1936,{"$nulls":9},{"$f":"IF(B1937=\"\",\"\",D1937&\" - \"&F1937&\" - \"&G1937)","v":""},null,{"$f":"IF(OR(ISBLANK(L1937),ISBLANK(H1937)),\"\",H1937+(VLOOKUP(L1937,garantie,2,FALSE)))","v":""}]
[1937,{"$nulls":9},{"$f":"IF(B1938=\"\",\"\",D1938&\" - \"&F1938&\" - \"&G1938)","v":""},null,{"$f":"IF(OR(ISBLANK(L1938),ISBLANK(H1938)),\"\",H1938+(VLOOKUP(L1938,garantie,2,FALSE)))","v":""}]
[1938,{"$nulls":9},{"$f":"IF(B1939=\"\",\"\",D1939&\" - \"&F1939&\" - \"&G1939)","v":""},null,{"$f":"IF(OR(ISBLANK(L1939),ISBLANK(H1939)),\"\",H1939+(VLOOKUP(L1939,garantie,2,FALSE)))","v":""}]
[1939,{"$nulls":9},{"$f":"IF(B1940=\"\",\"\",D1940&\" - \"&F1940&\" - \"&G1940)","v":""},null,{"$f":"IF(OR(ISBLANK(L1940),ISBLANK(H1940)),\"\",H1940+(VLOOKUP(L1940,garantie,2,FALSE)))","v":""}]
[1940,{"$nulls":9},{"$f":"IF(B1941=\"\",\"\",D1941&\" - \"&F1941&\" - \"&G1941)","v":""},null,{"$f":"IF(OR(ISBLANK(L1941),ISBLANK(H1941)),\"\",H1941+(VLOOKUP(L1941,garantie,2,FALSE)))","v":""}]
[1941,{"$nulls":9},{"$f":"IF(B1942=\"\",\"\",D1942&\" - \"&F1942&\" - \"&G1942)","v":""},null,{"$f":"IF(OR(ISBLANK(L1942),ISBLANK(H1942)),\"\",H1942+(VLOOKUP(L1942,garantie,2,FALSE)))","v":""}]
[1942,{"$nulls":9},{"$f":"IF(B1943=\"\",\"\",D1943&\" - \"&F1943&\" - \"&G1943)","v":""},null,{"$f":"IF(OR(ISBLANK(L1943),ISBLANK(H1943)),\"\",H1943+(VLOOKUP(L1943,garantie,2,FALSE)))","v":""}]
[1943,{"$nulls":9},{"$f":"IF(B1944=\"\",\"\",D1944&\" - \"&F1944&\" - \"&G1944)","v":""},null,{"$f":"IF(OR(ISBLANK(L1944),ISBLANK(H1944)),\"\",H1944+(VLOOKUP(L1944,garantie,2,FALSE)))","v":""}]
[1944,{"$nulls":9},{"$f":"IF(B1945=\"\",\"\",D1945&\" - \"&F1945&\" - \"&G1945)","v":""},null,{"$f":"IF(OR(ISBLANK(L1945),ISBLANK(H1945)),\"\",H1945+(VLOOKUP(L1945,garantie,2,FALSE)))","v":""}]
[1945,{"$nulls":9},{"$f":"IF(B1946=\"\",\"\",D1946&\" - \"&F1946&\" - \"&G1946)","v":""},null,{"$f":"IF(OR(ISBLANK(L1946),ISBLANK(H1946)),\"\",H1946+(VLOOKUP(L1946,garantie,2,FALSE)))","v":""}]
[1946,{"$nulls":9},{"$f":"IF(B1947=\"\",\"\",D1947&\" - \"&F1947&\" - \"&G1947)","v":""},null,{"$f":"IF(OR(ISBLANK(L1947),ISBLANK(H1947)),\"\",H1947+(VLOOKUP(L1947,garantie,2,FALSE)))","v":""}]
[1947,{"$nulls":9},{"$f":"IF(B1948=\"\",\"\",D1948&\" - \"&F1948&\" - \"&G1948)","v":""},null,{"$f":"IF(OR(ISBLANK(L1948),ISBLANK(H1948)),\"\",H1948+(VLOOKUP(L1948,garantie,2,FALSE)))","v":""}]
[1948,{"$nulls":9},{"$f":"IF(B1949=\"\",\"\",D1949&\" - \"&F1949&\" - \"&G1949)","v":""},null,{"$f":"IF(OR(ISBLANK(L1949),ISBLANK(H1949)),\"\",H1949+(VLOOKUP(L1949,garantie,2,FALSE)))","v":""}]
[1949,{"$nulls":9},{"$f":"IF(B1950=\"\",\"\",D1950&\" - \"&F1950&\" - \"&G1950)","v":""},null,{"$f":"IF(OR(ISBLANK(L1950),ISBLANK(H1950)),\"\",H1950+(VLOOKUP(L1950,garantie,2,FALSE)))","v":""}]
[1950,{"$nulls":9},{"$f":"IF(B1951=\"\",\"\",D1951&\" - \"&F1951&\" - \"&G1951)","v":""},null,{"$f":"IF(OR(ISBLANK(L1951),ISBLANK(H1951)),\"\",H1951+(VLOOKUP(L1951,garantie,2,FALSE)))","v":""}]
[1951,{"$nulls":9},{"$f":"IF(B1952=\"\",\"\",D1952&\" - \"&F1952&\" - \"&G1952)","v":""},null,{"$f":"IF(OR(ISBLANK(L1952),ISBLANK(H1952)),\"\",H1952+(VLOOKUP(L1952,garantie,2,FALSE)))","v":""}]
[1952,{"$nulls":9},{"$f":"IF(B1953=\"\",\"\",D1953&\" - \"&F1953&\" - \"&G1953)","v":""},null,{"$f":"IF(OR(ISBLANK(L1953),ISBLANK(H1953)),\"\",H1953+(VLOOKUP(L1953,garantie,2,FALSE)))","v":""}]
[1953,{"$nulls":9},{"$f":"IF(B1954=\"\",\"\",D1954&\" - \"&F1954&\" - \"&G1954)","v":""},null,{"$f":"IF(OR(ISBLANK(L1954),ISBLANK(H1954)),\"\",H1954+(VLOOKUP(L1954,garantie,2,FALSE)))","v":""}]
[1954,{"$nulls":9},{"$f":"IF(B1955=\"\",\"\",D1955&\" - \"&F1955&\" - \"&G1955)","v":""},null,{"$f":"IF(OR(ISBLANK(L1955),ISBLANK(H1955)),\"\",H1955+(VLOOKUP(L1955,garantie,2,FALSE)))","v":""}]
[1955,{"$nulls":9},{"$f":"IF(B1956=\"\",\"\",D1956&\" - \"&F1956&\" - \"&G1956)","v":""},null,{"$f":"IF(OR(ISBLANK(L1956),ISBLANK(H1956)),\"\",H1956+(VLOOKUP(L1956,garantie,2,FALSE)))","v":""}]
[1956,{"$nulls":9},{"$f":"IF(B1957=\"\",\"\",D1957&\" - \"&F1957&\" - \"&G1957)","v":""},null,{"$f":"IF(OR(ISBLANK(L1957),ISBLANK(H1957)),\"\",H1957+(VLOOKUP(L1957,garantie,2,FALSE)))","v":""}]
[1957,{"$nulls":9},{"$f":"IF(B1958=\"\",\"\",D1958&\" - \"&F1958&\" - \"&G1958)","v":""},null,{"$f":"IF(OR(ISBLANK(L1958),ISBLANK(H1958)),\"\",H1958+(VLOOKUP(L1958,garantie,2,FALSE)))","v":""}]
[1958,{"$nulls":9},{"$f":"IF(B1959=\"\",\"\",D1959&\" - \"&F1959&\" - \"&G1959)","v":""},null,{"$f":"IF(OR(ISBLANK(L1959),ISBLANK(H1959)),\"\",H1959+(VLOOKUP(L1959,garantie,2,FALSE)))","v":""}]
[1959,{"$nulls":9},{"$f":"IF(B1960=\"\",\"\",D1960&\" - \"&F1960&\" - \"&G1960)","v":""},null,{"$f":"IF(OR(ISBLANK(L1960),ISBLANK(H1960)),\"\",H1960+(VLOOKUP(L1960,garantie,2,FALSE)))","v":""}]
[1960,{"$nulls":9},{"$f":"IF(B1961=\"\",\"\",D1961&\" - \"&F1961&\" - \"&G1961)","v":""},null,{"$f":"IF(OR(ISBLANK(L1961),ISBLANK(H1961)),\"\",H1961+(VLOOKUP(L1961,garantie,2,FALSE)))","v":""}]
[1961,{"$nulls":9},{"$f":"IF(B1962=\"\",\"\",D1962&\" - \"&F1962&\" - \"&G1962)","v":""},null,{"$f":"IF(OR(ISBLANK(L1962),ISBLANK(H1962)),\"\",H1962+(VLOOKUP(L1962,garantie,2,FALSE)))","v":""}]
[1962,{"$nulls":9},{"$f":"IF(B1963=\"\",\"\",D1963&\" - \"&F1963&\" - \"&G1963)","v":""},null,{"$f":"IF(OR(ISBLANK(L1963),ISBLANK(H1963)),\"\",H1963+(VLOOKUP(L1963,garantie,2,FALSE)))","v":""}]
[1963,{"$nulls":9},{"$f":"IF(B1964=\"\",\"\",D1964&\" - \"&F1964&\" - \"&G1964)","v":""},null,{"$f":"IF(OR(ISBLANK(L1964),ISBLANK(H1964)),\"\",H1964+(VLOOKUP(L1964,garantie,2,FALSE)))","v":""}]
[1964,{"$nulls":9},{"$f":"IF(B1965=\"\",\"\",D1965&\" - \"&F1965&\" - \"&G1965)","v":""},null,{"$f":"IF(OR(ISBLANK(L1965),ISBLANK(H1965)),\"\",H1965+(VLOOKUP(L1965,garantie,2,FALSE)))","v":""}]
[1965,{"$nulls":9},{"$f":"IF(B1966=\"\",\"\",D1966&\" - \"&F1966&\" - \"&G1966)","v":""},null,{"$f":"IF(OR(ISBLANK(L1966),ISBLANK(H1966)),\"\",H1966+(VLOOKUP(L1966,garantie,2,FALSE)))","v":""}]
[1966,{"$nulls":9},{"$f":"IF(B1967=\"\",\"\",D1967&\" - \"&F1967&\" - \"&G1967)","v":""},null,{"$f":"IF(OR(ISBLANK(L1967),ISBLANK(H1967)),\"\",H1967+(VLOOKUP(L1967,garantie,2,FALSE)))","v":""}]
[1967,{"$nulls":9},{"$f":"IF(B1968=\"\",\"\",D1968&\" - \"&F1968&\" - \"&G1968)","v":""},null,{"$f":"IF(OR(ISBLANK(L1968),ISBLANK(H1968)),\"\",H1968+(VLOOKUP(L1968,garantie,2,FALSE)))","v":""}]
[1968,{"$nulls":9},{"$f":"IF(B1969=\"\",\"\",D1969&\" - \"&F1969&\" - \"&G1969)","v":""},null,{"$f":"IF(OR(ISBLANK(L1969),ISBLANK(H1969)),\"\",H1969+(VLOOKUP(L1969,garantie,2,FALSE)))","v":""}]
[1969,{"$nulls":9},{"$f":"IF(B1970=\"\",\"\",D1970&\" - \"&F1970&\" - \"&G1970)","v":""},null,{"$f":"IF(OR(ISBLANK(L1970),ISBLANK(H1970)),\"\",H1970+(VLOOKUP(L1970,garantie,2,FALSE)))","v":""}]
[1970,{"$nulls":9},{"$f":"IF(B1971=\"\",\"\",D1971&\" - \"&F1971&\" - \"&G1971)","v":""},null,{"$f":"IF(OR(ISBLANK(L1971),ISBLANK(H1971)),\"\",H1971+(VLOOKUP(L1971,garantie,2,FALSE)))","v":""}]
[1971,{"$nulls":9},{"$f":"IF(B1972=\"\",\"\",D1972&\" - \"&F1972&\" - \"&G1972)","v":""},null,{"$f":"IF(OR(ISBLANK(L1972),ISBLANK(H1972)),\"\",H1972+(VLOOKUP(L1972,garantie,2,FALSE)))","v":""}]
[1972,{"$nulls":9},{"$f":"IF(B1973=\"\",\"\",D1973&\" - \"&F1973&\" - \"&G1973)","v":""},null,{"$f":"IF(OR(ISBLANK(L1973),ISBLANK(H1973)),\"\",H1973+(VLOOKUP(L1973,garantie,2,FALSE)))","v":""}]
[1973,{"$nulls":9},{"$f":"IF(B1974=\"\",\"\",D1974&\" - \"&F1974&\" - \"&G1974)","v":""},null,{"$f":"IF(OR(ISBLANK(L1974),ISBLANK(H1974)),\"\",H1974+(VLOOKUP(L1974,garantie,2,FALSE)))","v":""}]
[1974,{"$nulls":9},{"$f":"IF(B1975=\"\",\"\",D1975&\" - \"&F1975&\" - \"&G1975)","v":""},null,{"$f":"IF(OR(ISBLANK(L1975),ISBLANK(H1975)),\"\",H1975+(VLOOKUP(L1975,garantie,2,FALSE)))","v":""}]
[1975,{"$nulls":9},{"$f":"IF(B1976=\"\",\"\",D1976&\" - \"&F1976&\" - \"&G1976)","v":""},null,{"$f":"IF(OR(ISBLANK(L1976),ISBLANK(H1976)),\"\",H1976+(VLOOKUP(L1976,garantie,2,FALSE)))","v":""}]
[1976,{"$nulls":9},{"$f":"IF(B1977=\"\",\"\",D1977&\" - \"&F1977&\" - \"&G1977)","v":""},null,{"$f":"IF(OR(ISBLANK(L1977),ISBLANK(H1977)),\"\",H1977+(VLOOKUP(L1977,garantie,2,FALSE)))","v":""}]
[1977,{"$nulls":9},{"$f":"IF(B1978=\"\",\"\",D1978&\" - \"&F1978&\" - \"&G1978)","v":""},null,{"$f":"IF(OR(ISBLANK(L1978),ISBLANK(H1978)),\"\",H1978+(VLOOKUP(L1978,garantie,2,FALSE)))","v":""}]
[1978,{"$nulls":9},{"$f":"IF(B1979=\"\",\"\",D1979&\" - \"&F1979&\" - \"&G1979)","v":""},null,{"$f":"IF(OR(ISBLANK(L1979),ISBLANK(H1979)),\"\",H1979+(VLOOKUP(L1979,garantie,2,FALSE)))","v":""}]
[1979,{"$nulls":9},{"$f":"IF(B1980=\"\",\"\",D1980&\" - \"&F1980&\" - \"&G1980)","v":""},null,{"$f":"IF(OR(ISBLANK(L1980),ISBLANK(H1980)),\"\",H1980+(VLOOKUP(L1980,garantie,2,FALSE)))","v":""}]
[1980,{"$nulls":9},{"$f":"IF(B1981=\"\",\"\",D1981&\" - \"&F1981&\" - \"&G1981)","v":""},null,{"$f":"IF(OR(ISBLANK(L1981),ISBLANK(H1981)),\"\",H1981+(VLOOKUP(L1981,garantie,2,FALSE)))","v":""}]
[1981,{"$nulls":9},{"$f":"IF(B1982=\"\",\"\",D1982&\" - \"&F1982&\" - \"&G1982)","v":""},null,{"$f":"IF(OR(ISBLANK(L1982),ISBLANK(H1982)),\"\",H1982+(VLOOKUP(L1982,garantie,2,FALSE)))","v":""}]
[1982,{"$nulls":9},{"$f":"IF(B1983=\"\",\"\",D1983&\" - \"&F1983&\" - \"&G1983)","v":""},null,{"$f":"IF(OR(ISBLANK(L1983),ISBLANK(H1983)),\"\",H1983+(VLOOKUP(L1983,garantie,2,FALSE)))","v":""}]
[1983,{"$nulls":9},{"$f":"IF(B1984=\"\",\"\",D1984&\" - \"&F1984&\" - \"&G1984)","v":""},null,{"$f":"IF(OR(ISBLANK(L1984),ISBLANK(H1984)),\"\",H1984+(VLOOKUP(L1984,garantie,2,FALSE)))","v":""}]
[1984,{"$nulls":9},{"$f":"IF(B1985=\"\",\"\",D1985&\" - \"&F1985&\" - \"&G1985)","v":""},null,{"$f":"IF(OR(ISBLANK(L1985),ISBLANK(H1985)),\"\",H1985+(VLOOKUP(L1985,garantie,2,FALSE)))","v":""}]
[1985,{"$nulls":9},{"$f":"IF(B1986=\"\",\"\",D1986&\" - \"&F1986&\" - \"&G1986)","v":""},null,{"$f":"IF(OR(ISBLANK(L1986),ISBLANK(H1986)),\"\",H1986+(VLOOKUP(L1986,garantie,2,FALSE)))","v":""}]
[1986,{"$nulls":9},{"$f":"IF(B1987=\"\",\"\",D1987&\" - \"&F1987&\" - \"&G1987)","v":""},null,{"$f":"IF(OR(ISBLANK(L1987),ISBLANK(H1987)),\"\",H1987+(VLOOKUP(L1987,garantie,2,FALSE)))","v":""}]
[1987,{"$nulls":9},{"$f":"IF(B1988=\"\",\"\",D1988&\" - \"&F1988&\" - \"&G1988)","v":""},null,{"$f":"IF(OR(ISBLANK(L1988),ISBLANK(H1988)),\"\",H1988+(VLOOKUP(L1988,garantie,2,FALSE)))","v":""}]
[1988,{"$nulls":9},{"$f":"IF(B1989=\"\",\"\",D1989&\" - \"&F1989&\" - \"&G1989)","v":""},null,{"$f":"IF(OR(ISBLANK(L1989),ISBLANK(H1989)),\"\",H1989+(VLOOKUP(L1989,garantie,2,FALSE)))","v":""}]
[1989,{"$nulls":9},{"$f":"IF(B1990=\"\",\"\",D1990&\" - \"&F1990&\" - \"&G1990)","v":""},null,{"$f":"IF(OR(ISBLANK(L1990),ISBLANK(H1990)),\"\",H1990+(VLOOKUP(L1990,garantie,2,FALSE)))","v":""}]
[1990,{"$nulls":9},{"$f":"IF(B1991=\"\",\"\",D1991&\" - \"&F1991&\" - \"&G1991)","v":""},null,{"$f":"IF(OR(ISBLANK(L1991),ISBLANK(H1991)),\"\",H1991+(VLOOKUP(L1991,garantie,2,FALSE)))","v":""}]
[1991,{"$nulls":9},{"$f":"IF(B1992=\"\",\"\",D1992&\" - \"&F1992&\" - \"&G1992)","v":""},null,{"$f":"IF(OR(ISBLANK(L1992),ISBLANK(H1992)),\"\",H1992+(VLOOKUP(L1992,garantie,2,FALSE)))","v":""}]
[1992,{"$nulls":9},{"$f":"IF(B1993=\"\",\"\",D1993&\" - \"&F1993&\" - \"&G1993)","v":""},null,{"$f":"IF(OR(ISBLANK(L1993),ISBLANK(H1993)),\"\",H1993+(VLOOKUP(L1993,garantie,2,FALSE)))","v":""}]
[1993,{"$nulls":9},{"$f":"IF(B1994=\"\",\"\",D1994&\" - \"&F1994&\" - \"&G1994)","v":""},null,{"$f":"IF(OR(ISBLANK(L1994),ISBLANK(H1994)),\"\",H1994+(VLOOKUP(L1994,garantie,2,FALSE)))","v":""}]
[1994,{"$nulls":9},{"$f":"IF(B1995=\"\",\"\",D1995&\" - \"&F1995&\" - \"&G1995)","v":""},null,{"$f":"IF(OR(ISBLANK(L1995),ISBLANK(H1995)),\"\",H1995+(VLOOKUP(L1995,garantie,2,FALSE)))","v":""}]
[1995,{"$nulls":9},{"$f":"IF(B1996=\"\",\"\",D1996&\" - \"&F1996&\" - \"&G1996)","v":""},null,{"$f":"IF(OR(ISBLANK(L1996),ISBLANK(H1996)),\"\",H1996+(VLOOKUP(L1996,garantie,2,FALSE)))","v":""}]
[1996,{"$nulls":9},{"$f":"IF(B1997=\"\",\"\",D1997&\" - \"&F1997&\" - \"&G1997)","v":""},null,{"$f":"IF(OR(ISBLANK(L1997),ISBLANK(H1997)),\"\",H1997+(VLOOKUP(L1997,garantie,2,FALSE)))","v":""}]
[1997,{"$nulls":9},{"$f":"IF(B1998=\"\",\"\",D1998&\" - \"&F1998&\" - \"&G1998)","v":""},null,{"$f":"IF(OR(ISBLANK(L1998),ISBLANK(H1998)),\"\",H1998+(VLOOKUP(L1998,garantie,2,FALSE)))","v":""}]
[1998,{"$nulls":9},{"$f":"IF(B1999=\"\",\"\",D1999&\" - \"&F1999&\" - \"&G1999)","v":""},null,{"$f":"IF(OR(ISBLANK(L1999),ISBLANK(H1999)),\"\",H1999+(VLOOKUP(L1999,garantie,2,FALSE)))","v":""}]
[1999,{"$nulls":9},{"$f":"IF(B2000=\"\",\"\",D2000&\" - \"&F2000&\" - \"&G2000)","v":""},null,{"$f":"IF(OR(ISBLANK(L2000),ISBLANK(H2000)),\"\",H2000+(VLOOKUP(L2000,garantie,2,FALSE)))","v":""}]
[2000,{"$nulls":9},{"$f":"IF(B2001=\"\",\"\",D2001&\" - \"&F2001&\" - \"&G2001)","v":""},null,{"$f":"IF(OR(ISBLANK(L2001),ISBLANK(H2001)),\"\",H2001+(VLOOKUP(L2001,garantie,2,FALSE)))","v":""}]
[2001,{"$nulls":9},{"$f":"IF(B2002=\"\",\"\",D2002&\" - \"&F2002&\" - \"&G2002)","v":""},null,{"$f":"IF(OR(ISBLANK(L2002),ISBLANK(H2002)),\"\",H2002+(VLOOKUP(L2002,garantie,2,FALSE)))","v":""}]
[2002,{"$nulls":9},{"$f":"IF(B2003=\"\",\"\",D2003&\" - \"&F2003&\" - \"&G2003)","v":""},null,{"$f":"IF(OR(ISBLANK(L2003),ISBLANK(H2003)),\"\",H2003+(VLOOKUP(L2003,garantie,2,FALSE)))","v":""}]
[2003,{"$nulls":9},{"$f":"IF(B2004=\"\",\"\",D2004&\" - \"&F2004&\" - \"&G2004)","v":""},null,{"$f":"IF(OR(ISBLANK(L2004),ISBLANK(H2004)),\"\",H2004+(VLOOKUP(L2004,garantie,2,FALSE)))","v":""}]
[2004,{"$nulls":9},{"$f":"IF(B2005=\"\",\"\",D2005&\" - \"&F2005&\" - \"&G2005)","v":""},null,{"$f":"IF(OR(ISBLANK(L2005),ISBLANK(H2005)),\"\",H2005+(VLOOKUP(L2005,garantie,2,FALSE)))","v":""}]
[2005,{"$nulls":9},{"$f":"IF(B2006=\"\",\"\",D2006&\" - \"&F2006&\" - \"&G2006)","v":""},null,{"$f":"IF(OR(ISBLANK(L2006),ISBLANK(H2006)),\"\",H2006+(VLOOKUP(L2006,garantie,2,FALSE)))","v":""}]
[2006,{"$nulls":9},{"$f":"IF(B2007=\"\",\"\",D2007&\" - \"&F2007&\" - \"&G2007)","v":""},null,{"$f":"IF(OR(ISBLANK(L2007),ISBLANK(H2007)),\"\",H2007+(VLOOKUP(L2007,garantie,2,FALSE)))","v":""}]
[2007,{"$nulls":9},{"$f":"IF(B2008=\"\",\"\",D2008&\" - \"&F2008&\" - \"&G2008)","v":""},null,{"$f":"IF(OR(ISBLANK(L2008),ISBLANK(H2008)),\"\",H2008+(VLOOKUP(L2008,garantie,2,FALSE)))","v":""}]
[2008,{"$nulls":9},{"$f":"IF(B2009=\"\",\"\",D2009&\" - \"&F2009&\" - \"&G2009)","v":""},null,{"$f":"IF(OR(ISBLANK(L2009),ISBLANK(H2009)),\"\",H2009+(VLOOKUP(L2009,garantie,2,FALSE)))","v":""}]
[2009,{"$nulls":9},{"$f":"IF(B2010=\"\",\"\",D2010&\" - \"&F2010&\" - \"&G2010)","v":""},null,{"$f":"IF(OR(ISBLANK(L2010),ISBLANK(H2010)),\"\",H2010+(VLOOKUP(L2010,garantie,2,FALSE)))","v":""}]
[2010,{"$nulls":9},{"$f":"IF(B2011=\"\",\"\",D2011&\" - \"&F2011&\" - \"&G2011)","v":""},null,{"$f":"IF(OR(ISBLANK(L2011),ISBLANK(H2011)),\"\",H2011+(VLOOKUP(L2011,garantie,2,FALSE)))","v":""}]
[2011,{"$nulls":9},{"$f":"IF(B2012=\"\",\"\",D2012&\" - \"&F2012&\" - \"&G2012)","v":""},null,{"$f":"IF(OR(ISBLANK(L2012),ISBLANK(H2012)),\"\",H2012+(VLOOKUP(L2012,garantie,2,FALSE)))","v":""}]
[2012,{"$nulls":9},{"$f":"IF(B2013=\"\",\"\",D2013&\" - \"&F2013&\" - \"&G2013)","v":""},null,{"$f":"IF(OR(ISBLANK(L2013),ISBLANK(H2013)),\"\",H2013+(VLOOKUP(L2013,garantie,2,FALSE)))","v":""}]
[2013,{"$nulls":9},{"$f":"IF(B2014=\"\",\"\",D2014&\" - \"&F2014&\" - \"&G2014)","v":""},null,{"$f":"IF(OR(ISBLANK(L2014),ISBLANK(H2014)),\"\",H2014+(VLOOKUP(L2014,garantie,2,FALSE)))","v":""}]
[2014,{"$nulls":9},{"$f":"IF(B2015=\"\",\"\",D2015&\" - \"&F2015&\" - \"&G2015)","v":""},null,{"$f":"IF(OR(ISBLANK(L2015),ISBLANK(H2015)),\"\",H2015+(VLOOKUP(L2015,garantie,2,FALSE)))","v":""}]
[2015,{"$nulls":9},{"$f":"IF(B2016=\"\",\"\",D2016&\" - \"&F2016&\" - \"&G2016)","v":""},null,{"$f":"IF(OR(ISBLANK(L2016),ISBLANK(H2016)),\"\",H2016+(VLOOKUP(L2016,garantie,2,FALSE)))","v":""}]
[2016,{"$nulls":9},{"$f":"IF(B2017=\"\",\"\",D2017&\" - \"&F2017&\" - \"&G2017)","v":""},null,{"$f":"IF(OR(ISBLANK(L2017),ISBLANK(H2017)),\"\",H2017+(VLOOKUP(L2017,garantie,2,FALSE)))","v":""}]
[2017,{"$nulls":9},{"$f":"IF(B2018=\"\",\"\",D2018&\" - \"&F2018&\" - \"&G2018)","v":""},null,{"$f":"IF(OR(ISBLANK(L2018),ISBLANK(H2018)),\"\",H2018+(VLOOKUP(L2018,garantie,2,FALSE)))","v":""}]
[2018,{"$nulls":9},{"$f":"IF(B2019=\"\",\"\",D2019&\" - \"&F2019&\" - \"&G2019)","v":""},null,{"$f":"IF(OR(ISBLANK(L2019),ISBLANK(H2019)),\"\",H2019+(VLOOKUP(L2019,garantie,2,FALSE)))","v":""}]
[2019,{"$nulls":9},{"$f":"IF(B2020=\"\",\"\",D2020&\" - \"&F2020&\" - \"&G2020)","v":""},null,{"$f":"IF(OR(ISBLANK(L2020),ISBLANK(H2020)),\"\",H2020+(VLOOKUP(L2020,garantie,2,FALSE)))","v":""}]
[2020,{"$nulls":9},{"$f":"IF(B2021=\"\",\"\",D2021&\" - \"&F2021&\" - \"&G2021)","v":""},null,{"$f":"IF(OR(ISBLANK(L2021),ISBLANK(H2021)),\"\",H2021+(VLOOKUP(L2021,garantie,2,FALSE)))","v":""}]
[2021,{"$nulls":9},{"$f":"IF(B2022=\"\",\"\",D2022&\" - \"&F2022&\" - \"&G2022)","v":""},null,{"$f":"IF(OR(ISBLANK(L2022),ISBLANK(H2022)),\"\",H2022+(VLOOKUP(L2022,garantie,2,FALSE)))","v":""}]
[2022,{"$nulls":9},{"$f":"IF(B2023=\"\",\"\",D2023&\" - \"&F2023&\" - \"&G2023)","v":""},null,{"$f":"IF(OR(ISBLANK(L2023),ISBLANK(H2023)),\"\",H2023+(VLOOKUP(L2023,garantie,2,FALSE)))","v":""}]
[2023,{"$nulls":9},{"$f":"IF(B2024=\"\",\"\",D2024&\" - \"&F2024&\" - \"&G2024)","v":""},null,{"$f":"IF(OR(ISBLANK(L2024),ISBLANK(H2024)),\"\",H2024+(VLOOKUP(L2024,garantie,2,FALSE)))","v":""}]
[2024,{"$nulls":9},{"$f":"IF(B2025=\"\",\"\",D2025&\" - \"&F2025&\" - \"&G2025)","v":""},null,{"$f":"IF(OR(ISBLANK(L2025),ISBLANK(H2025)),\"\",H2025+(VLOOKUP(L2025,garantie,2,FALSE)))","v":""}]
[2025,{"$nulls":9},{"$f":"IF(B2026=\"\",\"\",D2026&\" - \"&F2026&\" - \"&G2026)","v":""},null,{"$f":"IF(OR(ISBLANK(L2026),ISBLANK(H2026)),\"\",H2026+(VLOOKUP(L2026,garantie,2,FALSE)))","v":""}]
[2026,{"$nulls":9},{"$f":"IF(B2027=\"\",\"\",D2027&\" - \"&F2027&\" - \"&G2027)","v":""},null,{"$f":"IF(OR(ISBLANK(L2027),ISBLANK(H2027)),\"\",H2027+(VLOOKUP(L2027,garantie,2,FALSE)))","v":""}]
[2027,{"$nulls":9},{"$f":"IF(B2028=\"\",\"\",D2028&\" - \"&F2028&\" - \"&G2028)","v":""},null,{"$f":"IF(OR(ISBLANK(L2028),ISBLANK(H2028)),\"\",H2028+(VLOOKUP(L2028,garantie,2,FALSE)))","v":""}]
[2028,{"$nulls":9},{"$f":"IF(B2029=\"\",\"\",D2029&\" - \"&F2029&\" - \"&G2029)","v":""},null,{"$f":"IF(OR(ISBLANK(L2029),ISBLANK(H2029)),\"\",H2029+(VLOOKUP(L2029,garantie,2,FALSE)))","v":""}]
[2029,{"$nulls":9},{"$f":"IF(B2030=\"\",\"\",D2030&\" - \"&F2030&\" - \"&G2030)","v":""},null,{"$f":"IF(OR(ISBLANK(L2030),ISBLANK(H2030)),\"\",H2030+(VLOOKUP(L2030,garantie,2,FALSE)))","v":""}]
[2030,{"$nulls":9},{"$f":"IF(B2031=\"\",\"\",D2031&\" - \"&F2031&\" - \"&G2031)","v":""},null,{"$f":"IF(OR(ISBLANK(L2031),ISBLANK(H2031)),\"\",H2031+(VLOOKUP(L2031,garantie,2,FALSE)))","v":""}]
[2031,{"$nulls":9},{"$f":"IF(B2032=\"\",\"\",D2032&\" - \"&F2032&\" - \"&G2032)","v":""},null,{"$f":"IF(OR(ISBLANK(L2032),ISBLANK(H2032)),\"\",H2032+(VLOOKUP(L2032,garantie,2,FALSE)))","v":""}]
[2032,{"$nulls":9},{"$f":"IF(B2033=\"\",\"\",D2033&\" - \"&F2033&\" - \"&G2033)","v":""},null,{"$f":"IF(OR(ISBLANK(L2033),ISBLANK(H2033)),\"\",H2033+(VLOOKUP(L2033,garantie,2,FALSE)))","v":""}]
[2033,{"$nulls":9},{"$f":"IF(B2034=\"\",\"\",D2034&\" - \"&F2034&\" - \"&G2034)","v":""},null,{"$f":"IF(OR(ISBLANK(L2034),ISBLANK(H2034)),\"\",H2034+(VLOOKUP(L2034,garantie,2,FALSE)))","v":""}]
[2034,{"$nulls":9},{"$f":"IF(B2035=\"\",\"\",D2035&\" - \"&F2035&\" - \"&G2035)","v":""},null,{"$f":"IF(OR(ISBLANK(L2035),ISBLANK(H2035)),\"\",H2035+(VLOOKUP(L2035,garantie,2,FALSE)))","v":""}]
[2035,{"$nulls":9},{"$f":"IF(B2036=\"\",\"\",D2036&\" - \"&F2036&\" - \"&G2036)","v":""},null,{"$f":"IF(OR(ISBLANK(L2036),ISBLANK(H2036)),\"\",H2036+(VLOOKUP(L2036,garantie,2,FALSE)))","v":""}]
[2036,{"$nulls":9},{"$f":"IF(B2037=\"\",\"\",D2037&\" - \"&F2037&\" - \"&G2037)","v":""},null,{"$f":"IF(OR(ISBLANK(L2037),ISBLANK(H2037)),\"\",H2037+(VLOOKUP(L2037,garantie,2,FALSE)))","v":""}]
[2037,{"$nulls":9},{"$f":"IF(B2038=\"\",\"\",D2038&\" - \"&F2038&\" - \"&G2038)","v":""},null,{"$f":"IF(OR(ISBLANK(L2038),ISBLANK(H2038)),\"\",H2038+(VLOOKUP(L2038,garantie,2,FALSE)))","v":""}]
[2038,{"$nulls":9},{"$f":"IF(B2039=\"\",\"\",D2039&\" - \"&F2039&\" - \"&G2039)","v":""},null,{"$f":"IF(OR(ISBLANK(L2039),ISBLANK(H2039)),\"\",H2039+(VLOOKUP(L2039,garantie,2,FALSE)))","v":""}]
[2039,{"$nulls":9},{"$f":"IF(B2040=\"\",\"\",D2040&\" - \"&F2040&\" - \"&G2040)","v":""},null,{"$f":"IF(OR(ISBLANK(L2040),ISBLANK(H2040)),\"\",H2040+(VLOOKUP(L2040,garantie,2,FALSE)))","v":""}]
[2040,{"$nulls":9},{"$f":"IF(B2041=\"\",\"\",D2041&\" - \"&F2041&\" - \"&G2041)","v":""},null,{"$f":"IF(OR(ISBLANK(L2041),ISBLANK(H2041)),\"\",H2041+(VLOOKUP(L2041,garantie,2,FALSE)))","v":""}]
[2041,{"$nulls":9},{"$f":"IF(B2042=\"\",\"\",D2042&\" - \"&F2042&\" - \"&G2042)","v":""},null,{"$f":"IF(OR(ISBLANK(L2042),ISBLANK(H2042)),\"\",H2042+(VLOOKUP(L2042,garantie,2,FALSE)))","v":""}]
[2042,{"$nulls":9},{"$f":"IF(B2043=\"\",\"\",D2043&\" - \"&F2043&\" - \"&G2043)","v":""},null,{"$f":"IF(OR(ISBLANK(L2043),ISBLANK(H2043)),\"\",H2043+(VLOOKUP(L2043,garantie,2,FALSE)))","v":""}]
[2043,{"$nulls":9},{"$f":"IF(B2044=\"\",\"\",D2044&\" - \"&F2044&\" - \"&G2044)","v":""},null,{"$f":"IF(OR(ISBLANK(L2044),ISBLANK(H2044)),\"\",H2044+(VLOOKUP(L2044,garantie,2,FALSE)))","v":""}]
[2044,{"$nulls":9},{"$f":"IF(B2045=\"\",\"\",D2045&\" - \"&F2045&\" - \"&G2045)","v":""},null,{"$f":"IF(OR(ISBLANK(L2045),ISBLANK(H2045)),\"\",H2045+(VLOOKUP(L2045,garantie,2,FALSE)))","v":""}]
[2045,{"$nulls":9},{"$f":"IF(B2046=\"\",\"\",D2046&\" - \"&F2046&\" - \"&G2046)","v":""},null,{"$f":"IF(OR(ISBLANK(L2046),ISBLANK(H2046)),\"\",H2046+(VLOOKUP(L2046,garantie,2,FALSE)))","v":""}]
[2046,{"$nulls":9},{"$f":"IF(B2047=\"\",\"\",D2047&\" - \"&F2047&\" - \"&G2047)","v":""},null,{"$f":"IF(OR(ISBLANK(L2047),ISBLANK(H2047)),\"\",H2047+(VLOOKUP(L2047,garantie,2,FALSE)))","v":""}]
[2047,{"$nulls":9},{"$f":"IF(B2048=\"\",\"\",D2048&\" - \"&F2048&\" - \"&G2048)","v":""},null,{"$f":"IF(OR(ISBLANK(L2048),ISBLANK(H2048)),\"\",H2048+(VLOOKUP(L2048,garantie,2,FALSE)))","v":""}]
[2048,{"$nulls":9},{"$f":"IF(B2049=\"\",\"\",D2049&\" - \"&F2049&\" - \"&G2049)","v":""},null,{"$f":"IF(OR(ISBLANK(L2049),ISBLANK(H2049)),\"\",H2049+(VLOOKUP(L2049,garantie,2,FALSE)))","v":""}]
[2049,{"$nulls":9},{"$f":"IF(B2050=\"\",\"\",D2050&\" - \"&F2050&\" - \"&G2050)","v":""},null,{"$f":"IF(OR(ISBLANK(L2050),ISBLANK(H2050)),\"\",H2050+(VLOOKUP(L2050,garantie,2,FALSE)))","v":""}]
[2050,{"$nulls":9},{"$f":"IF(B2051=\"\",\"\",D2051&\" - \"&F2051&\" - \"&G2051)","v":""},null,{"$f":"IF(OR(ISBLANK(L2051),ISBLANK(H2051)),\"\",H2051+(VLOOKUP(L2051,garantie,2,FALSE)))","v":""}]
[2051,{"$nulls":9},{"$f":"IF(B2052=\"\",\"\",D2052&\" - \"&F2052&\" - \"&G2052)","v":""},null,{"$f":"IF(OR(ISBLANK(L2052),ISBLANK(H2052)),\"\",H2052+(VLOOKUP(L2052,garantie,2,FALSE)))","v":""}]
[2052,{"$nulls":9},{"$f":"IF(B2053=\"\",\"\",D2053&\" - \"&F2053&\" - \"&G2053)","v":""},null,{"$f":"IF(OR(ISBLANK(L2053),ISBLANK(H2053)),\"\",H2053+(VLOOKUP(L2053,garantie,2,FALSE)))","v":""}]
[2053,{"$nulls":9},{"$f":"IF(B2054=\"\",\"\",D2054&\" - \"&F2054&\" - \"&G2054)","v":""},null,{"$f":"IF(OR(ISBLANK(L2054),ISBLANK(H2054)),\"\",H2054+(VLOOKUP(L2054,garantie,2,FALSE)))","v":""}]
[2054,{"$nulls":9},{"$f":"IF(B2055=\"\",\"\",D2055&\" - \"&F2055&\" - \"&G2055)","v":""},null,{"$f":"IF(OR(ISBLANK(L2055),ISBLANK(H2055)),\"\",H2055+(VLOOKUP(L2055,garantie,2,FALSE)))","v":""}]
[2055,{"$nulls":9},{"$f":"IF(B2056=\"\",\"\",D2056&\" - \"&F2056&\" - \"&G2056)","v":""},null,{"$f":"IF(OR(ISBLANK(L2056),ISBLANK(H2056)),\"\",H2056+(VLOOKUP(L2056,garantie,2,FALSE)))","v":""}]
[2056,{"$nulls":9},{"$f":"IF(B2057=\"\",\"\",D2057&\" - \"&F2057&\" - \"&G2057)","v":""},null,{"$f":"IF(OR(ISBLANK(L2057),ISBLANK(H2057)),\"\",H2057+(VLOOKUP(L2057,garantie,2,FALSE)))","v":""}]
[2057,{"$nulls":9},{"$f":"IF(B2058=\"\",\"\",D2058&\" - \"&F2058&\" - \"&G2058)","v":""},null,{"$f":"IF(OR(ISBLANK(L2058),ISBLANK(H2058)),\"\",H2058+(VLOOKUP(L2058,garantie,2,FALSE)))","v":""}]
[2058,{"$nulls":9},{"$f":"IF(B2059=\"\",\"\",D2059&\" - \"&F2059&\" - \"&G2059)","v":""},null,{"$f":"IF(OR(ISBLANK(L2059),ISBLANK(H2059)),\"\",H2059+(VLOOKUP(L2059,garantie,2,FALSE)))","v":""}]
[2059,{"$nulls":9},{"$f":"IF(B2060=\"\",\"\",D2060&\" - \"&F2060&\" - \"&G2060)","v":""},null,{"$f":"IF(OR(ISBLANK(L2060),ISBLANK(H2060)),\"\",H2060+(VLOOKUP(L2060,garantie,2,FALSE)))","v":""}]
[2060,{"$nulls":9},{"$f":"IF(B2061=\"\",\"\",D2061&\" - \"&F2061&\" - \"&G2061)","v":""},null,{"$f":"IF(OR(ISBLANK(L2061),ISBLANK(H2061)),\"\",H2061+(VLOOKUP(L2061,garantie,2,FALSE)))","v":""}]
[2061,{"$nulls":9},{"$f":"IF(B2062=\"\",\"\",D2062&\" - \"&F2062&\" - \"&G2062)","v":""},null,{"$f":"IF(OR(ISBLANK(L2062),ISBLANK(H2062)),\"\",H2062+(VLOOKUP(L2062,garantie,2,FALSE)))","v":""}]
[2062,{"$nulls":9},{"$f":"IF(B2063=\"\",\"\",D2063&\" - \"&F2063&\" - \"&G2063)","v":""},null,{"$f":"IF(OR(ISBLANK(L2063),ISBLANK(H2063)),\"\",H2063+(VLOOKUP(L2063,garantie,2,FALSE)))","v":""}]
[2063,{"$nulls":9},{"$f":"IF(B2064=\"\",\"\",D2064&\" - \"&F2064&\" - \"&G2064)","v":""},null,{"$f":"IF(OR(ISBLANK(L2064),ISBLANK(H2064)),\"\",H2064+(VLOOKUP(L2064,garantie,2,FALSE)))","v":""}]
[2064,{"$nulls":9},{"$f":"IF(B2065=\"\",\"\",D2065&\" - \"&F2065&\" - \"&G2065)","v":""},null,{"$f":"IF(OR(ISBLANK(L2065),ISBLANK(H2065)),\"\",H2065+(VLOOKUP(L2065,garantie,2,FALSE)))","v":""}]
[2065,{"$nulls":9},{"$f":"IF(B2066=\"\",\"\",D2066&\" - \"&F2066&\" - \"&G2066)","v":""},null,{"$f":"IF(OR(ISBLANK(L2066),ISBLANK(H2066)),\"\",H2066+(VLOOKUP(L2066,garantie,2,FALSE)))","v":""}]
[2066,{"$nulls":9},{"$f":"IF(B2067=\"\",\"\",D2067&\" - \"&F2067&\" - \"&G2067)","v":""},null,{"$f":"IF(OR(ISBLANK(L2067),ISBLANK(H2067)),\"\",H2067+(VLOOKUP(L2067,garantie,2,FALSE)))","v":""}]
[2067,{"$nulls":9},{"$f":"IF(B2068=\"\",\"\",D2068&\" - \"&F2068&\" - \"&G2068)","v":""},null,{"$f":"IF(OR(ISBLANK(L2068),ISBLANK(H2068)),\"\",H2068+(VLOOKUP(L2068,garantie,2,FALSE)))","v":""}]
[2068,{"$nulls":9},{"$f":"IF(B2069=\"\",\"\",D2069&\" - \"&F2069&\" - \"&G2069)","v":""},null,{"$f":"IF(OR(ISBLANK(L2069),ISBLANK(H2069)),\"\",H2069+(VLOOKUP(L2069,garantie,2,FALSE)))","v":""}]
[2069,{"$nulls":9},{"$f":"IF(B2070=\"\",\"\",D2070&\" - \"&F2070&\" - \"&G2070)","v":""},null,{"$f":"IF(OR(ISBLANK(L2070),ISBLANK(H2070)),\"\",H2070+(VLOOKUP(L2070,garantie,2,FALSE)))","v":""}]
[2070,{"$nulls":9},{"$f":"IF(B2071=\"\",\"\",D2071&\" - \"&F2071&\" - \"&G2071)","v":""},null,{"$f":"IF(OR(ISBLANK(L2071),ISBLANK(H2071)),\"\",H2071+(VLOOKUP(L2071,garantie,2,FALSE)))","v":""}]
[2071,{"$nulls":9},{"$f":"IF(B2072=\"\",\"\",D2072&\" - \"&F2072&\" - \"&G2072)","v":""},null,{"$f":"IF(OR(ISBLANK(L2072),ISBLANK(H2072)),\"\",H2072+(VLOOKUP(L2072,garantie,2,FALSE)))","v":""}]
[2072,{"$nulls":9},{"$f":"IF(B2073=\"\",\"\",D2073&\" - \"&F2073&\" - \"&G2073)","v":""},null,{"$f":"IF(OR(ISBLANK(L2073),ISBLANK(H2073)),\"\",H2073+(VLOOKUP(L2073,garantie,2,FALSE)))","v":""}]
[2073,{"$nulls":9},{"$f":"IF(B2074=\"\",\"\",D2074&\" - \"&F2074&\" - \"&G2074)","v":""},null,{"$f":"IF(OR(ISBLANK(L2074),ISBLANK(H2074)),\"\",H2074+(VLOOKUP(L2074,garantie,2,FALSE)))","v":""}]
[2074,{"$nulls":9},{"$f":"IF(B2075=\"\",\"\",D2075&\" - \"&F2075&\" - \"&G2075)","v":""},null,{"$f":"IF(OR(ISBLANK(L2075),ISBLANK(H2075)),\"\",H2075+(VLOOKUP(L2075,garantie,2,FALSE)))","v":""}]
[2075,{"$nulls":9},{"$f":"IF(B2076=\"\",\"\",D2076&\" - \"&F2076&\" - \"&G2076)","v":""},null,{"$f":"IF(OR(ISBLANK(L2076),ISBLANK(H2076)),\"\",H2076+(VLOOKUP(L2076,garantie,2,FALSE)))","v":""}]
[2076,{"$nulls":9},{"$f":"IF(B2077=\"\",\"\",D2077&\" - \"&F2077&\" - \"&G2077)","v":""},null,{"$f":"IF(OR(ISBLANK(L2077),ISBLANK(H2077)),\"\",H2077+(VLOOKUP(L2077,garantie,2,FALSE)))","v":""}]
[2077,{"$nulls":9},{"$f":"IF(B2078=\"\",\"\",D2078&\" - \"&F2078&\" - \"&G2078)","v":""},null,{"$f":"IF(OR(ISBLANK(L2078),ISBLANK(H2078)),\"\",H2078+(VLOOKUP(L2078,garantie,2,FALSE)))","v":""}]
[2078,{"$nulls":9},{"$f":"IF(B2079=\"\",\"\",D2079&\" - \"&F2079&\" - \"&G2079)","v":""},null,{"$f":"IF(OR(ISBLANK(L2079),ISBLANK(H2079)),\"\",H2079+(VLOOKUP(L2079,garantie,2,FALSE)))","v":""}]
[2079,{"$nulls":9},{"$f":"IF(B2080=\"\",\"\",D2080&\" - \"&F2080&\" - \"&G2080)","v":""},null,{"$f":"IF(OR(ISBLANK(L2080),ISBLANK(H2080)),\"\",H2080+(VLOOKUP(L2080,garantie,2,FALSE)))","v":""}]
[2080,{"$nulls":9},{"$f":"IF(B2081=\"\",\"\",D2081&\" - \"&F2081&\" - \"&G2081)","v":""},null,{"$f":"IF(OR(ISBLANK(L2081),ISBLANK(H2081)),\"\",H2081+(VLOOKUP(L2081,garantie,2,FALSE)))","v":""}]
[2081,{"$nulls":9},{"$f":"IF(B2082=\"\",\"\",D2082&\" - \"&F2082&\" - \"&G2082)","v":""},null,{"$f":"IF(OR(ISBLANK(L2082),ISBLANK(H2082)),\"\",H2082+(VLOOKUP(L2082,garantie,2,FALSE)))","v":""}]
[2082,{"$nulls":9},{"$f":"IF(B2083=\"\",\"\",D2083&\" - \"&F2083&\" - \"&G2083)","v":""},null,{"$f":"IF(OR(ISBLANK(L2083),ISBLANK(H2083)),\"\",H2083+(VLOOKUP(L2083,garantie,2,FALSE)))","v":""}]
[2083,{"$nulls":9},{"$f":"IF(B2084=\"\",\"\",D2084&\" - \"&F2084&\" - \"&G2084)","v":""},null,{"$f":"IF(OR(ISBLANK(L2084),ISBLANK(H2084)),\"\",H2084+(VLOOKUP(L2084,garantie,2,FALSE)))","v":""}]
[2084,{"$nulls":9},{"$f":"IF(B2085=\"\",\"\",D2085&\" - \"&F2085&\" - \"&G2085)","v":""},null,{"$f":"IF(OR(ISBLANK(L2085),ISBLANK(H2085)),\"\",H2085+(VLOOKUP(L2085,garantie,2,FALSE)))","v":""}]
[2085,{"$nulls":9},{"$f":"IF(B2086=\"\",\"\",D2086&\" - \"&F2086&\" - \"&G2086)","v":""},null,{"$f":"IF(OR(ISBLANK(L2086),ISBLANK(H2086)),\"\",H2086+(VLOOKUP(L2086,garantie,2,FALSE)))","v":""}]
[2086,{"$nulls":9},{"$f":"IF(B2087=\"\",\"\",D2087&\" - \"&F2087&\" - \"&G2087)","v":""},null,{"$f":"IF(OR(ISBLANK(L2087),ISBLANK(H2087)),\"\",H2087+(VLOOKUP(L2087,garantie,2,FALSE)))","v":""}]
[2087,{"$nulls":9},{"$f":"IF(B2088=\"\",\"\",D2088&\" - \"&F2088&\" - \"&G2088)","v":""},null,{"$f":"IF(OR(ISBLANK(L2088),ISBLANK(H2088)),\"\",H2088+(VLOOKUP(L2088,garantie,2,FALSE)))","v":""}]
[2088,{"$nulls":9},{"$f":"IF(B2089=\"\",\"\",D2089&\" - \"&F2089&\" - \"&G2089)","v":""},null,{"$f":"IF(OR(ISBLANK(L2089),ISBLANK(H2089)),\"\",H2089+(VLOOKUP(L2089,garantie,2,FALSE)))","v":""}]
[2089,{"$nulls":9},{"$f":"IF(B2090=\"\",\"\",D2090&\" - \"&F2090&\" - \"&G2090)","v":""},null,{"$f":"IF(OR(ISBLANK(L2090),ISBLANK(H2090)),\"\",H2090+(VLOOKUP(L2090,garantie,2,FALSE)))","v":""}]
[2090,{"$nulls":9},{"$f":"IF(B2091=\"\",\"\",D2091&\" - \"&F2091&\" - \"&G2091)","v":""},null,{"$f":"IF(OR(ISBLANK(L2091),ISBLANK(H2091)),\"\",H2091+(VLOOKUP(L2091,garantie,2,FALSE)))","v":""}]
[2091,{"$nulls":9},{"$f":"IF(B2092=\"\",\"\",D2092&\" - \"&F2092&\" - \"&G2092)","v":""},null,{"$f":"IF(OR(ISBLANK(L2092),ISBLANK(H2092)),\"\",H2092+(VLOOKUP(L2092,garantie,2,FALSE)))","v":""}]
[2092,{"$nulls":9},{"$f":"IF(B2093=\"\",\"\",D2093&\" - \"&F2093&\" - \"&G2093)","v":""},null,{"$f":"IF(OR(ISBLANK(L2093),ISBLANK(H2093)),\"\",H2093+(VLOOKUP(L2093,garantie,2,FALSE)))","v":""}]
[2093,{"$nulls":9},{"$f":"IF(B2094=\"\",\"\",D2094&\" - \"&F2094&\" - \"&G2094)","v":""},null,{"$f":"IF(OR(ISBLANK(L2094),ISBLANK(H2094)),\"\",H2094+(VLOOKUP(L2094,garantie,2,FALSE)))","v":""}]
[2094,{"$nulls":9},{"$f":"IF(B2095=\"\",\"\",D2095&\" - \"&F2095&\" - \"&G2095)","v":""},null,{"$f":"IF(OR(ISBLANK(L2095),ISBLANK(H2095)),\"\",H2095+(VLOOKUP(L2095,garantie,2,FALSE)))","v":""}]
[2095,{"$nulls":9},{"$f":"IF(B2096=\"\",\"\",D2096&\" - \"&F2096&\" - \"&G2096)","v":""},null,{"$f":"IF(OR(ISBLANK(L2096),ISBLANK(H2096)),\"\",H2096+(VLOOKUP(L2096,garantie,2,FALSE)))","v":""}]
[2096,{"$nulls":9},{"$f":"IF(B2097=\"\",\"\",D2097&\" - \"&F2097&\" - \"&G2097)","v":""},null,{"$f":"IF(OR(ISBLANK(L2097),ISBLANK(H2097)),\"\",H2097+(VLOOKUP(L2097,garantie,2,FALSE)))","v":""}]
[2097,{"$nulls":9},{"$f":"IF(B2098=\"\",\"\",D2098&\" - \"&F2098&\" - \"&G2098)","v":""},null,{"$f":"IF(OR(ISBLANK(L2098),ISBLANK(H2098)),\"\",H2098+(VLOOKUP(L2098,garantie,2,FALSE)))","v":""}]
[2098,{"$nulls":9},{"$f":"IF(B2099=\"\",\"\",D2099&\" - \"&F2099&\" - \"&G2099)","v":""},null,{"$f":"IF(OR(ISBLANK(L2099),ISBLANK(H2099)),\"\",H2099+(VLOOKUP(L2099,garantie,2,FALSE)))","v":""}]
[2099,{"$nulls":9},{"$f":"IF(B2100=\"\",\"\",D2100&\" - \"&F2100&\" - \"&G2100)","v":""},null,{"$f":"IF(OR(ISBLANK(L2100),ISBLANK(H2100)),\"\",H2100+(VLOOKUP(L2100,garantie,2,FALSE)))","v":""}]
[2100,{"$nulls":9},{"$f":"IF(B2101=\"\",\"\",D2101&\" - \"&F2101&\" - \"&G2101)","v":""},null,{"$f":"IF(OR(ISBLANK(L2101),ISBLANK(H2101)),\"\",H2101+(VLOOKUP(L2101,garantie,2,FALSE)))","v":""}]
[2101,{"$nulls":9},{"$f":"IF(B2102=\"\",\"\",D2102&\" - \"&F2102&\" - \"&G2102)","v":""},null,{"$f":"IF(OR(ISBLANK(L2102),ISBLANK(H2102)),\"\",H2102+(VLOOKUP(L2102,garantie,2,FALSE)))","v":""}]
[2102,{"$nulls":9},{"$f":"IF(B2103=\"\",\"\",D2103&\" - \"&F2103&\" - \"&G2103)","v":""},null,{"$f":"IF(OR(ISBLANK(L2103),ISBLANK(H2103)),\"\",H2103+(VLOOKUP(L2103,garantie,2,FALSE)))","v":""}]
[2103,{"$nulls":9},{"$f":"IF(B2104=\"\",\"\",D2104&\" - \"&F2104&\" - \"&G2104)","v":""},null,{"$f":"IF(OR(ISBLANK(L2104),ISBLANK(H2104)),\"\",H2104+(VLOOKUP(L2104,garantie,2,FALSE)))","v":""}]
[2104,{"$nulls":9},{"$f":"IF(B2105=\"\",\"\",D2105&\" - \"&F2105&\" - \"&G2105)","v":""},null,{"$f":"IF(OR(ISBLANK(L2105),ISBLANK(H2105)),\"\",H2105+(VLOOKUP(L2105,garantie,2,FALSE)))","v":""}]
[2105,{"$nulls":9},{"$f":"IF(B2106=\"\",\"\",D2106&\" - \"&F2106&\" - \"&G2106)","v":""},null,{"$f":"IF(OR(ISBLANK(L2106),ISBLANK(H2106)),\"\",H2106+(VLOOKUP(L2106,garantie,2,FALSE)))","v":""}]
[2106,{"$nulls":9},{"$f":"IF(B2107=\"\",\"\",D2107&\" - \"&F2107&\" - \"&G2107)","v":""},null,{"$f":"IF(OR(ISBLANK(L2107),ISBLANK(H2107)),\"\",H2107+(VLOOKUP(L2107,garantie,2,FALSE)))","v":""}]
[2107,{"$nulls":9},{"$f":"IF(B2108=\"\",\"\",D2108&\" - \"&F2108&\" - \"&G2108)","v":""},null,{"$f":"IF(OR(ISBLANK(L2108),ISBLANK(H2108)),\"\",H2108+(VLOOKUP(L2108,garantie,2,FALSE)))","v":""}]
[2108,{"$nulls":9},{"$f":"IF(B2109=\"\",\"\",D2109&\" - \"&F2109&\" - \"&G2109)","v":""},null,{"$f":"IF(OR(ISBLANK(L2109),ISBLANK(H2109)),\"\",H2109+(VLOOKUP(L2109,garantie,2,FALSE)))","v":""}]
[2109,{"$nulls":9},{"$f":"IF(B2110=\"\",\"\",D2110&\" - \"&F2110&\" - \"&G2110)","v":""},null,{"$f":"IF(OR(ISBLANK(L2110),ISBLANK(H2110)),\"\",H2110+(VLOOKUP(L2110,garantie,2,FALSE)))","v":""}]
[2110,{"$nulls":9},{"$f":"IF(B2111=\"\",\"\",D2111&\" - \"&F2111&\" - \"&G2111)","v":""},null,{"$f":"IF(OR(ISBLANK(L2111),ISBLANK(H2111)),\"\",H2111+(VLOOKUP(L2111,garantie,2,FALSE)))","v":""}]
[2111,{"$nulls":9},{"$f":"IF(B2112=\"\",\"\",D2112&\" - \"&F2112&\" - \"&G2112)","v":""},null,{"$f":"IF(OR(ISBLANK(L2112),ISBLANK(H2112)),\"\",H2112+(VLOOKUP(L2112,garantie,2,FALSE)))","v":""}]
[2112,{"$nulls":9},{"$f":"IF(B2113=\"\",\"\",D2113&\" - \"&F2113&\" - \"&G2113)","v":""},null,{"$f":"IF(OR(ISBLANK(L2113),ISBLANK(H2113)),\"\",H2113+(VLOOKUP(L2113,garantie,2,FALSE)))","v":""}]
[2113,{"$nulls":9},{"$f":"IF(B2114=\"\",\"\",D2114&\" - \"&F2114&\" - \"&G2114)","v":""},null,{"$f":"IF(OR(ISBLANK(L2114),ISBLANK(H2114)),\"\",H2114+(VLOOKUP(L2114,garantie,2,FALSE)))","v":""}]
[2114,{"$nulls":9},{"$f":"IF(B2115=\"\",\"\",D2115&\" - \"&F2115&\" - \"&G2115)","v":""},null,{"$f":"IF(OR(ISBLANK(L2115),ISBLANK(H2115)),\"\",H2115+(VLOOKUP(L2115,garantie,2,FALSE)))","v":""}]
[2115,{"$nulls":9},{"$f":"IF(B2116=\"\",\"\",D2116&\" - \"&F2116&\" - \"&G2116)","v":""},null,{"$f":"IF(OR(ISBLANK(L2116),ISBLANK(H2116)),\"\",H2116+(VLOOKUP(L2116,garantie,2,FALSE)))","v":""}]
[2116,{"$nulls":9},{"$f":"IF(B2117=\"\",\"\",D2117&\" - \"&F2117&\" - \"&G2117)","v":""},null,{"$f":"IF(OR(ISBLANK(L2117),ISBLANK(H2117)),\"\",H2117+(VLOOKUP(L2117,garantie,2,FALSE)))","v":""}]
[2117,{"$nulls":9},{"$f":"IF(B2118=\"\",\"\",D2118&\" - \"&F2118&\" - \"&G2118)","v":""},null,{"$f":"IF(OR(ISBLANK(L2118),ISBLANK(H2118)),\"\",H2118+(VLOOKUP(L2118,garantie,2,FALSE)))","v":""}]
[2118,{"$nulls":9},{"$f":"IF(B2119=\"\",\"\",D2119&\" - \"&F2119&\" - \"&G2119)","v":""},null,{"$f":"IF(OR(ISBLANK(L2119),ISBLANK(H2119)),\"\",H2119+(VLOOKUP(L2119,garantie,2,FALSE)))","v":""}]
[2119,{"$nulls":9},{"$f":"IF(B2120=\"\",\"\",D2120&\" - \"&F2120&\" - \"&G2120)","v":""},null,{"$f":"IF(OR(ISBLANK(L2120),ISBLANK(H2120)),\"\",H2120+(VLOOKUP(L2120,garantie,2,FALSE)))","v":""}]
[2120,{"$nulls":9},{"$f":"IF(B2121=\"\",\"\",D2121&\" - \"&F2121&\" - \"&G2121)","v":""},null,{"$f":"IF(OR(ISBLANK(L2121),ISBLANK(H2121)),\"\",H2121+(VLOOKUP(L2121,garantie,2,FALSE)))","v":""}]
[2121,{"$nulls":9},{"$f":"IF(B2122=\"\",\"\",D2122&\" - \"&F2122&\" - \"&G2122)","v":""},null,{"$f":"IF(OR(ISBLANK(L2122),ISBLANK(H2122)),\"\",H2122+(VLOOKUP(L2122,garantie,2,FALSE)))","v":""}]
[2122,{"$nulls":9},{"$f":"IF(B2123=\"\",\"\",D2123&\" - \"&F2123&\" - \"&G2123)","v":""},null,{"$f":"IF(OR(ISBLANK(L2123),ISBLANK(H2123)),\"\",H2123+(VLOOKUP(L2123,garantie,2,FALSE)))","v":""}]
[2123,{"$nulls":9},{"$f":"IF(B2124=\"\",\"\",D2124&\" - \"&F2124&\" - \"&G2124)","v":""},null,{"$f":"IF(OR(ISBLANK(L2124),ISBLANK(H2124)),\"\",H2124+(VLOOKUP(L2124,garantie,2,FALSE)))","v":""}]
[2124,{"$nulls":9},{"$f":"IF(B2125=\"\",\"\",D2125&\" - \"&F2125&\" - \"&G2125)","v":""},null,{"$f":"IF(OR(ISBLANK(L2125),ISBLANK(H2125)),\"\",H2125+(VLOOKUP(L2125,garantie,2,FALSE)))","v":""}]
[2125,{"$nulls":9},{"$f":"IF(B2126=\"\",\"\",D2126&\" - \"&F2126&\" - \"&G2126)","v":""},null,{"$f":"IF(OR(ISBLANK(L2126),ISBLANK(H2126)),\"\",H2126+(VLOOKUP(L2126,garantie,2,FALSE)))","v":""}]
[2126,{"$nulls":9},{"$f":"IF(B2127=\"\",\"\",D2127&\" - \"&F2127&\" - \"&G2127)","v":""},null,{"$f":"IF(OR(ISBLANK(L2127),ISBLANK(H2127)),\"\",H2127+(VLOOKUP(L2127,garantie,2,FALSE)))","v":""}]
[2127,{"$nulls":9},{"$f":"IF(B2128=\"\",\"\",D2128&\" - \"&F2128&\" - \"&G2128)","v":""},null,{"$f":"IF(OR(ISBLANK(L2128),ISBLANK(H2128)),\"\",H2128+(VLOOKUP(L2128,garantie,2,FALSE)))","v":""}]
[2128,{"$nulls":9},{"$f":"IF(B2129=\"\",\"\",D2129&\" - \"&F2129&\" - \"&G2129)","v":""},null,{"$f":"IF(OR(ISBLANK(L2129),ISBLANK(H2129)),\"\",H2129+(VLOOKUP(L2129,garantie,2,FALSE)))","v":""}]
[2129,{"$nulls":9},{"$f":"IF(B2130=\"\",\"\",D2130&\" - \"&F2130&\" - \"&G2130)","v":""},null,{"$f":"IF(OR(ISBLANK(L2130),ISBLANK(H2130)),\"\",H2130+(VLOOKUP(L2130,garantie,2,FALSE)))","v":""}]
[2130,{"$nulls":9},{"$f":"IF(B2131=\"\",\"\",D2131&\" - \"&F2131&\" - \"&G2131)","v":""},null,{"$f":"IF(OR(ISBLANK(L2131),ISBLANK(H2131)),\"\",H2131+(VLOOKUP(L2131,garantie,2,FALSE)))","v":""}]
[2131,{"$nulls":9},{"$f":"IF(B2132=\"\",\"\",D2132&\" - \"&F2132&\" - \"&G2132)","v":""},null,{"$f":"IF(OR(ISBLANK(L2132),ISBLANK(H2132)),\"\",H2132+(VLOOKUP(L2132,garantie,2,FALSE)))","v":""}]
[2132,{"$nulls":9},{"$f":"IF(B2133=\"\",\"\",D2133&\" - \"&F2133&\" - \"&G2133)","v":""},null,{"$f":"IF(OR(ISBLANK(L2133),ISBLANK(H2133)),\"\",H2133+(VLOOKUP(L2133,garantie,2,FALSE)))","v":""}]
[2133,{"$nulls":9},{"$f":"IF(B2134=\"\",\"\",D2134&\" - \"&F2134&\" - \"&G2134)","v":""},null,{"$f":"IF(OR(ISBLANK(L2134),ISBLANK(H2134)),\"\",H2134+(VLOOKUP(L2134,garantie,2,FALSE)))","v":""}]
[2134,{"$nulls":9},{"$f":"IF(B2135=\"\",\"\",D2135&\" - \"&F2135&\" - \"&G2135)","v":""},null,{"$f":"IF(OR(ISBLANK(L2135),ISBLANK(H2135)),\"\",H2135+(VLOOKUP(L2135,garantie,2,FALSE)))","v":""}]
[2135,{"$nulls":9},{"$f":"IF(B2136=\"\",\"\",D2136&\" - \"&F2136&\" - \"&G2136)","v":""},null,{"$f":"IF(OR(ISBLANK(L2136),ISBLANK(H2136)),\"\",H2136+(VLOOKUP(L2136,garantie,2,FALSE)))","v":""}]
[2136,{"$nulls":9},{"$f":"IF(B2137=\"\",\"\",D2137&\" - \"&F2137&\" - \"&G2137)","v":""},null,{"$f":"IF(OR(ISBLANK(L2137),ISBLANK(H2137)),\"\",H2137+(VLOOKUP(L2137,garantie,2,FALSE)))","v":""}]
[2137,{"$nulls":9},{"$f":"IF(B2138=\"\",\"\",D2138&\" - \"&F2138&\" - \"&G2138)","v":""},null,{"$f":"IF(OR(ISBLANK(L2138),ISBLANK(H2138)),\"\",H2138+(VLOOKUP(L2138,garantie,2,FALSE)))","v":""}]
[2138,{"$nulls":9},{"$f":"IF(B2139=\"\",\"\",D2139&\" - \"&F2139&\" - \"&G2139)","v":""},null,{"$f":"IF(OR(ISBLANK(L2139),ISBLANK(H2139)),\"\",H2139+(VLOOKUP(L2139,garantie,2,FALSE)))","v":""}]
[2139,{"$nulls":9},{"$f":"IF(B2140=\"\",\"\",D2140&\" - \"&F2140&\" - \"&G2140)","v":""},null,{"$f":"IF(OR(ISBLANK(L2140),ISBLANK(H2140)),\"\",H2140+(VLOOKUP(L2140,garantie,2,FALSE)))","v":""}]
[2140,{"$nulls":9},{"$f":"IF(B2141=\"\",\"\",D2141&\" - \"&F2141&\" - \"&G2141)","v":""},null,{"$f":"IF(OR(ISBLANK(L2141),ISBLANK(H2141)),\"\",H2141+(VLOOKUP(L2141,garantie,2,FALSE)))","v":""}]
[2141,{"$nulls":9},{"$f":"IF(B2142=\"\",\"\",D2142&\" - \"&F2142&\" - \"&G2142)","v":""},null,{"$f":"IF(OR(ISBLANK(L2142),ISBLANK(H2142)),\"\",H2142+(VLOOKUP(L2142,garantie,2,FALSE)))","v":""}]
[2142,{"$nulls":9},{"$f":"IF(B2143=\"\",\"\",D2143&\" - \"&F2143&\" - \"&G2143)","v":""},null,{"$f":"IF(OR(ISBLANK(L2143),ISBLANK(H2143)),\"\",H2143+(VLOOKUP(L2143,garantie,2,FALSE)))","v":""}]
[2143,{"$nulls":9},{"$f":"IF(B2144=\"\",\"\",D2144&\" - \"&F2144&\" - \"&G2144)","v":""},null,{"$f":"IF(OR(ISBLANK(L2144),ISBLANK(H2144)),\"\",H2144+(VLOOKUP(L2144,garantie,2,FALSE)))","v":""}]
[2144,{"$nulls":9},{"$f":"IF(B2145=\"\",\"\",D2145&\" - \"&F2145&\" - \"&G2145)","v":""},null,{"$f":"IF(OR(ISBLANK(L2145),ISBLANK(H2145)),\"\",H2145+(VLOOKUP(L2145,garantie,2,FALSE)))","v":""}]
[2145,{"$nulls":9},{"$f":"IF(B2146=\"\",\"\",D2146&\" - \"&F2146&\" - \"&G2146)","v":""},null,{"$f":"IF(OR(ISBLANK(L2146),ISBLANK(H2146)),\"\",H2146+(VLOOKUP(L2146,garantie,2,FALSE)))","v":""}]
[2146,{"$nulls":9},{"$f":"IF(B2147=\"\",\"\",D2147&\" - \"&F2147&\" - \"&G2147)","v":""},null,{"$f":"IF(OR(ISBLANK(L2147),ISBLANK(H2147)),\"\",H2147+(VLOOKUP(L2147,garantie,2,FALSE)))","v":""}]
[2147,{"$nulls":9},{"$f":"IF(B2148=\"\",\"\",D2148&\" - \"&F2148&\" - \"&G2148)","v":""},null,{"$f":"IF(OR(ISBLANK(L2148),ISBLANK(H2148)),\"\",H2148+(VLOOKUP(L2148,garantie,2,FALSE)))","v":""}]
[2148,{"$nulls":9},{"$f":"IF(B2149=\"\",\"\",D2149&\" - \"&F2149&\" - \"&G2149)","v":""},null,{"$f":"IF(OR(ISBLANK(L2149),ISBLANK(H2149)),\"\",H2149+(VLOOKUP(L2149,garantie,2,FALSE)))","v":""}]
[2149,{"$nulls":9},{"$f":"IF(B2150=\"\",\"\",D2150&\" - \"&F2150&\" - \"&G2150)","v":""},null,{"$f":"IF(OR(ISBLANK(L2150),ISBLANK(H2150)),\"\",H2150+(VLOOKUP(L2150,garantie,2,FALSE)))","v":""}]
[2150,{"$nulls":9},{"$f":"IF(B2151=\"\",\"\",D2151&\" - \"&F2151&\" - \"&G2151)","v":""},null,{"$f":"IF(OR(ISBLANK(L2151),ISBLANK(H2151)),\"\",H2151+(VLOOKUP(L2151,garantie,2,FALSE)))","v":""}]
[2151,{"$nulls":9},{"$f":"IF(B2152=\"\",\"\",D2152&\" - \"&F2152&\" - \"&G2152)","v":""},null,{"$f":"IF(OR(ISBLANK(L2152),ISBLANK(H2152)),\"\",H2152+(VLOOKUP(L2152,garantie,2,FALSE)))","v":""}]
[2152,{"$nulls":9},{"$f":"IF(B2153=\"\",\"\",D2153&\" - \"&F2153&\" - \"&G2153)","v":""},null,{"$f":"IF(OR(ISBLANK(L2153),ISBLANK(H2153)),\"\",H2153+(VLOOKUP(L2153,garantie,2,FALSE)))","v":""}]
[2153,{"$nulls":9},{"$f":"IF(B2154=\"\",\"\",D2154&\" - \"&F2154&\" - \"&G2154)","v":""},null,{"$f":"IF(OR(ISBLANK(L2154),ISBLANK(H2154)),\"\",H2154+(VLOOKUP(L2154,garantie,2,FALSE)))","v":""}]
[2154,{"$nulls":9},{"$f":"IF(B2155=\"\",\"\",D2155&\" - \"&F2155&\" - \"&G2155)","v":""},null,{"$f":"IF(OR(ISBLANK(L2155),ISBLANK(H2155)),\"\",H2155+(VLOOKUP(L2155,garantie,2,FALSE)))","v":""}]
[2155,{"$nulls":9},{"$f":"IF(B2156=\"\",\"\",D2156&\" - \"&F2156&\" - \"&G2156)","v":""},null,{"$f":"IF(OR(ISBLANK(L2156),ISBLANK(H2156)),\"\",H2156+(VLOOKUP(L2156,garantie,2,FALSE)))","v":""}]
[2156,{"$nulls":9},{"$f":"IF(B2157=\"\",\"\",D2157&\" - \"&F2157&\" - \"&G2157)","v":""},null,{"$f":"IF(OR(ISBLANK(L2157),ISBLANK(H2157)),\"\",H2157+(VLOOKUP(L2157,garantie,2,FALSE)))","v":""}]
[2157,{"$nulls":9},{"$f":"IF(B2158=\"\",\"\",D2158&\" - \"&F2158&\" - \"&G2158)","v":""},null,{"$f":"IF(OR(ISBLANK(L2158),ISBLANK(H2158)),\"\",H2158+(VLOOKUP(L2158,garantie,2,FALSE)))","v":""}]
[2158,{"$nulls":9},{"$f":"IF(B2159=\"\",\"\",D2159&\" - \"&F2159&\" - \"&G2159)","v":""},null,{"$f":"IF(OR(ISBLANK(L2159),ISBLANK(H2159)),\"\",H2159+(VLOOKUP(L2159,garantie,2,FALSE)))","v":""}]
[2159,{"$nulls":9},{"$f":"IF(B2160=\"\",\"\",D2160&\" - \"&F2160&\" - \"&G2160)","v":""},null,{"$f":"IF(OR(ISBLANK(L2160),ISBLANK(H2160)),\"\",H2160+(VLOOKUP(L2160,garantie,2,FALSE)))","v":""}]
[2160,{"$nulls":9},{"$f":"IF(B2161=\"\",\"\",D2161&\" - \"&F2161&\" - \"&G2161)","v":""},null,{"$f":"IF(OR(ISBLANK(L2161),ISBLANK(H2161)),\"\",H2161+(VLOOKUP(L2161,garantie,2,FALSE)))","v":""}]
[2161,{"$nulls":9},{"$f":"IF(B2162=\"\",\"\",D2162&\" - \"&F2162&\" - \"&G2162)","v":""},null,{"$f":"IF(OR(ISBLANK(L2162),ISBLANK(H2162)),\"\",H2162+(VLOOKUP(L2162,garantie,2,FALSE)))","v":""}]
[2162,{"$nulls":9},{"$f":"IF(B2163=\"\",\"\",D2163&\" - \"&F2163&\" - \"&G2163)","v":""},null,{"$f":"IF(OR(ISBLANK(L2163),ISBLANK(H2163)),\"\",H2163+(VLOOKUP(L2163,garantie,2,FALSE)))","v":""}]
[2163,{"$nulls":9},{"$f":"IF(B2164=\"\",\"\",D2164&\" - \"&F2164&\" - \"&G2164)","v":""},null,{"$f":"IF(OR(ISBLANK(L2164),ISBLANK(H2164)),\"\",H2164+(VLOOKUP(L2164,garantie,2,FALSE)))","v":""}]
[2164,{"$nulls":9},{"$f":"IF(B2165=\"\",\"\",D2165&\" - \"&F2165&\" - \"&G2165)","v":""},null,{"$f":"IF(OR(ISBLANK(L2165),ISBLANK(H2165)),\"\",H2165+(VLOOKUP(L2165,garantie,2,FALSE)))","v":""}]
[2165,{"$nulls":9},{"$f":"IF(B2166=\"\",\"\",D2166&\" - \"&F2166&\" - \"&G2166)","v":""},null,{"$f":"IF(OR(ISBLANK(L2166),ISBLANK(H2166)),\"\",H2166+(VLOOKUP(L2166,garantie,2,FALSE)))","v":""}]
[2166,{"$nulls":9},{"$f":"IF(B2167=\"\",\"\",D2167&\" - \"&F2167&\" - \"&G2167)","v":""},null,{"$f":"IF(OR(ISBLANK(L2167),ISBLANK(H2167)),\"\",H2167+(VLOOKUP(L2167,garantie,2,FALSE)))","v":""}]
[2167,{"$nulls":9},{"$f":"IF(B2168=\"\",\"\",D2168&\" - \"&F2168&\" - \"&G2168)","v":""},null,{"$f":"IF(OR(ISBLANK(L2168),ISBLANK(H2168)),\"\",H2168+(VLOOKUP(L2168,garantie,2,FALSE)))","v":""}]
[2168,{"$nulls":9},{"$f":"IF(B2169=\"\",\"\",D2169&\" - \"&F2169&\" - \"&G2169)","v":""},null,{"$f":"IF(OR(ISBLANK(L2169),ISBLANK(H2169)),\"\",H2169+(VLOOKUP(L2169,garantie,2,FALSE)))","v":""}]
[2169,{"$nulls":9},{"$f":"IF(B2170=\"\",\"\",D2170&\" - \"&F2170&\" - \"&G2170)","v":""},null,{"$f":"IF(OR(ISBLANK(L2170),ISBLANK(H2170)),\"\",H2170+(VLOOKUP(L2170,garantie,2,FALSE)))","v":""}]
[2170,{"$nulls":9},{"$f":"IF(B2171=\"\",\"\",D2171&\" - \"&F2171&\" - \"&G2171)","v":""},null,{"$f":"IF(OR(ISBLANK(L2171),ISBLANK(H2171)),\"\",H2171+(VLOOKUP(L2171,garantie,2,FALSE)))","v":""}]
[2171,{"$nulls":9},{"$f":"IF(B2172=\"\",\"\",D2172&\" - \"&F2172&\" - \"&G2172)","v":""},null,{"$f":"IF(OR(ISBLANK(L2172),ISBLANK(H2172)),\"\",H2172+(VLOOKUP(L2172,garantie,2,FALSE)))","v":""}]
[2172,{"$nulls":9},{"$f":"IF(B2173=\"\",\"\",D2173&\" - \"&F2173&\" - \"&G2173)","v":""},null,{"$f":"IF(OR(ISBLANK(L2173),ISBLANK(H2173)),\"\",H2173+(VLOOKUP(L2173,garantie,2,FALSE)))","v":""}]
[2173,{"$nulls":9},{"$f":"IF(B2174=\"\",\"\",D2174&\" - \"&F2174&\" - \"&G2174)","v":""},null,{"$f":"IF(OR(ISBLANK(L2174),ISBLANK(H2174)),\"\",H2174+(VLOOKUP(L2174,garantie,2,FALSE)))","v":""}]
[2174,{"$nulls":9},{"$f":"IF(B2175=\"\",\"\",D2175&\" - \"&F2175&\" - \"&G2175)","v":""},null,{"$f":"IF(OR(ISBLANK(L2175),ISBLANK(H2175)),\"\",H2175+(VLOOKUP(L2175,garantie,2,FALSE)))","v":""}]
[2175,{"$nulls":9},{"$f":"IF(B2176=\"\",\"\",D2176&\" - \"&F2176&\" - \"&G2176)","v":""},null,{"$f":"IF(OR(ISBLANK(L2176),ISBLANK(H2176)),\"\",H2176+(VLOOKUP(L2176,garantie,2,FALSE)))","v":""}]
[2176,{"$nulls":9},{"$f":"IF(B2177=\"\",\"\",D2177&\" - \"&F2177&\" - \"&G2177)","v":""},null,{"$f":"IF(OR(ISBLANK(L2177),ISBLANK(H2177)),\"\",H2177+(VLOOKUP(L2177,garantie,2,FALSE)))","v":""}]
[2177,{"$nulls":9},{"$f":"IF(B2178=\"\",\"\",D2178&\" - \"&F2178&\" - \"&G2178)","v":""},null,{"$f":"IF(OR(ISBLANK(L2178),ISBLANK(H2178)),\"\",H2178+(VLOOKUP(L2178,garantie,2,FALSE)))","v":""}]
[2178,{"$nulls":9},{"$f":"IF(B2179=\"\",\"\",D2179&\" - \"&F2179&\" - \"&G2179)","v":""},null,{"$f":"IF(OR(ISBLANK(L2179),ISBLANK(H2179)),\"\",H2179+(VLOOKUP(L2179,garantie,2,FALSE)))","v":""}]
[2179,{"$nulls":9},{"$f":"IF(B2180=\"\",\"\",D2180&\" - \"&F2180&\" - \"&G2180)","v":""},null,{"$f":"IF(OR(ISBLANK(L2180),ISBLANK(H2180)),\"\",H2180+(VLOOKUP(L2180,garantie,2,FALSE)))","v":""}]
[2180,{"$nulls":9},{"$f":"IF(B2181=\"\",\"\",D2181&\" - \"&F2181&\" - \"&G2181)","v":""},null,{"$f":"IF(OR(ISBLANK(L2181),ISBLANK(H2181)),\"\",H2181+(VLOOKUP(L2181,garantie,2,FALSE)))","v":""}]
[2181,{"$nulls":9},{"$f":"IF(B2182=\"\",\"\",D2182&\" - \"&F2182&\" - \"&G2182)","v":""},null,{"$f":"IF(OR(ISBLANK(L2182),ISBLANK(H2182)),\"\",H2182+(VLOOKUP(L2182,garantie,2,FALSE)))","v":""}]
[2182,{"$nulls":9},{"$f":"IF(B2183=\"\",\"\",D2183&\" - \"&F2183&\" - \"&G2183)","v":""},null,{"$f":"IF(OR(ISBLANK(L2183),ISBLANK(H2183)),\"\",H2183+(VLOOKUP(L2183,garantie,2,FALSE)))","v":""}]
[2183,{"$nulls":9},{"$f":"IF(B2184=\"\",\"\",D2184&\" - \"&F2184&\" - \"&G2184)","v":""},null,{"$f":"IF(OR(ISBLANK(L2184),ISBLANK(H2184)),\"\",H2184+(VLOOKUP(L2184,garantie,2,FALSE)))","v":""}]
[2184,{"$nulls":9},{"$f":"IF(B2185=\"\",\"\",D2185&\" - \"&F2185&\" - \"&G2185)","v":""},null,{"$f":"IF(OR(ISBLANK(L2185),ISBLANK(H2185)),\"\",H2185+(VLOOKUP(L2185,garantie,2,FALSE)))","v":""}]
[2185,{"$nulls":9},{"$f":"IF(B2186=\"\",\"\",D2186&\" - \"&F2186&\" - \"&G2186)","v":""},null,{"$f":"IF(OR(ISBLANK(L2186),ISBLANK(H2186)),\"\",H2186+(VLOOKUP(L2186,garantie,2,FALSE)))","v":""}]
[2186,{"$nulls":9},{"$f":"IF(B2187=\"\",\"\",D2187&\" - \"&F2187&\" - \"&G2187)","v":""},null,{"$f":"IF(OR(ISBLANK(L2187),ISBLANK(H2187)),\"\",H2187+(VLOOKUP(L2187,garantie,2,FALSE)))","v":""}]
[2187,{"$nulls":9},{"$f":"IF(B2188=\"\",\"\",D2188&\" - \"&F2188&\" - \"&G2188)","v":""},null,{"$f":"IF(OR(ISBLANK(L2188),ISBLANK(H2188)),\"\",H2188+(VLOOKUP(L2188,garantie,2,FALSE)))","v":""}]
[2188,{"$nulls":9},{"$f":"IF(B2189=\"\",\"\",D2189&\" - \"&F2189&\" - \"&G2189)","v":""},null,{"$f":"IF(OR(ISBLANK(L2189),ISBLANK(H2189)),\"\",H2189+(VLOOKUP(L2189,garantie,2,FALSE)))","v":""}]
[2189,{"$nulls":9},{"$f":"IF(B2190=\"\",\"\",D2190&\" - \"&F2190&\" - \"&G2190)","v":""},null,{"$f":"IF(OR(ISBLANK(L2190),ISBLANK(H2190)),\"\",H2190+(VLOOKUP(L2190,garantie,2,FALSE)))","v":""}]
[2190,{"$nulls":9},{"$f":"IF(B2191=\"\",\"\",D2191&\" - \"&F2191&\" - \"&G2191)","v":""},null,{"$f":"IF(OR(ISBLANK(L2191),ISBLANK(H2191)),\"\",H2191+(VLOOKUP(L2191,garantie,2,FALSE)))","v":""}]
[2191,{"$nulls":9},{"$f":"IF(B2192=\"\",\"\",D2192&\" - \"&F2192&\" - \"&G2192)","v":""},null,{"$f":"IF(OR(ISBLANK(L2192),ISBLANK(H2192)),\"\",H2192+(VLOOKUP(L2192,garantie,2,FALSE)))","v":""}]
[2192,{"$nulls":9},{"$f":"IF(B2193=\"\",\"\",D2193&\" - \"&F2193&\" - \"&G2193)","v":""},null,{"$f":"IF(OR(ISBLANK(L2193),ISBLANK(H2193)),\"\",H2193+(VLOOKUP(L2193,garantie,2,FALSE)))","v":""}]
[2193,{"$nulls":9},{"$f":"IF(B2194=\"\",\"\",D2194&\" - \"&F2194&\" - \"&G2194)","v":""},null,{"$f":"IF(OR(ISBLANK(L2194),ISBLANK(H2194)),\"\",H2194+(VLOOKUP(L2194,garantie,2,FALSE)))","v":""}]
[2194,{"$nulls":9},{"$f":"IF(B2195=\"\",\"\",D2195&\" - \"&F2195&\" - \"&G2195)","v":""},null,{"$f":"IF(OR(ISBLANK(L2195),ISBLANK(H2195)),\"\",H2195+(VLOOKUP(L2195,garantie,2,FALSE)))","v":""}]
[2195,{"$nulls":9},{"$f":"IF(B2196=\"\",\"\",D2196&\" - \"&F2196&\" - \"&G2196)","v":""},null,{"$f":"IF(OR(ISBLANK(L2196),ISBLANK(H2196)),\"\",H2196+(VLOOKUP(L2196,garantie,2,FALSE)))","v":""}]
[2196,{"$nulls":9},{"$f":"IF(B2197=\"\",\"\",D2197&\" - \"&F2197&\" - \"&G2197)","v":""},null,{"$f":"IF(OR(ISBLANK(L2197),ISBLANK(H2197)),\"\",H2197+(VLOOKUP(L2197,garantie,2,FALSE)))","v":""}]
[2197,{"$nulls":9},{"$f":"IF(B2198=\"\",\"\",D2198&\" - \"&F2198&\" - \"&G2198)","v":""},null,{"$f":"IF(OR(ISBLANK(L2198),ISBLANK(H2198)),\"\",H2198+(VLOOKUP(L2198,garantie,2,FALSE)))","v":""}]
[2198,{"$nulls":9},{"$f":"IF(B2199=\"\",\"\",D2199&\" - \"&F2199&\" - \"&G2199)","v":""},null,{"$f":"IF(OR(ISBLANK(L2199),ISBLANK(H2199)),\"\",H2199+(VLOOKUP(L2199,garantie,2,FALSE)))","v":""}]
[2199,{"$nulls":9},{"$f":"IF(B2200=\"\",\"\",D2200&\" - \"&F2200&\" - \"&G2200)","v":""},null,{"$f":"IF(OR(ISBLANK(L2200),ISBLANK(H2200)),\"\",H2200+(VLOOKUP(L2200,garantie,2,FALSE)))","v":""}]
[2200,{"$nulls":9},{"$f":"IF(B2201=\"\",\"\",D2201&\" - \"&F2201&\" - \"&G2201)","v":""},null,{"$f":"IF(OR(ISBLANK(L2201),ISBLANK(H2201)),\"\",H2201+(VLOOKUP(L2201,garantie,2,FALSE)))","v":""}]
[2201,{"$nulls":9},{"$f":"IF(B2202=\"\",\"\",D2202&\" - \"&F2202&\" - \"&G2202)","v":""},null,{"$f":"IF(OR(ISBLANK(L2202),ISBLANK(H2202)),\"\",H2202+(VLOOKUP(L2202,garantie,2,FALSE)))","v":""}]
[2202,{"$nulls":9},{"$f":"IF(B2203=\"\",\"\",D2203&\" - \"&F2203&\" - \"&G2203)","v":""},null,{"$f":"IF(OR(ISBLANK(L2203),ISBLANK(H2203)),\"\",H2203+(VLOOKUP(L2203,garantie,2,FALSE)))","v":""}]
[2203,{"$nulls":9},{"$f":"IF(B2204=\"\",\"\",D2204&\" - \"&F2204&\" - \"&G2204)","v":""},null,{"$f":"IF(OR(ISBLANK(L2204),ISBLANK(H2204)),\"\",H2204+(VLOOKUP(L2204,garantie,2,FALSE)))","v":""}]
[2204,{"$nulls":9},{"$f":"IF(B2205=\"\",\"\",D2205&\" - \"&F2205&\" - \"&G2205)","v":""},null,{"$f":"IF(OR(ISBLANK(L2205),ISBLANK(H2205)),\"\",H2205+(VLOOKUP(L2205,garantie,2,FALSE)))","v":""}]
[2205,{"$nulls":9},{"$f":"IF(B2206=\"\",\"\",D2206&\" - \"&F2206&\" - \"&G2206)","v":""},null,{"$f":"IF(OR(ISBLANK(L2206),ISBLANK(H2206)),\"\",H2206+(VLOOKUP(L2206,garantie,2,FALSE)))","v":""}]
[2206,{"$nulls":9},{"$f":"IF(B2207=\"\",\"\",D2207&\" - \"&F2207&\" - \"&G2207)","v":""},null,{"$f":"IF(OR(ISBLANK(L2207),ISBLANK(H2207)),\"\",H2207+(VLOOKUP(L2207,garantie,2,FALSE)))","v":""}]
[2207,{"$nulls":9},{"$f":"IF(B2208=\"\",\"\",D2208&\" - \"&F2208&\" - \"&G2208)","v":""},null,{"$f":"IF(OR(ISBLANK(L2208),ISBLANK(H2208)),\"\",H2208+(VLOOKUP(L2208,garantie,2,FALSE)))","v":""}]
[2208,{"$nulls":9},{"$f":"IF(B2209=\"\",\"\",D2209&\" - \"&F2209&\" - \"&G2209)","v":""},null,{"$f":"IF(OR(ISBLANK(L2209),ISBLANK(H2209)),\"\",H2209+(VLOOKUP(L2209,garantie,2,FALSE)))","v":""}]
[2209,{"$nulls":9},{"$f":"IF(B2210=\"\",\"\",D2210&\" - \"&F2210&\" - \"&G2210)","v":""},null,{"$f":"IF(OR(ISBLANK(L2210),ISBLANK(H2210)),\"\",H2210+(VLOOKUP(L2210,garantie,2,FALSE)))","v":""}]
[2210,{"$nulls":9},{"$f":"IF(B2211=\"\",\"\",D2211&\" - \"&F2211&\" - \"&G2211)","v":""},null,{"$f":"IF(OR(ISBLANK(L2211),ISBLANK(H2211)),\"\",H2211+(VLOOKUP(L2211,garantie,2,FALSE)))","v":""}]
[2211,{"$nulls":9},{"$f":"IF(B2212=\"\",\"\",D2212&\" - \"&F2212&\" - \"&G2212)","v":""},null,{"$f":"IF(OR(ISBLANK(L2212),ISBLANK(H2212)),\"\",H2212+(VLOOKUP(L2212,garantie,2,FALSE)))","v":""}]
[2212,{"$nulls":9},{"$f":"IF(B2213=\"\",\"\",D2213&\" - \"&F2213&\" - \"&G2213)","v":""},null,{"$f":"IF(OR(ISBLANK(L2213),ISBLANK(H2213)),\"\",H2213+(VLOOKUP(L2213,garantie,2,FALSE)))","v":""}]
[2213,{"$nulls":9},{"$f":"IF(B2214=\"\",\"\",D2214&\" - \"&F2214&\" - \"&G2214)","v":""},null,{"$f":"IF(OR(ISBLANK(L2214),ISBLANK(H2214)),\"\",H2214+(VLOOKUP(L2214,garantie,2,FALSE)))","v":""}]
[2214,{"$nulls":9},{"$f":"IF(B2215=\"\",\"\",D2215&\" - \"&F2215&\" - \"&G2215)","v":""},null,{"$f":"IF(OR(ISBLANK(L2215),ISBLANK(H2215)),\"\",H2215+(VLOOKUP(L2215,garantie,2,FALSE)))","v":""}]
[2215,{"$nulls":9},{"$f":"IF(B2216=\"\",\"\",D2216&\" - \"&F2216&\" - \"&G2216)","v":""},null,{"$f":"IF(OR(ISBLANK(L2216),ISBLANK(H2216)),\"\",H2216+(VLOOKUP(L2216,garantie,2,FALSE)))","v":""}]
[2216,{"$nulls":9},{"$f":"IF(B2217=\"\",\"\",D2217&\" - \"&F2217&\" - \"&G2217)","v":""},null,{"$f":"IF(OR(ISBLANK(L2217),ISBLANK(H2217)),\"\",H2217+(VLOOKUP(L2217,garantie,2,FALSE)))","v":""}]
[2217,{"$nulls":9},{"$f":"IF(B2218=\"\",\"\",D2218&\" - \"&F2218&\" - \"&G2218)","v":""},null,{"$f":"IF(OR(ISBLANK(L2218),ISBLANK(H2218)),\"\",H2218+(VLOOKUP(L2218,garantie,2,FALSE)))","v":""}]
[2218,{"$nulls":9},{"$f":"IF(B2219=\"\",\"\",D2219&\" - \"&F2219&\" - \"&G2219)","v":""},null,{"$f":"IF(OR(ISBLANK(L2219),ISBLANK(H2219)),\"\",H2219+(VLOOKUP(L2219,garantie,2,FALSE)))","v":""}]
[2219,{"$nulls":9},{"$f":"IF(B2220=\"\",\"\",D2220&\" - \"&F2220&\" - \"&G2220)","v":""},null,{"$f":"IF(OR(ISBLANK(L2220),ISBLANK(H2220)),\"\",H2220+(VLOOKUP(L2220,garantie,2,FALSE)))","v":""}]
[2220,{"$nulls":9},{"$f":"IF(B2221=\"\",\"\",D2221&\" - \"&F2221&\" - \"&G2221)","v":""},null,{"$f":"IF(OR(ISBLANK(L2221),ISBLANK(H2221)),\"\",H2221+(VLOOKUP(L2221,garantie,2,FALSE)))","v":""}]
[2221,{"$nulls":9},{"$f":"IF(B2222=\"\",\"\",D2222&\" - \"&F2222&\" - \"&G2222)","v":""},null,{"$f":"IF(OR(ISBLANK(L2222),ISBLANK(H2222)),\"\",H2222+(VLOOKUP(L2222,garantie,2,FALSE)))","v":""}]
[2222,{"$nulls":9},{"$f":"IF(B2223=\"\",\"\",D2223&\" - \"&F2223&\" - \"&G2223)","v":""},null,{"$f":"IF(OR(ISBLANK(L2223),ISBLANK(H2223)),\"\",H2223+(VLOOKUP(L2223,garantie,2,FALSE)))","v":""}]
[2223,{"$nulls":9},{"$f":"IF(B2224=\"\",\"\",D2224&\" - \"&F2224&\" - \"&G2224)","v":""},null,{"$f":"IF(OR(ISBLANK(L2224),ISBLANK(H2224)),\"\",H2224+(VLOOKUP(L2224,garantie,2,FALSE)))","v":""}]
[2224,{"$nulls":9},{"$f":"IF(B2225=\"\",\"\",D2225&\" - \"&F2225&\" - \"&G2225)","v":""},null,{"$f":"IF(OR(ISBLANK(L2225),ISBLANK(H2225)),\"\",H2225+(VLOOKUP(L2225,garantie,2,FALSE)))","v":""}]
[2225,{"$nulls":9},{"$f":"IF(B2226=\"\",\"\",D2226&\" - \"&F2226&\" - \"&G2226)","v":""},null,{"$f":"IF(OR(ISBLANK(L2226),ISBLANK(H2226)),\"\",H2226+(VLOOKUP(L2226,garantie,2,FALSE)))","v":""}]
[2226,{"$nulls":9},{"$f":"IF(B2227=\"\",\"\",D2227&\" - \"&F2227&\" - \"&G2227)","v":""},null,{"$f":"IF(OR(ISBLANK(L2227),ISBLANK(H2227)),\"\",H2227+(VLOOKUP(L2227,garantie,2,FALSE)))","v":""}]
[2227,{"$nulls":9},{"$f":"IF(B2228=\"\",\"\",D2228&\" - \"&F2228&\" - \"&G2228)","v":""},null,{"$f":"IF(OR(ISBLANK(L2228),ISBLANK(H2228)),\"\",H2228+(VLOOKUP(L2228,garantie,2,FALSE)))","v":""}]
[2228,{"$nulls":9},{"$f":"IF(B2229=\"\",\"\",D2229&\" - \"&F2229&\" - \"&G2229)","v":""},null,{"$f":"IF(OR(ISBLANK(L2229),ISBLANK(H2229)),\"\",H2229+(VLOOKUP(L2229,garantie,2,FALSE)))","v":""}]
[2229,{"$nulls":9},{"$f":"IF(B2230=\"\",\"\",D2230&\" - \"&F2230&\" - \"&G2230)","v":""},null,{"$f":"IF(OR(ISBLANK(L2230),ISBLANK(H2230)),\"\",H2230+(VLOOKUP(L2230,garantie,2,FALSE)))","v":""}]
[2230,{"$nulls":9},{"$f":"IF(B2231=\"\",\"\",D2231&\" - \"&F2231&\" - \"&G2231)","v":""},null,{"$f":"IF(OR(ISBLANK(L2231),ISBLANK(H2231)),\"\",H2231+(VLOOKUP(L2231,garantie,2,FALSE)))","v":""}]
[2231,{"$nulls":9},{"$f":"IF(B2232=\"\",\"\",D2232&\" - \"&F2232&\" - \"&G2232)","v":""},null,{"$f":"IF(OR(ISBLANK(L2232),ISBLANK(H2232)),\"\",H2232+(VLOOKUP(L2232,garantie,2,FALSE)))","v":""}]
[2232,{"$nulls":9},{"$f":"IF(B2233=\"\",\"\",D2233&\" - \"&F2233&\" - \"&G2233)","v":""},null,{"$f":"IF(OR(ISBLANK(L2233),ISBLANK(H2233)),\"\",H2233+(VLOOKUP(L2233,garantie,2,FALSE)))","v":""}]
[2233,{"$nulls":9},{"$f":"IF(B2234=\"\",\"\",D2234&\" - \"&F2234&\" - \"&G2234)","v":""},null,{"$f":"IF(OR(ISBLANK(L2234),ISBLANK(H2234)),\"\",H2234+(VLOOKUP(L2234,garantie,2,FALSE)))","v":""}]
[2234,{"$nulls":9},{"$f":"IF(B2235=\"\",\"\",D2235&\" - \"&F2235&\" - \"&G2235)","v":""},null,{"$f":"IF(OR(ISBLANK(L2235),ISBLANK(H2235)),\"\",H2235+(VLOOKUP(L2235,garantie,2,FALSE)))","v":""}]
[2235,{"$nulls":9},{"$f":"IF(B2236=\"\",\"\",D2236&\" - \"&F2236&\" - \"&G2236)","v":""},null,{"$f":"IF(OR(ISBLANK(L2236),ISBLANK(H2236)),\"\",H2236+(VLOOKUP(L2236,garantie,2,FALSE)))","v":""}]
[2236,{"$nulls":9},{"$f":"IF(B2237=\"\",\"\",D2237&\" - \"&F2237&\" - \"&G2237)","v":""},null,{"$f":"IF(OR(ISBLANK(L2237),ISBLANK(H2237)),\"\",H2237+(VLOOKUP(L2237,garantie,2,FALSE)))","v":""}]
[2237,{"$nulls":9},{"$f":"IF(B2238=\"\",\"\",D2238&\" - \"&F2238&\" - \"&G2238)","v":""},null,{"$f":"IF(OR(ISBLANK(L2238),ISBLANK(H2238)),\"\",H2238+(VLOOKUP(L2238,garantie,2,FALSE)))","v":""}]
[2238,{"$nulls":9},{"$f":"IF(B2239=\"\",\"\",D2239&\" - \"&F2239&\" - \"&G2239)","v":""},null,{"$f":"IF(OR(ISBLANK(L2239),ISBLANK(H2239)),\"\",H2239+(VLOOKUP(L2239,garantie,2,FALSE)))","v":""}]
[2239,{"$nulls":9},{"$f":"IF(B2240=\"\",\"\",D2240&\" - \"&F2240&\" - \"&G2240)","v":""},null,{"$f":"IF(OR(ISBLANK(L2240),ISBLANK(H2240)),\"\",H2240+(VLOOKUP(L2240,garantie,2,FALSE)))","v":""}]
[2240,{"$nulls":9},{"$f":"IF(B2241=\"\",\"\",D2241&\" - \"&F2241&\" - \"&G2241)","v":""},null,{"$f":"IF(OR(ISBLANK(L2241),ISBLANK(H2241)),\"\",H2241+(VLOOKUP(L2241,garantie,2,FALSE)))","v":""}]
[2241,{"$nulls":9},{"$f":"IF(B2242=\"\",\"\",D2242&\" - \"&F2242&\" - \"&G2242)","v":""},null,{"$f":"IF(OR(ISBLANK(L2242),ISBLANK(H2242)),\"\",H2242+(VLOOKUP(L2242,garantie,2,FALSE)))","v":""}]
[2242,{"$nulls":9},{"$f":"IF(B2243=\"\",\"\",D2243&\" - \"&F2243&\" - \"&G2243)","v":""},null,{"$f":"IF(OR(ISBLANK(L2243),ISBLANK(H2243)),\"\",H2243+(VLOOKUP(L2243,garantie,2,FALSE)))","v":""}]
[2243,{"$nulls":9},{"$f":"IF(B2244=\"\",\"\",D2244&\" - \"&F2244&\" - \"&G2244)","v":""},null,{"$f":"IF(OR(ISBLANK(L2244),ISBLANK(H2244)),\"\",H2244+(VLOOKUP(L2244,garantie,2,FALSE)))","v":""}]
[2244,{"$nulls":9},{"$f":"IF(B2245=\"\",\"\",D2245&\" - \"&F2245&\" - \"&G2245)","v":""},null,{"$f":"IF(OR(ISBLANK(L2245),ISBLANK(H2245)),\"\",H2245+(VLOOKUP(L2245,garantie,2,FALSE)))","v":""}]
[2245,{"$nulls":9},{"$f":"IF(B2246=\"\",\"\",D2246&\" - \"&F2246&\" - \"&G2246)","v":""},null,{"$f":"IF(OR(ISBLANK(L2246),ISBLANK(H2246)),\"\",H2246+(VLOOKUP(L2246,garantie,2,FALSE)))","v":""}]
[2246,{"$nulls":9},{"$f":"IF(B2247=\"\",\"\",D2247&\" - \"&F2247&\" - \"&G2247)","v":""},null,{"$f":"IF(OR(ISBLANK(L2247),ISBLANK(H2247)),\"\",H2247+(VLOOKUP(L2247,garantie,2,FALSE)))","v":""}]
[2247,{"$nulls":9},{"$f":"IF(B2248=\"\",\"\",D2248&\" - \"&F2248&\" - \"&G2248)","v":""},null,{"$f":"IF(OR(ISBLANK(L2248),ISBLANK(H2248)),\"\",H2248+(VLOOKUP(L2248,garantie,2,FALSE)))","v":""}]
[2248,{"$nulls":9},{"$f":"IF(B2249=\"\",\"\",D2249&\" - \"&F2249&\" - \"&G2249)","v":""},null,{"$f":"IF(OR(ISBLANK(L2249),ISBLANK(H2249)),\"\",H2249+(VLOOKUP(L2249,garantie,2,FALSE)))","v":""}]
[2249,{"$nulls":9},{"$f":"IF(B2250=\"\",\"\",D2250&\" - \"&F2250&\" - \"&G2250)","v":""},null,{"$f":"IF(OR(ISBLANK(L2250),ISBLANK(H2250)),\"\",H2250+(VLOOKUP(L2250,garantie,2,FALSE)))","v":""}]
[2250,{"$nulls":9},{"$f":"IF(B2251=\"\",\"\",D2251&\" - \"&F2251&\" - \"&G2251)","v":""},null,{"$f":"IF(OR(ISBLANK(L2251),ISBLANK(H2251)),\"\",H2251+(VLOOKUP(L2251,garantie,2,FALSE)))","v":""}]
[2251,{"$nulls":9},{"$f":"IF(B2252=\"\",\"\",D2252&\" - \"&F2252&\" - \"&G2252)","v":""},null,{"$f":"IF(OR(ISBLANK(L2252),ISBLANK(H2252)),\"\",H2252+(VLOOKUP(L2252,garantie,2,FALSE)))","v":""}]
[2252,{"$nulls":9},{"$f":"IF(B2253=\"\",\"\",D2253&\" - \"&F2253&\" - \"&G2253)","v":""},null,{"$f":"IF(OR(ISBLANK(L2253),ISBLANK(H2253)),\"\",H2253+(VLOOKUP(L2253,garantie,2,FALSE)))","v":""}]
[2253,{"$nulls":9},{"$f":"IF(B2254=\"\",\"\",D2254&\" - \"&F2254&\" - \"&G2254)","v":""},null,{"$f":"IF(OR(ISBLANK(L2254),ISBLANK(H2254)),\"\",H2254+(VLOOKUP(L2254,garantie,2,FALSE)))","v":""}]
[2254,{"$nulls":9},{"$f":"IF(B2255=\"\",\"\",D2255&\" - \"&F2255&\" - \"&G2255)","v":""},null,{"$f":"IF(OR(ISBLANK(L2255),ISBLANK(H2255)),\"\",H2255+(VLOOKUP(L2255,garantie,2,FALSE)))","v":""}]
[2255,{"$nulls":9},{"$f":"IF(B2256=\"\",\"\",D2256&\" - \"&F2256&\" - \"&G2256)","v":""},null,{"$f":"IF(OR(ISBLANK(L2256),ISBLANK(H2256)),\"\",H2256+(VLOOKUP(L2256,garantie,2,FALSE)))","v":""}]
[2256,{"$nulls":9},{"$f":"IF(B2257=\"\",\"\",D2257&\" - \"&F2257&\" - \"&G2257)","v":""},null,{"$f":"IF(OR(ISBLANK(L2257),ISBLANK(H2257)),\"\",H2257+(VLOOKUP(L2257,garantie,2,FALSE)))","v":""}]
[2257,{"$nulls":9},{"$f":"IF(B2258=\"\",\"\",D2258&\" - \"&F2258&\" - \"&G2258)","v":""},null,{"$f":"IF(OR(ISBLANK(L2258),ISBLANK(H2258)),\"\",H2258+(VLOOKUP(L2258,garantie,2,FALSE)))","v":""}]
[2258,{"$nulls":9},{"$f":"IF(B2259=\"\",\"\",D2259&\" - \"&F2259&\" - \"&G2259)","v":""},null,{"$f":"IF(OR(ISBLANK(L2259),ISBLANK(H2259)),\"\",H2259+(VLOOKUP(L2259,garantie,2,FALSE)))","v":""}]
[2259,{"$nulls":9},{"$f":"IF(B2260=\"\",\"\",D2260&\" - \"&F2260&\" - \"&G2260)","v":""},null,{"$f":"IF(OR(ISBLANK(L2260),ISBLANK(H2260)),\"\",H2260+(VLOOKUP(L2260,garantie,2,FALSE)))","v":""}]
[2260,{"$nulls":9},{"$f":"IF(B2261=\"\",\"\",D2261&\" - \"&F2261&\" - \"&G2261)","v":""},null,{"$f":"IF(OR(ISBLANK(L2261),ISBLANK(H2261)),\"\",H2261+(VLOOKUP(L2261,garantie,2,FALSE)))","v":""}]
[2261,{"$nulls":9},{"$f":"IF(B2262=\"\",\"\",D2262&\" - \"&F2262&\" - \"&G2262)","v":""},null,{"$f":"IF(OR(ISBLANK(L2262),ISBLANK(H2262)),\"\",H2262+(VLOOKUP(L2262,garantie,2,FALSE)))","v":""}]
[2262,{"$nulls":9},{"$f":"IF(B2263=\"\",\"\",D2263&\" - \"&F2263&\" - \"&G2263)","v":""},null,{"$f":"IF(OR(ISBLANK(L2263),ISBLANK(H2263)),\"\",H2263+(VLOOKUP(L2263,garantie,2,FALSE)))","v":""}]
[2263,{"$nulls":9},{"$f":"IF(B2264=\"\",\"\",D2264&\" - \"&F2264&\" - \"&G2264)","v":""},null,{"$f":"IF(OR(ISBLANK(L2264),ISBLANK(H2264)),\"\",H2264+(VLOOKUP(L2264,garantie,2,FALSE)))","v":""}]
[2264,{"$nulls":9},{"$f":"IF(B2265=\"\",\"\",D2265&\" - \"&F2265&\" - \"&G2265)","v":""},null,{"$f":"IF(OR(ISBLANK(L2265),ISBLANK(H2265)),\"\",H2265+(VLOOKUP(L2265,garantie,2,FALSE)))","v":""}]
[2265,{"$nulls":9},{"$f":"IF(B2266=\"\",\"\",D2266&\" - \"&F2266&\" - \"&G2266)","v":""},null,{"$f":"IF(OR(ISBLANK(L2266),ISBLANK(H2266)),\"\",H2266+(VLOOKUP(L2266,garantie,2,FALSE)))","v":""}]
[2266,{"$nulls":9},{"$f":"IF(B2267=\"\",\"\",D2267&\" - \"&F2267&\" - \"&G2267)","v":""},null,{"$f":"IF(OR(ISBLANK(L2267),ISBLANK(H2267)),\"\",H2267+(VLOOKUP(L2267,garantie,2,FALSE)))","v":""}]
[2267,{"$nulls":9},{"$f":"IF(B2268=\"\",\"\",D2268&\" - \"&F2268&\" - \"&G2268)","v":""},null,{"$f":"IF(OR(ISBLANK(L2268),ISBLANK(H2268)),\"\",H2268+(VLOOKUP(L2268,garantie,2,FALSE)))","v":""}]
[2268,{"$nulls":9},{"$f":"IF(B2269=\"\",\"\",D2269&\" - \"&F2269&\" - \"&G2269)","v":""},null,{"$f":"IF(OR(ISBLANK(L2269),ISBLANK(H2269)),\"\",H2269+(VLOOKUP(L2269,garantie,2,FALSE)))","v":""}]
[2269,{"$nulls":9},{"$f":"IF(B2270=\"\",\"\",D2270&\" - \"&F2270&\" - \"&G2270)","v":""},null,{"$f":"IF(OR(ISBLANK(L2270),ISBLANK(H2270)),\"\",H2270+(VLOOKUP(L2270,garantie,2,FALSE)))","v":""}]
[2270,{"$nulls":9},{"$f":"IF(B2271=\"\",\"\",D2271&\" - \"&F2271&\" - \"&G2271)","v":""},null,{"$f":"IF(OR(ISBLANK(L2271),ISBLANK(H2271)),\"\",H2271+(VLOOKUP(L2271,garantie,2,FALSE)))","v":""}]
[2271,{"$nulls":9},{"$f":"IF(B2272=\"\",\"\",D2272&\" - \"&F2272&\" - \"&G2272)","v":""},null,{"$f":"IF(OR(ISBLANK(L2272),ISBLANK(H2272)),\"\",H2272+(VLOOKUP(L2272,garantie,2,FALSE)))","v":""}]
[2272,{"$nulls":9},{"$f":"IF(B2273=\"\",\"\",D2273&\" - \"&F2273&\" - \"&G2273)","v":""},null,{"$f":"IF(OR(ISBLANK(L2273),ISBLANK(H2273)),\"\",H2273+(VLOOKUP(L2273,garantie,2,FALSE)))","v":""}]
[2273,{"$nulls":9},{"$f":"IF(B2274=\"\",\"\",D2274&\" - \"&F2274&\" - \"&G2274)","v":""},null,{"$f":"IF(OR(ISBLANK(L2274),ISBLANK(H2274)),\"\",H2274+(VLOOKUP(L2274,garantie,2,FALSE)))","v":""}]
[2274,{"$nulls":9},{"$f":"IF(B2275=\"\",\"\",D2275&\" - \"&F2275&\" - \"&G2275)","v":""},null,{"$f":"IF(OR(ISBLANK(L2275),ISBLANK(H2275)),\"\",H2275+(VLOOKUP(L2275,garantie,2,FALSE)))","v":""}]
[2275,{"$nulls":9},{"$f":"IF(B2276=\"\",\"\",D2276&\" - \"&F2276&\" - \"&G2276)","v":""},null,{"$f":"IF(OR(ISBLANK(L2276),ISBLANK(H2276)),\"\",H2276+(VLOOKUP(L2276,garantie,2,FALSE)))","v":""}]
[2276,{"$nulls":9},{"$f":"IF(B2277=\"\",\"\",D2277&\" - \"&F2277&\" - \"&G2277)","v":""},null,{"$f":"IF(OR(ISBLANK(L2277),ISBLANK(H2277)),\"\",H2277+(VLOOKUP(L2277,garantie,2,FALSE)))","v":""}]
[2277,{"$nulls":9},{"$f":"IF(B2278=\"\",\"\",D2278&\" - \"&F2278&\" - \"&G2278)","v":""},null,{"$f":"IF(OR(ISBLANK(L2278),ISBLANK(H2278)),\"\",H2278+(VLOOKUP(L2278,garantie,2,FALSE)))","v":""}]
[2278,{"$nulls":9},{"$f":"IF(B2279=\"\",\"\",D2279&\" - \"&F2279&\" - \"&G2279)","v":""},null,{"$f":"IF(OR(ISBLANK(L2279),ISBLANK(H2279)),\"\",H2279+(VLOOKUP(L2279,garantie,2,FALSE)))","v":""}]
[2279,{"$nulls":9},{"$f":"IF(B2280=\"\",\"\",D2280&\" - \"&F2280&\" - \"&G2280)","v":""},null,{"$f":"IF(OR(ISBLANK(L2280),ISBLANK(H2280)),\"\",H2280+(VLOOKUP(L2280,garantie,2,FALSE)))","v":""}]
[2280,{"$nulls":9},{"$f":"IF(B2281=\"\",\"\",D2281&\" - \"&F2281&\" - \"&G2281)","v":""},null,{"$f":"IF(OR(ISBLANK(L2281),ISBLANK(H2281)),\"\",H2281+(VLOOKUP(L2281,garantie,2,FALSE)))","v":""}]
[2281,{"$nulls":9},{"$f":"IF(B2282=\"\",\"\",D2282&\" - \"&F2282&\" - \"&G2282)","v":""},null,{"$f":"IF(OR(ISBLANK(L2282),ISBLANK(H2282)),\"\",H2282+(VLOOKUP(L2282,garantie,2,FALSE)))","v":""}]
[2282,{"$nulls":9},{"$f":"IF(B2283=\"\",\"\",D2283&\" - \"&F2283&\" - \"&G2283)","v":""},null,{"$f":"IF(OR(ISBLANK(L2283),ISBLANK(H2283)),\"\",H2283+(VLOOKUP(L2283,garantie,2,FALSE)))","v":""}]
[2283,{"$nulls":9},{"$f":"IF(B2284=\"\",\"\",D2284&\" - \"&F2284&\" - \"&G2284)","v":""},null,{"$f":"IF(OR(ISBLANK(L2284),ISBLANK(H2284)),\"\",H2284+(VLOOKUP(L2284,garantie,2,FALSE)))","v":""}]
[2284,{"$nulls":9},{"$f":"IF(B2285=\"\",\"\",D2285&\" - \"&F2285&\" - \"&G2285)","v":""},null,{"$f":"IF(OR(ISBLANK(L2285),ISBLANK(H2285)),\"\",H2285+(VLOOKUP(L2285,garantie,2,FALSE)))","v":""}]
[2285,{"$nulls":9},{"$f":"IF(B2286=\"\",\"\",D2286&\" - \"&F2286&\" - \"&G2286)","v":""},null,{"$f":"IF(OR(ISBLANK(L2286),ISBLANK(H2286)),\"\",H2286+(VLOOKUP(L2286,garantie,2,FALSE)))","v":""}]
[2286,{"$nulls":9},{"$f":"IF(B2287=\"\",\"\",D2287&\" - \"&F2287&\" - \"&G2287)","v":""},null,{"$f":"IF(OR(ISBLANK(L2287),ISBLANK(H2287)),\"\",H2287+(VLOOKUP(L2287,garantie,2,FALSE)))","v":""}]
[2287,{"$nulls":9},{"$f":"IF(B2288=\"\",\"\",D2288&\" - \"&F2288&\" - \"&G2288)","v":""},null,{"$f":"IF(OR(ISBLANK(L2288),ISBLANK(H2288)),\"\",H2288+(VLOOKUP(L2288,garantie,2,FALSE)))","v":""}]
[2288,{"$nulls":9},{"$f":"IF(B2289=\"\",\"\",D2289&\" - \"&F2289&\" - \"&G2289)","v":""},null,{"$f":"IF(OR(ISBLANK(L2289),ISBLANK(H2289)),\"\",H2289+(VLOOKUP(L2289,garantie,2,FALSE)))","v":""}]
[2289,{"$nulls":9},{"$f":"IF(B2290=\"\",\"\",D2290&\" - \"&F2290&\" - \"&G2290)","v":""},null,{"$f":"IF(OR(ISBLANK(L2290),ISBLANK(H2290)),\"\",H2290+(VLOOKUP(L2290,garantie,2,FALSE)))","v":""}]
[2290,{"$nulls":9},{"$f":"IF(B2291=\"\",\"\",D2291&\" - \"&F2291&\" - \"&G2291)","v":""},null,{"$f":"IF(OR(ISBLANK(L2291),ISBLANK(H2291)),\"\",H2291+(VLOOKUP(L2291,garantie,2,FALSE)))","v":""}]
[2291,{"$nulls":9},{"$f":"IF(B2292=\"\",\"\",D2292&\" - \"&F2292&\" - \"&G2292)","v":""},null,{"$f":"IF(OR(ISBLANK(L2292),ISBLANK(H2292)),\"\",H2292+(VLOOKUP(L2292,garantie,2,FALSE)))","v":""}]
[2292,{"$nulls":9},{"$f":"IF(B2293=\"\",\"\",D2293&\" - \"&F2293&\" - \"&G2293)","v":""},null,{"$f":"IF(OR(ISBLANK(L2293),ISBLANK(H2293)),\"\",H2293+(VLOOKUP(L2293,garantie,2,FALSE)))","v":""}]
[2293,{"$nulls":9},{"$f":"IF(B2294=\"\",\"\",D2294&\" - \"&F2294&\" - \"&G2294)","v":""},null,{"$f":"IF(OR(ISBLANK(L2294),ISBLANK(H2294)),\"\",H2294+(VLOOKUP(L2294,garantie,2,FALSE)))","v":""}]
[2294,{"$nulls":9},{"$f":"IF(B2295=\"\",\"\",D2295&\" - \"&F2295&\" - \"&G2295)","v":""},null,{"$f":"IF(OR(ISBLANK(L2295),ISBLANK(H2295)),\"\",H2295+(VLOOKUP(L2295,garantie,2,FALSE)))","v":""}]
[2295,{"$nulls":9},{"$f":"IF(B2296=\"\",\"\",D2296&\" - \"&F2296&\" - \"&G2296)","v":""},null,{"$f":"IF(OR(ISBLANK(L2296),ISBLANK(H2296)),\"\",H2296+(VLOOKUP(L2296,garantie,2,FALSE)))","v":""}]
[2296,{"$nulls":9},{"$f":"IF(B2297=\"\",\"\",D2297&\" - \"&F2297&\" - \"&G2297)","v":""},null,{"$f":"IF(OR(ISBLANK(L2297),ISBLANK(H2297)),\"\",H2297+(VLOOKUP(L2297,garantie,2,FALSE)))","v":""}]
[2297,{"$nulls":9},{"$f":"IF(B2298=\"\",\"\",D2298&\" - \"&F2298&\" - \"&G2298)","v":""},null,{"$f":"IF(OR(ISBLANK(L2298),ISBLANK(H2298)),\"\",H2298+(VLOOKUP(L2298,garantie,2,FALSE)))","v":""}]
[2298,{"$nulls":9},{"$f":"IF(B2299=\"\",\"\",D2299&\" - \"&F2299&\" - \"&G2299)","v":""},null,{"$f":"IF(OR(ISBLANK(L2299),ISBLANK(H2299)),\"\",H2299+(VLOOKUP(L2299,garantie,2,FALSE)))","v":""}]
[2299,{"$nulls":9},{"$f":"IF(B2300=\"\",\"\",D2300&\" - \"&F2300&\" - \"&G2300)","v":""},null,{"$f":"IF(OR(ISBLANK(L2300),ISBLANK(H2300)),\"\",H2300+(VLOOKUP(L2300,garantie,2,FALSE)))","v":""}]
[2300,{"$nulls":9},{"$f":"IF(B2301=\"\",\"\",D2301&\" - \"&F2301&\" - \"&G2301)","v":""},null,{"$f":"IF(OR(ISBLANK(L2301),ISBLANK(H2301)),\"\",H2301+(VLOOKUP(L2301,garantie,2,FALSE)))","v":""}]
[2301,{"$nulls":9},{"$f":"IF(B2302=\"\",\"\",D2302&\" - \"&F2302&\" - \"&G2302)","v":""},null,{"$f":"IF(OR(ISBLANK(L2302),ISBLANK(H2302)),\"\",H2302+(VLOOKUP(L2302,garantie,2,FALSE)))","v":""}]
[2302,{"$nulls":9},{"$f":"IF(B2303=\"\",\"\",D2303&\" - \"&F2303&\" - \"&G2303)","v":""},null,{"$f":"IF(OR(ISBLANK(L2303),ISBLANK(H2303)),\"\",H2303+(VLOOKUP(L2303,garantie,2,FALSE)))","v":""}]
[2303,{"$nulls":9},{"$f":"IF(B2304=\"\",\"\",D2304&\" - \"&F2304&\" - \"&G2304)","v":""},null,{"$f":"IF(OR(ISBLANK(L2304),ISBLANK(H2304)),\"\",H2304+(VLOOKUP(L2304,garantie,2,FALSE)))","v":""}]
[2304,{"$nulls":9},{"$f":"IF(B2305=\"\",\"\",D2305&\" - \"&F2305&\" - \"&G2305)","v":""},null,{"$f":"IF(OR(ISBLANK(L2305),ISBLANK(H2305)),\"\",H2305+(VLOOKUP(L2305,garantie,2,FALSE)))","v":""}]
[2305,{"$nulls":9},{"$f":"IF(B2306=\"\",\"\",D2306&\" - \"&F2306&\" - \"&G2306)","v":""},null,{"$f":"IF(OR(ISBLANK(L2306),ISBLANK(H2306)),\"\",H2306+(VLOOKUP(L2306,garantie,2,FALSE)))","v":""}]
[2306,{"$nulls":9},{"$f":"IF(B2307=\"\",\"\",D2307&\" - \"&F2307&\" - \"&G2307)","v":""},null,{"$f":"IF(OR(ISBLANK(L2307),ISBLANK(H2307)),\"\",H2307+(VLOOKUP(L2307,garantie,2,FALSE)))","v":""}]
[2307,{"$nulls":9},{"$f":"IF(B2308=\"\",\"\",D2308&\" - \"&F2308&\" - \"&G2308)","v":""},null,{"$f":"IF(OR(ISBLANK(L2308),ISBLANK(H2308)),\"\",H2308+(VLOOKUP(L2308,garantie,2,FALSE)))","v":""}]
[2308,{"$nulls":9},{"$f":"IF(B2309=\"\",\"\",D2309&\" - \"&F2309&\" - \"&G2309)","v":""},null,{"$f":"IF(OR(ISBLANK(L2309),ISBLANK(H2309)),\"\",H2309+(VLOOKUP(L2309,garantie,2,FALSE)))","v":""}]
[2309,{"$nulls":9},{"$f":"IF(B2310=\"\",\"\",D2310&\" - \"&F2310&\" - \"&G2310)","v":""},null,{"$f":"IF(OR(ISBLANK(L2310),ISBLANK(H2310)),\"\",H2310+(VLOOKUP(L2310,garantie,2,FALSE)))","v":""}]
[2310,{"$nulls":9},{"$f":"IF(B2311=\"\",\"\",D2311&\" - \"&F2311&\" - \"&G2311)","v":""},null,{"$f":"IF(OR(ISBLANK(L2311),ISBLANK(H2311)),\"\",H2311+(VLOOKUP(L2311,garantie,2,FALSE)))","v":""}]
[2311,{"$nulls":9},{"$f":"IF(B2312=\"\",\"\",D2312&\" - \"&F2312&\" - \"&G2312)","v":""},null,{"$f":"IF(OR(ISBLANK(L2312),ISBLANK(H2312)),\"\",H2312+(VLOOKUP(L2312,garantie,2,FALSE)))","v":""}]
[2312,{"$nulls":9},{"$f":"IF(B2313=\"\",\"\",D2313&\" - \"&F2313&\" - \"&G2313)","v":""},null,{"$f":"IF(OR(ISBLANK(L2313),ISBLANK(H2313)),\"\",H2313+(VLOOKUP(L2313,garantie,2,FALSE)))","v":""}]
[2313,{"$nulls":9},{"$f":"IF(B2314=\"\",\"\",D2314&\" - \"&F2314&\" - \"&G2314)","v":""},null,{"$f":"IF(OR(ISBLANK(L2314),ISBLANK(H2314)),\"\",H2314+(VLOOKUP(L2314,garantie,2,FALSE)))","v":""}]
[2314,{"$nulls":9},{"$f":"IF(B2315=\"\",\"\",D2315&\" - \"&F2315&\" - \"&G2315)","v":""},null,{"$f":"IF(OR(ISBLANK(L2315),ISBLANK(H2315)),\"\",H2315+(VLOOKUP(L2315,garantie,2,FALSE)))","v":""}]
[2315,{"$nulls":9},{"$f":"IF(B2316=\"\",\"\",D2316&\" - \"&F2316&\" - \"&G2316)","v":""},null,{"$f":"IF(OR(ISBLANK(L2316),ISBLANK(H2316)),\"\",H2316+(VLOOKUP(L2316,garantie,2,FALSE)))","v":""}]
[2316,{"$nulls":9},{"$f":"IF(B2317=\"\",\"\",D2317&\" - \"&F2317&\" - \"&G2317)","v":""},null,{"$f":"IF(OR(ISBLANK(L2317),ISBLANK(H2317)),\"\",H2317+(VLOOKUP(L2317,garantie,2,FALSE)))","v":""}]
[2317,{"$nulls":9},{"$f":"IF(B2318=\"\",\"\",D2318&\" - \"&F2318&\" - \"&G2318)","v":""},null,{"$f":"IF(OR(ISBLANK(L2318),ISBLANK(H2318)),\"\",H2318+(VLOOKUP(L2318,garantie,2,FALSE)))","v":""}]
[2318,{"$nulls":9},{"$f":"IF(B2319=\"\",\"\",D2319&\" - \"&F2319&\" - \"&G2319)","v":""},null,{"$f":"IF(OR(ISBLANK(L2319),ISBLANK(H2319)),\"\",H2319+(VLOOKUP(L2319,garantie,2,FALSE)))","v":""}]
[2319,{"$nulls":9},{"$f":"IF(B2320=\"\",\"\",D2320&\" - \"&F2320&\" - \"&G2320)","v":""},null,{"$f":"IF(OR(ISBLANK(L2320),ISBLANK(H2320)),\"\",H2320+(VLOOKUP(L2320,garantie,2,FALSE)))","v":""}]
[2320,{"$nulls":9},{"$f":"IF(B2321=\"\",\"\",D2321&\" - \"&F2321&\" - \"&G2321)","v":""},null,{"$f":"IF(OR(ISBLANK(L2321),ISBLANK(H2321)),\"\",H2321+(VLOOKUP(L2321,garantie,2,FALSE)))","v":""}]
[2321,{"$nulls":9},{"$f":"IF(B2322=\"\",\"\",D2322&\" - \"&F2322&\" - \"&G2322)","v":""},null,{"$f":"IF(OR(ISBLANK(L2322),ISBLANK(H2322)),\"\",H2322+(VLOOKUP(L2322,garantie,2,FALSE)))","v":""}]
[2322,{"$nulls":9},{"$f":"IF(B2323=\"\",\"\",D2323&\" - \"&F2323&\" - \"&G2323)","v":""},null,{"$f":"IF(OR(ISBLANK(L2323),ISBLANK(H2323)),\"\",H2323+(VLOOKUP(L2323,garantie,2,FALSE)))","v":""}]
[2323,{"$nulls":9},{"$f":"IF(B2324=\"\",\"\",D2324&\" - \"&F2324&\" - \"&G2324)","v":""},null,{"$f":"IF(OR(ISBLANK(L2324),ISBLANK(H2324)),\"\",H2324+(VLOOKUP(L2324,garantie,2,FALSE)))","v":""}]
[2324,{"$nulls":9},{"$f":"IF(B2325=\"\",\"\",D2325&\" - \"&F2325&\" - \"&G2325)","v":""},null,{"$f":"IF(OR(ISBLANK(L2325),ISBLANK(H2325)),\"\",H2325+(VLOOKUP(L2325,garantie,2,FALSE)))","v":""}]
[2325,{"$nulls":9},{"$f":"IF(B2326=\"\",\"\",D2326&\" - \"&F2326&\" - \"&G2326)","v":""},null,{"$f":"IF(OR(ISBLANK(L2326),ISBLANK(H2326)),\"\",H2326+(VLOOKUP(L2326,garantie,2,FALSE)))","v":""}]
[2326,{"$nulls":9},{"$f":"IF(B2327=\"\",\"\",D2327&\" - \"&F2327&\" - \"&G2327)","v":""},null,{"$f":"IF(OR(ISBLANK(L2327),ISBLANK(H2327)),\"\",H2327+(VLOOKUP(L2327,garantie,2,FALSE)))","v":""}]
[2327,{"$nulls":9},{"$f":"IF(B2328=\"\",\"\",D2328&\" - \"&F2328&\" - \"&G2328)","v":""},null,{"$f":"IF(OR(ISBLANK(L2328),ISBLANK(H2328)),\"\",H2328+(VLOOKUP(L2328,garantie,2,FALSE)))","v":""}]
[2328,{"$nulls":9},{"$f":"IF(B2329=\"\",\"\",D2329&\" - \"&F2329&\" - \"&G2329)","v":""},null,{"$f":"IF(OR(ISBLANK(L2329),ISBLANK(H2329)),\"\",H2329+(VLOOKUP(L2329,garantie,2,FALSE)))","v":""}]
[2329,{"$nulls":9},{"$f":"IF(B2330=\"\",\"\",D2330&\" - \"&F2330&\" - \"&G2330)","v":""},null,{"$f":"IF(OR(ISBLANK(L2330),ISBLANK(H2330)),\"\",H2330+(VLOOKUP(L2330,garantie,2,FALSE)))","v":""}]
[2330,{"$nulls":9},{"$f":"IF(B2331=\"\",\"\",D2331&\" - \"&F2331&\" - \"&G2331)","v":""},null,{"$f":"IF(OR(ISBLANK(L2331),ISBLANK(H2331)),\"\",H2331+(VLOOKUP(L2331,garantie,2,FALSE)))","v":""}]
[2331,{"$nulls":9},{"$f":"IF(B2332=\"\",\"\",D2332&\" - \"&F2332&\" - \"&G2332)","v":""},null,{"$f":"IF(OR(ISBLANK(L2332),ISBLANK(H2332)),\"\",H2332+(VLOOKUP(L2332,garantie,2,FALSE)))","v":""}]
[2332,{"$nulls":9},{"$f":"IF(B2333=\"\",\"\",D2333&\" - \"&F2333&\" - \"&G2333)","v":""},null,{"$f":"IF(OR(ISBLANK(L2333),ISBLANK(H2333)),\"\",H2333+(VLOOKUP(L2333,garantie,2,FALSE)))","v":""}]
[2333,{"$nulls":9},{"$f":"IF(B2334=\"\",\"\",D2334&\" - \"&F2334&\" - \"&G2334)","v":""},null,{"$f":"IF(OR(ISBLANK(L2334),ISBLANK(H2334)),\"\",H2334+(VLOOKUP(L2334,garantie,2,FALSE)))","v":""}]
[2334,{"$nulls":9},{"$f":"IF(B2335=\"\",\"\",D2335&\" - \"&F2335&\" - \"&G2335)","v":""},null,{"$f":"IF(OR(ISBLANK(L2335),ISBLANK(H2335)),\"\",H2335+(VLOOKUP(L2335,garantie,2,FALSE)))","v":""}]
[2335,{"$nulls":9},{"$f":"IF(B2336=\"\",\"\",D2336&\" - \"&F2336&\" - \"&G2336)","v":""},null,{"$f":"IF(OR(ISBLANK(L2336),ISBLANK(H2336)),\"\",H2336+(VLOOKUP(L2336,garantie,2,FALSE)))","v":""}]
[2336,{"$nulls":9},{"$f":"IF(B2337=\"\",\"\",D2337&\" - \"&F2337&\" - \"&G2337)","v":""},null,{"$f":"IF(OR(ISBLANK(L2337),ISBLANK(H2337)),\"\",H2337+(VLOOKUP(L2337,garantie,2,FALSE)))","v":""}]
[2337,{"$nulls":9},{"$f":"IF(B2338=\"\",\"\",D2338&\" - \"&F2338&\" - \"&G2338)","v":""},null,{"$f":"IF(OR(ISBLANK(L2338),ISBLANK(H2338)),\"\",H2338+(VLOOKUP(L2338,garantie,2,FALSE)))","v":""}]
[2338,{"$nulls":9},{"$f":"IF(B2339=\"\",\"\",D2339&\" - \"&F2339&\" - \"&G2339)","v":""},null,{"$f":"IF(OR(ISBLANK(L2339),ISBLANK(H2339)),\"\",H2339+(VLOOKUP(L2339,garantie,2,FALSE)))","v":""}]
[2339,{"$nulls":9},{"$f":"IF(B2340=\"\",\"\",D2340&\" - \"&F2340&\" - \"&G2340)","v":""},null,{"$f":"IF(OR(ISBLANK(L2340),ISBLANK(H2340)),\"\",H2340+(VLOOKUP(L2340,garantie,2,FALSE)))","v":""}]
[2340,{"$nulls":9},{"$f":"IF(B2341=\"\",\"\",D2341&\" - \"&F2341&\" - \"&G2341)","v":""},null,{"$f":"IF(OR(ISBLANK(L2341),ISBLANK(H2341)),\"\",H2341+(VLOOKUP(L2341,garantie,2,FALSE)))","v":""}]
[2341,{"$nulls":9},{"$f":"IF(B2342=\"\",\"\",D2342&\" - \"&F2342&\" - \"&G2342)","v":""},null,{"$f":"IF(OR(ISBLANK(L2342),ISBLANK(H2342)),\"\",H2342+(VLOOKUP(L2342,garantie,2,FALSE)))","v":""}]
[2342,{"$nulls":9},{"$f":"IF(B2343=\"\",\"\",D2343&\" - \"&F2343&\" - \"&G2343)","v":""},null,{"$f":"IF(OR(ISBLANK(L2343),ISBLANK(H2343)),\"\",H2343+(VLOOKUP(L2343,garantie,2,FALSE)))","v":""}]
[2343,{"$nulls":9},{"$f":"IF(B2344=\"\",\"\",D2344&\" - \"&F2344&\" - \"&G2344)","v":""},null,{"$f":"IF(OR(ISBLANK(L2344),ISBLANK(H2344)),\"\",H2344+(VLOOKUP(L2344,garantie,2,FALSE)))","v":""}]
[2344,{"$nulls":9},{"$f":"IF(B2345=\"\",\"\",D2345&\" - \"&F2345&\" - \"&G2345)","v":""},null,{"$f":"IF(OR(ISBLANK(L2345),ISBLANK(H2345)),\"\",H2345+(VLOOKUP(L2345,garantie,2,FALSE)))","v":""}]
[2345,{"$nulls":9},{"$f":"IF(B2346=\"\",\"\",D2346&\" - \"&F2346&\" - \"&G2346)","v":""},null,{"$f":"IF(OR(ISBLANK(L2346),ISBLANK(H2346)),\"\",H2346+(VLOOKUP(L2346,garantie,2,FALSE)))","v":""}]
[2346,{"$nulls":9},{"$f":"IF(B2347=\"\",\"\",D2347&\" - \"&F2347&\" - \"&G2347)","v":""},null,{"$f":"IF(OR(ISBLANK(L2347),ISBLANK(H2347)),\"\",H2347+(VLOOKUP(L2347,garantie,2,FALSE)))","v":""}]
[2347,{"$nulls":9},{"$f":"IF(B2348=\"\",\"\",D2348&\" - \"&F2348&\" - \"&G2348)","v":""},null,{"$f":"IF(OR(ISBLANK(L2348),ISBLANK(H2348)),\"\",H2348+(VLOOKUP(L2348,garantie,2,FALSE)))","v":""}]
[2348,{"$nulls":9},{"$f":"IF(B2349=\"\",\"\",D2349&\" - \"&F2349&\" - \"&G2349)","v":""},null,{"$f":"IF(OR(ISBLANK(L2349),ISBLANK(H2349)),\"\",H2349+(VLOOKUP(L2349,garantie,2,FALSE)))","v":""}]
[2349,{"$nulls":9},{"$f":"IF(B2350=\"\",\"\",D2350&\" - \"&F2350&\" - \"&G2350)","v":""},null,{"$f":"IF(OR(ISBLANK(L2350),ISBLANK(H2350)),\"\",H2350+(VLOOKUP(L2350,garantie,2,FALSE)))","v":""}]
[2350,{"$nulls":9},{"$f":"IF(B2351=\"\",\"\",D2351&\" - \"&F2351&\" - \"&G2351)","v":""},null,{"$f":"IF(OR(ISBLANK(L2351),ISBLANK(H2351)),\"\",H2351+(VLOOKUP(L2351,garantie,2,FALSE)))","v":""}]
[2351,{"$nulls":9},{"$f":"IF(B2352=\"\",\"\",D2352&\" - \"&F2352&\" - \"&G2352)","v":""},null,{"$f":"IF(OR(ISBLANK(L2352),ISBLANK(H2352)),\"\",H2352+(VLOOKUP(L2352,garantie,2,FALSE)))","v":""}]
[2352,{"$nulls":9},{"$f":"IF(B2353=\"\",\"\",D2353&\" - \"&F2353&\" - \"&G2353)","v":""},null,{"$f":"IF(OR(ISBLANK(L2353),ISBLANK(H2353)),\"\",H2353+(VLOOKUP(L2353,garantie,2,FALSE)))","v":""}]
[2353,{"$nulls":9},{"$f":"IF(B2354=\"\",\"\",D2354&\" - \"&F2354&\" - \"&G2354)","v":""},null,{"$f":"IF(OR(ISBLANK(L2354),ISBLANK(H2354)),\"\",H2354+(VLOOKUP(L2354,garantie,2,FALSE)))","v":""}]
[2354,{"$nulls":9},{"$f":"IF(B2355=\"\",\"\",D2355&\" - \"&F2355&\" - \"&G2355)","v":""},null,{"$f":"IF(OR(ISBLANK(L2355),ISBLANK(H2355)),\"\",H2355+(VLOOKUP(L2355,garantie,2,FALSE)))","v":""}]
[2355,{"$nulls":9},{"$f":"IF(B2356=\"\",\"\",D2356&\" - \"&F2356&\" - \"&G2356)","v":""},null,{"$f":"IF(OR(ISBLANK(L2356),ISBLANK(H2356)),\"\",H2356+(VLOOKUP(L2356,garantie,2,FALSE)))","v":""}]
[2356,{"$nulls":9},{"$f":"IF(B2357=\"\",\"\",D2357&\" - \"&F2357&\" - \"&G2357)","v":""},null,{"$f":"IF(OR(ISBLANK(L2357),ISBLANK(H2357)),\"\",H2357+(VLOOKUP(L2357,garantie,2,FALSE)))","v":""}]
[2357,{"$nulls":9},{"$f":"IF(B2358=\"\",\"\",D2358&\" - \"&F2358&\" - \"&G2358)","v":""},null,{"$f":"IF(OR(ISBLANK(L2358),ISBLANK(H2358)),\"\",H2358+(VLOOKUP(L2358,garantie,2,FALSE)))","v":""}]
[2358,{"$nulls":9},{"$f":"IF(B2359=\"\",\"\",D2359&\" - \"&F2359&\" - \"&G2359)","v":""},null,{"$f":"IF(OR(ISBLANK(L2359),ISBLANK(H2359)),\"\",H2359+(VLOOKUP(L2359,garantie,2,FALSE)))","v":""}]
[2359,{"$nulls":9},{"$f":"IF(B2360=\"\",\"\",D2360&\" - \"&F2360&\" - \"&G2360)","v":""},null,{"$f":"IF(OR(ISBLANK(L2360),ISBLANK(H2360)),\"\",H2360+(VLOOKUP(L2360,garantie,2,FALSE)))","v":""}]
[2360,{"$nulls":9},{"$f":"IF(B2361=\"\",\"\",D2361&\" - \"&F2361&\" - \"&G2361)","v":""},null,{"$f":"IF(OR(ISBLANK(L2361),ISBLANK(H2361)),\"\",H2361+(VLOOKUP(L2361,garantie,2,FALSE)))","v":""}]
[2361,{"$nulls":9},{"$f":"IF(B2362=\"\",\"\",D2362&\" - \"&F2362&\" - \"&G2362)","v":""},null,{"$f":"IF(OR(ISBLANK(L2362),ISBLANK(H2362)),\"\",H2362+(VLOOKUP(L2362,garantie,2,FALSE)))","v":""}]
[2362,{"$nulls":9},{"$f":"IF(B2363=\"\",\"\",D2363&\" - \"&F2363&\" - \"&G2363)","v":""},null,{"$f":"IF(OR(ISBLANK(L2363),ISBLANK(H2363)),\"\",H2363+(VLOOKUP(L2363,garantie,2,FALSE)))","v":""}]
[2363,{"$nulls":9},{"$f":"IF(B2364=\"\",\"\",D2364&\" - \"&F2364&\" - \"&G2364)","v":""},null,{"$f":"IF(OR(ISBLANK(L2364),ISBLANK(H2364)),\"\",H2364+(VLOOKUP(L2364,garantie,2,FALSE)))","v":""}]
[2364,{"$nulls":9},{"$f":"IF(B2365=\"\",\"\",D2365&\" - \"&F2365&\" - \"&G2365)","v":""},null,{"$f":"IF(OR(ISBLANK(L2365),ISBLANK(H2365)),\"\",H2365+(VLOOKUP(L2365,garantie,2,FALSE)))","v":""}]
[2365,{"$nulls":9},{"$f":"IF(B2366=\"\",\"\",D2366&\" - \"&F2366&\" - \"&G2366)","v":""},null,{"$f":"IF(OR(ISBLANK(L2366),ISBLANK(H2366)),\"\",H2366+(VLOOKUP(L2366,garantie,2,FALSE)))","v":""}]
[2366,{"$nulls":9},{"$f":"IF(B2367=\"\",\"\",D2367&\" - \"&F2367&\" - \"&G2367)","v":""},null,{"$f":"IF(OR(ISBLANK(L2367),ISBLANK(H2367)),\"\",H2367+(VLOOKUP(L2367,garantie,2,FALSE)))","v":""}]
[2367,{"$nulls":9},{"$f":"IF(B2368=\"\",\"\",D2368&\" - \"&F2368&\" - \"&G2368)","v":""},null,{"$f":"IF(OR(ISBLANK(L2368),ISBLANK(H2368)),\"\",H2368+(VLOOKUP(L2368,garantie,2,FALSE)))","v":""}]
[2368,{"$nulls":9},{"$f":"IF(B2369=\"\",\"\",D2369&\" - \"&F2369&\" - \"&G2369)","v":""},null,{"$f":"IF(OR(ISBLANK(L2369),ISBLANK(H2369)),\"\",H2369+(VLOOKUP(L2369,garantie,2,FALSE)))","v":""}]
[2369,{"$nulls":9},{"$f":"IF(B2370=\"\",\"\",D2370&\" - \"&F2370&\" - \"&G2370)","v":""},null,{"$f":"IF(OR(ISBLANK(L2370),ISBLANK(H2370)),\"\",H2370+(VLOOKUP(L2370,garantie,2,FALSE)))","v":""}]
[2370,{"$nulls":9},{"$f":"IF(B2371=\"\",\"\",D2371&\" - \"&F2371&\" - \"&G2371)","v":""},null,{"$f":"IF(OR(ISBLANK(L2371),ISBLANK(H2371)),\"\",H2371+(VLOOKUP(L2371,garantie,2,FALSE)))","v":""}]
[2371,{"$nulls":9},{"$f":"IF(B2372=\"\",\"\",D2372&\" - \"&F2372&\" - \"&G2372)","v":""},null,{"$f":"IF(OR(ISBLANK(L2372),ISBLANK(H2372)),\"\",H2372+(VLOOKUP(L2372,garantie,2,FALSE)))","v":""}]
[2372,{"$nulls":9},{"$f":"IF(B2373=\"\",\"\",D2373&\" - \"&F2373&\" - \"&G2373)","v":""},null,{"$f":"IF(OR(ISBLANK(L2373),ISBLANK(H2373)),\"\",H2373+(VLOOKUP(L2373,garantie,2,FALSE)))","v":""}]
[2373,{"$nulls":9},{"$f":"IF(B2374=\"\",\"\",D2374&\" - \"&F2374&\" - \"&G2374)","v":""},null,{"$f":"IF(OR(ISBLANK(L2374),ISBLANK(H2374)),\"\",H2374+(VLOOKUP(L2374,garantie,2,FALSE)))","v":""}]
[2374,{"$nulls":9},{"$f":"IF(B2375=\"\",\"\",D2375&\" - \"&F2375&\" - \"&G2375)","v":""},null,{"$f":"IF(OR(ISBLANK(L2375),ISBLANK(H2375)),\"\",H2375+(VLOOKUP(L2375,garantie,2,FALSE)))","v":""}]
[2375,{"$nulls":9},{"$f":"IF(B2376=\"\",\"\",D2376&\" - \"&F2376&\" - \"&G2376)","v":""},null,{"$f":"IF(OR(ISBLANK(L2376),ISBLANK(H2376)),\"\",H2376+(VLOOKUP(L2376,garantie,2,FALSE)))","v":""}]
[2376,{"$nulls":9},{"$f":"IF(B2377=\"\",\"\",D2377&\" - \"&F2377&\" - \"&G2377)","v":""},null,{"$f":"IF(OR(ISBLANK(L2377),ISBLANK(H2377)),\"\",H2377+(VLOOKUP(L2377,garantie,2,FALSE)))","v":""}]
[2377,{"$nulls":9},{"$f":"IF(B2378=\"\",\"\",D2378&\" - \"&F2378&\" - \"&G2378)","v":""},null,{"$f":"IF(OR(ISBLANK(L2378),ISBLANK(H2378)),\"\",H2378+(VLOOKUP(L2378,garantie,2,FALSE)))","v":""}]
[2378,{"$nulls":9},{"$f":"IF(B2379=\"\",\"\",D2379&\" - \"&F2379&\" - \"&G2379)","v":""},null,{"$f":"IF(OR(ISBLANK(L2379),ISBLANK(H2379)),\"\",H2379+(VLOOKUP(L2379,garantie,2,FALSE)))","v":""}]
[2379,{"$nulls":9},{"$f":"IF(B2380=\"\",\"\",D2380&\" - \"&F2380&\" - \"&G2380)","v":""},null,{"$f":"IF(OR(ISBLANK(L2380),ISBLANK(H2380)),\"\",H2380+(VLOOKUP(L2380,garantie,2,FALSE)))","v":""}]
[2380,{"$nulls":9},{"$f":"IF(B2381=\"\",\"\",D2381&\" - \"&F2381&\" - \"&G2381)","v":""},null,{"$f":"IF(OR(ISBLANK(L2381),ISBLANK(H2381)),\"\",H2381+(VLOOKUP(L2381,garantie,2,FALSE)))","v":""}]
[2381,{"$nulls":9},{"$f":"IF(B2382=\"\",\"\",D2382&\" - \"&F2382&\" - \"&G2382)","v":""},null,{"$f":"IF(OR(ISBLANK(L2382),ISBLANK(H2382)),\"\",H2382+(VLOOKUP(L2382,garantie,2,FALSE)))","v":""}]
[2382,{"$nulls":9},{"$f":"IF(B2383=\"\",\"\",D2383&\" - \"&F2383&\" - \"&G2383)","v":""},null,{"$f":"IF(OR(ISBLANK(L2383),ISBLANK(H2383)),\"\",H2383+(VLOOKUP(L2383,garantie,2,FALSE)))","v":""}]
[2383,{"$nulls":9},{"$f":"IF(B2384=\"\",\"\",D2384&\" - \"&F2384&\" - \"&G2384)","v":""},null,{"$f":"IF(OR(ISBLANK(L2384),ISBLANK(H2384)),\"\",H2384+(VLOOKUP(L2384,garantie,2,FALSE)))","v":""}]
[2384,{"$nulls":9},{"$f":"IF(B2385=\"\",\"\",D2385&\" - \"&F2385&\" - \"&G2385)","v":""},null,{"$f":"IF(OR(ISBLANK(L2385),ISBLANK(H2385)),\"\",H2385+(VLOOKUP(L2385,garantie,2,FALSE)))","v":""}]
[2385,{"$nulls":9},{"$f":"IF(B2386=\"\",\"\",D2386&\" - \"&F2386&\" - \"&G2386)","v":""},null,{"$f":"IF(OR(ISBLANK(L2386),ISBLANK(H2386)),\"\",H2386+(VLOOKUP(L2386,garantie,2,FALSE)))","v":""}]
[2386,{"$nulls":9},{"$f":"IF(B2387=\"\",\"\",D2387&\" - \"&F2387&\" - \"&G2387)","v":""},null,{"$f":"IF(OR(ISBLANK(L2387),ISBLANK(H2387)),\"\",H2387+(VLOOKUP(L2387,garantie,2,FALSE)))","v":""}]
[2387,{"$nulls":9},{"$f":"IF(B2388=\"\",\"\",D2388&\" - \"&F2388&\" - \"&G2388)","v":""},null,{"$f":"IF(OR(ISBLANK(L2388),ISBLANK(H2388)),\"\",H2388+(VLOOKUP(L2388,garantie,2,FALSE)))","v":""}]
[2388,{"$nulls":9},{"$f":"IF(B2389=\"\",\"\",D2389&\" - \"&F2389&\" - \"&G2389)","v":""},null,{"$f":"IF(OR(ISBLANK(L2389),ISBLANK(H2389)),\"\",H2389+(VLOOKUP(L2389,garantie,2,FALSE)))","v":""}]
[2389,{"$nulls":9},{"$f":"IF(B2390=\"\",\"\",D2390&\" - \"&F2390&\" - \"&G2390)","v":""},null,{"$f":"IF(OR(ISBLANK(L2390),ISBLANK(H2390)),\"\",H2390+(VLOOKUP(L2390,garantie,2,FALSE)))","v":""}]
[2390,{"$nulls":9},{"$f":"IF(B2391=\"\",\"\",D2391&\" - \"&F2391&\" - \"&G2391)","v":""},null,{"$f":"IF(OR(ISBLANK(L2391),ISBLANK(H2391)),\"\",H2391+(VLOOKUP(L2391,garantie,2,FALSE)))","v":""}]
[2391,{"$nulls":9},{"$f":"IF(B2392=\"\",\"\",D2392&\" - \"&F2392&\" - \"&G2392)","v":""},null,{"$f":"IF(OR(ISBLANK(L2392),ISBLANK(H2392)),\"\",H2392+(VLOOKUP(L2392,garantie,2,FALSE)))","v":""}]
[2392,{"$nulls":9},{"$f":"IF(B2393=\"\",\"\",D2393&\" - \"&F2393&\" - \"&G2393)","v":""},null,{"$f":"IF(OR(ISBLANK(L2393),ISBLANK(H2393)),\"\",H2393+(VLOOKUP(L2393,garantie,2,FALSE)))","v":""}]
[2393,{"$nulls":9},{"$f":"IF(B2394=\"\",\"\",D2394&\" - \"&F2394&\" - \"&G2394)","v":""},null,{"$f":"IF(OR(ISBLANK(L2394),ISBLANK(H2394)),\"\",H2394+(VLOOKUP(L2394,garantie,2,FALSE)))","v":""}]
[2394,{"$nulls":9},{"$f":"IF(B2395=\"\",\"\",D2395&\" - \"&F2395&\" - \"&G2395)","v":""},null,{"$f":"IF(OR(ISBLANK(L2395),ISBLANK(H2395)),\"\",H2395+(VLOOKUP(L2395,garantie,2,FALSE)))","v":""}]
[2395,{"$nulls":9},{"$f":"IF(B2396=\"\",\"\",D2396&\" - \"&F2396&\" - \"&G2396)","v":""},null,{"$f":"IF(OR(ISBLANK(L2396),ISBLANK(H2396)),\"\",H2396+(VLOOKUP(L2396,garantie,2,FALSE)))","v":""}]
[2396,{"$nulls":9},{"$f":"IF(B2397=\"\",\"\",D2397&\" - \"&F2397&\" - \"&G2397)","v":""},null,{"$f":"IF(OR(ISBLANK(L2397),ISBLANK(H2397)),\"\",H2397+(VLOOKUP(L2397,garantie,2,FALSE)))","v":""}]
[2397,{"$nulls":9},{"$f":"IF(B2398=\"\",\"\",D2398&\" - \"&F2398&\" - \"&G2398)","v":""},null,{"$f":"IF(OR(ISBLANK(L2398),ISBLANK(H2398)),\"\",H2398+(VLOOKUP(L2398,garantie,2,FALSE)))","v":""}]
[2398,{"$nulls":9},{"$f":"IF(B2399=\"\",\"\",D2399&\" - \"&F2399&\" - \"&G2399)","v":""},null,{"$f":"IF(OR(ISBLANK(L2399),ISBLANK(H2399)),\"\",H2399+(VLOOKUP(L2399,garantie,2,FALSE)))","v":""}]
[2399,{"$nulls":9},{"$f":"IF(B2400=\"\",\"\",D2400&\" - \"&F2400&\" - \"&G2400)","v":""},null,{"$f":"IF(OR(ISBLANK(L2400),ISBLANK(H2400)),\"\",H2400+(VLOOKUP(L2400,garantie,2,FALSE)))","v":""}]
[2400,{"$nulls":9},{"$f":"IF(B2401=\"\",\"\",D2401&\" - \"&F2401&\" - \"&G2401)","v":""},null,{"$f":"IF(OR(ISBLANK(L2401),ISBLANK(H2401)),\"\",H2401+(VLOOKUP(L2401,garantie,2,FALSE)))","v":""}]
[2401,{"$nulls":9},{"$f":"IF(B2402=\"\",\"\",D2402&\" - \"&F2402&\" - \"&G2402)","v":""},null,{"$f":"IF(OR(ISBLANK(L2402),ISBLANK(H2402)),\"\",H2402+(VLOOKUP(L2402,garantie,2,FALSE)))","v":""}]
[2402,{"$nulls":9},{"$f":"IF(B2403=\"\",\"\",D2403&\" - \"&F2403&\" - \"&G2403)","v":""},null,{"$f":"IF(OR(ISBLANK(L2403),ISBLANK(H2403)),\"\",H2403+(VLOOKUP(L2403,garantie,2,FALSE)))","v":""}]
[2403,{"$nulls":9},{"$f":"IF(B2404=\"\",\"\",D2404&\" - \"&F2404&\" - \"&G2404)","v":""},null,{"$f":"IF(OR(ISBLANK(L2404),ISBLANK(H2404)),\"\",H2404+(VLOOKUP(L2404,garantie,2,FALSE)))","v":""}]
[2404,{"$nulls":9},{"$f":"IF(B2405=\"\",\"\",D2405&\" - \"&F2405&\" - \"&G2405)","v":""},null,{"$f":"IF(OR(ISBLANK(L2405),ISBLANK(H2405)),\"\",H2405+(VLOOKUP(L2405,garantie,2,FALSE)))","v":""}]
[2405,{"$nulls":9},{"$f":"IF(B2406=\"\",\"\",D2406&\" - \"&F2406&\" - \"&G2406)","v":""},null,{"$f":"IF(OR(ISBLANK(L2406),ISBLANK(H2406)),\"\",H2406+(VLOOKUP(L2406,garantie,2,FALSE)))","v":""}]
[2406,{"$nulls":9},{"$f":"IF(B2407=\"\",\"\",D2407&\" - \"&F2407&\" - \"&G2407)","v":""},null,{"$f":"IF(OR(ISBLANK(L2407),ISBLANK(H2407)),\"\",H2407+(VLOOKUP(L2407,garantie,2,FALSE)))","v":""}]
[2407,{"$nulls":9},{"$f":"IF(B2408=\"\",\"\",D2408&\" - \"&F2408&\" - \"&G2408)","v":""},null,{"$f":"IF(OR(ISBLANK(L2408),ISBLANK(H2408)),\"\",H2408+(VLOOKUP(L2408,garantie,2,FALSE)))","v":""}]
[2408,{"$nulls":9},{"$f":"IF(B2409=\"\",\"\",D2409&\" - \"&F2409&\" - \"&G2409)","v":""},null,{"$f":"IF(OR(ISBLANK(L2409),ISBLANK(H2409)),\"\",H2409+(VLOOKUP(L2409,garantie,2,FALSE)))","v":""}]
[2409,{"$nulls":9},{"$f":"IF(B2410=\"\",\"\",D2410&\" - \"&F2410&\" - \"&G2410)","v":""},null,{"$f":"IF(OR(ISBLANK(L2410),ISBLANK(H2410)),\"\",H2410+(VLOOKUP(L2410,garantie,2,FALSE)))","v":""}]
[2410,{"$nulls":9},{"$f":"IF(B2411=\"\",\"\",D2411&\" - \"&F2411&\" - \"&G2411)","v":""},null,{"$f":"IF(OR(ISBLANK(L2411),ISBLANK(H2411)),\"\",H2411+(VLOOKUP(L2411,garantie,2,FALSE)))","v":""}]
[2411,{"$nulls":9},{"$f":"IF(B2412=\"\",\"\",D2412&\" - \"&F2412&\" - \"&G2412)","v":""},null,{"$f":"IF(OR(ISBLANK(L2412),ISBLANK(H2412)),\"\",H2412+(VLOOKUP(L2412,garantie,2,FALSE)))","v":""}]
[2412,{"$nulls":9},{"$f":"IF(B2413=\"\",\"\",D2413&\" - \"&F2413&\" - \"&G2413)","v":""},null,{"$f":"IF(OR(ISBLANK(L2413),ISBLANK(H2413)),\"\",H2413+(VLOOKUP(L2413,garantie,2,FALSE)))","v":""}]
[2413,{"$nulls":9},{"$f":"IF(B2414=\"\",\"\",D2414&\" - \"&F2414&\" - \"&G2414)","v":""},null,{"$f":"IF(OR(ISBLANK(L2414),ISBLANK(H2414)),\"\",H2414+(VLOOKUP(L2414,garantie,2,FALSE)))","v":""}]
[2414,{"$nulls":9},{"$f":"IF(B2415=\"\",\"\",D2415&\" - \"&F2415&\" - \"&G2415)","v":""},null,{"$f":"IF(OR(ISBLANK(L2415),ISBLANK(H2415)),\"\",H2415+(VLOOKUP(L2415,garantie,2,FALSE)))","v":""}]
[2415,{"$nulls":9},{"$f":"IF(B2416=\"\",\"\",D2416&\" - \"&F2416&\" - \"&G2416)","v":""},null,{"$f":"IF(OR(ISBLANK(L2416),ISBLANK(H2416)),\"\",H2416+(VLOOKUP(L2416,garantie,2,FALSE)))","v":""}]
[2416,{"$nulls":9},{"$f":"IF(B2417=\"\",\"\",D2417&\" - \"&F2417&\" - \"&G2417)","v":""},null,{"$f":"IF(OR(ISBLANK(L2417),ISBLANK(H2417)),\"\",H2417+(VLOOKUP(L2417,garantie,2,FALSE)))","v":""}]
[2417,{"$nulls":9},{"$f":"IF(B2418=\"\",\"\",D2418&\" - \"&F2418&\" - \"&G2418)","v":""},null,{"$f":"IF(OR(ISBLANK(L2418),ISBLANK(H2418)),\"\",H2418+(VLOOKUP(L2418,garantie,2,FALSE)))","v":""}]
[2418,{"$nulls":9},{"$f":"IF(B2419=\"\",\"\",D2419&\" - \"&F2419&\" - \"&G2419)","v":""},null,{"$f":"IF(OR(ISBLANK(L2419),ISBLANK(H2419)),\"\",H2419+(VLOOKUP(L2419,garantie,2,FALSE)))","v":""}]
[2419,{"$nulls":9},{"$f":"IF(B2420=\"\",\"\",D2420&\" - \"&F2420&\" - \"&G2420)","v":""},null,{"$f":"IF(OR(ISBLANK(L2420),ISBLANK(H2420)),\"\",H2420+(VLOOKUP(L2420,garantie,2,FALSE)))","v":""}]
[2420,{"$nulls":9},{"$f":"IF(B2421=\"\",\"\",D2421&\" - \"&F2421&\" - \"&G2421)","v":""},null,{"$f":"IF(OR(ISBLANK(L2421),ISBLANK(H2421)),\"\",H2421+(VLOOKUP(L2421,garantie,2,FALSE)))","v":""}]
[2421,{"$nulls":9},{"$f":"IF(B2422=\"\",\"\",D2422&\" - \"&F2422&\" - \"&G2422)","v":""},null,{"$f":"IF(OR(ISBLANK(L2422),ISBLANK(H2422)),\"\",H2422+(VLOOKUP(L2422,garantie,2,FALSE)))","v":""}]
[2422,{"$nulls":9},{"$f":"IF(B2423=\"\",\"\",D2423&\" - \"&F2423&\" - \"&G2423)","v":""},null,{"$f":"IF(OR(ISBLANK(L2423),ISBLANK(H2423)),\"\",H2423+(VLOOKUP(L2423,garantie,2,FALSE)))","v":""}]
[2423,{"$nulls":9},{"$f":"IF(B2424=\"\",\"\",D2424&\" - \"&F2424&\" - \"&G2424)","v":""},null,{"$f":"IF(OR(ISBLANK(L2424),ISBLANK(H2424)),\"\",H2424+(VLOOKUP(L2424,garantie,2,FALSE)))","v":""}]
[2424,{"$nulls":9},{"$f":"IF(B2425=\"\",\"\",D2425&\" - \"&F2425&\" - \"&G2425)","v":""},null,{"$f":"IF(OR(ISBLANK(L2425),ISBLANK(H2425)),\"\",H2425+(VLOOKUP(L2425,garantie,2,FALSE)))","v":""}]
[2425,{"$nulls":9},{"$f":"IF(B2426=\"\",\"\",D2426&\" - \"&F2426&\" - \"&G2426)","v":""},null,{"$f":"IF(OR(ISBLANK(L2426),ISBLANK(H2426)),\"\",H2426+(VLOOKUP(L2426,garantie,2,FALSE)))","v":""}]
[2426,{"$nulls":9},{"$f":"IF(B2427=\"\",\"\",D2427&\" - \"&F2427&\" - \"&G2427)","v":""},null,{"$f":"IF(OR(ISBLANK(L2427),ISBLANK(H2427)),\"\",H2427+(VLOOKUP(L2427,garantie,2,FALSE)))","v":""}]
[2427,{"$nulls":9},{"$f":"IF(B2428=\"\",\"\",D2428&\" - \"&F2428&\" - \"&G2428)","v":""},null,{"$f":"IF(OR(ISBLANK(L2428),ISBLANK(H2428)),\"\",H2428+(VLOOKUP(L2428,garantie,2,FALSE)))","v":""}]
[2428,{"$nulls":9},{"$f":"IF(B2429=\"\",\"\",D2429&\" - \"&F2429&\" - \"&G2429)","v":""},null,{"$f":"IF(OR(ISBLANK(L2429),ISBLANK(H2429)),\"\",H2429+(VLOOKUP(L2429,garantie,2,FALSE)))","v":""}]
[2429,{"$nulls":9},{"$f":"IF(B2430=\"\",\"\",D2430&\" - \"&F2430&\" - \"&G2430)","v":""},null,{"$f":"IF(OR(ISBLANK(L2430),ISBLANK(H2430)),\"\",H2430+(VLOOKUP(L2430,garantie,2,FALSE)))","v":""}]
[2430,{"$nulls":9},{"$f":"IF(B2431=\"\",\"\",D2431&\" - \"&F2431&\" - \"&G2431)","v":""},null,{"$f":"IF(OR(ISBLANK(L2431),ISBLANK(H2431)),\"\",H2431+(VLOOKUP(L2431,garantie,2,FALSE)))","v":""}]
[2431,{"$nulls":9},{"$f":"IF(B2432=\"\",\"\",D2432&\" - \"&F2432&\" - \"&G2432)","v":""},null,{"$f":"IF(OR(ISBLANK(L2432),ISBLANK(H2432)),\"\",H2432+(VLOOKUP(L2432,garantie,2,FALSE)))","v":""}]
[2432,{"$nulls":9},{"$f":"IF(B2433=\"\",\"\",D2433&\" - \"&F2433&\" - \"&G2433)","v":""},null,{"$f":"IF(OR(ISBLANK(L2433),ISBLANK(H2433)),\"\",H2433+(VLOOKUP(L2433,garantie,2,FALSE)))","v":""}]
[2433,{"$nulls":9},{"$f":"IF(B2434=\"\",\"\",D2434&\" - \"&F2434&\" - \"&G2434)","v":""},null,{"$f":"IF(OR(ISBLANK(L2434),ISBLANK(H2434)),\"\",H2434+(VLOOKUP(L2434,garantie,2,FALSE)))","v":""}]
[2434,{"$nulls":9},{"$f":"IF(B2435=\"\",\"\",D2435&\" - \"&F2435&\" - \"&G2435)","v":""},null,{"$f":"IF(OR(ISBLANK(L2435),ISBLANK(H2435)),\"\",H2435+(VLOOKUP(L2435,garantie,2,FALSE)))","v":""}]
[2435,{"$nulls":9},{"$f":"IF(B2436=\"\",\"\",D2436&\" - \"&F2436&\" - \"&G2436)","v":""},null,{"$f":"IF(OR(ISBLANK(L2436),ISBLANK(H2436)),\"\",H2436+(VLOOKUP(L2436,garantie,2,FALSE)))","v":""}]
[2436,{"$nulls":9},{"$f":"IF(B2437=\"\",\"\",D2437&\" - \"&F2437&\" - \"&G2437)","v":""},null,{"$f":"IF(OR(ISBLANK(L2437),ISBLANK(H2437)),\"\",H2437+(VLOOKUP(L2437,garantie,2,FALSE)))","v":""}]
[2437,{"$nulls":9},{"$f":"IF(B2438=\"\",\"\",D2438&\" - \"&F2438&\" - \"&G2438)","v":""},null,{"$f":"IF(OR(ISBLANK(L2438),ISBLANK(H2438)),\"\",H2438+(VLOOKUP(L2438,garantie,2,FALSE)))","v":""}]
[2438,{"$nulls":9},{"$f":"IF(B2439=\"\",\"\",D2439&\" - \"&F2439&\" - \"&G2439)","v":""},null,{"$f":"IF(OR(ISBLANK(L2439),ISBLANK(H2439)),\"\",H2439+(VLOOKUP(L2439,garantie,2,FALSE)))","v":""}]
[2439,{"$nulls":9},{"$f":"IF(B2440=\"\",\"\",D2440&\" - \"&F2440&\" - \"&G2440)","v":""},null,{"$f":"IF(OR(ISBLANK(L2440),ISBLANK(H2440)),\"\",H2440+(VLOOKUP(L2440,garantie,2,FALSE)))","v":""}]
[2440,{"$nulls":9},{"$f":"IF(B2441=\"\",\"\",D2441&\" - \"&F2441&\" - \"&G2441)","v":""},null,{"$f":"IF(OR(ISBLANK(L2441),ISBLANK(H2441)),\"\",H2441+(VLOOKUP(L2441,garantie,2,FALSE)))","v":""}]
[2441,{"$nulls":9},{"$f":"IF(B2442=\"\",\"\",D2442&\" - \"&F2442&\" - \"&G2442)","v":""},null,{"$f":"IF(OR(ISBLANK(L2442),ISBLANK(H2442)),\"\",H2442+(VLOOKUP(L2442,garantie,2,FALSE)))","v":""}]
[2442,{"$nulls":9},{"$f":"IF(B2443=\"\",\"\",D2443&\" - \"&F2443&\" - \"&G2443)","v":""},null,{"$f":"IF(OR(ISBLANK(L2443),ISBLANK(H2443)),\"\",H2443+(VLOOKUP(L2443,garantie,2,FALSE)))","v":""}]
[2443,{"$nulls":9},{"$f":"IF(B2444=\"\",\"\",D2444&\" - \"&F2444&\" - \"&G2444)","v":""},null,{"$f":"IF(OR(ISBLANK(L2444),ISBLANK(H2444)),\"\",H2444+(VLOOKUP(L2444,garantie,2,FALSE)))","v":""}]
[2444,{"$nulls":9},{"$f":"IF(B2445=\"\",\"\",D2445&\" - \"&F2445&\" - \"&G2445)","v":""},null,{"$f":"IF(OR(ISBLANK(L2445),ISBLANK(H2445)),\"\",H2445+(VLOOKUP(L2445,garantie,2,FALSE)))","v":""}]
[2445,{"$nulls":9},{"$f":"IF(B2446=\"\",\"\",D2446&\" - \"&F2446&\" - \"&G2446)","v":""},null,{"$f":"IF(OR(ISBLANK(L2446),ISBLANK(H2446)),\"\",H2446+(VLOOKUP(L2446,garantie,2,FALSE)))","v":""}]
[2446,{"$nulls":9},{"$f":"IF(B2447=\"\",\"\",D2447&\" - \"&F2447&\" - \"&G2447)","v":""},null,{"$f":"IF(OR(ISBLANK(L2447),ISBLANK(H2447)),\"\",H2447+(VLOOKUP(L2447,garantie,2,FALSE)))","v":""}]
[2447,{"$nulls":9},{"$f":"IF(B2448=\"\",\"\",D2448&\" - \"&F2448&\" - \"&G2448)","v":""},null,{"$f":"IF(OR(ISBLANK(L2448),ISBLANK(H2448)),\"\",H2448+(VLOOKUP(L2448,garantie,2,FALSE)))","v":""}]
[2448,{"$nulls":9},{"$f":"IF(B2449=\"\",\"\",D2449&\" - \"&F2449&\" - \"&G2449)","v":""},null,{"$f":"IF(OR(ISBLANK(L2449),ISBLANK(H2449)),\"\",H2449+(VLOOKUP(L2449,garantie,2,FALSE)))","v":""}]
[2449,{"$nulls":9},{"$f":"IF(B2450=\"\",\"\",D2450&\" - \"&F2450&\" - \"&G2450)","v":""},null,{"$f":"IF(OR(ISBLANK(L2450),ISBLANK(H2450)),\"\",H2450+(VLOOKUP(L2450,garantie,2,FALSE)))","v":""}]
[2450,{"$nulls":9},{"$f":"IF(B2451=\"\",\"\",D2451&\" - \"&F2451&\" - \"&G2451)","v":""},null,{"$f":"IF(OR(ISBLANK(L2451),ISBLANK(H2451)),\"\",H2451+(VLOOKUP(L2451,garantie,2,FALSE)))","v":""}]
[2451,{"$nulls":9},{"$f":"IF(B2452=\"\",\"\",D2452&\" - \"&F2452&\" - \"&G2452)","v":""},null,{"$f":"IF(OR(ISBLANK(L2452),ISBLANK(H2452)),\"\",H2452+(VLOOKUP(L2452,garantie,2,FALSE)))","v":""}]
[2452,{"$nulls":9},{"$f":"IF(B2453=\"\",\"\",D2453&\" - \"&F2453&\" - \"&G2453)","v":""},null,{"$f":"IF(OR(ISBLANK(L2453),ISBLANK(H2453)),\"\",H2453+(VLOOKUP(L2453,garantie,2,FALSE)))","v":""}]
[2453,{"$nulls":9},{"$f":"IF(B2454=\"\",\"\",D2454&\" - \"&F2454&\" - \"&G2454)","v":""},null,{"$f":"IF(OR(ISBLANK(L2454),ISBLANK(H2454)),\"\",H2454+(VLOOKUP(L2454,garantie,2,FALSE)))","v":""}]
[2454,{"$nulls":9},{"$f":"IF(B2455=\"\",\"\",D2455&\" - \"&F2455&\" - \"&G2455)","v":""},null,{"$f":"IF(OR(ISBLANK(L2455),ISBLANK(H2455)),\"\",H2455+(VLOOKUP(L2455,garantie,2,FALSE)))","v":""}]
[2455,{"$nulls":9},{"$f":"IF(B2456=\"\",\"\",D2456&\" - \"&F2456&\" - \"&G2456)","v":""},null,{"$f":"IF(OR(ISBLANK(L2456),ISBLANK(H2456)),\"\",H2456+(VLOOKUP(L2456,garantie,2,FALSE)))","v":""}]
[2456,{"$nulls":9},{"$f":"IF(B2457=\"\",\"\",D2457&\" - \"&F2457&\" - \"&G2457)","v":""},null,{"$f":"IF(OR(ISBLANK(L2457),ISBLANK(H2457)),\"\",H2457+(VLOOKUP(L2457,garantie,2,FALSE)))","v":""}]
[2457,{"$nulls":9},{"$f":"IF(B2458=\"\",\"\",D2458&\" - \"&F2458&\" - \"&G2458)","v":""},null,{"$f":"IF(OR(ISBLANK(L2458),ISBLANK(H2458)),\"\",H2458+(VLOOKUP(L2458,garantie,2,FALSE)))","v":""}]
[2458,{"$nulls":9},{"$f":"IF(B2459=\"\",\"\",D2459&\" - \"&F2459&\" - \"&G2459)","v":""},null,{"$f":"IF(OR(ISBLANK(L2459),ISBLANK(H2459)),\"\",H2459+(VLOOKUP(L2459,garantie,2,FALSE)))","v":""}]
[2459,{"$nulls":9},{"$f":"IF(B2460=\"\",\"\",D2460&\" - \"&F2460&\" - \"&G2460)","v":""},null,{"$f":"IF(OR(ISBLANK(L2460),ISBLANK(H2460)),\"\",H2460+(VLOOKUP(L2460,garantie,2,FALSE)))","v":""}]
[2460,{"$nulls":9},{"$f":"IF(B2461=\"\",\"\",D2461&\" - \"&F2461&\" - \"&G2461)","v":""},null,{"$f":"IF(OR(ISBLANK(L2461),ISBLANK(H2461)),\"\",H2461+(VLOOKUP(L2461,garantie,2,FALSE)))","v":""}]
[2461,{"$nulls":9},{"$f":"IF(B2462=\"\",\"\",D2462&\" - \"&F2462&\" - \"&G2462)","v":""},null,{"$f":"IF(OR(ISBLANK(L2462),ISBLANK(H2462)),\"\",H2462+(VLOOKUP(L2462,garantie,2,FALSE)))","v":""}]
[2462,{"$nulls":9},{"$f":"IF(B2463=\"\",\"\",D2463&\" - \"&F2463&\" - \"&G2463)","v":""},null,{"$f":"IF(OR(ISBLANK(L2463),ISBLANK(H2463)),\"\",H2463+(VLOOKUP(L2463,garantie,2,FALSE)))","v":""}]
[2463,{"$nulls":9},{"$f":"IF(B2464=\"\",\"\",D2464&\" - \"&F2464&\" - \"&G2464)","v":""},null,{"$f":"IF(OR(ISBLANK(L2464),ISBLANK(H2464)),\"\",H2464+(VLOOKUP(L2464,garantie,2,FALSE)))","v":""}]
[2464,{"$nulls":9},{"$f":"IF(B2465=\"\",\"\",D2465&\" - \"&F2465&\" - \"&G2465)","v":""},null,{"$f":"IF(OR(ISBLANK(L2465),ISBLANK(H2465)),\"\",H2465+(VLOOKUP(L2465,garantie,2,FALSE)))","v":""}]
[2465,{"$nulls":9},{"$f":"IF(B2466=\"\",\"\",D2466&\" - \"&F2466&\" - \"&G2466)","v":""},null,{"$f":"IF(OR(ISBLANK(L2466),ISBLANK(H2466)),\"\",H2466+(VLOOKUP(L2466,garantie,2,FALSE)))","v":""}]
[2466,{"$nulls":9},{"$f":"IF(B2467=\"\",\"\",D2467&\" - \"&F2467&\" - \"&G2467)","v":""},null,{"$f":"IF(OR(ISBLANK(L2467),ISBLANK(H2467)),\"\",H2467+(VLOOKUP(L2467,garantie,2,FALSE)))","v":""}]
[2467,{"$nulls":9},{"$f":"IF(B2468=\"\",\"\",D2468&\" - \"&F2468&\" - \"&G2468)","v":""},null,{"$f":"IF(OR(ISBLANK(L2468),ISBLANK(H2468)),\"\",H2468+(VLOOKUP(L2468,garantie,2,FALSE)))","v":""}]
[2468,{"$nulls":9},{"$f":"IF(B2469=\"\",\"\",D2469&\" - \"&F2469&\" - \"&G2469)","v":""},null,{"$f":"IF(OR(ISBLANK(L2469),ISBLANK(H2469)),\"\",H2469+(VLOOKUP(L2469,garantie,2,FALSE)))","v":""}]
[2469,{"$nulls":9},{"$f":"IF(B2470=\"\",\"\",D2470&\" - \"&F2470&\" - \"&G2470)","v":""},null,{"$f":"IF(OR(ISBLANK(L2470),ISBLANK(H2470)),\"\",H2470+(VLOOKUP(L2470,garantie,2,FALSE)))","v":""}]
[2470,{"$nulls":9},{"$f":"IF(B2471=\"\",\"\",D2471&\" - \"&F2471&\" - \"&G2471)","v":""},null,{"$f":"IF(OR(ISBLANK(L2471),ISBLANK(H2471)),\"\",H2471+(VLOOKUP(L2471,garantie,2,FALSE)))","v":""}]
[2471,{"$nulls":9},{"$f":"IF(B2472=\"\",\"\",D2472&\" - \"&F2472&\" - \"&G2472)","v":""},null,{"$f":"IF(OR(ISBLANK(L2472),ISBLANK(H2472)),\"\",H2472+(VLOOKUP(L2472,garantie,2,FALSE)))","v":""}]
[2472,{"$nulls":9},{"$f":"IF(B2473=\"\",\"\",D2473&\" - \"&F2473&\" - \"&G2473)","v":""},null,{"$f":"IF(OR(ISBLANK(L2473),ISBLANK(H2473)),\"\",H2473+(VLOOKUP(L2473,garantie,2,FALSE)))","v":""}]
[2473,{"$nulls":9},{"$f":"IF(B2474=\"\",\"\",D2474&\" - \"&F2474&\" - \"&G2474)","v":""},null,{"$f":"IF(OR(ISBLANK(L2474),ISBLANK(H2474)),\"\",H2474+(VLOOKUP(L2474,garantie,2,FALSE)))","v":""}]
[2474,{"$nulls":9},{"$f":"IF(B2475=\"\",\"\",D2475&\" - \"&F2475&\" - \"&G2475)","v":""},null,{"$f":"IF(OR(ISBLANK(L2475),ISBLANK(H2475)),\"\",H2475+(VLOOKUP(L2475,garantie,2,FALSE)))","v":""}]
[2475,{"$nulls":9},{"$f":"IF(B2476=\"\",\"\",D2476&\" - \"&F2476&\" - \"&G2476)","v":""},null,{"$f":"IF(OR(ISBLANK(L2476),ISBLANK(H2476)),\"\",H2476+(VLOOKUP(L2476,garantie,2,FALSE)))","v":""}]
[2476,{"$nulls":9},{"$f":"IF(B2477=\"\",\"\",D2477&\" - \"&F2477&\" - \"&G2477)","v":""},null,{"$f":"IF(OR(ISBLANK(L2477),ISBLANK(H2477)),\"\",H2477+(VLOOKUP(L2477,garantie,2,FALSE)))","v":""}]
[2477,{"$nulls":9},{"$f":"IF(B2478=\"\",\"\",D2478&\" - \"&F2478&\" - \"&G2478)","v":""},null,{"$f":"IF(OR(ISBLANK(L2478),ISBLANK(H2478)),\"\",H2478+(VLOOKUP(L2478,garantie,2,FALSE)))","v":""}]
[2478,{"$nulls":9},{"$f":"IF(B2479=\"\",\"\",D2479&\" - \"&F2479&\" - \"&G2479)","v":""},null,{"$f":"IF(OR(ISBLANK(L2479),ISBLANK(H2479)),\"\",H2479+(VLOOKUP(L2479,garantie,2,FALSE)))","v":""}]
[2479,{"$nulls":9},{"$f":"IF(B2480=\"\",\"\",D2480&\" - \"&F2480&\" - \"&G2480)","v":""},null,{"$f":"IF(OR(ISBLANK(L2480),ISBLANK(H2480)),\"\",H2480+(VLOOKUP(L2480,garantie,2,FALSE)))","v":""}]
[2480,{"$nulls":9},{"$f":"IF(B2481=\"\",\"\",D2481&\" - \"&F2481&\" - \"&G2481)","v":""},null,{"$f":"IF(OR(ISBLANK(L2481),ISBLANK(H2481)),\"\",H2481+(VLOOKUP(L2481,garantie,2,FALSE)))","v":""}]
[2481,{"$nulls":9},{"$f":"IF(B2482=\"\",\"\",D2482&\" - \"&F2482&\" - \"&G2482)","v":""},null,{"$f":"IF(OR(ISBLANK(L2482),ISBLANK(H2482)),\"\",H2482+(VLOOKUP(L2482,garantie,2,FALSE)))","v":""}]
[2482,{"$nulls":9},{"$f":"IF(B2483=\"\",\"\",D2483&\" - \"&F2483&\" - \"&G2483)","v":""},null,{"$f":"IF(OR(ISBLANK(L2483),ISBLANK(H2483)),\"\",H2483+(VLOOKUP(L2483,garantie,2,FALSE)))","v":""}]
[2483,{"$nulls":9},{"$f":"IF(B2484=\"\",\"\",D2484&\" - \"&F2484&\" - \"&G2484)","v":""},null,{"$f":"IF(OR(ISBLANK(L2484),ISBLANK(H2484)),\"\",H2484+(VLOOKUP(L2484,garantie,2,FALSE)))","v":""}]
[2484,{"$nulls":9},{"$f":"IF(B2485=\"\",\"\",D2485&\" - \"&F2485&\" - \"&G2485)","v":""},null,{"$f":"IF(OR(ISBLANK(L2485),ISBLANK(H2485)),\"\",H2485+(VLOOKUP(L2485,garantie,2,FALSE)))","v":""}]
[2485,{"$nulls":9},{"$f":"IF(B2486=\"\",\"\",D2486&\" - \"&F2486&\" - \"&G2486)","v":""},null,{"$f":"IF(OR(ISBLANK(L2486),ISBLANK(H2486)),\"\",H2486+(VLOOKUP(L2486,garantie,2,FALSE)))","v":""}]
[2486,{"$nulls":9},{"$f":"IF(B2487=\"\",\"\",D2487&\" - \"&F2487&\" - \"&G2487)","v":""},null,{"$f":"IF(OR(ISBLANK(L2487),ISBLANK(H2487)),\"\",H2487+(VLOOKUP(L2487,garantie,2,FALSE)))","v":""}]
[2487,{"$nulls":9},{"$f":"IF(B2488=\"\",\"\",D2488&\" - \"&F2488&\" - \"&G2488)","v":""},null,{"$f":"IF(OR(ISBLANK(L2488),ISBLANK(H2488)),\"\",H2488+(VLOOKUP(L2488,garantie,2,FALSE)))","v":""}]
[2488,{"$nulls":9},{"$f":"IF(B2489=\"\",\"\",D2489&\" - \"&F2489&\" - \"&G2489)","v":""},null,{"$f":"IF(OR(ISBLANK(L2489),ISBLANK(H2489)),\"\",H2489+(VLOOKUP(L2489,garantie,2,FALSE)))","v":""}]
[2489,{"$nulls":9},{"$f":"IF(B2490=\"\",\"\",D2490&\" - \"&F2490&\" - \"&G2490)","v":""},null,{"$f":"IF(OR(ISBLANK(L2490),ISBLANK(H2490)),\"\",H2490+(VLOOKUP(L2490,garantie,2,FALSE)))","v":""}]
[2490,{"$nulls":9},{"$f":"IF(B2491=\"\",\"\",D2491&\" - \"&F2491&\" - \"&G2491)","v":""},null,{"$f":"IF(OR(ISBLANK(L2491),ISBLANK(H2491)),\"\",H2491+(VLOOKUP(L2491,garantie,2,FALSE)))","v":""}]
[2491,{"$nulls":9},{"$f":"IF(B2492=\"\",\"\",D2492&\" - \"&F2492&\" - \"&G2492)","v":""},null,{"$f":"IF(OR(ISBLANK(L2492),ISBLANK(H2492)),\"\",H2492+(VLOOKUP(L2492,garantie,2,FALSE)))","v":""}]
[2492,{"$nulls":9},{"$f":"IF(B2493=\"\",\"\",D2493&\" - \"&F2493&\" - \"&G2493)","v":""},null,{"$f":"IF(OR(ISBLANK(L2493),ISBLANK(H2493)),\"\",H2493+(VLOOKUP(L2493,garantie,2,FALSE)))","v":""}]
[2493,{"$nulls":9},{"$f":"IF(B2494=\"\",\"\",D2494&\" - \"&F2494&\" - \"&G2494)","v":""},null,{"$f":"IF(OR(ISBLANK(L2494),ISBLANK(H2494)),\"\",H2494+(VLOOKUP(L2494,garantie,2,FALSE)))","v":""}]
[2494,{"$nulls":9},{"$f":"IF(B2495=\"\",\"\",D2495&\" - \"&F2495&\" - \"&G2495)","v":""},null,{"$f":"IF(OR(ISBLANK(L2495),ISBLANK(H2495)),\"\",H2495+(VLOOKUP(L2495,garantie,2,FALSE)))","v":""}]
[2495,{"$nulls":9},{"$f":"IF(B2496=\"\",\"\",D2496&\" - \"&F2496&\" - \"&G2496)","v":""},null,{"$f":"IF(OR(ISBLANK(L2496),ISBLANK(H2496)),\"\",H2496+(VLOOKUP(L2496,garantie,2,FALSE)))","v":""}]
[2496,{"$nulls":9},{"$f":"IF(B2497=\"\",\"\",D2497&\" - \"&F2497&\" - \"&G2497)","v":""},null,{"$f":"IF(OR(ISBLANK(L2497),ISBLANK(H2497)),\"\",H2497+(VLOOKUP(L2497,garantie,2,FALSE)))","v":""}]
[2497,{"$nulls":9},{"$f":"IF(B2498=\"\",\"\",D2498&\" - \"&F2498&\" - \"&G2498)","v":""},null,{"$f":"IF(OR(ISBLANK(L2498),ISBLANK(H2498)),\"\",H2498+(VLOOKUP(L2498,garantie,2,FALSE)))","v":""}]
[2498,{"$nulls":9},{"$f":"IF(B2499=\"\",\"\",D2499&\" - \"&F2499&\" - \"&G2499)","v":""},null,{"$f":"IF(OR(ISBLANK(L2499),ISBLANK(H2499)),\"\",H2499+(VLOOKUP(L2499,garantie,2,FALSE)))","v":""}]
[2499,{"$nulls":9},{"$f":"IF(B2500=\"\",\"\",D2500&\" - \"&F2500&\" - \"&G2500)","v":""},null,{"$f":"IF(OR(ISBLANK(L2500),ISBLANK(H2500)),\"\",H2500+(VLOOKUP(L2500,garantie,2,FALSE)))","v":""}]
[2500,{"$nulls":9},{"$f":"IF(B2501=\"\",\"\",D2501&\" - \"&F2501&\" - \"&G2501)","v":""},null,{"$f":"IF(OR(ISBLANK(L2501),ISBLANK(H2501)),\"\",H2501+(VLOOKUP(L2501,garantie,2,FALSE)))","v":""}]
[2501,{"$nulls":9},{"$f":"IF(B2502=\"\",\"\",D2502&\" - \"&F2502&\" - \"&G2502)","v":""},null,{"$f":"IF(OR(ISBLANK(L2502),ISBLANK(H2502)),\"\",H2502+(VLOOKUP(L2502,garantie,2,FALSE)))","v":""}]
[2502,{"$nulls":9},{"$f":"IF(B2503=\"\",\"\",D2503&\" - \"&F2503&\" - \"&G2503)","v":""},null,{"$f":"IF(OR(ISBLANK(L2503),ISBLANK(H2503)),\"\",H2503+(VLOOKUP(L2503,garantie,2,FALSE)))","v":""}]
[2503,{"$nulls":9},{"$f":"IF(B2504=\"\",\"\",D2504&\" - \"&F2504&\" - \"&G2504)","v":""},null,{"$f":"IF(OR(ISBLANK(L2504),ISBLANK(H2504)),\"\",H2504+(VLOOKUP(L2504,garantie,2,FALSE)))","v":""}]
[2504,{"$nulls":9},{"$f":"IF(B2505=\"\",\"\",D2505&\" - \"&F2505&\" - \"&G2505)","v":""},null,{"$f":"IF(OR(ISBLANK(L2505),ISBLANK(H2505)),\"\",H2505+(VLOOKUP(L2505,garantie,2,FALSE)))","v":""}]
[2505,{"$nulls":9},{"$f":"IF(B2506=\"\",\"\",D2506&\" - \"&F2506&\" - \"&G2506)","v":""},null,{"$f":"IF(OR(ISBLANK(L2506),ISBLANK(H2506)),\"\",H2506+(VLOOKUP(L2506,garantie,2,FALSE)))","v":""}]
[2506,{"$nulls":9},{"$f":"IF(B2507=\"\",\"\",D2507&\" - \"&F2507&\" - \"&G2507)","v":""},null,{"$f":"IF(OR(ISBLANK(L2507),ISBLANK(H2507)),\"\",H2507+(VLOOKUP(L2507,garantie,2,FALSE)))","v":""}]
[2507,{"$nulls":9},{"$f":"IF(B2508=\"\",\"\",D2508&\" - \"&F2508&\" - \"&G2508)","v":""},null,{"$f":"IF(OR(ISBLANK(L2508),ISBLANK(H2508)),\"\",H2508+(VLOOKUP(L2508,garantie,2,FALSE)))","v":""}]
[2508,{"$nulls":9},{"$f":"IF(B2509=\"\",\"\",D2509&\" - \"&F2509&\" - \"&G2509)","v":""},null,{"$f":"IF(OR(ISBLANK(L2509),ISBLANK(H2509)),\"\",H2509+(VLOOKUP(L2509,garantie,2,FALSE)))","v":""}]
[2509,{"$nulls":9},{"$f":"IF(B2510=\"\",\"\",D2510&\" - \"&F2510&\" - \"&G2510)","v":""},null,{"$f":"IF(OR(ISBLANK(L2510),ISBLANK(H2510)),\"\",H2510+(VLOOKUP(L2510,garantie,2,FALSE)))","v":""}]
[2510,{"$nulls":9},{"$f":"IF(B2511=\"\",\"\",D2511&\" - \"&F2511&\" - \"&G2511)","v":""},null,{"$f":"IF(OR(ISBLANK(L2511),ISBLANK(H2511)),\"\",H2511+(VLOOKUP(L2511,garantie,2,FALSE)))","v":""}]
[2511,{"$nulls":9},{"$f":"IF(B2512=\"\",\"\",D2512&\" - \"&F2512&\" - \"&G2512)","v":""},null,{"$f":"IF(OR(ISBLANK(L2512),ISBLANK(H2512)),\"\",H2512+(VLOOKUP(L2512,garantie,2,FALSE)))","v":""}]
[2512,{"$nulls":9},{"$f":"IF(B2513=\"\",\"\",D2513&\" - \"&F2513&\" - \"&G2513)","v":""},null,{"$f":"IF(OR(ISBLANK(L2513),ISBLANK(H2513)),\"\",H2513+(VLOOKUP(L2513,garantie,2,FALSE)))","v":""}]
[2513,{"$nulls":9},{"$f":"IF(B2514=\"\",\"\",D2514&\" - \"&F2514&\" - \"&G2514)","v":""},null,{"$f":"IF(OR(ISBLANK(L2514),ISBLANK(H2514)),\"\",H2514+(VLOOKUP(L2514,garantie,2,FALSE)))","v":""}]
[2514,{"$nulls":9},{"$f":"IF(B2515=\"\",\"\",D2515&\" - \"&F2515&\" - \"&G2515)","v":""},null,{"$f":"IF(OR(ISBLANK(L2515),ISBLANK(H2515)),\"\",H2515+(VLOOKUP(L2515,garantie,2,FALSE)))","v":""}]
[2515,{"$nulls":9},{"$f":"IF(B2516=\"\",\"\",D2516&\" - \"&F2516&\" - \"&G2516)","v":""},null,{"$f":"IF(OR(ISBLANK(L2516),ISBLANK(H2516)),\"\",H2516+(VLOOKUP(L2516,garantie,2,FALSE)))","v":""}]
[2516,{"$nulls":9},{"$f":"IF(B2517=\"\",\"\",D2517&\" - \"&F2517&\" - \"&G2517)","v":""},null,{"$f":"IF(OR(ISBLANK(L2517),ISBLANK(H2517)),\"\",H2517+(VLOOKUP(L2517,garantie,2,FALSE)))","v":""}]
[2517,{"$nulls":9},{"$f":"IF(B2518=\"\",\"\",D2518&\" - \"&F2518&\" - \"&G2518)","v":""},null,{"$f":"IF(OR(ISBLANK(L2518),ISBLANK(H2518)),\"\",H2518+(VLOOKUP(L2518,garantie,2,FALSE)))","v":""}]
[2518,{"$nulls":9},{"$f":"IF(B2519=\"\",\"\",D2519&\" - \"&F2519&\" - \"&G2519)","v":""},null,{"$f":"IF(OR(ISBLANK(L2519),ISBLANK(H2519)),\"\",H2519+(VLOOKUP(L2519,garantie,2,FALSE)))","v":""}]
[2519,{"$nulls":9},{"$f":"IF(B2520=\"\",\"\",D2520&\" - \"&F2520&\" - \"&G2520)","v":""},null,{"$f":"IF(OR(ISBLANK(L2520),ISBLANK(H2520)),\"\",H2520+(VLOOKUP(L2520,garantie,2,FALSE)))","v":""}]
[2520,{"$nulls":9},{"$f":"IF(B2521=\"\",\"\",D2521&\" - \"&F2521&\" - \"&G2521)","v":""},null,{"$f":"IF(OR(ISBLANK(L2521),ISBLANK(H2521)),\"\",H2521+(VLOOKUP(L2521,garantie,2,FALSE)))","v":""}]
[2521,{"$nulls":9},{"$f":"IF(B2522=\"\",\"\",D2522&\" - \"&F2522&\" - \"&G2522)","v":""},null,{"$f":"IF(OR(ISBLANK(L2522),ISBLANK(H2522)),\"\",H2522+(VLOOKUP(L2522,garantie,2,FALSE)))","v":""}]
[2522,{"$nulls":9},{"$f":"IF(B2523=\"\",\"\",D2523&\" - \"&F2523&\" - \"&G2523)","v":""},null,{"$f":"IF(OR(ISBLANK(L2523),ISBLANK(H2523)),\"\",H2523+(VLOOKUP(L2523,garantie,2,FALSE)))","v":""}]
[2523,{"$nulls":9},{"$f":"IF(B2524=\"\",\"\",D2524&\" - \"&F2524&\" - \"&G2524)","v":""},null,{"$f":"IF(OR(ISBLANK(L2524),ISBLANK(H2524)),\"\",H2524+(VLOOKUP(L2524,garantie,2,FALSE)))","v":""}]
[2524,{"$nulls":9},{"$f":"IF(B2525=\"\",\"\",D2525&\" - \"&F2525&\" - \"&G2525)","v":""},null,{"$f":"IF(OR(ISBLANK(L2525),ISBLANK(H2525)),\"\",H2525+(VLOOKUP(L2525,garantie,2,FALSE)))","v":""}]
[2525,{"$nulls":9},{"$f":"IF(B2526=\"\",\"\",D2526&\" - \"&F2526&\" - \"&G2526)","v":""},null,{"$f":"IF(OR(ISBLANK(L2526),ISBLANK(H2526)),\"\",H2526+(VLOOKUP(L2526,garantie,2,FALSE)))","v":""}]
[2526,{"$nulls":9},{"$f":"IF(B2527=\"\",\"\",D2527&\" - \"&F2527&\" - \"&G2527)","v":""},null,{"$f":"IF(OR(ISBLANK(L2527),ISBLANK(H2527)),\"\",H2527+(VLOOKUP(L2527,garantie,2,FALSE)))","v":""}]
[2527,{"$nulls":9},{"$f":"IF(B2528=\"\",\"\",D2528&\" - \"&F2528&\" - \"&G2528)","v":""},null,{"$f":"IF(OR(ISBLANK(L2528),ISBLANK(H2528)),\"\",H2528+(VLOOKUP(L2528,garantie,2,FALSE)))","v":""}]
[2528,{"$nulls":9},{"$f":"IF(B2529=\"\",\"\",D2529&\" - \"&F2529&\" - \"&G2529)","v":""},null,{"$f":"IF(OR(ISBLANK(L2529),ISBLANK(H2529)),\"\",H2529+(VLOOKUP(L2529,garantie,2,FALSE)))","v":""}]
[2529,{"$nulls":9},{"$f":"IF(B2530=\"\",\"\",D2530&\" - \"&F2530&\" - \"&G2530)","v":""},null,{"$f":"IF(OR(ISBLANK(L2530),ISBLANK(H2530)),\"\",H2530+(VLOOKUP(L2530,garantie,2,FALSE)))","v":""}]
[2530,{"$nulls":9},{"$f":"IF(B2531=\"\",\"\",D2531&\" - \"&F2531&\" - \"&G2531)","v":""},null,{"$f":"IF(OR(ISBLANK(L2531),ISBLANK(H2531)),\"\",H2531+(VLOOKUP(L2531,garantie,2,FALSE)))","v":""}]
[2531,{"$nulls":9},{"$f":"IF(B2532=\"\",\"\",D2532&\" - \"&F2532&\" - \"&G2532)","v":""},null,{"$f":"IF(OR(ISBLANK(L2532),ISBLANK(H2532)),\"\",H2532+(VLOOKUP(L2532,garantie,2,FALSE)))","v":""}]
[2532,{"$nulls":9},{"$f":"IF(B2533=\"\",\"\",D2533&\" - \"&F2533&\" - \"&G2533)","v":""},null,{"$f":"IF(OR(ISBLANK(L2533),ISBLANK(H2533)),\"\",H2533+(VLOOKUP(L2533,garantie,2,FALSE)))","v":""}]
[2533,{"$nulls":9},{"$f":"IF(B2534=\"\",\"\",D2534&\" - \"&F2534&\" - \"&G2534)","v":""},null,{"$f":"IF(OR(ISBLANK(L2534),ISBLANK(H2534)),\"\",H2534+(VLOOKUP(L2534,garantie,2,FALSE)))","v":""}]
[2534,{"$nulls":9},{"$f":"IF(B2535=\"\",\"\",D2535&\" - \"&F2535&\" - \"&G2535)","v":""},null,{"$f":"IF(OR(ISBLANK(L2535),ISBLANK(H2535)),\"\",H2535+(VLOOKUP(L2535,garantie,2,FALSE)))","v":""}]
[2535,{"$nulls":9},{"$f":"IF(B2536=\"\",\"\",D2536&\" - \"&F2536&\" - \"&G2536)","v":""},null,{"$f":"IF(OR(ISBLANK(L2536),ISBLANK(H2536)),\"\",H2536+(VLOOKUP(L2536,garantie,2,FALSE)))","v":""}]
[2536,{"$nulls":9},{"$f":"IF(B2537=\"\",\"\",D2537&\" - \"&F2537&\" - \"&G2537)","v":""},null,{"$f":"IF(OR(ISBLANK(L2537),ISBLANK(H2537)),\"\",H2537+(VLOOKUP(L2537,garantie,2,FALSE)))","v":""}]
[2537,{"$nulls":9},{"$f":"IF(B2538=\"\",\"\",D2538&\" - \"&F2538&\" - \"&G2538)","v":""},null,{"$f":"IF(OR(ISBLANK(L2538),ISBLANK(H2538)),\"\",H2538+(VLOOKUP(L2538,garantie,2,FALSE)))","v":""}]
[2538,{"$nulls":9},{"$f":"IF(B2539=\"\",\"\",D2539&\" - \"&F2539&\" - \"&G2539)","v":""},null,{"$f":"IF(OR(ISBLANK(L2539),ISBLANK(H2539)),\"\",H2539+(VLOOKUP(L2539,garantie,2,FALSE)))","v":""}]
[2539,{"$nulls":9},{"$f":"IF(B2540=\"\",\"\",D2540&\" - \"&F2540&\" - \"&G2540)","v":""},null,{"$f":"IF(OR(ISBLANK(L2540),ISBLANK(H2540)),\"\",H2540+(VLOOKUP(L2540,garantie,2,FALSE)))","v":""}]
[2540,{"$nulls":9},{"$f":"IF(B2541=\"\",\"\",D2541&\" - \"&F2541&\" - \"&G2541)","v":""},null,{"$f":"IF(OR(ISBLANK(L2541),ISBLANK(H2541)),\"\",H2541+(VLOOKUP(L2541,garantie,2,FALSE)))","v":""}]
[2541,{"$nulls":9},{"$f":"IF(B2542=\"\",\"\",D2542&\" - \"&F2542&\" - \"&G2542)","v":""},null,{"$f":"IF(OR(ISBLANK(L2542),ISBLANK(H2542)),\"\",H2542+(VLOOKUP(L2542,garantie,2,FALSE)))","v":""}]
[2542,{"$nulls":9},{"$f":"IF(B2543=\"\",\"\",D2543&\" - \"&F2543&\" - \"&G2543)","v":""},null,{"$f":"IF(OR(ISBLANK(L2543),ISBLANK(H2543)),\"\",H2543+(VLOOKUP(L2543,garantie,2,FALSE)))","v":""}]
[2543,{"$nulls":9},{"$f":"IF(B2544=\"\",\"\",D2544&\" - \"&F2544&\" - \"&G2544)","v":""},null,{"$f":"IF(OR(ISBLANK(L2544),ISBLANK(H2544)),\"\",H2544+(VLOOKUP(L2544,garantie,2,FALSE)))","v":""}]
[2544,{"$nulls":9},{"$f":"IF(B2545=\"\",\"\",D2545&\" - \"&F2545&\" - \"&G2545)","v":""},null,{"$f":"IF(OR(ISBLANK(L2545),ISBLANK(H2545)),\"\",H2545+(VLOOKUP(L2545,garantie,2,FALSE)))","v":""}]
[2545,{"$nulls":9},{"$f":"IF(B2546=\"\",\"\",D2546&\" - \"&F2546&\" - \"&G2546)","v":""},null,{"$f":"IF(OR(ISBLANK(L2546),ISBLANK(H2546)),\"\",H2546+(VLOOKUP(L2546,garantie,2,FALSE)))","v":""}]
[2546,{"$nulls":9},{"$f":"IF(B2547=\"\",\"\",D2547&\" - \"&F2547&\" - \"&G2547)","v":""},null,{"$f":"IF(OR(ISBLANK(L2547),ISBLANK(H2547)),\"\",H2547+(VLOOKUP(L2547,garantie,2,FALSE)))","v":""}]
[2547,{"$nulls":9},{"$f":"IF(B2548=\"\",\"\",D2548&\" - \"&F2548&\" - \"&G2548)","v":""},null,{"$f":"IF(OR(ISBLANK(L2548),ISBLANK(H2548)),\"\",H2548+(VLOOKUP(L2548,garantie,2,FALSE)))","v":""}]
[2548,{"$nulls":9},{"$f":"IF(B2549=\"\",\"\",D2549&\" - \"&F2549&\" - \"&G2549)","v":""},null,{"$f":"IF(OR(ISBLANK(L2549),ISBLANK(H2549)),\"\",H2549+(VLOOKUP(L2549,garantie,2,FALSE)))","v":""}]
[2549,{"$nulls":9},{"$f":"IF(B2550=\"\",\"\",D2550&\" - \"&F2550&\" - \"&G2550)","v":""},null,{"$f":"IF(OR(ISBLANK(L2550),ISBLANK(H2550)),\"\",H2550+(VLOOKUP(L2550,garantie,2,FALSE)))","v":""}]
[2550,{"$nulls":9},{"$f":"IF(B2551=\"\",\"\",D2551&\" - \"&F2551&\" - \"&G2551)","v":""},null,{"$f":"IF(OR(ISBLANK(L2551),ISBLANK(H2551)),\"\",H2551+(VLOOKUP(L2551,garantie,2,FALSE)))","v":""}]
[2551,{"$nulls":9},{"$f":"IF(B2552=\"\",\"\",D2552&\" - \"&F2552&\" - \"&G2552)","v":""},null,{"$f":"IF(OR(ISBLANK(L2552),ISBLANK(H2552)),\"\",H2552+(VLOOKUP(L2552,garantie,2,FALSE)))","v":""}]
[2552,{"$nulls":9},{"$f":"IF(B2553=\"\",\"\",D2553&\" - \"&F2553&\" - \"&G2553)","v":""},null,{"$f":"IF(OR(ISBLANK(L2553),ISBLANK(H2553)),\"\",H2553+(VLOOKUP(L2553,garantie,2,FALSE)))","v":""}]
[2553,{"$nulls":9},{"$f":"IF(B2554=\"\",\"\",D2554&\" - \"&F2554&\" - \"&G2554)","v":""},null,{"$f":"IF(OR(ISBLANK(L2554),ISBLANK(H2554)),\"\",H2554+(VLOOKUP(L2554,garantie,2,FALSE)))","v":""}]
[2554,{"$nulls":9},{"$f":"IF(B2555=\"\",\"\",D2555&\" - \"&F2555&\" - \"&G2555)","v":""},null,{"$f":"IF(OR(ISBLANK(L2555),ISBLANK(H2555)),\"\",H2555+(VLOOKUP(L2555,garantie,2,FALSE)))","v":""}]
[2555,{"$nulls":9},{"$f":"IF(B2556=\"\",\"\",D2556&\" - \"&F2556&\" - \"&G2556)","v":""},null,{"$f":"IF(OR(ISBLANK(L2556),ISBLANK(H2556)),\"\",H2556+(VLOOKUP(L2556,garantie,2,FALSE)))","v":""}]
[2556,{"$nulls":9},{"$f":"IF(B2557=\"\",\"\",D2557&\" - \"&F2557&\" - \"&G2557)","v":""},null,{"$f":"IF(OR(ISBLANK(L2557),ISBLANK(H2557)),\"\",H2557+(VLOOKUP(L2557,garantie,2,FALSE)))","v":""}]
[2557,{"$nulls":9},{"$f":"IF(B2558=\"\",\"\",D2558&\" - \"&F2558&\" - \"&G2558)","v":""},null,{"$f":"IF(OR(ISBLANK(L2558),ISBLANK(H2558)),\"\",H2558+(VLOOKUP(L2558,garantie,2,FALSE)))","v":""}]
[2558,{"$nulls":9},{"$f":"IF(B2559=\"\",\"\",D2559&\" - \"&F2559&\" - \"&G2559)","v":""},null,{"$f":"IF(OR(ISBLANK(L2559),ISBLANK(H2559)),\"\",H2559+(VLOOKUP(L2559,garantie,2,FALSE)))","v":""}]
[2559,{"$nulls":9},{"$f":"IF(B2560=\"\",\"\",D2560&\" - \"&F2560&\" - \"&G2560)","v":""},null,{"$f":"IF(OR(ISBLANK(L2560),ISBLANK(H2560)),\"\",H2560+(VLOOKUP(L2560,garantie,2,FALSE)))","v":""}]
[2560,{"$nulls":9},{"$f":"IF(B2561=\"\",\"\",D2561&\" - \"&F2561&\" - \"&G2561)","v":""},null,{"$f":"IF(OR(ISBLANK(L2561),ISBLANK(H2561)),\"\",H2561+(VLOOKUP(L2561,garantie,2,FALSE)))","v":""}]
[2561,{"$nulls":9},{"$f":"IF(B2562=\"\",\"\",D2562&\" - \"&F2562&\" - \"&G2562)","v":""},null,{"$f":"IF(OR(ISBLANK(L2562),ISBLANK(H2562)),\"\",H2562+(VLOOKUP(L2562,garantie,2,FALSE)))","v":""}]
[2562,{"$nulls":9},{"$f":"IF(B2563=\"\",\"\",D2563&\" - \"&F2563&\" - \"&G2563)","v":""},null,{"$f":"IF(OR(ISBLANK(L2563),ISBLANK(H2563)),\"\",H2563+(VLOOKUP(L2563,garantie,2,FALSE)))","v":""}]
[2563,{"$nulls":9},{"$f":"IF(B2564=\"\",\"\",D2564&\" - \"&F2564&\" - \"&G2564)","v":""},null,{"$f":"IF(OR(ISBLANK(L2564),ISBLANK(H2564)),\"\",H2564+(VLOOKUP(L2564,garantie,2,FALSE)))","v":""}]
[2564,{"$nulls":9},{"$f":"IF(B2565=\"\",\"\",D2565&\" - \"&F2565&\" - \"&G2565)","v":""},null,{"$f":"IF(OR(ISBLANK(L2565),ISBLANK(H2565)),\"\",H2565+(VLOOKUP(L2565,garantie,2,FALSE)))","v":""}]
[2565,{"$nulls":9},{"$f":"IF(B2566=\"\",\"\",D2566&\" - \"&F2566&\" - \"&G2566)","v":""},null,{"$f":"IF(OR(ISBLANK(L2566),ISBLANK(H2566)),\"\",H2566+(VLOOKUP(L2566,garantie,2,FALSE)))","v":""}]
[2566,{"$nulls":9},{"$f":"IF(B2567=\"\",\"\",D2567&\" - \"&F2567&\" - \"&G2567)","v":""},null,{"$f":"IF(OR(ISBLANK(L2567),ISBLANK(H2567)),\"\",H2567+(VLOOKUP(L2567,garantie,2,FALSE)))","v":""}]
[2567,{"$nulls":9},{"$f":"IF(B2568=\"\",\"\",D2568&\" - \"&F2568&\" - \"&G2568)","v":""},null,{"$f":"IF(OR(ISBLANK(L2568),ISBLANK(H2568)),\"\",H2568+(VLOOKUP(L2568,garantie,2,FALSE)))","v":""}]
[2568,{"$nulls":9},{"$f":"IF(B2569=\"\",\"\",D2569&\" - \"&F2569&\" - \"&G2569)","v":""},null,{"$f":"IF(OR(ISBLANK(L2569),ISBLANK(H2569)),\"\",H2569+(VLOOKUP(L2569,garantie,2,FALSE)))","v":""}]
[2569,{"$nulls":9},{"$f":"IF(B2570=\"\",\"\",D2570&\" - \"&F2570&\" - \"&G2570)","v":""},null,{"$f":"IF(OR(ISBLANK(L2570),ISBLANK(H2570)),\"\",H2570+(VLOOKUP(L2570,garantie,2,FALSE)))","v":""}]
[2570,{"$nulls":9},{"$f":"IF(B2571=\"\",\"\",D2571&\" - \"&F2571&\" - \"&G2571)","v":""},null,{"$f":"IF(OR(ISBLANK(L2571),ISBLANK(H2571)),\"\",H2571+(VLOOKUP(L2571,garantie,2,FALSE)))","v":""}]
[2571,{"$nulls":9},{"$f":"IF(B2572=\"\",\"\",D2572&\" - \"&F2572&\" - \"&G2572)","v":""},null,{"$f":"IF(OR(ISBLANK(L2572),ISBLANK(H2572)),\"\",H2572+(VLOOKUP(L2572,garantie,2,FALSE)))","v":""}]
[2572,{"$nulls":9},{"$f":"IF(B2573=\"\",\"\",D2573&\" - \"&F2573&\" - \"&G2573)","v":""},null,{"$f":"IF(OR(ISBLANK(L2573),ISBLANK(H2573)),\"\",H2573+(VLOOKUP(L2573,garantie,2,FALSE)))","v":""}]
[2573,{"$nulls":9},{"$f":"IF(B2574=\"\",\"\",D2574&\" - \"&F2574&\" - \"&G2574)","v":""},null,{"$f":"IF(OR(ISBLANK(L2574),ISBLANK(H2574)),\"\",H2574+(VLOOKUP(L2574,garantie,2,FALSE)))","v":""}]
[2574,{"$nulls":9},{"$f":"IF(B2575=\"\",\"\",D2575&\" - \"&F2575&\" - \"&G2575)","v":""},null,{"$f":"IF(OR(ISBLANK(L2575),ISBLANK(H2575)),\"\",H2575+(VLOOKUP(L2575,garantie,2,FALSE)))","v":""}]
[2575,{"$nulls":9},{"$f":"IF(B2576=\"\",\"\",D2576&\" - \"&F2576&\" - \"&G2576)","v":""},null,{"$f":"IF(OR(ISBLANK(L2576),ISBLANK(H2576)),\"\",H2576+(VLOOKUP(L2576,garantie,2,FALSE)))","v":""}]
[2576,{"$nulls":9},{"$f":"IF(B2577=\"\",\"\",D2577&\" - \"&F2577&\" - \"&G2577)","v":""},null,{"$f":"IF(OR(ISBLANK(L2577),ISBLANK(H2577)),\"\",H2577+(VLOOKUP(L2577,garantie,2,FALSE)))","v":""}]
[2577,{"$nulls":9},{"$f":"IF(B2578=\"\",\"\",D2578&\" - \"&F2578&\" - \"&G2578)","v":""},null,{"$f":"IF(OR(ISBLANK(L2578),ISBLANK(H2578)),\"\",H2578+(VLOOKUP(L2578,garantie,2,FALSE)))","v":""}]
[2578,{"$nulls":9},{"$f":"IF(B2579=\"\",\"\",D2579&\" - \"&F2579&\" - \"&G2579)","v":""},null,{"$f":"IF(OR(ISBLANK(L2579),ISBLANK(H2579)),\"\",H2579+(VLOOKUP(L2579,garantie,2,FALSE)))","v":""}]
[2579,{"$nulls":9},{"$f":"IF(B2580=\"\",\"\",D2580&\" - \"&F2580&\" - \"&G2580)","v":""},null,{"$f":"IF(OR(ISBLANK(L2580),ISBLANK(H2580)),\"\",H2580+(VLOOKUP(L2580,garantie,2,FALSE)))","v":""}]
[2580,{"$nulls":9},{"$f":"IF(B2581=\"\",\"\",D2581&\" - \"&F2581&\" - \"&G2581)","v":""},null,{"$f":"IF(OR(ISBLANK(L2581),ISBLANK(H2581)),\"\",H2581+(VLOOKUP(L2581,garantie,2,FALSE)))","v":""}]
[2581,{"$nulls":9},{"$f":"IF(B2582=\"\",\"\",D2582&\" - \"&F2582&\" - \"&G2582)","v":""},null,{"$f":"IF(OR(ISBLANK(L2582),ISBLANK(H2582)),\"\",H2582+(VLOOKUP(L2582,garantie,2,FALSE)))","v":""}]
[2582,{"$nulls":9},{"$f":"IF(B2583=\"\",\"\",D2583&\" - \"&F2583&\" - \"&G2583)","v":""},null,{"$f":"IF(OR(ISBLANK(L2583),ISBLANK(H2583)),\"\",H2583+(VLOOKUP(L2583,garantie,2,FALSE)))","v":""}]
[2583,{"$nulls":9},{"$f":"IF(B2584=\"\",\"\",D2584&\" - \"&F2584&\" - \"&G2584)","v":""},null,{"$f":"IF(OR(ISBLANK(L2584),ISBLANK(H2584)),\"\",H2584+(VLOOKUP(L2584,garantie,2,FALSE)))","v":""}]
[2584,{"$nulls":9},{"$f":"IF(B2585=\"\",\"\",D2585&\" - \"&F2585&\" - \"&G2585)","v":""},null,{"$f":"IF(OR(ISBLANK(L2585),ISBLANK(H2585)),\"\",H2585+(VLOOKUP(L2585,garantie,2,FALSE)))","v":""}]
[2585,{"$nulls":9},{"$f":"IF(B2586=\"\",\"\",D2586&\" - \"&F2586&\" - \"&G2586)","v":""},null,{"$f":"IF(OR(ISBLANK(L2586),ISBLANK(H2586)),\"\",H2586+(VLOOKUP(L2586,garantie,2,FALSE)))","v":""}]
[2586,{"$nulls":9},{"$f":"IF(B2587=\"\",\"\",D2587&\" - \"&F2587&\" - \"&G2587)","v":""},null,{"$f":"IF(OR(ISBLANK(L2587),ISBLANK(H2587)),\"\",H2587+(VLOOKUP(L2587,garantie,2,FALSE)))","v":""}]
[2587,{"$nulls":9},{"$f":"IF(B2588=\"\",\"\",D2588&\" - \"&F2588&\" - \"&G2588)","v":""},null,{"$f":"IF(OR(ISBLANK(L2588),ISBLANK(H2588)),\"\",H2588+(VLOOKUP(L2588,garantie,2,FALSE)))","v":""}]
[2588,{"$nulls":9},{"$f":"IF(B2589=\"\",\"\",D2589&\" - \"&F2589&\" - \"&G2589)","v":""},null,{"$f":"IF(OR(ISBLANK(L2589),ISBLANK(H2589)),\"\",H2589+(VLOOKUP(L2589,garantie,2,FALSE)))","v":""}]
[2589,{"$nulls":9},{"$f":"IF(B2590=\"\",\"\",D2590&\" - \"&F2590&\" - \"&G2590)","v":""},null,{"$f":"IF(OR(ISBLANK(L2590),ISBLANK(H2590)),\"\",H2590+(VLOOKUP(L2590,garantie,2,FALSE)))","v":""}]
[2590,{"$nulls":9},{"$f":"IF(B2591=\"\",\"\",D2591&\" - \"&F2591&\" - \"&G2591)","v":""},null,{"$f":"IF(OR(ISBLANK(L2591),ISBLANK(H2591)),\"\",H2591+(VLOOKUP(L2591,garantie,2,FALSE)))","v":""}]
[2591,{"$nulls":9},{"$f":"IF(B2592=\"\",\"\",D2592&\" - \"&F2592&\" - \"&G2592)","v":""},null,{"$f":"IF(OR(ISBLANK(L2592),ISBLANK(H2592)),\"\",H2592+(VLOOKUP(L2592,garantie,2,FALSE)))","v":""}]
[2592,{"$nulls":9},{"$f":"IF(B2593=\"\",\"\",D2593&\" - \"&F2593&\" - \"&G2593)","v":""},null,{"$f":"IF(OR(ISBLANK(L2593),ISBLANK(H2593)),\"\",H2593+(VLOOKUP(L2593,garantie,2,FALSE)))","v":""}]
[2593,{"$nulls":9},{"$f":"IF(B2594=\"\",\"\",D2594&\" - \"&F2594&\" - \"&G2594)","v":""},null,{"$f":"IF(OR(ISBLANK(L2594),ISBLANK(H2594)),\"\",H2594+(VLOOKUP(L2594,garantie,2,FALSE)))","v":""}]
[2594,{"$nulls":9},{"$f":"IF(B2595=\"\",\"\",D2595&\" - \"&F2595&\" - \"&G2595)","v":""},null,{"$f":"IF(OR(ISBLANK(L2595),ISBLANK(H2595)),\"\",H2595+(VLOOKUP(L2595,garantie,2,FALSE)))","v":""}]
[2595,{"$nulls":9},{"$f":"IF(B2596=\"\",\"\",D2596&\" - \"&F2596&\" - \"&G2596)","v":""},null,{"$f":"IF(OR(ISBLANK(L2596),ISBLANK(H2596)),\"\",H2596+(VLOOKUP(L2596,garantie,2,FALSE)))","v":""}]
[2596,{"$nulls":9},{"$f":"IF(B2597=\"\",\"\",D2597&\" - \"&F2597&\" - \"&G2597)","v":""},null,{"$f":"IF(OR(ISBLANK(L2597),ISBLANK(H2597)),\"\",H2597+(VLOOKUP(L2597,garantie,2,FALSE)))","v":""}]
[2597,{"$nulls":9},{"$f":"IF(B2598=\"\",\"\",D2598&\" - \"&F2598&\" - \"&G2598)","v":""},null,{"$f":"IF(OR(ISBLANK(L2598),ISBLANK(H2598)),\"\",H2598+(VLOOKUP(L2598,garantie,2,FALSE)))","v":""}]
[2598,{"$nulls":9},{"$f":"IF(B2599=\"\",\"\",D2599&\" - \"&F2599&\" - \"&G2599)","v":""},null,{"$f":"IF(OR(ISBLANK(L2599),ISBLANK(H2599)),\"\",H2599+(VLOOKUP(L2599,garantie,2,FALSE)))","v":""}]
[2599,{"$nulls":9},{"$f":"IF(B2600=\"\",\"\",D2600&\" - \"&F2600&\" - \"&G2600)","v":""},null,{"$f":"IF(OR(ISBLANK(L2600),ISBLANK(H2600)),\"\",H2600+(VLOOKUP(L2600,garantie,2,FALSE)))","v":""}]
[2600,{"$nulls":9},{"$f":"IF(B2601=\"\",\"\",D2601&\" - \"&F2601&\" - \"&G2601)","v":""},null,{"$f":"IF(OR(ISBLANK(L2601),ISBLANK(H2601)),\"\",H2601+(VLOOKUP(L2601,garantie,2,FALSE)))","v":""}]
[2601,{"$nulls":9},{"$f":"IF(B2602=\"\",\"\",D2602&\" - \"&F2602&\" - \"&G2602)","v":""},null,{"$f":"IF(OR(ISBLANK(L2602),ISBLANK(H2602)),\"\",H2602+(VLOOKUP(L2602,garantie,2,FALSE)))","v":""}]
[2602,{"$nulls":9},{"$f":"IF(B2603=\"\",\"\",D2603&\" - \"&F2603&\" - \"&G2603)","v":""},null,{"$f":"IF(OR(ISBLANK(L2603),ISBLANK(H2603)),\"\",H2603+(VLOOKUP(L2603,garantie,2,FALSE)))","v":""}]
[2603,{"$nulls":9},{"$f":"IF(B2604=\"\",\"\",D2604&\" - \"&F2604&\" - \"&G2604)","v":""},null,{"$f":"IF(OR(ISBLANK(L2604),ISBLANK(H2604)),\"\",H2604+(VLOOKUP(L2604,garantie,2,FALSE)))","v":""}]
[2604,{"$nulls":9},{"$f":"IF(B2605=\"\",\"\",D2605&\" - \"&F2605&\" - \"&G2605)","v":""},null,{"$f":"IF(OR(ISBLANK(L2605),ISBLANK(H2605)),\"\",H2605+(VLOOKUP(L2605,garantie,2,FALSE)))","v":""}]
[2605,{"$nulls":9},{"$f":"IF(B2606=\"\",\"\",D2606&\" - \"&F2606&\" - \"&G2606)","v":""},null,{"$f":"IF(OR(ISBLANK(L2606),ISBLANK(H2606)),\"\",H2606+(VLOOKUP(L2606,garantie,2,FALSE)))","v":""}]
[2606,{"$nulls":9},{"$f":"IF(B2607=\"\",\"\",D2607&\" - \"&F2607&\" - \"&G2607)","v":""},null,{"$f":"IF(OR(ISBLANK(L2607),ISBLANK(H2607)),\"\",H2607+(VLOOKUP(L2607,garantie,2,FALSE)))","v":""}]
[2607,{"$nulls":9},{"$f":"IF(B2608=\"\",\"\",D2608&\" - \"&F2608&\" - \"&G2608)","v":""},null,{"$f":"IF(OR(ISBLANK(L2608),ISBLANK(H2608)),\"\",H2608+(VLOOKUP(L2608,garantie,2,FALSE)))","v":""}]
[2608,{"$nulls":9},{"$f":"IF(B2609=\"\",\"\",D2609&\" - \"&F2609&\" - \"&G2609)","v":""},null,{"$f":"IF(OR(ISBLANK(L2609),ISBLANK(H2609)),\"\",H2609+(VLOOKUP(L2609,garantie,2,FALSE)))","v":""}]
[2609,{"$nulls":9},{"$f":"IF(B2610=\"\",\"\",D2610&\" - \"&F2610&\" - \"&G2610)","v":""},null,{"$f":"IF(OR(ISBLANK(L2610),ISBLANK(H2610)),\"\",H2610+(VLOOKUP(L2610,garantie,2,FALSE)))","v":""}]
[2610,{"$nulls":9},{"$f":"IF(B2611=\"\",\"\",D2611&\" - \"&F2611&\" - \"&G2611)","v":""},null,{"$f":"IF(OR(ISBLANK(L2611),ISBLANK(H2611)),\"\",H2611+(VLOOKUP(L2611,garantie,2,FALSE)))","v":""}]
[2611,{"$nulls":9},{"$f":"IF(B2612=\"\",\"\",D2612&\" - \"&F2612&\" - \"&G2612)","v":""},null,{"$f":"IF(OR(ISBLANK(L2612),ISBLANK(H2612)),\"\",H2612+(VLOOKUP(L2612,garantie,2,FALSE)))","v":""}]
[2612,{"$nulls":9},{"$f":"IF(B2613=\"\",\"\",D2613&\" - \"&F2613&\" - \"&G2613)","v":""},null,{"$f":"IF(OR(ISBLANK(L2613),ISBLANK(H2613)),\"\",H2613+(VLOOKUP(L2613,garantie,2,FALSE)))","v":""}]
[2613,{"$nulls":9},{"$f":"IF(B2614=\"\",\"\",D2614&\" - \"&F2614&\" - \"&G2614)","v":""},null,{"$f":"IF(OR(ISBLANK(L2614),ISBLANK(H2614)),\"\",H2614+(VLOOKUP(L2614,garantie,2,FALSE)))","v":""}]
[2614,{"$nulls":9},{"$f":"IF(B2615=\"\",\"\",D2615&\" - \"&F2615&\" - \"&G2615)","v":""},null,{"$f":"IF(OR(ISBLANK(L2615),ISBLANK(H2615)),\"\",H2615+(VLOOKUP(L2615,garantie,2,FALSE)))","v":""}]
[2615,{"$nulls":9},{"$f":"IF(B2616=\"\",\"\",D2616&\" - \"&F2616&\" - \"&G2616)","v":""},null,{"$f":"IF(OR(ISBLANK(L2616),ISBLANK(H2616)),\"\",H2616+(VLOOKUP(L2616,garantie,2,FALSE)))","v":""}]
[2616,{"$nulls":9},{"$f":"IF(B2617=\"\",\"\",D2617&\" - \"&F2617&\" - \"&G2617)","v":""},null,{"$f":"IF(OR(ISBLANK(L2617),ISBLANK(H2617)),\"\",H2617+(VLOOKUP(L2617,garantie,2,FALSE)))","v":""}]
[2617,{"$nulls":9},{"$f":"IF(B2618=\"\",\"\",D2618&\" - \"&F2618&\" - \"&G2618)","v":""},null,{"$f":"IF(OR(ISBLANK(L2618),ISBLANK(H2618)),\"\",H2618+(VLOOKUP(L2618,garantie,2,FALSE)))","v":""}]
[2618,{"$nulls":9},{"$f":"IF(B2619=\"\",\"\",D2619&\" - \"&F2619&\" - \"&G2619)","v":""},null,{"$f":"IF(OR(ISBLANK(L2619),ISBLANK(H2619)),\"\",H2619+(VLOOKUP(L2619,garantie,2,FALSE)))","v":""}]
[2619,{"$nulls":9},{"$f":"IF(B2620=\"\",\"\",D2620&\" - \"&F2620&\" - \"&G2620)","v":""},null,{"$f":"IF(OR(ISBLANK(L2620),ISBLANK(H2620)),\"\",H2620+(VLOOKUP(L2620,garantie,2,FALSE)))","v":""}]
[2620,{"$nulls":9},{"$f":"IF(B2621=\"\",\"\",D2621&\" - \"&F2621&\" - \"&G2621)","v":""},null,{"$f":"IF(OR(ISBLANK(L2621),ISBLANK(H2621)),\"\",H2621+(VLOOKUP(L2621,garantie,2,FALSE)))","v":""}]
[2621,{"$nulls":9},{"$f":"IF(B2622=\"\",\"\",D2622&\" - \"&F2622&\" - \"&G2622)","v":""},null,{"$f":"IF(OR(ISBLANK(L2622),ISBLANK(H2622)),\"\",H2622+(VLOOKUP(L2622,garantie,2,FALSE)))","v":""}]
[2622,{"$nulls":9},{"$f":"IF(B2623=\"\",\"\",D2623&\" - \"&F2623&\" - \"&G2623)","v":""},null,{"$f":"IF(OR(ISBLANK(L2623),ISBLANK(H2623)),\"\",H2623+(VLOOKUP(L2623,garantie,2,FALSE)))","v":""}]
[2623,{"$nulls":9},{"$f":"IF(B2624=\"\",\"\",D2624&\" - \"&F2624&\" - \"&G2624)","v":""},null,{"$f":"IF(OR(ISBLANK(L2624),ISBLANK(H2624)),\"\",H2624+(VLOOKUP(L2624,garantie,2,FALSE)))","v":""}]
[2624,{"$nulls":9},{"$f":"IF(B2625=\"\",\"\",D2625&\" - \"&F2625&\" - \"&G2625)","v":""},null,{"$f":"IF(OR(ISBLANK(L2625),ISBLANK(H2625)),\"\",H2625+(VLOOKUP(L2625,garantie,2,FALSE)))","v":""}]
[2625,{"$nulls":9},{"$f":"IF(B2626=\"\",\"\",D2626&\" - \"&F2626&\" - \"&G2626)","v":""},null,{"$f":"IF(OR(ISBLANK(L2626),ISBLANK(H2626)),\"\",H2626+(VLOOKUP(L2626,garantie,2,FALSE)))","v":""}]
[2626,{"$nulls":9},{"$f":"IF(B2627=\"\",\"\",D2627&\" - \"&F2627&\" - \"&G2627)","v":""},null,{"$f":"IF(OR(ISBLANK(L2627),ISBLANK(H2627)),\"\",H2627+(VLOOKUP(L2627,garantie,2,FALSE)))","v":""}]
[2627,{"$nulls":9},{"$f":"IF(B2628=\"\",\"\",D2628&\" - \"&F2628&\" - \"&G2628)","v":""},null,{"$f":"IF(OR(ISBLANK(L2628),ISBLANK(H2628)),\"\",H2628+(VLOOKUP(L2628,garantie,2,FALSE)))","v":""}]
[2628,{"$nulls":9},{"$f":"IF(B2629=\"\",\"\",D2629&\" - \"&F2629&\" - \"&G2629)","v":""},null,{"$f":"IF(OR(ISBLANK(L2629),ISBLANK(H2629)),\"\",H2629+(VLOOKUP(L2629,garantie,2,FALSE)))","v":""}]
[2629,{"$nulls":9},{"$f":"IF(B2630=\"\",\"\",D2630&\" - \"&F2630&\" - \"&G2630)","v":""},null,{"$f":"IF(OR(ISBLANK(L2630),ISBLANK(H2630)),\"\",H2630+(VLOOKUP(L2630,garantie,2,FALSE)))","v":""}]
[2630,{"$nulls":9},{"$f":"IF(B2631=\"\",\"\",D2631&\" - \"&F2631&\" - \"&G2631)","v":""},null,{"$f":"IF(OR(ISBLANK(L2631),ISBLANK(H2631)),\"\",H2631+(VLOOKUP(L2631,garantie,2,FALSE)))","v":""}]
[2631,{"$nulls":9},{"$f":"IF(B2632=\"\",\"\",D2632&\" - \"&F2632&\" - \"&G2632)","v":""},null,{"$f":"IF(OR(ISBLANK(L2632),ISBLANK(H2632)),\"\",H2632+(VLOOKUP(L2632,garantie,2,FALSE)))","v":""}]
[2632,{"$nulls":9},{"$f":"IF(B2633=\"\",\"\",D2633&\" - \"&F2633&\" - \"&G2633)","v":""},null,{"$f":"IF(OR(ISBLANK(L2633),ISBLANK(H2633)),\"\",H2633+(VLOOKUP(L2633,garantie,2,FALSE)))","v":""}]
[2633,{"$nulls":9},{"$f":"IF(B2634=\"\",\"\",D2634&\" - \"&F2634&\" - \"&G2634)","v":""},null,{"$f":"IF(OR(ISBLANK(L2634),ISBLANK(H2634)),\"\",H2634+(VLOOKUP(L2634,garantie,2,FALSE)))","v":""}]
[2634,{"$nulls":9},{"$f":"IF(B2635=\"\",\"\",D2635&\" - \"&F2635&\" - \"&G2635)","v":""},null,{"$f":"IF(OR(ISBLANK(L2635),ISBLANK(H2635)),\"\",H2635+(VLOOKUP(L2635,garantie,2,FALSE)))","v":""}]
[2635,{"$nulls":9},{"$f":"IF(B2636=\"\",\"\",D2636&\" - \"&F2636&\" - \"&G2636)","v":""},null,{"$f":"IF(OR(ISBLANK(L2636),ISBLANK(H2636)),\"\",H2636+(VLOOKUP(L2636,garantie,2,FALSE)))","v":""}]
[2636,{"$nulls":9},{"$f":"IF(B2637=\"\",\"\",D2637&\" - \"&F2637&\" - \"&G2637)","v":""},null,{"$f":"IF(OR(ISBLANK(L2637),ISBLANK(H2637)),\"\",H2637+(VLOOKUP(L2637,garantie,2,FALSE)))","v":""}]
[2637,{"$nulls":9},{"$f":"IF(B2638=\"\",\"\",D2638&\" - \"&F2638&\" - \"&G2638)","v":""},null,{"$f":"IF(OR(ISBLANK(L2638),ISBLANK(H2638)),\"\",H2638+(VLOOKUP(L2638,garantie,2,FALSE)))","v":""}]
[2638,{"$nulls":9},{"$f":"IF(B2639=\"\",\"\",D2639&\" - \"&F2639&\" - \"&G2639)","v":""},null,{"$f":"IF(OR(ISBLANK(L2639),ISBLANK(H2639)),\"\",H2639+(VLOOKUP(L2639,garantie,2,FALSE)))","v":""}]
[2639,{"$nulls":9},{"$f":"IF(B2640=\"\",\"\",D2640&\" - \"&F2640&\" - \"&G2640)","v":""},null,{"$f":"IF(OR(ISBLANK(L2640),ISBLANK(H2640)),\"\",H2640+(VLOOKUP(L2640,garantie,2,FALSE)))","v":""}]
[2640,{"$nulls":9},{"$f":"IF(B2641=\"\",\"\",D2641&\" - \"&F2641&\" - \"&G2641)","v":""},null,{"$f":"IF(OR(ISBLANK(L2641),ISBLANK(H2641)),\"\",H2641+(VLOOKUP(L2641,garantie,2,FALSE)))","v":""}]
[2641,{"$nulls":9},{"$f":"IF(B2642=\"\",\"\",D2642&\" - \"&F2642&\" - \"&G2642)","v":""},null,{"$f":"IF(OR(ISBLANK(L2642),ISBLANK(H2642)),\"\",H2642+(VLOOKUP(L2642,garantie,2,FALSE)))","v":""}]
[2642,{"$nulls":9},{"$f":"IF(B2643=\"\",\"\",D2643&\" - \"&F2643&\" - \"&G2643)","v":""},null,{"$f":"IF(OR(ISBLANK(L2643),ISBLANK(H2643)),\"\",H2643+(VLOOKUP(L2643,garantie,2,FALSE)))","v":""}]
[2643,{"$nulls":9},{"$f":"IF(B2644=\"\",\"\",D2644&\" - \"&F2644&\" - \"&G2644)","v":""},null,{"$f":"IF(OR(ISBLANK(L2644),ISBLANK(H2644)),\"\",H2644+(VLOOKUP(L2644,garantie,2,FALSE)))","v":""}]
[2644,{"$nulls":9},{"$f":"IF(B2645=\"\",\"\",D2645&\" - \"&F2645&\" - \"&G2645)","v":""},null,{"$f":"IF(OR(ISBLANK(L2645),ISBLANK(H2645)),\"\",H2645+(VLOOKUP(L2645,garantie,2,FALSE)))","v":""}]
[2645,{"$nulls":9},{"$f":"IF(B2646=\"\",\"\",D2646&\" - \"&F2646&\" - \"&G2646)","v":""},null,{"$f":"IF(OR(ISBLANK(L2646),ISBLANK(H2646)),\"\",H2646+(VLOOKUP(L2646,garantie,2,FALSE)))","v":""}]
[2646,{"$nulls":9},{"$f":"IF(B2647=\"\",\"\",D2647&\" - \"&F2647&\" - \"&G2647)","v":""},null,{"$f":"IF(OR(ISBLANK(L2647),ISBLANK(H2647)),\"\",H2647+(VLOOKUP(L2647,garantie,2,FALSE)))","v":""}]
[2647,{"$nulls":9},{"$f":"IF(B2648=\"\",\"\",D2648&\" - \"&F2648&\" - \"&G2648)","v":""},null,{"$f":"IF(OR(ISBLANK(L2648),ISBLANK(H2648)),\"\",H2648+(VLOOKUP(L2648,garantie,2,FALSE)))","v":""}]
[2648,{"$nulls":9},{"$f":"IF(B2649=\"\",\"\",D2649&\" - \"&F2649&\" - \"&G2649)","v":""},null,{"$f":"IF(OR(ISBLANK(L2649),ISBLANK(H2649)),\"\",H2649+(VLOOKUP(L2649,garantie,2,FALSE)))","v":""}]
[2649,{"$nulls":9},{"$f":"IF(B2650=\"\",\"\",D2650&\" - \"&F2650&\" - \"&G2650)","v":""},null,{"$f":"IF(OR(ISBLANK(L2650),ISBLANK(H2650)),\"\",H2650+(VLOOKUP(L2650,garantie,2,FALSE)))","v":""}]
[2650,{"$nulls":9},{"$f":"IF(B2651=\"\",\"\",D2651&\" - \"&F2651&\" - \"&G2651)","v":""},null,{"$f":"IF(OR(ISBLANK(L2651),ISBLANK(H2651)),\"\",H2651+(VLOOKUP(L2651,garantie,2,FALSE)))","v":""}]
[2651,{"$nulls":9},{"$f":"IF(B2652=\"\",\"\",D2652&\" - \"&F2652&\" - \"&G2652)","v":""},null,{"$f":"IF(OR(ISBLANK(L2652),ISBLANK(H2652)),\"\",H2652+(VLOOKUP(L2652,garantie,2,FALSE)))","v":""}]
[2652,{"$nulls":9},{"$f":"IF(B2653=\"\",\"\",D2653&\" - \"&F2653&\" - \"&G2653)","v":""},null,{"$f":"IF(OR(ISBLANK(L2653),ISBLANK(H2653)),\"\",H2653+(VLOOKUP(L2653,garantie,2,FALSE)))","v":""}]
[2653,{"$nulls":9},{"$f":"IF(B2654=\"\",\"\",D2654&\" - \"&F2654&\" - \"&G2654)","v":""},null,{"$f":"IF(OR(ISBLANK(L2654),ISBLANK(H2654)),\"\",H2654+(VLOOKUP(L2654,garantie,2,FALSE)))","v":""}]
[2654,{"$nulls":9},{"$f":"IF(B2655=\"\",\"\",D2655&\" - \"&F2655&\" - \"&G2655)","v":""},null,{"$f":"IF(OR(ISBLANK(L2655),ISBLANK(H2655)),\"\",H2655+(VLOOKUP(L2655,garantie,2,FALSE)))","v":""}]
[2655,{"$nulls":9},{"$f":"IF(B2656=\"\",\"\",D2656&\" - \"&F2656&\" - \"&G2656)","v":""},null,{"$f":"IF(OR(ISBLANK(L2656),ISBLANK(H2656)),\"\",H2656+(VLOOKUP(L2656,garantie,2,FALSE)))","v":""}]
[2656,{"$nulls":9},{"$f":"IF(B2657=\"\",\"\",D2657&\" - \"&F2657&\" - \"&G2657)","v":""},null,{"$f":"IF(OR(ISBLANK(L2657),ISBLANK(H2657)),\"\",H2657+(VLOOKUP(L2657,garantie,2,FALSE)))","v":""}]
[2657,{"$nulls":9},{"$f":"IF(B2658=\"\",\"\",D2658&\" - \"&F2658&\" - \"&G2658)","v":""},null,{"$f":"IF(OR(ISBLANK(L2658),ISBLANK(H2658)),\"\",H2658+(VLOOKUP(L2658,garantie,2,FALSE)))","v":""}]
[2658,{"$nulls":9},{"$f":"IF(B2659=\"\",\"\",D2659&\" - \"&F2659&\" - \"&G2659)","v":""},null,{"$f":"IF(OR(ISBLANK(L2659),ISBLANK(H2659)),\"\",H2659+(VLOOKUP(L2659,garantie,2,FALSE)))","v":""}]
[2659,{"$nulls":9},{"$f":"IF(B2660=\"\",\"\",D2660&\" - \"&F2660&\" - \"&G2660)","v":""},null,{"$f":"IF(OR(ISBLANK(L2660),ISBLANK(H2660)),\"\",H2660+(VLOOKUP(L2660,garantie,2,FALSE)))","v":""}]
[2660,{"$nulls":9},{"$f":"IF(B2661=\"\",\"\",D2661&\" - \"&F2661&\" - \"&G2661)","v":""},null,{"$f":"IF(OR(ISBLANK(L2661),ISBLANK(H2661)),\"\",H2661+(VLOOKUP(L2661,garantie,2,FALSE)))","v":""}]
[2661,{"$nulls":9},{"$f":"IF(B2662=\"\",\"\",D2662&\" - \"&F2662&\" - \"&G2662)","v":""},null,{"$f":"IF(OR(ISBLANK(L2662),ISBLANK(H2662)),\"\",H2662+(VLOOKUP(L2662,garantie,2,FALSE)))","v":""}]
[2662,{"$nulls":9},{"$f":"IF(B2663=\"\",\"\",D2663&\" - \"&F2663&\" - \"&G2663)","v":""},null,{"$f":"IF(OR(ISBLANK(L2663),ISBLANK(H2663)),\"\",H2663+(VLOOKUP(L2663,garantie,2,FALSE)))","v":""}]
[2663,{"$nulls":9},{"$f":"IF(B2664=\"\",\"\",D2664&\" - \"&F2664&\" - \"&G2664)","v":""},null,{"$f":"IF(OR(ISBLANK(L2664),ISBLANK(H2664)),\"\",H2664+(VLOOKUP(L2664,garantie,2,FALSE)))","v":""}]
[2664,{"$nulls":9},{"$f":"IF(B2665=\"\",\"\",D2665&\" - \"&F2665&\" - \"&G2665)","v":""},null,{"$f":"IF(OR(ISBLANK(L2665),ISBLANK(H2665)),\"\",H2665+(VLOOKUP(L2665,garantie,2,FALSE)))","v":""}]
[2665,{"$nulls":9},{"$f":"IF(B2666=\"\",\"\",D2666&\" - \"&F2666&\" - \"&G2666)","v":""},null,{"$f":"IF(OR(ISBLANK(L2666),ISBLANK(H2666)),\"\",H2666+(VLOOKUP(L2666,garantie,2,FALSE)))","v":""}]
[2666,{"$nulls":9},{"$f":"IF(B2667=\"\",\"\",D2667&\" - \"&F2667&\" - \"&G2667)","v":""},null,{"$f":"IF(OR(ISBLANK(L2667),ISBLANK(H2667)),\"\",H2667+(VLOOKUP(L2667,garantie,2,FALSE)))","v":""}]
[2667,{"$nulls":9},{"$f":"IF(B2668=\"\",\"\",D2668&\" - \"&F2668&\" - \"&G2668)","v":""},null,{"$f":"IF(OR(ISBLANK(L2668),ISBLANK(H2668)),\"\",H2668+(VLOOKUP(L2668,garantie,2,FALSE)))","v":""}]
[2668,{"$nulls":9},{"$f":"IF(B2669=\"\",\"\",D2669&\" - \"&F2669&\" - \"&G2669)","v":""},null,{"$f":"IF(OR(ISBLANK(L2669),ISBLANK(H2669)),\"\",H2669+(VLOOKUP(L2669,garantie,2,FALSE)))","v":""}]
[2669,{"$nulls":9},{"$f":"IF(B2670=\"\",\"\",D2670&\" - \"&F2670&\" - \"&G2670)","v":""},null,{"$f":"IF(OR(ISBLANK(L2670),ISBLANK(H2670)),\"\",H2670+(VLOOKUP(L2670,garantie,2,FALSE)))","v":""}]
[2670,{"$nulls":9},{"$f":"IF(B2671=\"\",\"\",D2671&\" - \"&F2671&\" - \"&G2671)","v":""},null,{"$f":"IF(OR(ISBLANK(L2671),ISBLANK(H2671)),\"\",H2671+(VLOOKUP(L2671,garantie,2,FALSE)))","v":""}]
[2671,{"$nulls":9},{"$f":"IF(B2672=\"\",\"\",D2672&\" - \"&F2672&\" - \"&G2672)","v":""},null,{"$f":"IF(OR(ISBLANK(L2672),ISBLANK(H2672)),\"\",H2672+(VLOOKUP(L2672,garantie,2,FALSE)))","v":""}]
[2672,{"$nulls":9},{"$f":"IF(B2673=\"\",\"\",D2673&\" - \"&F2673&\" - \"&G2673)","v":""},null,{"$f":"IF(OR(ISBLANK(L2673),ISBLANK(H2673)),\"\",H2673+(VLOOKUP(L2673,garantie,2,FALSE)))","v":""}]
[2673,{"$nulls":9},{"$f":"IF(B2674=\"\",\"\",D2674&\" - \"&F2674&\" - \"&G2674)","v":""},null,{"$f":"IF(OR(ISBLANK(L2674),ISBLANK(H2674)),\"\",H2674+(VLOOKUP(L2674,garantie,2,FALSE)))","v":""}]
[2674,{"$nulls":9},{"$f":"IF(B2675=\"\",\"\",D2675&\" - \"&F2675&\" - \"&G2675)","v":""},null,{"$f":"IF(OR(ISBLANK(L2675),ISBLANK(H2675)),\"\",H2675+(VLOOKUP(L2675,garantie,2,FALSE)))","v":""}]
[2675,{"$nulls":9},{"$f":"IF(B2676=\"\",\"\",D2676&\" - \"&F2676&\" - \"&G2676)","v":""},null,{"$f":"IF(OR(ISBLANK(L2676),ISBLANK(H2676)),\"\",H2676+(VLOOKUP(L2676,garantie,2,FALSE)))","v":""}]
[2676,{"$nulls":9},{"$f":"IF(B2677=\"\",\"\",D2677&\" - \"&F2677&\" - \"&G2677)","v":""},null,{"$f":"IF(OR(ISBLANK(L2677),ISBLANK(H2677)),\"\",H2677+(VLOOKUP(L2677,garantie,2,FALSE)))","v":""}]
[2677,{"$nulls":9},{"$f":"IF(B2678=\"\",\"\",D2678&\" - \"&F2678&\" - \"&G2678)","v":""},null,{"$f":"IF(OR(ISBLANK(L2678),ISBLANK(H2678)),\"\",H2678+(VLOOKUP(L2678,garantie,2,FALSE)))","v":""}]
[2678,{"$nulls":9},{"$f":"IF(B2679=\"\",\"\",D2679&\" - \"&F2679&\" - \"&G2679)","v":""},null,{"$f":"IF(OR(ISBLANK(L2679),ISBLANK(H2679)),\"\",H2679+(VLOOKUP(L2679,garantie,2,FALSE)))","v":""}]
[2679,{"$nulls":9},{"$f":"IF(B2680=\"\",\"\",D2680&\" - \"&F2680&\" - \"&G2680)","v":""},null,{"$f":"IF(OR(ISBLANK(L2680),ISBLANK(H2680)),\"\",H2680+(VLOOKUP(L2680,garantie,2,FALSE)))","v":""}]
[2680,{"$nulls":9},{"$f":"IF(B2681=\"\",\"\",D2681&\" - \"&F2681&\" - \"&G2681)","v":""},null,{"$f":"IF(OR(ISBLANK(L2681),ISBLANK(H2681)),\"\",H2681+(VLOOKUP(L2681,garantie,2,FALSE)))","v":""}]
[2681,{"$nulls":9},{"$f":"IF(B2682=\"\",\"\",D2682&\" - \"&F2682&\" - \"&G2682)","v":""},null,{"$f":"IF(OR(ISBLANK(L2682),ISBLANK(H2682)),\"\",H2682+(VLOOKUP(L2682,garantie,2,FALSE)))","v":""}]
[2682,{"$nulls":9},{"$f":"IF(B2683=\"\",\"\",D2683&\" - \"&F2683&\" - \"&G2683)","v":""},null,{"$f":"IF(OR(ISBLANK(L2683),ISBLANK(H2683)),\"\",H2683+(VLOOKUP(L2683,garantie,2,FALSE)))","v":""}]
[2683,{"$nulls":9},{"$f":"IF(B2684=\"\",\"\",D2684&\" - \"&F2684&\" - \"&G2684)","v":""},null,{"$f":"IF(OR(ISBLANK(L2684),ISBLANK(H2684)),\"\",H2684+(VLOOKUP(L2684,garantie,2,FALSE)))","v":""}]
[2684,{"$nulls":9},{"$f":"IF(B2685=\"\",\"\",D2685&\" - \"&F2685&\" - \"&G2685)","v":""},null,{"$f":"IF(OR(ISBLANK(L2685),ISBLANK(H2685)),\"\",H2685+(VLOOKUP(L2685,garantie,2,FALSE)))","v":""}]
[2685,{"$nulls":9},{"$f":"IF(B2686=\"\",\"\",D2686&\" - \"&F2686&\" - \"&G2686)","v":""},null,{"$f":"IF(OR(ISBLANK(L2686),ISBLANK(H2686)),\"\",H2686+(VLOOKUP(L2686,garantie,2,FALSE)))","v":""}]
[2686,{"$nulls":9},{"$f":"IF(B2687=\"\",\"\",D2687&\" - \"&F2687&\" - \"&G2687)","v":""},null,{"$f":"IF(OR(ISBLANK(L2687),ISBLANK(H2687)),\"\",H2687+(VLOOKUP(L2687,garantie,2,FALSE)))","v":""}]
[2687,{"$nulls":9},{"$f":"IF(B2688=\"\",\"\",D2688&\" - \"&F2688&\" - \"&G2688)","v":""},null,{"$f":"IF(OR(ISBLANK(L2688),ISBLANK(H2688)),\"\",H2688+(VLOOKUP(L2688,garantie,2,FALSE)))","v":""}]
[2688,{"$nulls":9},{"$f":"IF(B2689=\"\",\"\",D2689&\" - \"&F2689&\" - \"&G2689)","v":""},null,{"$f":"IF(OR(ISBLANK(L2689),ISBLANK(H2689)),\"\",H2689+(VLOOKUP(L2689,garantie,2,FALSE)))","v":""}]
[2689,{"$nulls":9},{"$f":"IF(B2690=\"\",\"\",D2690&\" - \"&F2690&\" - \"&G2690)","v":""},null,{"$f":"IF(OR(ISBLANK(L2690),ISBLANK(H2690)),\"\",H2690+(VLOOKUP(L2690,garantie,2,FALSE)))","v":""}]
[2690,{"$nulls":9},{"$f":"IF(B2691=\"\",\"\",D2691&\" - \"&F2691&\" - \"&G2691)","v":""},null,{"$f":"IF(OR(ISBLANK(L2691),ISBLANK(H2691)),\"\",H2691+(VLOOKUP(L2691,garantie,2,FALSE)))","v":""}]
[2691,{"$nulls":9},{"$f":"IF(B2692=\"\",\"\",D2692&\" - \"&F2692&\" - \"&G2692)","v":""},null,{"$f":"IF(OR(ISBLANK(L2692),ISBLANK(H2692)),\"\",H2692+(VLOOKUP(L2692,garantie,2,FALSE)))","v":""}]
[2692,{"$nulls":9},{"$f":"IF(B2693=\"\",\"\",D2693&\" - \"&F2693&\" - \"&G2693)","v":""},null,{"$f":"IF(OR(ISBLANK(L2693),ISBLANK(H2693)),\"\",H2693+(VLOOKUP(L2693,garantie,2,FALSE)))","v":""}]
[2693,{"$nulls":9},{"$f":"IF(B2694=\"\",\"\",D2694&\" - \"&F2694&\" - \"&G2694)","v":""},null,{"$f":"IF(OR(ISBLANK(L2694),ISBLANK(H2694)),\"\",H2694+(VLOOKUP(L2694,garantie,2,FALSE)))","v":""}]
[2694,{"$nulls":9},{"$f":"IF(B2695=\"\",\"\",D2695&\" - \"&F2695&\" - \"&G2695)","v":""},null,{"$f":"IF(OR(ISBLANK(L2695),ISBLANK(H2695)),\"\",H2695+(VLOOKUP(L2695,garantie,2,FALSE)))","v":""}]
[2695,{"$nulls":9},{"$f":"IF(B2696=\"\",\"\",D2696&\" - \"&F2696&\" - \"&G2696)","v":""},null,{"$f":"IF(OR(ISBLANK(L2696),ISBLANK(H2696)),\"\",H2696+(VLOOKUP(L2696,garantie,2,FALSE)))","v":""}]
[2696,{"$nulls":9},{"$f":"IF(B2697=\"\",\"\",D2697&\" - \"&F2697&\" - \"&G2697)","v":""},null,{"$f":"IF(OR(ISBLANK(L2697),ISBLANK(H2697)),\"\",H2697+(VLOOKUP(L2697,garantie,2,FALSE)))","v":""}]
[2697,{"$nulls":9},{"$f":"IF(B2698=\"\",\"\",D2698&\" - \"&F2698&\" - \"&G2698)","v":""},null,{"$f":"IF(OR(ISBLANK(L2698),ISBLANK(H2698)),\"\",H2698+(VLOOKUP(L2698,garantie,2,FALSE)))","v":""}]
[2698,{"$nulls":9},{"$f":"IF(B2699=\"\",\"\",D2699&\" - \"&F2699&\" - \"&G2699)","v":""},null,{"$f":"IF(OR(ISBLANK(L2699),ISBLANK(H2699)),\"\",H2699+(VLOOKUP(L2699,garantie,2,FALSE)))","v":""}]
[2699,{"$nulls":9},{"$f":"IF(B2700=\"\",\"\",D2700&\" - \"&F2700&\" - \"&G2700)","v":""},null,{"$f":"IF(OR(ISBLANK(L2700),ISBLANK(H2700)),\"\",H2700+(VLOOKUP(L2700,garantie,2,FALSE)))","v":""}]
[2700,{"$nulls":9},{"$f":"IF(B2701=\"\",\"\",D2701&\" - \"&F2701&\" - \"&G2701)","v":""},null,{"$f":"IF(OR(ISBLANK(L2701),ISBLANK(H2701)),\"\",H2701+(VLOOKUP(L2701,garantie,2,FALSE)))","v":""}]
[2701,{"$nulls":9},{"$f":"IF(B2702=\"\",\"\",D2702&\" - \"&F2702&\" - \"&G2702)","v":""},null,{"$f":"IF(OR(ISBLANK(L2702),ISBLANK(H2702)),\"\",H2702+(VLOOKUP(L2702,garantie,2,FALSE)))","v":""}]
[2702,{"$nulls":9},{"$f":"IF(B2703=\"\",\"\",D2703&\" - \"&F2703&\" - \"&G2703)","v":""},null,{"$f":"IF(OR(ISBLANK(L2703),ISBLANK(H2703)),\"\",H2703+(VLOOKUP(L2703,garantie,2,FALSE)))","v":""}]
[2703,{"$nulls":9},{"$f":"IF(B2704=\"\",\"\",D2704&\" - \"&F2704&\" - \"&G2704)","v":""},null,{"$f":"IF(OR(ISBLANK(L2704),ISBLANK(H2704)),\"\",H2704+(VLOOKUP(L2704,garantie,2,FALSE)))","v":""}]
[2704,{"$nulls":9},{"$f":"IF(B2705=\"\",\"\",D2705&\" - \"&F2705&\" - \"&G2705)","v":""},null,{"$f":"IF(OR(ISBLANK(L2705),ISBLANK(H2705)),\"\",H2705+(VLOOKUP(L2705,garantie,2,FALSE)))","v":""}]
[2705,{"$nulls":9},{"$f":"IF(B2706=\"\",\"\",D2706&\" - \"&F2706&\" - \"&G2706)","v":""},null,{"$f":"IF(OR(ISBLANK(L2706),ISBLANK(H2706)),\"\",H2706+(VLOOKUP(L2706,garantie,2,FALSE)))","v":""}]
[2706,{"$nulls":9},{"$f":"IF(B2707=\"\",\"\",D2707&\" - \"&F2707&\" - \"&G2707)","v":""},null,{"$f":"IF(OR(ISBLANK(L2707),ISBLANK(H2707)),\"\",H2707+(VLOOKUP(L2707,garantie,2,FALSE)))","v":""}]
[2707,{"$nulls":9},{"$f":"IF(B2708=\"\",\"\",D2708&\" - \"&F2708&\" - \"&G2708)","v":""},null,{"$f":"IF(OR(ISBLANK(L2708),ISBLANK(H2708)),\"\",H2708+(VLOOKUP(L2708,garantie,2,FALSE)))","v":""}]
[2708,{"$nulls":9},{"$f":"IF(B2709=\"\",\"\",D2709&\" - \"&F2709&\" - \"&G2709)","v":""},null,{"$f":"IF(OR(ISBLANK(L2709),ISBLANK(H2709)),\"\",H2709+(VLOOKUP(L2709,garantie,2,FALSE)))","v":""}]
[2709,{"$nulls":9},{"$f":"IF(B2710=\"\",\"\",D2710&\" - \"&F2710&\" - \"&G2710)","v":""},null,{"$f":"IF(OR(ISBLANK(L2710),ISBLANK(H2710)),\"\",H2710+(VLOOKUP(L2710,garantie,2,FALSE)))","v":""}]
[2710,{"$nulls":9},{"$f":"IF(B2711=\"\",\"\",D2711&\" - \"&F2711&\" - \"&G2711)","v":""},null,{"$f":"IF(OR(ISBLANK(L2711),ISBLANK(H2711)),\"\",H2711+(VLOOKUP(L2711,garantie,2,FALSE)))","v":""}]
[2711,{"$nulls":9},{"$f":"IF(B2712=\"\",\"\",D2712&\" - \"&F2712&\" - \"&G2712)","v":""},null,{"$f":"IF(OR(ISBLANK(L2712),ISBLANK(H2712)),\"\",H2712+(VLOOKUP(L2712,garantie,2,FALSE)))","v":""}]
[2712,{"$nulls":9},{"$f":"IF(B2713=\"\",\"\",D2713&\" - \"&F2713&\" - \"&G2713)","v":""},null,{"$f":"IF(OR(ISBLANK(L2713),ISBLANK(H2713)),\"\",H2713+(VLOOKUP(L2713,garantie,2,FALSE)))","v":""}]
[2713,{"$nulls":9},{"$f":"IF(B2714=\"\",\"\",D2714&\" - \"&F2714&\" - \"&G2714)","v":""},null,{"$f":"IF(OR(ISBLANK(L2714),ISBLANK(H2714)),\"\",H2714+(VLOOKUP(L2714,garantie,2,FALSE)))","v":""}]
[2714,{"$nulls":9},{"$f":"IF(B2715=\"\",\"\",D2715&\" - \"&F2715&\" - \"&G2715)","v":""},null,{"$f":"IF(OR(ISBLANK(L2715),ISBLANK(H2715)),\"\",H2715+(VLOOKUP(L2715,garantie,2,FALSE)))","v":""}]
[2715,{"$nulls":9},{"$f":"IF(B2716=\"\",\"\",D2716&\" - \"&F2716&\" - \"&G2716)","v":""},null,{"$f":"IF(OR(ISBLANK(L2716),ISBLANK(H2716)),\"\",H2716+(VLOOKUP(L2716,garantie,2,FALSE)))","v":""}]
[2716,{"$nulls":9},{"$f":"IF(B2717=\"\",\"\",D2717&\" - \"&F2717&\" - \"&G2717)","v":""},null,{"$f":"IF(OR(ISBLANK(L2717),ISBLANK(H2717)),\"\",H2717+(VLOOKUP(L2717,garantie,2,FALSE)))","v":""}]
[2717,{"$nulls":9},{"$f":"IF(B2718=\"\",\"\",D2718&\" - \"&F2718&\" - \"&G2718)","v":""},null,{"$f":"IF(OR(ISBLANK(L2718),ISBLANK(H2718)),\"\",H2718+(VLOOKUP(L2718,garantie,2,FALSE)))","v":""}]
[2718,{"$nulls":9},{"$f":"IF(B2719=\"\",\"\",D2719&\" - \"&F2719&\" - \"&G2719)","v":""},null,{"$f":"IF(OR(ISBLANK(L2719),ISBLANK(H2719)),\"\",H2719+(VLOOKUP(L2719,garantie,2,FALSE)))","v":""}]
[2719,{"$nulls":9},{"$f":"IF(B2720=\"\",\"\",D2720&\" - \"&F2720&\" - \"&G2720)","v":""},null,{"$f":"IF(OR(ISBLANK(L2720),ISBLANK(H2720)),\"\",H2720+(VLOOKUP(L2720,garantie,2,FALSE)))","v":""}]
[2720,{"$nulls":9},{"$f":"IF(B2721=\"\",\"\",D2721&\" - \"&F2721&\" - \"&G2721)","v":""},null,{"$f":"IF(OR(ISBLANK(L2721),ISBLANK(H2721)),\"\",H2721+(VLOOKUP(L2721,garantie,2,FALSE)))","v":""}]
[2721,{"$nulls":9},{"$f":"IF(B2722=\"\",\"\",D2722&\" - \"&F2722&\" - \"&G2722)","v":""},null,{"$f":"IF(OR(ISBLANK(L2722),ISBLANK(H2722)),\"\",H2722+(VLOOKUP(L2722,garantie,2,FALSE)))","v":""}]
[2722,{"$nulls":9},{"$f":"IF(B2723=\"\",\"\",D2723&\" - \"&F2723&\" - \"&G2723)","v":""},null,{"$f":"IF(OR(ISBLANK(L2723),ISBLANK(H2723)),\"\",H2723+(VLOOKUP(L2723,garantie,2,FALSE)))","v":""}]
[2723,{"$nulls":9},{"$f":"IF(B2724=\"\",\"\",D2724&\" - \"&F2724&\" - \"&G2724)","v":""},null,{"$f":"IF(OR(ISBLANK(L2724),ISBLANK(H2724)),\"\",H2724+(VLOOKUP(L2724,garantie,2,FALSE)))","v":""}]
[2724,{"$nulls":9},{"$f":"IF(B2725=\"\",\"\",D2725&\" - \"&F2725&\" - \"&G2725)","v":""},null,{"$f":"IF(OR(ISBLANK(L2725),ISBLANK(H2725)),\"\",H2725+(VLOOKUP(L2725,garantie,2,FALSE)))","v":""}]
[2725,{"$nulls":9},{"$f":"IF(B2726=\"\",\"\",D2726&\" - \"&F2726&\" - \"&G2726)","v":""},null,{"$f":"IF(OR(ISBLANK(L2726),ISBLANK(H2726)),\"\",H2726+(VLOOKUP(L2726,garantie,2,FALSE)))","v":""}]
[2726,{"$nulls":9},{"$f":"IF(B2727=\"\",\"\",D2727&\" - \"&F2727&\" - \"&G2727)","v":""},null,{"$f":"IF(OR(ISBLANK(L2727),ISBLANK(H2727)),\"\",H2727+(VLOOKUP(L2727,garantie,2,FALSE)))","v":""}]
[2727,{"$nulls":9},{"$f":"IF(B2728=\"\",\"\",D2728&\" - \"&F2728&\" - \"&G2728)","v":""},null,{"$f":"IF(OR(ISBLANK(L2728),ISBLANK(H2728)),\"\",H2728+(VLOOKUP(L2728,garantie,2,FALSE)))","v":""}]
[2728,{"$nulls":9},{"$f":"IF(B2729=\"\",\"\",D2729&\" - \"&F2729&\" - \"&G2729)","v":""},null,{"$f":"IF(OR(ISBLANK(L2729),ISBLANK(H2729)),\"\",H2729+(VLOOKUP(L2729,garantie,2,FALSE)))","v":""}]
[2729,{"$nulls":9},{"$f":"IF(B2730=\"\",\"\",D2730&\" - \"&F2730&\" - \"&G2730)","v":""},null,{"$f":"IF(OR(ISBLANK(L2730),ISBLANK(H2730)),\"\",H2730+(VLOOKUP(L2730,garantie,2,FALSE)))","v":""}]
[2730,{"$nulls":9},{"$f":"IF(B2731=\"\",\"\",D2731&\" - \"&F2731&\" - \"&G2731)","v":""},null,{"$f":"IF(OR(ISBLANK(L2731),ISBLANK(H2731)),\"\",H2731+(VLOOKUP(L2731,garantie,2,FALSE)))","v":""}]
[2731,{"$nulls":9},{"$f":"IF(B2732=\"\",\"\",D2732&\" - \"&F2732&\" - \"&G2732)","v":""},null,{"$f":"IF(OR(ISBLANK(L2732),ISBLANK(H2732)),\"\",H2732+(VLOOKUP(L2732,garantie,2,FALSE)))","v":""}]
[2732,{"$nulls":9},{"$f":"IF(B2733=\"\",\"\",D2733&\" - \"&F2733&\" - \"&G2733)","v":""},null,{"$f":"IF(OR(ISBLANK(L2733),ISBLANK(H2733)),\"\",H2733+(VLOOKUP(L2733,garantie,2,FALSE)))","v":""}]
[2733,{"$nulls":9},{"$f":"IF(B2734=\"\",\"\",D2734&\" - \"&F2734&\" - \"&G2734)","v":""},null,{"$f":"IF(OR(ISBLANK(L2734),ISBLANK(H2734)),\"\",H2734+(VLOOKUP(L2734,garantie,2,FALSE)))","v":""}]
[2734,{"$nulls":9},{"$f":"IF(B2735=\"\",\"\",D2735&\" - \"&F2735&\" - \"&G2735)","v":""},null,{"$f":"IF(OR(ISBLANK(L2735),ISBLANK(H2735)),\"\",H2735+(VLOOKUP(L2735,garantie,2,FALSE)))","v":""}]
[2735,{"$nulls":9},{"$f":"IF(B2736=\"\",\"\",D2736&\" - \"&F2736&\" - \"&G2736)","v":""},null,{"$f":"IF(OR(ISBLANK(L2736),ISBLANK(H2736)),\"\",H2736+(VLOOKUP(L2736,garantie,2,FALSE)))","v":""}]
[2736,{"$nulls":9},{"$f":"IF(B2737=\"\",\"\",D2737&\" - \"&F2737&\" - \"&G2737)","v":""},null,{"$f":"IF(OR(ISBLANK(L2737),ISBLANK(H2737)),\"\",H2737+(VLOOKUP(L2737,garantie,2,FALSE)))","v":""}]
[2737,{"$nulls":9},{"$f":"IF(B2738=\"\",\"\",D2738&\" - \"&F2738&\" - \"&G2738)","v":""},null,{"$f":"IF(OR(ISBLANK(L2738),ISBLANK(H2738)),\"\",H2738+(VLOOKUP(L2738,garantie,2,FALSE)))","v":""}]
[2738,{"$nulls":9},{"$f":"IF(B2739=\"\",\"\",D2739&\" - \"&F2739&\" - \"&G2739)","v":""},null,{"$f":"IF(OR(ISBLANK(L2739),ISBLANK(H2739)),\"\",H2739+(VLOOKUP(L2739,garantie,2,FALSE)))","v":""}]
[2739,{"$nulls":9},{"$f":"IF(B2740=\"\",\"\",D2740&\" - \"&F2740&\" - \"&G2740)","v":""},null,{"$f":"IF(OR(ISBLANK(L2740),ISBLANK(H2740)),\"\",H2740+(VLOOKUP(L2740,garantie,2,FALSE)))","v":""}]
[2740,{"$nulls":9},{"$f":"IF(B2741=\"\",\"\",D2741&\" - \"&F2741&\" - \"&G2741)","v":""},null,{"$f":"IF(OR(ISBLANK(L2741),ISBLANK(H2741)),\"\",H2741+(VLOOKUP(L2741,garantie,2,FALSE)))","v":""}]
[2741,{"$nulls":9},{"$f":"IF(B2742=\"\",\"\",D2742&\" - \"&F2742&\" - \"&G2742)","v":""},null,{"$f":"IF(OR(ISBLANK(L2742),ISBLANK(H2742)),\"\",H2742+(VLOOKUP(L2742,garantie,2,FALSE)))","v":""}]
[2742,{"$nulls":9},{"$f":"IF(B2743=\"\",\"\",D2743&\" - \"&F2743&\" - \"&G2743)","v":""},null,{"$f":"IF(OR(ISBLANK(L2743),ISBLANK(H2743)),\"\",H2743+(VLOOKUP(L2743,garantie,2,FALSE)))","v":""}]
[2743,{"$nulls":9},{"$f":"IF(B2744=\"\",\"\",D2744&\" - \"&F2744&\" - \"&G2744)","v":""},null,{"$f":"IF(OR(ISBLANK(L2744),ISBLANK(H2744)),\"\",H2744+(VLOOKUP(L2744,garantie,2,FALSE)))","v":""}]
[2744,{"$nulls":9},{"$f":"IF(B2745=\"\",\"\",D2745&\" - \"&F2745&\" - \"&G2745)","v":""},null,{"$f":"IF(OR(ISBLANK(L2745),ISBLANK(H2745)),\"\",H2745+(VLOOKUP(L2745,garantie,2,FALSE)))","v":""}]
[2745,{"$nulls":9},{"$f":"IF(B2746=\"\",\"\",D2746&\" - \"&F2746&\" - \"&G2746)","v":""},null,{"$f":"IF(OR(ISBLANK(L2746),ISBLANK(H2746)),\"\",H2746+(VLOOKUP(L2746,garantie,2,FALSE)))","v":""}]
[2746,{"$nulls":9},{"$f":"IF(B2747=\"\",\"\",D2747&\" - \"&F2747&\" - \"&G2747)","v":""},null,{"$f":"IF(OR(ISBLANK(L2747),ISBLANK(H2747)),\"\",H2747+(VLOOKUP(L2747,garantie,2,FALSE)))","v":""}]
[2747,{"$nulls":9},{"$f":"IF(B2748=\"\",\"\",D2748&\" - \"&F2748&\" - \"&G2748)","v":""},null,{"$f":"IF(OR(ISBLANK(L2748),ISBLANK(H2748)),\"\",H2748+(VLOOKUP(L2748,garantie,2,FALSE)))","v":""}]
[2748,{"$nulls":9},{"$f":"IF(B2749=\"\",\"\",D2749&\" - \"&F2749&\" - \"&G2749)","v":""},null,{"$f":"IF(OR(ISBLANK(L2749),ISBLANK(H2749)),\"\",H2749+(VLOOKUP(L2749,garantie,2,FALSE)))","v":""}]
[2749,{"$nulls":9},{"$f":"IF(B2750=\"\",\"\",D2750&\" - \"&F2750&\" - \"&G2750)","v":""},null,{"$f":"IF(OR(ISBLANK(L2750),ISBLANK(H2750)),\"\",H2750+(VLOOKUP(L2750,garantie,2,FALSE)))","v":""}]
[2750,{"$nulls":9},{"$f":"IF(B2751=\"\",\"\",D2751&\" - \"&F2751&\" - \"&G2751)","v":""},null,{"$f":"IF(OR(ISBLANK(L2751),ISBLANK(H2751)),\"\",H2751+(VLOOKUP(L2751,garantie,2,FALSE)))","v":""}]
[2751,{"$nulls":9},{"$f":"IF(B2752=\"\",\"\",D2752&\" - \"&F2752&\" - \"&G2752)","v":""},null,{"$f":"IF(OR(ISBLANK(L2752),ISBLANK(H2752)),\"\",H2752+(VLOOKUP(L2752,garantie,2,FALSE)))","v":""}]
[2752,{"$nulls":9},{"$f":"IF(B2753=\"\",\"\",D2753&\" - \"&F2753&\" - \"&G2753)","v":""},null,{"$f":"IF(OR(ISBLANK(L2753),ISBLANK(H2753)),\"\",H2753+(VLOOKUP(L2753,garantie,2,FALSE)))","v":""}]
[2753,{"$nulls":9},{"$f":"IF(B2754=\"\",\"\",D2754&\" - \"&F2754&\" - \"&G2754)","v":""},null,{"$f":"IF(OR(ISBLANK(L2754),ISBLANK(H2754)),\"\",H2754+(VLOOKUP(L2754,garantie,2,FALSE)))","v":""}]
[2754,{"$nulls":9},{"$f":"IF(B2755=\"\",\"\",D2755&\" - \"&F2755&\" - \"&G2755)","v":""},null,{"$f":"IF(OR(ISBLANK(L2755),ISBLANK(H2755)),\"\",H2755+(VLOOKUP(L2755,garantie,2,FALSE)))","v":""}]
[2755,{"$nulls":9},{"$f":"IF(B2756=\"\",\"\",D2756&\" - \"&F2756&\" - \"&G2756)","v":""},null,{"$f":"IF(OR(ISBLANK(L2756),ISBLANK(H2756)),\"\",H2756+(VLOOKUP(L2756,garantie,2,FALSE)))","v":""}]
[2756,{"$nulls":9},{"$f":"IF(B2757=\"\",\"\",D2757&\" - \"&F2757&\" - \"&G2757)","v":""},null,{"$f":"IF(OR(ISBLANK(L2757),ISBLANK(H2757)),\"\",H2757+(VLOOKUP(L2757,garantie,2,FALSE)))","v":""}]
[2757,{"$nulls":9},{"$f":"IF(B2758=\"\",\"\",D2758&\" - \"&F2758&\" - \"&G2758)","v":""},null,{"$f":"IF(OR(ISBLANK(L2758),ISBLANK(H2758)),\"\",H2758+(VLOOKUP(L2758,garantie,2,FALSE)))","v":""}]
[2758,{"$nulls":9},{"$f":"IF(B2759=\"\",\"\",D2759&\" - \"&F2759&\" - \"&G2759)","v":""},null,{"$f":"IF(OR(ISBLANK(L2759),ISBLANK(H2759)),\"\",H2759+(VLOOKUP(L2759,garantie,2,FALSE)))","v":""}]
[2759,{"$nulls":9},{"$f":"IF(B2760=\"\",\"\",D2760&\" - \"&F2760&\" - \"&G2760)","v":""},null,{"$f":"IF(OR(ISBLANK(L2760),ISBLANK(H2760)),\"\",H2760+(VLOOKUP(L2760,garantie,2,FALSE)))","v":""}]
[2760,{"$nulls":9},{"$f":"IF(B2761=\"\",\"\",D2761&\" - \"&F2761&\" - \"&G2761)","v":""},null,{"$f":"IF(OR(ISBLANK(L2761),ISBLANK(H2761)),\"\",H2761+(VLOOKUP(L2761,garantie,2,FALSE)))","v":""}]
[2761,{"$nulls":9},{"$f":"IF(B2762=\"\",\"\",D2762&\" - \"&F2762&\" - \"&G2762)","v":""},null,{"$f":"IF(OR(ISBLANK(L2762),ISBLANK(H2762)),\"\",H2762+(VLOOKUP(L2762,garantie,2,FALSE)))","v":""}]
[2762,{"$nulls":9},{"$f":"IF(B2763=\"\",\"\",D2763&\" - \"&F2763&\" - \"&G2763)","v":""},null,{"$f":"IF(OR(ISBLANK(L2763),ISBLANK(H2763)),\"\",H2763+(VLOOKUP(L2763,garantie,2,FALSE)))","v":""}]
[2763,{"$nulls":9},{"$f":"IF(B2764=\"\",\"\",D2764&\" - \"&F2764&\" - \"&G2764)","v":""},null,{"$f":"IF(OR(ISBLANK(L2764),ISBLANK(H2764)),\"\",H2764+(VLOOKUP(L2764,garantie,2,FALSE)))","v":""}]
[2764,{"$nulls":9},{"$f":"IF(B2765=\"\",\"\",D2765&\" - \"&F2765&\" - \"&G2765)","v":""},null,{"$f":"IF(OR(ISBLANK(L2765),ISBLANK(H2765)),\"\",H2765+(VLOOKUP(L2765,garantie,2,FALSE)))","v":""}]
[2765,{"$nulls":9},{"$f":"IF(B2766=\"\",\"\",D2766&\" - \"&F2766&\" - \"&G2766)","v":""},null,{"$f":"IF(OR(ISBLANK(L2766),ISBLANK(H2766)),\"\",H2766+(VLOOKUP(L2766,garantie,2,FALSE)))","v":""}]
[2766,{"$nulls":9},{"$f":"IF(B2767=\"\",\"\",D2767&\" - \"&F2767&\" - \"&G2767)","v":""},null,{"$f":"IF(OR(ISBLANK(L2767),ISBLANK(H2767)),\"\",H2767+(VLOOKUP(L2767,garantie,2,FALSE)))","v":""}]
[2767,{"$nulls":9},{"$f":"IF(B2768=\"\",\"\",D2768&\" - \"&F2768&\" - \"&G2768)","v":""},null,{"$f":"IF(OR(ISBLANK(L2768),ISBLANK(H2768)),\"\",H2768+(VLOOKUP(L2768,garantie,2,FALSE)))","v":""}]
[2768,{"$nulls":9},{"$f":"IF(B2769=\"\",\"\",D2769&\" - \"&F2769&\" - \"&G2769)","v":""},null,{"$f":"IF(OR(ISBLANK(L2769),ISBLANK(H2769)),\"\",H2769+(VLOOKUP(L2769,garantie,2,FALSE)))","v":""}]
[2769,{"$nulls":9},{"$f":"IF(B2770=\"\",\"\",D2770&\" - \"&F2770&\" - \"&G2770)","v":""},null,{"$f":"IF(OR(ISBLANK(L2770),ISBLANK(H2770)),\"\",H2770+(VLOOKUP(L2770,garantie,2,FALSE)))","v":""}]
[2770,{"$nulls":9},{"$f":"IF(B2771=\"\",\"\",D2771&\" - \"&F2771&\" - \"&G2771)","v":""},null,{"$f":"IF(OR(ISBLANK(L2771),ISBLANK(H2771)),\"\",H2771+(VLOOKUP(L2771,garantie,2,FALSE)))","v":""}]
[2771,{"$nulls":9},{"$f":"IF(B2772=\"\",\"\",D2772&\" - \"&F2772&\" - \"&G2772)","v":""},null,{"$f":"IF(OR(ISBLANK(L2772),ISBLANK(H2772)),\"\",H2772+(VLOOKUP(L2772,garantie,2,FALSE)))","v":""}]
[2772,{"$nulls":9},{"$f":"IF(B2773=\"\",\"\",D2773&\" - \"&F2773&\" - \"&G2773)","v":""},null,{"$f":"IF(OR(ISBLANK(L2773),ISBLANK(H2773)),\"\",H2773+(VLOOKUP(L2773,garantie,2,FALSE)))","v":""}]
[2773,{"$nulls":9},{"$f":"IF(B2774=\"\",\"\",D2774&\" - \"&F2774&\" - \"&G2774)","v":""},null,{"$f":"IF(OR(ISBLANK(L2774),ISBLANK(H2774)),\"\",H2774+(VLOOKUP(L2774,garantie,2,FALSE)))","v":""}]
[2774,{"$nulls":9},{"$f":"IF(B2775=\"\",\"\",D2775&\" - \"&F2775&\" - \"&G2775)","v":""},null,{"$f":"IF(OR(ISBLANK(L2775),ISBLANK(H2775)),\"\",H2775+(VLOOKUP(L2775,garantie,2,FALSE)))","v":""}]
[2775,{"$nulls":9},{"$f":"IF(B2776=\"\",\"\",D2776&\" - \"&F2776&\" - \"&G2776)","v":""},null,{"$f":"IF(OR(ISBLANK(L2776),ISBLANK(H2776)),\"\",H2776+(VLOOKUP(L2776,garantie,2,FALSE)))","v":""}]
[2776,{"$nulls":9},{"$f":"IF(B2777=\"\",\"\",D2777&\" - \"&F2777&\" - \"&G2777)","v":""},null,{"$f":"IF(OR(ISBLANK(L2777),ISBLANK(H2777)),\"\",H2777+(VLOOKUP(L2777,garantie,2,FALSE)))","v":""}]
[2777,{"$nulls":9},{"$f":"IF(B2778=\"\",\"\",D2778&\" - \"&F2778&\" - \"&G2778)","v":""},null,{"$f":"IF(OR(ISBLANK(L2778),ISBLANK(H2778)),\"\",H2778+(VLOOKUP(L2778,garantie,2,FALSE)))","v":""}]
[2778,{"$nulls":9},{"$f":"IF(B2779=\"\",\"\",D2779&\" - \"&F2779&\" - \"&G2779)","v":""},null,{"$f":"IF(OR(ISBLANK(L2779),ISBLANK(H2779)),\"\",H2779+(VLOOKUP(L2779,garantie,2,FALSE)))","v":""}]
[2779,{"$nulls":9},{"$f":"IF(B2780=\"\",\"\",D2780&\" - \"&F2780&\" - \"&G2780)","v":""},null,{"$f":"IF(OR(ISBLANK(L2780),ISBLANK(H2780)),\"\",H2780+(VLOOKUP(L2780,garantie,2,FALSE)))","v":""}]
[2780,{"$nulls":9},{"$f":"IF(B2781=\"\",\"\",D2781&\" - \"&F2781&\" - \"&G2781)","v":""},null,{"$f":"IF(OR(ISBLANK(L2781),ISBLANK(H2781)),\"\",H2781+(VLOOKUP(L2781,garantie,2,FALSE)))","v":""}]
[2781,{"$nulls":9},{"$f":"IF(B2782=\"\",\"\",D2782&\" - \"&F2782&\" - \"&G2782)","v":""},null,{"$f":"IF(OR(ISBLANK(L2782),ISBLANK(H2782)),\"\",H2782+(VLOOKUP(L2782,garantie,2,FALSE)))","v":""}]
[2782,{"$nulls":9},{"$f":"IF(B2783=\"\",\"\",D2783&\" - \"&F2783&\" - \"&G2783)","v":""},null,{"$f":"IF(OR(ISBLANK(L2783),ISBLANK(H2783)),\"\",H2783+(VLOOKUP(L2783,garantie,2,FALSE)))","v":""}]
[2783,{"$nulls":9},{"$f":"IF(B2784=\"\",\"\",D2784&\" - \"&F2784&\" - \"&G2784)","v":""},null,{"$f":"IF(OR(ISBLANK(L2784),ISBLANK(H2784)),\"\",H2784+(VLOOKUP(L2784,garantie,2,FALSE)))","v":""}]
[2784,{"$nulls":9},{"$f":"IF(B2785=\"\",\"\",D2785&\" - \"&F2785&\" - \"&G2785)","v":""},null,{"$f":"IF(OR(ISBLANK(L2785),ISBLANK(H2785)),\"\",H2785+(VLOOKUP(L2785,garantie,2,FALSE)))","v":""}]
[2785,{"$nulls":9},{"$f":"IF(B2786=\"\",\"\",D2786&\" - \"&F2786&\" - \"&G2786)","v":""},null,{"$f":"IF(OR(ISBLANK(L2786),ISBLANK(H2786)),\"\",H2786+(VLOOKUP(L2786,garantie,2,FALSE)))","v":""}]
[2786,{"$nulls":9},{"$f":"IF(B2787=\"\",\"\",D2787&\" - \"&F2787&\" - \"&G2787)","v":""},null,{"$f":"IF(OR(ISBLANK(L2787),ISBLANK(H2787)),\"\",H2787+(VLOOKUP(L2787,garantie,2,FALSE)))","v":""}]
[2787,{"$nulls":9},{"$f":"IF(B2788=\"\",\"\",D2788&\" - \"&F2788&\" - \"&G2788)","v":""},null,{"$f":"IF(OR(ISBLANK(L2788),ISBLANK(H2788)),\"\",H2788+(VLOOKUP(L2788,garantie,2,FALSE)))","v":""}]
[2788,{"$nulls":9},{"$f":"IF(B2789=\"\",\"\",D2789&\" - \"&F2789&\" - \"&G2789)","v":""},null,{"$f":"IF(OR(ISBLANK(L2789),ISBLANK(H2789)),\"\",H2789+(VLOOKUP(L2789,garantie,2,FALSE)))","v":""}]
[2789,{"$nulls":9},{"$f":"IF(B2790=\"\",\"\",D2790&\" - \"&F2790&\" - \"&G2790)","v":""},null,{"$f":"IF(OR(ISBLANK(L2790),ISBLANK(H2790)),\"\",H2790+(VLOOKUP(L2790,garantie,2,FALSE)))","v":""}]
[2790,{"$nulls":9},{"$f":"IF(B2791=\"\",\"\",D2791&\" - \"&F2791&\" - \"&G2791)","v":""},null,{"$f":"IF(OR(ISBLANK(L2791),ISBLANK(H2791)),\"\",H2791+(VLOOKUP(L2791,garantie,2,FALSE)))","v":""}]
[2791,{"$nulls":9},{"$f":"IF(B2792=\"\",\"\",D2792&\" - \"&F2792&\" - \"&G2792)","v":""},null,{"$f":"IF(OR(ISBLANK(L2792),ISBLANK(H2792)),\"\",H2792+(VLOOKUP(L2792,garantie,2,FALSE)))","v":""}]
[2792,{"$nulls":9},{"$f":"IF(B2793=\"\",\"\",D2793&\" - \"&F2793&\" - \"&G2793)","v":""},null,{"$f":"IF(OR(ISBLANK(L2793),ISBLANK(H2793)),\"\",H2793+(VLOOKUP(L2793,garantie,2,FALSE)))","v":""}]
[2793,{"$nulls":9},{"$f":"IF(B2794=\"\",\"\",D2794&\" - \"&F2794&\" - \"&G2794)","v":""},null,{"$f":"IF(OR(ISBLANK(L2794),ISBLANK(H2794)),\"\",H2794+(VLOOKUP(L2794,garantie,2,FALSE)))","v":""}]
[2794,{"$nulls":9},{"$f":"IF(B2795=\"\",\"\",D2795&\" - \"&F2795&\" - \"&G2795)","v":""},null,{"$f":"IF(OR(ISBLANK(L2795),ISBLANK(H2795)),\"\",H2795+(VLOOKUP(L2795,garantie,2,FALSE)))","v":""}]
[2795,{"$nulls":9},{"$f":"IF(B2796=\"\",\"\",D2796&\" - \"&F2796&\" - \"&G2796)","v":""},null,{"$f":"IF(OR(ISBLANK(L2796),ISBLANK(H2796)),\"\",H2796+(VLOOKUP(L2796,garantie,2,FALSE)))","v":""}]
[2796,{"$nulls":9},{"$f":"IF(B2797=\"\",\"\",D2797&\" - \"&F2797&\" - \"&G2797)","v":""},null,{"$f":"IF(OR(ISBLANK(L2797),ISBLANK(H2797)),\"\",H2797+(VLOOKUP(L2797,garantie,2,FALSE)))","v":""}]
[2797,{"$nulls":9},{"$f":"IF(B2798=\"\",\"\",D2798&\" - \"&F2798&\" - \"&G2798)","v":""},null,{"$f":"IF(OR(ISBLANK(L2798),ISBLANK(H2798)),\"\",H2798+(VLOOKUP(L2798,garantie,2,FALSE)))","v":""}]
[2798,{"$nulls":9},{"$f":"IF(B2799=\"\",\"\",D2799&\" - \"&F2799&\" - \"&G2799)","v":""},null,{"$f":"IF(OR(ISBLANK(L2799),ISBLANK(H2799)),\"\",H2799+(VLOOKUP(L2799,garantie,2,FALSE)))","v":""}]
[2799,{"$nulls":9},{"$f":"IF(B2800=\"\",\"\",D2800&\" - \"&F2800&\" - \"&G2800)","v":""},null,{"$f":"IF(OR(ISBLANK(L2800),ISBLANK(H2800)),\"\",H2800+(VLOOKUP(L2800,garantie,2,FALSE)))","v":""}]
[2800,{"$nulls":9},{"$f":"IF(B2801=\"\",\"\",D2801&\" - \"&F2801&\" - \"&G2801)","v":""},null,{"$f":"IF(OR(ISBLANK(L2801),ISBLANK(H2801)),\"\",H2801+(VLOOKUP(L2801,garantie,2,FALSE)))","v":""}]
[2801,{"$nulls":9},{"$f":"IF(B2802=\"\",\"\",D2802&\" - \"&F2802&\" - \"&G2802)","v":""},null,{"$f":"IF(OR(ISBLANK(L2802),ISBLANK(H2802)),\"\",H2802+(VLOOKUP(L2802,garantie,2,FALSE)))","v":""}]
[2802,{"$nulls":9},{"$f":"IF(B2803=\"\",\"\",D2803&\" - \"&F2803&\" - \"&G2803)","v":""},null,{"$f":"IF(OR(ISBLANK(L2803),ISBLANK(H2803)),\"\",H2803+(VLOOKUP(L2803,garantie,2,FALSE)))","v":""}]
[2803,{"$nulls":9},{"$f":"IF(B2804=\"\",\"\",D2804&\" - \"&F2804&\" - \"&G2804)","v":""},null,{"$f":"IF(OR(ISBLANK(L2804),ISBLANK(H2804)),\"\",H2804+(VLOOKUP(L2804,garantie,2,FALSE)))","v":""}]
[2804,{"$nulls":9},{"$f":"IF(B2805=\"\",\"\",D2805&\" - \"&F2805&\" - \"&G2805)","v":""},null,{"$f":"IF(OR(ISBLANK(L2805),ISBLANK(H2805)),\"\",H2805+(VLOOKUP(L2805,garantie,2,FALSE)))","v":""}]
[2805,{"$nulls":9},{"$f":"IF(B2806=\"\",\"\",D2806&\" - \"&F2806&\" - \"&G2806)","v":""},null,{"$f":"IF(OR(ISBLANK(L2806),ISBLANK(H2806)),\"\",H2806+(VLOOKUP(L2806,garantie,2,FALSE)))","v":""}]
[2806,{"$nulls":9},{"$f":"IF(B2807=\"\",\"\",D2807&\" - \"&F2807&\" - \"&G2807)","v":""},null,{"$f":"IF(OR(ISBLANK(L2807),ISBLANK(H2807)),\"\",H2807+(VLOOKUP(L2807,garantie,2,FALSE)))","v":""}]
[2807,{"$nulls":9},{"$f":"IF(B2808=\"\",\"\",D2808&\" - \"&F2808&\" - \"&G2808)","v":""},null,{"$f":"IF(OR(ISBLANK(L2808),ISBLANK(H2808)),\"\",H2808+(VLOOKUP(L2808,garantie,2,FALSE)))","v":""}]
[2808,{"$nulls":9},{"$f":"IF(B2809=\"\",\"\",D2809&\" - \"&F2809&\" - \"&G2809)","v":""},null,{"$f":"IF(OR(ISBLANK(L2809),ISBLANK(H2809)),\"\",H2809+(VLOOKUP(L2809,garantie,2,FALSE)))","v":""}]
[2809,{"$nulls":9},{"$f":"IF(B2810=\"\",\"\",D2810&\" - \"&F2810&\" - \"&G2810)","v":""},null,{"$f":"IF(OR(ISBLANK(L2810),ISBLANK(H2810)),\"\",H2810+(VLOOKUP(L2810,garantie,2,FALSE)))","v":""}]
[2810,{"$nulls":9},{"$f":"IF(B2811=\"\",\"\",D2811&\" - \"&F2811&\" - \"&G2811)","v":""},null,{"$f":"IF(OR(ISBLANK(L2811),ISBLANK(H2811)),\"\",H2811+(VLOOKUP(L2811,garantie,2,FALSE)))","v":""}]
[2811,{"$nulls":9},{"$f":"IF(B2812=\"\",\"\",D2812&\" - \"&F2812&\" - \"&G2812)","v":""},null,{"$f":"IF(OR(ISBLANK(L2812),ISBLANK(H2812)),\"\",H2812+(VLOOKUP(L2812,garantie,2,FALSE)))","v":""}]
[2812,{"$nulls":9},{"$f":"IF(B2813=\"\",\"\",D2813&\" - \"&F2813&\" - \"&G2813)","v":""},null,{"$f":"IF(OR(ISBLANK(L2813),ISBLANK(H2813)),\"\",H2813+(VLOOKUP(L2813,garantie,2,FALSE)))","v":""}]
[2813,{"$nulls":9},{"$f":"IF(B2814=\"\",\"\",D2814&\" - \"&F2814&\" - \"&G2814)","v":""},null,{"$f":"IF(OR(ISBLANK(L2814),ISBLANK(H2814)),\"\",H2814+(VLOOKUP(L2814,garantie,2,FALSE)))","v":""}]
[2814,{"$nulls":9},{"$f":"IF(B2815=\"\",\"\",D2815&\" - \"&F2815&\" - \"&G2815)","v":""},null,{"$f":"IF(OR(ISBLANK(L2815),ISBLANK(H2815)),\"\",H2815+(VLOOKUP(L2815,garantie,2,FALSE)))","v":""}]
[2815,{"$nulls":9},{"$f":"IF(B2816=\"\",\"\",D2816&\" - \"&F2816&\" - \"&G2816)","v":""},null,{"$f":"IF(OR(ISBLANK(L2816),ISBLANK(H2816)),\"\",H2816+(VLOOKUP(L2816,garantie,2,FALSE)))","v":""}]
[2816,{"$nulls":9},{"$f":"IF(B2817=\"\",\"\",D2817&\" - \"&F2817&\" - \"&G2817)","v":""},null,{"$f":"IF(OR(ISBLANK(L2817),ISBLANK(H2817)),\"\",H2817+(VLOOKUP(L2817,garantie,2,FALSE)))","v":""}]
[2817,{"$nulls":9},{"$f":"IF(B2818=\"\",\"\",D2818&\" - \"&F2818&\" - \"&G2818)","v":""},null,{"$f":"IF(OR(ISBLANK(L2818),ISBLANK(H2818)),\"\",H2818+(VLOOKUP(L2818,garantie,2,FALSE)))","v":""}]
[2818,{"$nulls":9},{"$f":"IF(B2819=\"\",\"\",D2819&\" - \"&F2819&\" - \"&G2819)","v":""},null,{"$f":"IF(OR(ISBLANK(L2819),ISBLANK(H2819)),\"\",H2819+(VLOOKUP(L2819,garantie,2,FALSE)))","v":""}]
[2819,{"$nulls":9},{"$f":"IF(B2820=\"\",\"\",D2820&\" - \"&F2820&\" - \"&G2820)","v":""},null,{"$f":"IF(OR(ISBLANK(L2820),ISBLANK(H2820)),\"\",H2820+(VLOOKUP(L2820,garantie,2,FALSE)))","v":""}]
[2820,{"$nulls":9},{"$f":"IF(B2821=\"\",\"\",D2821&\" - \"&F2821&\" - \"&G2821)","v":""},null,{"$f":"IF(OR(ISBLANK(L2821),ISBLANK(H2821)),\"\",H2821+(VLOOKUP(L2821,garantie,2,FALSE)))","v":""}]
[2821,{"$nulls":9},{"$f":"IF(B2822=\"\",\"\",D2822&\" - \"&F2822&\" - \"&G2822)","v":""},null,{"$f":"IF(OR(ISBLANK(L2822),ISBLANK(H2822)),\"\",H2822+(VLOOKUP(L2822,garantie,2,FALSE)))","v":""}]
[2822,{"$nulls":9},{"$f":"IF(B2823=\"\",\"\",D2823&\" - \"&F2823&\" - \"&G2823)","v":""},null,{"$f":"IF(OR(ISBLANK(L2823),ISBLANK(H2823)),\"\",H2823+(VLOOKUP(L2823,garantie,2,FALSE)))","v":""}]
[2823,{"$nulls":9},{"$f":"IF(B2824=\"\",\"\",D2824&\" - \"&F2824&\" - \"&G2824)","v":""},null,{"$f":"IF(OR(ISBLANK(L2824),ISBLANK(H2824)),\"\",H2824+(VLOOKUP(L2824,garantie,2,FALSE)))","v":""}]
[2824,{"$nulls":9},{"$f":"IF(B2825=\"\",\"\",D2825&\" - \"&F2825&\" - \"&G2825)","v":""},null,{"$f":"IF(OR(ISBLANK(L2825),ISBLANK(H2825)),\"\",H2825+(VLOOKUP(L2825,garantie,2,FALSE)))","v":""}]
[2825,{"$nulls":9},{"$f":"IF(B2826=\"\",\"\",D2826&\" - \"&F2826&\" - \"&G2826)","v":""},null,{"$f":"IF(OR(ISBLANK(L2826),ISBLANK(H2826)),\"\",H2826+(VLOOKUP(L2826,garantie,2,FALSE)))","v":""}]
[2826,{"$nulls":9},{"$f":"IF(B2827=\"\",\"\",D2827&\" - \"&F2827&\" - \"&G2827)","v":""},null,{"$f":"IF(OR(ISBLANK(L2827),ISBLANK(H2827)),\"\",H2827+(VLOOKUP(L2827,garantie,2,FALSE)))","v":""}]
[2827,{"$nulls":9},{"$f":"IF(B2828=\"\",\"\",D2828&\" - \"&F2828&\" - \"&G2828)","v":""},null,{"$f":"IF(OR(ISBLANK(L2828),ISBLANK(H2828)),\"\",H2828+(VLOOKUP(L2828,garantie,2,FALSE)))","v":""}]
[2828,{"$nulls":9},{"$f":"IF(B2829=\"\",\"\",D2829&\" - \"&F2829&\" - \"&G2829)","v":""},null,{"$f":"IF(OR(ISBLANK(L2829),ISBLANK(H2829)),\"\",H2829+(VLOOKUP(L2829,garantie,2,FALSE)))","v":""}]
[2829,{"$nulls":9},{"$f":"IF(B2830=\"\",\"\",D2830&\" - \"&F2830&\" - \"&G2830)","v":""},null,{"$f":"IF(OR(ISBLANK(L2830),ISBLANK(H2830)),\"\",H2830+(VLOOKUP(L2830,garantie,2,FALSE)))","v":""}]
[2830,{"$nulls":9},{"$f":"IF(B2831=\"\",\"\",D2831&\" - \"&F2831&\" - \"&G2831)","v":""},null,{"$f":"IF(OR(ISBLANK(L2831),ISBLANK(H2831)),\"\",H2831+(VLOOKUP(L2831,garantie,2,FALSE)))","v":""}]
[2831,{"$nulls":9},{"$f":"IF(B2832=\"\",\"\",D2832&\" - \"&F2832&\" - \"&G2832)","v":""},null,{"$f":"IF(OR(ISBLANK(L2832),ISBLANK(H2832)),\"\",H2832+(VLOOKUP(L2832,garantie,2,FALSE)))","v":""}]
[2832,{"$nulls":9},{"$f":"IF(B2833=\"\",\"\",D2833&\" - \"&F2833&\" - \"&G2833)","v":""},null,{"$f":"IF(OR(ISBLANK(L2833),ISBLANK(H2833)),\"\",H2833+(VLOOKUP(L2833,garantie,2,FALSE)))","v":""}]
[2833,{"$nulls":9},{"$f":"IF(B2834=\"\",\"\",D2834&\" - \"&F2834&\" - \"&G2834)","v":""},null,{"$f":"IF(OR(ISBLANK(L2834),ISBLANK(H2834)),\"\",H2834+(VLOOKUP(L2834,garantie,2,FALSE)))","v":""}]
[2834,{"$nulls":9},{"$f":"IF(B2835=\"\",\"\",D2835&\" - \"&F2835&\" - \"&G2835)","v":""},null,{"$f":"IF(OR(ISBLANK(L2835),ISBLANK(H2835)),\"\",H2835+(VLOOKUP(L2835,garantie,2,FALSE)))","v":""}]
[2835,{"$nulls":9},{"$f":"IF(B2836=\"\",\"\",D2836&\" - \"&F2836&\" - \"&G2836)","v":""},null,{"$f":"IF(OR(ISBLANK(L2836),ISBLANK(H2836)),\"\",H2836+(VLOOKUP(L2836,garantie,2,FALSE)))","v":""}]
[2836,{"$nulls":9},{"$f":"IF(B2837=\"\",\"\",D2837&\" - \"&F2837&\" - \"&G2837)","v":""},null,{"$f":"IF(OR(ISBLANK(L2837),ISBLANK(H2837)),\"\",H2837+(VLOOKUP(L2837,garantie,2,FALSE)))","v":""}]
[2837,{"$nulls":9},{"$f":"IF(B2838=\"\",\"\",D2838&\" - \"&F2838&\" - \"&G2838)","v":""},null,{"$f":"IF(OR(ISBLANK(L2838),ISBLANK(H2838)),\"\",H2838+(VLOOKUP(L2838,garantie,2,FALSE)))","v":""}]
[2838,{"$nulls":9},{"$f":"IF(B2839=\"\",\"\",D2839&\" - \"&F2839&\" - \"&G2839)","v":""},null,{"$f":"IF(OR(ISBLANK(L2839),ISBLANK(H2839)),\"\",H2839+(VLOOKUP(L2839,garantie,2,FALSE)))","v":""}]
[2839,{"$nulls":9},{"$f":"IF(B2840=\"\",\"\",D2840&\" - \"&F2840&\" - \"&G2840)","v":""},null,{"$f":"IF(OR(ISBLANK(L2840),ISBLANK(H2840)),\"\",H2840+(VLOOKUP(L2840,garantie,2,FALSE)))","v":""}]
[2840,{"$nulls":9},{"$f":"IF(B2841=\"\",\"\",D2841&\" - \"&F2841&\" - \"&G2841)","v":""},null,{"$f":"IF(OR(ISBLANK(L2841),ISBLANK(H2841)),\"\",H2841+(VLOOKUP(L2841,garantie,2,FALSE)))","v":""}]
[2841,{"$nulls":9},{"$f":"IF(B2842=\"\",\"\",D2842&\" - \"&F2842&\" - \"&G2842)","v":""},null,{"$f":"IF(OR(ISBLANK(L2842),ISBLANK(H2842)),\"\",H2842+(VLOOKUP(L2842,garantie,2,FALSE)))","v":""}]
[2842,{"$nulls":9},{"$f":"IF(B2843=\"\",\"\",D2843&\" - \"&F2843&\" - \"&G2843)","v":""},null,{"$f":"IF(OR(ISBLANK(L2843),ISBLANK(H2843)),\"\",H2843+(VLOOKUP(L2843,garantie,2,FALSE)))","v":""}]
[2843,{"$nulls":9},{"$f":"IF(B2844=\"\",\"\",D2844&\" - \"&F2844&\" - \"&G2844)","v":""},null,{"$f":"IF(OR(ISBLANK(L2844),ISBLANK(H2844)),\"\",H2844+(VLOOKUP(L2844,garantie,2,FALSE)))","v":""}]
[2844,{"$nulls":9},{"$f":"IF(B2845=\"\",\"\",D2845&\" - \"&F2845&\" - \"&G2845)","v":""},null,{"$f":"IF(OR(ISBLANK(L2845),ISBLANK(H2845)),\"\",H2845+(VLOOKUP(L2845,garantie,2,FALSE)))","v":""}]
[2845,{"$nulls":9},{"$f":"IF(B2846=\"\",\"\",D2846&\" - \"&F2846&\" - \"&G2846)","v":""},null,{"$f":"IF(OR(ISBLANK(L2846),ISBLANK(H2846)),\"\",H2846+(VLOOKUP(L2846,garantie,2,FALSE)))","v":""}]
[2846,{"$nulls":9},{"$f":"IF(B2847=\"\",\"\",D2847&\" - \"&F2847&\" - \"&G2847)","v":""},null,{"$f":"IF(OR(ISBLANK(L2847),ISBLANK(H2847)),\"\",H2847+(VLOOKUP(L2847,garantie,2,FALSE)))","v":""}]
[2847,{"$nulls":9},{"$f":"IF(B2848=\"\",\"\",D2848&\" - \"&F2848&\" - \"&G2848)","v":""},null,{"$f":"IF(OR(ISBLANK(L2848),ISBLANK(H2848)),\"\",H2848+(VLOOKUP(L2848,garantie,2,FALSE)))","v":""}]
[2848,{"$nulls":9},{"$f":"IF(B2849=\"\",\"\",D2849&\" - \"&F2849&\" - \"&G2849)","v":""},null,{"$f":"IF(OR(ISBLANK(L2849),ISBLANK(H2849)),\"\",H2849+(VLOOKUP(L2849,garantie,2,FALSE)))","v":""}]
[2849,{"$nulls":9},{"$f":"IF(B2850=\"\",\"\",D2850&\" - \"&F2850&\" - \"&G2850)","v":""},null,{"$f":"IF(OR(ISBLANK(L2850),ISBLANK(H2850)),\"\",H2850+(VLOOKUP(L2850,garantie,2,FALSE)))","v":""}]
[2850,{"$nulls":9},{"$f":"IF(B2851=\"\",\"\",D2851&\" - \"&F2851&\" - \"&G2851)","v":""},null,{"$f":"IF(OR(ISBLANK(L2851),ISBLANK(H2851)),\"\",H2851+(VLOOKUP(L2851,garantie,2,FALSE)))","v":""}]
[2851,{"$nulls":9},{"$f":"IF(B2852=\"\",\"\",D2852&\" - \"&F2852&\" - \"&G2852)","v":""},null,{"$f":"IF(OR(ISBLANK(L2852),ISBLANK(H2852)),\"\",H2852+(VLOOKUP(L2852,garantie,2,FALSE)))","v":""}]
[2852,{"$nulls":9},{"$f":"IF(B2853=\"\",\"\",D2853&\" - \"&F2853&\" - \"&G2853)","v":""},null,{"$f":"IF(OR(ISBLANK(L2853),ISBLANK(H2853)),\"\",H2853+(VLOOKUP(L2853,garantie,2,FALSE)))","v":""}]
[2853,{"$nulls":9},{"$f":"IF(B2854=\"\",\"\",D2854&\" - \"&F2854&\" - \"&G2854)","v":""},null,{"$f":"IF(OR(ISBLANK(L2854),ISBLANK(H2854)),\"\",H2854+(VLOOKUP(L2854,garantie,2,FALSE)))","v":""}]
[2854,{"$nulls":9},{"$f":"IF(B2855=\"\",\"\",D2855&\" - \"&F2855&\" - \"&G2855)","v":""},null,{"$f":"IF(OR(ISBLANK(L2855),ISBLANK(H2855)),\"\",H2855+(VLOOKUP(L2855,garantie,2,FALSE)))","v":""}]
[2855,{"$nulls":9},{"$f":"IF(B2856=\"\",\"\",D2856&\" - \"&F2856&\" - \"&G2856)","v":""},null,{"$f":"IF(OR(ISBLANK(L2856),ISBLANK(H2856)),\"\",H2856+(VLOOKUP(L2856,garantie,2,FALSE)))","v":""}]
[2856,{"$nulls":9},{"$f":"IF(B2857=\"\",\"\",D2857&\" - \"&F2857&\" - \"&G2857)","v":""},null,{"$f":"IF(OR(ISBLANK(L2857),ISBLANK(H2857)),\"\",H2857+(VLOOKUP(L2857,garantie,2,FALSE)))","v":""}]
[2857,{"$nulls":9},{"$f":"IF(B2858=\"\",\"\",D2858&\" - \"&F2858&\" - \"&G2858)","v":""},null,{"$f":"IF(OR(ISBLANK(L2858),ISBLANK(H2858)),\"\",H2858+(VLOOKUP(L2858,garantie,2,FALSE)))","v":""}]
[2858,{"$nulls":9},{"$f":"IF(B2859=\"\",\"\",D2859&\" - \"&F2859&\" - \"&G2859)","v":""},null,{"$f":"IF(OR(ISBLANK(L2859),ISBLANK(H2859)),\"\",H2859+(VLOOKUP(L2859,garantie,2,FALSE)))","v":""}]
[2859,{"$nulls":9},{"$f":"IF(B2860=\"\",\"\",D2860&\" - \"&F2860&\" - \"&G2860)","v":""},null,{"$f":"IF(OR(ISBLANK(L2860),ISBLANK(H2860)),\"\",H2860+(VLOOKUP(L2860,garantie,2,FALSE)))","v":""}]
[2860,{"$nulls":9},{"$f":"IF(B2861=\"\",\"\",D2861&\" - \"&F2861&\" - \"&G2861)","v":""},null,{"$f":"IF(OR(ISBLANK(L2861),ISBLANK(H2861)),\"\",H2861+(VLOOKUP(L2861,garantie,2,FALSE)))","v":""}]
[2861,{"$nulls":9},{"$f":"IF(B2862=\"\",\"\",D2862&\" - \"&F2862&\" - \"&G2862)","v":""},null,{"$f":"IF(OR(ISBLANK(L2862),ISBLANK(H2862)),\"\",H2862+(VLOOKUP(L2862,garantie,2,FALSE)))","v":""}]
[2862,{"$nulls":9},{"$f":"IF(B2863=\"\",\"\",D2863&\" - \"&F2863&\" - \"&G2863)","v":""},null,{"$f":"IF(OR(ISBLANK(L2863),ISBLANK(H2863)),\"\",H2863+(VLOOKUP(L2863,garantie,2,FALSE)))","v":""}]
[2863,{"$nulls":9},{"$f":"IF(B2864=\"\",\"\",D2864&\" - \"&F2864&\" - \"&G2864)","v":""},null,{"$f":"IF(OR(ISBLANK(L2864),ISBLANK(H2864)),\"\",H2864+(VLOOKUP(L2864,garantie,2,FALSE)))","v":""}]
[2864,{"$nulls":9},{"$f":"IF(B2865=\"\",\"\",D2865&\" - \"&F2865&\" - \"&G2865)","v":""},null,{"$f":"IF(OR(ISBLANK(L2865),ISBLANK(H2865)),\"\",H2865+(VLOOKUP(L2865,garantie,2,FALSE)))","v":""}]
[2865,{"$nulls":9},{"$f":"IF(B2866=\"\",\"\",D2866&\" - \"&F2866&\" - \"&G2866)","v":""},null,{"$f":"IF(OR(ISBLANK(L2866),ISBLANK(H2866)),\"\",H2866+(VLOOKUP(L2866,garantie,2,FALSE)))","v":""}]
[2866,{"$nulls":9},{"$f":"IF(B2867=\"\",\"\",D2867&\" - \"&F2867&\" - \"&G2867)","v":""},null,{"$f":"IF(OR(ISBLANK(L2867),ISBLANK(H2867)),\"\",H2867+(VLOOKUP(L2867,garantie,2,FALSE)))","v":""}]
[2867,{"$nulls":9},{"$f":"IF(B2868=\"\",\"\",D2868&\" - \"&F2868&\" - \"&G2868)","v":""},null,{"$f":"IF(OR(ISBLANK(L2868),ISBLANK(H2868)),\"\",H2868+(VLOOKUP(L2868,garantie,2,FALSE)))","v":""}]
[2868,{"$nulls":9},{"$f":"IF(B2869=\"\",\"\",D2869&\" - \"&F2869&\" - \"&G2869)","v":""},null,{"$f":"IF(OR(ISBLANK(L2869),ISBLANK(H2869)),\"\",H2869+(VLOOKUP(L2869,garantie,2,FALSE)))","v":""}]
[2869,{"$nulls":9},{"$f":"IF(B2870=\"\",\"\",D2870&\" - \"&F2870&\" - \"&G2870)","v":""},null,{"$f":"IF(OR(ISBLANK(L2870),ISBLANK(H2870)),\"\",H2870+(VLOOKUP(L2870,garantie,2,FALSE)))","v":""}]
[2870,{"$nulls":9},{"$f":"IF(B2871=\"\",\"\",D2871&\" - \"&F2871&\" - \"&G2871)","v":""},null,{"$f":"IF(OR(ISBLANK(L2871),ISBLANK(H2871)),\"\",H2871+(VLOOKUP(L2871,garantie,2,FALSE)))","v":""}]
[2871,{"$nulls":9},{"$f":"IF(B2872=\"\",\"\",D2872&\" - \"&F2872&\" - \"&G2872)","v":""},null,{"$f":"IF(OR(ISBLANK(L2872),ISBLANK(H2872)),\"\",H2872+(VLOOKUP(L2872,garantie,2,FALSE)))","v":""}]
[2872,{"$nulls":9},{"$f":"IF(B2873=\"\",\"\",D2873&\" - \"&F2873&\" - \"&G2873)","v":""},null,{"$f":"IF(OR(ISBLANK(L2873),ISBLANK(H2873)),\"\",H2873+(VLOOKUP(L2873,garantie,2,FALSE)))","v":""}]
[2873,{"$nulls":9},{"$f":"IF(B2874=\"\",\"\",D2874&\" - \"&F2874&\" - \"&G2874)","v":""},null,{"$f":"IF(OR(ISBLANK(L2874),ISBLANK(H2874)),\"\",H2874+(VLOOKUP(L2874,garantie,2,FALSE)))","v":""}]
[2874,{"$nulls":9},{"$f":"IF(B2875=\"\",\"\",D2875&\" - \"&F2875&\" - \"&G2875)","v":""},null,{"$f":"IF(OR(ISBLANK(L2875),ISBLANK(H2875)),\"\",H2875+(VLOOKUP(L2875,garantie,2,FALSE)))","v":""}]
[2875,{"$nulls":9},{"$f":"IF(B2876=\"\",\"\",D2876&\" - \"&F2876&\" - \"&G2876)","v":""},null,{"$f":"IF(OR(ISBLANK(L2876),ISBLANK(H2876)),\"\",H2876+(VLOOKUP(L2876,garantie,2,FALSE)))","v":""}]
[2876,{"$nulls":9},{"$f":"IF(B2877=\"\",\"\",D2877&\" - \"&F2877&\" - \"&G2877)","v":""},null,{"$f":"IF(OR(ISBLANK(L2877),ISBLANK(H2877)),\"\",H2877+(VLOOKUP(L2877,garantie,2,FALSE)))","v":""}]
[2877,{"$nulls":9},{"$f":"IF(B2878=\"\",\"\",D2878&\" - \"&F2878&\" - \"&G2878)","v":""},null,{"$f":"IF(OR(ISBLANK(L2878),ISBLANK(H2878)),\"\",H2878+(VLOOKUP(L2878,garantie,2,FALSE)))","v":""}]
[2878,{"$nulls":9},{"$f":"IF(B2879=\"\",\"\",D2879&\" - \"&F2879&\" - \"&G2879)","v":""},null,{"$f":"IF(OR(ISBLANK(L2879),ISBLANK(H2879)),\"\",H2879+(VLOOKUP(L2879,garantie,2,FALSE)))","v":""}]
[2879,{"$nulls":9},{"$f":"IF(B2880=\"\",\"\",D2880&\" - \"&F2880&\" - \"&G2880)","v":""},null,{"$f":"IF(OR(ISBLANK(L2880),ISBLANK(H2880)),\"\",H2880+(VLOOKUP(L2880,garantie,2,FALSE)))","v":""}]
[2880,{"$nulls":9},{"$f":"IF(B2881=\"\",\"\",D2881&\" - \"&F2881&\" - \"&G2881)","v":""},null,{"$f":"IF(OR(ISBLANK(L2881),ISBLANK(H2881)),\"\",H2881+(VLOOKUP(L2881,garantie,2,FALSE)))","v":""}]
[2881,{"$nulls":9},{"$f":"IF(B2882=\"\",\"\",D2882&\" - \"&F2882&\" - \"&G2882)","v":""},null,{"$f":"IF(OR(ISBLANK(L2882),ISBLANK(H2882)),\"\",H2882+(VLOOKUP(L2882,garantie,2,FALSE)))","v":""}]
[2882,{"$nulls":9},{"$f":"IF(B2883=\"\",\"\",D2883&\" - \"&F2883&\" - \"&G2883)","v":""},null,{"$f":"IF(OR(ISBLANK(L2883),ISBLANK(H2883)),\"\",H2883+(VLOOKUP(L2883,garantie,2,FALSE)))","v":""}]
[2883,{"$nulls":9},{"$f":"IF(B2884=\"\",\"\",D2884&\" - \"&F2884&\" - \"&G2884)","v":""},null,{"$f":"IF(OR(ISBLANK(L2884),ISBLANK(H2884)),\"\",H2884+(VLOOKUP(L2884,garantie,2,FALSE)))","v":""}]
[2884,{"$nulls":9},{"$f":"IF(B2885=\"\",\"\",D2885&\" - \"&F2885&\" - \"&G2885)","v":""},null,{"$f":"IF(OR(ISBLANK(L2885),ISBLANK(H2885)),\"\",H2885+(VLOOKUP(L2885,garantie,2,FALSE)))","v":""}]
[2885,{"$nulls":9},{"$f":"IF(B2886=\"\",\"\",D2886&\" - \"&F2886&\" - \"&G2886)","v":""},null,{"$f":"IF(OR(ISBLANK(L2886),ISBLANK(H2886)),\"\",H2886+(VLOOKUP(L2886,garantie,2,FALSE)))","v":""}]
[2886,{"$nulls":9},{"$f":"IF(B2887=\"\",\"\",D2887&\" - \"&F2887&\" - \"&G2887)","v":""},null,{"$f":"IF(OR(ISBLANK(L2887),ISBLANK(H2887)),\"\",H2887+(VLOOKUP(L2887,garantie,2,FALSE)))","v":""}]
[2887,{"$nulls":9},{"$f":"IF(B2888=\"\",\"\",D2888&\" - \"&F2888&\" - \"&G2888)","v":""},null,{"$f":"IF(OR(ISBLANK(L2888),ISBLANK(H2888)),\"\",H2888+(VLOOKUP(L2888,garantie,2,FALSE)))","v":""}]
[2888,{"$nulls":9},{"$f":"IF(B2889=\"\",\"\",D2889&\" - \"&F2889&\" - \"&G2889)","v":""},null,{"$f":"IF(OR(ISBLANK(L2889),ISBLANK(H2889)),\"\",H2889+(VLOOKUP(L2889,garantie,2,FALSE)))","v":""}]
[2889,{"$nulls":9},{"$f":"IF(B2890=\"\",\"\",D2890&\" - \"&F2890&\" - \"&G2890)","v":""},null,{"$f":"IF(OR(ISBLANK(L2890),ISBLANK(H2890)),\"\",H2890+(VLOOKUP(L2890,garantie,2,FALSE)))","v":""}]
[2890,{"$nulls":9},{"$f":"IF(B2891=\"\",\"\",D2891&\" - \"&F2891&\" - \"&G2891)","v":""},null,{"$f":"IF(OR(ISBLANK(L2891),ISBLANK(H2891)),\"\",H2891+(VLOOKUP(L2891,garantie,2,FALSE)))","v":""}]
[2891,{"$nulls":9},{"$f":"IF(B2892=\"\",\"\",D2892&\" - \"&F2892&\" - \"&G2892)","v":""},null,{"$f":"IF(OR(ISBLANK(L2892),ISBLANK(H2892)),\"\",H2892+(VLOOKUP(L2892,garantie,2,FALSE)))","v":""}]
[2892,{"$nulls":9},{"$f":"IF(B2893=\"\",\"\",D2893&\" - \"&F2893&\" - \"&G2893)","v":""},null,{"$f":"IF(OR(ISBLANK(L2893),ISBLANK(H2893)),\"\",H2893+(VLOOKUP(L2893,garantie,2,FALSE)))","v":""}]
[2893,{"$nulls":9},{"$f":"IF(B2894=\"\",\"\",D2894&\" - \"&F2894&\" - \"&G2894)","v":""},null,{"$f":"IF(OR(ISBLANK(L2894),ISBLANK(H2894)),\"\",H2894+(VLOOKUP(L2894,garantie,2,FALSE)))","v":""}]
[2894,{"$nulls":9},{"$f":"IF(B2895=\"\",\"\",D2895&\" - \"&F2895&\" - \"&G2895)","v":""},null,{"$f":"IF(OR(ISBLANK(L2895),ISBLANK(H2895)),\"\",H2895+(VLOOKUP(L2895,garantie,2,FALSE)))","v":""}]
[2895,{"$nulls":9},{"$f":"IF(B2896=\"\",\"\",D2896&\" - \"&F2896&\" - \"&G2896)","v":""},null,{"$f":"IF(OR(ISBLANK(L2896),ISBLANK(H2896)),\"\",H2896+(VLOOKUP(L2896,garantie,2,FALSE)))","v":""}]
[2896,{"$nulls":9},{"$f":"IF(B2897=\"\",\"\",D2897&\" - \"&F2897&\" - \"&G2897)","v":""},null,{"$f":"IF(OR(ISBLANK(L2897),ISBLANK(H2897)),\"\",H2897+(VLOOKUP(L2897,garantie,2,FALSE)))","v":""}]
[2897,{"$nulls":9},{"$f":"IF(B2898=\"\",\"\",D2898&\" - \"&F2898&\" - \"&G2898)","v":""},null,{"$f":"IF(OR(ISBLANK(L2898),ISBLANK(H2898)),\"\",H2898+(VLOOKUP(L2898,garantie,2,FALSE)))","v":""}]
[2898,{"$nulls":9},{"$f":"IF(B2899=\"\",\"\",D2899&\" - \"&F2899&\" - \"&G2899)","v":""},null,{"$f":"IF(OR(ISBLANK(L2899),ISBLANK(H2899)),\"\",H2899+(VLOOKUP(L2899,garantie,2,FALSE)))","v":""}]
[2899,{"$nulls":9},{"$f":"IF(B2900=\"\",\"\",D2900&\" - \"&F2900&\" - \"&G2900)","v":""},null,{"$f":"IF(OR(ISBLANK(L2900),ISBLANK(H2900)),\"\",H2900+(VLOOKUP(L2900,garantie,2,FALSE)))","v":""}]
[2900,{"$nulls":9},{"$f":"IF(B2901=\"\",\"\",D2901&\" - \"&F2901&\" - \"&G2901)","v":""},null,{"$f":"IF(OR(ISBLANK(L2901),ISBLANK(H2901)),\"\",H2901+(VLOOKUP(L2901,garantie,2,FALSE)))","v":""}]
[2901,{"$nulls":9},{"$f":"IF(B2902=\"\",\"\",D2902&\" - \"&F2902&\" - \"&G2902)","v":""},null,{"$f":"IF(OR(ISBLANK(L2902),ISBLANK(H2902)),\"\",H2902+(VLOOKUP(L2902,garantie,2,FALSE)))","v":""}]
[2902,{"$nulls":9},{"$f":"IF(B2903=\"\",\"\",D2903&\" - \"&F2903&\" - \"&G2903)","v":""},null,{"$f":"IF(OR(ISBLANK(L2903),ISBLANK(H2903)),\"\",H2903+(VLOOKUP(L2903,garantie,2,FALSE)))","v":""}]
[2903,{"$nulls":9},{"$f":"IF(B2904=\"\",\"\",D2904&\" - \"&F2904&\" - \"&G2904)","v":""},null,{"$f":"IF(OR(ISBLANK(L2904),ISBLANK(H2904)),\"\",H2904+(VLOOKUP(L2904,garantie,2,FALSE)))","v":""}]
[2904,{"$nulls":9},{"$f":"IF(B2905=\"\",\"\",D2905&\" - \"&F2905&\" - \"&G2905)","v":""},null,{"$f":"IF(OR(ISBLANK(L2905),ISBLANK(H2905)),\"\",H2905+(VLOOKUP(L2905,garantie,2,FALSE)))","v":""}]
[2905,{"$nulls":9},{"$f":"IF(B2906=\"\",\"\",D2906&\" - \"&F2906&\" - \"&G2906)","v":""},null,{"$f":"IF(OR(ISBLANK(L2906),ISBLANK(H2906)),\"\",H2906+(VLOOKUP(L2906,garantie,2,FALSE)))","v":""}]
[2906,{"$nulls":9},{"$f":"IF(B2907=\"\",\"\",D2907&\" - \"&F2907&\" - \"&G2907)","v":""},null,{"$f":"IF(OR(ISBLANK(L2907),ISBLANK(H2907)),\"\",H2907+(VLOOKUP(L2907,garantie,2,FALSE)))","v":""}]
[2907,{"$nulls":9},{"$f":"IF(B2908=\"\",\"\",D2908&\" - \"&F2908&\" - \"&G2908)","v":""},null,{"$f":"IF(OR(ISBLANK(L2908),ISBLANK(H2908)),\"\",H2908+(VLOOKUP(L2908,garantie,2,FALSE)))","v":""}]
[2908,{"$nulls":9},{"$f":"IF(B2909=\"\",\"\",D2909&\" - \"&F2909&\" - \"&G2909)","v":""},null,{"$f":"IF(OR(ISBLANK(L2909),ISBLANK(H2909)),\"\",H2909+(VLOOKUP(L2909,garantie,2,FALSE)))","v":""}]
[2909,{"$nulls":9},{"$f":"IF(B2910=\"\",\"\",D2910&\" - \"&F2910&\" - \"&G2910)","v":""},null,{"$f":"IF(OR(ISBLANK(L2910),ISBLANK(H2910)),\"\",H2910+(VLOOKUP(L2910,garantie,2,FALSE)))","v":""}]
[2910,{"$nulls":9},{"$f":"IF(B2911=\"\",\"\",D2911&\" - \"&F2911&\" - \"&G2911)","v":""},null,{"$f":"IF(OR(ISBLANK(L2911),ISBLANK(H2911)),\"\",H2911+(VLOOKUP(L2911,garantie,2,FALSE)))","v":""}]
[2911,{"$nulls":9},{"$f":"IF(B2912=\"\",\"\",D2912&\" - \"&F2912&\" - \"&G2912)","v":""},null,{"$f":"IF(OR(ISBLANK(L2912),ISBLANK(H2912)),\"\",H2912+(VLOOKUP(L2912,garantie,2,FALSE)))","v":""}]
[2912,{"$nulls":9},{"$f":"IF(B2913=\"\",\"\",D2913&\" - \"&F2913&\" - \"&G2913)","v":""},null,{"$f":"IF(OR(ISBLANK(L2913),ISBLANK(H2913)),\"\",H2913+(VLOOKUP(L2913,garantie,2,FALSE)))","v":""}]
[2913,{"$nulls":9},{"$f":"IF(B2914=\"\",\"\",D2914&\" - \"&F2914&\" - \"&G2914)","v":""},null,{"$f":"IF(OR(ISBLANK(L2914),ISBLANK(H2914)),\"\",H2914+(VLOOKUP(L2914,garantie,2,FALSE)))","v":""}]
[2914,{"$nulls":9},{"$f":"IF(B2915=\"\",\"\",D2915&\" - \"&F2915&\" - \"&G2915)","v":""},null,{"$f":"IF(OR(ISBLANK(L2915),ISBLANK(H2915)),\"\",H2915+(VLOOKUP(L2915,garantie,2,FALSE)))","v":""}]
[2915,{"$nulls":9},{"$f":"IF(B2916=\"\",\"\",D2916&\" - \"&F2916&\" - \"&G2916)","v":""},null,{"$f":"IF(OR(ISBLANK(L2916),ISBLANK(H2916)),\"\",H2916+(VLOOKUP(L2916,garantie,2,FALSE)))","v":""}]
[2916,{"$nulls":9},{"$f":"IF(B2917=\"\",\"\",D2917&\" - \"&F2917&\" - \"&G2917)","v":""},null,{"$f":"IF(OR(ISBLANK(L2917),ISBLANK(H2917)),\"\",H2917+(VLOOKUP(L2917,garantie,2,FALSE)))","v":""}]
[2917,{"$nulls":9},{"$f":"IF(B2918=\"\",\"\",D2918&\" - \"&F2918&\" - \"&G2918)","v":""},null,{"$f":"IF(OR(ISBLANK(L2918),ISBLANK(H2918)),\"\",H2918+(VLOOKUP(L2918,garantie,2,FALSE)))","v":""}]
[2918,{"$nulls":9},{"$f":"IF(B2919=\"\",\"\",D2919&\" - \"&F2919&\" - \"&G2919)","v":""},null,{"$f":"IF(OR(ISBLANK(L2919),ISBLANK(H2919)),\"\",H2919+(VLOOKUP(L2919,garantie,2,FALSE)))","v":""}]
[2919,{"$nulls":9},{"$f":"IF(B2920=\"\",\"\",D2920&\" - \"&F2920&\" - \"&G2920)","v":""},null,{"$f":"IF(OR(ISBLANK(L2920),ISBLANK(H2920)),\"\",H2920+(VLOOKUP(L2920,garantie,2,FALSE)))","v":""}]
[2920,{"$nulls":9},{"$f":"IF(B2921=\"\",\"\",D2921&\" - \"&F2921&\" - \"&G2921)","v":""},null,{"$f":"IF(OR(ISBLANK(L2921),ISBLANK(H2921)),\"\",H2921+(VLOOKUP(L2921,garantie,2,FALSE)))","v":""}]
[2921,{"$nulls":9},{"$f":"IF(B2922=\"\",\"\",D2922&\" - \"&F2922&\" - \"&G2922)","v":""},null,{"$f":"IF(OR(ISBLANK(L2922),ISBLANK(H2922)),\"\",H2922+(VLOOKUP(L2922,garantie,2,FALSE)))","v":""}]
[2922,{"$nulls":9},{"$f":"IF(B2923=\"\",\"\",D2923&\" - \"&F2923&\" - \"&G2923)","v":""},null,{"$f":"IF(OR(ISBLANK(L2923),ISBLANK(H2923)),\"\",H2923+(VLOOKUP(L2923,garantie,2,FALSE)))","v":""}]
[2923,{"$nulls":9},{"$f":"IF(B2924=\"\",\"\",D2924&\" - \"&F2924&\" - \"&G2924)","v":""},null,{"$f":"IF(OR(ISBLANK(L2924),ISBLANK(H2924)),\"\",H2924+(VLOOKUP(L2924,garantie,2,FALSE)))","v":""}]
[2924,{"$nulls":9},{"$f":"IF(B2925=\"\",\"\",D2925&\" - \"&F2925&\" - \"&G2925)","v":""},null,{"$f":"IF(OR(ISBLANK(L2925),ISBLANK(H2925)),\"\",H2925+(VLOOKUP(L2925,garantie,2,FALSE)))","v":""}]
[2925,{"$nulls":9},{"$f":"IF(B2926=\"\",\"\",D2926&\" - \"&F2926&\" - \"&G2926)","v":""},null,{"$f":"IF(OR(ISBLANK(L2926),ISBLANK(H2926)),\"\",H2926+(VLOOKUP(L2926,garantie,2,FALSE)))","v":""}]
[2926,{"$nulls":9},{"$f":"IF(B2927=\"\",\"\",D2927&\" - \"&F2927&\" - \"&G2927)","v":""},null,{"$f":"IF(OR(ISBLANK(L2927),ISBLANK(H2927)),\"\",H2927+(VLOOKUP(L2927,garantie,2,FALSE)))","v":""}]
[2927,{"$nulls":9},{"$f":"IF(B2928=\"\",\"\",D2928&\" - \"&F2928&\" - \"&G2928)","v":""},null,{"$f":"IF(OR(ISBLANK(L2928),ISBLANK(H2928)),\"\",H2928+(VLOOKUP(L2928,garantie,2,FALSE)))","v":""}]
[2928,{"$nulls":9},{"$f":"IF(B2929=\"\",\"\",D2929&\" - \"&F2929&\" - \"&G2929)","v":""},null,{"$f":"IF(OR(ISBLANK(L2929),ISBLANK(H2929)),\"\",H2929+(VLOOKUP(L2929,garantie,2,FALSE)))","v":""}]
[2929,{"$nulls":9},{"$f":"IF(B2930=\"\",\"\",D2930&\" - \"&F2930&\" - \"&G2930)","v":""},null,{"$f":"IF(OR(ISBLANK(L2930),ISBLANK(H2930)),\"\",H2930+(VLOOKUP(L2930,garantie,2,FALSE)))","v":""}]
[2930,{"$nulls":9},{"$f":"IF(B2931=\"\",\"\",D2931&\" - \"&F2931&\" - \"&G2931)","v":""},null,{"$f":"IF(OR(ISBLANK(L2931),ISBLANK(H2931)),\"\",H2931+(VLOOKUP(L2931,garantie,2,FALSE)))","v":""}]
[2931,{"$nulls":9},{"$f":"IF(B2932=\"\",\"\",D2932&\" - \"&F2932&\" - \"&G2932)","v":""},null,{"$f":"IF(OR(ISBLANK(L2932),ISBLANK(H2932)),\"\",H2932+(VLOOKUP(L2932,garantie,2,FALSE)))","v":""}]
[2932,{"$nulls":9},{"$f":"IF(B2933=\"\",\"\",D2933&\" - \"&F2933&\" - \"&G2933)","v":""},null,{"$f":"IF(OR(ISBLANK(L2933),ISBLANK(H2933)),\"\",H2933+(VLOOKUP(L2933,garantie,2,FALSE)))","v":""}]
[2933,{"$nulls":9},{"$f":"IF(B2934=\"\",\"\",D2934&\" - \"&F2934&\" - \"&G2934)","v":""},null,{"$f":"IF(OR(ISBLANK(L2934),ISBLANK(H2934)),\"\",H2934+(VLOOKUP(L2934,garantie,2,FALSE)))","v":""}]
[2934,{"$nulls":9},{"$f":"IF(B2935=\"\",\"\",D2935&\" - \"&F2935&\" - \"&G2935)","v":""},null,{"$f":"IF(OR(ISBLANK(L2935),ISBLANK(H2935)),\"\",H2935+(VLOOKUP(L2935,garantie,2,FALSE)))","v":""}]
[2935,{"$nulls":9},{"$f":"IF(B2936=\"\",\"\",D2936&\" - \"&F2936&\" - \"&G2936)","v":""},null,{"$f":"IF(OR(ISBLANK(L2936),ISBLANK(H2936)),\"\",H2936+(VLOOKUP(L2936,garantie,2,FALSE)))","v":""}]
[2936,{"$nulls":9},{"$f":"IF(B2937=\"\",\"\",D2937&\" - \"&F2937&\" - \"&G2937)","v":""},null,{"$f":"IF(OR(ISBLANK(L2937),ISBLANK(H2937)),\"\",H2937+(VLOOKUP(L2937,garantie,2,FALSE)))","v":""}]
[2937,{"$nulls":9},{"$f":"IF(B2938=\"\",\"\",D2938&\" - \"&F2938&\" - \"&G2938)","v":""},null,{"$f":"IF(OR(ISBLANK(L2938),ISBLANK(H2938)),\"\",H2938+(VLOOKUP(L2938,garantie,2,FALSE)))","v":""}]
[2938,{"$nulls":9},{"$f":"IF(B2939=\"\",\"\",D2939&\" - \"&F2939&\" - \"&G2939)","v":""},null,{"$f":"IF(OR(ISBLANK(L2939),ISBLANK(H2939)),\"\",H2939+(VLOOKUP(L2939,garantie,2,FALSE)))","v":""}]
[2939,{"$nulls":9},{"$f":"IF(B2940=\"\",\"\",D2940&\" - \"&F2940&\" - \"&G2940)","v":""},null,{"$f":"IF(OR(ISBLANK(L2940),ISBLANK(H2940)),\"\",H2940+(VLOOKUP(L2940,garantie,2,FALSE)))","v":""}]
[2940,{"$nulls":9},{"$f":"IF(B2941=\"\",\"\",D2941&\" - \"&F2941&\" - \"&G2941)","v":""},null,{"$f":"IF(OR(ISBLANK(L2941),ISBLANK(H2941)),\"\",H2941+(VLOOKUP(L2941,garantie,2,FALSE)))","v":""}]
[2941,{"$nulls":9},{"$f":"IF(B2942=\"\",\"\",D2942&\" - \"&F2942&\" - \"&G2942)","v":""},null,{"$f":"IF(OR(ISBLANK(L2942),ISBLANK(H2942)),\"\",H2942+(VLOOKUP(L2942,garantie,2,FALSE)))","v":""}]
[2942,{"$nulls":9},{"$f":"IF(B2943=\"\",\"\",D2943&\" - \"&F2943&\" - \"&G2943)","v":""},null,{"$f":"IF(OR(ISBLANK(L2943),ISBLANK(H2943)),\"\",H2943+(VLOOKUP(L2943,garantie,2,FALSE)))","v":""}]
[2943,{"$nulls":9},{"$f":"IF(B2944=\"\",\"\",D2944&\" - \"&F2944&\" - \"&G2944)","v":""},null,{"$f":"IF(OR(ISBLANK(L2944),ISBLANK(H2944)),\"\",H2944+(VLOOKUP(L2944,garantie,2,FALSE)))","v":""}]
[2944,{"$nulls":9},{"$f":"IF(B2945=\"\",\"\",D2945&\" - \"&F2945&\" - \"&G2945)","v":""},null,{"$f":"IF(OR(ISBLANK(L2945),ISBLANK(H2945)),\"\",H2945+(VLOOKUP(L2945,garantie,2,FALSE)))","v":""}]
[2945,{"$nulls":9},{"$f":"IF(B2946=\"\",\"\",D2946&\" - \"&F2946&\" - \"&G2946)","v":""},null,{"$f":"IF(OR(ISBLANK(L2946),ISBLANK(H2946)),\"\",H2946+(VLOOKUP(L2946,garantie,2,FALSE)))","v":""}]
[2946,{"$nulls":9},{"$f":"IF(B2947=\"\",\"\",D2947&\" - \"&F2947&\" - \"&G2947)","v":""},null,{"$f":"IF(OR(ISBLANK(L2947),ISBLANK(H2947)),\"\",H2947+(VLOOKUP(L2947,garantie,2,FALSE)))","v":""}]
[2947,{"$nulls":9},{"$f":"IF(B2948=\"\",\"\",D2948&\" - \"&F2948&\" - \"&G2948)","v":""},null,{"$f":"IF(OR(ISBLANK(L2948),ISBLANK(H2948)),\"\",H2948+(VLOOKUP(L2948,garantie,2,FALSE)))","v":""}]
[2948,{"$nulls":9},{"$f":"IF(B2949=\"\",\"\",D2949&\" - \"&F2949&\" - \"&G2949)","v":""},null,{"$f":"IF(OR(ISBLANK(L2949),ISBLANK(H2949)),\"\",H2949+(VLOOKUP(L2949,garantie,2,FALSE)))","v":""}]
[2949,{"$nulls":9},{"$f":"IF(B2950=\"\",\"\",D2950&\" - \"&F2950&\" - \"&G2950)","v":""},null,{"$f":"IF(OR(ISBLANK(L2950),ISBLANK(H2950)),\"\",H2950+(VLOOKUP(L2950,garantie,2,FALSE)))","v":""}]
[2950,{"$nulls":9},{"$f":"IF(B2951=\"\",\"\",D2951&\" - \"&F2951&\" - \"&G2951)","v":""},null,{"$f":"IF(OR(ISBLANK(L2951),ISBLANK(H2951)),\"\",H2951+(VLOOKUP(L2951,garantie,2,FALSE)))","v":""}]
[2951,{"$nulls":9},{"$f":"IF(B2952=\"\",\"\",D2952&\" - \"&F2952&\" - \"&G2952)","v":""},null,{"$f":"IF(OR(ISBLANK(L2952),ISBLANK(H2952)),\"\",H2952+(VLOOKUP(L2952,garantie,2,FALSE)))","v":""}]
[2952,{"$nulls":9},{"$f":"IF(B2953=\"\",\"\",D2953&\" - \"&F2953&\" - \"&G2953)","v":""},null,{"$f":"IF(OR(ISBLANK(L2953),ISBLANK(H2953)),\"\",H2953+(VLOOKUP(L2953,garantie,2,FALSE)))","v":""}]
[2953,{"$nulls":9},{"$f":"IF(B2954=\"\",\"\",D2954&\" - \"&F2954&\" - \"&G2954)","v":""},null,{"$f":"IF(OR(ISBLANK(L2954),ISBLANK(H2954)),\"\",H2954+(VLOOKUP(L2954,garantie,2,FALSE)))","v":""}]
[2954,{"$nulls":9},{"$f":"IF(B2955=\"\",\"\",D2955&\" - \"&F2955&\" - \"&G2955)","v":""},null,{"$f":"IF(OR(ISBLANK(L2955),ISBLANK(H2955)),\"\",H2955+(VLOOKUP(L2955,garantie,2,FALSE)))","v":""}]
[2955,{"$nulls":9},{"$f":"IF(B2956=\"\",\"\",D2956&\" - \"&F2956&\" - \"&G2956)","v":""},null,{"$f":"IF(OR(ISBLANK(L2956),ISBLANK(H2956)),\"\",H2956+(VLOOKUP(L2956,garantie,2,FALSE)))","v":""}]
[2956,{"$nulls":9},{"$f":"IF(B2957=\"\",\"\",D2957&\" - \"&F2957&\" - \"&G2957)","v":""},null,{"$f":"IF(OR(ISBLANK(L2957),ISBLANK(H2957)),\"\",H2957+(VLOOKUP(L2957,garantie,2,FALSE)))","v":""}]
[2957,{"$nulls":9},{"$f":"IF(B2958=\"\",\"\",D2958&\" - \"&F2958&\" - \"&G2958)","v":""},null,{"$f":"IF(OR(ISBLANK(L2958),ISBLANK(H2958)),\"\",H2958+(VLOOKUP(L2958,garantie,2,FALSE)))","v":""}]
[2958,{"$nulls":9},{"$f":"IF(B2959=\"\",\"\",D2959&\" - \"&F2959&\" - \"&G2959)","v":""},null,{"$f":"IF(OR(ISBLANK(L2959),ISBLANK(H2959)),\"\",H2959+(VLOOKUP(L2959,garantie,2,FALSE)))","v":""}]
[2959,{"$nulls":9},{"$f":"IF(B2960=\"\",\"\",D2960&\" - \"&F2960&\" - \"&G2960)","v":""},null,{"$f":"IF(OR(ISBLANK(L2960),ISBLANK(H2960)),\"\",H2960+(VLOOKUP(L2960,garantie,2,FALSE)))","v":""}]
[2960,{"$nulls":9},{"$f":"IF(B2961=\"\",\"\",D2961&\" - \"&F2961&\" - \"&G2961)","v":""},null,{"$f":"IF(OR(ISBLANK(L2961),ISBLANK(H2961)),\"\",H2961+(VLOOKUP(L2961,garantie,2,FALSE)))","v":""}]
[2961,{"$nulls":9},{"$f":"IF(B2962=\"\",\"\",D2962&\" - \"&F2962&\" - \"&G2962)","v":""},null,{"$f":"IF(OR(ISBLANK(L2962),ISBLANK(H2962)),\"\",H2962+(VLOOKUP(L2962,garantie,2,FALSE)))","v":""}]
[2962,{"$nulls":9},{"$f":"IF(B2963=\"\",\"\",D2963&\" - \"&F2963&\" - \"&G2963)","v":""},null,{"$f":"IF(OR(ISBLANK(L2963),ISBLANK(H2963)),\"\",H2963+(VLOOKUP(L2963,garantie,2,FALSE)))","v":""}]
[2963,{"$nulls":9},{"$f":"IF(B2964=\"\",\"\",D2964&\" - \"&F2964&\" - \"&G2964)","v":""},null,{"$f":"IF(OR(ISBLANK(L2964),ISBLANK(H2964)),\"\",H2964+(VLOOKUP(L2964,garantie,2,FALSE)))","v":""}]
[2964,{"$nulls":9},{"$f":"IF(B2965=\"\",\"\",D2965&\" - \"&F2965&\" - \"&G2965)","v":""},null,{"$f":"IF(OR(ISBLANK(L2965),ISBLANK(H2965)),\"\",H2965+(VLOOKUP(L2965,garantie,2,FALSE)))","v":""}]
[2965,{"$nulls":9},{"$f":"IF(B2966=\"\",\"\",D2966&\" - \"&F2966&\" - \"&G2966)","v":""},null,{"$f":"IF(OR(ISBLANK(L2966),ISBLANK(H2966)),\"\",H2966+(VLOOKUP(L2966,garantie,2,FALSE)))","v":""}]
[2966,{"$nulls":9},{"$f":"IF(B2967=\"\",\"\",D2967&\" - \"&F2967&\" - \"&G2967)","v":""},null,{"$f":"IF(OR(ISBLANK(L2967),ISBLANK(H2967)),\"\",H2967+(VLOOKUP(L2967,garantie,2,FALSE)))","v":""}]
[2967,{"$nulls":9},{"$f":"IF(B2968=\"\",\"\",D2968&\" - \"&F2968&\" - \"&G2968)","v":""},null,{"$f":"IF(OR(ISBLANK(L2968),ISBLANK(H2968)),\"\",H2968+(VLOOKUP(L2968,garantie,2,FALSE)))","v":""}]
[2968,{"$nulls":9},{"$f":"IF(B2969=\"\",\"\",D2969&\" - \"&F2969&\" - \"&G2969)","v":""},null,{"$f":"IF(OR(ISBLANK(L2969),ISBLANK(H2969)),\"\",H2969+(VLOOKUP(L2969,garantie,2,FALSE)))","v":""}]
[2969,{"$nulls":9},{"$f":"IF(B2970=\"\",\"\",D2970&\" - \"&F2970&\" - \"&G2970)","v":""},null,{"$f":"IF(OR(ISBLANK(L2970),ISBLANK(H2970)),\"\",H2970+(VLOOKUP(L2970,garantie,2,FALSE)))","v":""}]
[2970,{"$nulls":9},{"$f":"IF(B2971=\"\",\"\",D2971&\" - \"&F2971&\" - \"&G2971)","v":""},null,{"$f":"IF(OR(ISBLANK(L2971),ISBLANK(H2971)),\"\",H2971+(VLOOKUP(L2971,garantie,2,FALSE)))","v":""}]
[2971,{"$nulls":9},{"$f":"IF(B2972=\"\",\"\",D2972&\" - \"&F2972&\" - \"&G2972)","v":""},null,{"$f":"IF(OR(ISBLANK(L2972),ISBLANK(H2972)),\"\",H2972+(VLOOKUP(L2972,garantie,2,FALSE)))","v":""}]
[2972,{"$nulls":9},{"$f":"IF(B2973=\"\",\"\",D2973&\" - \"&F2973&\" - \"&G2973)","v":""},null,{"$f":"IF(OR(ISBLANK(L2973),ISBLANK(H2973)),\"\",H2973+(VLOOKUP(L2973,garantie,2,FALSE)))","v":""}]
[2973,{"$nulls":9},{"$f":"IF(B2974=\"\",\"\",D2974&\" - \"&F2974&\" - \"&G2974)","v":""},null,{"$f":"IF(OR(ISBLANK(L2974),ISBLANK(H2974)),\"\",H2974+(VLOOKUP(L2974,garantie,2,FALSE)))","v":""}]
[2974,{"$nulls":9},{"$f":"IF(B2975=\"\",\"\",D2975&\" - \"&F2975&\" - \"&G2975)","v":""},null,{"$f":"IF(OR(ISBLANK(L2975),ISBLANK(H2975)),\"\",H2975+(VLOOKUP(L2975,garantie,2,FALSE)))","v":""}]
[2975,{"$nulls":9},{"$f":"IF(B2976=\"\",\"\",D2976&\" - \"&F2976&\" - \"&G2976)","v":""},null,{"$f":"IF(OR(ISBLANK(L2976),ISBLANK(H2976)),\"\",H2976+(VLOOKUP(L2976,garantie,2,FALSE)))","v":""}]
[2976,{"$nulls":9},{"$f":"IF(B2977=\"\",\"\",D2977&\" - \"&F2977&\" - \"&G2977)","v":""},null,{"$f":"IF(OR(ISBLANK(L2977),ISBLANK(H2977)),\"\",H2977+(VLOOKUP(L2977,garantie,2,FALSE)))","v":""}]
[2977,{"$nulls":9},{"$f":"IF(B2978=\"\",\"\",D2978&\" - \"&F2978&\" - \"&G2978)","v":""},null,{"$f":"IF(OR(ISBLANK(L2978),ISBLANK(H2978)),\"\",H2978+(VLOOKUP(L2978,garantie,2,FALSE)))","v":""}]
[2978,{"$nulls":9},{"$f":"IF(B2979=\"\",\"\",D2979&\" - \"&F2979&\" - \"&G2979)","v":""},null,{"$f":"IF(OR(ISBLANK(L2979),ISBLANK(H2979)),\"\",H2979+(VLOOKUP(L2979,garantie,2,FALSE)))","v":""}]
[2979,{"$nulls":9},{"$f":"IF(B2980=\"\",\"\",D2980&\" - \"&F2980&\" - \"&G2980)","v":""},null,{"$f":"IF(OR(ISBLANK(L2980),ISBLANK(H2980)),\"\",H2980+(VLOOKUP(L2980,garantie,2,FALSE)))","v":""}]
[2980,{"$nulls":9},{"$f":"IF(B2981=\"\",\"\",D2981&\" - \"&F2981&\" - \"&G2981)","v":""},null,{"$f":"IF(OR(ISBLANK(L2981),ISBLANK(H2981)),\"\",H2981+(VLOOKUP(L2981,garantie,2,FALSE)))","v":""}]
[2981,{"$nulls":9},{"$f":"IF(B2982=\"\",\"\",D2982&\" - \"&F2982&\" - \"&G2982)","v":""},null,{"$f":"IF(OR(ISBLANK(L2982),ISBLANK(H2982)),\"\",H2982+(VLOOKUP(L2982,garantie,2,FALSE)))","v":""}]
[2982,{"$nulls":9},{"$f":"IF(B2983=\"\",\"\",D2983&\" - \"&F2983&\" - \"&G2983)","v":""},null,{"$f":"IF(OR(ISBLANK(L2983),ISBLANK(H2983)),\"\",H2983+(VLOOKUP(L2983,garantie,2,FALSE)))","v":""}]
[2983,{"$nulls":9},{"$f":"IF(B2984=\"\",\"\",D2984&\" - \"&F2984&\" - \"&G2984)","v":""},null,{"$f":"IF(OR(ISBLANK(L2984),ISBLANK(H2984)),\"\",H2984+(VLOOKUP(L2984,garantie,2,FALSE)))","v":""}]
[2984,{"$nulls":9},{"$f":"IF(B2985=\"\",\"\",D2985&\" - \"&F2985&\" - \"&G2985)","v":""},null,{"$f":"IF(OR(ISBLANK(L2985),ISBLANK(H2985)),\"\",H2985+(VLOOKUP(L2985,garantie,2,FALSE)))","v":""}]
[2985,{"$nulls":9},{"$f":"IF(B2986=\"\",\"\",D2986&\" - \"&F2986&\" - \"&G2986)","v":""},null,{"$f":"IF(OR(ISBLANK(L2986),ISBLANK(H2986)),\"\",H2986+(VLOOKUP(L2986,garantie,2,FALSE)))","v":""}]
[2986,{"$nulls":9},{"$f":"IF(B2987=\"\",\"\",D2987&\" - \"&F2987&\" - \"&G2987)","v":""},null,{"$f":"IF(OR(ISBLANK(L2987),ISBLANK(H2987)),\"\",H2987+(VLOOKUP(L2987,garantie,2,FALSE)))","v":""}]
[2987,{"$nulls":9},{"$f":"IF(B2988=\"\",\"\",D2988&\" - \"&F2988&\" - \"&G2988)","v":""},null,{"$f":"IF(OR(ISBLANK(L2988),ISBLANK(H2988)),\"\",H2988+(VLOOKUP(L2988,garantie,2,FALSE)))","v":""}]
[2988,{"$nulls":9},{"$f":"IF(B2989=\"\",\"\",D2989&\" - \"&F2989&\" - \"&G2989)","v":""},null,{"$f":"IF(OR(ISBLANK(L2989),ISBLANK(H2989)),\"\",H2989+(VLOOKUP(L2989,garantie,2,FALSE)))","v":""}]
[2989,{"$nulls":9},{"$f":"IF(B2990=\"\",\"\",D2990&\" - \"&F2990&\" - \"&G2990)","v":""},null,{"$f":"IF(OR(ISBLANK(L2990),ISBLANK(H2990)),\"\",H2990+(VLOOKUP(L2990,garantie,2,FALSE)))","v":""}]
[2990,{"$nulls":9},{"$f":"IF(B2991=\"\",\"\",D2991&\" - \"&F2991&\" - \"&G2991)","v":""},null,{"$f":"IF(OR(ISBLANK(L2991),ISBLANK(H2991)),\"\",H2991+(VLOOKUP(L2991,garantie,2,FALSE)))","v":""}]
[2991,{"$nulls":9},{"$f":"IF(B2992=\"\",\"\",D2992&\" - \"&F2992&\" - \"&G2992)","v":""},null,{"$f":"IF(OR(ISBLANK(L2992),ISBLANK(H2992)),\"\",H2992+(VLOOKUP(L2992,garantie,2,FALSE)))","v":""}]
[2992,{"$nulls":9},{"$f":"IF(B2993=\"\",\"\",D2993&\" - \"&F2993&\" - \"&G2993)","v":""},null,{"$f":"IF(OR(ISBLANK(L2993),ISBLANK(H2993)),\"\",H2993+(VLOOKUP(L2993,garantie,2,FALSE)))","v":""}]
[2993,{"$nulls":9},{"$f":"IF(B2994=\"\",\"\",D2994&\" - \"&F2994&\" - \"&G2994)","v":""},null,{"$f":"IF(OR(ISBLANK(L2994),ISBLANK(H2994)),\"\",H2994+(VLOOKUP(L2994,garantie,2,FALSE)))","v":""}]
[2994,{"$nulls":9},{"$f":"IF(B2995=\"\",\"\",D2995&\" - \"&F2995&\" - \"&G2995)","v":""},null,{"$f":"IF(OR(ISBLANK(L2995),ISBLANK(H2995)),\"\",H2995+(VLOOKUP(L2995,garantie,2,FALSE)))","v":""}]
[2995,{"$nulls":9},{"$f":"IF(B2996=\"\",\"\",D2996&\" - \"&F2996&\" - \"&G2996)","v":""},null,{"$f":"IF(OR(ISBLANK(L2996),ISBLANK(H2996)),\"\",H2996+(VLOOKUP(L2996,garantie,2,FALSE)))","v":""}]
[2996,{"$nulls":9},{"$f":"IF(B2997=\"\",\"\",D2997&\" - \"&F2997&\" - \"&G2997)","v":""},null,{"$f":"IF(OR(ISBLANK(L2997),ISBLANK(H2997)),\"\",H2997+(VLOOKUP(L2997,garantie,2,FALSE)))","v":""}]
[2997,{"$nulls":9},{"$f":"IF(B2998=\"\",\"\",D2998&\" - \"&F2998&\" - \"&G2998)","v":""},null,{"$f":"IF(OR(ISBLANK(L2998),ISBLANK(H2998)),\"\",H2998+(VLOOKUP(L2998,garantie,2,FALSE)))","v":""}]
[2998,{"$nulls":9},{"$f":"IF(B2999=\"\",\"\",D2999&\" - \"&F2999&\" - \"&G2999)","v":""},null,{"$f":"IF(OR(ISBLANK(L2999),ISBLANK(H2999)),\"\",H2999+(VLOOKUP(L2999,garantie,2,FALSE)))","v":""}]
[2999,{"$nulls":9},{"$f":"IF(B3000=\"\",\"\",D3000&\" - \"&F3000&\" - \"&G3000)","v":""},null,{"$f":"IF(OR(ISBLANK(L3000),ISBLANK(H3000)),\"\",H3000+(VLOOKUP(L3000,garantie,2,FALSE)))","v":""}]
[3000,{"$nulls":9},{"$f":"IF(B3001=\"\",\"\",D3001&\" - \"&F3001&\" - \"&G3001)","v":""},null,{"$f":"IF(OR(ISBLANK(L3001),ISBLANK(H3001)),\"\",H3001+(VLOOKUP(L3001,garantie,2,FALSE)))","v":""}]

{"sheet":"AFFECTATION","index":3,"n_rows":3001,"n_cols":14,"rows_kept":3001}
[]
[null,"ENCADRANT","CHANTIER\n PRESTATION","DATE \nSORTIE","DATE \nRETOUR","MATERIEL","ETAT","EXISTE","EMPRUNTÉ \nDEPUIS LE",{"$nulls":4},"CONCATENATION"]
[{"$nulls":6},{"$f":"IF(AND(D3=\"\",E3=\"\"),\"\",IF(ISBLANK(E3),\"AFFECTÉ\",IF(H3=\"NADA\",\"ARTICLE INCONNU\",\"RENDU\")))","v":""},{"$f":"IF(B3=\"\",\"\",IFERROR(VLOOKUP(F3,RESULT,2,FALSE),\"NADA\"))","v":""},{"$f":"IF(ISBLANK(B3),\"\",IF(G3=\"rendu\",\"\",IF(D3=\"\",\"\",(TODAY()-D3)&\" jours\")))","v":""},{"$nulls":4},{"$f":"IF(SAISIE!K2=\"\",0,SAISIE!K2)","v":"Bac de nettoyage -  - "}]
[{"$nulls":6},{"$f":"IF(AND(D4=\"\",E4=\"\"),\"\",IF(ISBLANK(E4),\"SORTI\",\"\"))","v":""},{"$f":"IF(B4=\"\",\"\",IFERROR(VLOOKUP(F4,RESULT,2,FALSE),0))","v":""},{"$f":"IF(ISBLANK(B4),\"\",IF(G4=\"rendu\",\"\",IF(D4=\"\",\"\",(TODAY()-D4)&\" jours\")))","v":""},{"$nulls":4},{"$f":"IF(SAISIE!K3=\"\",0,SAISIE!K3)","v":"Carrelette - TS40 - "}]
[{"$nulls":6},{"$f":"IF(AND(D5=\"\",E5=\"\"),\"\",IF(ISBLANK(E5),\"SORTI\",\"\"))","v":""},"","",{"$nulls":4},{"$f":"IF(SAISIE!K4=\"\",0,SAISIE!K4)","v":"Carrelette - SPEED PLUS - 20150410031"}]
[{"$nulls":6},"","","",{"$nulls":4},{"$f":"IF(SAISIE!K5=\"\",0,SAISIE!K5)","v":"Carrelette -  - "}]
[{"$nulls":6},"","","",{"$nulls":4},{"$f":"IF(SAISIE!K6=\"\",0,SAISIE!K6)","v":"Carrelette - 16950 - "}]
[{"$nulls":6},"","","",{"$nulls":4},{"$f":"IF(SAISIE!K7=\"\",0,SAISIE!K7)","v":"Grattoir à déjointer -  - "}]
[{"$nulls":6},"","","",{"$nulls":4},{"$f":"IF(SAISIE!K8=\"\",0,SAISIE!K8)","v":"Maillet -  - "}]
[{"$nulls":6},"","","",{"$nulls":4},{"$f":"IF(SAISIE!K9=\"\",0,SAISIE!K9)","v":"Peigne à colle - U 20 mm - "}]
[{"$nulls":6},"","","",{"$nulls":4},{"$f":"IF(SAISIE!K10=\"\",0,SAISIE!K10)","v":"Peigne à colle - U 06 mm - "}]
[{"$nulls":6},"","","",{"$nulls":4},{"$f":"IF(SAISIE!K11=\"\",0,SAISIE!K11)","v":"Peigne à colle - U 09 mm - "}]
[{"$nulls":6},"","","",{"$nulls":4},{"$f":"IF(SAISIE!K12=\"\",0,SAISIE!K12)","v":"Pince coupe-carreaux -  - "}]
[{"$nulls":6},"","","",{"$nulls":4},{"$f":"IF(SAISIE!K13=\"\",0,SAISIE!K13)","v":"Taloche à joints -  - "}]
[{"$nulls":6},"","","",{"$nulls":4},{"$f":"IF(SAISIE!K14=\"\",0,SAISIE!K14)","v":"Taloche à joints -  - "}]
[{"$nulls":6},"","","",{"$nulls":4},{"$f":"IF(SAISIE!K15=\"\",0,SAISIE!K15)","v":"Taloche de nettoyage -  - "}]
[{"$nulls":6},"","","",{"$nulls":4},{"$f":"IF(SAISIE!K16=\"\",0,SAISIE!K16)","v":"Tenaille coupe-carreaux -  - "}]
[{"$nulls":6},"","","",{"$nulls":4},{"$f":"IF(SAISIE!K17=\"\",0,SAISIE!K17)","v":"Caisse (carrelage) -  - 001"}]
[{"$nulls":6},"","","",{"$nulls":4},{"$f":"IF(SAISIE!K18=\"\",0,SAISIE!K18)","v":"Perceuse - visseuse - 62 mm - 58934038"}]
[{"$nulls":6},"","","",{"$nulls":4},{"$f":"IF(SAISIE!K19=\"\",0,SAISIE!K19)","v":"Cisaille professionnelle -  - "}]
[{"$nulls":6},"","","",{"$nulls":4},{"$f":"IF(SAISIE!K20=\"\",0,SAISIE!K20)","v":"Pince à sertir professionnelle -  - "}]
[{"$nulls":6},"","","",{"$nulls":4},{"$f":"IF(SAISIE!K21=\"\",0,SAISIE!K21)","v":"Transporteur de plaques -  - 0660"}]
[{"$nulls":6},"","","",{"$nulls":4},{"$f":"IF(SAISIE!K22=\"\",0,SAISIE!K22)","v":"Set plaquiste -  - 001"}]
[{"$nulls":6},"","","",{"$nulls":4},{"$f":"IF(SAISIE!K23=\"\",0,SAISIE!K23)","v":"Set plaquiste -  - 002"}]
[{"$nulls":6},"","","",{"$nulls":4},{"$f":"IF(SAISIE!K24=\"\",0,SAISIE!K24)","v":"Lève-plaques -  - 19843"}]
[{"$nulls":6},"","","",{"$nulls":4},{"$f":"IF(SAISIE!K25=\"\",0,SAISIE!K25)","v":"Lève-plaques - 0660 - "}]
[{"$nulls":6},"","","",{"$nulls":4},{"$f":"IF(SAISIE!K26=\"\",0,SAISIE!K26)","v":0}]
[{"$nulls":6},"","","",{"$nulls":4},{"$f":"IF(SAISIE!K27=\"\",0,SAISIE!K27)","v":0}]
[{"$nulls":6},"","","",{"$nulls":4},{"$f":"IF(SAISIE!K28=\"\",0,SAISIE!K28)","v":0}]
[{"$nulls":6},"","","",{"$nulls":4},{"$f":"IF(SAISIE!K29=\"\",0,SAISIE!K29)","v":0}]
[{"$nulls":6},"","","",{"$nulls":4},{"$f":"IF(SAISIE!K30=\"\",0,SAISIE!K30)","v":0}]
[{"$nulls":6},"","","",{"$nulls":4},{"$f":"IF(SAISIE!K31=\"\",0,SAISIE!K31)","v":0}]
[{"$nulls":6},"","","",{"$nulls":4},{"$f":"IF(SAISIE!K32=\"\",0,SAISIE!K32)","v":0}]
[{"$nulls":6},"","","",{"$nulls":4},{"$f":"IF(SAISIE!K33=\"\",0,SAISIE!K33)","v":0}]
[{"$nulls":6},"",{"$f":"IF(B35=\"\",\"\",IFERROR(VLOOKUP(F35,RESULT,2,FALSE),0))","v":""},"",{"$nulls":4},{"$f":"IF(SAISIE!K34=\"\",0,SAISIE!K34)","v":0}]
[{"$nulls":6},"","","",{"$nulls":4},{"$f":"IF(SAISIE!K35=\"\",0,SAISIE!K35)","v":0}]
[{"$nulls":6},"","","",{"$nulls":4},{"$f":"IF(SAISIE!K36=\"\",0,SAISIE!K36)","v":0}]
[{"$nulls":6},"","","",{"$nulls":4},{"$f":"IF(SAISIE!K37=\"\",0,SAISIE!K37)","v":0}]
[{"$nulls":6},"","","",{"$nulls":4},{"$f":"IF(SAISIE!K38=\"\",0,SAISIE!K38)","v":0}]
[{"$nulls":6},"","","",{"$nulls":4},{"$f":"IF(SAISIE!K39=\"\",0,SAISIE!K39)","v":0}]
[{"$nulls":6},"","","",{"$nulls":4},{"$f":"IF(SAISIE!K40=\"\",0,SAISIE!K40)","v":0}]
[{"$nulls":6},"","","",{"$nulls":4},{"$f":"IF(SAISIE!K41=\"\",0,SAISIE!K41)","v":0}]
[{"$nulls":6},"","","",{"$nulls":4},{"$f":"IF(SAISIE!K42=\"\",0,SAISIE!K42)","v":0}]
[{"$nulls":6},"","","",{"$nulls":4},{"$f":"IF(SAISIE!K43=\"\",0,SAISIE!K43)","v":0}]
[{"$nulls":6},"","","",{"$nulls":4},{"$f":"IF(SAISIE!K44=\"\",0,SAISIE!K44)","v":0}]
[{"$nulls":6},"","","",{"$nulls":4},{"$f":"IF(SAISIE!K45=\"\",0,SAISIE!K45)","v":0}]
[{"$nulls":6},"","","",{"$nulls":4},{"$f":"IF(SAISIE!K46=\"\",0,SAISIE!K46)","v":0}]
[{"$nulls":6},"","","",{"$nulls":4},{"$f":"IF(SAISIE!K47=\"\",0,SAISIE!K47)","v":0}]
[{"$nulls":6},"","","",{"$nulls":4},{"$f":"IF(SAISIE!K48=\"\",0,SAISIE!K48)","v":0}]
[{"$nulls":6},"","","",{"$nulls":4},{"$f":"IF(SAISIE!K49=\"\",0,SAISIE!K49)","v":0}]
[{"$nulls":6},"","","",{"$nulls":4},{"$f":"IF(SAISIE!K50=\"\",0,SAISIE!K50)","v":0}]
[{"$nulls":6},"","","",{"$nulls":4},{"$f":"IF(SAISIE!K51=\"\",0,SAISIE!K51)","v":0}]
[{"$nulls":6},"","","",{"$nulls":4},{"$f":"IF(SAISIE!K52=\"\",0,SAISIE!K52)","v":0}]
[{"$nulls":6},"","","",{"$nulls":4},{"$f":"IF(SAISIE!K53=\"\",0,SAISIE!K53)","v":0}]
[{"$nulls":6},"","","",{"$nulls":4},{"$f":"IF(SAISIE!K54=\"\",0,SAISIE!K54)","v":0}]
[{"$nulls":6},"","","",{"$nulls":4},{"$f":"IF(SAISIE!K55=\"\",0,SAISIE!K55)","v":0}]
[{"$nulls":6},"","","",{"$nulls":4},{"$f":"IF(SAISIE!K56=\"\",0,SAISIE!K56)","v":0}]
[{"$nulls":6},"","","",{"$nulls":4},{"$f":"IF(SAISIE!K57=\"\",0,SAISIE!K57)","v":0}]
[{"$nulls":6},"","","",{"$nulls":4},{"$f":"IF(SAISIE!K58=\"\",0,SAISIE!K58)","v":0}]
[{"$nulls":6},"","","",{"$nulls":4},{"$f":"IF(SAISIE!K59=\"\",0,SAISIE!K59)","v":0}]
[{"$nulls":6},"","","",{"$nulls":4},{"$f":"IF(SAISIE!K60=\"\",0,SAISIE!K60)","v":0}]
[{"$nulls":6},"","","",{"$nulls":4},{"$f":"IF(SAISIE!K61=\"\",0,SAISIE!K61)","v":0}]
[{"$nulls":6},"","","",{"$nulls":4},{"$f":"IF(SAISIE!K62=\"\",0,SAISIE!K62)","v":0}]
[{"$nulls":6},"","","",{"$nulls":4},{"$f":"IF(SAISIE!K63=\"\",0,SAISIE!K63)","v":0}]
[{"$nulls":6},"","","",{"$nulls":4},{"$f":"IF(SAISIE!K64=\"\",0,SAISIE!K64)","v":0}]
[{"$nulls":6},"","","",{"$nulls":4},{"$f":"IF(SAISIE!K65=\"\",0,SAISIE!K65)","v":0}]
[{"$nulls":6},"",{"$f":"IF(B67=\"\",\"\",IFERROR(VLOOKUP(F67,RESULT,2,FALSE),0))","v":""},"",{"$nulls":4},{"$f":"IF(SAISIE!K66=\"\",0,SAISIE!K66)","v":0}]
[{"$nulls":6},"","",{"$f":"IF(ISBLANK(B68),\"\",IF(G68=\"rendu\",\"\",IF(D68=\"\",\"\",(TODAY()-D68)&\" jours\")))","v":""},{"$nulls":4},{"$f":"IF(SAISIE!K67=\"\",0,SAISIE!K67)","v":0}]
[{"$nulls":6},{"$f":"IF(AND(D69=\"\",E69=\"\"),\"\",IF(ISBLANK(E69),\"SORTI\",\"\"))","v":""},"","",{"$nulls":4},{"$f":"IF(SAISIE!K68=\"\",0,SAISIE!K68)","v":0}]
[{"$nulls":6},"","","",{"$nulls":4},{"$f":"IF(SAISIE!K69=\"\",0,SAISIE!K69)","v":0}]
[{"$nulls":6},"","","",{"$nulls":4},{"$f":"IF(SAISIE!K70=\"\",0,SAISIE!K70)","v":0}]
[{"$nulls":6},"","","",{"$nulls":4},{"$f":"IF(SAISIE!K71=\"\",0,SAISIE!K71)","v":0}]
[{"$nulls":6},"","","",{"$nulls":4},{"$f":"IF(SAISIE!K72=\"\",0,SAISIE!K72)","v":0}]
[{"$nulls":6},"","","",{"$nulls":4},{"$f":"IF(SAISIE!K73=\"\",0,SAISIE!K73)","v":0}]
[{"$nulls":6},"","","",{"$nulls":4},{"$f":"IF(SAISIE!K74=\"\",0,SAISIE!K74)","v":0}]
[{"$nulls":6},"","","",{"$nulls":4},{"$f":"IF(SAISIE!K75=\"\",0,SAISIE!K75)","v":0}]
[{"$nulls":6},"","","",{"$nulls":4},{"$f":"IF(SAISIE!K76=\"\",0,SAISIE!K76)","v":0}]
[{"$nulls":6},"","","",{"$nulls":4},{"$f":"IF(SAISIE!K77=\"\",0,SAISIE!K77)","v":0}]
[{"$nulls":6},"","","",{"$nulls":4},{"$f":"IF(SAISIE!K78=\"\",0,SAISIE!K78)","v":0}]
[{"$nulls":6},"","","",{"$nulls":4},{"$f":"IF(SAISIE!K79=\"\",0,SAISIE!K79)","v":0}]
[{"$nulls":6},"","","",{"$nulls":4},{"$f":"IF(SAISIE!K80=\"\",0,SAISIE!K80)","v":0}]
[{"$nulls":6},"","","",{"$nulls":4},{"$f":"IF(SAISIE!K81=\"\",0,SAISIE!K81)","v":0}]
[{"$nulls":6},"","","",{"$nulls":4},{"$f":"IF(SAISIE!K82=\"\",0,SAISIE!K82)","v":0}]
[{"$nulls":6},"","","",{"$nulls":4},{"$f":"IF(SAISIE!K83=\"\",0,SAISIE!K83)","v":0}]
[{"$nulls":6},"","","",{"$nulls":4},{"$f":"IF(SAISIE!K84=\"\",0,SAISIE!K84)","v":0}]
[{"$nulls":6},"","","",{"$nulls":4},{"$f":"IF(SAISIE!K85=\"\",0,SAISIE!K85)","v":0}]
[{"$nulls":6},"","","",{"$nulls":4},{"$f":"IF(SAISIE!K86=\"\",0,SAISIE!K86)","v":0}]
[{"$nulls":6},"","","",{"$nulls":4},{"$f":"IF(SAISIE!K87=\"\",0,SAISIE!K87)","v":0}]
[{"$nulls":6},"","","",{"$nulls":4},{"$f":"IF(SAISIE!K88=\"\",0,SAISIE!K88)","v":0}]
[{"$nulls":6},"","","",{"$nulls":4},{"$f":"IF(SAISIE!K89=\"\",0,SAISIE!K89)","v":0}]
[{"$nulls":6},"","","",{"$nulls":4},{"$f":"IF(SAISIE!K90=\"\",0,SAISIE!K90)","v":0}]
[{"$nulls":6},"","","",{"$nulls":4},{"$f":"IF(SAISIE!K91=\"\",0,SAISIE!K91)","v":0}]
[{"$nulls":6},"","","",{"$nulls":4},{"$f":"IF(SAISIE!K92=\"\",0,SAISIE!K92)","v":0}]
[{"$nulls":6},"","","",{"$nulls":4},{"$f":"IF(SAISIE!K93=\"\",0,SAISIE!K93)","v":0}]
[{"$nulls":6},"","","",{"$nulls":4},{"$f":"IF(SAISIE!K94=\"\",0,SAISIE!K94)","v":0}]
[{"$nulls":6},"","","",{"$nulls":4},{"$f":"IF(SAISIE!K95=\"\",0,SAISIE!K95)","v":0}]
[{"$nulls":6},"","","",{"$nulls":4},{"$f":"IF(SAISIE!K96=\"\",0,SAISIE!K96)","v":0}]
[{"$nulls":6},"","","",{"$nulls":4},{"$f":"IF(SAISIE!K97=\"\",0,SAISIE!K97)","v":0}]
[{"$nulls":6},"",{"$f":"IF(B99=\"\",\"\",IFERROR(VLOOKUP(F99,RESULT,2,FALSE),0))","v":""},"",{"$nulls":4},{"$f":"IF(SAISIE!K98=\"\",0,SAISIE!K98)","v":0}]
[{"$nulls":6},"","","",{"$nulls":4},{"$f":"IF(SAISIE!K99=\"\",0,SAISIE!K99)","v":0}]
[{"$nulls":6},"","","",{"$nulls":4},{"$f":"IF(SAISIE!K100=\"\",0,SAISIE!K100)","v":0}]
[{"$nulls":6},"","","",{"$nulls":4},{"$f":"IF(SAISIE!K101=\"\",0,SAISIE!K101)","v":0}]
[{"$nulls":6},"","","",{"$nulls":4},{"$f":"IF(SAISIE!K102=\"\",0,SAISIE!K102)","v":0}]
[{"$nulls":6},"","","",{"$nulls":4},{"$f":"IF(SAISIE!K103=\"\",0,SAISIE!K103)","v":0}]
[{"$nulls":6},"","","",{"$nulls":4},{"$f":"IF(SAISIE!K104=\"\",0,SAISIE!K104)","v":0}]
[{"$nulls":6},"","","",{"$nulls":4},{"$f":"IF(SAISIE!K105=\"\",0,SAISIE!K105)","v":0}]
[{"$nulls":6},"","","",{"$nulls":4},{"$f":"IF(SAISIE!K106=\"\",0,SAISIE!K106)","v":0}]
[{"$nulls":6},"","","",{"$nulls":4},{"$f":"IF(SAISIE!K107=\"\",0,SAISIE!K107)","v":0}]
[{"$nulls":6},"","","",{"$nulls":4},{"$f":"IF(SAISIE!K108=\"\",0,SAISIE!K108)","v":0}]
[{"$nulls":6},"","","",{"$nulls":4},{"$f":"IF(SAISIE!K109=\"\",0,SAISIE!K109)","v":0}]
[{"$nulls":6},"","","",{"$nulls":4},{"$f":"IF(SAISIE!K110=\"\",0,SAISIE!K110)","v":0}]
[{"$nulls":6},"","","",{"$nulls":4},{"$f":"IF(SAISIE!K111=\"\",0,SAISIE!K111)","v":0}]
[{"$nulls":6},"","","",{"$nulls":4},{"$f":"IF(SAISIE!K112=\"\",0,SAISIE!K112)","v":0}]
[{"$nulls":6},"","","",{"$nulls":4},{"$f":"IF(SAISIE!K113=\"\",0,SAISIE!K113)","v":0}]
[{"$nulls":6},"","","",{"$nulls":4},{"$f":"IF(SAISIE!K114=\"\",0,SAISIE!K114)","v":0}]
[{"$nulls":6},"","","",{"$nulls":4},{"$f":"IF(SAISIE!K115=\"\",0,SAISIE!K115)","v":0}]
[{"$nulls":6},"","","",{"$nulls":4},{"$f":"IF(SAISIE!K116=\"\",0,SAISIE!K116)","v":0}]
[{"$nulls":6},"","","",{"$nulls":4},{"$f":"IF(SAISIE!K117=\"\",0,SAISIE!K117)","v":0}]
[{"$nulls":6},"","","",{"$nulls":4},{"$f":"IF(SAISIE!K118=\"\",0,SAISIE!K118)","v":0}]
[{"$nulls":6},"","","",{"$nulls":4},{"$f":"IF(SAISIE!K119=\"\",0,SAISIE!K119)","v":0}]
[{"$nulls":6},"","","",{"$nulls":4},{"$f":"IF(SAISIE!K120=\"\",0,SAISIE!K120)","v":0}]
[{"$nulls":6},"","","",{"$nulls":4},{"$f":"IF(SAISIE!K121=\"\",0,SAISIE!K121)","v":0}]
[{"$nulls":6},"","","",{"$nulls":4},{"$f":"IF(SAISIE!K122=\"\",0,SAISIE!K122)","v":0}]
[{"$nulls":6},"","","",{"$nulls":4},{"$f":"IF(SAISIE!K123=\"\",0,SAISIE!K123)","v":0}]
[{"$nulls":6},"","","",{"$nulls":4},{"$f":"IF(SAISIE!K124=\"\",0,SAISIE!K124)","v":0}]
[{"$nulls":6},"","","",{"$nulls":4},{"$f":"IF(SAISIE!K125=\"\",0,SAISIE!K125)","v":0}]
[{"$nulls":6},"","","",{"$nulls":4},{"$f":"IF(SAISIE!K126=\"\",0,SAISIE!K126)","v":0}]
[{"$nulls":6},"","","",{"$nulls":4},{"$f":"IF(SAISIE!K127=\"\",0,SAISIE!K127)","v":0}]
[{"$nulls":6},"","","",{"$nulls":4},{"$f":"IF(SAISIE!K128=\"\",0,SAISIE!K128)","v":0}]
[{"$nulls":6},"","","",{"$nulls":4},{"$f":"IF(SAISIE!K129=\"\",0,SAISIE!K129)","v":0}]
[{"$nulls":6},"",{"$f":"IF(B131=\"\",\"\",IFERROR(VLOOKUP(F131,RESULT,2,FALSE),0))","v":""},"",{"$nulls":4},{"$f":"IF(SAISIE!K130=\"\",0,SAISIE!K130)","v":0}]
[{"$nulls":6},"","",{"$f":"IF(ISBLANK(B132),\"\",IF(G132=\"rendu\",\"\",IF(D132=\"\",\"\",(TODAY()-D132)&\" jours\")))","v":""},{"$nulls":4},{"$f":"IF(SAISIE!K131=\"\",0,SAISIE!K131)","v":0}]
[{"$nulls":6},{"$f":"IF(AND(D133=\"\",E133=\"\"),\"\",IF(ISBLANK(E133),\"SORTI\",\"\"))","v":""},"","",{"$nulls":4},{"$f":"IF(SAISIE!K132=\"\",0,SAISIE!K132)","v":0}]
[{"$nulls":6},"","","",{"$nulls":4},{"$f":"IF(SAISIE!K133=\"\",0,SAISIE!K133)","v":0}]
[{"$nulls":6},"","","",{"$nulls":4},{"$f":"IF(SAISIE!K134=\"\",0,SAISIE!K134)","v":0}]
[{"$nulls":6},"","","",{"$nulls":4},{"$f":"IF(SAISIE!K135=\"\",0,SAISIE!K135)","v":0}]
[{"$nulls":6},"","","",{"$nulls":4},{"$f":"IF(SAISIE!K136=\"\",0,SAISIE!K136)","v":0}]
[{"$nulls":13},{"$f":"IF(SAISIE!K137=\"\",0,SAISIE!K137)","v":0}]
[{"$nulls":13},{"$f":"IF(SAISIE!K138=\"\",0,SAISIE!K138)","v":0}]
[{"$nulls":13},{"$f":"IF(SAISIE!K139=\"\",0,SAISIE!K139)","v":0}]
[{"$nulls":13},{"$f":"IF(SAISIE!K140=\"\",0,SAISIE!K140)","v":0}]
[{"$nulls":13},{"$f":"IF(SAISIE!K141=\"\",0,SAISIE!K141)","v":0}]
[{"$nulls":13},{"$f":"IF(SAISIE!K142=\"\",0,SAISIE!K142)","v":0}]
[{"$nulls":13},{"$f":"IF(SAISIE!K143=\"\",0,SAISIE!K143)","v":0}]
[{"$nulls":13},{"$f":"IF(SAISIE!K144=\"\",0,SAISIE!K144)","v":0}]
[{"$nulls":13},{"$f":"IF(SAISIE!K145=\"\",0,SAISIE!K145)","v":0}]
[{"$nulls":13},{"$f":"IF(SAISIE!K146=\"\",0,SAISIE!K146)","v":0}]
[{"$nulls":13},{"$f":"IF(SAISIE!K147=\"\",0,SAISIE!K147)","v":0}]
[{"$nulls":13},{"$f":"IF(SAISIE!K148=\"\",0,SAISIE!K148)","v":0}]
[{"$nulls":13},{"$f":"IF(SAISIE!K149=\"\",0,SAISIE!K149)","v":0}]
[{"$nulls":13},{"$f":"IF(SAISIE!K150=\"\",0,SAISIE!K150)","v":0}]
[{"$nulls":13},{"$f":"IF(SAISIE!K151=\"\",0,SAISIE!K151)","v":0}]
[{"$nulls":13},{"$f":"IF(SAISIE!K152=\"\",0,SAISIE!K152)","v":0}]
[{"$nulls":13},{"$f":"IF(SAISIE!K153=\"\",0,SAISIE!K153)","v":0}]
[{"$nulls":13},{"$f":"IF(SAISIE!K154=\"\",0,SAISIE!K154)","v":0}]
[{"$nulls":13},{"$f":"IF(SAISIE!K155=\"\",0,SAISIE!K155)","v":0}]
[{"$nulls":13},{"$f":"IF(SAISIE!K156=\"\",0,SAISIE!K156)","v":0}]
[{"$nulls":13},{"$f":"IF(SAISIE!K157=\"\",0,SAISIE!K157)","v":0}]
[{"$nulls":13},{"$f":"IF(SAISIE!K158=\"\",0,SAISIE!K158)","v":0}]
[{"$nulls":13},{"$f":"IF(SAISIE!K159=\"\",0,SAISIE!K159)","v":0}]
[{"$nulls":13},{"$f":"IF(SAISIE!K160=\"\",0,SAISIE!K160)","v":0}]
[{"$nulls":13},{"$f":"IF(SAISIE!K161=\"\",0,SAISIE!K161)","v":0}]
[{"$nulls":13},{"$f":"IF(SAISIE!K162=\"\",0,SAISIE!K162)","v":0}]
[{"$nulls":13},{"$f":"IF(SAISIE!K163=\"\",0,SAISIE!K163)","v":0}]
[{"$nulls":13},{"$f":"IF(SAISIE!K164=\"\",0,SAISIE!K164)","v":0}]
[{"$nulls":13},{"$f":"IF(SAISIE!K165=\"\",0,SAISIE!K165)","v":0}]
[{"$nulls":13},{"$f":"IF(SAISIE!K166=\"\",0,SAISIE!K166)","v":0}]
[{"$nulls":13},{"$f":"IF(SAISIE!K167=\"\",0,SAISIE!K167)","v":0}]
[{"$nulls":13},{"$f":"IF(SAISIE!K168=\"\",0,SAISIE!K168)","v":0}]
[{"$nulls":13},{"$f":"IF(SAISIE!K169=\"\",0,SAISIE!K169)","v":0}]
[{"$nulls":13},{"$f":"IF(SAISIE!K170=\"\",0,SAISIE!K170)","v":0}]
[{"$nulls":13},{"$f":"IF(SAISIE!K171=\"\",0,SAISIE!K171)","v":0}]
[{"$nulls":13},{"$f":"IF(SAISIE!K172=\"\",0,SAISIE!K172)","v":0}]
[{"$nulls":13},{"$f":"IF(SAISIE!K173=\"\",0,SAISIE!K173)","v":0}]
[{"$nulls":13},{"$f":"IF(SAISIE!K174=\"\",0,SAISIE!K174)","v":0}]
[{"$nulls":13},{"$f":"IF(SAISIE!K175=\"\",0,SAISIE!K175)","v":0}]
[{"$nulls":13},{"$f":"IF(SAISIE!K176=\"\",0,SAISIE!K176)","v":0}]
[{"$nulls":13},{"$f":"IF(SAISIE!K177=\"\",0,SAISIE!K177)","v":0}]
[{"$nulls":13},{"$f":"IF(SAISIE!K178=\"\",0,SAISIE!K178)","v":0}]
[{"$nulls":13},{"$f":"IF(SAISIE!K179=\"\",0,SAISIE!K179)","v":0}]
[{"$nulls":13},{"$f":"IF(SAISIE!K180=\"\",0,SAISIE!K180)","v":0}]
[{"$nulls":13},{"$f":"IF(SAISIE!K181=\"\",0,SAISIE!K181)","v":0}]
[{"$nulls":13},{"$f":"IF(SAISIE!K182=\"\",0,SAISIE!K182)","v":0}]
[{"$nulls":13},{"$f":"IF(SAISIE!K183=\"\",0,SAISIE!K183)","v":0}]
[{"$nulls":13},{"$f":"IF(SAISIE!K184=\"\",0,SAISIE!K184)","v":0}]
[{"$nulls":13},{"$f":"IF(SAISIE!K185=\"\",0,SAISIE!K185)","v":0}]
[{"$nulls":13},{"$f":"IF(SAISIE!K186=\"\",0,SAISIE!K186)","v":0}]
[{"$nulls":13},{"$f":"IF(SAISIE!K187=\"\",0,SAISIE!K187)","v":0}]
[{"$nulls":13},{"$f":"IF(SAISIE!K188=\"\",0,SAISIE!K188)","v":0}]
[{"$nulls":13},{"$f":"IF(SAISIE!K189=\"\",0,SAISIE!K189)","v":0}]
[{"$nulls":13},{"$f":"IF(SAISIE!K190=\"\",0,SAISIE!K190)","v":0}]
[{"$nulls":13},{"$f":"IF(SAISIE!K191=\"\",0,SAISIE!K191)","v":0}]
[{"$nulls":13},{"$f":"IF(SAISIE!K192=\"\",0,SAISIE!K192)","v":0}]
[{"$nulls":13},{"$f":"IF(SAISIE!K193=\"\",0,SAISIE!K193)","v":0}]
[{"$nulls":13},{"$f":"IF(SAISIE!K194=\"\",0,SAISIE!K194)","v":0}]
[{"$nulls":13},{"$f":"IF(SAISIE!K195=\"\",0,SAISIE!K195)","v":0}]
[{"$nulls":13},{"$f":"IF(SAISIE!K196=\"\",0,SAISIE!K196)","v":0}]
[{"$nulls":13},{"$f":"IF(SAISIE!K197=\"\",0,SAISIE!K197)","v":0}]
[{"$nulls":13},{"$f":"IF(SAISIE!K198=\"\",0,SAISIE!K198)","v":0}]
[{"$nulls":13},{"$f":"IF(SAISIE!K199=\"\",0,SAISIE!K199)","v":0}]
[{"$nulls":13},{"$f":"IF(SAISIE!K200=\"\",0,SAISIE!K200)","v":0}]
[{"$nulls":13},{"$f":"IF(SAISIE!K201=\"\",0,SAISIE!K201)","v":0}]
[{"$nulls":13},{"$f":"IF(SAISIE!K202=\"\",0,SAISIE!K202)","v":0}]
[{"$nulls":13},{"$f":"IF(SAISIE!K203=\"\",0,SAISIE!K203)","v":0}]
[{"$nulls":13},{"$f":"IF(SAISIE!K204=\"\",0,SAISIE!K204)","v":0}]
[{"$nulls":13},{"$f":"IF(SAISIE!K205=\"\",0,SAISIE!K205)","v":0}]
[{"$nulls":13},{"$f":"IF(SAISIE!K206=\"\",0,SAISIE!K206)","v":0}]
[{"$nulls":13},{"$f":"IF(SAISIE!K207=\"\",0,SAISIE!K207)","v":0}]
[{"$nulls":13},{"$f":"IF(SAISIE!K208=\"\",0,SAISIE!K208)","v":0}]
[{"$nulls":13},{"$f":"IF(SAISIE!K209=\"\",0,SAISIE!K209)","v":0}]
[{"$nulls":13},{"$f":"IF(SAISIE!K210=\"\",0,SAISIE!K210)","v":0}]
[{"$nulls":13},{"$f":"IF(SAISIE!K211=\"\",0,SAISIE!K211)","v":0}]
[{"$nulls":13},{"$f":"IF(SAISIE!K212=\"\",0,SAISIE!K212)","v":0}]
[{"$nulls":13},{"$f":"IF(SAISIE!K213=\"\",0,SAISIE!K213)","v":0}]
[{"$nulls":13},{"$f":"IF(SAISIE!K214=\"\",0,SAISIE!K214)","v":0}]
[{"$nulls":13},{"$f":"IF(SAISIE!K215=\"\",0,SAISIE!K215)","v":0}]
[{"$nulls":13},{"$f":"IF(SAISIE!K216=\"\",0,SAISIE!K216)","v":0}]
[{"$nulls":13},{"$f":"IF(SAISIE!K217=\"\",0,SAISIE!K217)","v":0}]
[{"$nulls":13},{"$f":"IF(SAISIE!K218=\"\",0,SAISIE!K218)","v":0}]
[{"$nulls":13},{"$f":"IF(SAISIE!K219=\"\",0,SAISIE!K219)","v":0}]
[{"$nulls":13},{"$f":"IF(SAISIE!K220=\"\",0,SAISIE!K220)","v":0}]
[{"$nulls":13},{"$f":"IF(SAISIE!K221=\"\",0,SAISIE!K221)","v":0}]
[{"$nulls":13},{"$f":"IF(SAISIE!K222=\"\",0,SAISIE!K222)","v":0}]
[{"$nulls":13},{"$f":"IF(SAISIE!K223=\"\",0,SAISIE!K223)","v":0}]
[{"$nulls":13},{"$f":"IF(SAISIE!K224=\"\",0,SAISIE!K224)","v":0}]
[{"$nulls":13},{"$f":"IF(SAISIE!K225=\"\",0,SAISIE!K225)","v":0}]
[{"$nulls":13},{"$f":"IF(SAISIE!K226=\"\",0,SAISIE!K226)","v":0}]
[{"$nulls":13},{"$f":"IF(SAISIE!K227=\"\",0,SAISIE!K227)","v":0}]
[{"$nulls":13},{"$f":"IF(SAISIE!K228=\"\",0,SAISIE!K228)","v":0}]
[{"$nulls":13},{"$f":"IF(SAISIE!K229=\"\",0,SAISIE!K229)","v":0}]
[{"$nulls":13},{"$f":"IF(SAISIE!K230=\"\",0,SAISIE!K230)","v":0}]
[{"$nulls":13},{"$f":"IF(SAISIE!K231=\"\",0,SAISIE!K231)","v":0}]
[{"$nulls":13},{"$f":"IF(SAISIE!K232=\"\",0,SAISIE!K232)","v":0}]
[{"$nulls":13},{"$f":"IF(SAISIE!K233=\"\",0,SAISIE!K233)","v":0}]
[{"$nulls":13},{"$f":"IF(SAISIE!K234=\"\",0,SAISIE!K234)","v":0}]
[{"$nulls":13},{"$f":"IF(SAISIE!K235=\"\",0,SAISIE!K235)","v":0}]
[{"$nulls":13},{"$f":"IF(SAISIE!K236=\"\",0,SAISIE!K236)","v":0}]
[{"$nulls":13},{"$f":"IF(SAISIE!K237=\"\",0,SAISIE!K237)","v":0}]
[{"$nulls":13},{"$f":"IF(SAISIE!K238=\"\",0,SAISIE!K238)","v":0}]
[{"$nulls":13},{"$f":"IF(SAISIE!K239=\"\",0,SAISIE!K239)","v":0}]
[{"$nulls":13},{"$f":"IF(SAISIE!K240=\"\",0,SAISIE!K240)","v":0}]
[{"$nulls":13},{"$f":"IF(SAISIE!K241=\"\",0,SAISIE!K241)","v":0}]
[{"$nulls":13},{"$f":"IF(SAISIE!K242=\"\",0,SAISIE!K242)","v":0}]
[{"$nulls":13},{"$f":"IF(SAISIE!K243=\"\",0,SAISIE!K243)","v":0}]
[{"$nulls":13},{"$f":"IF(SAISIE!K244=\"\",0,SAISIE!K244)","v":0}]
[{"$nulls":13},{"$f":"IF(SAISIE!K245=\"\",0,SAISIE!K245)","v":0}]
[{"$nulls":13},{"$f":"IF(SAISIE!K246=\"\",0,SAISIE!K246)","v":0}]
[{"$nulls":13},{"$f":"IF(SAISIE!K247=\"\",0,SAISIE!K247)","v":0}]
[{"$nulls":13},{"$f":"IF(SAISIE!K248=\"\",0,SAISIE!K248)","v":0}]
[{"$nulls":13},{"$f":"IF(SAISIE!K249=\"\",0,SAISIE!K249)","v":0}]
[{"$nulls":13},{"$f":"IF(SAISIE!K250=\"\",0,SAISIE!K250)","v":0}]
[{"$nulls":13},{"$f":"IF(SAISIE!K251=\"\",0,SAISIE!K251)","v":0}]
[{"$nulls":13},{"$f":"IF(SAISIE!K252=\"\",0,SAISIE!K252)","v":0}]
[{"$nulls":13},{"$f":"IF(SAISIE!K253=\"\",0,SAISIE!K253)","v":0}]
[{"$nulls":13},{"$f":"IF(SAISIE!K254=\"\",0,SAISIE!K254)","v":0}]
[{"$nulls":13},{"$f":"IF(SAISIE!K255=\"\",0,SAISIE!K255)","v":0}]
[{"$nulls":13},{"$f":"IF(SAISIE!K256=\"\",0,SAISIE!K256)","v":0}]
[{"$nulls":13},{"$f":"IF(SAISIE!K257=\"\",0,SAISIE!K257)","v":0}]
[{"$nulls":13},{"$f":"IF(SAISIE!K258=\"\",0,SAISIE!K258)","v":0}]
[{"$nulls":13},{"$f":"IF(SAISIE!K259=\"\",0,SAISIE!K259)","v":0}]
[{"$nulls":13},{"$f":"IF(SAISIE!K260=\"\",0,SAISIE!K260)","v":0}]
[{"$nulls":13},{"$f":"IF(SAISIE!K261=\"\",0,SAISIE!K261)","v":0}]
[{"$nulls":13},{"$f":"IF(SAISIE!K262=\"\",0,SAISIE!K262)","v":0}]
[{"$nulls":13},{"$f":"IF(SAISIE!K263=\"\",0,SAISIE!K263)","v":0}]
[{"$nulls":13},{"$f":"IF(SAISIE!K264=\"\",0,SAISIE!K264)","v":0}]
[{"$nulls":13},{"$f":"IF(SAISIE!K265=\"\",0,SAISIE!K265)","v":0}]
[{"$nulls":13},{"$f":"IF(SAISIE!K266=\"\",0,SAISIE!K266)","v":0}]
[{"$nulls":13},{"$f":"IF(SAISIE!K267=\"\",0,SAISIE!K267)","v":0}]
[{"$nulls":13},{"$f":"IF(SAISIE!K268=\"\",0,SAISIE!K268)","v":0}]
[{"$nulls":13},{"$f":"IF(SAISIE!K269=\"\",0,SAISIE!K269)","v":0}]
[{"$nulls":13},{"$f":"IF(SAISIE!K270=\"\",0,SAISIE!K270)","v":0}]
[{"$nulls":13},{"$f":"IF(SAISIE!K271=\"\",0,SAISIE!K271)","v":0}]
[{"$nulls":13},{"$f":"IF(SAISIE!K272=\"\",0,SAISIE!K272)","v":0}]
[{"$nulls":13},{"$f":"IF(SAISIE!K273=\"\",0,SAISIE!K273)","v":0}]
[{"$nulls":13},{"$f":"IF(SAISIE!K274=\"\",0,SAISIE!K274)","v":0}]
[{"$nulls":13},{"$f":"IF(SAISIE!K275=\"\",0,SAISIE!K275)","v":0}]
[{"$nulls":13},{"$f":"IF(SAISIE!K276=\"\",0,SAISIE!K276)","v":0}]
[{"$nulls":13},{"$f":"IF(SAISIE!K277=\"\",0,SAISIE!K277)","v":0}]
[{"$nulls":13},{"$f":"IF(SAISIE!K278=\"\",0,SAISIE!K278)","v":0}]
[{"$nulls":13},{"$f":"IF(SAISIE!K279=\"\",0,SAISIE!K279)","v":0}]
[{"$nulls":13},{"$f":"IF(SAISIE!K280=\"\",0,SAISIE!K280)","v":0}]
[{"$nulls":13},{"$f":"IF(SAISIE!K281=\"\",0,SAISIE!K281)","v":0}]
[{"$nulls":13},{"$f":"IF(SAISIE!K282=\"\",0,SAISIE!K282)","v":0}]
[{"$nulls":13},{"$f":"IF(SAISIE!K283=\"\",0,SAISIE!K283)","v":0}]
[{"$nulls":13},{"$f":"IF(SAISIE!K284=\"\",0,SAISIE!K284)","v":0}]
[{"$nulls":13},{"$f":"IF(SAISIE!K285=\"\",0,SAISIE!K285)","v":0}]
[{"$nulls":13},{"$f":"IF(SAISIE!K286=\"\",0,SAISIE!K286)","v":0}]
[{"$nulls":13},{"$f":"IF(SAISIE!K287=\"\",0,SAISIE!K287)","v":0}]
[{"$nulls":13},{"$f":"IF(SAISIE!K288=\"\",0,SAISIE!K288)","v":0}]
[{"$nulls":13},{"$f":"IF(SAISIE!K289=\"\",0,SAISIE!K289)","v":0}]
[{"$nulls":13},{"$f":"IF(SAISIE!K290=\"\",0,SAISIE!K290)","v":0}]
[{"$nulls":13},{"$f":"IF(SAISIE!K291=\"\",0,SAISIE!K291)","v":0}]
[{"$nulls":13},{"$f":"IF(SAISIE!K292=\"\",0,SAISIE!K292)","v":0}]
[{"$nulls":13},{"$f":"IF(SAISIE!K293=\"\",0,SAISIE!K293)","v":0}]
[{"$nulls":13},{"$f":"IF(SAISIE!K294=\"\",0,SAISIE!K294)","v":0}]
[{"$nulls":13},{"$f":"IF(SAISIE!K295=\"\",0,SAISIE!K295)","v":0}]
[{"$nulls":13},{"$f":"IF(SAISIE!K296=\"\",0,SAISIE!K296)","v":0}]
[{"$nulls":13},{"$f":"IF(SAISIE!K297=\"\",0,SAISIE!K297)","v":0}]
[{"$nulls":13},{"$f":"IF(SAISIE!K298=\"\",0,SAISIE!K298)","v":0}]
[{"$nulls":13},{"$f":"IF(SAISIE!K299=\"\",0,SAISIE!K299)","v":0}]
[{"$nulls":13},{"$f":"IF(SAISIE!K300=\"\",0,SAISIE!K300)","v":0}]
[{"$nulls":13},{"$f":"IF(SAISIE!K301=\"\",0,SAISIE!K301)","v":0}]
[{"$nulls":13},{"$f":"IF(SAISIE!K302=\"\",0,SAISIE!K302)","v":0}]
[{"$nulls":13},{"$f":"IF(SAISIE!K303=\"\",0,SAISIE!K303)","v":0}]
[{"$nulls":13},{"$f":"IF(SAISIE!K304=\"\",0,SAISIE!K304)","v":0}]
[{"$nulls":13},{"$f":"IF(SAISIE!K305=\"\",0,SAISIE!K305)","v":0}]
[{"$nulls":13},{"$f":"IF(SAISIE!K306=\"\",0,SAISIE!K306)","v":0}]
[{"$nulls":13},{"$f":"IF(SAISIE!K307=\"\",0,SAISIE!K307)","v":0}]
[{"$nulls":13},{"$f":"IF(SAISIE!K308=\"\",0,SAISIE!K308)","v":0}]
[{"$nulls":13},{"$f":"IF(SAISIE!K309=\"\",0,SAISIE!K309)","v":0}]
[{"$nulls":13},{"$f":"IF(SAISIE!K310=\"\",0,SAISIE!K310)","v":0}]
[{"$nulls":13},{"$f":"IF(SAISIE!K311=\"\",0,SAISIE!K311)","v":0}]
[{"$nulls":13},{"$f":"IF(SAISIE!K312=\"\",0,SAISIE!K312)","v":0}]
[{"$nulls":13},{"$f":"IF(SAISIE!K313=\"\",0,SAISIE!K313)","v":0}]
[{"$nulls":13},{"$f":"IF(SAISIE!K314=\"\",0,SAISIE!K314)","v":0}]
[{"$nulls":13},{"$f":"IF(SAISIE!K315=\"\",0,SAISIE!K315)","v":0}]
[{"$nulls":13},{"$f":"IF(SAISIE!K316=\"\",0,SAISIE!K316)","v":0}]
[{"$nulls":13},{"$f":"IF(SAISIE!K317=\"\",0,SAISIE!K317)","v":0}]
[{"$nulls":13},{"$f":"IF(SAISIE!K318=\"\",0,SAISIE!K318)","v":0}]
[{"$nulls":13},{"$f":"IF(SAISIE!K319=\"\",0,SAISIE!K319)","v":0}]
[{"$nulls":13},{"$f":"IF(SAISIE!K320=\"\",0,SAISIE!K320)","v":0}]
[{"$nulls":13},{"$f":"IF(SAISIE!K321=\"\",0,SAISIE!K321)","v":0}]
[{"$nulls":13},{"$f":"IF(SAISIE!K322=\"\",0,SAISIE!K322)","v":0}]
[{"$nulls":13},{"$f":"IF(SAISIE!K323=\"\",0,SAISIE!K323)","v":0}]
[{"$nulls":13},{"$f":"IF(SAISIE!K324=\"\",0,SAISIE!K324)","v":0}]
[{"$nulls":13},{"$f":"IF(SAISIE!K325=\"\",0,SAISIE!K325)","v":0}]
[{"$nulls":13},{"$f":"IF(SAISIE!K326=\"\",0,SAISIE!K326)","v":0}]
[{"$nulls":13},{"$f":"IF(SAISIE!K327=\"\",0,SAISIE!K327)","v":0}]
[{"$nulls":13},{"$f":"IF(SAISIE!K328=\"\",0,SAISIE!K328)","v":0}]
[{"$nulls":13},{"$f":"IF(SAISIE!K329=\"\",0,SAISIE!K329)","v":0}]
[{"$nulls":13},{"$f":"IF(SAISIE!K330=\"\",0,SAISIE!K330)","v":0}]
[{"$nulls":13},{"$f":"IF(SAISIE!K331=\"\",0,SAISIE!K331)","v":0}]
[{"$nulls":13},{"$f":"IF(SAISIE!K332=\"\",0,SAISIE!K332)","v":0}]
[{"$nulls":13},{"$f":"IF(SAISIE!K333=\"\",0,SAISIE!K333)","v":0}]
[{"$nulls":13},{"$f":"IF(SAISIE!K334=\"\",0,SAISIE!K334)","v":0}]
[{"$nulls":13},{"$f":"IF(SAISIE!K335=\"\",0,SAISIE!K335)","v":0}]
[{"$nulls":13},{"$f":"IF(SAISIE!K336=\"\",0,SAISIE!K336)","v":0}]
[{"$nulls":13},{"$f":"IF(SAISIE!K337=\"\",0,SAISIE!K337)","v":0}]
[{"$nulls":13},{"$f":"IF(SAISIE!K338=\"\",0,SAISIE!K338)","v":0}]
[{"$nulls":13},{"$f":"IF(SAISIE!K339=\"\",0,SAISIE!K339)","v":0}]
[{"$nulls":13},{"$f":"IF(SAISIE!K340=\"\",0,SAISIE!K340)","v":0}]
[{"$nulls":13},{"$f":"IF(SAISIE!K341=\"\",0,SAISIE!K341)","v":0}]
[{"$nulls":13},{"$f":"IF(SAISIE!K342=\"\",0,SAISIE!K342)","v":0}]
[{"$nulls":13},{"$f":"IF(SAISIE!K343=\"\",0,SAISIE!K343)","v":0}]
[{"$nulls":13},{"$f":"IF(SAISIE!K344=\"\",0,SAISIE!K344)","v":0}]
[{"$nulls":13},{"$f":"IF(SAISIE!K345=\"\",0,SAISIE!K345)","v":0}]
[{"$nulls":13},{"$f":"IF(SAISIE!K346=\"\",0,SAISIE!K346)","v":0}]
[{"$nulls":13},{"$f":"IF(SAISIE!K347=\"\",0,SAISIE!K347)","v":0}]
[{"$nulls":13},{"$f":"IF(SAISIE!K348=\"\",0,SAISIE!K348)","v":0}]
[{"$nulls":13},{"$f":"IF(SAISIE!K349=\"\",0,SAISIE!K349)","v":0}]
[{"$nulls":13},{"$f":"IF(SAISIE!K350=\"\",0,SAISIE!K350)","v":0}]
[{"$nulls":13},{"$f":"IF(SAISIE!K351=\"\",0,SAISIE!K351)","v":0}]
[{"$nulls":13},{"$f":"IF(SAISIE!K352=\"\",0,SAISIE!K352)","v":0}]
[{"$nulls":13},{"$f":"IF(SAISIE!K353=\"\",0,SAISIE!K353)","v":0}]
[{"$nulls":13},{"$f":"IF(SAISIE!K354=\"\",0,SAISIE!K354)","v":0}]
[{"$nulls":13},{"$f":"IF(SAISIE!K355=\"\",0,SAISIE!K355)","v":0}]
[{"$nulls":13},{"$f":"IF(SAISIE!K356=\"\",0,SAISIE!K356)","v":0}]
[{"$nulls":13},{"$f":"IF(SAISIE!K357=\"\",0,SAISIE!K357)","v":0}]
[{"$nulls":13},{"$f":"IF(SAISIE!K358=\"\",0,SAISIE!K358)","v":0}]
[{"$nulls":13},{"$f":"IF(SAISIE!K359=\"\",0,SAISIE!K359)","v":0}]
[{"$nulls":13},{"$f":"IF(SAISIE!K360=\"\",0,SAISIE!K360)","v":0}]
[{"$nulls":13},{"$f":"IF(SAISIE!K361=\"\",0,SAISIE!K361)","v":0}]
[{"$nulls":13},{"$f":"IF(SAISIE!K362=\"\",0,SAISIE!K362)","v":0}]
[{"$nulls":13},{"$f":"IF(SAISIE!K363=\"\",0,SAISIE!K363)","v":0}]
[{"$nulls":13},{"$f":"IF(SAISIE!K364=\"\",0,SAISIE!K364)","v":0}]
[{"$nulls":13},{"$f":"IF(SAISIE!K365=\"\",0,SAISIE!K365)","v":0}]
[{"$nulls":13},{"$f":"IF(SAISIE!K366=\"\",0,SAISIE!K366)","v":0}]
[{"$nulls":13},{"$f":"IF(SAISIE!K367=\"\",0,SAISIE!K367)","v":0}]
[{"$nulls":13},{"$f":"IF(SAISIE!K368=\"\",0,SAISIE!K368)","v":0}]
[{"$nulls":13},{"$f":"IF(SAISIE!K369=\"\",0,SAISIE!K369)","v":0}]
[{"$nulls":13},{"$f":"IF(SAISIE!K370=\"\",0,SAISIE!K370)","v":0}]
[{"$nulls":13},{"$f":"IF(SAISIE!K371=\"\",0,SAISIE!K371)","v":0}]
[{"$nulls":13},{"$f":"IF(SAISIE!K372=\"\",0,SAISIE!K372)","v":0}]
[{"$nulls":13},{"$f":"IF(SAISIE!K373=\"\",0,SAISIE!K373)","v":0}]
[{"$nulls":13},{"$f":"IF(SAISIE!K374=\"\",0,SAISIE!K374)","v":0}]
[{"$nulls":13},{"$f":"IF(SAISIE!K375=\"\",0,SAISIE!K375)","v":0}]
[{"$nulls":13},{"$f":"IF(SAISIE!K376=\"\",0,SAISIE!K376)","v":0}]
[{"$nulls":13},{"$f":"IF(SAISIE!K377=\"\",0,SAISIE!K377)","v":0}]
[{"$nulls":13},{"$f":"IF(SAISIE!K378=\"\",0,SAISIE!K378)","v":0}]
[{"$nulls":13},{"$f":"IF(SAISIE!K379=\"\",0,SAISIE!K379)","v":0}]
[{"$nulls":13},{"$f":"IF(SAISIE!K380=\"\",0,SAISIE!K380)","v":0}]
[{"$nulls":13},{"$f":"IF(SAISIE!K381=\"\",0,SAISIE!K381)","v":0}]
[{"$nulls":13},{"$f":"IF(SAISIE!K382=\"\",0,SAISIE!K382)","v":0}]
[{"$nulls":13},{"$f":"IF(SAISIE!K383=\"\",0,SAISIE!K383)","v":0}]
[{"$nulls":13},{"$f":"IF(SAISIE!K384=\"\",0,SAISIE!K384)","v":0}]
[{"$nulls":13},{"$f":"IF(SAISIE!K385=\"\",0,SAISIE!K385)","v":0}]
[{"$nulls":13},{"$f":"IF(SAISIE!K386=\"\",0,SAISIE!K386)","v":0}]
[{"$nulls":13},{"$f":"IF(SAISIE!K387=\"\",0,SAISIE!K387)","v":0}]
[{"$nulls":13},{"$f":"IF(SAISIE!K388=\"\",0,SAISIE!K388)","v":0}]
[{"$nulls":13},{"$f":"IF(SAISIE!K389=\"\",0,SAISIE!K389)","v":0}]
[{"$nulls":13},{"$f":"IF(SAISIE!K390=\"\",0,SAISIE!K390)","v":0}]
[{"$nulls":13},{"$f":"IF(SAISIE!K391=\"\",0,SAISIE!K391)","v":0}]
[{"$nulls":13},{"$f":"IF(SAISIE!K392=\"\",0,SAISIE!K392)","v":0}]
[{"$nulls":13},{"$f":"IF(SAISIE!K393=\"\",0,SAISIE!K393)","v":0}]
[{"$nulls":13},{"$f":"IF(SAISIE!K394=\"\",0,SAISIE!K394)","v":0}]
[{"$nulls":13},{"$f":"IF(SAISIE!K395=\"\",0,SAISIE!K395)","v":0}]
[{"$nulls":13},{"$f":"IF(SAISIE!K396=\"\",0,SAISIE!K396)","v":0}]
[{"$nulls":13},{"$f":"IF(SAISIE!K397=\"\",0,SAISIE!K397)","v":0}]
[{"$nulls":13},{"$f":"IF(SAISIE!K398=\"\",0,SAISIE!K398)","v":0}]
[{"$nulls":13},{"$f":"IF(SAISIE!K399=\"\",0,SAISIE!K399)","v":0}]
[{"$nulls":13},{"$f":"IF(SAISIE!K400=\"\",0,SAISIE!K400)","v":0}]
[{"$nulls":13},{"$f":"IF(SAISIE!K401=\"\",0,SAISIE!K401)","v":0}]
[{"$nulls":13},{"$f":"IF(SAISIE!K402=\"\",0,SAISIE!K402)","v":0}]
[{"$nulls":13},{"$f":"IF(SAISIE!K403=\"\",0,SAISIE!K403)","v":0}]
[{"$nulls":13},{"$f":"IF(SAISIE!K404=\"\",0,SAISIE!K404)","v":0}]
[{"$nulls":13},{"$f":"IF(SAISIE!K405=\"\",0,SAISIE!K405)","v":0}]
[{"$nulls":13},{"$f":"IF(SAISIE!K406=\"\",0,SAISIE!K406)","v":0}]
[{"$nulls":13},{"$f":"IF(SAISIE!K407=\"\",0,SAISIE!K407)","v":0}]
[{"$nulls":13},{"$f":"IF(SAISIE!K408=\"\",0,SAISIE!K408)","v":0}]
[{"$nulls":13},{"$f":"IF(SAISIE!K409=\"\",0,SAISIE!K409)","v":0}]
[{"$nulls":13},{"$f":"IF(SAISIE!K410=\"\",0,SAISIE!K410)","v":0}]
[{"$nulls":13},{"$f":"IF(SAISIE!K411=\"\",0,SAISIE!K411)","v":0}]
[{"$nulls":13},{"$f":"IF(SAISIE!K412=\"\",0,SAISIE!K412)","v":0}]
[{"$nulls":13},{"$f":"IF(SAISIE!K413=\"\",0,SAISIE!K413)","v":0}]
[{"$nulls":13},{"$f":"IF(SAISIE!K414=\"\",0,SAISIE!K414)","v":0}]
[{"$nulls":13},{"$f":"IF(SAISIE!K415=\"\",0,SAISIE!K415)","v":0}]
[{"$nulls":13},{"$f":"IF(SAISIE!K416=\"\",0,SAISIE!K416)","v":0}]
[{"$nulls":13},{"$f":"IF(SAISIE!K417=\"\",0,SAISIE!K417)","v":0}]
[{"$nulls":13},{"$f":"IF(SAISIE!K418=\"\",0,SAISIE!K418)","v":0}]
[{"$nulls":13},{"$f":"IF(SAISIE!K419=\"\",0,SAISIE!K419)","v":0}]
[{"$nulls":13},{"$f":"IF(SAISIE!K420=\"\",0,SAISIE!K420)","v":0}]
[{"$nulls":13},{"$f":"IF(SAISIE!K421=\"\",0,SAISIE!K421)","v":0}]
[{"$nulls":13},{"$f":"IF(SAISIE!K422=\"\",0,SAISIE!K422)","v":0}]
[{"$nulls":13},{"$f":"IF(SAISIE!K423=\"\",0,SAISIE!K423)","v":0}]
[{"$nulls":13},{"$f":"IF(SAISIE!K424=\"\",0,SAISIE!K424)","v":0}]
[{"$nulls":13},{"$f":"IF(SAISIE!K425=\"\",0,SAISIE!K425)","v":0}]
[{"$nulls":13},{"$f":"IF(SAISIE!K426=\"\",0,SAISIE!K426)","v":0}]
[{"$nulls":13},{"$f":"IF(SAISIE!K427=\"\",0,SAISIE!K427)","v":0}]
[{"$nulls":13},{"$f":"IF(SAISIE!K428=\"\",0,SAISIE!K428)","v":0}]
[{"$nulls":13},{"$f":"IF(SAISIE!K429=\"\",0,SAISIE!K429)","v":0}]
[{"$nulls":13},{"$f":"IF(SAISIE!K430=\"\",0,SAISIE!K430)","v":0}]
[{"$nulls":13},{"$f":"IF(SAISIE!K431=\"\",0,SAISIE!K431)","v":0}]
[{"$nulls":13},{"$f":"IF(SAISIE!K432=\"\",0,SAISIE!K432)","v":0}]
[{"$nulls":13},{"$f":"IF(SAISIE!K433=\"\",0,SAISIE!K433)","v":0}]
[{"$nulls":13},{"$f":"IF(SAISIE!K434=\"\",0,SAISIE!K434)","v":0}]
[{"$nulls":13},{"$f":"IF(SAISIE!K435=\"\",0,SAISIE!K435)","v":0}]
[{"$nulls":13},{"$f":"IF(SAISIE!K436=\"\",0,SAISIE!K436)","v":0}]
[{"$nulls":13},{"$f":"IF(SAISIE!K437=\"\",0,SAISIE!K437)","v":0}]
[{"$nulls":13},{"$f":"IF(SAISIE!K438=\"\",0,SAISIE!K438)","v":0}]
[{"$nulls":13},{"$f":"IF(SAISIE!K439=\"\",0,SAISIE!K439)","v":0}]
[{"$nulls":13},{"$f":"IF(SAISIE!K440=\"\",0,SAISIE!K440)","v":0}]
[{"$nulls":13},{"$f":"IF(SAISIE!K441=\"\",0,SAISIE!K441)","v":0}]
[{"$nulls":13},{"$f":"IF(SAISIE!K442=\"\",0,SAISIE!K442)","v":0}]
[{"$nulls":13},{"$f":"IF(SAISIE!K443=\"\",0,SAISIE!K443)","v":0}]
[{"$nulls":13},{"$f":"IF(SAISIE!K444=\"\",0,SAISIE!K444)","v":0}]
[{"$nulls":13},{"$f":"IF(SAISIE!K445=\"\",0,SAISIE!K445)","v":0}]
[{"$nulls":13},{"$f":"IF(SAISIE!K446=\"\",0,SAISIE!K446)","v":0}]
[{"$nulls":13},{"$f":"IF(SAISIE!K447=\"\",0,SAISIE!K447)","v":0}]
[{"$nulls":13},{"$f":"IF(SAISIE!K448=\"\",0,SAISIE!K448)","v":0}]
[{"$nulls":13},{"$f":"IF(SAISIE!K449=\"\",0,SAISIE!K449)","v":0}]
[{"$nulls":13},{"$f":"IF(SAISIE!K450=\"\",0,SAISIE!K450)","v":0}]
[{"$nulls":13},{"$f":"IF(SAISIE!K451=\"\",0,SAISIE!K451)","v":0}]
[{"$nulls":13},{"$f":"IF(SAISIE!K452=\"\",0,SAISIE!K452)","v":0}]
[{"$nulls":13},{"$f":"IF(SAISIE!K453=\"\",0,SAISIE!K453)","v":0}]
[{"$nulls":13},{"$f":"IF(SAISIE!K454=\"\",0,SAISIE!K454)","v":0}]
[{"$nulls":13},{"$f":"IF(SAISIE!K455=\"\",0,SAISIE!K455)","v":0}]
[{"$nulls":13},{"$f":"IF(SAISIE!K456=\"\",0,SAISIE!K456)","v":0}]
[{"$nulls":13},{"$f":"IF(SAISIE!K457=\"\",0,SAISIE!K457)","v":0}]
[{"$nulls":13},{"$f":"IF(SAISIE!K458=\"\",0,SAISIE!K458)","v":0}]
[{"$nulls":13},{"$f":"IF(SAISIE!K459=\"\",0,SAISIE!K459)","v":0}]
[{"$nulls":13},{"$f":"IF(SAISIE!K460=\"\",0,SAISIE!K460)","v":0}]
[{"$nulls":13},{"$f":"IF(SAISIE!K461=\"\",0,SAISIE!K461)","v":0}]
[{"$nulls":13},{"$f":"IF(SAISIE!K462=\"\",0,SAISIE!K462)","v":0}]
[{"$nulls":13},{"$f":"IF(SAISIE!K463=\"\",0,SAISIE!K463)","v":0}]
[{"$nulls":13},{"$f":"IF(SAISIE!K464=\"\",0,SAISIE!K464)","v":0}]
[{"$nulls":13},{"$f":"IF(SAISIE!K465=\"\",0,SAISIE!K465)","v":0}]
[{"$nulls":13},{"$f":"IF(SAISIE!K466=\"\",0,SAISIE!K466)","v":0}]
[{"$nulls":13},{"$f":"IF(SAISIE!K467=\"\",0,SAISIE!K467)","v":0}]
[{"$nulls":13},{"$f":"IF(SAISIE!K468=\"\",0,SAISIE!K468)","v":0}]
[{"$nulls":13},{"$f":"IF(SAISIE!K469=\"\",0,SAISIE!K469)","v":0}]
[{"$nulls":13},{"$f":"IF(SAISIE!K470=\"\",0,SAISIE!K470)","v":0}]
[{"$nulls":13},{"$f":"IF(SAISIE!K471=\"\",0,SAISIE!K471)","v":0}]
[{"$nulls":13},{"$f":"IF(SAISIE!K472=\"\",0,SAISIE!K472)","v":0}]
[{"$nulls":13},{"$f":"IF(SAISIE!K473=\"\",0,SAISIE!K473)","v":0}]
[{"$nulls":13},{"$f":"IF(SAISIE!K474=\"\",0,SAISIE!K474)","v":0}]
[{"$nulls":13},{"$f":"IF(SAISIE!K475=\"\",0,SAISIE!K475)","v":0}]
[{"$nulls":13},{"$f":"IF(SAISIE!K476=\"\",0,SAISIE!K476)","v":0}]
[{"$nulls":13},{"$f":"IF(SAISIE!K477=\"\",0,SAISIE!K477)","v":0}]
[{"$nulls":13},{"$f":"IF(SAISIE!K478=\"\",0,SAISIE!K478)","v":0}]
[{"$nulls":13},{"$f":"IF(SAISIE!K479=\"\",0,SAISIE!K479)","v":0}]
[{"$nulls":13},{"$f":"IF(SAISIE!K480=\"\",0,SAISIE!K480)","v":0}]
[{"$nulls":13},{"$f":"IF(SAISIE!K481=\"\",0,SAISIE!K481)","v":0}]
[{"$nulls":13},{"$f":"IF(SAISIE!K482=\"\",0,SAISIE!K482)","v":0}]
[{"$nulls":13},{"$f":"IF(SAISIE!K483=\"\",0,SAISIE!K483)","v":0}]
[{"$nulls":13},{"$f":"IF(SAISIE!K484=\"\",0,SAISIE!K484)","v":0}]
[{"$nulls":13},{"$f":"IF(SAISIE!K485=\"\",0,SAISIE!K485)","v":0}]
[{"$nulls":13},{"$f":"IF(SAISIE!K486=\"\",0,SAISIE!K486)","v":0}]
[{"$nulls":13},{"$f":"IF(SAISIE!K487=\"\",0,SAISIE!K487)","v":0}]
[{"$nulls":13},{"$f":"IF(SAISIE!K488=\"\",0,SAISIE!K488)","v":0}]
[{"$nulls":13},{"$f":"IF(SAISIE!K489=\"\",0,SAISIE!K489)","v":0}]
[{"$nulls":13},{"$f":"IF(SAISIE!K490=\"\",0,SAISIE!K490)","v":0}]
[{"$nulls":13},{"$f":"IF(SAISIE!K491=\"\",0,SAISIE!K491)","v":0}]
[{"$nulls":13},{"$f":"IF(SAISIE!K492=\"\",0,SAISIE!K492)","v":0}]
[{"$nulls":13},{"$f":"IF(SAISIE!K493=\"\",0,SAISIE!K493)","v":0}]
[{"$nulls":13},{"$f":"IF(SAISIE!K494=\"\",0,SAISIE!K494)","v":0}]
[{"$nulls":13},{"$f":"IF(SAISIE!K495=\"\",0,SAISIE!K495)","v":0}]
[{"$nulls":13},{"$f":"IF(SAISIE!K496=\"\",0,SAISIE!K496)","v":0}]
[{"$nulls":13},{"$f":"IF(SAISIE!K497=\"\",0,SAISIE!K497)","v":0}]
[{"$nulls":13},{"$f":"IF(SAISIE!K498=\"\",0,SAISIE!K498)","v":0}]
[{"$nulls":13},{"$f":"IF(SAISIE!K499=\"\",0,SAISIE!K499)","v":0}]
[{"$nulls":13},{"$f":"IF(SAISIE!K500=\"\",0,SAISIE!K500)","v":0}]
[{"$nulls":13},{"$f":"IF(SAISIE!K501=\"\",0,SAISIE!K501)","v":0}]
[{"$nulls":13},{"$f":"IF(SAISIE!K502=\"\",0,SAISIE!K502)","v":0}]
[{"$nulls":13},{"$f":"IF(SAISIE!K503=\"\",0,SAISIE!K503)","v":0}]
[{"$nulls":13},{"$f":"IF(SAISIE!K504=\"\",0,SAISIE!K504)","v":0}]
[{"$nulls":13},{"$f":"IF(SAISIE!K505=\"\",0,SAISIE!K505)","v":0}]
[{"$nulls":13},{"$f":"IF(SAISIE!K506=\"\",0,SAISIE!K506)","v":0}]
[{"$nulls":13},{"$f":"IF(SAISIE!K507=\"\",0,SAISIE!K507)","v":0}]
[{"$nulls":13},{"$f":"IF(SAISIE!K508=\"\",0,SAISIE!K508)","v":0}]
[{"$nulls":13},{"$f":"IF(SAISIE!K509=\"\",0,SAISIE!K509)","v":0}]
[{"$nulls":13},{"$f":"IF(SAISIE!K510=\"\",0,SAISIE!K510)","v":0}]
[{"$nulls":13},{"$f":"IF(SAISIE!K511=\"\",0,SAISIE!K511)","v":0}]
[{"$nulls":13},{"$f":"IF(SAISIE!K512=\"\",0,SAISIE!K512)","v":0}]
[{"$nulls":13},{"$f":"IF(SAISIE!K513=\"\",0,SAISIE!K513)","v":0}]
[{"$nulls":13},{"$f":"IF(SAISIE!K514=\"\",0,SAISIE!K514)","v":0}]
[{"$nulls":13},{"$f":"IF(SAISIE!K515=\"\",0,SAISIE!K515)","v":0}]
[{"$nulls":13},{"$f":"IF(SAISIE!K516=\"\",0,SAISIE!K516)","v":0}]
[{"$nulls":13},{"$f":"IF(SAISIE!K517=\"\",0,SAISIE!K517)","v":0}]
[{"$nulls":13},{"$f":"IF(SAISIE!K518=\"\",0,SAISIE!K518)","v":0}]
[{"$nulls":13},{"$f":"IF(SAISIE!K519=\"\",0,SAISIE!K519)","v":0}]
[{"$nulls":13},{"$f":"IF(SAISIE!K520=\"\",0,SAISIE!K520)","v":0}]
[{"$nulls":13},{"$f":"IF(SAISIE!K521=\"\",0,SAISIE!K521)","v":0}]
[{"$nulls":13},{"$f":"IF(SAISIE!K522=\"\",0,SAISIE!K522)","v":0}]
[{"$nulls":13},{"$f":"IF(SAISIE!K523=\"\",0,SAISIE!K523)","v":0}]
[{"$nulls":13},{"$f":"IF(SAISIE!K524=\"\",0,SAISIE!K524)","v":0}]
[{"$nulls":13},{"$f":"IF(SAISIE!K525=\"\",0,SAISIE!K525)","v":0}]
[{"$nulls":13},{"$f":"IF(SAISIE!K526=\"\",0,SAISIE!K526)","v":0}]
[{"$nulls":13},{"$f":"IF(SAISIE!K527=\"\",0,SAISIE!K527)","v":0}]
[{"$nulls":13},{"$f":"IF(SAISIE!K528=\"\",0,SAISIE!K528)","v":0}]
[{"$nulls":13},{"$f":"IF(SAISIE!K529=\"\",0,SAISIE!K529)","v":0}]
[{"$nulls":13},{"$f":"IF(SAISIE!K530=\"\",0,SAISIE!K530)","v":0}]
[{"$nulls":13},{"$f":"IF(SAISIE!K531=\"\",0,SAISIE!K531)","v":0}]
[{"$nulls":13},{"$f":"IF(SAISIE!K532=\"\",0,SAISIE!K532)","v":0}]
[{"$nulls":13},{"$f":"IF(SAISIE!K533=\"\",0,SAISIE!K533)","v":0}]
[{"$nulls":13},{"$f":"IF(SAISIE!K534=\"\",0,SAISIE!K534)","v":0}]
[{"$nulls":13},{"$f":"IF(SAISIE!K535=\"\",0,SAISIE!K535)","v":0}]
[{"$nulls":13},{"$f":"IF(SAISIE!K536=\"\",0,SAISIE!K536)","v":0}]
[{"$nulls":13},{"$f":"IF(SAISIE!K537=\"\",0,SAISIE!K537)","v":0}]
[{"$nulls":13},{"$f":"IF(SAISIE!K538=\"\",0,SAISIE!K538)","v":0}]
[{"$nulls":13},{"$f":"IF(SAISIE!K539=\"\",0,SAISIE!K539)","v":0}]
[{"$nulls":13},{"$f":"IF(SAISIE!K540=\"\",0,SAISIE!K540)","v":0}]
[{"$nulls":13},{"$f":"IF(SAISIE!K541=\"\",0,SAISIE!K541)","v":0}]
[{"$nulls":13},{"$f":"IF(SAISIE!K542=\"\",0,SAISIE!K542)","v":0}]
[{"$nulls":13},{"$f":"IF(SAISIE!K543=\"\",0,SAISIE!K543)","v":0}]
[{"$nulls":13},{"$f":"IF(SAISIE!K544=\"\",0,SAISIE!K544)","v":0}]
[{"$nulls":13},{"$f":"IF(SAISIE!K545=\"\",0,SAISIE!K545)","v":0}]
[{"$nulls":13},{"$f":"IF(SAISIE!K546=\"\",0,SAISIE!K546)","v":0}]
[{"$nulls":13},{"$f":"IF(SAISIE!K547=\"\",0,SAISIE!K547)","v":0}]
[{"$nulls":13},{"$f":"IF(SAISIE!K548=\"\",0,SAISIE!K548)","v":0}]
[{"$nulls":13},{"$f":"IF(SAISIE!K549=\"\",0,SAISIE!K549)","v":0}]
[{"$nulls":13},{"$f":"IF(SAISIE!K550=\"\",0,SAISIE!K550)","v":0}]
[{"$nulls":13},{"$f":"IF(SAISIE!K551=\"\",0,SAISIE!K551)","v":0}]
[{"$nulls":13},{"$f":"IF(SAISIE!K552=\"\",0,SAISIE!K552)","v":0}]
[{"$nulls":13},{"$f":"IF(SAISIE!K553=\"\",0,SAISIE!K553)","v":0}]
[{"$nulls":13},{"$f":"IF(SAISIE!K554=\"\",0,SAISIE!K554)","v":0}]
[{"$nulls":13},{"$f":"IF(SAISIE!K555=\"\",0,SAISIE!K555)","v":0}]
[{"$nulls":13},{"$f":"IF(SAISIE!K556=\"\",0,SAISIE!K556)","v":0}]
[{"$nulls":13},{"$f":"IF(SAISIE!K557=\"\",0,SAISIE!K557)","v":0}]
[{"$nulls":13},{"$f":"IF(SAISIE!K558=\"\",0,SAISIE!K558)","v":0}]
[{"$nulls":13},{"$f":"IF(SAISIE!K559=\"\",0,SAISIE!K559)","v":0}]
[{"$nulls":13},{"$f":"IF(SAISIE!K560=\"\",0,SAISIE!K560)","v":0}]
[{"$nulls":13},{"$f":"IF(SAISIE!K561=\"\",0,SAISIE!K561)","v":0}]
[{"$nulls":13},{"$f":"IF(SAISIE!K562=\"\",0,SAISIE!K562)","v":0}]
[{"$nulls":13},{"$f":"IF(SAISIE!K563=\"\",0,SAISIE!K563)","v":0}]
[{"$nulls":13},{"$f":"IF(SAISIE!K564=\"\",0,SAISIE!K564)","v":0}]
[{"$nulls":13},{"$f":"IF(SAISIE!K565=\"\",0,SAISIE!K565)","v":0}]
[{"$nulls":13},{"$f":"IF(SAISIE!K566=\"\",0,SAISIE!K566)","v":0}]
[{"$nulls":13},{"$f":"IF(SAISIE!K567=\"\",0,SAISIE!K567)","v":0}]
[{"$nulls":13},{"$f":"IF(SAISIE!K568=\"\",0,SAISIE!K568)","v":0}]
[{"$nulls":13},{"$f":"IF(SAISIE!K569=\"\",0,SAISIE!K569)","v":0}]
[{"$nulls":13},{"$f":"IF(SAISIE!K570=\"\",0,SAISIE!K570)","v":0}]
[{"$nulls":13},{"$f":"IF(SAISIE!K571=\"\",0,SAISIE!K571)","v":0}]
[{"$nulls":13},{"$f":"IF(SAISIE!K572=\"\",0,SAISIE!K572)","v":0}]
[{"$nulls":13},{"$f":"IF(SAISIE!K573=\"\",0,SAISIE!K573)","v":0}]
[{"$nulls":13},{"$f":"IF(SAISIE!K574=\"\",0,SAISIE!K574)","v":0}]
[{"$nulls":13},{"$f":"IF(SAISIE!K575=\"\",0,SAISIE!K575)","v":0}]
[{"$nulls":13},{"$f":"IF(SAISIE!K576=\"\",0,SAISIE!K576)","v":0}]
[{"$nulls":13},{"$f":"IF(SAISIE!K577=\"\",0,SAISIE!K577)","v":0}]
[{"$nulls":13},{"$f":"IF(SAISIE!K578=\"\",0,SAISIE!K578)","v":0}]
[{"$nulls":13},{"$f":"IF(SAISIE!K579=\"\",0,SAISIE!K579)","v":0}]
[{"$nulls":13},{"$f":"IF(SAISIE!K580=\"\",0,SAISIE!K580)","v":0}]
[{"$nulls":13},{"$f":"IF(SAISIE!K581=\"\",0,SAISIE!K581)","v":0}]
[{"$nulls":13},{"$f":"IF(SAISIE!K582=\"\",0,SAISIE!K582)","v":0}]
[{"$nulls":13},{"$f":"IF(SAISIE!K583=\"\",0,SAISIE!K583)","v":0}]
[{"$nulls":13},{"$f":"IF(SAISIE!K584=\"\",0,SAISIE!K584)","v":0}]
[{"$nulls":13},{"$f":"IF(SAISIE!K585=\"\",0,SAISIE!K585)","v":0}]
[{"$nulls":13},{"$f":"IF(SAISIE!K586=\"\",0,SAISIE!K586)","v":0}]
[{"$nulls":13},{"$f":"IF(SAISIE!K587=\"\",0,SAISIE!K587)","v":0}]
[{"$nulls":13},{"$f":"IF(SAISIE!K588=\"\",0,SAISIE!K588)","v":0}]
[{"$nulls":13},{"$f":"IF(SAISIE!K589=\"\",0,SAISIE!K589)","v":0}]
[{"$nulls":13},{"$f":"IF(SAISIE!K590=\"\",0,SAISIE!K590)","v":0}]
[{"$nulls":13},{"$f":"IF(SAISIE!K591=\"\",0,SAISIE!K591)","v":0}]
[{"$nulls":13},{"$f":"IF(SAISIE!K592=\"\",0,SAISIE!K592)","v":0}]
[{"$nulls":13},{"$f":"IF(SAISIE!K593=\"\",0,SAISIE!K593)","v":0}]
[{"$nulls":13},{"$f":"IF(SAISIE!K594=\"\",0,SAISIE!K594)","v":0}]
[{"$nulls":13},{"$f":"IF(SAISIE!K595=\"\",0,SAISIE!K595)","v":0}]
[{"$nulls":13},{"$f":"IF(SAISIE!K596=\"\",0,SAISIE!K596)","v":0}]
[{"$nulls":13},{"$f":"IF(SAISIE!K597=\"\",0,SAISIE!K597)","v":0}]
[{"$nulls":13},{"$f":"IF(SAISIE!K598=\"\",0,SAISIE!K598)","v":0}]
[{"$nulls":13},{"$f":"IF(SAISIE!K599=\"\",0,SAISIE!K599)","v":0}]
[{"$nulls":13},{"$f":"IF(SAISIE!K600=\"\",0,SAISIE!K600)","v":0}]
[{"$nulls":13},{"$f":"IF(SAISIE!K601=\"\",0,SAISIE!K601)","v":0}]
[{"$nulls":13},{"$f":"IF(SAISIE!K602=\"\",0,SAISIE!K602)","v":0}]
[{"$nulls":13},{"$f":"IF(SAISIE!K603=\"\",0,SAISIE!K603)","v":0}]
[{"$nulls":13},{"$f":"IF(SAISIE!K604=\"\",0,SAISIE!K604)","v":0}]
[{"$nulls":13},{"$f":"IF(SAISIE!K605=\"\",0,SAISIE!K605)","v":0}]
[{"$nulls":13},{"$f":"IF(SAISIE!K606=\"\",0,SAISIE!K606)","v":0}]
[{"$nulls":13},{"$f":"IF(SAISIE!K607=\"\",0,SAISIE!K607)","v":0}]
[{"$nulls":13},{"$f":"IF(SAISIE!K608=\"\",0,SAISIE!K608)","v":0}]
[{"$nulls":13},{"$f":"IF(SAISIE!K609=\"\",0,SAISIE!K609)","v":0}]
[{"$nulls":13},{"$f":"IF(SAISIE!K610=\"\",0,SAISIE!K610)","v":0}]
[{"$nulls":13},{"$f":"IF(SAISIE!K611=\"\",0,SAISIE!K611)","v":0}]
[{"$nulls":13},{"$f":"IF(SAISIE!K612=\"\",0,SAISIE!K612)","v":0}]
[{"$nulls":13},{"$f":"IF(SAISIE!K613=\"\",0,SAISIE!K613)","v":0}]
[{"$nulls":13},{"$f":"IF(SAISIE!K614=\"\",0,SAISIE!K614)","v":0}]
[{"$nulls":13},{"$f":"IF(SAISIE!K615=\"\",0,SAISIE!K615)","v":0}]
[{"$nulls":13},{"$f":"IF(SAISIE!K616=\"\",0,SAISIE!K616)","v":0}]
[{"$nulls":13},{"$f":"IF(SAISIE!K617=\"\",0,SAISIE!K617)","v":0}]
[{"$nulls":13},{"$f":"IF(SAISIE!K618=\"\",0,SAISIE!K618)","v":0}]
[{"$nulls":13},{"$f":"IF(SAISIE!K619=\"\",0,SAISIE!K619)","v":0}]
[{"$nulls":13},{"$f":"IF(SAISIE!K620=\"\",0,SAISIE!K620)","v":0}]
[{"$nulls":13},{"$f":"IF(SAISIE!K621=\"\",0,SAISIE!K621)","v":0}]
[{"$nulls":13},{"$f":"IF(SAISIE!K622=\"\",0,SAISIE!K622)","v":0}]
[{"$nulls":13},{"$f":"IF(SAISIE!K623=\"\",0,SAISIE!K623)","v":0}]
[{"$nulls":13},{"$f":"IF(SAISIE!K624=\"\",0,SAISIE!K624)","v":0}]
[{"$nulls":13},{"$f":"IF(SAISIE!K625=\"\",0,SAISIE!K625)","v":0}]
[{"$nulls":13},{"$f":"IF(SAISIE!K626=\"\",0,SAISIE!K626)","v":0}]
[{"$nulls":13},{"$f":"IF(SAISIE!K627=\"\",0,SAISIE!K627)","v":0}]
[{"$nulls":13},{"$f":"IF(SAISIE!K628=\"\",0,SAISIE!K628)","v":0}]
[{"$nulls":13},{"$f":"IF(SAISIE!K629=\"\",0,SAISIE!K629)","v":0}]
[{"$nulls":13},{"$f":"IF(SAISIE!K630=\"\",0,SAISIE!K630)","v":0}]
[{"$nulls":13},{"$f":"IF(SAISIE!K631=\"\",0,SAISIE!K631)","v":0}]
[{"$nulls":13},{"$f":"IF(SAISIE!K632=\"\",0,SAISIE!K632)","v":0}]
[{"$nulls":13},{"$f":"IF(SAISIE!K633=\"\",0,SAISIE!K633)","v":0}]
[{"$nulls":13},{"$f":"IF(SAISIE!K634=\"\",0,SAISIE!K634)","v":0}]
[{"$nulls":13},{"$f":"IF(SAISIE!K635=\"\",0,SAISIE!K635)","v":0}]
[{"$nulls":13},{"$f":"IF(SAISIE!K636=\"\",0,SAISIE!K636)","v":0}]
[{"$nulls":13},{"$f":"IF(SAISIE!K637=\"\",0,SAISIE!K637)","v":0}]
[{"$nulls":13},{"$f":"IF(SAISIE!K638=\"\",0,SAISIE!K638)","v":0}]
[{"$nulls":13},{"$f":"IF(SAISIE!K639=\"\",0,SAISIE!K639)","v":0}]
[{"$nulls":13},{"$f":"IF(SAISIE!K640=\"\",0,SAISIE!K640)","v":0}]
[{"$nulls":13},{"$f":"IF(SAISIE!K641=\"\",0,SAISIE!K641)","v":0}]
[{"$nulls":13},{"$f":"IF(SAISIE!K642=\"\",0,SAISIE!K642)","v":0}]
[{"$nulls":13},{"$f":"IF(SAISIE!K643=\"\",0,SAISIE!K643)","v":0}]
[{"$nulls":13},{"$f":"IF(SAISIE!K644=\"\",0,SAISIE!K644)","v":0}]
[{"$nulls":13},{"$f":"IF(SAISIE!K645=\"\",0,SAISIE!K645)","v":0}]
[{"$nulls":13},{"$f":"IF(SAISIE!K646=\"\",0,SAISIE!K646)","v":0}]
[{"$nulls":13},{"$f":"IF(SAISIE!K647=\"\",0,SAISIE!K647)","v":0}]
[{"$nulls":13},{"$f":"IF(SAISIE!K648=\"\",0,SAISIE!K648)","v":0}]
[{"$nulls":13},{"$f":"IF(SAISIE!K649=\"\",0,SAISIE!K649)","v":0}]
[{"$nulls":13},{"$f":"IF(SAISIE!K650=\"\",0,SAISIE!K650)","v":0}]
[{"$nulls":13},{"$f":"IF(SAISIE!K651=\"\",0,SAISIE!K651)","v":0}]
[{"$nulls":13},{"$f":"IF(SAISIE!K652=\"\",0,SAISIE!K652)","v":0}]
[{"$nulls":13},{"$f":"IF(SAISIE!K653=\"\",0,SAISIE!K653)","v":0}]
[{"$nulls":13},{"$f":"IF(SAISIE!K654=\"\",0,SAISIE!K654)","v":0}]
[{"$nulls":13},{"$f":"IF(SAISIE!K655=\"\",0,SAISIE!K655)","v":0}]
[{"$nulls":13},{"$f":"IF(SAISIE!K656=\"\",0,SAISIE!K656)","v":0}]
[{"$nulls":13},{"$f":"IF(SAISIE!K657=\"\",0,SAISIE!K657)","v":0}]
[{"$nulls":13},{"$f":"IF(SAISIE!K658=\"\",0,SAISIE!K658)","v":0}]
[{"$nulls":13},{"$f":"IF(SAISIE!K659=\"\",0,SAISIE!K659)","v":0}]
[{"$nulls":13},{"$f":"IF(SAISIE!K660=\"\",0,SAISIE!K660)","v":0}]
[{"$nulls":13},{"$f":"IF(SAISIE!K661=\"\",0,SAISIE!K661)","v":0}]
[{"$nulls":13},{"$f":"IF(SAISIE!K662=\"\",0,SAISIE!K662)","v":0}]
[{"$nulls":13},{"$f":"IF(SAISIE!K663=\"\",0,SAISIE!K663)","v":0}]
[{"$nulls":13},{"$f":"IF(SAISIE!K664=\"\",0,SAISIE!K664)","v":0}]
[{"$nulls":13},{"$f":"IF(SAISIE!K665=\"\",0,SAISIE!K665)","v":0}]
[{"$nulls":13},{"$f":"IF(SAISIE!K666=\"\",0,SAISIE!K666)","v":0}]
[{"$nulls":13},{"$f":"IF(SAISIE!K667=\"\",0,SAISIE!K667)","v":0}]
[{"$nulls":13},{"$f":"IF(SAISIE!K668=\"\",0,SAISIE!K668)","v":0}]
[{"$nulls":13},{"$f":"IF(SAISIE!K669=\"\",0,SAISIE!K669)","v":0}]
[{"$nulls":13},{"$f":"IF(SAISIE!K670=\"\",0,SAISIE!K670)","v":0}]
[{"$nulls":13},{"$f":"IF(SAISIE!K671=\"\",0,SAISIE!K671)","v":0}]
[{"$nulls":13},{"$f":"IF(SAISIE!K672=\"\",0,SAISIE!K672)","v":0}]
[{"$nulls":13},{"$f":"IF(SAISIE!K673=\"\",0,SAISIE!K673)","v":0}]
[{"$nulls":13},{"$f":"IF(SAISIE!K674=\"\",0,SAISIE!K674)","v":0}]
[{"$nulls":13},{"$f":"IF(SAISIE!K675=\"\",0,SAISIE!K675)","v":0}]
[{"$nulls":13},{"$f":"IF(SAISIE!K676=\"\",0,SAISIE!K676)","v":0}]
[{"$nulls":13},{"$f":"IF(SAISIE!K677=\"\",0,SAISIE!K677)","v":0}]
[{"$nulls":13},{"$f":"IF(SAISIE!K678=\"\",0,SAISIE!K678)","v":0}]
[{"$nulls":13},{"$f":"IF(SAISIE!K679=\"\",0,SAISIE!K679)","v":0}]
[{"$nulls":13},{"$f":"IF(SAISIE!K680=\"\",0,SAISIE!K680)","v":0}]
[{"$nulls":13},{"$f":"IF(SAISIE!K681=\"\",0,SAISIE!K681)","v":0}]
[{"$nulls":13},{"$f":"IF(SAISIE!K682=\"\",0,SAISIE!K682)","v":0}]
[{"$nulls":13},{"$f":"IF(SAISIE!K683=\"\",0,SAISIE!K683)","v":0}]
[{"$nulls":13},{"$f":"IF(SAISIE!K684=\"\",0,SAISIE!K684)","v":0}]
[{"$nulls":13},{"$f":"IF(SAISIE!K685=\"\",0,SAISIE!K685)","v":0}]
[{"$nulls":13},{"$f":"IF(SAISIE!K686=\"\",0,SAISIE!K686)","v":0}]
[{"$nulls":13},{"$f":"IF(SAISIE!K687=\"\",0,SAISIE!K687)","v":0}]
[{"$nulls":13},{"$f":"IF(SAISIE!K688=\"\",0,SAISIE!K688)","v":0}]
[{"$nulls":13},{"$f":"IF(SAISIE!K689=\"\",0,SAISIE!K689)","v":0}]
[{"$nulls":13},{"$f":"IF(SAISIE!K690=\"\",0,SAISIE!K690)","v":0}]
[{"$nulls":13},{"$f":"IF(SAISIE!K691=\"\",0,SAISIE!K691)","v":0}]
[{"$nulls":13},{"$f":"IF(SAISIE!K692=\"\",0,SAISIE!K692)","v":0}]
[{"$nulls":13},{"$f":"IF(SAISIE!K693=\"\",0,SAISIE!K693)","v":0}]
[{"$nulls":13},{"$f":"IF(SAISIE!K694=\"\",0,SAISIE!K694)","v":0}]
[{"$nulls":13},{"$f":"IF(SAISIE!K695=\"\",0,SAISIE!K695)","v":0}]
[{"$nulls":13},{"$f":"IF(SAISIE!K696=\"\",0,SAISIE!K696)","v":0}]
[{"$nulls":13},{"$f":"IF(SAISIE!K697=\"\",0,SAISIE!K697)","v":0}]
[{"$nulls":13},{"$f":"IF(SAISIE!K698=\"\",0,SAISIE!K698)","v":0}]
[{"$nulls":13},{"$f":"IF(SAISIE!K699=\"\",0,SAISIE!K699)","v":0}]
[{"$nulls":13},{"$f":"IF(SAISIE!K700=\"\",0,SAISIE!K700)","v":0}]
[{"$nulls":13},{"$f":"IF(SAISIE!K701=\"\",0,SAISIE!K701)","v":0}]
[{"$nulls":13},{"$f":"IF(SAISIE!K702=\"\",0,SAISIE!K702)","v":0}]
[{"$nulls":13},{"$f":"IF(SAISIE!K703=\"\",0,SAISIE!K703)","v":0}]
[{"$nulls":13},{"$f":"IF(SAISIE!K704=\"\",0,SAISIE!K704)","v":0}]
[{"$nulls":13},{"$f":"IF(SAISIE!K705=\"\",0,SAISIE!K705)","v":0}]
[{"$nulls":13},{"$f":"IF(SAISIE!K706=\"\",0,SAISIE!K706)","v":0}]
[{"$nulls":13},{"$f":"IF(SAISIE!K707=\"\",0,SAISIE!K707)","v":0}]
[{"$nulls":13},{"$f":"IF(SAISIE!K708=\"\",0,SAISIE!K708)","v":0}]
[{"$nulls":13},{"$f":"IF(SAISIE!K709=\"\",0,SAISIE!K709)","v":0}]
[{"$nulls":13},{"$f":"IF(SAISIE!K710=\"\",0,SAISIE!K710)","v":0}]
[{"$nulls":13},{"$f":"IF(SAISIE!K711=\"\",0,SAISIE!K711)","v":0}]
[{"$nulls":13},{"$f":"IF(SAISIE!K712=\"\",0,SAISIE!K712)","v":0}]
[{"$nulls":13},{"$f":"IF(SAISIE!K713=\"\",0,SAISIE!K713)","v":0}]
[{"$nulls":13},{"$f":"IF(SAISIE!K714=\"\",0,SAISIE!K714)","v":0}]
[{"$nulls":13},{"$f":"IF(SAISIE!K715=\"\",0,SAISIE!K715)","v":0}]
[{"$nulls":13},{"$f":"IF(SAISIE!K716=\"\",0,SAISIE!K716)","v":0}]
[{"$nulls":13},{"$f":"IF(SAISIE!K717=\"\",0,SAISIE!K717)","v":0}]
[{"$nulls":13},{"$f":"IF(SAISIE!K718=\"\",0,SAISIE!K718)","v":0}]
[{"$nulls":13},{"$f":"IF(SAISIE!K719=\"\",0,SAISIE!K719)","v":0}]
[{"$nulls":13},{"$f":"IF(SAISIE!K720=\"\",0,SAISIE!K720)","v":0}]
[{"$nulls":13},{"$f":"IF(SAISIE!K721=\"\",0,SAISIE!K721)","v":0}]
[{"$nulls":13},{"$f":"IF(SAISIE!K722=\"\",0,SAISIE!K722)","v":0}]
[{"$nulls":13},{"$f":"IF(SAISIE!K723=\"\",0,SAISIE!K723)","v":0}]
[{"$nulls":13},{"$f":"IF(SAISIE!K724=\"\",0,SAISIE!K724)","v":0}]
[{"$nulls":13},{"$f":"IF(SAISIE!K725=\"\",0,SAISIE!K725)","v":0}]
[{"$nulls":13},{"$f":"IF(SAISIE!K726=\"\",0,SAISIE!K726)","v":0}]
[{"$nulls":13},{"$f":"IF(SAISIE!K727=\"\",0,SAISIE!K727)","v":0}]
[{"$nulls":13},{"$f":"IF(SAISIE!K728=\"\",0,SAISIE!K728)","v":0}]
[{"$nulls":13},{"$f":"IF(SAISIE!K729=\"\",0,SAISIE!K729)","v":0}]
[{"$nulls":13},{"$f":"IF(SAISIE!K730=\"\",0,SAISIE!K730)","v":0}]
[{"$nulls":13},{"$f":"IF(SAISIE!K731=\"\",0,SAISIE!K731)","v":0}]
[{"$nulls":13},{"$f":"IF(SAISIE!K732=\"\",0,SAISIE!K732)","v":0}]
[{"$nulls":13},{"$f":"IF(SAISIE!K733=\"\",0,SAISIE!K733)","v":0}]
[{"$nulls":13},{"$f":"IF(SAISIE!K734=\"\",0,SAISIE!K734)","v":0}]
[{"$nulls":13},{"$f":"IF(SAISIE!K735=\"\",0,SAISIE!K735)","v":0}]
[{"$nulls":13},{"$f":"IF(SAISIE!K736=\"\",0,SAISIE!K736)","v":0}]
[{"$nulls":13},{"$f":"IF(SAISIE!K737=\"\",0,SAISIE!K737)","v":0}]
[{"$nulls":13},{"$f":"IF(SAISIE!K738=\"\",0,SAISIE!K738)","v":0}]
[{"$nulls":13},{"$f":"IF(SAISIE!K739=\"\",0,SAISIE!K739)","v":0}]
[{"$nulls":13},{"$f":"IF(SAISIE!K740=\"\",0,SAISIE!K740)","v":0}]
[{"$nulls":13},{"$f":"IF(SAISIE!K741=\"\",0,SAISIE!K741)","v":0}]
[{"$nulls":13},{"$f":"IF(SAISIE!K742=\"\",0,SAISIE!K742)","v":0}]
[{"$nulls":13},{"$f":"IF(SAISIE!K743=\"\",0,SAISIE!K743)","v":0}]
[{"$nulls":13},{"$f":"IF(SAISIE!K744=\"\",0,SAISIE!K744)","v":0}]
[{"$nulls":13},{"$f":"IF(SAISIE!K745=\"\",0,SAISIE!K745)","v":0}]
[{"$nulls":13},{"$f":"IF(SAISIE!K746=\"\",0,SAISIE!K746)","v":0}]
[{"$nulls":13},{"$f":"IF(SAISIE!K747=\"\",0,SAISIE!K747)","v":0}]
[{"$nulls":13},{"$f":"IF(SAISIE!K748=\"\",0,SAISIE!K748)","v":0}]
[{"$nulls":13},{"$f":"IF(SAISIE!K749=\"\",0,SAISIE!K749)","v":0}]
[{"$nulls":13},{"$f":"IF(SAISIE!K750=\"\",0,SAISIE!K750)","v":0}]
[{"$nulls":13},{"$f":"IF(SAISIE!K751=\"\",0,SAISIE!K751)","v":0}]
[{"$nulls":13},{"$f":"IF(SAISIE!K752=\"\",0,SAISIE!K752)","v":0}]
[{"$nulls":13},{"$f":"IF(SAISIE!K753=\"\",0,SAISIE!K753)","v":0}]
[{"$nulls":13},{"$f":"IF(SAISIE!K754=\"\",0,SAISIE!K754)","v":0}]
[{"$nulls":13},{"$f":"IF(SAISIE!K755=\"\",0,SAISIE!K755)","v":0}]
[{"$nulls":13},{"$f":"IF(SAISIE!K756=\"\",0,SAISIE!K756)","v":0}]
[{"$nulls":13},{"$f":"IF(SAISIE!K757=\"\",0,SAISIE!K757)","v":0}]
[{"$nulls":13},{"$f":"IF(SAISIE!K758=\"\",0,SAISIE!K758)","v":0}]
[{"$nulls":13},{"$f":"IF(SAISIE!K759=\"\",0,SAISIE!K759)","v":0}]
[{"$nulls":13},{"$f":"IF(SAISIE!K760=\"\",0,SAISIE!K760)","v":0}]
[{"$nulls":13},{"$f":"IF(SAISIE!K761=\"\",0,SAISIE!K761)","v":0}]
[{"$nulls":13},{"$f":"IF(SAISIE!K762=\"\",0,SAISIE!K762)","v":0}]
[{"$nulls":13},{"$f":"IF(SAISIE!K763=\"\",0,SAISIE!K763)","v":0}]
[{"$nulls":13},{"$f":"IF(SAISIE!K764=\"\",0,SAISIE!K764)","v":0}]
[{"$nulls":13},{"$f":"IF(SAISIE!K765=\"\",0,SAISIE!K765)","v":0}]
[{"$nulls":13},{"$f":"IF(SAISIE!K766=\"\",0,SAISIE!K766)","v":0}]
[{"$nulls":13},{"$f":"IF(SAISIE!K767=\"\",0,SAISIE!K767)","v":0}]
[{"$nulls":13},{"$f":"IF(SAISIE!K768=\"\",0,SAISIE!K768)","v":0}]
[{"$nulls":13},{"$f":"IF(SAISIE!K769=\"\",0,SAISIE!K769)","v":0}]
[{"$nulls":13},{"$f":"IF(SAISIE!K770=\"\",0,SAISIE!K770)","v":0}]
[{"$nulls":13},{"$f":"IF(SAISIE!K771=\"\",0,SAISIE!K771)","v":0}]
[{"$nulls":13},{"$f":"IF(SAISIE!K772=\"\",0,SAISIE!K772)","v":0}]
[{"$nulls":13},{"$f":"IF(SAISIE!K773=\"\",0,SAISIE!K773)","v":0}]
[{"$nulls":13},{"$f":"IF(SAISIE!K774=\"\",0,SAISIE!K774)","v":0}]
[{"$nulls":13},{"$f":"IF(SAISIE!K775=\"\",0,SAISIE!K775)","v":0}]
[{"$nulls":13},{"$f":"IF(SAISIE!K776=\"\",0,SAISIE!K776)","v":0}]
[{"$nulls":13},{"$f":"IF(SAISIE!K777=\"\",0,SAISIE!K777)","v":0}]
[{"$nulls":13},{"$f":"IF(SAISIE!K778=\"\",0,SAISIE!K778)","v":0}]
[{"$nulls":13},{"$f":"IF(SAISIE!K779=\"\",0,SAISIE!K779)","v":0}]
[{"$nulls":13},{"$f":"IF(SAISIE!K780=\"\",0,SAISIE!K780)","v":0}]
[{"$nulls":13},{"$f":"IF(SAISIE!K781=\"\",0,SAISIE!K781)","v":0}]
[{"$nulls":13},{"$f":"IF(SAISIE!K782=\"\",0,SAISIE!K782)","v":0}]
[{"$nulls":13},{"$f":"IF(SAISIE!K783=\"\",0,SAISIE!K783)","v":0}]
[{"$nulls":13},{"$f":"IF(SAISIE!K784=\"\",0,SAISIE!K784)","v":0}]
[{"$nulls":13},{"$f":"IF(SAISIE!K785=\"\",0,SAISIE!K785)","v":0}]
[{"$nulls":13},{"$f":"IF(SAISIE!K786=\"\",0,SAISIE!K786)","v":0}]
[{"$nulls":13},{"$f":"IF(SAISIE!K787=\"\",0,SAISIE!K787)","v":0}]
[{"$nulls":13},{"$f":"IF(SAISIE!K788=\"\",0,SAISIE!K788)","v":0}]
[{"$nulls":13},{"$f":"IF(SAISIE!K789=\"\",0,SAISIE!K789)","v":0}]
[{"$nulls":13},{"$f":"IF(SAISIE!K790=\"\",0,SAISIE!K790)","v":0}]
[{"$nulls":13},{"$f":"IF(SAISIE!K791=\"\",0,SAISIE!K791)","v":0}]
[{"$nulls":13},{"$f":"IF(SAISIE!K792=\"\",0,SAISIE!K792)","v":0}]
[{"$nulls":13},{"$f":"IF(SAISIE!K793=\"\",0,SAISIE!K793)","v":0}]
[{"$nulls":13},{"$f":"IF(SAISIE!K794=\"\",0,SAISIE!K794)","v":0}]
[{"$nulls":13},{"$f":"IF(SAISIE!K795=\"\",0,SAISIE!K795)","v":0}]
[{"$nulls":13},{"$f":"IF(SAISIE!K796=\"\",0,SAISIE!K796)","v":0}]
[{"$nulls":13},{"$f":"IF(SAISIE!K797=\"\",0,SAISIE!K797)","v":0}]
[{"$nulls":13},{"$f":"IF(SAISIE!K798=\"\",0,SAISIE!K798)","v":0}]
[{"$nulls":13},{"$f":"IF(SAISIE!K799=\"\",0,SAISIE!K799)","v":0}]
[{"$nulls":13},{"$f":"IF(SAISIE!K800=\"\",0,SAISIE!K800)","v":0}]
[{"$nulls":13},{"$f":"IF(SAISIE!K801=\"\",0,SAISIE!K801)","v":0}]
[{"$nulls":13},{"$f":"IF(SAISIE!K802=\"\",0,SAISIE!K802)","v":0}]
[{"$nulls":13},{"$f":"IF(SAISIE!K803=\"\",0,SAISIE!K803)","v":0}]
[{"$nulls":13},{"$f":"IF(SAISIE!K804=\"\",0,SAISIE!K804)","v":0}]
[{"$nulls":13},{"$f":"IF(SAISIE!K805=\"\",0,SAISIE!K805)","v":0}]
[{"$nulls":13},{"$f":"IF(SAISIE!K806=\"\",0,SAISIE!K806)","v":0}]
[{"$nulls":13},{"$f":"IF(SAISIE!K807=\"\",0,SAISIE!K807)","v":0}]
[{"$nulls":13},{"$f":"IF(SAISIE!K808=\"\",0,SAISIE!K808)","v":0}]
[{"$nulls":13},{"$f":"IF(SAISIE!K809=\"\",0,SAISIE!K809)","v":0}]
[{"$nulls":13},{"$f":"IF(SAISIE!K810=\"\",0,SAISIE!K810)","v":0}]
[{"$nulls":13},{"$f":"IF(SAISIE!K811=\"\",0,SAISIE!K811)","v":0}]
[{"$nulls":13},{"$f":"IF(SAISIE!K812=\"\",0,SAISIE!K812)","v":0}]
[{"$nulls":13},{"$f":"IF(SAISIE!K813=\"\",0,SAISIE!K813)","v":0}]
[{"$nulls":13},{"$f":"IF(SAISIE!K814=\"\",0,SAISIE!K814)","v":0}]
[{"$nulls":13},{"$f":"IF(SAISIE!K815=\"\",0,SAISIE!K815)","v":0}]
[{"$nulls":13},{"$f":"IF(SAISIE!K816=\"\",0,SAISIE!K816)","v":0}]
[{"$nulls":13},{"$f":"IF(SAISIE!K817=\"\",0,SAISIE!K817)","v":0}]
[{"$nulls":13},{"$f":"IF(SAISIE!K818=\"\",0,SAISIE!K818)","v":0}]
[{"$nulls":13},{"$f":"IF(SAISIE!K819=\"\",0,SAISIE!K819)","v":0}]
[{"$nulls":13},{"$f":"IF(SAISIE!K820=\"\",0,SAISIE!K820)","v":0}]
[{"$nulls":13},{"$f":"IF(SAISIE!K821=\"\",0,SAISIE!K821)","v":0}]
[{"$nulls":13},{"$f":"IF(SAISIE!K822=\"\",0,SAISIE!K822)","v":0}]
[{"$nulls":13},{"$f":"IF(SAISIE!K823=\"\",0,SAISIE!K823)","v":0}]
[{"$nulls":13},{"$f":"IF(SAISIE!K824=\"\",0,SAISIE!K824)","v":0}]
[{"$nulls":13},{"$f":"IF(SAISIE!K825=\"\",0,SAISIE!K825)","v":0}]
[{"$nulls":13},{"$f":"IF(SAISIE!K826=\"\",0,SAISIE!K826)","v":0}]
[{"$nulls":13},{"$f":"IF(SAISIE!K827=\"\",0,SAISIE!K827)","v":0}]
[{"$nulls":13},{"$f":"IF(SAISIE!K828=\"\",0,SAISIE!K828)","v":0}]
[{"$nulls":13},{"$f":"IF(SAISIE!K829=\"\",0,SAISIE!K829)","v":0}]
[{"$nulls":13},{"$f":"IF(SAISIE!K830=\"\",0,SAISIE!K830)","v":0}]
[{"$nulls":13},{"$f":"IF(SAISIE!K831=\"\",0,SAISIE!K831)","v":0}]
[{"$nulls":13},{"$f":"IF(SAISIE!K832=\"\",0,SAISIE!K832)","v":0}]
[{"$nulls":13},{"$f":"IF(SAISIE!K833=\"\",0,SAISIE!K833)","v":0}]
[{"$nulls":13},{"$f":"IF(SAISIE!K834=\"\",0,SAISIE!K834)","v":0}]
[{"$nulls":13},{"$f":"IF(SAISIE!K835=\"\",0,SAISIE!K835)","v":0}]
[{"$nulls":13},{"$f":"IF(SAISIE!K836=\"\",0,SAISIE!K836)","v":0}]
[{"$nulls":13},{"$f":"IF(SAISIE!K837=\"\",0,SAISIE!K837)","v":0}]
[{"$nulls":13},{"$f":"IF(SAISIE!K838=\"\",0,SAISIE!K838)","v":0}]
[{"$nulls":13},{"$f":"IF(SAISIE!K839=\"\",0,SAISIE!K839)","v":0}]
[{"$nulls":13},{"$f":"IF(SAISIE!K840=\"\",0,SAISIE!K840)","v":0}]
[{"$nulls":13},{"$f":"IF(SAISIE!K841=\"\",0,SAISIE!K841)","v":0}]
[{"$nulls":13},{"$f":"IF(SAISIE!K842=\"\",0,SAISIE!K842)","v":0}]
[{"$nulls":13},{"$f":"IF(SAISIE!K843=\"\",0,SAISIE!K843)","v":0}]
[{"$nulls":13},{"$f":"IF(SAISIE!K844=\"\",0,SAISIE!K844)","v":0}]
[{"$nulls":13},{"$f":"IF(SAISIE!K845=\"\",0,SAISIE!K845)","v":0}]
[{"$nulls":13},{"$f":"IF(SAISIE!K846=\"\",0,SAISIE!K846)","v":0}]
[{"$nulls":13},{"$f":"IF(SAISIE!K847=\"\",0,SAISIE!K847)","v":0}]
[{"$nulls":13},{"$f":"IF(SAISIE!K848=\"\",0,SAISIE!K848)","v":0}]
[{"$nulls":13},{"$f":"IF(SAISIE!K849=\"\",0,SAISIE!K849)","v":0}]
[{"$nulls":13},{"$f":"IF(SAISIE!K850=\"\",0,SAISIE!K850)","v":0}]
[{"$nulls":13},{"$f":"IF(SAISIE!K851=\"\",0,SAISIE!K851)","v":0}]
[{"$nulls":13},{"$f":"IF(SAISIE!K852=\"\",0,SAISIE!K852)","v":0}]
[{"$nulls":13},{"$f":"IF(SAISIE!K853=\"\",0,SAISIE!K853)","v":0}]
[{"$nulls":13},{"$f":"IF(SAISIE!K854=\"\",0,SAISIE!K854)","v":0}]
[{"$nulls":13},{"$f":"IF(SAISIE!K855=\"\",0,SAISIE!K855)","v":0}]
[{"$nulls":13},{"$f":"IF(SAISIE!K856=\"\",0,SAISIE!K856)","v":0}]
[{"$nulls":13},{"$f":"IF(SAISIE!K857=\"\",0,SAISIE!K857)","v":0}]
[{"$nulls":13},{"$f":"IF(SAISIE!K858=\"\",0,SAISIE!K858)","v":0}]
[{"$nulls":13},{"$f":"IF(SAISIE!K859=\"\",0,SAISIE!K859)","v":0}]
[{"$nulls":13},{"$f":"IF(SAISIE!K860=\"\",0,SAISIE!K860)","v":0}]
[{"$nulls":13},{"$f":"IF(SAISIE!K861=\"\",0,SAISIE!K861)","v":0}]
[{"$nulls":13},{"$f":"IF(SAISIE!K862=\"\",0,SAISIE!K862)","v":0}]
[{"$nulls":13},{"$f":"IF(SAISIE!K863=\"\",0,SAISIE!K863)","v":0}]
[{"$nulls":13},{"$f":"IF(SAISIE!K864=\"\",0,SAISIE!K864)","v":0}]
[{"$nulls":13},{"$f":"IF(SAISIE!K865=\"\",0,SAISIE!K865)","v":0}]
[{"$nulls":13},{"$f":"IF(SAISIE!K866=\"\",0,SAISIE!K866)","v":0}]
[{"$nulls":13},{"$f":"IF(SAISIE!K867=\"\",0,SAISIE!K867)","v":0}]
[{"$nulls":13},{"$f":"IF(SAISIE!K868=\"\",0,SAISIE!K868)","v":0}]
[{"$nulls":13},{"$f":"IF(SAISIE!K869=\"\",0,SAISIE!K869)","v":0}]
[{"$nulls":13},{"$f":"IF(SAISIE!K870=\"\",0,SAISIE!K870)","v":0}]
[{"$nulls":13},{"$f":"IF(SAISIE!K871=\"\",0,SAISIE!K871)","v":0}]
[{"$nulls":13},{"$f":"IF(SAISIE!K872=\"\",0,SAISIE!K872)","v":0}]
[{"$nulls":13},{"$f":"IF(SAISIE!K873=\"\",0,SAISIE!K873)","v":0}]
[{"$nulls":13},{"$f":"IF(SAISIE!K874=\"\",0,SAISIE!K874)","v":0}]
[{"$nulls":13},{"$f":"IF(SAISIE!K875=\"\",0,SAISIE!K875)","v":0}]
[{"$nulls":13},{"$f":"IF(SAISIE!K876=\"\",0,SAISIE!K876)","v":0}]
[{"$nulls":13},{"$f":"IF(SAISIE!K877=\"\",0,SAISIE!K877)","v":0}]
[{"$nulls":13},{"$f":"IF(SAISIE!K878=\"\",0,SAISIE!K878)","v":0}]
[{"$nulls":13},{"$f":"IF(SAISIE!K879=\"\",0,SAISIE!K879)","v":0}]
[{"$nulls":13},{"$f":"IF(SAISIE!K880=\"\",0,SAISIE!K880)","v":0}]
[{"$nulls":13},{"$f":"IF(SAISIE!K881=\"\",0,SAISIE!K881)","v":0}]
[{"$nulls":13},{"$f":"IF(SAISIE!K882=\"\",0,SAISIE!K882)","v":0}]
[{"$nulls":13},{"$f":"IF(SAISIE!K883=\"\",0,SAISIE!K883)","v":0}]
[{"$nulls":13},{"$f":"IF(SAISIE!K884=\"\",0,SAISIE!K884)","v":0}]
[{"$nulls":13},{"$f":"IF(SAISIE!K885=\"\",0,SAISIE!K885)","v":0}]
[{"$nulls":13},{"$f":"IF(SAISIE!K886=\"\",0,SAISIE!K886)","v":0}]
[{"$nulls":13},{"$f":"IF(SAISIE!K887=\"\",0,SAISIE!K887)","v":0}]
[{"$nulls":13},{"$f":"IF(SAISIE!K888=\"\",0,SAISIE!K888)","v":0}]
[{"$nulls":13},{"$f":"IF(SAISIE!K889=\"\",0,SAISIE!K889)","v":0}]
[{"$nulls":13},{"$f":"IF(SAISIE!K890=\"\",0,SAISIE!K890)","v":0}]
[{"$nulls":13},{"$f":"IF(SAISIE!K891=\"\",0,SAISIE!K891)","v":0}]
[{"$nulls":13},{"$f":"IF(SAISIE!K892=\"\",0,SAISIE!K892)","v":0}]
[{"$nulls":13},{"$f":"IF(SAISIE!K893=\"\",0,SAISIE!K893)","v":0}]
[{"$nulls":13},{"$f":"IF(SAISIE!K894=\"\",0,SAISIE!K894)","v":0}]
[{"$nulls":13},{"$f":"IF(SAISIE!K895=\"\",0,SAISIE!K895)","v":0}]
[{"$nulls":13},{"$f":"IF(SAISIE!K896=\"\",0,SAISIE!K896)","v":0}]
[{"$nulls":13},{"$f":"IF(SAISIE!K897=\"\",0,SAISIE!K897)","v":0}]
[{"$nulls":13},{"$f":"IF(SAISIE!K898=\"\",0,SAISIE!K898)","v":0}]
[{"$nulls":13},{"$f":"IF(SAISIE!K899=\"\",0,SAISIE!K899)","v":0}]
[{"$nulls":13},{"$f":"IF(SAISIE!K900=\"\",0,SAISIE!K900)","v":0}]
[{"$nulls":13},{"$f":"IF(SAISIE!K901=\"\",0,SAISIE!K901)","v":0}]
[{"$nulls":13},{"$f":"IF(SAISIE!K902=\"\",0,SAISIE!K902)","v":0}]
[{"$nulls":13},{"$f":"IF(SAISIE!K903=\"\",0,SAISIE!K903)","v":0}]
[{"$nulls":13},{"$f":"IF(SAISIE!K904=\"\",0,SAISIE!K904)","v":0}]
[{"$nulls":13},{"$f":"IF(SAISIE!K905=\"\",0,SAISIE!K905)","v":0}]
[{"$nulls":13},{"$f":"IF(SAISIE!K906=\"\",0,SAISIE!K906)","v":0}]
[{"$nulls":13},{"$f":"IF(SAISIE!K907=\"\",0,SAISIE!K907)","v":0}]
[{"$nulls":13},{"$f":"IF(SAISIE!K908=\"\",0,SAISIE!K908)","v":0}]
[{"$nulls":13},{"$f":"IF(SAISIE!K909=\"\",0,SAISIE!K909)","v":0}]
[{"$nulls":13},{"$f":"IF(SAISIE!K910=\"\",0,SAISIE!K910)","v":0}]
[{"$nulls":13},{"$f":"IF(SAISIE!K911=\"\",0,SAISIE!K911)","v":0}]
[{"$nulls":13},{"$f":"IF(SAISIE!K912=\"\",0,SAISIE!K912)","v":0}]
[{"$nulls":13},{"$f":"IF(SAISIE!K913=\"\",0,SAISIE!K913)","v":0}]
[{"$nulls":13},{"$f":"IF(SAISIE!K914=\"\",0,SAISIE!K914)","v":0}]
[{"$nulls":13},{"$f":"IF(SAISIE!K915=\"\",0,SAISIE!K915)","v":0}]
[{"$nulls":13},{"$f":"IF(SAISIE!K916=\"\",0,SAISIE!K916)","v":0}]
[{"$nulls":13},{"$f":"IF(SAISIE!K917=\"\",0,SAISIE!K917)","v":0}]
[{"$nulls":13},{"$f":"IF(SAISIE!K918=\"\",0,SAISIE!K918)","v":0}]
[{"$nulls":13},{"$f":"IF(SAISIE!K919=\"\",0,SAISIE!K919)","v":0}]
[{"$nulls":13},{"$f":"IF(SAISIE!K920=\"\",0,SAISIE!K920)","v":0}]
[{"$nulls":13},{"$f":"IF(SAISIE!K921=\"\",0,SAISIE!K921)","v":0}]
[{"$nulls":13},{"$f":"IF(SAISIE!K922=\"\",0,SAISIE!K922)","v":0}]
[{"$nulls":13},{"$f":"IF(SAISIE!K923=\"\",0,SAISIE!K923)","v":0}]
[{"$nulls":13},{"$f":"IF(SAISIE!K924=\"\",0,SAISIE!K924)","v":0}]
[{"$nulls":13},{"$f":"IF(SAISIE!K925=\"\",0,SAISIE!K925)","v":0}]
[{"$nulls":13},{"$f":"IF(SAISIE!K926=\"\",0,SAISIE!K926)","v":0}]
[{"$nulls":13},{"$f":"IF(SAISIE!K927=\"\",0,SAISIE!K927)","v":0}]
[{"$nulls":13},{"$f":"IF(SAISIE!K928=\"\",0,SAISIE!K928)","v":0}]
[{"$nulls":13},{"$f":"IF(SAISIE!K929=\"\",0,SAISIE!K929)","v":0}]
[{"$nulls":13},{"$f":"IF(SAISIE!K930=\"\",0,SAISIE!K930)","v":0}]
[{"$nulls":13},{"$f":"IF(SAISIE!K931=\"\",0,SAISIE!K931)","v":0}]
[{"$nulls":13},{"$f":"IF(SAISIE!K932=\"\",0,SAISIE!K932)","v":0}]
[{"$nulls":13},{"$f":"IF(SAISIE!K933=\"\",0,SAISIE!K933)","v":0}]
[{"$nulls":13},{"$f":"IF(SAISIE!K934=\"\",0,SAISIE!K934)","v":0}]
[{"$nulls":13},{"$f":"IF(SAISIE!K935=\"\",0,SAISIE!K935)","v":0}]
[{"$nulls":13},{"$f":"IF(SAISIE!K936=\"\",0,SAISIE!K936)","v":0}]
[{"$nulls":13},{"$f":"IF(SAISIE!K937=\"\",0,SAISIE!K937)","v":0}]
[{"$nulls":13},{"$f":"IF(SAISIE!K938=\"\",0,SAISIE!K938)","v":0}]
[{"$nulls":13},{"$f":"IF(SAISIE!K939=\"\",0,SAISIE!K939)","v":0}]
[{"$nulls":13},{"$f":"IF(SAISIE!K940=\"\",0,SAISIE!K940)","v":0}]
[{"$nulls":13},{"$f":"IF(SAISIE!K941=\"\",0,SAISIE!K941)","v":0}]
[{"$nulls":13},{"$f":"IF(SAISIE!K942=\"\",0,SAISIE!K942)","v":0}]
[{"$nulls":13},{"$f":"IF(SAISIE!K943=\"\",0,SAISIE!K943)","v":0}]
[{"$nulls":13},{"$f":"IF(SAISIE!K944=\"\",0,SAISIE!K944)","v":0}]
[{"$nulls":13},{"$f":"IF(SAISIE!K945=\"\",0,SAISIE!K945)","v":0}]
[{"$nulls":13},{"$f":"IF(SAISIE!K946=\"\",0,SAISIE!K946)","v":0}]
[{"$nulls":13},{"$f":"IF(SAISIE!K947=\"\",0,SAISIE!K947)","v":0}]
[{"$nulls":13},{"$f":"IF(SAISIE!K948=\"\",0,SAISIE!K948)","v":0}]
[{"$nulls":13},{"$f":"IF(SAISIE!K949=\"\",0,SAISIE!K949)","v":0}]
[{"$nulls":13},{"$f":"IF(SAISIE!K950=\"\",0,SAISIE!K950)","v":0}]
[{"$nulls":13},{"$f":"IF(SAISIE!K951=\"\",0,SAISIE!K951)","v":0}]
[{"$nulls":13},{"$f":"IF(SAISIE!K952=\"\",0,SAISIE!K952)","v":0}]
[{"$nulls":13},{"$f":"IF(SAISIE!K953=\"\",0,SAISIE!K953)","v":0}]
[{"$nulls":13},{"$f":"IF(SAISIE!K954=\"\",0,SAISIE!K954)","v":0}]
[{"$nulls":13},{"$f":"IF(SAISIE!K955=\"\",0,SAISIE!K955)","v":0}]
[{"$nulls":13},{"$f":"IF(SAISIE!K956=\"\",0,SAISIE!K956)","v":0}]
[{"$nulls":13},{"$f":"IF(SAISIE!K957=\"\",0,SAISIE!K957)","v":0}]
[{"$nulls":13},{"$f":"IF(SAISIE!K958=\"\",0,SAISIE!K958)","v":0}]
[{"$nulls":13},{"$f":"IF(SAISIE!K959=\"\",0,SAISIE!K959)","v":0}]
[{"$nulls":13},{"$f":"IF(SAISIE!K960=\"\",0,SAISIE!K960)","v":0}]
[{"$nulls":13},{"$f":"IF(SAISIE!K961=\"\",0,SAISIE!K961)","v":0}]
[{"$nulls":13},{"$f":"IF(SAISIE!K962=\"\",0,SAISIE!K962)","v":0}]
[{"$nulls":13},{"$f":"IF(SAISIE!K963=\"\",0,SAISIE!K963)","v":0}]
[{"$nulls":13},{"$f":"IF(SAISIE!K964=\"\",0,SAISIE!K964)","v":0}]
[{"$nulls":13},{"$f":"IF(SAISIE!K965=\"\",0,SAISIE!K965)","v":0}]
[{"$nulls":13},{"$f":"IF(SAISIE!K966=\"\",0,SAISIE!K966)","v":0}]
[{"$nulls":13},{"$f":"IF(SAISIE!K967=\"\",0,SAISIE!K967)","v":0}]
[{"$nulls":13},{"$f":"IF(SAISIE!K968=\"\",0,SAISIE!K968)","v":0}]
[{"$nulls":13},{"$f":"IF(SAISIE!K969=\"\",0,SAISIE!K969)","v":0}]
[{"$nulls":13},{"$f":"IF(SAISIE!K970=\"\",0,SAISIE!K970)","v":0}]
[{"$nulls":13},{"$f":"IF(SAISIE!K971=\"\",0,SAISIE!K971)","v":0}]
[{"$nulls":13},{"$f":"IF(SAISIE!K972=\"\",0,SAISIE!K972)","v":0}]
[{"$nulls":13},{"$f":"IF(SAISIE!K973=\"\",0,SAISIE!K973)","v":0}]
[{"$nulls":13},{"$f":"IF(SAISIE!K974=\"\",0,SAISIE!K974)","v":0}]
[{"$nulls":13},{"$f":"IF(SAISIE!K975=\"\",0,SAISIE!K975)","v":0}]
[{"$nulls":13},{"$f":"IF(SAISIE!K976=\"\",0,SAISIE!K976)","v":0}]
[{"$nulls":13},{"$f":"IF(SAISIE!K977=\"\",0,SAISIE!K977)","v":0}]
[{"$nulls":13},{"$f":"IF(SAISIE!K978=\"\",0,SAISIE!K978)","v":0}]
[{"$nulls":13},{"$f":"IF(SAISIE!K979=\"\",0,SAISIE!K979)","v":0}]
[{"$nulls":13},{"$f":"IF(SAISIE!K980=\"\",0,SAISIE!K980)","v":0}]
[{"$nulls":13},{"$f":"IF(SAISIE!K981=\"\",0,SAISIE!K981)","v":0}]
[{"$nulls":13},{"$f":"IF(SAISIE!K982=\"\",0,SAISIE!K982)","v":0}]
[{"$nulls":13},{"$f":"IF(SAISIE!K983=\"\",0,SAISIE!K983)","v":0}]
[{"$nulls":13},{"$f":"IF(SAISIE!K984=\"\",0,SAISIE!K984)","v":0}]
[{"$nulls":13},{"$f":"IF(SAISIE!K985=\"\",0,SAISIE!K985)","v":0}]
[{"$nulls":13},{"$f":"IF(SAISIE!K986=\"\",0,SAISIE!K986)","v":0}]
[{"$nulls":13},{"$f":"IF(SAISIE!K987=\"\",0,SAISIE!K987)","v":0}]
[{"$nulls":13},{"$f":"IF(SAISIE!K988=\"\",0,SAISIE!K988)","v":0}]
[{"$nulls":13},{"$f":"IF(SAISIE!K989=\"\",0,SAISIE!K989)","v":0}]
[{"$nulls":13},{"$f":"IF(SAISIE!K990=\"\",0,SAISIE!K990)","v":0}]
[{"$nulls":13},{"$f":"IF(SAISIE!K991=\"\",0,SAISIE!K991)","v":0}]
[{"$nulls":13},{"$f":"IF(SAISIE!K992=\"\",0,SAISIE!K992)","v":0}]
[{"$nulls":13},{"$f":"IF(SAISIE!K993=\"\",0,SAISIE!K993)","v":0}]
[{"$nulls":13},{"$f":"IF(SAISIE!K994=\"\",0,SAISIE!K994)","v":0}]
[{"$nulls":13},{"$f":"IF(SAISIE!K995=\"\",0,SAISIE!K995)","v":0}]
[{"$nulls":13},{"$f":"IF(SAISIE!K996=\"\",0,SAISIE!K996)","v":0}]
[{"$nulls":13},{"$f":"IF(SAISIE!K997=\"\",0,SAISIE!K997)","v":0}]
[{"$nulls":13},{"$f":"IF(SAISIE!K998=\"\",0,SAISIE!K998)","v":0}]
[{"$nulls":13},{"$f":"IF(SAISIE!K999=\"\",0,SAISIE!K999)","v":0}]
[{"$nulls":13},{"$f":"IF(SAISIE!K1000=\"\",0,SAISIE!K1000)","v":0}]
[{"$nulls":13},{"$f":"IF(SAISIE!K1001=\"\",0,SAISIE!K1001)","v":0}]
[{"$nulls":13},{"$f":"IF(SAISIE!K1002=\"\",0,SAISIE!K1002)","v":0}]
[{"$nulls":13},{"$f":"IF(SAISIE!K1003=\"\",0,SAISIE!K1003)","v":0}]
[{"$nulls":13},{"$f":"IF(SAISIE!K1004=\"\",0,SAISIE!K1004)","v":0}]
[{"$nulls":13},{"$f":"IF(SAISIE!K1005=\"\",0,SAISIE!K1005)","v":0}]
[{"$nulls":13},{"$f":"IF(SAISIE!K1006=\"\",0,SAISIE!K1006)","v":0}]
[{"$nulls":13},{"$f":"IF(SAISIE!K1007=\"\",0,SAISIE!K1007)","v":0}]
[{"$nulls":13},{"$f":"IF(SAISIE!K1008=\"\",0,SAISIE!K1008)","v":0}]
[{"$nulls":13},{"$f":"IF(SAISIE!K1009=\"\",0,SAISIE!K1009)","v":0}]
[{"$nulls":13},{"$f":"IF(SAISIE!K1010=\"\",0,SAISIE!K1010)","v":0}]
[{"$nulls":13},{"$f":"IF(SAISIE!K1011=\"\",0,SAISIE!K1011)","v":0}]
[{"$nulls":13},{"$f":"IF(SAISIE!K1012=\"\",0,SAISIE!K1012)","v":0}]
[{"$nulls":13},{"$f":"IF(SAISIE!K1013=\"\",0,SAISIE!K1013)","v":0}]
[{"$nulls":13},{"$f":"IF(SAISIE!K1014=\"\",0,SAISIE!K1014)","v":0}]
[{"$nulls":13},{"$f":"IF(SAISIE!K1015=\"\",0,SAISIE!K1015)","v":0}]
[{"$nulls":13},{"$f":"IF(SAISIE!K1016=\"\",0,SAISIE!K1016)","v":0}]
[{"$nulls":13},{"$f":"IF(SAISIE!K1017=\"\",0,SAISIE!K1017)","v":0}]
[{"$nulls":13},{"$f":"IF(SAISIE!K1018=\"\",0,SAISIE!K1018)","v":0}]
[{"$nulls":13},{"$f":"IF(SAISIE!K1019=\"\",0,SAISIE!K1019)","v":0}]
[{"$nulls":13},{"$f":"IF(SAISIE!K1020=\"\",0,SAISIE!K1020)","v":0}]
[{"$nulls":13},{"$f":"IF(SAISIE!K1021=\"\",0,SAISIE!K1021)","v":0}]
[{"$nulls":13},{"$f":"IF(SAISIE!K1022=\"\",0,SAISIE!K1022)","v":0}]
[{"$nulls":13},{"$f":"IF(SAISIE!K1023=\"\",0,SAISIE!K1023)","v":0}]
[{"$nulls":13},{"$f":"IF(SAISIE!K1024=\"\",0,SAISIE!K1024)","v":0}]
[{"$nulls":13},{"$f":"IF(SAISIE!K1025=\"\",0,SAISIE!K1025)","v":0}]
[{"$nulls":13},{"$f":"IF(SAISIE!K1026=\"\",0,SAISIE!K1026)","v":0}]
[{"$nulls":13},{"$f":"IF(SAISIE!K1027=\"\",0,SAISIE!K1027)","v":0}]
[{"$nulls":13},{"$f":"IF(SAISIE!K1028=\"\",0,SAISIE!K1028)","v":0}]
[{"$nulls":13},{"$f":"IF(SAISIE!K1029=\"\",0,SAISIE!K1029)","v":0}]
[{"$nulls":13},{"$f":"IF(SAISIE!K1030=\"\",0,SAISIE!K1030)","v":0}]
[{"$nulls":13},{"$f":"IF(SAISIE!K1031=\"\",0,SAISIE!K1031)","v":0}]
[{"$nulls":13},{"$f":"IF(SAISIE!K1032=\"\",0,SAISIE!K1032)","v":0}]
[{"$nulls":13},{"$f":"IF(SAISIE!K1033=\"\",0,SAISIE!K1033)","v":0}]
[{"$nulls":13},{"$f":"IF(SAISIE!K1034=\"\",0,SAISIE!K1034)","v":0}]
[{"$nulls":13},{"$f":"IF(SAISIE!K1035=\"\",0,SAISIE!K1035)","v":0}]
[{"$nulls":13},{"$f":"IF(SAISIE!K1036=\"\",0,SAISIE!K1036)","v":0}]
[{"$nulls":13},{"$f":"IF(SAISIE!K1037=\"\",0,SAISIE!K1037)","v":0}]
[{"$nulls":13},{"$f":"IF(SAISIE!K1038=\"\",0,SAISIE!K1038)","v":0}]
[{"$nulls":13},{"$f":"IF(SAISIE!K1039=\"\",0,SAISIE!K1039)","v":0}]
[{"$nulls":13},{"$f":"IF(SAISIE!K1040=\"\",0,SAISIE!K1040)","v":0}]
[{"$nulls":13},{"$f":"IF(SAISIE!K1041=\"\",0,SAISIE!K1041)","v":0}]
[{"$nulls":13},{"$f":"IF(SAISIE!K1042=\"\",0,SAISIE!K1042)","v":0}]
[{"$nulls":13},{"$f":"IF(SAISIE!K1043=\"\",0,SAISIE!K1043)","v":0}]
[{"$nulls":13},{"$f":"IF(SAISIE!K1044=\"\",0,SAISIE!K1044)","v":0}]
[{"$nulls":13},{"$f":"IF(SAISIE!K1045=\"\",0,SAISIE!K1045)","v":0}]
[{"$nulls":13},{"$f":"IF(SAISIE!K1046=\"\",0,SAISIE!K1046)","v":0}]
[{"$nulls":13},{"$f":"IF(SAISIE!K1047=\"\",0,SAISIE!K1047)","v":0}]
[{"$nulls":13},{"$f":"IF(SAISIE!K1048=\"\",0,SAISIE!K1048)","v":0}]
[{"$nulls":13},{"$f":"IF(SAISIE!K1049=\"\",0,SAISIE!K1049)","v":0}]
[{"$nulls":13},{"$f":"IF(SAISIE!K1050=\"\",0,SAISIE!K1050)","v":0}]
[{"$nulls":13},{"$f":"IF(SAISIE!K1051=\"\",0,SAISIE!K1051)","v":0}]
[{"$nulls":13},{"$f":"IF(SAISIE!K1052=\"\",0,SAISIE!K1052)","v":0}]
[{"$nulls":13},{"$f":"IF(SAISIE!K1053=\"\",0,SAISIE!K1053)","v":0}]
[{"$nulls":13},{"$f":"IF(SAISIE!K1054=\"\",0,SAISIE!K1054)","v":0}]
[{"$nulls":13},{"$f":"IF(SAISIE!K1055=\"\",0,SAISIE!K1055)","v":0}]
[{"$nulls":13},{"$f":"IF(SAISIE!K1056=\"\",0,SAISIE!K1056)","v":0}]
[{"$nulls":13},{"$f":"IF(SAISIE!K1057=\"\",0,SAISIE!K1057)","v":0}]
[{"$nulls":13},{"$f":"IF(SAISIE!K1058=\"\",0,SAISIE!K1058)","v":0}]
[{"$nulls":13},{"$f":"IF(SAISIE!K1059=\"\",0,SAISIE!K1059)","v":0}]
[{"$nulls":13},{"$f":"IF(SAISIE!K1060=\"\",0,SAISIE!K1060)","v":0}]
[{"$nulls":13},{"$f":"IF(SAISIE!K1061=\"\",0,SAISIE!K1061)","v":0}]
[{"$nulls":13},{"$f":"IF(SAISIE!K1062=\"\",0,SAISIE!K1062)","v":0}]
[{"$nulls":13},{"$f":"IF(SAISIE!K1063=\"\",0,SAISIE!K1063)","v":0}]
[{"$nulls":13},{"$f":"IF(SAISIE!K1064=\"\",0,SAISIE!K1064)","v":0}]
[{"$nulls":13},{"$f":"IF(SAISIE!K1065=\"\",0,SAISIE!K1065)","v":0}]
[{"$nulls":13},{"$f":"IF(SAISIE!K1066=\"\",0,SAISIE!K1066)","v":0}]
[{"$nulls":13},{"$f":"IF(SAISIE!K1067=\"\",0,SAISIE!K1067)","v":0}]
[{"$nulls":13},{"$f":"IF(SAISIE!K1068=\"\",0,SAISIE!K1068)","v":0}]
[{"$nulls":13},{"$f":"IF(SAISIE!K1069=\"\",0,SAISIE!K1069)","v":0}]
[{"$nulls":13},{"$f":"IF(SAISIE!K1070=\"\",0,SAISIE!K1070)","v":0}]
[{"$nulls":13},{"$f":"IF(SAISIE!K1071=\"\",0,SAISIE!K1071)","v":0}]
[{"$nulls":13},{"$f":"IF(SAISIE!K1072=\"\",0,SAISIE!K1072)","v":0}]
[{"$nulls":13},{"$f":"IF(SAISIE!K1073=\"\",0,SAISIE!K1073)","v":0}]
[{"$nulls":13},{"$f":"IF(SAISIE!K1074=\"\",0,SAISIE!K1074)","v":0}]
[{"$nulls":13},{"$f":"IF(SAISIE!K1075=\"\",0,SAISIE!K1075)","v":0}]
[{"$nulls":13},{"$f":"IF(SAISIE!K1076=\"\",0,SAISIE!K1076)","v":0}]
[{"$nulls":13},{"$f":"IF(SAISIE!K1077=\"\",0,SAISIE!K1077)","v":0}]
[{"$nulls":13},{"$f":"IF(SAISIE!K1078=\"\",0,SAISIE!K1078)","v":0}]
[{"$nulls":13},{"$f":"IF(SAISIE!K1079=\"\",0,SAISIE!K1079)","v":0}]
[{"$nulls":13},{"$f":"IF(SAISIE!K1080=\"\",0,SAISIE!K1080)","v":0}]
[{"$nulls":13},{"$f":"IF(SAISIE!K1081=\"\",0,SAISIE!K1081)","v":0}]
[{"$nulls":13},{"$f":"IF(SAISIE!K1082=\"\",0,SAISIE!K1082)","v":0}]
[{"$nulls":13},{"$f":"IF(SAISIE!K1083=\"\",0,SAISIE!K1083)","v":0}]
[{"$nulls":13},{"$f":"IF(SAISIE!K1084=\"\",0,SAISIE!K1084)","v":0}]
[{"$nulls":13},{"$f":"IF(SAISIE!K1085=\"\",0,SAISIE!K1085)","v":0}]
[{"$nulls":13},{"$f":"IF(SAISIE!K1086=\"\",0,SAISIE!K1086)","v":0}]
[{"$nulls":13},{"$f":"IF(SAISIE!K1087=\"\",0,SAISIE!K1087)","v":0}]
[{"$nulls":13},{"$f":"IF(SAISIE!K1088=\"\",0,SAISIE!K1088)","v":0}]
[{"$nulls":13},{"$f":"IF(SAISIE!K1089=\"\",0,SAISIE!K1089)","v":0}]
[{"$nulls":13},{"$f":"IF(SAISIE!K1090=\"\",0,SAISIE!K1090)","v":0}]
[{"$nulls":13},{"$f":"IF(SAISIE!K1091=\"\",0,SAISIE!K1091)","v":0}]
[{"$nulls":13},{"$f":"IF(SAISIE!K1092=\"\",0,SAISIE!K1092)","v":0}]
[{"$nulls":13},{"$f":"IF(SAISIE!K1093=\"\",0,SAISIE!K1093)","v":0}]
[{"$nulls":13},{"$f":"IF(SAISIE!K1094=\"\",0,SAISIE!K1094)","v":0}]
[{"$nulls":13},{"$f":"IF(SAISIE!K1095=\"\",0,SAISIE!K1095)","v":0}]
[{"$nulls":13},{"$f":"IF(SAISIE!K1096=\"\",0,SAISIE!K1096)","v":0}]
[{"$nulls":13},{"$f":"IF(SAISIE!K1097=\"\",0,SAISIE!K1097)","v":0}]
[{"$nulls":13},{"$f":"IF(SAISIE!K1098=\"\",0,SAISIE!K1098)","v":0}]
[{"$nulls":13},{"$f":"IF(SAISIE!K1099=\"\",0,SAISIE!K1099)","v":0}]
[{"$nulls":13},{"$f":"IF(SAISIE!K1100=\"\",0,SAISIE!K1100)","v":0}]
[{"$nulls":13},{"$f":"IF(SAISIE!K1101=\"\",0,SAISIE!K1101)","v":0}]
[{"$nulls":13},{"$f":"IF(SAISIE!K1102=\"\",0,SAISIE!K1102)","v":0}]
[{"$nulls":13},{"$f":"IF(SAISIE!K1103=\"\",0,SAISIE!K1103)","v":0}]
[{"$nulls":13},{"$f":"IF(SAISIE!K1104=\"\",0,SAISIE!K1104)","v":0}]
[{"$nulls":13},{"$f":"IF(SAISIE!K1105=\"\",0,SAISIE!K1105)","v":0}]
[{"$nulls":13},{"$f":"IF(SAISIE!K1106=\"\",0,SAISIE!K1106)","v":0}]
[{"$nulls":13},{"$f":"IF(SAISIE!K1107=\"\",0,SAISIE!K1107)","v":0}]
[{"$nulls":13},{"$f":"IF(SAISIE!K1108=\"\",0,SAISIE!K1108)","v":0}]
[{"$nulls":13},{"$f":"IF(SAISIE!K1109=\"\",0,SAISIE!K1109)","v":0}]
[{"$nulls":13},{"$f":"IF(SAISIE!K1110=\"\",0,SAISIE!K1110)","v":0}]
[{"$nulls":13},{"$f":"IF(SAISIE!K1111=\"\",0,SAISIE!K1111)","v":0}]
[{"$nulls":13},{"$f":"IF(SAISIE!K1112=\"\",0,SAISIE!K1112)","v":0}]
[{"$nulls":13},{"$f":"IF(SAISIE!K1113=\"\",0,SAISIE!K1113)","v":0}]
[{"$nulls":13},{"$f":"IF(SAISIE!K1114=\"\",0,SAISIE!K1114)","v":0}]
[{"$nulls":13},{"$f":"IF(SAISIE!K1115=\"\",0,SAISIE!K1115)","v":0}]
[{"$nulls":13},{"$f":"IF(SAISIE!K1116=\"\",0,SAISIE!K1116)","v":0}]
[{"$nulls":13},{"$f":"IF(SAISIE!K1117=\"\",0,SAISIE!K1117)","v":0}]
[{"$nulls":13},{"$f":"IF(SAISIE!K1118=\"\",0,SAISIE!K1118)","v":0}]
[{"$nulls":13},{"$f":"IF(SAISIE!K1119=\"\",0,SAISIE!K1119)","v":0}]
[{"$nulls":13},{"$f":"IF(SAISIE!K1120=\"\",0,SAISIE!K1120)","v":0}]
[{"$nulls":13},{"$f":"IF(SAISIE!K1121=\"\",0,SAISIE!K1121)","v":0}]
[{"$nulls":13},{"$f":"IF(SAISIE!K1122=\"\",0,SAISIE!K1122)","v":0}]
[{"$nulls":13},{"$f":"IF(SAISIE!K1123=\"\",0,SAISIE!K1123)","v":0}]
[{"$nulls":13},{"$f":"IF(SAISIE!K1124=\"\",0,SAISIE!K1124)","v":0}]
[{"$nulls":13},{"$f":"IF(SAISIE!K1125=\"\",0,SAISIE!K1125)","v":0}]
[{"$nulls":13},{"$f":"IF(SAISIE!K1126=\"\",0,SAISIE!K1126)","v":0}]
[{"$nulls":13},{"$f":"IF(SAISIE!K1127=\"\",0,SAISIE!K1127)","v":0}]
[{"$nulls":13},{"$f":"IF(SAISIE!K1128=\"\",0,SAISIE!K1128)","v":0}]
[{"$nulls":13},{"$f":"IF(SAISIE!K1129=\"\",0,SAISIE!K1129)","v":0}]
[{"$nulls":13},{"$f":"IF(SAISIE!K1130=\"\",0,SAISIE!K1130)","v":0}]
[{"$nulls":13},{"$f":"IF(SAISIE!K1131=\"\",0,SAISIE!K1131)","v":0}]
[{"$nulls":13},{"$f":"IF(SAISIE!K1132=\"\",0,SAISIE!K1132)","v":0}]
[{"$nulls":13},{"$f":"IF(SAISIE!K1133=\"\",0,SAISIE!K1133)","v":0}]
[{"$nulls":13},{"$f":"IF(SAISIE!K1134=\"\",0,SAISIE!K1134)","v":0}]
[{"$nulls":13},{"$f":"IF(SAISIE!K1135=\"\",0,SAISIE!K1135)","v":0}]
[{"$nulls":13},{"$f":"IF(SAISIE!K1136=\"\",0,SAISIE!K1136)","v":0}]
[{"$nulls":13},{"$f":"IF(SAISIE!K1137=\"\",0,SAISIE!K1137)","v":0}]
[{"$nulls":13},{"$f":"IF(SAISIE!K1138=\"\",0,SAISIE!K1138)","v":0}]
[{"$nulls":13},{"$f":"IF(SAISIE!K1139=\"\",0,SAISIE!K1139)","v":0}]
[{"$nulls":13},{"$f":"IF(SAISIE!K1140=\"\",0,SAISIE!K1140)","v":0}]
[{"$nulls":13},{"$f":"IF(SAISIE!K1141=\"\",0,SAISIE!K1141)","v":0}]
[{"$nulls":13},{"$f":"IF(SAISIE!K1142=\"\",0,SAISIE!K1142)","v":0}]
[{"$nulls":13},{"$f":"IF(SAISIE!K1143=\"\",0,SAISIE!K1143)","v":0}]
[{"$nulls":13},{"$f":"IF(SAISIE!K1144=\"\",0,SAISIE!K1144)","v":0}]
[{"$nulls":13},{"$f":"IF(SAISIE!K1145=\"\",0,SAISIE!K1145)","v":0}]
[{"$nulls":13},{"$f":"IF(SAISIE!K1146=\"\",0,SAISIE!K1146)","v":0}]
[{"$nulls":13},{"$f":"IF(SAISIE!K1147=\"\",0,SAISIE!K1147)","v":0}]
[{"$nulls":13},{"$f":"IF(SAISIE!K1148=\"\",0,SAISIE!K1148)","v":0}]
[{"$nulls":13},{"$f":"IF(SAISIE!K1149=\"\",0,SAISIE!K1149)","v":0}]
[{"$nulls":13},{"$f":"IF(SAISIE!K1150=\"\",0,SAISIE!K1150)","v":0}]
[{"$nulls":13},{"$f":"IF(SAISIE!K1151=\"\",0,SAISIE!K1151)","v":0}]
[{"$nulls":13},{"$f":"IF(SAISIE!K1152=\"\",0,SAISIE!K1152)","v":0}]
[{"$nulls":13},{"$f":"IF(SAISIE!K1153=\"\",0,SAISIE!K1153)","v":0}]
[{"$nulls":13},{"$f":"IF(SAISIE!K1154=\"\",0,SAISIE!K1154)","v":0}]
[{"$nulls":13},{"$f":"IF(SAISIE!K1155=\"\",0,SAISIE!K1155)","v":0}]
[{"$nulls":13},{"$f":"IF(SAISIE!K1156=\"\",0,SAISIE!K1156)","v":0}]
[{"$nulls":13},{"$f":"IF(SAISIE!K1157=\"\",0,SAISIE!K1157)","v":0}]
[{"$nulls":13},{"$f":"IF(SAISIE!K1158=\"\",0,SAISIE!K1158)","v":0}]
[{"$nulls":13},{"$f":"IF(SAISIE!K1159=\"\",0,SAISIE!K1159)","v":0}]
[{"$nulls":13},{"$f":"IF(SAISIE!K1160=\"\",0,SAISIE!K1160)","v":0}]
[{"$nulls":13},{"$f":"IF(SAISIE!K1161=\"\",0,SAISIE!K1161)","v":0}]
[{"$nulls":13},{"$f":"IF(SAISIE!K1162=\"\",0,SAISIE!K1162)","v":0}]
[{"$nulls":13},{"$f":"IF(SAISIE!K1163=\"\",0,SAISIE!K1163)","v":0}]
[{"$nulls":13},{"$f":"IF(SAISIE!K1164=\"\",0,SAISIE!K1164)","v":0}]
[{"$nulls":13},{"$f":"IF(SAISIE!K1165=\"\",0,SAISIE!K1165)","v":0}]
[{"$nulls":13},{"$f":"IF(SAISIE!K1166=\"\",0,SAISIE!K1166)","v":0}]
[{"$nulls":13},{"$f":"IF(SAISIE!K1167=\"\",0,SAISIE!K1167)","v":0}]
[{"$nulls":13},{"$f":"IF(SAISIE!K1168=\"\",0,SAISIE!K1168)","v":0}]
[{"$nulls":13},{"$f":"IF(SAISIE!K1169=\"\",0,SAISIE!K1169)","v":0}]
[{"$nulls":13},{"$f":"IF(SAISIE!K1170=\"\",0,SAISIE!K1170)","v":0}]
[{"$nulls":13},{"$f":"IF(SAISIE!K1171=\"\",0,SAISIE!K1171)","v":0}]
[{"$nulls":13},{"$f":"IF(SAISIE!K1172=\"\",0,SAISIE!K1172)","v":0}]
[{"$nulls":13},{"$f":"IF(SAISIE!K1173=\"\",0,SAISIE!K1173)","v":0}]
[{"$nulls":13},{"$f":"IF(SAISIE!K1174=\"\",0,SAISIE!K1174)","v":0}]
[{"$nulls":13},{"$f":"IF(SAISIE!K1175=\"\",0,SAISIE!K1175)","v":0}]
[{"$nulls":13},{"$f":"IF(SAISIE!K1176=\"\",0,SAISIE!K1176)","v":0}]
[{"$nulls":13},{"$f":"IF(SAISIE!K1177=\"\",0,SAISIE!K1177)","v":0}]
[{"$nulls":13},{"$f":"IF(SAISIE!K1178=\"\",0,SAISIE!K1178)","v":0}]
[{"$nulls":13},{"$f":"IF(SAISIE!K1179=\"\",0,SAISIE!K1179)","v":0}]
[{"$nulls":13},{"$f":"IF(SAISIE!K1180=\"\",0,SAISIE!K1180)","v":0}]
[{"$nulls":13},{"$f":"IF(SAISIE!K1181=\"\",0,SAISIE!K1181)","v":0}]
[{"$nulls":13},{"$f":"IF(SAISIE!K1182=\"\",0,SAISIE!K1182)","v":0}]
[{"$nulls":13},{"$f":"IF(SAISIE!K1183=\"\",0,SAISIE!K1183)","v":0}]
[{"$nulls":13},{"$f":"IF(SAISIE!K1184=\"\",0,SAISIE!K1184)","v":0}]
[{"$nulls":13},{"$f":"IF(SAISIE!K1185=\"\",0,SAISIE!K1185)","v":0}]
[{"$nulls":13},{"$f":"IF(SAISIE!K1186=\"\",0,SAISIE!K1186)","v":0}]
[{"$nulls":13},{"$f":"IF(SAISIE!K1187=\"\",0,SAISIE!K1187)","v":0}]
[{"$nulls":13},{"$f":"IF(SAISIE!K1188=\"\",0,SAISIE!K1188)","v":0}]
[{"$nulls":13},{"$f":"IF(SAISIE!K1189=\"\",0,SAISIE!K1189)","v":0}]
[{"$nulls":13},{"$f":"IF(SAISIE!K1190=\"\",0,SAISIE!K1190)","v":0}]
[{"$nulls":13},{"$f":"IF(SAISIE!K1191=\"\",0,SAISIE!K1191)","v":0}]
[{"$nulls":13},{"$f":"IF(SAISIE!K1192=\"\",0,SAISIE!K1192)","v":0}]
[{"$nulls":13},{"$f":"IF(SAISIE!K1193=\"\",0,SAISIE!K1193)","v":0}]
[{"$nulls":13},{"$f":"IF(SAISIE!K1194=\"\",0,SAISIE!K1194)","v":0}]
[{"$nulls":13},{"$f":"IF(SAISIE!K1195=\"\",0,SAISIE!K1195)","v":0}]
[{"$nulls":13},{"$f":"IF(SAISIE!K1196=\"\",0,SAISIE!K1196)","v":0}]
[{"$nulls":13},{"$f":"IF(SAISIE!K1197=\"\",0,SAISIE!K1197)","v":0}]
[{"$nulls":13},{"$f":"IF(SAISIE!K1198=\"\",0,SAISIE!K1198)","v":0}]
[{"$nulls":13},{"$f":"IF(SAISIE!K1199=\"\",0,SAISIE!K1199)","v":0}]
[{"$nulls":13},{"$f":"IF(SAISIE!K1200=\"\",0,SAISIE!K1200)","v":0}]
[{"$nulls":13},{"$f":"IF(SAISIE!K1201=\"\",0,SAISIE!K1201)","v":0}]
[{"$nulls":13},{"$f":"IF(SAISIE!K1202=\"\",0,SAISIE!K1202)","v":0}]
[{"$nulls":13},{"$f":"IF(SAISIE!K1203=\"\",0,SAISIE!K1203)","v":0}]
[{"$nulls":13},{"$f":"IF(SAISIE!K1204=\"\",0,SAISIE!K1204)","v":0}]
[{"$nulls":13},{"$f":"IF(SAISIE!K1205=\"\",0,SAISIE!K1205)","v":0}]
[{"$nulls":13},{"$f":"IF(SAISIE!K1206=\"\",0,SAISIE!K1206)","v":0}]
[{"$nulls":13},{"$f":"IF(SAISIE!K1207=\"\",0,SAISIE!K1207)","v":0}]
[{"$nulls":13},{"$f":"IF(SAISIE!K1208=\"\",0,SAISIE!K1208)","v":0}]
[{"$nulls":13},{"$f":"IF(SAISIE!K1209=\"\",0,SAISIE!K1209)","v":0}]
[{"$nulls":13},{"$f":"IF(SAISIE!K1210=\"\",0,SAISIE!K1210)","v":0}]
[{"$nulls":13},{"$f":"IF(SAISIE!K1211=\"\",0,SAISIE!K1211)","v":0}]
[{"$nulls":13},{"$f":"IF(SAISIE!K1212=\"\",0,SAISIE!K1212)","v":0}]
[{"$nulls":13},{"$f":"IF(SAISIE!K1213=\"\",0,SAISIE!K1213)","v":0}]
[{"$nulls":13},{"$f":"IF(SAISIE!K1214=\"\",0,SAISIE!K1214)","v":0}]
[{"$nulls":13},{"$f":"IF(SAISIE!K1215=\"\",0,SAISIE!K1215)","v":0}]
[{"$nulls":13},{"$f":"IF(SAISIE!K1216=\"\",0,SAISIE!K1216)","v":0}]
[{"$nulls":13},{"$f":"IF(SAISIE!K1217=\"\",0,SAISIE!K1217)","v":0}]
[{"$nulls":13},{"$f":"IF(SAISIE!K1218=\"\",0,SAISIE!K1218)","v":0}]
[{"$nulls":13},{"$f":"IF(SAISIE!K1219=\"\",0,SAISIE!K1219)","v":0}]
[{"$nulls":13},{"$f":"IF(SAISIE!K1220=\"\",0,SAISIE!K1220)","v":0}]
[{"$nulls":13},{"$f":"IF(SAISIE!K1221=\"\",0,SAISIE!K1221)","v":0}]
[{"$nulls":13},{"$f":"IF(SAISIE!K1222=\"\",0,SAISIE!K1222)","v":0}]
[{"$nulls":13},{"$f":"IF(SAISIE!K1223=\"\",0,SAISIE!K1223)","v":0}]
[{"$nulls":13},{"$f":"IF(SAISIE!K1224=\"\",0,SAISIE!K1224)","v":0}]
[{"$nulls":13},{"$f":"IF(SAISIE!K1225=\"\",0,SAISIE!K1225)","v":0}]
[{"$nulls":13},{"$f":"IF(SAISIE!K1226=\"\",0,SAISIE!K1226)","v":0}]
[{"$nulls":13},{"$f":"IF(SAISIE!K1227=\"\",0,SAISIE!K1227)","v":0}]
[{"$nulls":13},{"$f":"IF(SAISIE!K1228=\"\",0,SAISIE!K1228)","v":0}]
[{"$nulls":13},{"$f":"IF(SAISIE!K1229=\"\",0,SAISIE!K1229)","v":0}]
[{"$nulls":13},{"$f":"IF(SAISIE!K1230=\"\",0,SAISIE!K1230)","v":0}]
[{"$nulls":13},{"$f":"IF(SAISIE!K1231=\"\",0,SAISIE!K1231)","v":0}]
[{"$nulls":13},{"$f":"IF(SAISIE!K1232=\"\",0,SAISIE!K1232)","v":0}]
[{"$nulls":13},{"$f":"IF(SAISIE!K1233=\"\",0,SAISIE!K1233)","v":0}]
[{"$nulls":13},{"$f":"IF(SAISIE!K1234=\"\",0,SAISIE!K1234)","v":0}]
[{"$nulls":13},{"$f":"IF(SAISIE!K1235=\"\",0,SAISIE!K1235)","v":0}]
[{"$nulls":13},{"$f":"IF(SAISIE!K1236=\"\",0,SAISIE!K1236)","v":0}]
[{"$nulls":13},{"$f":"IF(SAISIE!K1237=\"\",0,SAISIE!K1237)","v":0}]
[{"$nulls":13},{"$f":"IF(SAISIE!K1238=\"\",0,SAISIE!K1238)","v":0}]
[{"$nulls":13},{"$f":"IF(SAISIE!K1239=\"\",0,SAISIE!K1239)","v":0}]
[{"$nulls":13},{"$f":"IF(SAISIE!K1240=\"\",0,SAISIE!K1240)","v":0}]
[{"$nulls":13},{"$f":"IF(SAISIE!K1241=\"\",0,SAISIE!K1241)","v":0}]
[{"$nulls":13},{"$f":"IF(SAISIE!K1242=\"\",0,SAISIE!K1242)","v":0}]
[{"$nulls":13},{"$f":"IF(SAISIE!K1243=\"\",0,SAISIE!K1243)","v":0}]
[{"$nulls":13},{"$f":"IF(SAISIE!K1244=\"\",0,SAISIE!K1244)","v":0}]
[{"$nulls":13},{"$f":"IF(SAISIE!K1245=\"\",0,SAISIE!K1245)","v":0}]
[{"$nulls":13},{"$f":"IF(SAISIE!K1246=\"\",0,SAISIE!K1246)","v":0}]
[{"$nulls":13},{"$f":"IF(SAISIE!K1247=\"\",0,SAISIE!K1247)","v":0}]
[{"$nulls":13},{"$f":"IF(SAISIE!K1248=\"\",0,SAISIE!K1248)","v":0}]
[{"$nulls":13},{"$f":"IF(SAISIE!K1249=\"\",0,SAISIE!K1249)","v":0}]
[{"$nulls":13},{"$f":"IF(SAISIE!K1250=\"\",0,SAISIE!K1250)","v":0}]
[{"$nulls":13},{"$f":"IF(SAISIE!K1251=\"\",0,SAISIE!K1251)","v":0}]
[{"$nulls":13},{"$f":"IF(SAISIE!K1252=\"\",0,SAISIE!K1252)","v":0}]
[{"$nulls":13},{"$f":"IF(SAISIE!K1253=\"\",0,SAISIE!K1253)","v":0}]
[{"$nulls":13},{"$f":"IF(SAISIE!K1254=\"\",0,SAISIE!K1254)","v":0}]
[{"$nulls":13},{"$f":"IF(SAISIE!K1255=\"\",0,SAISIE!K1255)","v":0}]
[{"$nulls":13},{"$f":"IF(SAISIE!K1256=\"\",0,SAISIE!K1256)","v":0}]
[{"$nulls":13},{"$f":"IF(SAISIE!K1257=\"\",0,SAISIE!K1257)","v":0}]
[{"$nulls":13},{"$f":"IF(SAISIE!K1258=\"\",0,SAISIE!K1258)","v":0}]
[{"$nulls":13},{"$f":"IF(SAISIE!K1259=\"\",0,SAISIE!K1259)","v":0}]
[{"$nulls":13},{"$f":"IF(SAISIE!K1260=\"\",0,SAISIE!K1260)","v":0}]
[{"$nulls":13},{"$f":"IF(SAISIE!K1261=\"\",0,SAISIE!K1261)","v":0}]
[{"$nulls":13},{"$f":"IF(SAISIE!K1262=\"\",0,SAISIE!K1262)","v":0}]
[{"$nulls":13},{"$f":"IF(SAISIE!K1263=\"\",0,SAISIE!K1263)","v":0}]
[{"$nulls":13},{"$f":"IF(SAISIE!K1264=\"\",0,SAISIE!K1264)","v":0}]
[{"$nulls":13},{"$f":"IF(SAISIE!K1265=\"\",0,SAISIE!K1265)","v":0}]
[{"$nulls":13},{"$f":"IF(SAISIE!K1266=\"\",0,SAISIE!K1266)","v":0}]
[{"$nulls":13},{"$f":"IF(SAISIE!K1267=\"\",0,SAISIE!K1267)","v":0}]
[{"$nulls":13},{"$f":"IF(SAISIE!K1268=\"\",0,SAISIE!K1268)","v":0}]
[{"$nulls":13},{"$f":"IF(SAISIE!K1269=\"\",0,SAISIE!K1269)","v":0}]
[{"$nulls":13},{"$f":"IF(SAISIE!K1270=\"\",0,SAISIE!K1270)","v":0}]
[{"$nulls":13},{"$f":"IF(SAISIE!K1271=\"\",0,SAISIE!K1271)","v":0}]
[{"$nulls":13},{"$f":"IF(SAISIE!K1272=\"\",0,SAISIE!K1272)","v":0}]
[{"$nulls":13},{"$f":"IF(SAISIE!K1273=\"\",0,SAISIE!K1273)","v":0}]
[{"$nulls":13},{"$f":"IF(SAISIE!K1274=\"\",0,SAISIE!K1274)","v":0}]
[{"$nulls":13},{"$f":"IF(SAISIE!K1275=\"\",0,SAISIE!K1275)","v":0}]
[{"$nulls":13},{"$f":"IF(SAISIE!K1276=\"\",0,SAISIE!K1276)","v":0}]
[{"$nulls":13},{"$f":"IF(SAISIE!K1277=\"\",0,SAISIE!K1277)","v":0}]
[{"$nulls":13},{"$f":"IF(SAISIE!K1278=\"\",0,SAISIE!K1278)","v":0}]
[{"$nulls":13},{"$f":"IF(SAISIE!K1279=\"\",0,SAISIE!K1279)","v":0}]
[{"$nulls":13},{"$f":"IF(SAISIE!K1280=\"\",0,SAISIE!K1280)","v":0}]
[{"$nulls":13},{"$f":"IF(SAISIE!K1281=\"\",0,SAISIE!K1281)","v":0}]
[{"$nulls":13},{"$f":"IF(SAISIE!K1282=\"\",0,SAISIE!K1282)","v":0}]
[{"$nulls":13},{"$f":"IF(SAISIE!K1283=\"\",0,SAISIE!K1283)","v":0}]
[{"$nulls":13},{"$f":"IF(SAISIE!K1284=\"\",0,SAISIE!K1284)","v":0}]
[{"$nulls":13},{"$f":"IF(SAISIE!K1285=\"\",0,SAISIE!K1285)","v":0}]
[{"$nulls":13},{"$f":"IF(SAISIE!K1286=\"\",0,SAISIE!K1286)","v":0}]
[{"$nulls":13},{"$f":"IF(SAISIE!K1287=\"\",0,SAISIE!K1287)","v":0}]
[{"$nulls":13},{"$f":"IF(SAISIE!K1288=\"\",0,SAISIE!K1288)","v":0}]
[{"$nulls":13},{"$f":"IF(SAISIE!K1289=\"\",0,SAISIE!K1289)","v":0}]
[{"$nulls":13},{"$f":"IF(SAISIE!K1290=\"\",0,SAISIE!K1290)","v":0}]
[{"$nulls":13},{"$f":"IF(SAISIE!K1291=\"\",0,SAISIE!K1291)","v":0}]
[{"$nulls":13},{"$f":"IF(SAISIE!K1292=\"\",0,SAISIE!K1292)","v":0}]
[{"$nulls":13},{"$f":"IF(SAISIE!K1293=\"\",0,SAISIE!K1293)","v":0}]
[{"$nulls":13},{"$f":"IF(SAISIE!K1294=\"\",0,SAISIE!K1294)","v":0}]
[{"$nulls":13},{"$f":"IF(SAISIE!K1295=\"\",0,SAISIE!K1295)","v":0}]
[{"$nulls":13},{"$f":"IF(SAISIE!K1296=\"\",0,SAISIE!K1296)","v":0}]
[{"$nulls":13},{"$f":"IF(SAISIE!K1297=\"\",0,SAISIE!K1297)","v":0}]
[{"$nulls":13},{"$f":"IF(SAISIE!K1298=\"\",0,SAISIE!K1298)","v":0}]
[{"$nulls":13},{"$f":"IF(SAISIE!K1299=\"\",0,SAISIE!K1299)","v":0}]
[{"$nulls":13},{"$f":"IF(SAISIE!K1300=\"\",0,SAISIE!K1300)","v":0}]
[{"$nulls":13},{"$f":"IF(SAISIE!K1301=\"\",0,SAISIE!K1301)","v":0}]
[{"$nulls":13},{"$f":"IF(SAISIE!K1302=\"\",0,SAISIE!K1302)","v":0}]
[{"$nulls":13},{"$f":"IF(SAISIE!K1303=\"\",0,SAISIE!K1303)","v":0}]
[{"$nulls":13},{"$f":"IF(SAISIE!K1304=\"\",0,SAISIE!K1304)","v":0}]
[{"$nulls":13},{"$f":"IF(SAISIE!K1305=\"\",0,SAISIE!K1305)","v":0}]
[{"$nulls":13},{"$f":"IF(SAISIE!K1306=\"\",0,SAISIE!K1306)","v":0}]
[{"$nulls":13},{"$f":"IF(SAISIE!K1307=\"\",0,SAISIE!K1307)","v":0}]
[{"$nulls":13},{"$f":"IF(SAISIE!K1308=\"\",0,SAISIE!K1308)","v":0}]
[{"$nulls":13},{"$f":"IF(SAISIE!K1309=\"\",0,SAISIE!K1309)","v":0}]
[{"$nulls":13},{"$f":"IF(SAISIE!K1310=\"\",0,SAISIE!K1310)","v":0}]
[{"$nulls":13},{"$f":"IF(SAISIE!K1311=\"\",0,SAISIE!K1311)","v":0}]
[{"$nulls":13},{"$f":"IF(SAISIE!K1312=\"\",0,SAISIE!K1312)","v":0}]
[{"$nulls":13},{"$f":"IF(SAISIE!K1313=\"\",0,SAISIE!K1313)","v":0}]
[{"$nulls":13},{"$f":"IF(SAISIE!K1314=\"\",0,SAISIE!K1314)","v":0}]
[{"$nulls":13},{"$f":"IF(SAISIE!K1315=\"\",0,SAISIE!K1315)","v":0}]
[{"$nulls":13},{"$f":"IF(SAISIE!K1316=\"\",0,SAISIE!K1316)","v":0}]
[{"$nulls":13},{"$f":"IF(SAISIE!K1317=\"\",0,SAISIE!K1317)","v":0}]
[{"$nulls":13},{"$f":"IF(SAISIE!K1318=\"\",0,SAISIE!K1318)","v":0}]
[{"$nulls":13},{"$f":"IF(SAISIE!K1319=\"\",0,SAISIE!K1319)","v":0}]
[{"$nulls":13},{"$f":"IF(SAISIE!K1320=\"\",0,SAISIE!K1320)","v":0}]
[{"$nulls":13},{"$f":"IF(SAISIE!K1321=\"\",0,SAISIE!K1321)","v":0}]
[{"$nulls":13},{"$f":"IF(SAISIE!K1322=\"\",0,SAISIE!K1322)","v":0}]
[{"$nulls":13},{"$f":"IF(SAISIE!K1323=\"\",0,SAISIE!K1323)","v":0}]
[{"$nulls":13},{"$f":"IF(SAISIE!K1324=\"\",0,SAISIE!K1324)","v":0}]
[{"$nulls":13},{"$f":"IF(SAISIE!K1325=\"\",0,SAISIE!K1325)","v":0}]
[{"$nulls":13},{"$f":"IF(SAISIE!K1326=\"\",0,SAISIE!K1326)","v":0}]
[{"$nulls":13},{"$f":"IF(SAISIE!K1327=\"\",0,SAISIE!K1327)","v":0}]
[{"$nulls":13},{"$f":"IF(SAISIE!K1328=\"\",0,SAISIE!K1328)","v":0}]
[{"$nulls":13},{"$f":"IF(SAISIE!K1329=\"\",0,SAISIE!K1329)","v":0}]
[{"$nulls":13},{"$f":"IF(SAISIE!K1330=\"\",0,SAISIE!K1330)","v":0}]
[{"$nulls":13},{"$f":"IF(SAISIE!K1331=\"\",0,SAISIE!K1331)","v":0}]
[{"$nulls":13},{"$f":"IF(SAISIE!K1332=\"\",0,SAISIE!K1332)","v":0}]
[{"$nulls":13},{"$f":"IF(SAISIE!K1333=\"\",0,SAISIE!K1333)","v":0}]
[{"$nulls":13},{"$f":"IF(SAISIE!K1334=\"\",0,SAISIE!K1334)","v":0}]
[{"$nulls":13},{"$f":"IF(SAISIE!K1335=\"\",0,SAISIE!K1335)","v":0}]
[{"$nulls":13},{"$f":"IF(SAISIE!K1336=\"\",0,SAISIE!K1336)","v":0}]
[{"$nulls":13},{"$f":"IF(SAISIE!K1337=\"\",0,SAISIE!K1337)","v":0}]
[{"$nulls":13},{"$f":"IF(SAISIE!K1338=\"\",0,SAISIE!K1338)","v":0}]
[{"$nulls":13},{"$f":"IF(SAISIE!K1339=\"\",0,SAISIE!K1339)","v":0}]
[{"$nulls":13},{"$f":"IF(SAISIE!K1340=\"\",0,SAISIE!K1340)","v":0}]
[{"$nulls":13},{"$f":"IF(SAISIE!K1341=\"\",0,SAISIE!K1341)","v":0}]
[{"$nulls":13},{"$f":"IF(SAISIE!K1342=\"\",0,SAISIE!K1342)","v":0}]
[{"$nulls":13},{"$f":"IF(SAISIE!K1343=\"\",0,SAISIE!K1343)","v":0}]
[{"$nulls":13},{"$f":"IF(SAISIE!K1344=\"\",0,SAISIE!K1344)","v":0}]
[{"$nulls":13},{"$f":"IF(SAISIE!K1345=\"\",0,SAISIE!K1345)","v":0}]
[{"$nulls":13},{"$f":"IF(SAISIE!K1346=\"\",0,SAISIE!K1346)","v":0}]
[{"$nulls":13},{"$f":"IF(SAISIE!K1347=\"\",0,SAISIE!K1347)","v":0}]
[{"$nulls":13},{"$f":"IF(SAISIE!K1348=\"\",0,SAISIE!K1348)","v":0}]
[{"$nulls":13},{"$f":"IF(SAISIE!K1349=\"\",0,SAISIE!K1349)","v":0}]
[{"$nulls":13},{"$f":"IF(SAISIE!K1350=\"\",0,SAISIE!K1350)","v":0}]
[{"$nulls":13},{"$f":"IF(SAISIE!K1351=\"\",0,SAISIE!K1351)","v":0}]
[{"$nulls":13},{"$f":"IF(SAISIE!K1352=\"\",0,SAISIE!K1352)","v":0}]
[{"$nulls":13},{"$f":"IF(SAISIE!K1353=\"\",0,SAISIE!K1353)","v":0}]
[{"$nulls":13},{"$f":"IF(SAISIE!K1354=\"\",0,SAISIE!K1354)","v":0}]
[{"$nulls":13},{"$f":"IF(SAISIE!K1355=\"\",0,SAISIE!K1355)","v":0}]
[{"$nulls":13},{"$f":"IF(SAISIE!K1356=\"\",0,SAISIE!K1356)","v":0}]
[{"$nulls":13},{"$f":"IF(SAISIE!K1357=\"\",0,SAISIE!K1357)","v":0}]
[{"$nulls":13},{"$f":"IF(SAISIE!K1358=\"\",0,SAISIE!K1358)","v":0}]
[{"$nulls":13},{"$f":"IF(SAISIE!K1359=\"\",0,SAISIE!K1359)","v":0}]
[{"$nulls":13},{"$f":"IF(SAISIE!K1360=\"\",0,SAISIE!K1360)","v":0}]
[{"$nulls":13},{"$f":"IF(SAISIE!K1361=\"\",0,SAISIE!K1361)","v":0}]
[{"$nulls":13},{"$f":"IF(SAISIE!K1362=\"\",0,SAISIE!K1362)","v":0}]
[{"$nulls":13},{"$f":"IF(SAISIE!K1363=\"\",0,SAISIE!K1363)","v":0}]
[{"$nulls":13},{"$f":"IF(SAISIE!K1364=\"\",0,SAISIE!K1364)","v":0}]
[{"$nulls":13},{"$f":"IF(SAISIE!K1365=\"\",0,SAISIE!K1365)","v":0}]
[{"$nulls":13},{"$f":"IF(SAISIE!K1366=\"\",0,SAISIE!K1366)","v":0}]
[{"$nulls":13},{"$f":"IF(SAISIE!K1367=\"\",0,SAISIE!K1367)","v":0}]
[{"$nulls":13},{"$f":"IF(SAISIE!K1368=\"\",0,SAISIE!K1368)","v":0}]
[{"$nulls":13},{"$f":"IF(SAISIE!K1369=\"\",0,SAISIE!K1369)","v":0}]
[{"$nulls":13},{"$f":"IF(SAISIE!K1370=\"\",0,SAISIE!K1370)","v":0}]
[{"$nulls":13},{"$f":"IF(SAISIE!K1371=\"\",0,SAISIE!K1371)","v":0}]
[{"$nulls":13},{"$f":"IF(SAISIE!K1372=\"\",0,SAISIE!K1372)","v":0}]
[{"$nulls":13},{"$f":"IF(SAISIE!K1373=\"\",0,SAISIE!K1373)","v":0}]
[{"$nulls":13},{"$f":"IF(SAISIE!K1374=\"\",0,SAISIE!K1374)","v":0}]
[{"$nulls":13},{"$f":"IF(SAISIE!K1375=\"\",0,SAISIE!K1375)","v":0}]
[{"$nulls":13},{"$f":"IF(SAISIE!K1376=\"\",0,SAISIE!K1376)","v":0}]
[{"$nulls":13},{"$f":"IF(SAISIE!K1377=\"\",0,SAISIE!K1377)","v":0}]
[{"$nulls":13},{"$f":"IF(SAISIE!K1378=\"\",0,SAISIE!K1378)","v":0}]
[{"$nulls":13},{"$f":"IF(SAISIE!K1379=\"\",0,SAISIE!K1379)","v":0}]
[{"$nulls":13},{"$f":"IF(SAISIE!K1380=\"\",0,SAISIE!K1380)","v":0}]
[{"$nulls":13},{"$f":"IF(SAISIE!K1381=\"\",0,SAISIE!K1381)","v":0}]
[{"$nulls":13},{"$f":"IF(SAISIE!K1382=\"\",0,SAISIE!K1382)","v":0}]
[{"$nulls":13},{"$f":"IF(SAISIE!K1383=\"\",0,SAISIE!K1383)","v":0}]
[{"$nulls":13},{"$f":"IF(SAISIE!K1384=\"\",0,SAISIE!K1384)","v":0}]
[{"$nulls":13},{"$f":"IF(SAISIE!K1385=\"\",0,SAISIE!K1385)","v":0}]
[{"$nulls":13},{"$f":"IF(SAISIE!K1386=\"\",0,SAISIE!K1386)","v":0}]
[{"$nulls":13},{"$f":"IF(SAISIE!K1387=\"\",0,SAISIE!K1387)","v":0}]
[{"$nulls":13},{"$f":"IF(SAISIE!K1388=\"\",0,SAISIE!K1388)","v":0}]
[{"$nulls":13},{"$f":"IF(SAISIE!K1389=\"\",0,SAISIE!K1389)","v":0}]
[{"$nulls":13},{"$f":"IF(SAISIE!K1390=\"\",0,SAISIE!K1390)","v":0}]
[{"$nulls":13},{"$f":"IF(SAISIE!K1391=\"\",0,SAISIE!K1391)","v":0}]
[{"$nulls":13},{"$f":"IF(SAISIE!K1392=\"\",0,SAISIE!K1392)","v":0}]
[{"$nulls":13},{"$f":"IF(SAISIE!K1393=\"\",0,SAISIE!K1393)","v":0}]
[{"$nulls":13},{"$f":"IF(SAISIE!K1394=\"\",0,SAISIE!K1394)","v":0}]
[{"$nulls":13},{"$f":"IF(SAISIE!K1395=\"\",0,SAISIE!K1395)","v":0}]
[{"$nulls":13},{"$f":"IF(SAISIE!K1396=\"\",0,SAISIE!K1396)","v":0}]
[{"$nulls":13},{"$f":"IF(SAISIE!K1397=\"\",0,SAISIE!K1397)","v":0}]
[{"$nulls":13},{"$f":"IF(SAISIE!K1398=\"\",0,SAISIE!K1398)","v":0}]
[{"$nulls":13},{"$f":"IF(SAISIE!K1399=\"\",0,SAISIE!K1399)","v":0}]
[{"$nulls":13},{"$f":"IF(SAISIE!K1400=\"\",0,SAISIE!K1400)","v":0}]
[{"$nulls":13},{"$f":"IF(SAISIE!K1401=\"\",0,SAISIE!K1401)","v":0}]
[{"$nulls":13},{"$f":"IF(SAISIE!K1402=\"\",0,SAISIE!K1402)","v":0}]
[{"$nulls":13},{"$f":"IF(SAISIE!K1403=\"\",0,SAISIE!K1403)","v":0}]
[{"$nulls":13},{"$f":"IF(SAISIE!K1404=\"\",0,SAISIE!K1404)","v":0}]
[{"$nulls":13},{"$f":"IF(SAISIE!K1405=\"\",0,SAISIE!K1405)","v":0}]
[{"$nulls":13},{"$f":"IF(SAISIE!K1406=\"\",0,SAISIE!K1406)","v":0}]
[{"$nulls":13},{"$f":"IF(SAISIE!K1407=\"\",0,SAISIE!K1407)","v":0}]
[{"$nulls":13},{"$f":"IF(SAISIE!K1408=\"\",0,SAISIE!K1408)","v":0}]
[{"$nulls":13},{"$f":"IF(SAISIE!K1409=\"\",0,SAISIE!K1409)","v":0}]
[{"$nulls":13},{"$f":"IF(SAISIE!K1410=\"\",0,SAISIE!K1410)","v":0}]
[{"$nulls":13},{"$f":"IF(SAISIE!K1411=\"\",0,SAISIE!K1411)","v":0}]
[{"$nulls":13},{"$f":"IF(SAISIE!K1412=\"\",0,SAISIE!K1412)","v":0}]
[{"$nulls":13},{"$f":"IF(SAISIE!K1413=\"\",0,SAISIE!K1413)","v":0}]
[{"$nulls":13},{"$f":"IF(SAISIE!K1414=\"\",0,SAISIE!K1414)","v":0}]
[{"$nulls":13},{"$f":"IF(SAISIE!K1415=\"\",0,SAISIE!K1415)","v":0}]
[{"$nulls":13},{"$f":"IF(SAISIE!K1416=\"\",0,SAISIE!K1416)","v":0}]
[{"$nulls":13},{"$f":"IF(SAISIE!K1417=\"\",0,SAISIE!K1417)","v":0}]
[{"$nulls":13},{"$f":"IF(SAISIE!K1418=\"\",0,SAISIE!K1418)","v":0}]
[{"$nulls":13},{"$f":"IF(SAISIE!K1419=\"\",0,SAISIE!K1419)","v":0}]
[{"$nulls":13},{"$f":"IF(SAISIE!K1420=\"\",0,SAISIE!K1420)","v":0}]
[{"$nulls":13},{"$f":"IF(SAISIE!K1421=\"\",0,SAISIE!K1421)","v":0}]
[{"$nulls":13},{"$f":"IF(SAISIE!K1422=\"\",0,SAISIE!K1422)","v":0}]
[{"$nulls":13},{"$f":"IF(SAISIE!K1423=\"\",0,SAISIE!K1423)","v":0}]
[{"$nulls":13},{"$f":"IF(SAISIE!K1424=\"\",0,SAISIE!K1424)","v":0}]
[{"$nulls":13},{"$f":"IF(SAISIE!K1425=\"\",0,SAISIE!K1425)","v":0}]
[{"$nulls":13},{"$f":"IF(SAISIE!K1426=\"\",0,SAISIE!K1426)","v":0}]
[{"$nulls":13},{"$f":"IF(SAISIE!K1427=\"\",0,SAISIE!K1427)","v":0}]
[{"$nulls":13},{"$f":"IF(SAISIE!K1428=\"\",0,SAISIE!K1428)","v":0}]
[{"$nulls":13},{"$f":"IF(SAISIE!K1429=\"\",0,SAISIE!K1429)","v":0}]
[{"$nulls":13},{"$f":"IF(SAISIE!K1430=\"\",0,SAISIE!K1430)","v":0}]
[{"$nulls":13},{"$f":"IF(SAISIE!K1431=\"\",0,SAISIE!K1431)","v":0}]
[{"$nulls":13},{"$f":"IF(SAISIE!K1432=\"\",0,SAISIE!K1432)","v":0}]
[{"$nulls":13},{"$f":"IF(SAISIE!K1433=\"\",0,SAISIE!K1433)","v":0}]
[{"$nulls":13},{"$f":"IF(SAISIE!K1434=\"\",0,SAISIE!K1434)","v":0}]
[{"$nulls":13},{"$f":"IF(SAISIE!K1435=\"\",0,SAISIE!K1435)","v":0}]
[{"$nulls":13},{"$f":"IF(SAISIE!K1436=\"\",0,SAISIE!K1436)","v":0}]
[{"$nulls":13},{"$f":"IF(SAISIE!K1437=\"\",0,SAISIE!K1437)","v":0}]
[{"$nulls":13},{"$f":"IF(SAISIE!K1438=\"\",0,SAISIE!K1438)","v":0}]
[{"$nulls":13},{"$f":"IF(SAISIE!K1439=\"\",0,SAISIE!K1439)","v":0}]
[{"$nulls":13},{"$f":"IF(SAISIE!K1440=\"\",0,SAISIE!K1440)","v":0}]
[{"$nulls":13},{"$f":"IF(SAISIE!K1441=\"\",0,SAISIE!K1441)","v":0}]
[{"$nulls":13},{"$f":"IF(SAISIE!K1442=\"\",0,SAISIE!K1442)","v":0}]
[{"$nulls":13},{"$f":"IF(SAISIE!K1443=\"\",0,SAISIE!K1443)","v":0}]
[{"$nulls":13},{"$f":"IF(SAISIE!K1444=\"\",0,SAISIE!K1444)","v":0}]
[{"$nulls":13},{"$f":"IF(SAISIE!K1445=\"\",0,SAISIE!K1445)","v":0}]
[{"$nulls":13},{"$f":"IF(SAISIE!K1446=\"\",0,SAISIE!K1446)","v":0}]
[{"$nulls":13},{"$f":"IF(SAISIE!K1447=\"\",0,SAISIE!K1447)","v":0}]
[{"$nulls":13},{"$f":"IF(SAISIE!K1448=\"\",0,SAISIE!K1448)","v":0}]
[{"$nulls":13},{"$f":"IF(SAISIE!K1449=\"\",0,SAISIE!K1449)","v":0}]
[{"$nulls":13},{"$f":"IF(SAISIE!K1450=\"\",0,SAISIE!K1450)","v":0}]
[{"$nulls":13},{"$f":"IF(SAISIE!K1451=\"\",0,SAISIE!K1451)","v":0}]
[{"$nulls":13},{"$f":"IF(SAISIE!K1452=\"\",0,SAISIE!K1452)","v":0}]
[{"$nulls":13},{"$f":"IF(SAISIE!K1453=\"\",0,SAISIE!K1453)","v":0}]
[{"$nulls":13},{"$f":"IF(SAISIE!K1454=\"\",0,SAISIE!K1454)","v":0}]
[{"$nulls":13},{"$f":"IF(SAISIE!K1455=\"\",0,SAISIE!K1455)","v":0}]
[{"$nulls":13},{"$f":"IF(SAISIE!K1456=\"\",0,SAISIE!K1456)","v":0}]
[{"$nulls":13},{"$f":"IF(SAISIE!K1457=\"\",0,SAISIE!K1457)","v":0}]
[{"$nulls":13},{"$f":"IF(SAISIE!K1458=\"\",0,SAISIE!K1458)","v":0}]
[{"$nulls":13},{"$f":"IF(SAISIE!K1459=\"\",0,SAISIE!K1459)","v":0}]
[{"$nulls":13},{"$f":"IF(SAISIE!K1460=\"\",0,SAISIE!K1460)","v":0}]
[{"$nulls":13},{"$f":"IF(SAISIE!K1461=\"\",0,SAISIE!K1461)","v":0}]
[{"$nulls":13},{"$f":"IF(SAISIE!K1462=\"\",0,SAISIE!K1462)","v":0}]
[{"$nulls":13},{"$f":"IF(SAISIE!K1463=\"\",0,SAISIE!K1463)","v":0}]
[{"$nulls":13},{"$f":"IF(SAISIE!K1464=\"\",0,SAISIE!K1464)","v":0}]
[{"$nulls":13},{"$f":"IF(SAISIE!K1465=\"\",0,SAISIE!K1465)","v":0}]
[{"$nulls":13},{"$f":"IF(SAISIE!K1466=\"\",0,SAISIE!K1466)","v":0}]
[{"$nulls":13},{"$f":"IF(SAISIE!K1467=\"\",0,SAISIE!K1467)","v":0}]
[{"$nulls":13},{"$f":"IF(SAISIE!K1468=\"\",0,SAISIE!K1468)","v":0}]
[{"$nulls":13},{"$f":"IF(SAISIE!K1469=\"\",0,SAISIE!K1469)","v":0}]
[{"$nulls":13},{"$f":"IF(SAISIE!K1470=\"\",0,SAISIE!K1470)","v":0}]
[{"$nulls":13},{"$f":"IF(SAISIE!K1471=\"\",0,SAISIE!K1471)","v":0}]
[{"$nulls":13},{"$f":"IF(SAISIE!K1472=\"\",0,SAISIE!K1472)","v":0}]
[{"$nulls":13},{"$f":"IF(SAISIE!K1473=\"\",0,SAISIE!K1473)","v":0}]
[{"$nulls":13},{"$f":"IF(SAISIE!K1474=\"\",0,SAISIE!K1474)","v":0}]
[{"$nulls":13},{"$f":"IF(SAISIE!K1475=\"\",0,SAISIE!K1475)","v":0}]
[{"$nulls":13},{"$f":"IF(SAISIE!K1476=\"\",0,SAISIE!K1476)","v":0}]
[{"$nulls":13},{"$f":"IF(SAISIE!K1477=\"\",0,SAISIE!K1477)","v":0}]
[{"$nulls":13},{"$f":"IF(SAISIE!K1478=\"\",0,SAISIE!K1478)","v":0}]
[{"$nulls":13},{"$f":"IF(SAISIE!K1479=\"\",0,SAISIE!K1479)","v":0}]
[{"$nulls":13},{"$f":"IF(SAISIE!K1480=\"\",0,SAISIE!K1480)","v":0}]
[{"$nulls":13},{"$f":"IF(SAISIE!K1481=\"\",0,SAISIE!K1481)","v":0}]
[{"$nulls":13},{"$f":"IF(SAISIE!K1482=\"\",0,SAISIE!K1482)","v":0}]
[{"$nulls":13},{"$f":"IF(SAISIE!K1483=\"\",0,SAISIE!K1483)","v":0}]
[{"$nulls":13},{"$f":"IF(SAISIE!K1484=\"\",0,SAISIE!K1484)","v":0}]
[{"$nulls":13},{"$f":"IF(SAISIE!K1485=\"\",0,SAISIE!K1485)","v":0}]
[{"$nulls":13},{"$f":"IF(SAISIE!K1486=\"\",0,SAISIE!K1486)","v":0}]
[{"$nulls":13},{"$f":"IF(SAISIE!K1487=\"\",0,SAISIE!K1487)","v":0}]
[{"$nulls":13},{"$f":"IF(SAISIE!K1488=\"\",0,SAISIE!K1488)","v":0}]
[{"$nulls":13},{"$f":"IF(SAISIE!K1489=\"\",0,SAISIE!K1489)","v":0}]
[{"$nulls":13},{"$f":"IF(SAISIE!K1490=\"\",0,SAISIE!K1490)","v":0}]
[{"$nulls":13},{"$f":"IF(SAISIE!K1491=\"\",0,SAISIE!K1491)","v":0}]
[{"$nulls":13},{"$f":"IF(SAISIE!K1492=\"\",0,SAISIE!K1492)","v":0}]
[{"$nulls":13},{"$f":"IF(SAISIE!K1493=\"\",0,SAISIE!K1493)","v":0}]
[{"$nulls":13},{"$f":"IF(SAISIE!K1494=\"\",0,SAISIE!K1494)","v":0}]
[{"$nulls":13},{"$f":"IF(SAISIE!K1495=\"\",0,SAISIE!K1495)","v":0}]
[{"$nulls":13},{"$f":"IF(SAISIE!K1496=\"\",0,SAISIE!K1496)","v":0}]
[{"$nulls":13},{"$f":"IF(SAISIE!K1497=\"\",0,SAISIE!K1497)","v":0}]
[{"$nulls":13},{"$f":"IF(SAISIE!K1498=\"\",0,SAISIE!K1498)","v":0}]
[{"$nulls":13},{"$f":"IF(SAISIE!K1499=\"\",0,SAISIE!K1499)","v":0}]
[{"$nulls":13},{"$f":"IF(SAISIE!K1500=\"\",0,SAISIE!K1500)","v":0}]
[{"$nulls":13},{"$f":"IF(SAISIE!K1501=\"\",0,SAISIE!K1501)","v":0}]
[{"$nulls":13},{"$f":"IF(SAISIE!K1502=\"\",0,SAISIE!K1502)","v":0}]
[{"$nulls":13},{"$f":"IF(SAISIE!K1503=\"\",0,SAISIE!K1503)","v":0}]
[{"$nulls":13},{"$f":"IF(SAISIE!K1504=\"\",0,SAISIE!K1504)","v":0}]
[{"$nulls":13},{"$f":"IF(SAISIE!K1505=\"\",0,SAISIE!K1505)","v":0}]
[{"$nulls":13},{"$f":"IF(SAISIE!K1506=\"\",0,SAISIE!K1506)","v":0}]
[{"$nulls":13},{"$f":"IF(SAISIE!K1507=\"\",0,SAISIE!K1507)","v":0}]
[{"$nulls":13},{"$f":"IF(SAISIE!K1508=\"\",0,SAISIE!K1508)","v":0}]
[{"$nulls":13},{"$f":"IF(SAISIE!K1509=\"\",0,SAISIE!K1509)","v":0}]
[{"$nulls":13},{"$f":"IF(SAISIE!K1510=\"\",0,SAISIE!K1510)","v":0}]
[{"$nulls":13},{"$f":"IF(SAISIE!K1511=\"\",0,SAISIE!K1511)","v":0}]
[{"$nulls":13},{"$f":"IF(SAISIE!K1512=\"\",0,SAISIE!K1512)","v":0}]
[{"$nulls":13},{"$f":"IF(SAISIE!K1513=\"\",0,SAISIE!K1513)","v":0}]
[{"$nulls":13},{"$f":"IF(SAISIE!K1514=\"\",0,SAISIE!K1514)","v":0}]
[{"$nulls":13},{"$f":"IF(SAISIE!K1515=\"\",0,SAISIE!K1515)","v":0}]
[{"$nulls":13},{"$f":"IF(SAISIE!K1516=\"\",0,SAISIE!K1516)","v":0}]
[{"$nulls":13},{"$f":"IF(SAISIE!K1517=\"\",0,SAISIE!K1517)","v":0}]
[{"$nulls":13},{"$f":"IF(SAISIE!K1518=\"\",0,SAISIE!K1518)","v":0}]
[{"$nulls":13},{"$f":"IF(SAISIE!K1519=\"\",0,SAISIE!K1519)","v":0}]
[{"$nulls":13},{"$f":"IF(SAISIE!K1520=\"\",0,SAISIE!K1520)","v":0}]
[{"$nulls":13},{"$f":"IF(SAISIE!K1521=\"\",0,SAISIE!K1521)","v":0}]
[{"$nulls":13},{"$f":"IF(SAISIE!K1522=\"\",0,SAISIE!K1522)","v":0}]
[{"$nulls":13},{"$f":"IF(SAISIE!K1523=\"\",0,SAISIE!K1523)","v":0}]
[{"$nulls":13},{"$f":"IF(SAISIE!K1524=\"\",0,SAISIE!K1524)","v":0}]
[{"$nulls":13},{"$f":"IF(SAISIE!K1525=\"\",0,SAISIE!K1525)","v":0}]
[{"$nulls":13},{"$f":"IF(SAISIE!K1526=\"\",0,SAISIE!K1526)","v":0}]
[{"$nulls":13},{"$f":"IF(SAISIE!K1527=\"\",0,SAISIE!K1527)","v":0}]
[{"$nulls":13},{"$f":"IF(SAISIE!K1528=\"\",0,SAISIE!K1528)","v":0}]
[{"$nulls":13},{"$f":"IF(SAISIE!K1529=\"\",0,SAISIE!K1529)","v":0}]
[{"$nulls":13},{"$f":"IF(SAISIE!K1530=\"\",0,SAISIE!K1530)","v":0}]
[{"$nulls":13},{"$f":"IF(SAISIE!K1531=\"\",0,SAISIE!K1531)","v":0}]
[{"$nulls":13},{"$f":"IF(SAISIE!K1532=\"\",0,SAISIE!K1532)","v":0}]
[{"$nulls":13},{"$f":"IF(SAISIE!K1533=\"\",0,SAISIE!K1533)","v":0}]
[{"$nulls":13},{"$f":"IF(SAISIE!K1534=\"\",0,SAISIE!K1534)","v":0}]
[{"$nulls":13},{"$f":"IF(SAISIE!K1535=\"\",0,SAISIE!K1535)","v":0}]
[{"$nulls":13},{"$f":"IF(SAISIE!K1536=\"\",0,SAISIE!K1536)","v":0}]
[{"$nulls":13},{"$f":"IF(SAISIE!K1537=\"\",0,SAISIE!K1537)","v":0}]
[{"$nulls":13},{"$f":"IF(SAISIE!K1538=\"\",0,SAISIE!K1538)","v":0}]
[{"$nulls":13},{"$f":"IF(SAISIE!K1539=\"\",0,SAISIE!K1539)","v":0}]
[{"$nulls":13},{"$f":"IF(SAISIE!K1540=\"\",0,SAISIE!K1540)","v":0}]
[{"$nulls":13},{"$f":"IF(SAISIE!K1541=\"\",0,SAISIE!K1541)","v":0}]
[{"$nulls":13},{"$f":"IF(SAISIE!K1542=\"\",0,SAISIE!K1542)","v":0}]
[{"$nulls":13},{"$f":"IF(SAISIE!K1543=\"\",0,SAISIE!K1543)","v":0}]
[{"$nulls":13},{"$f":"IF(SAISIE!K1544=\"\",0,SAISIE!K1544)","v":0}]
[{"$nulls":13},{"$f":"IF(SAISIE!K1545=\"\",0,SAISIE!K1545)","v":0}]
[{"$nulls":13},{"$f":"IF(SAISIE!K1546=\"\",0,SAISIE!K1546)","v":0}]
[{"$nulls":13},{"$f":"IF(SAISIE!K1547=\"\",0,SAISIE!K1547)","v":0}]
[{"$nulls":13},{"$f":"IF(SAISIE!K1548=\"\",0,SAISIE!K1548)","v":0}]
[{"$nulls":13},{"$f":"IF(SAISIE!K1549=\"\",0,SAISIE!K1549)","v":0}]
[{"$nulls":13},{"$f":"IF(SAISIE!K1550=\"\",0,SAISIE!K1550)","v":0}]
[{"$nulls":13},{"$f":"IF(SAISIE!K1551=\"\",0,SAISIE!K1551)","v":0}]
[{"$nulls":13},{"$f":"IF(SAISIE!K1552=\"\",0,SAISIE!K1552)","v":0}]
[{"$nulls":13},{"$f":"IF(SAISIE!K1553=\"\",0,SAISIE!K1553)","v":0}]
[{"$nulls":13},{"$f":"IF(SAISIE!K1554=\"\",0,SAISIE!K1554)","v":0}]
[{"$nulls":13},{"$f":"IF(SAISIE!K1555=\"\",0,SAISIE!K1555)","v":0}]
[{"$nulls":13},{"$f":"IF(SAISIE!K1556=\"\",0,SAISIE!K1556)","v":0}]
[{"$nulls":13},{"$f":"IF(SAISIE!K1557=\"\",0,SAISIE!K1557)","v":0}]
[{"$nulls":13},{"$f":"IF(SAISIE!K1558=\"\",0,SAISIE!K1558)","v":0}]
[{"$nulls":13},{"$f":"IF(SAISIE!K1559=\"\",0,SAISIE!K1559)","v":0}]
[{"$nulls":13},{"$f":"IF(SAISIE!K1560=\"\",0,SAISIE!K1560)","v":0}]
[{"$nulls":13},{"$f":"IF(SAISIE!K1561=\"\",0,SAISIE!K1561)","v":0}]
[{"$nulls":13},{"$f":"IF(SAISIE!K1562=\"\",0,SAISIE!K1562)","v":0}]
[{"$nulls":13},{"$f":"IF(SAISIE!K1563=\"\",0,SAISIE!K1563)","v":0}]
[{"$nulls":13},{"$f":"IF(SAISIE!K1564=\"\",0,SAISIE!K1564)","v":0}]
[{"$nulls":13},{"$f":"IF(SAISIE!K1565=\"\",0,SAISIE!K1565)","v":0}]
[{"$nulls":13},{"$f":"IF(SAISIE!K1566=\"\",0,SAISIE!K1566)","v":0}]
[{"$nulls":13},{"$f":"IF(SAISIE!K1567=\"\",0,SAISIE!K1567)","v":0}]
[{"$nulls":13},{"$f":"IF(SAISIE!K1568=\"\",0,SAISIE!K1568)","v":0}]
[{"$nulls":13},{"$f":"IF(SAISIE!K1569=\"\",0,SAISIE!K1569)","v":0}]
[{"$nulls":13},{"$f":"IF(SAISIE!K1570=\"\",0,SAISIE!K1570)","v":0}]
[{"$nulls":13},{"$f":"IF(SAISIE!K1571=\"\",0,SAISIE!K1571)","v":0}]
[{"$nulls":13},{"$f":"IF(SAISIE!K1572=\"\",0,SAISIE!K1572)","v":0}]
[{"$nulls":13},{"$f":"IF(SAISIE!K1573=\"\",0,SAISIE!K1573)","v":0}]
[{"$nulls":13},{"$f":"IF(SAISIE!K1574=\"\",0,SAISIE!K1574)","v":0}]
[{"$nulls":13},{"$f":"IF(SAISIE!K1575=\"\",0,SAISIE!K1575)","v":0}]
[{"$nulls":13},{"$f":"IF(SAISIE!K1576=\"\",0,SAISIE!K1576)","v":0}]
[{"$nulls":13},{"$f":"IF(SAISIE!K1577=\"\",0,SAISIE!K1577)","v":0}]
[{"$nulls":13},{"$f":"IF(SAISIE!K1578=\"\",0,SAISIE!K1578)","v":0}]
[{"$nulls":13},{"$f":"IF(SAISIE!K1579=\"\",0,SAISIE!K1579)","v":0}]
[{"$nulls":13},{"$f":"IF(SAISIE!K1580=\"\",0,SAISIE!K1580)","v":0}]
[{"$nulls":13},{"$f":"IF(SAISIE!K1581=\"\",0,SAISIE!K1581)","v":0}]
[{"$nulls":13},{"$f":"IF(SAISIE!K1582=\"\",0,SAISIE!K1582)","v":0}]
[{"$nulls":13},{"$f":"IF(SAISIE!K1583=\"\",0,SAISIE!K1583)","v":0}]
[{"$nulls":13},{"$f":"IF(SAISIE!K1584=\"\",0,SAISIE!K1584)","v":0}]
[{"$nulls":13},{"$f":"IF(SAISIE!K1585=\"\",0,SAISIE!K1585)","v":0}]
[{"$nulls":13},{"$f":"IF(SAISIE!K1586=\"\",0,SAISIE!K1586)","v":0}]
[{"$nulls":13},{"$f":"IF(SAISIE!K1587=\"\",0,SAISIE!K1587)","v":0}]
[{"$nulls":13},{"$f":"IF(SAISIE!K1588=\"\",0,SAISIE!K1588)","v":0}]
[{"$nulls":13},{"$f":"IF(SAISIE!K1589=\"\",0,SAISIE!K1589)","v":0}]
[{"$nulls":13},{"$f":"IF(SAISIE!K1590=\"\",0,SAISIE!K1590)","v":0}]
[{"$nulls":13},{"$f":"IF(SAISIE!K1591=\"\",0,SAISIE!K1591)","v":0}]
[{"$nulls":13},{"$f":"IF(SAISIE!K1592=\"\",0,SAISIE!K1592)","v":0}]
[{"$nulls":13},{"$f":"IF(SAISIE!K1593=\"\",0,SAISIE!K1593)","v":0}]
[{"$nulls":13},{"$f":"IF(SAISIE!K1594=\"\",0,SAISIE!K1594)","v":0}]
[{"$nulls":13},{"$f":"IF(SAISIE!K1595=\"\",0,SAISIE!K1595)","v":0}]
[{"$nulls":13},{"$f":"IF(SAISIE!K1596=\"\",0,SAISIE!K1596)","v":0}]
[{"$nulls":13},{"$f":"IF(SAISIE!K1597=\"\",0,SAISIE!K1597)","v":0}]
[{"$nulls":13},{"$f":"IF(SAISIE!K1598=\"\",0,SAISIE!K1598)","v":0}]
[{"$nulls":13},{"$f":"IF(SAISIE!K1599=\"\",0,SAISIE!K1599)","v":0}]
[{"$nulls":13},{"$f":"IF(SAISIE!K1600=\"\",0,SAISIE!K1600)","v":0}]
[{"$nulls":13},{"$f":"IF(SAISIE!K1601=\"\",0,SAISIE!K1601)","v":0}]
[{"$nulls":13},{"$f":"IF(SAISIE!K1602=\"\",0,SAISIE!K1602)","v":0}]
[{"$nulls":13},{"$f":"IF(SAISIE!K1603=\"\",0,SAISIE!K1603)","v":0}]
[{"$nulls":13},{"$f":"IF(SAISIE!K1604=\"\",0,SAISIE!K1604)","v":0}]
[{"$nulls":13},{"$f":"IF(SAISIE!K1605=\"\",0,SAISIE!K1605)","v":0}]
[{"$nulls":13},{"$f":"IF(SAISIE!K1606=\"\",0,SAISIE!K1606)","v":0}]
[{"$nulls":13},{"$f":"IF(SAISIE!K1607=\"\",0,SAISIE!K1607)","v":0}]
[{"$nulls":13},{"$f":"IF(SAISIE!K1608=\"\",0,SAISIE!K1608)","v":0}]
[{"$nulls":13},{"$f":"IF(SAISIE!K1609=\"\",0,SAISIE!K1609)","v":0}]
[{"$nulls":13},{"$f":"IF(SAISIE!K1610=\"\",0,SAISIE!K1610)","v":0}]
[{"$nulls":13},{"$f":"IF(SAISIE!K1611=\"\",0,SAISIE!K1611)","v":0}]
[{"$nulls":13},{"$f":"IF(SAISIE!K1612=\"\",0,SAISIE!K1612)","v":0}]
[{"$nulls":13},{"$f":"IF(SAISIE!K1613=\"\",0,SAISIE!K1613)","v":0}]
[{"$nulls":13},{"$f":"IF(SAISIE!K1614=\"\",0,SAISIE!K1614)","v":0}]
[{"$nulls":13},{"$f":"IF(SAISIE!K1615=\"\",0,SAISIE!K1615)","v":0}]
[{"$nulls":13},{"$f":"IF(SAISIE!K1616=\"\",0,SAISIE!K1616)","v":0}]
[{"$nulls":13},{"$f":"IF(SAISIE!K1617=\"\",0,SAISIE!K1617)","v":0}]
[{"$nulls":13},{"$f":"IF(SAISIE!K1618=\"\",0,SAISIE!K1618)","v":0}]
[{"$nulls":13},{"$f":"IF(SAISIE!K1619=\"\",0,SAISIE!K1619)","v":0}]
[{"$nulls":13},{"$f":"IF(SAISIE!K1620=\"\",0,SAISIE!K1620)","v":0}]
[{"$nulls":13},{"$f":"IF(SAISIE!K1621=\"\",0,SAISIE!K1621)","v":0}]
[{"$nulls":13},{"$f":"IF(SAISIE!K1622=\"\",0,SAISIE!K1622)","v":0}]
[{"$nulls":13},{"$f":"IF(SAISIE!K1623=\"\",0,SAISIE!K1623)","v":0}]
[{"$nulls":13},{"$f":"IF(SAISIE!K1624=\"\",0,SAISIE!K1624)","v":0}]
[{"$nulls":13},{"$f":"IF(SAISIE!K1625=\"\",0,SAISIE!K1625)","v":0}]
[{"$nulls":13},{"$f":"IF(SAISIE!K1626=\"\",0,SAISIE!K1626)","v":0}]
[{"$nulls":13},{"$f":"IF(SAISIE!K1627=\"\",0,SAISIE!K1627)","v":0}]
[{"$nulls":13},{"$f":"IF(SAISIE!K1628=\"\",0,SAISIE!K1628)","v":0}]
[{"$nulls":13},{"$f":"IF(SAISIE!K1629=\"\",0,SAISIE!K1629)","v":0}]
[{"$nulls":13},{"$f":"IF(SAISIE!K1630=\"\",0,SAISIE!K1630)","v":0}]
[{"$nulls":13},{"$f":"IF(SAISIE!K1631=\"\",0,SAISIE!K1631)","v":0}]
[{"$nulls":13},{"$f":"IF(SAISIE!K1632=\"\",0,SAISIE!K1632)","v":0}]
[{"$nulls":13},{"$f":"IF(SAISIE!K1633=\"\",0,SAISIE!K1633)","v":0}]
[{"$nulls":13},{"$f":"IF(SAISIE!K1634=\"\",0,SAISIE!K1634)","v":0}]
[{"$nulls":13},{"$f":"IF(SAISIE!K1635=\"\",0,SAISIE!K1635)","v":0}]
[{"$nulls":13},{"$f":"IF(SAISIE!K1636=\"\",0,SAISIE!K1636)","v":0}]
[{"$nulls":13},{"$f":"IF(SAISIE!K1637=\"\",0,SAISIE!K1637)","v":0}]
[{"$nulls":13},{"$f":"IF(SAISIE!K1638=\"\",0,SAISIE!K1638)","v":0}]
[{"$nulls":13},{"$f":"IF(SAISIE!K1639=\"\",0,SAISIE!K1639)","v":0}]
[{"$nulls":13},{"$f":"IF(SAISIE!K1640=\"\",0,SAISIE!K1640)","v":0}]
[{"$nulls":13},{"$f":"IF(SAISIE!K1641=\"\",0,SAISIE!K1641)","v":0}]
[{"$nulls":13},{"$f":"IF(SAISIE!K1642=\"\",0,SAISIE!K1642)","v":0}]
[{"$nulls":13},{"$f":"IF(SAISIE!K1643=\"\",0,SAISIE!K1643)","v":0}]
[{"$nulls":13},{"$f":"IF(SAISIE!K1644=\"\",0,SAISIE!K1644)","v":0}]
[{"$nulls":13},{"$f":"IF(SAISIE!K1645=\"\",0,SAISIE!K1645)","v":0}]
[{"$nulls":13},{"$f":"IF(SAISIE!K1646=\"\",0,SAISIE!K1646)","v":0}]
[{"$nulls":13},{"$f":"IF(SAISIE!K1647=\"\",0,SAISIE!K1647)","v":0}]
[{"$nulls":13},{"$f":"IF(SAISIE!K1648=\"\",0,SAISIE!K1648)","v":0}]
[{"$nulls":13},{"$f":"IF(SAISIE!K1649=\"\",0,SAISIE!K1649)","v":0}]
[{"$nulls":13},{"$f":"IF(SAISIE!K1650=\"\",0,SAISIE!K1650)","v":0}]
[{"$nulls":13},{"$f":"IF(SAISIE!K1651=\"\",0,SAISIE!K1651)","v":0}]
[{"$nulls":13},{"$f":"IF(SAISIE!K1652=\"\",0,SAISIE!K1652)","v":0}]
[{"$nulls":13},{"$f":"IF(SAISIE!K1653=\"\",0,SAISIE!K1653)","v":0}]
[{"$nulls":13},{"$f":"IF(SAISIE!K1654=\"\",0,SAISIE!K1654)","v":0}]
[{"$nulls":13},{"$f":"IF(SAISIE!K1655=\"\",0,SAISIE!K1655)","v":0}]
[{"$nulls":13},{"$f":"IF(SAISIE!K1656=\"\",0,SAISIE!K1656)","v":0}]
[{"$nulls":13},{"$f":"IF(SAISIE!K1657=\"\",0,SAISIE!K1657)","v":0}]
[{"$nulls":13},{"$f":"IF(SAISIE!K1658=\"\",0,SAISIE!K1658)","v":0}]
[{"$nulls":13},{"$f":"IF(SAISIE!K1659=\"\",0,SAISIE!K1659)","v":0}]
[{"$nulls":13},{"$f":"IF(SAISIE!K1660=\"\",0,SAISIE!K1660)","v":0}]
[{"$nulls":13},{"$f":"IF(SAISIE!K1661=\"\",0,SAISIE!K1661)","v":0}]
[{"$nulls":13},{"$f":"IF(SAISIE!K1662=\"\",0,SAISIE!K1662)","v":0}]
[{"$nulls":13},{"$f":"IF(SAISIE!K1663=\"\",0,SAISIE!K1663)","v":0}]
[{"$nulls":13},{"$f":"IF(SAISIE!K1664=\"\",0,SAISIE!K1664)","v":0}]
[{"$nulls":13},{"$f":"IF(SAISIE!K1665=\"\",0,SAISIE!K1665)","v":0}]
[{"$nulls":13},{"$f":"IF(SAISIE!K1666=\"\",0,SAISIE!K1666)","v":0}]
[{"$nulls":13},{"$f":"IF(SAISIE!K1667=\"\",0,SAISIE!K1667)","v":0}]
[{"$nulls":13},{"$f":"IF(SAISIE!K1668=\"\",0,SAISIE!K1668)","v":0}]
[{"$nulls":13},{"$f":"IF(SAISIE!K1669=\"\",0,SAISIE!K1669)","v":0}]
[{"$nulls":13},{"$f":"IF(SAISIE!K1670=\"\",0,SAISIE!K1670)","v":0}]
[{"$nulls":13},{"$f":"IF(SAISIE!K1671=\"\",0,SAISIE!K1671)","v":0}]
[{"$nulls":13},{"$f":"IF(SAISIE!K1672=\"\",0,SAISIE!K1672)","v":0}]
[{"$nulls":13},{"$f":"IF(SAISIE!K1673=\"\",0,SAISIE!K1673)","v":0}]
[{"$nulls":13},{"$f":"IF(SAISIE!K1674=\"\",0,SAISIE!K1674)","v":0}]
[{"$nulls":13},{"$f":"IF(SAISIE!K1675=\"\",0,SAISIE!K1675)","v":0}]
[{"$nulls":13},{"$f":"IF(SAISIE!K1676=\"\",0,SAISIE!K1676)","v":0}]
[{"$nulls":13},{"$f":"IF(SAISIE!K1677=\"\",0,SAISIE!K1677)","v":0}]
[{"$nulls":13},{"$f":"IF(SAISIE!K1678=\"\",0,SAISIE!K1678)","v":0}]
[{"$nulls":13},{"$f":"IF(SAISIE!K1679=\"\",0,SAISIE!K1679)","v":0}]
[{"$nulls":13},{"$f":"IF(SAISIE!K1680=\"\",0,SAISIE!K1680)","v":0}]
[{"$nulls":13},{"$f":"IF(SAISIE!K1681=\"\",0,SAISIE!K1681)","v":0}]
[{"$nulls":13},{"$f":"IF(SAISIE!K1682=\"\",0,SAISIE!K1682)","v":0}]
[{"$nulls":13},{"$f":"IF(SAISIE!K1683=\"\",0,SAISIE!K1683)","v":0}]
[{"$nulls":13},{"$f":"IF(SAISIE!K1684=\"\",0,SAISIE!K1684)","v":0}]
[{"$nulls":13},{"$f":"IF(SAISIE!K1685=\"\",0,SAISIE!K1685)","v":0}]
[{"$nulls":13},{"$f":"IF(SAISIE!K1686=\"\",0,SAISIE!K1686)","v":0}]
[{"$nulls":13},{"$f":"IF(SAISIE!K1687=\"\",0,SAISIE!K1687)","v":0}]
[{"$nulls":13},{"$f":"IF(SAISIE!K1688=\"\",0,SAISIE!K1688)","v":0}]
[{"$nulls":13},{"$f":"IF(SAISIE!K1689=\"\",0,SAISIE!K1689)","v":0}]
[{"$nulls":13},{"$f":"IF(SAISIE!K1690=\"\",0,SAISIE!K1690)","v":0}]
[{"$nulls":13},{"$f":"IF(SAISIE!K1691=\"\",0,SAISIE!K1691)","v":0}]
[{"$nulls":13},{"$f":"IF(SAISIE!K1692=\"\",0,SAISIE!K1692)","v":0}]
[{"$nulls":13},{"$f":"IF(SAISIE!K1693=\"\",0,SAISIE!K1693)","v":0}]
[{"$nulls":13},{"$f":"IF(SAISIE!K1694=\"\",0,SAISIE!K1694)","v":0}]
[{"$nulls":13},{"$f":"IF(SAISIE!K1695=\"\",0,SAISIE!K1695)","v":0}]
[{"$nulls":13},{"$f":"IF(SAISIE!K1696=\"\",0,SAISIE!K1696)","v":0}]
[{"$nulls":13},{"$f":"IF(SAISIE!K1697=\"\",0,SAISIE!K1697)","v":0}]
[{"$nulls":13},{"$f":"IF(SAISIE!K1698=\"\",0,SAISIE!K1698)","v":0}]
[{"$nulls":13},{"$f":"IF(SAISIE!K1699=\"\",0,SAISIE!K1699)","v":0}]
[{"$nulls":13},{"$f":"IF(SAISIE!K1700=\"\",0,SAISIE!K1700)","v":0}]
[{"$nulls":13},{"$f":"IF(SAISIE!K1701=\"\",0,SAISIE!K1701)","v":0}]
[{"$nulls":13},{"$f":"IF(SAISIE!K1702=\"\",0,SAISIE!K1702)","v":0}]
[{"$nulls":13},{"$f":"IF(SAISIE!K1703=\"\",0,SAISIE!K1703)","v":0}]
[{"$nulls":13},{"$f":"IF(SAISIE!K1704=\"\",0,SAISIE!K1704)","v":0}]
[{"$nulls":13},{"$f":"IF(SAISIE!K1705=\"\",0,SAISIE!K1705)","v":0}]
[{"$nulls":13},{"$f":"IF(SAISIE!K1706=\"\",0,SAISIE!K1706)","v":0}]
[{"$nulls":13},{"$f":"IF(SAISIE!K1707=\"\",0,SAISIE!K1707)","v":0}]
[{"$nulls":13},{"$f":"IF(SAISIE!K1708=\"\",0,SAISIE!K1708)","v":0}]
[{"$nulls":13},{"$f":"IF(SAISIE!K1709=\"\",0,SAISIE!K1709)","v":0}]
[{"$nulls":13},{"$f":"IF(SAISIE!K1710=\"\",0,SAISIE!K1710)","v":0}]
[{"$nulls":13},{"$f":"IF(SAISIE!K1711=\"\",0,SAISIE!K1711)","v":0}]
[{"$nulls":13},{"$f":"IF(SAISIE!K1712=\"\",0,SAISIE!K1712)","v":0}]
[{"$nulls":13},{"$f":"IF(SAISIE!K1713=\"\",0,SAISIE!K1713)","v":0}]
[{"$nulls":13},{"$f":"IF(SAISIE!K1714=\"\",0,SAISIE!K1714)","v":0}]
[{"$nulls":13},{"$f":"IF(SAISIE!K1715=\"\",0,SAISIE!K1715)","v":0}]
[{"$nulls":13},{"$f":"IF(SAISIE!K1716=\"\",0,SAISIE!K1716)","v":0}]
[{"$nulls":13},{"$f":"IF(SAISIE!K1717=\"\",0,SAISIE!K1717)","v":0}]
[{"$nulls":13},{"$f":"IF(SAISIE!K1718=\"\",0,SAISIE!K1718)","v":0}]
[{"$nulls":13},{"$f":"IF(SAISIE!K1719=\"\",0,SAISIE!K1719)","v":0}]
[{"$nulls":13},{"$f":"IF(SAISIE!K1720=\"\",0,SAISIE!K1720)","v":0}]
[{"$nulls":13},{"$f":"IF(SAISIE!K1721=\"\",0,SAISIE!K1721)","v":0}]
[{"$nulls":13},{"$f":"IF(SAISIE!K1722=\"\",0,SAISIE!K1722)","v":0}]
[{"$nulls":13},{"$f":"IF(SAISIE!K1723=\"\",0,SAISIE!K1723)","v":0}]
[{"$nulls":13},{"$f":"IF(SAISIE!K1724=\"\",0,SAISIE!K1724)","v":0}]
[{"$nulls":13},{"$f":"IF(SAISIE!K1725=\"\",0,SAISIE!K1725)","v":0}]
[{"$nulls":13},{"$f":"IF(SAISIE!K1726=\"\",0,SAISIE!K1726)","v":0}]
[{"$nulls":13},{"$f":"IF(SAISIE!K1727=\"\",0,SAISIE!K1727)","v":0}]
[{"$nulls":13},{"$f":"IF(SAISIE!K1728=\"\",0,SAISIE!K1728)","v":0}]
[{"$nulls":13},{"$f":"IF(SAISIE!K1729=\"\",0,SAISIE!K1729)","v":0}]
[{"$nulls":13},{"$f":"IF(SAISIE!K1730=\"\",0,SAISIE!K1730)","v":0}]
[{"$nulls":13},{"$f":"IF(SAISIE!K1731=\"\",0,SAISIE!K1731)","v":0}]
[{"$nulls":13},{"$f":"IF(SAISIE!K1732=\"\",0,SAISIE!K1732)","v":0}]
[{"$nulls":13},{"$f":"IF(SAISIE!K1733=\"\",0,SAISIE!K1733)","v":0}]
[{"$nulls":13},{"$f":"IF(SAISIE!K1734=\"\",0,SAISIE!K1734)","v":0}]
[{"$nulls":13},{"$f":"IF(SAISIE!K1735=\"\",0,SAISIE!K1735)","v":0}]
[{"$nulls":13},{"$f":"IF(SAISIE!K1736=\"\",0,SAISIE!K1736)","v":0}]
[{"$nulls":13},{"$f":"IF(SAISIE!K1737=\"\",0,SAISIE!K1737)","v":0}]
[{"$nulls":13},{"$f":"IF(SAISIE!K1738=\"\",0,SAISIE!K1738)","v":0}]
[{"$nulls":13},{"$f":"IF(SAISIE!K1739=\"\",0,SAISIE!K1739)","v":0}]
[{"$nulls":13},{"$f":"IF(SAISIE!K1740=\"\",0,SAISIE!K1740)","v":0}]
[{"$nulls":13},{"$f":"IF(SAISIE!K1741=\"\",0,SAISIE!K1741)","v":0}]
[{"$nulls":13},{"$f":"IF(SAISIE!K1742=\"\",0,SAISIE!K1742)","v":0}]
[{"$nulls":13},{"$f":"IF(SAISIE!K1743=\"\",0,SAISIE!K1743)","v":0}]
[{"$nulls":13},{"$f":"IF(SAISIE!K1744=\"\",0,SAISIE!K1744)","v":0}]
[{"$nulls":13},{"$f":"IF(SAISIE!K1745=\"\",0,SAISIE!K1745)","v":0}]
[{"$nulls":13},{"$f":"IF(SAISIE!K1746=\"\",0,SAISIE!K1746)","v":0}]
[{"$nulls":13},{"$f":"IF(SAISIE!K1747=\"\",0,SAISIE!K1747)","v":0}]
[{"$nulls":13},{"$f":"IF(SAISIE!K1748=\"\",0,SAISIE!K1748)","v":0}]
[{"$nulls":13},{"$f":"IF(SAISIE!K1749=\"\",0,SAISIE!K1749)","v":0}]
[{"$nulls":13},{"$f":"IF(SAISIE!K1750=\"\",0,SAISIE!K1750)","v":0}]
[{"$nulls":13},{"$f":"IF(SAISIE!K1751=\"\",0,SAISIE!K1751)","v":0}]
[{"$nulls":13},{"$f":"IF(SAISIE!K1752=\"\",0,SAISIE!K1752)","v":0}]
[{"$nulls":13},{"$f":"IF(SAISIE!K1753=\"\",0,SAISIE!K1753)","v":0}]
[{"$nulls":13},{"$f":"IF(SAISIE!K1754=\"\",0,SAISIE!K1754)","v":0}]
[{"$nulls":13},{"$f":"IF(SAISIE!K1755=\"\",0,SAISIE!K1755)","v":0}]
[{"$nulls":13},{"$f":"IF(SAISIE!K1756=\"\",0,SAISIE!K1756)","v":0}]
[{"$nulls":13},{"$f":"IF(SAISIE!K1757=\"\",0,SAISIE!K1757)","v":0}]
[{"$nulls":13},{"$f":"IF(SAISIE!K1758=\"\",0,SAISIE!K1758)","v":0}]
[{"$nulls":13},{"$f":"IF(SAISIE!K1759=\"\",0,SAISIE!K1759)","v":0}]
[{"$nulls":13},{"$f":"IF(SAISIE!K1760=\"\",0,SAISIE!K1760)","v":0}]
[{"$nulls":13},{"$f":"IF(SAISIE!K1761=\"\",0,SAISIE!K1761)","v":0}]
[{"$nulls":13},{"$f":"IF(SAISIE!K1762=\"\",0,SAISIE!K1762)","v":0}]
[{"$nulls":13},{"$f":"IF(SAISIE!K1763=\"\",0,SAISIE!K1763)","v":0}]
[{"$nulls":13},{"$f":"IF(SAISIE!K1764=\"\",0,SAISIE!K1764)","v":0}]
[{"$nulls":13},{"$f":"IF(SAISIE!K1765=\"\",0,SAISIE!K1765)","v":0}]
[{"$nulls":13},{"$f":"IF(SAISIE!K1766=\"\",0,SAISIE!K1766)","v":0}]
[{"$nulls":13},{"$f":"IF(SAISIE!K1767=\"\",0,SAISIE!K1767)","v":0}]
[{"$nulls":13},{"$f":"IF(SAISIE!K1768=\"\",0,SAISIE!K1768)","v":0}]
[{"$nulls":13},{"$f":"IF(SAISIE!K1769=\"\",0,SAISIE!K1769)","v":0}]
[{"$nulls":13},{"$f":"IF(SAISIE!K1770=\"\",0,SAISIE!K1770)","v":0}]
[{"$nulls":13},{"$f":"IF(SAISIE!K1771=\"\",0,SAISIE!K1771)","v":0}]
[{"$nulls":13},{"$f":"IF(SAISIE!K1772=\"\",0,SAISIE!K1772)","v":0}]
[{"$nulls":13},{"$f":"IF(SAISIE!K1773=\"\",0,SAISIE!K1773)","v":0}]
[{"$nulls":13},{"$f":"IF(SAISIE!K1774=\"\",0,SAISIE!K1774)","v":0}]
[{"$nulls":13},{"$f":"IF(SAISIE!K1775=\"\",0,SAISIE!K1775)","v":0}]
[{"$nulls":13},{"$f":"IF(SAISIE!K1776=\"\",0,SAISIE!K1776)","v":0}]
[{"$nulls":13},{"$f":"IF(SAISIE!K1777=\"\",0,SAISIE!K1777)","v":0}]
[{"$nulls":13},{"$f":"IF(SAISIE!K1778=\"\",0,SAISIE!K1778)","v":0}]
[{"$nulls":13},{"$f":"IF(SAISIE!K1779=\"\",0,SAISIE!K1779)","v":0}]
[{"$nulls":13},{"$f":"IF(SAISIE!K1780=\"\",0,SAISIE!K1780)","v":0}]
[{"$nulls":13},{"$f":"IF(SAISIE!K1781=\"\",0,SAISIE!K1781)","v":0}]
[{"$nulls":13},{"$f":"IF(SAISIE!K1782=\"\",0,SAISIE!K1782)","v":0}]
[{"$nulls":13},{"$f":"IF(SAISIE!K1783=\"\",0,SAISIE!K1783)","v":0}]
[{"$nulls":13},{"$f":"IF(SAISIE!K1784=\"\",0,SAISIE!K1784)","v":0}]
[{"$nulls":13},{"$f":"IF(SAISIE!K1785=\"\",0,SAISIE!K1785)","v":0}]
[{"$nulls":13},{"$f":"IF(SAISIE!K1786=\"\",0,SAISIE!K1786)","v":0}]
[{"$nulls":13},{"$f":"IF(SAISIE!K1787=\"\",0,SAISIE!K1787)","v":0}]
[{"$nulls":13},{"$f":"IF(SAISIE!K1788=\"\",0,SAISIE!K1788)","v":0}]
[{"$nulls":13},{"$f":"IF(SAISIE!K1789=\"\",0,SAISIE!K1789)","v":0}]
[{"$nulls":13},{"$f":"IF(SAISIE!K1790=\"\",0,SAISIE!K1790)","v":0}]
[{"$nulls":13},{"$f":"IF(SAISIE!K1791=\"\",0,SAISIE!K1791)","v":0}]
[{"$nulls":13},{"$f":"IF(SAISIE!K1792=\"\",0,SAISIE!K1792)","v":0}]
[{"$nulls":13},{"$f":"IF(SAISIE!K1793=\"\",0,SAISIE!K1793)","v":0}]
[{"$nulls":13},{"$f":"IF(SAISIE!K1794=\"\",0,SAISIE!K1794)","v":0}]
[{"$nulls":13},{"$f":"IF(SAISIE!K1795=\"\",0,SAISIE!K1795)","v":0}]
[{"$nulls":13},{"$f":"IF(SAISIE!K1796=\"\",0,SAISIE!K1796)","v":0}]
[{"$nulls":13},{"$f":"IF(SAISIE!K1797=\"\",0,SAISIE!K1797)","v":0}]
[{"$nulls":13},{"$f":"IF(SAISIE!K1798=\"\",0,SAISIE!K1798)","v":0}]
[{"$nulls":13},{"$f":"IF(SAISIE!K1799=\"\",0,SAISIE!K1799)","v":0}]
[{"$nulls":13},{"$f":"IF(SAISIE!K1800=\"\",0,SAISIE!K1800)","v":0}]
[{"$nulls":13},{"$f":"IF(SAISIE!K1801=\"\",0,SAISIE!K1801)","v":0}]
[{"$nulls":13},{"$f":"IF(SAISIE!K1802=\"\",0,SAISIE!K1802)","v":0}]
[{"$nulls":13},{"$f":"IF(SAISIE!K1803=\"\",0,SAISIE!K1803)","v":0}]
[{"$nulls":13},{"$f":"IF(SAISIE!K1804=\"\",0,SAISIE!K1804)","v":0}]
[{"$nulls":13},{"$f":"IF(SAISIE!K1805=\"\",0,SAISIE!K1805)","v":0}]
[{"$nulls":13},{"$f":"IF(SAISIE!K1806=\"\",0,SAISIE!K1806)","v":0}]
[{"$nulls":13},{"$f":"IF(SAISIE!K1807=\"\",0,SAISIE!K1807)","v":0}]
[{"$nulls":13},{"$f":"IF(SAISIE!K1808=\"\",0,SAISIE!K1808)","v":0}]
[{"$nulls":13},{"$f":"IF(SAISIE!K1809=\"\",0,SAISIE!K1809)","v":0}]
[{"$nulls":13},{"$f":"IF(SAISIE!K1810=\"\",0,SAISIE!K1810)","v":0}]
[{"$nulls":13},{"$f":"IF(SAISIE!K1811=\"\",0,SAISIE!K1811)","v":0}]
[{"$nulls":13},{"$f":"IF(SAISIE!K1812=\"\",0,SAISIE!K1812)","v":0}]
[{"$nulls":13},{"$f":"IF(SAISIE!K1813=\"\",0,SAISIE!K1813)","v":0}]
[{"$nulls":13},{"$f":"IF(SAISIE!K1814=\"\",0,SAISIE!K1814)","v":0}]
[{"$nulls":13},{"$f":"IF(SAISIE!K1815=\"\",0,SAISIE!K1815)","v":0}]
[{"$nulls":13},{"$f":"IF(SAISIE!K1816=\"\",0,SAISIE!K1816)","v":0}]
[{"$nulls":13},{"$f":"IF(SAISIE!K1817=\"\",0,SAISIE!K1817)","v":0}]
[{"$nulls":13},{"$f":"IF(SAISIE!K1818=\"\",0,SAISIE!K1818)","v":0}]
[{"$nulls":13},{"$f":"IF(SAISIE!K1819=\"\",0,SAISIE!K1819)","v":0}]
[{"$nulls":13},{"$f":"IF(SAISIE!K1820=\"\",0,SAISIE!K1820)","v":0}]
[{"$nulls":13},{"$f":"IF(SAISIE!K1821=\"\",0,SAISIE!K1821)","v":0}]
[{"$nulls":13},{"$f":"IF(SAISIE!K1822=\"\",0,SAISIE!K1822)","v":0}]
[{"$nulls":13},{"$f":"IF(SAISIE!K1823=\"\",0,SAISIE!K1823)","v":0}]
[{"$nulls":13},{"$f":"IF(SAISIE!K1824=\"\",0,SAISIE!K1824)","v":0}]
[{"$nulls":13},{"$f":"IF(SAISIE!K1825=\"\",0,SAISIE!K1825)","v":0}]
[{"$nulls":13},{"$f":"IF(SAISIE!K1826=\"\",0,SAISIE!K1826)","v":0}]
[{"$nulls":13},{"$f":"IF(SAISIE!K1827=\"\",0,SAISIE!K1827)","v":0}]
[{"$nulls":13},{"$f":"IF(SAISIE!K1828=\"\",0,SAISIE!K1828)","v":0}]
[{"$nulls":13},{"$f":"IF(SAISIE!K1829=\"\",0,SAISIE!K1829)","v":0}]
[{"$nulls":13},{"$f":"IF(SAISIE!K1830=\"\",0,SAISIE!K1830)","v":0}]
[{"$nulls":13},{"$f":"IF(SAISIE!K1831=\"\",0,SAISIE!K1831)","v":0}]
[{"$nulls":13},{"$f":"IF(SAISIE!K1832=\"\",0,SAISIE!K1832)","v":0}]
[{"$nulls":13},{"$f":"IF(SAISIE!K1833=\"\",0,SAISIE!K1833)","v":0}]
[{"$nulls":13},{"$f":"IF(SAISIE!K1834=\"\",0,SAISIE!K1834)","v":0}]
[{"$nulls":13},{"$f":"IF(SAISIE!K1835=\"\",0,SAISIE!K1835)","v":0}]
[{"$nulls":13},{"$f":"IF(SAISIE!K1836=\"\",0,SAISIE!K1836)","v":0}]
[{"$nulls":13},{"$f":"IF(SAISIE!K1837=\"\",0,SAISIE!K1837)","v":0}]
[{"$nulls":13},{"$f":"IF(SAISIE!K1838=\"\",0,SAISIE!K1838)","v":0}]
[{"$nulls":13},{"$f":"IF(SAISIE!K1839=\"\",0,SAISIE!K1839)","v":0}]
[{"$nulls":13},{"$f":"IF(SAISIE!K1840=\"\",0,SAISIE!K1840)","v":0}]
[{"$nulls":13},{"$f":"IF(SAISIE!K1841=\"\",0,SAISIE!K1841)","v":0}]
[{"$nulls":13},{"$f":"IF(SAISIE!K1842=\"\",0,SAISIE!K1842)","v":0}]
[{"$nulls":13},{"$f":"IF(SAISIE!K1843=\"\",0,SAISIE!K1843)","v":0}]
[{"$nulls":13},{"$f":"IF(SAISIE!K1844=\"\",0,SAISIE!K1844)","v":0}]
[{"$nulls":13},{"$f":"IF(SAISIE!K1845=\"\",0,SAISIE!K1845)","v":0}]
[{"$nulls":13},{"$f":"IF(SAISIE!K1846=\"\",0,SAISIE!K1846)","v":0}]
[{"$nulls":13},{"$f":"IF(SAISIE!K1847=\"\",0,SAISIE!K1847)","v":0}]
[{"$nulls":13},{"$f":"IF(SAISIE!K1848=\"\",0,SAISIE!K1848)","v":0}]
[{"$nulls":13},{"$f":"IF(SAISIE!K1849=\"\",0,SAISIE!K1849)","v":0}]
[{"$nulls":13},{"$f":"IF(SAISIE!K1850=\"\",0,SAISIE!K1850)","v":0}]
[{"$nulls":13},{"$f":"IF(SAISIE!K1851=\"\",0,SAISIE!K1851)","v":0}]
[{"$nulls":13},{"$f":"IF(SAISIE!K1852=\"\",0,SAISIE!K1852)","v":0}]
[{"$nulls":13},{"$f":"IF(SAISIE!K1853=\"\",0,SAISIE!K1853)","v":0}]
[{"$nulls":13},{"$f":"IF(SAISIE!K1854=\"\",0,SAISIE!K1854)","v":0}]
[{"$nulls":13},{"$f":"IF(SAISIE!K1855=\"\",0,SAISIE!K1855)","v":0}]
[{"$nulls":13},{"$f":"IF(SAISIE!K1856=\"\",0,SAISIE!K1856)","v":0}]
[{"$nulls":13},{"$f":"IF(SAISIE!K1857=\"\",0,SAISIE!K1857)","v":0}]
[{"$nulls":13},{"$f":"IF(SAISIE!K1858=\"\",0,SAISIE!K1858)","v":0}]
[{"$nulls":13},{"$f":"IF(SAISIE!K1859=\"\",0,SAISIE!K1859)","v":0}]
[{"$nulls":13},{"$f":"IF(SAISIE!K1860=\"\",0,SAISIE!K1860)","v":0}]
[{"$nulls":13},{"$f":"IF(SAISIE!K1861=\"\",0,SAISIE!K1861)","v":0}]
[{"$nulls":13},{"$f":"IF(SAISIE!K1862=\"\",0,SAISIE!K1862)","v":0}]
[{"$nulls":13},{"$f":"IF(SAISIE!K1863=\"\",0,SAISIE!K1863)","v":0}]
[{"$nulls":13},{"$f":"IF(SAISIE!K1864=\"\",0,SAISIE!K1864)","v":0}]
[{"$nulls":13},{"$f":"IF(SAISIE!K1865=\"\",0,SAISIE!K1865)","v":0}]
[{"$nulls":13},{"$f":"IF(SAISIE!K1866=\"\",0,SAISIE!K1866)","v":0}]
[{"$nulls":13},{"$f":"IF(SAISIE!K1867=\"\",0,SAISIE!K1867)","v":0}]
[{"$nulls":13},{"$f":"IF(SAISIE!K1868=\"\",0,SAISIE!K1868)","v":0}]
[{"$nulls":13},{"$f":"IF(SAISIE!K1869=\"\",0,SAISIE!K1869)","v":0}]
[{"$nulls":13},{"$f":"IF(SAISIE!K1870=\"\",0,SAISIE!K1870)","v":0}]
[{"$nulls":13},{"$f":"IF(SAISIE!K1871=\"\",0,SAISIE!K1871)","v":0}]
[{"$nulls":13},{"$f":"IF(SAISIE!K1872=\"\",0,SAISIE!K1872)","v":0}]
[{"$nulls":13},{"$f":"IF(SAISIE!K1873=\"\",0,SAISIE!K1873)","v":0}]
[{"$nulls":13},{"$f":"IF(SAISIE!K1874=\"\",0,SAISIE!K1874)","v":0}]
[{"$nulls":13},{"$f":"IF(SAISIE!K1875=\"\",0,SAISIE!K1875)","v":0}]
[{"$nulls":13},{"$f":"IF(SAISIE!K1876=\"\",0,SAISIE!K1876)","v":0}]
[{"$nulls":13},{"$f":"IF(SAISIE!K1877=\"\",0,SAISIE!K1877)","v":0}]
[{"$nulls":13},{"$f":"IF(SAISIE!K1878=\"\",0,SAISIE!K1878)","v":0}]
[{"$nulls":13},{"$f":"IF(SAISIE!K1879=\"\",0,SAISIE!K1879)","v":0}]
[{"$nulls":13},{"$f":"IF(SAISIE!K1880=\"\",0,SAISIE!K1880)","v":0}]
[{"$nulls":13},{"$f":"IF(SAISIE!K1881=\"\",0,SAISIE!K1881)","v":0}]
[{"$nulls":13},{"$f":"IF(SAISIE!K1882=\"\",0,SAISIE!K1882)","v":0}]
[{"$nulls":13},{"$f":"IF(SAISIE!K1883=\"\",0,SAISIE!K1883)","v":0}]
[{"$nulls":13},{"$f":"IF(SAISIE!K1884=\"\",0,SAISIE!K1884)","v":0}]
[{"$nulls":13},{"$f":"IF(SAISIE!K1885=\"\",0,SAISIE!K1885)","v":0}]
[{"$nulls":13},{"$f":"IF(SAISIE!K1886=\"\",0,SAISIE!K1886)","v":0}]
[{"$nulls":13},{"$f":"IF(SAISIE!K1887=\"\",0,SAISIE!K1887)","v":0}]
[{"$nulls":13},{"$f":"IF(SAISIE!K1888=\"\",0,SAISIE!K1888)","v":0}]
[{"$nulls":13},{"$f":"IF(SAISIE!K1889=\"\",0,SAISIE!K1889)","v":0}]
[{"$nulls":13},{"$f":"IF(SAISIE!K1890=\"\",0,SAISIE!K1890)","v":0}]
[{"$nulls":13},{"$f":"IF(SAISIE!K1891=\"\",0,SAISIE!K1891)","v":0}]
[{"$nulls":13},{"$f":"IF(SAISIE!K1892=\"\",0,SAISIE!K1892)","v":0}]
[{"$nulls":13},{"$f":"IF(SAISIE!K1893=\"\",0,SAISIE!K1893)","v":0}]
[{"$nulls":13},{"$f":"IF(SAISIE!K1894=\"\",0,SAISIE!K1894)","v":0}]
[{"$nulls":13},{"$f":"IF(SAISIE!K1895=\"\",0,SAISIE!K1895)","v":0}]
[{"$nulls":13},{"$f":"IF(SAISIE!K1896=\"\",0,SAISIE!K1896)","v":0}]
[{"$nulls":13},{"$f":"IF(SAISIE!K1897=\"\",0,SAISIE!K1897)","v":0}]
[{"$nulls":13},{"$f":"IF(SAISIE!K1898=\"\",0,SAISIE!K1898)","v":0}]
[{"$nulls":13},{"$f":"IF(SAISIE!K1899=\"\",0,SAISIE!K1899)","v":0}]
[{"$nulls":13},{"$f":"IF(SAISIE!K1900=\"\",0,SAISIE!K1900)","v":0}]
[{"$nulls":13},{"$f":"IF(SAISIE!K1901=\"\",0,SAISIE!K1901)","v":0}]
[{"$nulls":13},{"$f":"IF(SAISIE!K1902=\"\",0,SAISIE!K1902)","v":0}]
[{"$nulls":13},{"$f":"IF(SAISIE!K1903=\"\",0,SAISIE!K1903)","v":0}]
[{"$nulls":13},{"$f":"IF(SAISIE!K1904=\"\",0,SAISIE!K1904)","v":0}]
[{"$nulls":13},{"$f":"IF(SAISIE!K1905=\"\",0,SAISIE!K1905)","v":0}]
[{"$nulls":13},{"$f":"IF(SAISIE!K1906=\"\",0,SAISIE!K1906)","v":0}]
[{"$nulls":13},{"$f":"IF(SAISIE!K1907=\"\",0,SAISIE!K1907)","v":0}]
[{"$nulls":13},{"$f":"IF(SAISIE!K1908=\"\",0,SAISIE!K1908)","v":0}]
[{"$nulls":13},{"$f":"IF(SAISIE!K1909=\"\",0,SAISIE!K1909)","v":0}]
[{"$nulls":13},{"$f":"IF(SAISIE!K1910=\"\",0,SAISIE!K1910)","v":0}]
[{"$nulls":13},{"$f":"IF(SAISIE!K1911=\"\",0,SAISIE!K1911)","v":0}]
[{"$nulls":13},{"$f":"IF(SAISIE!K1912=\"\",0,SAISIE!K1912)","v":0}]
[{"$nulls":13},{"$f":"IF(SAISIE!K1913=\"\",0,SAISIE!K1913)","v":0}]
[{"$nulls":13},{"$f":"IF(SAISIE!K1914=\"\",0,SAISIE!K1914)","v":0}]
[{"$nulls":13},{"$f":"IF(SAISIE!K1915=\"\",0,SAISIE!K1915)","v":0}]
[{"$nulls":13},{"$f":"IF(SAISIE!K1916=\"\",0,SAISIE!K1916)","v":0}]
[{"$nulls":13},{"$f":"IF(SAISIE!K1917=\"\",0,SAISIE!K1917)","v":0}]
[{"$nulls":13},{"$f":"IF(SAISIE!K1918=\"\",0,SAISIE!K1918)","v":0}]
[{"$nulls":13},{"$f":"IF(SAISIE!K1919=\"\",0,SAISIE!K1919)","v":0}]
[{"$nulls":13},{"$f":"IF(SAISIE!K1920=\"\",0,SAISIE!K1920)","v":0}]
[{"$nulls":13},{"$f":"IF(SAISIE!K1921=\"\",0,SAISIE!K1921)","v":0}]
[{"$nulls":13},{"$f":"IF(SAISIE!K1922=\"\",0,SAISIE!K1922)","v":0}]
[{"$nulls":13},{"$f":"IF(SAISIE!K1923=\"\",0,SAISIE!K1923)","v":0}]
[{"$nulls":13},{"$f":"IF(SAISIE!K1924=\"\",0,SAISIE!K1924)","v":0}]
[{"$nulls":13},{"$f":"IF(SAISIE!K1925=\"\",0,SAISIE!K1925)","v":0}]
[{"$nulls":13},{"$f":"IF(SAISIE!K1926=\"\",0,SAISIE!K1926)","v":0}]
[{"$nulls":13},{"$f":"IF(SAISIE!K1927=\"\",0,SAISIE!K1927)","v":0}]
[{"$nulls":13},{"$f":"IF(SAISIE!K1928=\"\",0,SAISIE!K1928)","v":0}]
[{"$nulls":13},{"$f":"IF(SAISIE!K1929=\"\",0,SAISIE!K1929)","v":0}]
[{"$nulls":13},{"$f":"IF(SAISIE!K1930=\"\",0,SAISIE!K1930)","v":0}]
[{"$nulls":13},{"$f":"IF(SAISIE!K1931=\"\",0,SAISIE!K1931)","v":0}]
[{"$nulls":13},{"$f":"IF(SAISIE!K1932=\"\",0,SAISIE!K1932)","v":0}]
[{"$nulls":13},{"$f":"IF(SAISIE!K1933=\"\",0,SAISIE!K1933)","v":0}]
[{"$nulls":13},{"$f":"IF(SAISIE!K1934=\"\",0,SAISIE!K1934)","v":0}]
[{"$nulls":13},{"$f":"IF(SAISIE!K1935=\"\",0,SAISIE!K1935)","v":0}]
[{"$nulls":13},{"$f":"IF(SAISIE!K1936=\"\",0,SAISIE!K1936)","v":0}]
[{"$nulls":13},{"$f":"IF(SAISIE!K1937=\"\",0,SAISIE!K1937)","v":0}]
[{"$nulls":13},{"$f":"IF(SAISIE!K1938=\"\",0,SAISIE!K1938)","v":0}]
[{"$nulls":13},{"$f":"IF(SAISIE!K1939=\"\",0,SAISIE!K1939)","v":0}]
[{"$nulls":13},{"$f":"IF(SAISIE!K1940=\"\",0,SAISIE!K1940)","v":0}]
[{"$nulls":13},{"$f":"IF(SAISIE!K1941=\"\",0,SAISIE!K1941)","v":0}]
[{"$nulls":13},{"$f":"IF(SAISIE!K1942=\"\",0,SAISIE!K1942)","v":0}]
[{"$nulls":13},{"$f":"IF(SAISIE!K1943=\"\",0,SAISIE!K1943)","v":0}]
[{"$nulls":13},{"$f":"IF(SAISIE!K1944=\"\",0,SAISIE!K1944)","v":0}]
[{"$nulls":13},{"$f":"IF(SAISIE!K1945=\"\",0,SAISIE!K1945)","v":0}]
[{"$nulls":13},{"$f":"IF(SAISIE!K1946=\"\",0,SAISIE!K1946)","v":0}]
[{"$nulls":13},{"$f":"IF(SAISIE!K1947=\"\",0,SAISIE!K1947)","v":0}]
[{"$nulls":13},{"$f":"IF(SAISIE!K1948=\"\",0,SAISIE!K1948)","v":0}]
[{"$nulls":13},{"$f":"IF(SAISIE!K1949=\"\",0,SAISIE!K1949)","v":0}]
[{"$nulls":13},{"$f":"IF(SAISIE!K1950=\"\",0,SAISIE!K1950)","v":0}]
[{"$nulls":13},{"$f":"IF(SAISIE!K1951=\"\",0,SAISIE!K1951)","v":0}]
[{"$nulls":13},{"$f":"IF(SAISIE!K1952=\"\",0,SAISIE!K1952)","v":0}]
[{"$nulls":13},{"$f":"IF(SAISIE!K1953=\"\",0,SAISIE!K1953)","v":0}]
[{"$nulls":13},{"$f":"IF(SAISIE!K1954=\"\",0,SAISIE!K1954)","v":0}]
[{"$nulls":13},{"$f":"IF(SAISIE!K1955=\"\",0,SAISIE!K1955)","v":0}]
[{"$nulls":13},{"$f":"IF(SAISIE!K1956=\"\",0,SAISIE!K1956)","v":0}]
[{"$nulls":13},{"$f":"IF(SAISIE!K1957=\"\",0,SAISIE!K1957)","v":0}]
[{"$nulls":13},{"$f":"IF(SAISIE!K1958=\"\",0,SAISIE!K1958)","v":0}]
[{"$nulls":13},{"$f":"IF(SAISIE!K1959=\"\",0,SAISIE!K1959)","v":0}]
[{"$nulls":13},{"$f":"IF(SAISIE!K1960=\"\",0,SAISIE!K1960)","v":0}]
[{"$nulls":13},{"$f":"IF(SAISIE!K1961=\"\",0,SAISIE!K1961)","v":0}]
[{"$nulls":13},{"$f":"IF(SAISIE!K1962=\"\",0,SAISIE!K1962)","v":0}]
[{"$nulls":13},{"$f":"IF(SAISIE!K1963=\"\",0,SAISIE!K1963)","v":0}]
[{"$nulls":13},{"$f":"IF(SAISIE!K1964=\"\",0,SAISIE!K1964)","v":0}]
[{"$nulls":13},{"$f":"IF(SAISIE!K1965=\"\",0,SAISIE!K1965)","v":0}]
[{"$nulls":13},{"$f":"IF(SAISIE!K1966=\"\",0,SAISIE!K1966)","v":0}]
[{"$nulls":13},{"$f":"IF(SAISIE!K1967=\"\",0,SAISIE!K1967)","v":0}]
[{"$nulls":13},{"$f":"IF(SAISIE!K1968=\"\",0,SAISIE!K1968)","v":0}]
[{"$nulls":13},{"$f":"IF(SAISIE!K1969=\"\",0,SAISIE!K1969)","v":0}]
[{"$nulls":13},{"$f":"IF(SAISIE!K1970=\"\",0,SAISIE!K1970)","v":0}]
[{"$nulls":13},{"$f":"IF(SAISIE!K1971=\"\",0,SAISIE!K1971)","v":0}]
[{"$nulls":13},{"$f":"IF(SAISIE!K1972=\"\",0,SAISIE!K1972)","v":0}]
[{"$nulls":13},{"$f":"IF(SAISIE!K1973=\"\",0,SAISIE!K1973)","v":0}]
[{"$nulls":13},{"$f":"IF(SAISIE!K1974=\"\",0,SAISIE!K1974)","v":0}]
[{"$nulls":13},{"$f":"IF(SAISIE!K1975=\"\",0,SAISIE!K1975)","v":0}]
[{"$nulls":13},{"$f":"IF(SAISIE!K1976=\"\",0,SAISIE!K1976)","v":0}]
[{"$nulls":13},{"$f":"IF(SAISIE!K1977=\"\",0,SAISIE!K1977)","v":0}]
[{"$nulls":13},{"$f":"IF(SAISIE!K1978=\"\",0,SAISIE!K1978)","v":0}]
[{"$nulls":13},{"$f":"IF(SAISIE!K1979=\"\",0,SAISIE!K1979)","v":0}]
[{"$nulls":13},{"$f":"IF(SAISIE!K1980=\"\",0,SAISIE!K1980)","v":0}]
[{"$nulls":13},{"$f":"IF(SAISIE!K1981=\"\",0,SAISIE!K1981)","v":0}]
[{"$nulls":13},{"$f":"IF(SAISIE!K1982=\"\",0,SAISIE!K1982)","v":0}]
[{"$nulls":13},{"$f":"IF(SAISIE!K1983=\"\",0,SAISIE!K1983)","v":0}]
[{"$nulls":13},{"$f":"IF(SAISIE!K1984=\"\",0,SAISIE!K1984)","v":0}]
[{"$nulls":13},{"$f":"IF(SAISIE!K1985=\"\",0,SAISIE!K1985)","v":0}]
[{"$nulls":13},{"$f":"IF(SAISIE!K1986=\"\",0,SAISIE!K1986)","v":0}]
[{"$nulls":13},{"$f":"IF(SAISIE!K1987=\"\",0,SAISIE!K1987)","v":0}]
[{"$nulls":13},{"$f":"IF(SAISIE!K1988=\"\",0,SAISIE!K1988)","v":0}]
[{"$nulls":13},{"$f":"IF(SAISIE!K1989=\"\",0,SAISIE!K1989)","v":0}]
[{"$nulls":13},{"$f":"IF(SAISIE!K1990=\"\",0,SAISIE!K1990)","v":0}]
[{"$nulls":13},{"$f":"IF(SAISIE!K1991=\"\",0,SAISIE!K1991)","v":0}]
[{"$nulls":13},{"$f":"IF(SAISIE!K1992=\"\",0,SAISIE!K1992)","v":0}]
[{"$nulls":13},{"$f":"IF(SAISIE!K1993=\"\",0,SAISIE!K1993)","v":0}]
[{"$nulls":13},{"$f":"IF(SAISIE!K1994=\"\",0,SAISIE!K1994)","v":0}]
[{"$nulls":13},{"$f":"IF(SAISIE!K1995=\"\",0,SAISIE!K1995)","v":0}]
[{"$nulls":13},{"$f":"IF(SAISIE!K1996=\"\",0,SAISIE!K1996)","v":0}]
[{"$nulls":13},{"$f":"IF(SAISIE!K1997=\"\",0,SAISIE!K1997)","v":0}]
[{"$nulls":13},{"$f":"IF(SAISIE!K1998=\"\",0,SAISIE!K1998)","v":0}]
[{"$nulls":13},{"$f":"IF(SAISIE!K1999=\"\",0,SAISIE!K1999)","v":0}]
[{"$nulls":13},{"$f":"IF(SAISIE!K2000=\"\",0,SAISIE!K2000)","v":0}]
[{"$nulls":13},{"$f":"IF(SAISIE!K2001=\"\",0,SAISIE!K2001)","v":0}]
[{"$nulls":13},{"$f":"IF(SAISIE!K2002=\"\",0,SAISIE!K2002)","v":0}]
[{"$nulls":13},{"$f":"IF(SAISIE!K2003=\"\",0,SAISIE!K2003)","v":0}]
[{"$nulls":13},{"$f":"IF(SAISIE!K2004=\"\",0,SAISIE!K2004)","v":0}]
[{"$nulls":13},{"$f":"IF(SAISIE!K2005=\"\",0,SAISIE!K2005)","v":0}]
[{"$nulls":13},{"$f":"IF(SAISIE!K2006=\"\",0,SAISIE!K2006)","v":0}]
[{"$nulls":13},{"$f":"IF(SAISIE!K2007=\"\",0,SAISIE!K2007)","v":0}]
[{"$nulls":13},{"$f":"IF(SAISIE!K2008=\"\",0,SAISIE!K2008)","v":0}]
[{"$nulls":13},{"$f":"IF(SAISIE!K2009=\"\",0,SAISIE!K2009)","v":0}]
[{"$nulls":13},{"$f":"IF(SAISIE!K2010=\"\",0,SAISIE!K2010)","v":0}]
[{"$nulls":13},{"$f":"IF(SAISIE!K2011=\"\",0,SAISIE!K2011)","v":0}]
[{"$nulls":13},{"$f":"IF(SAISIE!K2012=\"\",0,SAISIE!K2012)","v":0}]
[{"$nulls":13},{"$f":"IF(SAISIE!K2013=\"\",0,SAISIE!K2013)","v":0}]
[{"$nulls":13},{"$f":"IF(SAISIE!K2014=\"\",0,SAISIE!K2014)","v":0}]
[{"$nulls":13},{"$f":"IF(SAISIE!K2015=\"\",0,SAISIE!K2015)","v":0}]
[{"$nulls":13},{"$f":"IF(SAISIE!K2016=\"\",0,SAISIE!K2016)","v":0}]
[{"$nulls":13},{"$f":"IF(SAISIE!K2017=\"\",0,SAISIE!K2017)","v":0}]
[{"$nulls":13},{"$f":"IF(SAISIE!K2018=\"\",0,SAISIE!K2018)","v":0}]
[{"$nulls":13},{"$f":"IF(SAISIE!K2019=\"\",0,SAISIE!K2019)","v":0}]
[{"$nulls":13},{"$f":"IF(SAISIE!K2020=\"\",0,SAISIE!K2020)","v":0}]
[{"$nulls":13},{"$f":"IF(SAISIE!K2021=\"\",0,SAISIE!K2021)","v":0}]
[{"$nulls":13},{"$f":"IF(SAISIE!K2022=\"\",0,SAISIE!K2022)","v":0}]
[{"$nulls":13},{"$f":"IF(SAISIE!K2023=\"\",0,SAISIE!K2023)","v":0}]
[{"$nulls":13},{"$f":"IF(SAISIE!K2024=\"\",0,SAISIE!K2024)","v":0}]
[{"$nulls":13},{"$f":"IF(SAISIE!K2025=\"\",0,SAISIE!K2025)","v":0}]
[{"$nulls":13},{"$f":"IF(SAISIE!K2026=\"\",0,SAISIE!K2026)","v":0}]
[{"$nulls":13},{"$f":"IF(SAISIE!K2027=\"\",0,SAISIE!K2027)","v":0}]
[{"$nulls":13},{"$f":"IF(SAISIE!K2028=\"\",0,SAISIE!K2028)","v":0}]
[{"$nulls":13},{"$f":"IF(SAISIE!K2029=\"\",0,SAISIE!K2029)","v":0}]
[{"$nulls":13},{"$f":"IF(SAISIE!K2030=\"\",0,SAISIE!K2030)","v":0}]
[{"$nulls":13},{"$f":"IF(SAISIE!K2031=\"\",0,SAISIE!K2031)","v":0}]
[{"$nulls":13},{"$f":"IF(SAISIE!K2032=\"\",0,SAISIE!K2032)","v":0}]
[{"$nulls":13},{"$f":"IF(SAISIE!K2033=\"\",0,SAISIE!K2033)","v":0}]
[{"$nulls":13},{"$f":"IF(SAISIE!K2034=\"\",0,SAISIE!K2034)","v":0}]
[{"$nulls":13},{"$f":"IF(SAISIE!K2035=\"\",0,SAISIE!K2035)","v":0}]
[{"$nulls":13},{"$f":"IF(SAISIE!K2036=\"\",0,SAISIE!K2036)","v":0}]
[{"$nulls":13},{"$f":"IF(SAISIE!K2037=\"\",0,SAISIE!K2037)","v":0}]
[{"$nulls":13},{"$f":"IF(SAISIE!K2038=\"\",0,SAISIE!K2038)","v":0}]
[{"$nulls":13},{"$f":"IF(SAISIE!K2039=\"\",0,SAISIE!K2039)","v":0}]
[{"$nulls":13},{"$f":"IF(SAISIE!K2040=\"\",0,SAISIE!K2040)","v":0}]
[{"$nulls":13},{"$f":"IF(SAISIE!K2041=\"\",0,SAISIE!K2041)","v":0}]
[{"$nulls":13},{"$f":"IF(SAISIE!K2042=\"\",0,SAISIE!K2042)","v":0}]
[{"$nulls":13},{"$f":"IF(SAISIE!K2043=\"\",0,SAISIE!K2043)","v":0}]
[{"$nulls":13},{"$f":"IF(SAISIE!K2044=\"\",0,SAISIE!K2044)","v":0}]
[{"$nulls":13},{"$f":"IF(SAISIE!K2045=\"\",0,SAISIE!K2045)","v":0}]
[{"$nulls":13},{"$f":"IF(SAISIE!K2046=\"\",0,SAISIE!K2046)","v":0}]
[{"$nulls":13},{"$f":"IF(SAISIE!K2047=\"\",0,SAISIE!K2047)","v":0}]
[{"$nulls":13},{"$f":"IF(SAISIE!K2048=\"\",0,SAISIE!K2048)","v":0}]
[{"$nulls":13},{"$f":"IF(SAISIE!K2049=\"\",0,SAISIE!K2049)","v":0}]
[{"$nulls":13},{"$f":"IF(SAISIE!K2050=\"\",0,SAISIE!K2050)","v":0}]
[{"$nulls":13},{"$f":"IF(SAISIE!K2051=\"\",0,SAISIE!K2051)","v":0}]
[{"$nulls":13},{"$f":"IF(SAISIE!K2052=\"\",0,SAISIE!K2052)","v":0}]
[{"$nulls":13},{"$f":"IF(SAISIE!K2053=\"\",0,SAISIE!K2053)","v":0}]
[{"$nulls":13},{"$f":"IF(SAISIE!K2054=\"\",0,SAISIE!K2054)","v":0}]
[{"$nulls":13},{"$f":"IF(SAISIE!K2055=\"\",0,SAISIE!K2055)","v":0}]
[{"$nulls":13},{"$f":"IF(SAISIE!K2056=\"\",0,SAISIE!K2056)","v":0}]
[{"$nulls":13},{"$f":"IF(SAISIE!K2057=\"\",0,SAISIE!K2057)","v":0}]
[{"$nulls":13},{"$f":"IF(SAISIE!K2058=\"\",0,SAISIE!K2058)","v":0}]
[{"$nulls":13},{"$f":"IF(SAISIE!K2059=\"\",0,SAISIE!K2059)","v":0}]
[{"$nulls":13},{"$f":"IF(SAISIE!K2060=\"\",0,SAISIE!K2060)","v":0}]
[{"$nulls":13},{"$f":"IF(SAISIE!K2061=\"\",0,SAISIE!K2061)","v":0}]
[{"$nulls":13},{"$f":"IF(SAISIE!K2062=\"\",0,SAISIE!K2062)","v":0}]
[{"$nulls":13},{"$f":"IF(SAISIE!K2063=\"\",0,SAISIE!K2063)","v":0}]
[{"$nulls":13},{"$f":"IF(SAISIE!K2064=\"\",0,SAISIE!K2064)","v":0}]
[{"$nulls":13},{"$f":"IF(SAISIE!K2065=\"\",0,SAISIE!K2065)","v":0}]
[{"$nulls":13},{"$f":"IF(SAISIE!K2066=\"\",0,SAISIE!K2066)","v":0}]
[{"$nulls":13},{"$f":"IF(SAISIE!K2067=\"\",0,SAISIE!K2067)","v":0}]
[{"$nulls":13},{"$f":"IF(SAISIE!K2068=\"\",0,SAISIE!K2068)","v":0}]
[{"$nulls":13},{"$f":"IF(SAISIE!K2069=\"\",0,SAISIE!K2069)","v":0}]
[{"$nulls":13},{"$f":"IF(SAISIE!K2070=\"\",0,SAISIE!K2070)","v":0}]
[{"$nulls":13},{"$f":"IF(SAISIE!K2071=\"\",0,SAISIE!K2071)","v":0}]
[{"$nulls":13},{"$f":"IF(SAISIE!K2072=\"\",0,SAISIE!K2072)","v":0}]
[{"$nulls":13},{"$f":"IF(SAISIE!K2073=\"\",0,SAISIE!K2073)","v":0}]
[{"$nulls":13},{"$f":"IF(SAISIE!K2074=\"\",0,SAISIE!K2074)","v":0}]
[{"$nulls":13},{"$f":"IF(SAISIE!K2075=\"\",0,SAISIE!K2075)","v":0}]
[{"$nulls":13},{"$f":"IF(SAISIE!K2076=\"\",0,SAISIE!K2076)","v":0}]
[{"$nulls":13},{"$f":"IF(SAISIE!K2077=\"\",0,SAISIE!K2077)","v":0}]
[{"$nulls":13},{"$f":"IF(SAISIE!K2078=\"\",0,SAISIE!K2078)","v":0}]
[{"$nulls":13},{"$f":"IF(SAISIE!K2079=\"\",0,SAISIE!K2079)","v":0}]
[{"$nulls":13},{"$f":"IF(SAISIE!K2080=\"\",0,SAISIE!K2080)","v":0}]
[{"$nulls":13},{"$f":"IF(SAISIE!K2081=\"\",0,SAISIE!K2081)","v":0}]
[{"$nulls":13},{"$f":"IF(SAISIE!K2082=\"\",0,SAISIE!K2082)","v":0}]
[{"$nulls":13},{"$f":"IF(SAISIE!K2083=\"\",0,SAISIE!K2083)","v":0}]
[{"$nulls":13},{"$f":"IF(SAISIE!K2084=\"\",0,SAISIE!K2084)","v":0}]
[{"$nulls":13},{"$f":"IF(SAISIE!K2085=\"\",0,SAISIE!K2085)","v":0}]
[{"$nulls":13},{"$f":"IF(SAISIE!K2086=\"\",0,SAISIE!K2086)","v":0}]
[{"$nulls":13},{"$f":"IF(SAISIE!K2087=\"\",0,SAISIE!K2087)","v":0}]
[{"$nulls":13},{"$f":"IF(SAISIE!K2088=\"\",0,SAISIE!K2088)","v":0}]
[{"$nulls":13},{"$f":"IF(SAISIE!K2089=\"\",0,SAISIE!K2089)","v":0}]
[{"$nulls":13},{"$f":"IF(SAISIE!K2090=\"\",0,SAISIE!K2090)","v":0}]
[{"$nulls":13},{"$f":"IF(SAISIE!K2091=\"\",0,SAISIE!K2091)","v":0}]
[{"$nulls":13},{"$f":"IF(SAISIE!K2092=\"\",0,SAISIE!K2092)","v":0}]
[{"$nulls":13},{"$f":"IF(SAISIE!K2093=\"\",0,SAISIE!K2093)","v":0}]
[{"$nulls":13},{"$f":"IF(SAISIE!K2094=\"\",0,SAISIE!K2094)","v":0}]
[{"$nulls":13},{"$f":"IF(SAISIE!K2095=\"\",0,SAISIE!K2095)","v":0}]
[{"$nulls":13},{"$f":"IF(SAISIE!K2096=\"\",0,SAISIE!K2096)","v":0}]
[{"$nulls":13},{"$f":"IF(SAISIE!K2097=\"\",0,SAISIE!K2097)","v":0}]
[{"$nulls":13},{"$f":"IF(SAISIE!K2098=\"\",0,SAISIE!K2098)","v":0}]
[{"$nulls":13},{"$f":"IF(SAISIE!K2099=\"\",0,SAISIE!K2099)","v":0}]
[{"$nulls":13},{"$f":"IF(SAISIE!K2100=\"\",0,SAISIE!K2100)","v":0}]
[{"$nulls":13},{"$f":"IF(SAISIE!K2101=\"\",0,SAISIE!K2101)","v":0}]
[{"$nulls":13},{"$f":"IF(SAISIE!K2102=\"\",0,SAISIE!K2102)","v":0}]
[{"$nulls":13},{"$f":"IF(SAISIE!K2103=\"\",0,SAISIE!K2103)","v":0}]
[{"$nulls":13},{"$f":"IF(SAISIE!K2104=\"\",0,SAISIE!K2104)","v":0}]
[{"$nulls":13},{"$f":"IF(SAISIE!K2105=\"\",0,SAISIE!K2105)","v":0}]
[{"$nulls":13},{"$f":"IF(SAISIE!K2106=\"\",0,SAISIE!K2106)","v":0}]
[{"$nulls":13},{"$f":"IF(SAISIE!K2107=\"\",0,SAISIE!K2107)","v":0}]
[{"$nulls":13},{"$f":"IF(SAISIE!K2108=\"\",0,SAISIE!K2108)","v":0}]
[{"$nulls":13},{"$f":"IF(SAISIE!K2109=\"\",0,SAISIE!K2109)","v":0}]
[{"$nulls":13},{"$f":"IF(SAISIE!K2110=\"\",0,SAISIE!K2110)","v":0}]
[{"$nulls":13},{"$f":"IF(SAISIE!K2111=\"\",0,SAISIE!K2111)","v":0}]
[{"$nulls":13},{"$f":"IF(SAISIE!K2112=\"\",0,SAISIE!K2112)","v":0}]
[{"$nulls":13},{"$f":"IF(SAISIE!K2113=\"\",0,SAISIE!K2113)","v":0}]
[{"$nulls":13},{"$f":"IF(SAISIE!K2114=\"\",0,SAISIE!K2114)","v":0}]
[{"$nulls":13},{"$f":"IF(SAISIE!K2115=\"\",0,SAISIE!K2115)","v":0}]
[{"$nulls":13},{"$f":"IF(SAISIE!K2116=\"\",0,SAISIE!K2116)","v":0}]
[{"$nulls":13},{"$f":"IF(SAISIE!K2117=\"\",0,SAISIE!K2117)","v":0}]
[{"$nulls":13},{"$f":"IF(SAISIE!K2118=\"\",0,SAISIE!K2118)","v":0}]
[{"$nulls":13},{"$f":"IF(SAISIE!K2119=\"\",0,SAISIE!K2119)","v":0}]
[{"$nulls":13},{"$f":"IF(SAISIE!K2120=\"\",0,SAISIE!K2120)","v":0}]
[{"$nulls":13},{"$f":"IF(SAISIE!K2121=\"\",0,SAISIE!K2121)","v":0}]
[{"$nulls":13},{"$f":"IF(SAISIE!K2122=\"\",0,SAISIE!K2122)","v":0}]
[{"$nulls":13},{"$f":"IF(SAISIE!K2123=\"\",0,SAISIE!K2123)","v":0}]
[{"$nulls":13},{"$f":"IF(SAISIE!K2124=\"\",0,SAISIE!K2124)","v":0}]
[{"$nulls":13},{"$f":"IF(SAISIE!K2125=\"\",0,SAISIE!K2125)","v":0}]
[{"$nulls":13},{"$f":"IF(SAISIE!K2126=\"\",0,SAISIE!K2126)","v":0}]
[{"$nulls":13},{"$f":"IF(SAISIE!K2127=\"\",0,SAISIE!K2127)","v":0}]
[{"$nulls":13},{"$f":"IF(SAISIE!K2128=\"\",0,SAISIE!K2128)","v":0}]
[{"$nulls":13},{"$f":"IF(SAISIE!K2129=\"\",0,SAISIE!K2129)","v":0}]
[{"$nulls":13},{"$f":"IF(SAISIE!K2130=\"\",0,SAISIE!K2130)","v":0}]
[{"$nulls":13},{"$f":"IF(SAISIE!K2131=\"\",0,SAISIE!K2131)","v":0}]
[{"$nulls":13},{"$f":"IF(SAISIE!K2132=\"\",0,SAISIE!K2132)","v":0}]
[{"$nulls":13},{"$f":"IF(SAISIE!K2133=\"\",0,SAISIE!K2133)","v":0}]
[{"$nulls":13},{"$f":"IF(SAISIE!K2134=\"\",0,SAISIE!K2134)","v":0}]
[{"$nulls":13},{"$f":"IF(SAISIE!K2135=\"\",0,SAISIE!K2135)","v":0}]
[{"$nulls":13},{"$f":"IF(SAISIE!K2136=\"\",0,SAISIE!K2136)","v":0}]
[{"$nulls":13},{"$f":"IF(SAISIE!K2137=\"\",0,SAISIE!K2137)","v":0}]
[{"$nulls":13},{"$f":"IF(SAISIE!K2138=\"\",0,SAISIE!K2138)","v":0}]
[{"$nulls":13},{"$f":"IF(SAISIE!K2139=\"\",0,SAISIE!K2139)","v":0}]
[{"$nulls":13},{"$f":"IF(SAISIE!K2140=\"\",0,SAISIE!K2140)","v":0}]
[{"$nulls":13},{"$f":"IF(SAISIE!K2141=\"\",0,SAISIE!K2141)","v":0}]
[{"$nulls":13},{"$f":"IF(SAISIE!K2142=\"\",0,SAISIE!K2142)","v":0}]
[{"$nulls":13},{"$f":"IF(SAISIE!K2143=\"\",0,SAISIE!K2143)","v":0}]
[{"$nulls":13},{"$f":"IF(SAISIE!K2144=\"\",0,SAISIE!K2144)","v":0}]
[{"$nulls":13},{"$f":"IF(SAISIE!K2145=\"\",0,SAISIE!K2145)","v":0}]
[{"$nulls":13},{"$f":"IF(SAISIE!K2146=\"\",0,SAISIE!K2146)","v":0}]
[{"$nulls":13},{"$f":"IF(SAISIE!K2147=\"\",0,SAISIE!K2147)","v":0}]
[{"$nulls":13},{"$f":"IF(SAISIE!K2148=\"\",0,SAISIE!K2148)","v":0}]
[{"$nulls":13},{"$f":"IF(SAISIE!K2149=\"\",0,SAISIE!K2149)","v":0}]
[{"$nulls":13},{"$f":"IF(SAISIE!K2150=\"\",0,SAISIE!K2150)","v":0}]
[{"$nulls":13},{"$f":"IF(SAISIE!K2151=\"\",0,SAISIE!K2151)","v":0}]
[{"$nulls":13},{"$f":"IF(SAISIE!K2152=\"\",0,SAISIE!K2152)","v":0}]
[{"$nulls":13},{"$f":"IF(SAISIE!K2153=\"\",0,SAISIE!K2153)","v":0}]
[{"$nulls":13},{"$f":"IF(SAISIE!K2154=\"\",0,SAISIE!K2154)","v":0}]
[{"$nulls":13},{"$f":"IF(SAISIE!K2155=\"\",0,SAISIE!K2155)","v":0}]
[{"$nulls":13},{"$f":"IF(SAISIE!K2156=\"\",0,SAISIE!K2156)","v":0}]
[{"$nulls":13},{"$f":"IF(SAISIE!K2157=\"\",0,SAISIE!K2157)","v":0}]
[{"$nulls":13},{"$f":"IF(SAISIE!K2158=\"\",0,SAISIE!K2158)","v":0}]
[{"$nulls":13},{"$f":"IF(SAISIE!K2159=\"\",0,SAISIE!K2159)","v":0}]
[{"$nulls":13},{"$f":"IF(SAISIE!K2160=\"\",0,SAISIE!K2160)","v":0}]
[{"$nulls":13},{"$f":"IF(SAISIE!K2161=\"\",0,SAISIE!K2161)","v":0}]
[{"$nulls":13},{"$f":"IF(SAISIE!K2162=\"\",0,SAISIE!K2162)","v":0}]
[{"$nulls":13},{"$f":"IF(SAISIE!K2163=\"\",0,SAISIE!K2163)","v":0}]
[{"$nulls":13},{"$f":"IF(SAISIE!K2164=\"\",0,SAISIE!K2164)","v":0}]
[{"$nulls":13},{"$f":"IF(SAISIE!K2165=\"\",0,SAISIE!K2165)","v":0}]
[{"$nulls":13},{"$f":"IF(SAISIE!K2166=\"\",0,SAISIE!K2166)","v":0}]
[{"$nulls":13},{"$f":"IF(SAISIE!K2167=\"\",0,SAISIE!K2167)","v":0}]
[{"$nulls":13},{"$f":"IF(SAISIE!K2168=\"\",0,SAISIE!K2168)","v":0}]
[{"$nulls":13},{"$f":"IF(SAISIE!K2169=\"\",0,SAISIE!K2169)","v":0}]
[{"$nulls":13},{"$f":"IF(SAISIE!K2170=\"\",0,SAISIE!K2170)","v":0}]
[{"$nulls":13},{"$f":"IF(SAISIE!K2171=\"\",0,SAISIE!K2171)","v":0}]
[{"$nulls":13},{"$f":"IF(SAISIE!K2172=\"\",0,SAISIE!K2172)","v":0}]
[{"$nulls":13},{"$f":"IF(SAISIE!K2173=\"\",0,SAISIE!K2173)","v":0}]
[{"$nulls":13},{"$f":"IF(SAISIE!K2174=\"\",0,SAISIE!K2174)","v":0}]
[{"$nulls":13},{"$f":"IF(SAISIE!K2175=\"\",0,SAISIE!K2175)","v":0}]
[{"$nulls":13},{"$f":"IF(SAISIE!K2176=\"\",0,SAISIE!K2176)","v":0}]
[{"$nulls":13},{"$f":"IF(SAISIE!K2177=\"\",0,SAISIE!K2177)","v":0}]
[{"$nulls":13},{"$f":"IF(SAISIE!K2178=\"\",0,SAISIE!K2178)","v":0}]
[{"$nulls":13},{"$f":"IF(SAISIE!K2179=\"\",0,SAISIE!K2179)","v":0}]
[{"$nulls":13},{"$f":"IF(SAISIE!K2180=\"\",0,SAISIE!K2180)","v":0}]
[{"$nulls":13},{"$f":"IF(SAISIE!K2181=\"\",0,SAISIE!K2181)","v":0}]
[{"$nulls":13},{"$f":"IF(SAISIE!K2182=\"\",0,SAISIE!K2182)","v":0}]
[{"$nulls":13},{"$f":"IF(SAISIE!K2183=\"\",0,SAISIE!K2183)","v":0}]
[{"$nulls":13},{"$f":"IF(SAISIE!K2184=\"\",0,SAISIE!K2184)","v":0}]
[{"$nulls":13},{"$f":"IF(SAISIE!K2185=\"\",0,SAISIE!K2185)","v":0}]
[{"$nulls":13},{"$f":"IF(SAISIE!K2186=\"\",0,SAISIE!K2186)","v":0}]
[{"$nulls":13},{"$f":"IF(SAISIE!K2187=\"\",0,SAISIE!K2187)","v":0}]
[{"$nulls":13},{"$f":"IF(SAISIE!K2188=\"\",0,SAISIE!K2188)","v":0}]
[{"$nulls":13},{"$f":"IF(SAISIE!K2189=\"\",0,SAISIE!K2189)","v":0}]
[{"$nulls":13},{"$f":"IF(SAISIE!K2190=\"\",0,SAISIE!K2190)","v":0}]
[{"$nulls":13},{"$f":"IF(SAISIE!K2191=\"\",0,SAISIE!K2191)","v":0}]
[{"$nulls":13},{"$f":"IF(SAISIE!K2192=\"\",0,SAISIE!K2192)","v":0}]
[{"$nulls":13},{"$f":"IF(SAISIE!K2193=\"\",0,SAISIE!K2193)","v":0}]
[{"$nulls":13},{"$f":"IF(SAISIE!K2194=\"\",0,SAISIE!K2194)","v":0}]
[{"$nulls":13},{"$f":"IF(SAISIE!K2195=\"\",0,SAISIE!K2195)","v":0}]
[{"$nulls":13},{"$f":"IF(SAISIE!K2196=\"\",0,SAISIE!K2196)","v":0}]
[{"$nulls":13},{"$f":"IF(SAISIE!K2197=\"\",0,SAISIE!K2197)","v":0}]
[{"$nulls":13},{"$f":"IF(SAISIE!K2198=\"\",0,SAISIE!K2198)","v":0}]
[{"$nulls":13},{"$f":"IF(SAISIE!K2199=\"\",0,SAISIE!K2199)","v":0}]
[{"$nulls":13},{"$f":"IF(SAISIE!K2200=\"\",0,SAISIE!K2200)","v":0}]
[{"$nulls":13},{"$f":"IF(SAISIE!K2201=\"\",0,SAISIE!K2201)","v":0}]
[{"$nulls":13},{"$f":"IF(SAISIE!K2202=\"\",0,SAISIE!K2202)","v":0}]
[{"$nulls":13},{"$f":"IF(SAISIE!K2203=\"\",0,SAISIE!K2203)","v":0}]
[{"$nulls":13},{"$f":"IF(SAISIE!K2204=\"\",0,SAISIE!K2204)","v":0}]
[{"$nulls":13},{"$f":"IF(SAISIE!K2205=\"\",0,SAISIE!K2205)","v":0}]
[{"$nulls":13},{"$f":"IF(SAISIE!K2206=\"\",0,SAISIE!K2206)","v":0}]
[{"$nulls":13},{"$f":"IF(SAISIE!K2207=\"\",0,SAISIE!K2207)","v":0}]
[{"$nulls":13},{"$f":"IF(SAISIE!K2208=\"\",0,SAISIE!K2208)","v":0}]
[{"$nulls":13},{"$f":"IF(SAISIE!K2209=\"\",0,SAISIE!K2209)","v":0}]
[{"$nulls":13},{"$f":"IF(SAISIE!K2210=\"\",0,SAISIE!K2210)","v":0}]
[{"$nulls":13},{"$f":"IF(SAISIE!K2211=\"\",0,SAISIE!K2211)","v":0}]
[{"$nulls":13},{"$f":"IF(SAISIE!K2212=\"\",0,SAISIE!K2212)","v":0}]
[{"$nulls":13},{"$f":"IF(SAISIE!K2213=\"\",0,SAISIE!K2213)","v":0}]
[{"$nulls":13},{"$f":"IF(SAISIE!K2214=\"\",0,SAISIE!K2214)","v":0}]
[{"$nulls":13},{"$f":"IF(SAISIE!K2215=\"\",0,SAISIE!K2215)","v":0}]
[{"$nulls":13},{"$f":"IF(SAISIE!K2216=\"\",0,SAISIE!K2216)","v":0}]
[{"$nulls":13},{"$f":"IF(SAISIE!K2217=\"\",0,SAISIE!K2217)","v":0}]
[{"$nulls":13},{"$f":"IF(SAISIE!K2218=\"\",0,SAISIE!K2218)","v":0}]
[{"$nulls":13},{"$f":"IF(SAISIE!K2219=\"\",0,SAISIE!K2219)","v":0}]
[{"$nulls":13},{"$f":"IF(SAISIE!K2220=\"\",0,SAISIE!K2220)","v":0}]
[{"$nulls":13},{"$f":"IF(SAISIE!K2221=\"\",0,SAISIE!K2221)","v":0}]
[{"$nulls":13},{"$f":"IF(SAISIE!K2222=\"\",0,SAISIE!K2222)","v":0}]
[{"$nulls":13},{"$f":"IF(SAISIE!K2223=\"\",0,SAISIE!K2223)","v":0}]
[{"$nulls":13},{"$f":"IF(SAISIE!K2224=\"\",0,SAISIE!K2224)","v":0}]
[{"$nulls":13},{"$f":"IF(SAISIE!K2225=\"\",0,SAISIE!K2225)","v":0}]
[{"$nulls":13},{"$f":"IF(SAISIE!K2226=\"\",0,SAISIE!K2226)","v":0}]
[{"$nulls":13},{"$f":"IF(SAISIE!K2227=\"\",0,SAISIE!K2227)","v":0}]
[{"$nulls":13},{"$f":"IF(SAISIE!K2228=\"\",0,SAISIE!K2228)","v":0}]
[{"$nulls":13},{"$f":"IF(SAISIE!K2229=\"\",0,SAISIE!K2229)","v":0}]
[{"$nulls":13},{"$f":"IF(SAISIE!K2230=\"\",0,SAISIE!K2230)","v":0}]
[{"$nulls":13},{"$f":"IF(SAISIE!K2231=\"\",0,SAISIE!K2231)","v":0}]
[{"$nulls":13},{"$f":"IF(SAISIE!K2232=\"\",0,SAISIE!K2232)","v":0}]
[{"$nulls":13},{"$f":"IF(SAISIE!K2233=\"\",0,SAISIE!K2233)","v":0}]
[{"$nulls":13},{"$f":"IF(SAISIE!K2234=\"\",0,SAISIE!K2234)","v":0}]
[{"$nulls":13},{"$f":"IF(SAISIE!K2235=\"\",0,SAISIE!K2235)","v":0}]
[{"$nulls":13},{"$f":"IF(SAISIE!K2236=\"\",0,SAISIE!K2236)","v":0}]
[{"$nulls":13},{"$f":"IF(SAISIE!K2237=\"\",0,SAISIE!K2237)","v":0}]
[{"$nulls":13},{"$f":"IF(SAISIE!K2238=\"\",0,SAISIE!K2238)","v":0}]
[{"$nulls":13},{"$f":"IF(SAISIE!K2239=\"\",0,SAISIE!K2239)","v":0}]
[{"$nulls":13},{"$f":"IF(SAISIE!K2240=\"\",0,SAISIE!K2240)","v":0}]
[{"$nulls":13},{"$f":"IF(SAISIE!K2241=\"\",0,SAISIE!K2241)","v":0}]
[{"$nulls":13},{"$f":"IF(SAISIE!K2242=\"\",0,SAISIE!K2242)","v":0}]
[{"$nulls":13},{"$f":"IF(SAISIE!K2243=\"\",0,SAISIE!K2243)","v":0}]
[{"$nulls":13},{"$f":"IF(SAISIE!K2244=\"\",0,SAISIE!K2244)","v":0}]
[{"$nulls":13},{"$f":"IF(SAISIE!K2245=\"\",0,SAISIE!K2245)","v":0}]
[{"$nulls":13},{"$f":"IF(SAISIE!K2246=\"\",0,SAISIE!K2246)","v":0}]
[{"$nulls":13},{"$f":"IF(SAISIE!K2247=\"\",0,SAISIE!K2247)","v":0}]
[{"$nulls":13},{"$f":"IF(SAISIE!K2248=\"\",0,SAISIE!K2248)","v":0}]
[{"$nulls":13},{"$f":"IF(SAISIE!K2249=\"\",0,SAISIE!K2249)","v":0}]
[{"$nulls":13},{"$f":"IF(SAISIE!K2250=\"\",0,SAISIE!K2250)","v":0}]
[{"$nulls":13},{"$f":"IF(SAISIE!K2251=\"\",0,SAISIE!K2251)","v":0}]
[{"$nulls":13},{"$f":"IF(SAISIE!K2252=\"\",0,SAISIE!K2252)","v":0}]
[{"$nulls":13},{"$f":"IF(SAISIE!K2253=\"\",0,SAISIE!K2253)","v":0}]
[{"$nulls":13},{"$f":"IF(SAISIE!K2254=\"\",0,SAISIE!K2254)","v":0}]
[{"$nulls":13},{"$f":"IF(SAISIE!K2255=\"\",0,SAISIE!K2255)","v":0}]
[{"$nulls":13},{"$f":"IF(SAISIE!K2256=\"\",0,SAISIE!K2256)","v":0}]
[{"$nulls":13},{"$f":"IF(SAISIE!K2257=\"\",0,SAISIE!K2257)","v":0}]
[{"$nulls":13},{"$f":"IF(SAISIE!K2258=\"\",0,SAISIE!K2258)","v":0}]
[{"$nulls":13},{"$f":"IF(SAISIE!K2259=\"\",0,SAISIE!K2259)","v":0}]
[{"$nulls":13},{"$f":"IF(SAISIE!K2260=\"\",0,SAISIE!K2260)","v":0}]
[{"$nulls":13},{"$f":"IF(SAISIE!K2261=\"\",0,SAISIE!K2261)","v":0}]
[{"$nulls":13},{"$f":"IF(SAISIE!K2262=\"\",0,SAISIE!K2262)","v":0}]
[{"$nulls":13},{"$f":"IF(SAISIE!K2263=\"\",0,SAISIE!K2263)","v":0}]
[{"$nulls":13},{"$f":"IF(SAISIE!K2264=\"\",0,SAISIE!K2264)","v":0}]
[{"$nulls":13},{"$f":"IF(SAISIE!K2265=\"\",0,SAISIE!K2265)","v":0}]
[{"$nulls":13},{"$f":"IF(SAISIE!K2266=\"\",0,SAISIE!K2266)","v":0}]
[{"$nulls":13},{"$f":"IF(SAISIE!K2267=\"\",0,SAISIE!K2267)","v":0}]
[{"$nulls":13},{"$f":"IF(SAISIE!K2268=\"\",0,SAISIE!K2268)","v":0}]
[{"$nulls":13},{"$f":"IF(SAISIE!K2269=\"\",0,SAISIE!K2269)","v":0}]
[{"$nulls":13},{"$f":"IF(SAISIE!K2270=\"\",0,SAISIE!K2270)","v":0}]
[{"$nulls":13},{"$f":"IF(SAISIE!K2271=\"\",0,SAISIE!K2271)","v":0}]
[{"$nulls":13},{"$f":"IF(SAISIE!K2272=\"\",0,SAISIE!K2272)","v":0}]
[{"$nulls":13},{"$f":"IF(SAISIE!K2273=\"\",0,SAISIE!K2273)","v":0}]
[{"$nulls":13},{"$f":"IF(SAISIE!K2274=\"\",0,SAISIE!K2274)","v":0}]
[{"$nulls":13},{"$f":"IF(SAISIE!K2275=\"\",0,SAISIE!K2275)","v":0}]
[{"$nulls":13},{"$f":"IF(SAISIE!K2276=\"\",0,SAISIE!K2276)","v":0}]
[{"$nulls":13},{"$f":"IF(SAISIE!K2277=\"\",0,SAISIE!K2277)","v":0}]
[{"$nulls":13},{"$f":"IF(SAISIE!K2278=\"\",0,SAISIE!K2278)","v":0}]
[{"$nulls":13},{"$f":"IF(SAISIE!K2279=\"\",0,SAISIE!K2279)","v":0}]
[{"$nulls":13},{"$f":"IF(SAISIE!K2280=\"\",0,SAISIE!K2280)","v":0}]
[{"$nulls":13},{"$f":"IF(SAISIE!K2281=\"\",0,SAISIE!K2281)","v":0}]
[{"$nulls":13},{"$f":"IF(SAISIE!K2282=\"\",0,SAISIE!K2282)","v":0}]
[{"$nulls":13},{"$f":"IF(SAISIE!K2283=\"\",0,SAISIE!K2283)","v":0}]
[{"$nulls":13},{"$f":"IF(SAISIE!K2284=\"\",0,SAISIE!K2284)","v":0}]
[{"$nulls":13},{"$f":"IF(SAISIE!K2285=\"\",0,SAISIE!K2285)","v":0}]
[{"$nulls":13},{"$f":"IF(SAISIE!K2286=\"\",0,SAISIE!K2286)","v":0}]
[{"$nulls":13},{"$f":"IF(SAISIE!K2287=\"\",0,SAISIE!K2287)","v":0}]
[{"$nulls":13},{"$f":"IF(SAISIE!K2288=\"\",0,SAISIE!K2288)","v":0}]
[{"$nulls":13},{"$f":"IF(SAISIE!K2289=\"\",0,SAISIE!K2289)","v":0}]
[{"$nulls":13},{"$f":"IF(SAISIE!K2290=\"\",0,SAISIE!K2290)","v":0}]
[{"$nulls":13},{"$f":"IF(SAISIE!K2291=\"\",0,SAISIE!K2291)","v":0}]
[{"$nulls":13},{"$f":"IF(SAISIE!K2292=\"\",0,SAISIE!K2292)","v":0}]
[{"$nulls":13},{"$f":"IF(SAISIE!K2293=\"\",0,SAISIE!K2293)","v":0}]
[{"$nulls":13},{"$f":"IF(SAISIE!K2294=\"\",0,SAISIE!K2294)","v":0}]
[{"$nulls":13},{"$f":"IF(SAISIE!K2295=\"\",0,SAISIE!K2295)","v":0}]
[{"$nulls":13},{"$f":"IF(SAISIE!K2296=\"\",0,SAISIE!K2296)","v":0}]
[{"$nulls":13},{"$f":"IF(SAISIE!K2297=\"\",0,SAISIE!K2297)","v":0}]
[{"$nulls":13},{"$f":"IF(SAISIE!K2298=\"\",0,SAISIE!K2298)","v":0}]
[{"$nulls":13},{"$f":"IF(SAISIE!K2299=\"\",0,SAISIE!K2299)","v":0}]
[{"$nulls":13},{"$f":"IF(SAISIE!K2300=\"\",0,SAISIE!K2300)","v":0}]
[{"$nulls":13},{"$f":"IF(SAISIE!K2301=\"\",0,SAISIE!K2301)","v":0}]
[{"$nulls":13},{"$f":"IF(SAISIE!K2302=\"\",0,SAISIE!K2302)","v":0}]
[{"$nulls":13},{"$f":"IF(SAISIE!K2303=\"\",0,SAISIE!K2303)","v":0}]
[{"$nulls":13},{"$f":"IF(SAISIE!K2304=\"\",0,SAISIE!K2304)","v":0}]
[{"$nulls":13},{"$f":"IF(SAISIE!K2305=\"\",0,SAISIE!K2305)","v":0}]
[{"$nulls":13},{"$f":"IF(SAISIE!K2306=\"\",0,SAISIE!K2306)","v":0}]
[{"$nulls":13},{"$f":"IF(SAISIE!K2307=\"\",0,SAISIE!K2307)","v":0}]
[{"$nulls":13},{"$f":"IF(SAISIE!K2308=\"\",0,SAISIE!K2308)","v":0}]
[{"$nulls":13},{"$f":"IF(SAISIE!K2309=\"\",0,SAISIE!K2309)","v":0}]
[{"$nulls":13},{"$f":"IF(SAISIE!K2310=\"\",0,SAISIE!K2310)","v":0}]
[{"$nulls":13},{"$f":"IF(SAISIE!K2311=\"\",0,SAISIE!K2311)","v":0}]
[{"$nulls":13},{"$f":"IF(SAISIE!K2312=\"\",0,SAISIE!K2312)","v":0}]
[{"$nulls":13},{"$f":"IF(SAISIE!K2313=\"\",0,SAISIE!K2313)","v":0}]
[{"$nulls":13},{"$f":"IF(SAISIE!K2314=\"\",0,SAISIE!K2314)","v":0}]
[{"$nulls":13},{"$f":"IF(SAISIE!K2315=\"\",0,SAISIE!K2315)","v":0}]
[{"$nulls":13},{"$f":"IF(SAISIE!K2316=\"\",0,SAISIE!K2316)","v":0}]
[{"$nulls":13},{"$f":"IF(SAISIE!K2317=\"\",0,SAISIE!K2317)","v":0}]
[{"$nulls":13},{"$f":"IF(SAISIE!K2318=\"\",0,SAISIE!K2318)","v":0}]
[{"$nulls":13},{"$f":"IF(SAISIE!K2319=\"\",0,SAISIE!K2319)","v":0}]
[{"$nulls":13},{"$f":"IF(SAISIE!K2320=\"\",0,SAISIE!K2320)","v":0}]
[{"$nulls":13},{"$f":"IF(SAISIE!K2321=\"\",0,SAISIE!K2321)","v":0}]
[{"$nulls":13},{"$f":"IF(SAISIE!K2322=\"\",0,SAISIE!K2322)","v":0}]
[{"$nulls":13},{"$f":"IF(SAISIE!K2323=\"\",0,SAISIE!K2323)","v":0}]
[{"$nulls":13},{"$f":"IF(SAISIE!K2324=\"\",0,SAISIE!K2324)","v":0}]
[{"$nulls":13},{"$f":"IF(SAISIE!K2325=\"\",0,SAISIE!K2325)","v":0}]
[{"$nulls":13},{"$f":"IF(SAISIE!K2326=\"\",0,SAISIE!K2326)","v":0}]
[{"$nulls":13},{"$f":"IF(SAISIE!K2327=\"\",0,SAISIE!K2327)","v":0}]
[{"$nulls":13},{"$f":"IF(SAISIE!K2328=\"\",0,SAISIE!K2328)","v":0}]
[{"$nulls":13},{"$f":"IF(SAISIE!K2329=\"\",0,SAISIE!K2329)","v":0}]
[{"$nulls":13},{"$f":"IF(SAISIE!K2330=\"\",0,SAISIE!K2330)","v":0}]
[{"$nulls":13},{"$f":"IF(SAISIE!K2331=\"\",0,SAISIE!K2331)","v":0}]
[{"$nulls":13},{"$f":"IF(SAISIE!K2332=\"\",0,SAISIE!K2332)","v":0}]
[{"$nulls":13},{"$f":"IF(SAISIE!K2333=\"\",0,SAISIE!K2333)","v":0}]
[{"$nulls":13},{"$f":"IF(SAISIE!K2334=\"\",0,SAISIE!K2334)","v":0}]
[{"$nulls":13},{"$f":"IF(SAISIE!K2335=\"\",0,SAISIE!K2335)","v":0}]
[{"$nulls":13},{"$f":"IF(SAISIE!K2336=\"\",0,SAISIE!K2336)","v":0}]
[{"$nulls":13},{"$f":"IF(SAISIE!K2337=\"\",0,SAISIE!K2337)","v":0}]
[{"$nulls":13},{"$f":"IF(SAISIE!K2338=\"\",0,SAISIE!K2338)","v":0}]
[{"$nulls":13},{"$f":"IF(SAISIE!K2339=\"\",0,SAISIE!K2339)","v":0}]
[{"$nulls":13},{"$f":"IF(SAISIE!K2340=\"\",0,SAISIE!K2340)","v":0}]
[{"$nulls":13},{"$f":"IF(SAISIE!K2341=\"\",0,SAISIE!K2341)","v":0}]
[{"$nulls":13},{"$f":"IF(SAISIE!K2342=\"\",0,SAISIE!K2342)","v":0}]
[{"$nulls":13},{"$f":"IF(SAISIE!K2343=\"\",0,SAISIE!K2343)","v":0}]
[{"$nulls":13},{"$f":"IF(SAISIE!K2344=\"\",0,SAISIE!K2344)","v":0}]
[{"$nulls":13},{"$f":"IF(SAISIE!K2345=\"\",0,SAISIE!K2345)","v":0}]
[{"$nulls":13},{"$f":"IF(SAISIE!K2346=\"\",0,SAISIE!K2346)","v":0}]
[{"$nulls":13},{"$f":"IF(SAISIE!K2347=\"\",0,SAISIE!K2347)","v":0}]
[{"$nulls":13},{"$f":"IF(SAISIE!K2348=\"\",0,SAISIE!K2348)","v":0}]
[{"$nulls":13},{"$f":"IF(SAISIE!K2349=\"\",0,SAISIE!K2349)","v":0}]
[{"$nulls":13},{"$f":"IF(SAISIE!K2350=\"\",0,SAISIE!K2350)","v":0}]
[{"$nulls":13},{"$f":"IF(SAISIE!K2351=\"\",0,SAISIE!K2351)","v":0}]
[{"$nulls":13},{"$f":"IF(SAISIE!K2352=\"\",0,SAISIE!K2352)","v":0}]
[{"$nulls":13},{"$f":"IF(SAISIE!K2353=\"\",0,SAISIE!K2353)","v":0}]
[{"$nulls":13},{"$f":"IF(SAISIE!K2354=\"\",0,SAISIE!K2354)","v":0}]
[{"$nulls":13},{"$f":"IF(SAISIE!K2355=\"\",0,SAISIE!K2355)","v":0}]
[{"$nulls":13},{"$f":"IF(SAISIE!K2356=\"\",0,SAISIE!K2356)","v":0}]
[{"$nulls":13},{"$f":"IF(SAISIE!K2357=\"\",0,SAISIE!K2357)","v":0}]
[{"$nulls":13},{"$f":"IF(SAISIE!K2358=\"\",0,SAISIE!K2358)","v":0}]
[{"$nulls":13},{"$f":"IF(SAISIE!K2359=\"\",0,SAISIE!K2359)","v":0}]
[{"$nulls":13},{"$f":"IF(SAISIE!K2360=\"\",0,SAISIE!K2360)","v":0}]
[{"$nulls":13},{"$f":"IF(SAISIE!K2361=\"\",0,SAISIE!K2361)","v":0}]
[{"$nulls":13},{"$f":"IF(SAISIE!K2362=\"\",0,SAISIE!K2362)","v":0}]
[{"$nulls":13},{"$f":"IF(SAISIE!K2363=\"\",0,SAISIE!K2363)","v":0}]
[{"$nulls":13},{"$f":"IF(SAISIE!K2364=\"\",0,SAISIE!K2364)","v":0}]
[{"$nulls":13},{"$f":"IF(SAISIE!K2365=\"\",0,SAISIE!K2365)","v":0}]
[{"$nulls":13},{"$f":"IF(SAISIE!K2366=\"\",0,SAISIE!K2366)","v":0}]
[{"$nulls":13},{"$f":"IF(SAISIE!K2367=\"\",0,SAISIE!K2367)","v":0}]
[{"$nulls":13},{"$f":"IF(SAISIE!K2368=\"\",0,SAISIE!K2368)","v":0}]
[{"$nulls":13},{"$f":"IF(SAISIE!K2369=\"\",0,SAISIE!K2369)","v":0}]
[{"$nulls":13},{"$f":"IF(SAISIE!K2370=\"\",0,SAISIE!K2370)","v":0}]
[{"$nulls":13},{"$f":"IF(SAISIE!K2371=\"\",0,SAISIE!K2371)","v":0}]
[{"$nulls":13},{"$f":"IF(SAISIE!K2372=\"\",0,SAISIE!K2372)","v":0}]
[{"$nulls":13},{"$f":"IF(SAISIE!K2373=\"\",0,SAISIE!K2373)","v":0}]
[{"$nulls":13},{"$f":"IF(SAISIE!K2374=\"\",0,SAISIE!K2374)","v":0}]
[{"$nulls":13},{"$f":"IF(SAISIE!K2375=\"\",0,SAISIE!K2375)","v":0}]
[{"$nulls":13},{"$f":"IF(SAISIE!K2376=\"\",0,SAISIE!K2376)","v":0}]
[{"$nulls":13},{"$f":"IF(SAISIE!K2377=\"\",0,SAISIE!K2377)","v":0}]
[{"$nulls":13},{"$f":"IF(SAISIE!K2378=\"\",0,SAISIE!K2378)","v":0}]
[{"$nulls":13},{"$f":"IF(SAISIE!K2379=\"\",0,SAISIE!K2379)","v":0}]
[{"$nulls":13},{"$f":"IF(SAISIE!K2380=\"\",0,SAISIE!K2380)","v":0}]
[{"$nulls":13},{"$f":"IF(SAISIE!K2381=\"\",0,SAISIE!K2381)","v":0}]
[{"$nulls":13},{"$f":"IF(SAISIE!K2382=\"\",0,SAISIE!K2382)","v":0}]
[{"$nulls":13},{"$f":"IF(SAISIE!K2383=\"\",0,SAISIE!K2383)","v":0}]
[{"$nulls":13},{"$f":"IF(SAISIE!K2384=\"\",0,SAISIE!K2384)","v":0}]
[{"$nulls":13},{"$f":"IF(SAISIE!K2385=\"\",0,SAISIE!K2385)","v":0}]
[{"$nulls":13},{"$f":"IF(SAISIE!K2386=\"\",0,SAISIE!K2386)","v":0}]
[{"$nulls":13},{"$f":"IF(SAISIE!K2387=\"\",0,SAISIE!K2387)","v":0}]
[{"$nulls":13},{"$f":"IF(SAISIE!K2388=\"\",0,SAISIE!K2388)","v":0}]
[{"$nulls":13},{"$f":"IF(SAISIE!K2389=\"\",0,SAISIE!K2389)","v":0}]
[{"$nulls":13},{"$f":"IF(SAISIE!K2390=\"\",0,SAISIE!K2390)","v":0}]
[{"$nulls":13},{"$f":"IF(SAISIE!K2391=\"\",0,SAISIE!K2391)","v":0}]
[{"$nulls":13},{"$f":"IF(SAISIE!K2392=\"\",0,SAISIE!K2392)","v":0}]
[{"$nulls":13},{"$f":"IF(SAISIE!K2393=\"\",0,SAISIE!K2393)","v":0}]
[{"$nulls":13},{"$f":"IF(SAISIE!K2394=\"\",0,SAISIE!K2394)","v":0}]
[{"$nulls":13},{"$f":"IF(SAISIE!K2395=\"\",0,SAISIE!K2395)","v":0}]
[{"$nulls":13},{"$f":"IF(SAISIE!K2396=\"\",0,SAISIE!K2396)","v":0}]
[{"$nulls":13},{"$f":"IF(SAISIE!K2397=\"\",0,SAISIE!K2397)","v":0}]
[{"$nulls":13},{"$f":"IF(SAISIE!K2398=\"\",0,SAISIE!K2398)","v":0}]
[{"$nulls":13},{"$f":"IF(SAISIE!K2399=\"\",0,SAISIE!K2399)","v":0}]
[{"$nulls":13},{"$f":"IF(SAISIE!K2400=\"\",0,SAISIE!K2400)","v":0}]
[{"$nulls":13},{"$f":"IF(SAISIE!K2401=\"\",0,SAISIE!K2401)","v":0}]
[{"$nulls":13},{"$f":"IF(SAISIE!K2402=\"\",0,SAISIE!K2402)","v":0}]
[{"$nulls":13},{"$f":"IF(SAISIE!K2403=\"\",0,SAISIE!K2403)","v":0}]
[{"$nulls":13},{"$f":"IF(SAISIE!K2404=\"\",0,SAISIE!K2404)","v":0}]
[{"$nulls":13},{"$f":"IF(SAISIE!K2405=\"\",0,SAISIE!K2405)","v":0}]
[{"$nulls":13},{"$f":"IF(SAISIE!K2406=\"\",0,SAISIE!K2406)","v":0}]
[{"$nulls":13},{"$f":"IF(SAISIE!K2407=\"\",0,SAISIE!K2407)","v":0}]
[{"$nulls":13},{"$f":"IF(SAISIE!K2408=\"\",0,SAISIE!K2408)","v":0}]
[{"$nulls":13},{"$f":"IF(SAISIE!K2409=\"\",0,SAISIE!K2409)","v":0}]
[{"$nulls":13},{"$f":"IF(SAISIE!K2410=\"\",0,SAISIE!K2410)","v":0}]
[{"$nulls":13},{"$f":"IF(SAISIE!K2411=\"\",0,SAISIE!K2411)","v":0}]
[{"$nulls":13},{"$f":"IF(SAISIE!K2412=\"\",0,SAISIE!K2412)","v":0}]
[{"$nulls":13},{"$f":"IF(SAISIE!K2413=\"\",0,SAISIE!K2413)","v":0}]
[{"$nulls":13},{"$f":"IF(SAISIE!K2414=\"\",0,SAISIE!K2414)","v":0}]
[{"$nulls":13},{"$f":"IF(SAISIE!K2415=\"\",0,SAISIE!K2415)","v":0}]
[{"$nulls":13},{"$f":"IF(SAISIE!K2416=\"\",0,SAISIE!K2416)","v":0}]
[{"$nulls":13},{"$f":"IF(SAISIE!K2417=\"\",0,SAISIE!K2417)","v":0}]
[{"$nulls":13},{"$f":"IF(SAISIE!K2418=\"\",0,SAISIE!K2418)","v":0}]
[{"$nulls":13},{"$f":"IF(SAISIE!K2419=\"\",0,SAISIE!K2419)","v":0}]
[{"$nulls":13},{"$f":"IF(SAISIE!K2420=\"\",0,SAISIE!K2420)","v":0}]
[{"$nulls":13},{"$f":"IF(SAISIE!K2421=\"\",0,SAISIE!K2421)","v":0}]
[{"$nulls":13},{"$f":"IF(SAISIE!K2422=\"\",0,SAISIE!K2422)","v":0}]
[{"$nulls":13},{"$f":"IF(SAISIE!K2423=\"\",0,SAISIE!K2423)","v":0}]
[{"$nulls":13},{"$f":"IF(SAISIE!K2424=\"\",0,SAISIE!K2424)","v":0}]
[{"$nulls":13},{"$f":"IF(SAISIE!K2425=\"\",0,SAISIE!K2425)","v":0}]
[{"$nulls":13},{"$f":"IF(SAISIE!K2426=\"\",0,SAISIE!K2426)","v":0}]
[{"$nulls":13},{"$f":"IF(SAISIE!K2427=\"\",0,SAISIE!K2427)","v":0}]
[{"$nulls":13},{"$f":"IF(SAISIE!K2428=\"\",0,SAISIE!K2428)","v":0}]
[{"$nulls":13},{"$f":"IF(SAISIE!K2429=\"\",0,SAISIE!K2429)","v":0}]
[{"$nulls":13},{"$f":"IF(SAISIE!K2430=\"\",0,SAISIE!K2430)","v":0}]
[{"$nulls":13},{"$f":"IF(SAISIE!K2431=\"\",0,SAISIE!K2431)","v":0}]
[{"$nulls":13},{"$f":"IF(SAISIE!K2432=\"\",0,SAISIE!K2432)","v":0}]
[{"$nulls":13},{"$f":"IF(SAISIE!K2433=\"\",0,SAISIE!K2433)","v":0}]
[{"$nulls":13},{"$f":"IF(SAISIE!K2434=\"\",0,SAISIE!K2434)","v":0}]
[{"$nulls":13},{"$f":"IF(SAISIE!K2435=\"\",0,SAISIE!K2435)","v":0}]
[{"$nulls":13},{"$f":"IF(SAISIE!K2436=\"\",0,SAISIE!K2436)","v":0}]
[{"$nulls":13},{"$f":"IF(SAISIE!K2437=\"\",0,SAISIE!K2437)","v":0}]
[{"$nulls":13},{"$f":"IF(SAISIE!K2438=\"\",0,SAISIE!K2438)","v":0}]
[{"$nulls":13},{"$f":"IF(SAISIE!K2439=\"\",0,SAISIE!K2439)","v":0}]
[{"$nulls":13},{"$f":"IF(SAISIE!K2440=\"\",0,SAISIE!K2440)","v":0}]
[{"$nulls":13},{"$f":"IF(SAISIE!K2441=\"\",0,SAISIE!K2441)","v":0}]
[{"$nulls":13},{"$f":"IF(SAISIE!K2442=\"\",0,SAISIE!K2442)","v":0}]
[{"$nulls":13},{"$f":"IF(SAISIE!K2443=\"\",0,SAISIE!K2443)","v":0}]
[{"$nulls":13},{"$f":"IF(SAISIE!K2444=\"\",0,SAISIE!K2444)","v":0}]
[{"$nulls":13},{"$f":"IF(SAISIE!K2445=\"\",0,SAISIE!K2445)","v":0}]
[{"$nulls":13},{"$f":"IF(SAISIE!K2446=\"\",0,SAISIE!K2446)","v":0}]
[{"$nulls":13},{"$f":"IF(SAISIE!K2447=\"\",0,SAISIE!K2447)","v":0}]
[{"$nulls":13},{"$f":"IF(SAISIE!K2448=\"\",0,SAISIE!K2448)","v":0}]
[{"$nulls":13},{"$f":"IF(SAISIE!K2449=\"\",0,SAISIE!K2449)","v":0}]
[{"$nulls":13},{"$f":"IF(SAISIE!K2450=\"\",0,SAISIE!K2450)","v":0}]
[{"$nulls":13},{"$f":"IF(SAISIE!K2451=\"\",0,SAISIE!K2451)","v":0}]
[{"$nulls":13},{"$f":"IF(SAISIE!K2452=\"\",0,SAISIE!K2452)","v":0}]
[{"$nulls":13},{"$f":"IF(SAISIE!K2453=\"\",0,SAISIE!K2453)","v":0}]
[{"$nulls":13},{"$f":"IF(SAISIE!K2454=\"\",0,SAISIE!K2454)","v":0}]
[{"$nulls":13},{"$f":"IF(SAISIE!K2455=\"\",0,SAISIE!K2455)","v":0}]
[{"$nulls":13},{"$f":"IF(SAISIE!K2456=\"\",0,SAISIE!K2456)","v":0}]
[{"$nulls":13},{"$f":"IF(SAISIE!K2457=\"\",0,SAISIE!K2457)","v":0}]
[{"$nulls":13},{"$f":"IF(SAISIE!K2458=\"\",0,SAISIE!K2458)","v":0}]
[{"$nulls":13},{"$f":"IF(SAISIE!K2459=\"\",0,SAISIE!K2459)","v":0}]
[{"$nulls":13},{"$f":"IF(SAISIE!K2460=\"\",0,SAISIE!K2460)","v":0}]
[{"$nulls":13},{"$f":"IF(SAISIE!K2461=\"\",0,SAISIE!K2461)","v":0}]
[{"$nulls":13},{"$f":"IF(SAISIE!K2462=\"\",0,SAISIE!K2462)","v":0}]
[{"$nulls":13},{"$f":"IF(SAISIE!K2463=\"\",0,SAISIE!K2463)","v":0}]
[{"$nulls":13},{"$f":"IF(SAISIE!K2464=\"\",0,SAISIE!K2464)","v":0}]
[{"$nulls":13},{"$f":"IF(SAISIE!K2465=\"\",0,SAISIE!K2465)","v":0}]
[{"$nulls":13},{"$f":"IF(SAISIE!K2466=\"\",0,SAISIE!K2466)","v":0}]
[{"$nulls":13},{"$f":"IF(SAISIE!K2467=\"\",0,SAISIE!K2467)","v":0}]
[{"$nulls":13},{"$f":"IF(SAISIE!K2468=\"\",0,SAISIE!K2468)","v":0}]
[{"$nulls":13},{"$f":"IF(SAISIE!K2469=\"\",0,SAISIE!K2469)","v":0}]
[{"$nulls":13},{"$f":"IF(SAISIE!K2470=\"\",0,SAISIE!K2470)","v":0}]
[{"$nulls":13},{"$f":"IF(SAISIE!K2471=\"\",0,SAISIE!K2471)","v":0}]
[{"$nulls":13},{"$f":"IF(SAISIE!K2472=\"\",0,SAISIE!K2472)","v":0}]
[{"$nulls":13},{"$f":"IF(SAISIE!K2473=\"\",0,SAISIE!K2473)","v":0}]
[{"$nulls":13},{"$f":"IF(SAISIE!K2474=\"\",0,SAISIE!K2474)","v":0}]
[{"$nulls":13},{"$f":"IF(SAISIE!K2475=\"\",0,SAISIE!K2475)","v":0}]
[{"$nulls":13},{"$f":"IF(SAISIE!K2476=\"\",0,SAISIE!K2476)","v":0}]
[{"$nulls":13},{"$f":"IF(SAISIE!K2477=\"\",0,SAISIE!K2477)","v":0}]
[{"$nulls":13},{"$f":"IF(SAISIE!K2478=\"\",0,SAISIE!K2478)","v":0}]
[{"$nulls":13},{"$f":"IF(SAISIE!K2479=\"\",0,SAISIE!K2479)","v":0}]
[{"$nulls":13},{"$f":"IF(SAISIE!K2480=\"\",0,SAISIE!K2480)","v":0}]
[{"$nulls":13},{"$f":"IF(SAISIE!K2481=\"\",0,SAISIE!K2481)","v":0}]
[{"$nulls":13},{"$f":"IF(SAISIE!K2482=\"\",0,SAISIE!K2482)","v":0}]
[{"$nulls":13},{"$f":"IF(SAISIE!K2483=\"\",0,SAISIE!K2483)","v":0}]
[{"$nulls":13},{"$f":"IF(SAISIE!K2484=\"\",0,SAISIE!K2484)","v":0}]
[{"$nulls":13},{"$f":"IF(SAISIE!K2485=\"\",0,SAISIE!K2485)","v":0}]
[{"$nulls":13},{"$f":"IF(SAISIE!K2486=\"\",0,SAISIE!K2486)","v":0}]
[{"$nulls":13},{"$f":"IF(SAISIE!K2487=\"\",0,SAISIE!K2487)","v":0}]
[{"$nulls":13},{"$f":"IF(SAISIE!K2488=\"\",0,SAISIE!K2488)","v":0}]
[{"$nulls":13},{"$f":"IF(SAISIE!K2489=\"\",0,SAISIE!K2489)","v":0}]
[{"$nulls":13},{"$f":"IF(SAISIE!K2490=\"\",0,SAISIE!K2490)","v":0}]
[{"$nulls":13},{"$f":"IF(SAISIE!K2491=\"\",0,SAISIE!K2491)","v":0}]
[{"$nulls":13},{"$f":"IF(SAISIE!K2492=\"\",0,SAISIE!K2492)","v":0}]
[{"$nulls":13},{"$f":"IF(SAISIE!K2493=\"\",0,SAISIE!K2493)","v":0}]
[{"$nulls":13},{"$f":"IF(SAISIE!K2494=\"\",0,SAISIE!K2494)","v":0}]
[{"$nulls":13},{"$f":"IF(SAISIE!K2495=\"\",0,SAISIE!K2495)","v":0}]
[{"$nulls":13},{"$f":"IF(SAISIE!K2496=\"\",0,SAISIE!K2496)","v":0}]
[{"$nulls":13},{"$f":"IF(SAISIE!K2497=\"\",0,SAISIE!K2497)","v":0}]
[{"$nulls":13},{"$f":"IF(SAISIE!K2498=\"\",0,SAISIE!K2498)","v":0}]
[{"$nulls":13},{"$f":"IF(SAISIE!K2499=\"\",0,SAISIE!K2499)","v":0}]
[{"$nulls":13},{"$f":"IF(SAISIE!K2500=\"\",0,SAISIE!K2500)","v":0}]
[{"$nulls":13},{"$f":"IF(SAISIE!K2501=\"\",0,SAISIE!K2501)","v":0}]
[{"$nulls":13},{"$f":"IF(SAISIE!K2502=\"\",0,SAISIE!K2502)","v":0}]
[{"$nulls":13},{"$f":"IF(SAISIE!K2503=\"\",0,SAISIE!K2503)","v":0}]
[{"$nulls":13},{"$f":"IF(SAISIE!K2504=\"\",0,SAISIE!K2504)","v":0}]
[{"$nulls":13},{"$f":"IF(SAISIE!K2505=\"\",0,SAISIE!K2505)","v":0}]
[{"$nulls":13},{"$f":"IF(SAISIE!K2506=\"\",0,SAISIE!K2506)","v":0}]
[{"$nulls":13},{"$f":"IF(SAISIE!K2507=\"\",0,SAISIE!K2507)","v":0}]
[{"$nulls":13},{"$f":"IF(SAISIE!K2508=\"\",0,SAISIE!K2508)","v":0}]
[{"$nulls":13},{"$f":"IF(SAISIE!K2509=\"\",0,SAISIE!K2509)","v":0}]
[{"$nulls":13},{"$f":"IF(SAISIE!K2510=\"\",0,SAISIE!K2510)","v":0}]
[{"$nulls":13},{"$f":"IF(SAISIE!K2511=\"\",0,SAISIE!K2511)","v":0}]
[{"$nulls":13},{"$f":"IF(SAISIE!K2512=\"\",0,SAISIE!K2512)","v":0}]
[{"$nulls":13},{"$f":"IF(SAISIE!K2513=\"\",0,SAISIE!K2513)","v":0}]
[{"$nulls":13},{"$f":"IF(SAISIE!K2514=\"\",0,SAISIE!K2514)","v":0}]
[{"$nulls":13},{"$f":"IF(SAISIE!K2515=\"\",0,SAISIE!K2515)","v":0}]
[{"$nulls":13},{"$f":"IF(SAISIE!K2516=\"\",0,SAISIE!K2516)","v":0}]
[{"$nulls":13},{"$f":"IF(SAISIE!K2517=\"\",0,SAISIE!K2517)","v":0}]
[{"$nulls":13},{"$f":"IF(SAISIE!K2518=\"\",0,SAISIE!K2518)","v":0}]
[{"$nulls":13},{"$f":"IF(SAISIE!K2519=\"\",0,SAISIE!K2519)","v":0}]
[{"$nulls":13},{"$f":"IF(SAISIE!K2520=\"\",0,SAISIE!K2520)","v":0}]
[{"$nulls":13},{"$f":"IF(SAISIE!K2521=\"\",0,SAISIE!K2521)","v":0}]
[{"$nulls":13},{"$f":"IF(SAISIE!K2522=\"\",0,SAISIE!K2522)","v":0}]
[{"$nulls":13},{"$f":"IF(SAISIE!K2523=\"\",0,SAISIE!K2523)","v":0}]
[{"$nulls":13},{"$f":"IF(SAISIE!K2524=\"\",0,SAISIE!K2524)","v":0}]
[{"$nulls":13},{"$f":"IF(SAISIE!K2525=\"\",0,SAISIE!K2525)","v":0}]
[{"$nulls":13},{"$f":"IF(SAISIE!K2526=\"\",0,SAISIE!K2526)","v":0}]
[{"$nulls":13},{"$f":"IF(SAISIE!K2527=\"\",0,SAISIE!K2527)","v":0}]
[{"$nulls":13},{"$f":"IF(SAISIE!K2528=\"\",0,SAISIE!K2528)","v":0}]
[{"$nulls":13},{"$f":"IF(SAISIE!K2529=\"\",0,SAISIE!K2529)","v":0}]
[{"$nulls":13},{"$f":"IF(SAISIE!K2530=\"\",0,SAISIE!K2530)","v":0}]
[{"$nulls":13},{"$f":"IF(SAISIE!K2531=\"\",0,SAISIE!K2531)","v":0}]
[{"$nulls":13},{"$f":"IF(SAISIE!K2532=\"\",0,SAISIE!K2532)","v":0}]
[{"$nulls":13},{"$f":"IF(SAISIE!K2533=\"\",0,SAISIE!K2533)","v":0}]
[{"$nulls":13},{"$f":"IF(SAISIE!K2534=\"\",0,SAISIE!K2534)","v":0}]
[{"$nulls":13},{"$f":"IF(SAISIE!K2535=\"\",0,SAISIE!K2535)","v":0}]
[{"$nulls":13},{"$f":"IF(SAISIE!K2536=\"\",0,SAISIE!K2536)","v":0}]
[{"$nulls":13},{"$f":"IF(SAISIE!K2537=\"\",0,SAISIE!K2537)","v":0}]
[{"$nulls":13},{"$f":"IF(SAISIE!K2538=\"\",0,SAISIE!K2538)","v":0}]
[{"$nulls":13},{"$f":"IF(SAISIE!K2539=\"\",0,SAISIE!K2539)","v":0}]
[{"$nulls":13},{"$f":"IF(SAISIE!K2540=\"\",0,SAISIE!K2540)","v":0}]
[{"$nulls":13},{"$f":"IF(SAISIE!K2541=\"\",0,SAISIE!K2541)","v":0}]
[{"$nulls":13},{"$f":"IF(SAISIE!K2542=\"\",0,SAISIE!K2542)","v":0}]
[{"$nulls":13},{"$f":"IF(SAISIE!K2543=\"\",0,SAISIE!K2543)","v":0}]
[{"$nulls":13},{"$f":"IF(SAISIE!K2544=\"\",0,SAISIE!K2544)","v":0}]
[{"$nulls":13},{"$f":"IF(SAISIE!K2545=\"\",0,SAISIE!K2545)","v":0}]
[{"$nulls":13},{"$f":"IF(SAISIE!K2546=\"\",0,SAISIE!K2546)","v":0}]
[{"$nulls":13},{"$f":"IF(SAISIE!K2547=\"\",0,SAISIE!K2547)","v":0}]
[{"$nulls":13},{"$f":"IF(SAISIE!K2548=\"\",0,SAISIE!K2548)","v":0}]
[{"$nulls":13},{"$f":"IF(SAISIE!K2549=\"\",0,SAISIE!K2549)","v":0}]
[{"$nulls":13},{"$f":"IF(SAISIE!K2550=\"\",0,SAISIE!K2550)","v":0}]
[{"$nulls":13},{"$f":"IF(SAISIE!K2551=\"\",0,SAISIE!K2551)","v":0}]
[{"$nulls":13},{"$f":"IF(SAISIE!K2552=\"\",0,SAISIE!K2552)","v":0}]
[{"$nulls":13},{"$f":"IF(SAISIE!K2553=\"\",0,SAISIE!K2553)","v":0}]
[{"$nulls":13},{"$f":"IF(SAISIE!K2554=\"\",0,SAISIE!K2554)","v":0}]
[{"$nulls":13},{"$f":"IF(SAISIE!K2555=\"\",0,SAISIE!K2555)","v":0}]
[{"$nulls":13},{"$f":"IF(SAISIE!K2556=\"\",0,SAISIE!K2556)","v":0}]
[{"$nulls":13},{"$f":"IF(SAISIE!K2557=\"\",0,SAISIE!K2557)","v":0}]
[{"$nulls":13},{"$f":"IF(SAISIE!K2558=\"\",0,SAISIE!K2558)","v":0}]
[{"$nulls":13},{"$f":"IF(SAISIE!K2559=\"\",0,SAISIE!K2559)","v":0}]
[{"$nulls":13},{"$f":"IF(SAISIE!K2560=\"\",0,SAISIE!K2560)","v":0}]
[{"$nulls":13},{"$f":"IF(SAISIE!K2561=\"\",0,SAISIE!K2561)","v":0}]
[{"$nulls":13},{"$f":"IF(SAISIE!K2562=\"\",0,SAISIE!K2562)","v":0}]
[{"$nulls":13},{"$f":"IF(SAISIE!K2563=\"\",0,SAISIE!K2563)","v":0}]
[{"$nulls":13},{"$f":"IF(SAISIE!K2564=\"\",0,SAISIE!K2564)","v":0}]
[{"$nulls":13},{"$f":"IF(SAISIE!K2565=\"\",0,SAISIE!K2565)","v":0}]
[{"$nulls":13},{"$f":"IF(SAISIE!K2566=\"\",0,SAISIE!K2566)","v":0}]
[{"$nulls":13},{"$f":"IF(SAISIE!K2567=\"\",0,SAISIE!K2567)","v":0}]
[{"$nulls":13},{"$f":"IF(SAISIE!K2568=\"\",0,SAISIE!K2568)","v":0}]
[{"$nulls":13},{"$f":"IF(SAISIE!K2569=\"\",0,SAISIE!K2569)","v":0}]
[{"$nulls":13},{"$f":"IF(SAISIE!K2570=\"\",0,SAISIE!K2570)","v":0}]
[{"$nulls":13},{"$f":"IF(SAISIE!K2571=\"\",0,SAISIE!K2571)","v":0}]
[{"$nulls":13},{"$f":"IF(SAISIE!K2572=\"\",0,SAISIE!K2572)","v":0}]
[{"$nulls":13},{"$f":"IF(SAISIE!K2573=\"\",0,SAISIE!K2573)","v":0}]
[{"$nulls":13},{"$f":"IF(SAISIE!K2574=\"\",0,SAISIE!K2574)","v":0}]
[{"$nulls":13},{"$f":"IF(SAISIE!K2575=\"\",0,SAISIE!K2575)","v":0}]
[{"$nulls":13},{"$f":"IF(SAISIE!K2576=\"\",0,SAISIE!K2576)","v":0}]
[{"$nulls":13},{"$f":"IF(SAISIE!K2577=\"\",0,SAISIE!K2577)","v":0}]
[{"$nulls":13},{"$f":"IF(SAISIE!K2578=\"\",0,SAISIE!K2578)","v":0}]
[{"$nulls":13},{"$f":"IF(SAISIE!K2579=\"\",0,SAISIE!K2579)","v":0}]
[{"$nulls":13},{"$f":"IF(SAISIE!K2580=\"\",0,SAISIE!K2580)","v":0}]
[{"$nulls":13},{"$f":"IF(SAISIE!K2581=\"\",0,SAISIE!K2581)","v":0}]
[{"$nulls":13},{"$f":"IF(SAISIE!K2582=\"\",0,SAISIE!K2582)","v":0}]
[{"$nulls":13},{"$f":"IF(SAISIE!K2583=\"\",0,SAISIE!K2583)","v":0}]
[{"$nulls":13},{"$f":"IF(SAISIE!K2584=\"\",0,SAISIE!K2584)","v":0}]
[{"$nulls":13},{"$f":"IF(SAISIE!K2585=\"\",0,SAISIE!K2585)","v":0}]
[{"$nulls":13},{"$f":"IF(SAISIE!K2586=\"\",0,SAISIE!K2586)","v":0}]
[{"$nulls":13},{"$f":"IF(SAISIE!K2587=\"\",0,SAISIE!K2587)","v":0}]
[{"$nulls":13},{"$f":"IF(SAISIE!K2588=\"\",0,SAISIE!K2588)","v":0}]
[{"$nulls":13},{"$f":"IF(SAISIE!K2589=\"\",0,SAISIE!K2589)","v":0}]
[{"$nulls":13},{"$f":"IF(SAISIE!K2590=\"\",0,SAISIE!K2590)","v":0}]
[{"$nulls":13},{"$f":"IF(SAISIE!K2591=\"\",0,SAISIE!K2591)","v":0}]
[{"$nulls":13},{"$f":"IF(SAISIE!K2592=\"\",0,SAISIE!K2592)","v":0}]
[{"$nulls":13},{"$f":"IF(SAISIE!K2593=\"\",0,SAISIE!K2593)","v":0}]
[{"$nulls":13},{"$f":"IF(SAISIE!K2594=\"\",0,SAISIE!K2594)","v":0}]
[{"$nulls":13},{"$f":"IF(SAISIE!K2595=\"\",0,SAISIE!K2595)","v":0}]
[{"$nulls":13},{"$f":"IF(SAISIE!K2596=\"\",0,SAISIE!K2596)","v":0}]
[{"$nulls":13},{"$f":"IF(SAISIE!K2597=\"\",0,SAISIE!K2597)","v":0}]
[{"$nulls":13},{"$f":"IF(SAISIE!K2598=\"\",0,SAISIE!K2598)","v":0}]
[{"$nulls":13},{"$f":"IF(SAISIE!K2599=\"\",0,SAISIE!K2599)","v":0}]
[{"$nulls":13},{"$f":"IF(SAISIE!K2600=\"\",0,SAISIE!K2600)","v":0}]
[{"$nulls":13},{"$f":"IF(SAISIE!K2601=\"\",0,SAISIE!K2601)","v":0}]
[{"$nulls":13},{"$f":"IF(SAISIE!K2602=\"\",0,SAISIE!K2602)","v":0}]
[{"$nulls":13},{"$f":"IF(SAISIE!K2603=\"\",0,SAISIE!K2603)","v":0}]
[{"$nulls":13},{"$f":"IF(SAISIE!K2604=\"\",0,SAISIE!K2604)","v":0}]
[{"$nulls":13},{"$f":"IF(SAISIE!K2605=\"\",0,SAISIE!K2605)","v":0}]
[{"$nulls":13},{"$f":"IF(SAISIE!K2606=\"\",0,SAISIE!K2606)","v":0}]
[{"$nulls":13},{"$f":"IF(SAISIE!K2607=\"\",0,SAISIE!K2607)","v":0}]
[{"$nulls":13},{"$f":"IF(SAISIE!K2608=\"\",0,SAISIE!K2608)","v":0}]
[{"$nulls":13},{"$f":"IF(SAISIE!K2609=\"\",0,SAISIE!K2609)","v":0}]
[{"$nulls":13},{"$f":"IF(SAISIE!K2610=\"\",0,SAISIE!K2610)","v":0}]
[{"$nulls":13},{"$f":"IF(SAISIE!K2611=\"\",0,SAISIE!K2611)","v":0}]
[{"$nulls":13},{"$f":"IF(SAISIE!K2612=\"\",0,SAISIE!K2612)","v":0}]
[{"$nulls":13},{"$f":"IF(SAISIE!K2613=\"\",0,SAISIE!K2613)","v":0}]
[{"$nulls":13},{"$f":"IF(SAISIE!K2614=\"\",0,SAISIE!K2614)","v":0}]
[{"$nulls":13},{"$f":"IF(SAISIE!K2615=\"\",0,SAISIE!K2615)","v":0}]
[{"$nulls":13},{"$f":"IF(SAISIE!K2616=\"\",0,SAISIE!K2616)","v":0}]
[{"$nulls":13},{"$f":"IF(SAISIE!K2617=\"\",0,SAISIE!K2617)","v":0}]
[{"$nulls":13},{"$f":"IF(SAISIE!K2618=\"\",0,SAISIE!K2618)","v":0}]
[{"$nulls":13},{"$f":"IF(SAISIE!K2619=\"\",0,SAISIE!K2619)","v":0}]
[{"$nulls":13},{"$f":"IF(SAISIE!K2620=\"\",0,SAISIE!K2620)","v":0}]
[{"$nulls":13},{"$f":"IF(SAISIE!K2621=\"\",0,SAISIE!K2621)","v":0}]
[{"$nulls":13},{"$f":"IF(SAISIE!K2622=\"\",0,SAISIE!K2622)","v":0}]
[{"$nulls":13},{"$f":"IF(SAISIE!K2623=\"\",0,SAISIE!K2623)","v":0}]
[{"$nulls":13},{"$f":"IF(SAISIE!K2624=\"\",0,SAISIE!K2624)","v":0}]
[{"$nulls":13},{"$f":"IF(SAISIE!K2625=\"\",0,SAISIE!K2625)","v":0}]
[{"$nulls":13},{"$f":"IF(SAISIE!K2626=\"\",0,SAISIE!K2626)","v":0}]
[{"$nulls":13},{"$f":"IF(SAISIE!K2627=\"\",0,SAISIE!K2627)","v":0}]
[{"$nulls":13},{"$f":"IF(SAISIE!K2628=\"\",0,SAISIE!K2628)","v":0}]
[{"$nulls":13},{"$f":"IF(SAISIE!K2629=\"\",0,SAISIE!K2629)","v":0}]
[{"$nulls":13},{"$f":"IF(SAISIE!K2630=\"\",0,SAISIE!K2630)","v":0}]
[{"$nulls":13},{"$f":"IF(SAISIE!K2631=\"\",0,SAISIE!K2631)","v":0}]
[{"$nulls":13},{"$f":"IF(SAISIE!K2632=\"\",0,SAISIE!K2632)","v":0}]
[{"$nulls":13},{"$f":"IF(SAISIE!K2633=\"\",0,SAISIE!K2633)","v":0}]
[{"$nulls":13},{"$f":"IF(SAISIE!K2634=\"\",0,SAISIE!K2634)","v":0}]
[{"$nulls":13},{"$f":"IF(SAISIE!K2635=\"\",0,SAISIE!K2635)","v":0}]
[{"$nulls":13},{"$f":"IF(SAISIE!K2636=\"\",0,SAISIE!K2636)","v":0}]
[{"$nulls":13},{"$f":"IF(SAISIE!K2637=\"\",0,SAISIE!K2637)","v":0}]
[{"$nulls":13},{"$f":"IF(SAISIE!K2638=\"\",0,SAISIE!K2638)","v":0}]
[{"$nulls":13},{"$f":"IF(SAISIE!K2639=\"\",0,SAISIE!K2639)","v":0}]
[{"$nulls":13},{"$f":"IF(SAISIE!K2640=\"\",0,SAISIE!K2640)","v":0}]
[{"$nulls":13},{"$f":"IF(SAISIE!K2641=\"\",0,SAISIE!K2641)","v":0}]
[{"$nulls":13},{"$f":"IF(SAISIE!K2642=\"\",0,SAISIE!K2642)","v":0}]
[{"$nulls":13},{"$f":"IF(SAISIE!K2643=\"\",0,SAISIE!K2643)","v":0}]
[{"$nulls":13},{"$f":"IF(SAISIE!K2644=\"\",0,SAISIE!K2644)","v":0}]
[{"$nulls":13},{"$f":"IF(SAISIE!K2645=\"\",0,SAISIE!K2645)","v":0}]
[{"$nulls":13},{"$f":"IF(SAISIE!K2646=\"\",0,SAISIE!K2646)","v":0}]
[{"$nulls":13},{"$f":"IF(SAISIE!K2647=\"\",0,SAISIE!K2647)","v":0}]
[{"$nulls":13},{"$f":"IF(SAISIE!K2648=\"\",0,SAISIE!K2648)","v":0}]
[{"$nulls":13},{"$f":"IF(SAISIE!K2649=\"\",0,SAISIE!K2649)","v":0}]
[{"$nulls":13},{"$f":"IF(SAISIE!K2650=\"\",0,SAISIE!K2650)","v":0}]
[{"$nulls":13},{"$f":"IF(SAISIE!K2651=\"\",0,SAISIE!K2651)","v":0}]
[{"$nulls":13},{"$f":"IF(SAISIE!K2652=\"\",0,SAISIE!K2652)","v":0}]
[{"$nulls":13},{"$f":"IF(SAISIE!K2653=\"\",0,SAISIE!K2653)","v":0}]
[{"$nulls":13},{"$f":"IF(SAISIE!K2654=\"\",0,SAISIE!K2654)","v":0}]
[{"$nulls":13},{"$f":"IF(SAISIE!K2655=\"\",0,SAISIE!K2655)","v":0}]
[{"$nulls":13},{"$f":"IF(SAISIE!K2656=\"\",0,SAISIE!K2656)","v":0}]
[{"$nulls":13},{"$f":"IF(SAISIE!K2657=\"\",0,SAISIE!K2657)","v":0}]
[{"$nulls":13},{"$f":"IF(SAISIE!K2658=\"\",0,SAISIE!K2658)","v":0}]
[{"$nulls":13},{"$f":"IF(SAISIE!K2659=\"\",0,SAISIE!K2659)","v":0}]
[{"$nulls":13},{"$f":"IF(SAISIE!K2660=\"\",0,SAISIE!K2660)","v":0}]
[{"$nulls":13},{"$f":"IF(SAISIE!K2661=\"\",0,SAISIE!K2661)","v":0}]
[{"$nulls":13},{"$f":"IF(SAISIE!K2662=\"\",0,SAISIE!K2662)","v":0}]
[{"$nulls":13},{"$f":"IF(SAISIE!K2663=\"\",0,SAISIE!K2663)","v":0}]
[{"$nulls":13},{"$f":"IF(SAISIE!K2664=\"\",0,SAISIE!K2664)","v":0}]
[{"$nulls":13},{"$f":"IF(SAISIE!K2665=\"\",0,SAISIE!K2665)","v":0}]
[{"$nulls":13},{"$f":"IF(SAISIE!K2666=\"\",0,SAISIE!K2666)","v":0}]
[{"$nulls":13},{"$f":"IF(SAISIE!K2667=\"\",0,SAISIE!K2667)","v":0}]
[{"$nulls":13},{"$f":"IF(SAISIE!K2668=\"\",0,SAISIE!K2668)","v":0}]
[{"$nulls":13},{"$f":"IF(SAISIE!K2669=\"\",0,SAISIE!K2669)","v":0}]
[{"$nulls":13},{"$f":"IF(SAISIE!K2670=\"\",0,SAISIE!K2670)","v":0}]
[{"$nulls":13},{"$f":"IF(SAISIE!K2671=\"\",0,SAISIE!K2671)","v":0}]
[{"$nulls":13},{"$f":"IF(SAISIE!K2672=\"\",0,SAISIE!K2672)","v":0}]
[{"$nulls":13},{"$f":"IF(SAISIE!K2673=\"\",0,SAISIE!K2673)","v":0}]
[{"$nulls":13},{"$f":"IF(SAISIE!K2674=\"\",0,SAISIE!K2674)","v":0}]
[{"$nulls":13},{"$f":"IF(SAISIE!K2675=\"\",0,SAISIE!K2675)","v":0}]
[{"$nulls":13},{"$f":"IF(SAISIE!K2676=\"\",0,SAISIE!K2676)","v":0}]
[{"$nulls":13},{"$f":"IF(SAISIE!K2677=\"\",0,SAISIE!K2677)","v":0}]
[{"$nulls":13},{"$f":"IF(SAISIE!K2678=\"\",0,SAISIE!K2678)","v":0}]
[{"$nulls":13},{"$f":"IF(SAISIE!K2679=\"\",0,SAISIE!K2679)","v":0}]
[{"$nulls":13},{"$f":"IF(SAISIE!K2680=\"\",0,SAISIE!K2680)","v":0}]
[{"$nulls":13},{"$f":"IF(SAISIE!K2681=\"\",0,SAISIE!K2681)","v":0}]
[{"$nulls":13},{"$f":"IF(SAISIE!K2682=\"\",0,SAISIE!K2682)","v":0}]
[{"$nulls":13},{"$f":"IF(SAISIE!K2683=\"\",0,SAISIE!K2683)","v":0}]
[{"$nulls":13},{"$f":"IF(SAISIE!K2684=\"\",0,SAISIE!K2684)","v":0}]
[{"$nulls":13},{"$f":"IF(SAISIE!K2685=\"\",0,SAISIE!K2685)","v":0}]
[{"$nulls":13},{"$f":"IF(SAISIE!K2686=\"\",0,SAISIE!K2686)","v":0}]
[{"$nulls":13},{"$f":"IF(SAISIE!K2687=\"\",0,SAISIE!K2687)","v":0}]
[{"$nulls":13},{"$f":"IF(SAISIE!K2688=\"\",0,SAISIE!K2688)","v":0}]
[{"$nulls":13},{"$f":"IF(SAISIE!K2689=\"\",0,SAISIE!K2689)","v":0}]
[{"$nulls":13},{"$f":"IF(SAISIE!K2690=\"\",0,SAISIE!K2690)","v":0}]
[{"$nulls":13},{"$f":"IF(SAISIE!K2691=\"\",0,SAISIE!K2691)","v":0}]
[{"$nulls":13},{"$f":"IF(SAISIE!K2692=\"\",0,SAISIE!K2692)","v":0}]
[{"$nulls":13},{"$f":"IF(SAISIE!K2693=\"\",0,SAISIE!K2693)","v":0}]
[{"$nulls":13},{"$f":"IF(SAISIE!K2694=\"\",0,SAISIE!K2694)","v":0}]
[{"$nulls":13},{"$f":"IF(SAISIE!K2695=\"\",0,SAISIE!K2695)","v":0}]
[{"$nulls":13},{"$f":"IF(SAISIE!K2696=\"\",0,SAISIE!K2696)","v":0}]
[{"$nulls":13},{"$f":"IF(SAISIE!K2697=\"\",0,SAISIE!K2697)","v":0}]
[{"$nulls":13},{"$f":"IF(SAISIE!K2698=\"\",0,SAISIE!K2698)","v":0}]
[{"$nulls":13},{"$f":"IF(SAISIE!K2699=\"\",0,SAISIE!K2699)","v":0}]
[{"$nulls":13},{"$f":"IF(SAISIE!K2700=\"\",0,SAISIE!K2700)","v":0}]
[{"$nulls":13},{"$f":"IF(SAISIE!K2701=\"\",0,SAISIE!K2701)","v":0}]
[{"$nulls":13},{"$f":"IF(SAISIE!K2702=\"\",0,SAISIE!K2702)","v":0}]
[{"$nulls":13},{"$f":"IF(SAISIE!K2703=\"\",0,SAISIE!K2703)","v":0}]
[{"$nulls":13},{"$f":"IF(SAISIE!K2704=\"\",0,SAISIE!K2704)","v":0}]
[{"$nulls":13},{"$f":"IF(SAISIE!K2705=\"\",0,SAISIE!K2705)","v":0}]
[{"$nulls":13},{"$f":"IF(SAISIE!K2706=\"\",0,SAISIE!K2706)","v":0}]
[{"$nulls":13},{"$f":"IF(SAISIE!K2707=\"\",0,SAISIE!K2707)","v":0}]
[{"$nulls":13},{"$f":"IF(SAISIE!K2708=\"\",0,SAISIE!K2708)","v":0}]
[{"$nulls":13},{"$f":"IF(SAISIE!K2709=\"\",0,SAISIE!K2709)","v":0}]
[{"$nulls":13},{"$f":"IF(SAISIE!K2710=\"\",0,SAISIE!K2710)","v":0}]
[{"$nulls":13},{"$f":"IF(SAISIE!K2711=\"\",0,SAISIE!K2711)","v":0}]
[{"$nulls":13},{"$f":"IF(SAISIE!K2712=\"\",0,SAISIE!K2712)","v":0}]
[{"$nulls":13},{"$f":"IF(SAISIE!K2713=\"\",0,SAISIE!K2713)","v":0}]
[{"$nulls":13},{"$f":"IF(SAISIE!K2714=\"\",0,SAISIE!K2714)","v":0}]
[{"$nulls":13},{"$f":"IF(SAISIE!K2715=\"\",0,SAISIE!K2715)","v":0}]
[{"$nulls":13},{"$f":"IF(SAISIE!K2716=\"\",0,SAISIE!K2716)","v":0}]
[{"$nulls":13},{"$f":"IF(SAISIE!K2717=\"\",0,SAISIE!K2717)","v":0}]
[{"$nulls":13},{"$f":"IF(SAISIE!K2718=\"\",0,SAISIE!K2718)","v":0}]
[{"$nulls":13},{"$f":"IF(SAISIE!K2719=\"\",0,SAISIE!K2719)","v":0}]
[{"$nulls":13},{"$f":"IF(SAISIE!K2720=\"\",0,SAISIE!K2720)","v":0}]
[{"$nulls":13},{"$f":"IF(SAISIE!K2721=\"\",0,SAISIE!K2721)","v":0}]
[{"$nulls":13},{"$f":"IF(SAISIE!K2722=\"\",0,SAISIE!K2722)","v":0}]
[{"$nulls":13},{"$f":"IF(SAISIE!K2723=\"\",0,SAISIE!K2723)","v":0}]
[{"$nulls":13},{"$f":"IF(SAISIE!K2724=\"\",0,SAISIE!K2724)","v":0}]
[{"$nulls":13},{"$f":"IF(SAISIE!K2725=\"\",0,SAISIE!K2725)","v":0}]
[{"$nulls":13},{"$f":"IF(SAISIE!K2726=\"\",0,SAISIE!K2726)","v":0}]
[{"$nulls":13},{"$f":"IF(SAISIE!K2727=\"\",0,SAISIE!K2727)","v":0}]
[{"$nulls":13},{"$f":"IF(SAISIE!K2728=\"\",0,SAISIE!K2728)","v":0}]
[{"$nulls":13},{"$f":"IF(SAISIE!K2729=\"\",0,SAISIE!K2729)","v":0}]
[{"$nulls":13},{"$f":"IF(SAISIE!K2730=\"\",0,SAISIE!K2730)","v":0}]
[{"$nulls":13},{"$f":"IF(SAISIE!K2731=\"\",0,SAISIE!K2731)","v":0}]
[{"$nulls":13},{"$f":"IF(SAISIE!K2732=\"\",0,SAISIE!K2732)","v":0}]
[{"$nulls":13},{"$f":"IF(SAISIE!K2733=\"\",0,SAISIE!K2733)","v":0}]
[{"$nulls":13},{"$f":"IF(SAISIE!K2734=\"\",0,SAISIE!K2734)","v":0}]
[{"$nulls":13},{"$f":"IF(SAISIE!K2735=\"\",0,SAISIE!K2735)","v":0}]
[{"$nulls":13},{"$f":"IF(SAISIE!K2736=\"\",0,SAISIE!K2736)","v":0}]
[{"$nulls":13},{"$f":"IF(SAISIE!K2737=\"\",0,SAISIE!K2737)","v":0}]
[{"$nulls":13},{"$f":"IF(SAISIE!K2738=\"\",0,SAISIE!K2738)","v":0}]
[{"$nulls":13},{"$f":"IF(SAISIE!K2739=\"\",0,SAISIE!K2739)","v":0}]
[{"$nulls":13},{"$f":"IF(SAISIE!K2740=\"\",0,SAISIE!K2740)","v":0}]
[{"$nulls":13},{"$f":"IF(SAISIE!K2741=\"\",0,SAISIE!K2741)","v":0}]
[{"$nulls":13},{"$f":"IF(SAISIE!K2742=\"\",0,SAISIE!K2742)","v":0}]
[{"$nulls":13},{"$f":"IF(SAISIE!K2743=\"\",0,SAISIE!K2743)","v":0}]
[{"$nulls":13},{"$f":"IF(SAISIE!K2744=\"\",0,SAISIE!K2744)","v":0}]
[{"$nulls":13},{"$f":"IF(SAISIE!K2745=\"\",0,SAISIE!K2745)","v":0}]
[{"$nulls":13},{"$f":"IF(SAISIE!K2746=\"\",0,SAISIE!K2746)","v":0}]
[{"$nulls":13},{"$f":"IF(SAISIE!K2747=\"\",0,SAISIE!K2747)","v":0}]
[{"$nulls":13},{"$f":"IF(SAISIE!K2748=\"\",0,SAISIE!K2748)","v":0}]
[{"$nulls":13},{"$f":"IF(SAISIE!K2749=\"\",0,SAISIE!K2749)","v":0}]
[{"$nulls":13},{"$f":"IF(SAISIE!K2750=\"\",0,SAISIE!K2750)","v":0}]
[{"$nulls":13},{"$f":"IF(SAISIE!K2751=\"\",0,SAISIE!K2751)","v":0}]
[{"$nulls":13},{"$f":"IF(SAISIE!K2752=\"\",0,SAISIE!K2752)","v":0}]
[{"$nulls":13},{"$f":"IF(SAISIE!K2753=\"\",0,SAISIE!K2753)","v":0}]
[{"$nulls":13},{"$f":"IF(SAISIE!K2754=\"\",0,SAISIE!K2754)","v":0}]
[{"$nulls":13},{"$f":"IF(SAISIE!K2755=\"\",0,SAISIE!K2755)","v":0}]
[{"$nulls":13},{"$f":"IF(SAISIE!K2756=\"\",0,SAISIE!K2756)","v":0}]
[{"$nulls":13},{"$f":"IF(SAISIE!K2757=\"\",0,SAISIE!K2757)","v":0}]
[{"$nulls":13},{"$f":"IF(SAISIE!K2758=\"\",0,SAISIE!K2758)","v":0}]
[{"$nulls":13},{"$f":"IF(SAISIE!K2759=\"\",0,SAISIE!K2759)","v":0}]
[{"$nulls":13},{"$f":"IF(SAISIE!K2760=\"\",0,SAISIE!K2760)","v":0}]
[{"$nulls":13},{"$f":"IF(SAISIE!K2761=\"\",0,SAISIE!K2761)","v":0}]
[{"$nulls":13},{"$f":"IF(SAISIE!K2762=\"\",0,SAISIE!K2762)","v":0}]
[{"$nulls":13},{"$f":"IF(SAISIE!K2763=\"\",0,SAISIE!K2763)","v":0}]
[{"$nulls":13},{"$f":"IF(SAISIE!K2764=\"\",0,SAISIE!K2764)","v":0}]
[{"$nulls":13},{"$f":"IF(SAISIE!K2765=\"\",0,SAISIE!K2765)","v":0}]
[{"$nulls":13},{"$f":"IF(SAISIE!K2766=\"\",0,SAISIE!K2766)","v":0}]
[{"$nulls":13},{"$f":"IF(SAISIE!K2767=\"\",0,SAISIE!K2767)","v":0}]
[{"$nulls":13},{"$f":"IF(SAISIE!K2768=\"\",0,SAISIE!K2768)","v":0}]
[{"$nulls":13},{"$f":"IF(SAISIE!K2769=\"\",0,SAISIE!K2769)","v":0}]
[{"$nulls":13},{"$f":"IF(SAISIE!K2770=\"\",0,SAISIE!K2770)","v":0}]
[{"$nulls":13},{"$f":"IF(SAISIE!K2771=\"\",0,SAISIE!K2771)","v":0}]
[{"$nulls":13},{"$f":"IF(SAISIE!K2772=\"\",0,SAISIE!K2772)","v":0}]
[{"$nulls":13},{"$f":"IF(SAISIE!K2773=\"\",0,SAISIE!K2773)","v":0}]
[{"$nulls":13},{"$f":"IF(SAISIE!K2774=\"\",0,SAISIE!K2774)","v":0}]
[{"$nulls":13},{"$f":"IF(SAISIE!K2775=\"\",0,SAISIE!K2775)","v":0}]
[{"$nulls":13},{"$f":"IF(SAISIE!K2776=\"\",0,SAISIE!K2776)","v":0}]
[{"$nulls":13},{"$f":"IF(SAISIE!K2777=\"\",0,SAISIE!K2777)","v":0}]
[{"$nulls":13},{"$f":"IF(SAISIE!K2778=\"\",0,SAISIE!K2778)","v":0}]
[{"$nulls":13},{"$f":"IF(SAISIE!K2779=\"\",0,SAISIE!K2779)","v":0}]
[{"$nulls":13},{"$f":"IF(SAISIE!K2780=\"\",0,SAISIE!K2780)","v":0}]
[{"$nulls":13},{"$f":"IF(SAISIE!K2781=\"\",0,SAISIE!K2781)","v":0}]
[{"$nulls":13},{"$f":"IF(SAISIE!K2782=\"\",0,SAISIE!K2782)","v":0}]
[{"$nulls":13},{"$f":"IF(SAISIE!K2783=\"\",0,SAISIE!K2783)","v":0}]
[{"$nulls":13},{"$f":"IF(SAISIE!K2784=\"\",0,SAISIE!K2784)","v":0}]
[{"$nulls":13},{"$f":"IF(SAISIE!K2785=\"\",0,SAISIE!K2785)","v":0}]
[{"$nulls":13},{"$f":"IF(SAISIE!K2786=\"\",0,SAISIE!K2786)","v":0}]
[{"$nulls":13},{"$f":"IF(SAISIE!K2787=\"\",0,SAISIE!K2787)","v":0}]
[{"$nulls":13},{"$f":"IF(SAISIE!K2788=\"\",0,SAISIE!K2788)","v":0}]
[{"$nulls":13},{"$f":"IF(SAISIE!K2789=\"\",0,SAISIE!K2789)","v":0}]
[{"$nulls":13},{"$f":"IF(SAISIE!K2790=\"\",0,SAISIE!K2790)","v":0}]
[{"$nulls":13},{"$f":"IF(SAISIE!K2791=\"\",0,SAISIE!K2791)","v":0}]
[{"$nulls":13},{"$f":"IF(SAISIE!K2792=\"\",0,SAISIE!K2792)","v":0}]
[{"$nulls":13},{"$f":"IF(SAISIE!K2793=\"\",0,SAISIE!K2793)","v":0}]
[{"$nulls":13},{"$f":"IF(SAISIE!K2794=\"\",0,SAISIE!K2794)","v":0}]
[{"$nulls":13},{"$f":"IF(SAISIE!K2795=\"\",0,SAISIE!K2795)","v":0}]
[{"$nulls":13},{"$f":"IF(SAISIE!K2796=\"\",0,SAISIE!K2796)","v":0}]
[{"$nulls":13},{"$f":"IF(SAISIE!K2797=\"\",0,SAISIE!K2797)","v":0}]
[{"$nulls":13},{"$f":"IF(SAISIE!K2798=\"\",0,SAISIE!K2798)","v":0}]
[{"$nulls":13},{"$f":"IF(SAISIE!K2799=\"\",0,SAISIE!K2799)","v":0}]
[{"$nulls":13},{"$f":"IF(SAISIE!K2800=\"\",0,SAISIE!K2800)","v":0}]
[{"$nulls":13},{"$f":"IF(SAISIE!K2801=\"\",0,SAISIE!K2801)","v":0}]
[{"$nulls":13},{"$f":"IF(SAISIE!K2802=\"\",0,SAISIE!K2802)","v":0}]
[{"$nulls":13},{"$f":"IF(SAISIE!K2803=\"\",0,SAISIE!K2803)","v":0}]
[{"$nulls":13},{"$f":"IF(SAISIE!K2804=\"\",0,SAISIE!K2804)","v":0}]
[{"$nulls":13},{"$f":"IF(SAISIE!K2805=\"\",0,SAISIE!K2805)","v":0}]
[{"$nulls":13},{"$f":"IF(SAISIE!K2806=\"\",0,SAISIE!K2806)","v":0}]
[{"$nulls":13},{"$f":"IF(SAISIE!K2807=\"\",0,SAISIE!K2807)","v":0}]
[{"$nulls":13},{"$f":"IF(SAISIE!K2808=\"\",0,SAISIE!K2808)","v":0}]
[{"$nulls":13},{"$f":"IF(SAISIE!K2809=\"\",0,SAISIE!K2809)","v":0}]
[{"$nulls":13},{"$f":"IF(SAISIE!K2810=\"\",0,SAISIE!K2810)","v":0}]
[{"$nulls":13},{"$f":"IF(SAISIE!K2811=\"\",0,SAISIE!K2811)","v":0}]
[{"$nulls":13},{"$f":"IF(SAISIE!K2812=\"\",0,SAISIE!K2812)","v":0}]
[{"$nulls":13},{"$f":"IF(SAISIE!K2813=\"\",0,SAISIE!K2813)","v":0}]
[{"$nulls":13},{"$f":"IF(SAISIE!K2814=\"\",0,SAISIE!K2814)","v":0}]
[{"$nulls":13},{"$f":"IF(SAISIE!K2815=\"\",0,SAISIE!K2815)","v":0}]
[{"$nulls":13},{"$f":"IF(SAISIE!K2816=\"\",0,SAISIE!K2816)","v":0}]
[{"$nulls":13},{"$f":"IF(SAISIE!K2817=\"\",0,SAISIE!K2817)","v":0}]
[{"$nulls":13},{"$f":"IF(SAISIE!K2818=\"\",0,SAISIE!K2818)","v":0}]
[{"$nulls":13},{"$f":"IF(SAISIE!K2819=\"\",0,SAISIE!K2819)","v":0}]
[{"$nulls":13},{"$f":"IF(SAISIE!K2820=\"\",0,SAISIE!K2820)","v":0}]
[{"$nulls":13},{"$f":"IF(SAISIE!K2821=\"\",0,SAISIE!K2821)","v":0}]
[{"$nulls":13},{"$f":"IF(SAISIE!K2822=\"\",0,SAISIE!K2822)","v":0}]
[{"$nulls":13},{"$f":"IF(SAISIE!K2823=\"\",0,SAISIE!K2823)","v":0}]
[{"$nulls":13},{"$f":"IF(SAISIE!K2824=\"\",0,SAISIE!K2824)","v":0}]
[{"$nulls":13},{"$f":"IF(SAISIE!K2825=\"\",0,SAISIE!K2825)","v":0}]
[{"$nulls":13},{"$f":"IF(SAISIE!K2826=\"\",0,SAISIE!K2826)","v":0}]
[{"$nulls":13},{"$f":"IF(SAISIE!K2827=\"\",0,SAISIE!K2827)","v":0}]
[{"$nulls":13},{"$f":"IF(SAISIE!K2828=\"\",0,SAISIE!K2828)","v":0}]
[{"$nulls":13},{"$f":"IF(SAISIE!K2829=\"\",0,SAISIE!K2829)","v":0}]
[{"$nulls":13},{"$f":"IF(SAISIE!K2830=\"\",0,SAISIE!K2830)","v":0}]
[{"$nulls":13},{"$f":"IF(SAISIE!K2831=\"\",0,SAISIE!K2831)","v":0}]
[{"$nulls":13},{"$f":"IF(SAISIE!K2832=\"\",0,SAISIE!K2832)","v":0}]
[{"$nulls":13},{"$f":"IF(SAISIE!K2833=\"\",0,SAISIE!K2833)","v":0}]
[{"$nulls":13},{"$f":"IF(SAISIE!K2834=\"\",0,SAISIE!K2834)","v":0}]
[{"$nulls":13},{"$f":"IF(SAISIE!K2835=\"\",0,SAISIE!K2835)","v":0}]
[{"$nulls":13},{"$f":"IF(SAISIE!K2836=\"\",0,SAISIE!K2836)","v":0}]
[{"$nulls":13},{"$f":"IF(SAISIE!K2837=\"\",0,SAISIE!K2837)","v":0}]
[{"$nulls":13},{"$f":"IF(SAISIE!K2838=\"\",0,SAISIE!K2838)","v":0}]
[{"$nulls":13},{"$f":"IF(SAISIE!K2839=\"\",0,SAISIE!K2839)","v":0}]
[{"$nulls":13},{"$f":"IF(SAISIE!K2840=\"\",0,SAISIE!K2840)","v":0}]
[{"$nulls":13},{"$f":"IF(SAISIE!K2841=\"\",0,SAISIE!K2841)","v":0}]
[{"$nulls":13},{"$f":"IF(SAISIE!K2842=\"\",0,SAISIE!K2842)","v":0}]
[{"$nulls":13},{"$f":"IF(SAISIE!K2843=\"\",0,SAISIE!K2843)","v":0}]
[{"$nulls":13},{"$f":"IF(SAISIE!K2844=\"\",0,SAISIE!K2844)","v":0}]
[{"$nulls":13},{"$f":"IF(SAISIE!K2845=\"\",0,SAISIE!K2845)","v":0}]
[{"$nulls":13},{"$f":"IF(SAISIE!K2846=\"\",0,SAISIE!K2846)","v":0}]
[{"$nulls":13},{"$f":"IF(SAISIE!K2847=\"\",0,SAISIE!K2847)","v":0}]
[{"$nulls":13},{"$f":"IF(SAISIE!K2848=\"\",0,SAISIE!K2848)","v":0}]
[{"$nulls":13},{"$f":"IF(SAISIE!K2849=\"\",0,SAISIE!K2849)","v":0}]
[{"$nulls":13},{"$f":"IF(SAISIE!K2850=\"\",0,SAISIE!K2850)","v":0}]
[{"$nulls":13},{"$f":"IF(SAISIE!K2851=\"\",0,SAISIE!K2851)","v":0}]
[{"$nulls":13},{"$f":"IF(SAISIE!K2852=\"\",0,SAISIE!K2852)","v":0}]
[{"$nulls":13},{"$f":"IF(SAISIE!K2853=\"\",0,SAISIE!K2853)","v":0}]
[{"$nulls":13},{"$f":"IF(SAISIE!K2854=\"\",0,SAISIE!K2854)","v":0}]
[{"$nulls":13},{"$f":"IF(SAISIE!K2855=\"\",0,SAISIE!K2855)","v":0}]
[{"$nulls":13},{"$f":"IF(SAISIE!K2856=\"\",0,SAISIE!K2856)","v":0}]
[{"$nulls":13},{"$f":"IF(SAISIE!K2857=\"\",0,SAISIE!K2857)","v":0}]
[{"$nulls":13},{"$f":"IF(SAISIE!K2858=\"\",0,SAISIE!K2858)","v":0}]
[{"$nulls":13},{"$f":"IF(SAISIE!K2859=\"\",0,SAISIE!K2859)","v":0}]
[{"$nulls":13},{"$f":"IF(SAISIE!K2860=\"\",0,SAISIE!K2860)","v":0}]
[{"$nulls":13},{"$f":"IF(SAISIE!K2861=\"\",0,SAISIE!K2861)","v":0}]
[{"$nulls":13},{"$f":"IF(SAISIE!K2862=\"\",0,SAISIE!K2862)","v":0}]
[{"$nulls":13},{"$f":"IF(SAISIE!K2863=\"\",0,SAISIE!K2863)","v":0}]
[{"$nulls":13},{"$f":"IF(SAISIE!K2864=\"\",0,SAISIE!K2864)","v":0}]
[{"$nulls":13},{"$f":"IF(SAISIE!K2865=\"\",0,SAISIE!K2865)","v":0}]
[{"$nulls":13},{"$f":"IF(SAISIE!K2866=\"\",0,SAISIE!K2866)","v":0}]
[{"$nulls":13},{"$f":"IF(SAISIE!K2867=\"\",0,SAISIE!K2867)","v":0}]
[{"$nulls":13},{"$f":"IF(SAISIE!K2868=\"\",0,SAISIE!K2868)","v":0}]
[{"$nulls":13},{"$f":"IF(SAISIE!K2869=\"\",0,SAISIE!K2869)","v":0}]
[{"$nulls":13},{"$f":"IF(SAISIE!K2870=\"\",0,SAISIE!K2870)","v":0}]
[{"$nulls":13},{"$f":"IF(SAISIE!K2871=\"\",0,SAISIE!K2871)","v":0}]
[{"$nulls":13},{"$f":"IF(SAISIE!K2872=\"\",0,SAISIE!K2872)","v":0}]
[{"$nulls":13},{"$f":"IF(SAISIE!K2873=\"\",0,SAISIE!K2873)","v":0}]
[{"$nulls":13},{"$f":"IF(SAISIE!K2874=\"\",0,SAISIE!K2874)","v":0}]
[{"$nulls":13},{"$f":"IF(SAISIE!K2875=\"\",0,SAISIE!K2875)","v":0}]
[{"$nulls":13},{"$f":"IF(SAISIE!K2876=\"\",0,SAISIE!K2876)","v":0}]
[{"$nulls":13},{"$f":"IF(SAISIE!K2877=\"\",0,SAISIE!K2877)","v":0}]
[{"$nulls":13},{"$f":"IF(SAISIE!K2878=\"\",0,SAISIE!K2878)","v":0}]
[{"$nulls":13},{"$f":"IF(SAISIE!K2879=\"\",0,SAISIE!K2879)","v":0}]
[{"$nulls":13},{"$f":"IF(SAISIE!K2880=\"\",0,SAISIE!K2880)","v":0}]
[{"$nulls":13},{"$f":"IF(SAISIE!K2881=\"\",0,SAISIE!K2881)","v":0}]
[{"$nulls":13},{"$f":"IF(SAISIE!K2882=\"\",0,SAISIE!K2882)","v":0}]
[{"$nulls":13},{"$f":"IF(SAISIE!K2883=\"\",0,SAISIE!K2883)","v":0}]
[{"$nulls":13},{"$f":"IF(SAISIE!K2884=\"\",0,SAISIE!K2884)","v":0}]
[{"$nulls":13},{"$f":"IF(SAISIE!K2885=\"\",0,SAISIE!K2885)","v":0}]
[{"$nulls":13},{"$f":"IF(SAISIE!K2886=\"\",0,SAISIE!K2886)","v":0}]
[{"$nulls":13},{"$f":"IF(SAISIE!K2887=\"\",0,SAISIE!K2887)","v":0}]
[{"$nulls":13},{"$f":"IF(SAISIE!K2888=\"\",0,SAISIE!K2888)","v":0}]
[{"$nulls":13},{"$f":"IF(SAISIE!K2889=\"\",0,SAISIE!K2889)","v":0}]
[{"$nulls":13},{"$f":"IF(SAISIE!K2890=\"\",0,SAISIE!K2890)","v":0}]
[{"$nulls":13},{"$f":"IF(SAISIE!K2891=\"\",0,SAISIE!K2891)","v":0}]
[{"$nulls":13},{"$f":"IF(SAISIE!K2892=\"\",0,SAISIE!K2892)","v":0}]
[{"$nulls":13},{"$f":"IF(SAISIE!K2893=\"\",0,SAISIE!K2893)","v":0}]
[{"$nulls":13},{"$f":"IF(SAISIE!K2894=\"\",0,SAISIE!K2894)","v":0}]
[{"$nulls":13},{"$f":"IF(SAISIE!K2895=\"\",0,SAISIE!K2895)","v":0}]
[{"$nulls":13},{"$f":"IF(SAISIE!K2896=\"\",0,SAISIE!K2896)","v":0}]
[{"$nulls":13},{"$f":"IF(SAISIE!K2897=\"\",0,SAISIE!K2897)","v":0}]
[{"$nulls":13},{"$f":"IF(SAISIE!K2898=\"\",0,SAISIE!K2898)","v":0}]
[{"$nulls":13},{"$f":"IF(SAISIE!K2899=\"\",0,SAISIE!K2899)","v":0}]
[{"$nulls":13},{"$f":"IF(SAISIE!K2900=\"\",0,SAISIE!K2900)","v":0}]
[{"$nulls":13},{"$f":"IF(SAISIE!K2901=\"\",0,SAISIE!K2901)","v":0}]
[{"$nulls":13},{"$f":"IF(SAISIE!K2902=\"\",0,SAISIE!K2902)","v":0}]
[{"$nulls":13},{"$f":"IF(SAISIE!K2903=\"\",0,SAISIE!K2903)","v":0}]
[{"$nulls":13},{"$f":"IF(SAISIE!K2904=\"\",0,SAISIE!K2904)","v":0}]
[{"$nulls":13},{"$f":"IF(SAISIE!K2905=\"\",0,SAISIE!K2905)","v":0}]
[{"$nulls":13},{"$f":"IF(SAISIE!K2906=\"\",0,SAISIE!K2906)","v":0}]
[{"$nulls":13},{"$f":"IF(SAISIE!K2907=\"\",0,SAISIE!K2907)","v":0}]
[{"$nulls":13},{"$f":"IF(SAISIE!K2908=\"\",0,SAISIE!K2908)","v":0}]
[{"$nulls":13},{"$f":"IF(SAISIE!K2909=\"\",0,SAISIE!K2909)","v":0}]
[{"$nulls":13},{"$f":"IF(SAISIE!K2910=\"\",0,SAISIE!K2910)","v":0}]
[{"$nulls":13},{"$f":"IF(SAISIE!K2911=\"\",0,SAISIE!K2911)","v":0}]
[{"$nulls":13},{"$f":"IF(SAISIE!K2912=\"\",0,SAISIE!K2912)","v":0}]
[{"$nulls":13},{"$f":"IF(SAISIE!K2913=\"\",0,SAISIE!K2913)","v":0}]
[{"$nulls":13},{"$f":"IF(SAISIE!K2914=\"\",0,SAISIE!K2914)","v":0}]
[{"$nulls":13},{"$f":"IF(SAISIE!K2915=\"\",0,SAISIE!K2915)","v":0}]
[{"$nulls":13},{"$f":"IF(SAISIE!K2916=\"\",0,SAISIE!K2916)","v":0}]
[{"$nulls":13},{"$f":"IF(SAISIE!K2917=\"\",0,SAISIE!K2917)","v":0}]
[{"$nulls":13},{"$f":"IF(SAISIE!K2918=\"\",0,SAISIE!K2918)","v":0}]
[{"$nulls":13},{"$f":"IF(SAISIE!K2919=\"\",0,SAISIE!K2919)","v":0}]
[{"$nulls":13},{"$f":"IF(SAISIE!K2920=\"\",0,SAISIE!K2920)","v":0}]
[{"$nulls":13},{"$f":"IF(SAISIE!K2921=\"\",0,SAISIE!K2921)","v":0}]
[{"$nulls":13},{"$f":"IF(SAISIE!K2922=\"\",0,SAISIE!K2922)","v":0}]
[{"$nulls":13},{"$f":"IF(SAISIE!K2923=\"\",0,SAISIE!K2923)","v":0}]
[{"$nulls":13},{"$f":"IF(SAISIE!K2924=\"\",0,SAISIE!K2924)","v":0}]
[{"$nulls":13},{"$f":"IF(SAISIE!K2925=\"\",0,SAISIE!K2925)","v":0}]
[{"$nulls":13},{"$f":"IF(SAISIE!K2926=\"\",0,SAISIE!K2926)","v":0}]
[{"$nulls":13},{"$f":"IF(SAISIE!K2927=\"\",0,SAISIE!K2927)","v":0}]
[{"$nulls":13},{"$f":"IF(SAISIE!K2928=\"\",0,SAISIE!K2928)","v":0}]
[{"$nulls":13},{"$f":"IF(SAISIE!K2929=\"\",0,SAISIE!K2929)","v":0}]
[{"$nulls":13},{"$f":"IF(SAISIE!K2930=\"\",0,SAISIE!K2930)","v":0}]
[{"$nulls":13},{"$f":"IF(SAISIE!K2931=\"\",0,SAISIE!K2931)","v":0}]
[{"$nulls":13},{"$f":"IF(SAISIE!K2932=\"\",0,SAISIE!K2932)","v":0}]
[{"$nulls":13},{"$f":"IF(SAISIE!K2933=\"\",0,SAISIE!K2933)","v":0}]
[{"$nulls":13},{"$f":"IF(SAISIE!K2934=\"\",0,SAISIE!K2934)","v":0}]
[{"$nulls":13},{"$f":"IF(SAISIE!K2935=\"\",0,SAISIE!K2935)","v":0}]
[{"$nulls":13},{"$f":"IF(SAISIE!K2936=\"\",0,SAISIE!K2936)","v":0}]
[{"$nulls":13},{"$f":"IF(SAISIE!K2937=\"\",0,SAISIE!K2937)","v":0}]
[{"$nulls":13},{"$f":"IF(SAISIE!K2938=\"\",0,SAISIE!K2938)","v":0}]
[{"$nulls":13},{"$f":"IF(SAISIE!K2939=\"\",0,SAISIE!K2939)","v":0}]
[{"$nulls":13},{"$f":"IF(SAISIE!K2940=\"\",0,SAISIE!K2940)","v":0}]
[{"$nulls":13},{"$f":"IF(SAISIE!K2941=\"\",0,SAISIE!K2941)","v":0}]
[{"$nulls":13},{"$f":"IF(SAISIE!K2942=\"\",0,SAISIE!K2942)","v":0}]
[{"$nulls":13},{"$f":"IF(SAISIE!K2943=\"\",0,SAISIE!K2943)","v":0}]
[{"$nulls":13},{"$f":"IF(SAISIE!K2944=\"\",0,SAISIE!K2944)","v":0}]
[{"$nulls":13},{"$f":"IF(SAISIE!K2945=\"\",0,SAISIE!K2945)","v":0}]
[{"$nulls":13},{"$f":"IF(SAISIE!K2946=\"\",0,SAISIE!K2946)","v":0}]
[{"$nulls":13},{"$f":"IF(SAISIE!K2947=\"\",0,SAISIE!K2947)","v":0}]
[{"$nulls":13},{"$f":"IF(SAISIE!K2948=\"\",0,SAISIE!K2948)","v":0}]
[{"$nulls":13},{"$f":"IF(SAISIE!K2949=\"\",0,SAISIE!K2949)","v":0}]
[{"$nulls":13},{"$f":"IF(SAISIE!K2950=\"\",0,SAISIE!K2950)","v":0}]
[{"$nulls":13},{"$f":"IF(SAISIE!K2951=\"\",0,SAISIE!K2951)","v":0}]
[{"$nulls":13},{"$f":"IF(SAISIE!K2952=\"\",0,SAISIE!K2952)","v":0}]
[{"$nulls":13},{"$f":"IF(SAISIE!K2953=\"\",0,SAISIE!K2953)","v":0}]
[{"$nulls":13},{"$f":"IF(SAISIE!K2954=\"\",0,SAISIE!K2954)","v":0}]
[{"$nulls":13},{"$f":"IF(SAISIE!K2955=\"\",0,SAISIE!K2955)","v":0}]
[{"$nulls":13},{"$f":"IF(SAISIE!K2956=\"\",0,SAISIE!K2956)","v":0}]
[{"$nulls":13},{"$f":"IF(SAISIE!K2957=\"\",0,SAISIE!K2957)","v":0}]
[{"$nulls":13},{"$f":"IF(SAISIE!K2958=\"\",0,SAISIE!K2958)","v":0}]
[{"$nulls":13},{"$f":"IF(SAISIE!K2959=\"\",0,SAISIE!K2959)","v":0}]
[{"$nulls":13},{"$f":"IF(SAISIE!K2960=\"\",0,SAISIE!K2960)","v":0}]
[{"$nulls":13},{"$f":"IF(SAISIE!K2961=\"\",0,SAISIE!K2961)","v":0}]
[{"$nulls":13},{"$f":"IF(SAISIE!K2962=\"\",0,SAISIE!K2962)","v":0}]
[{"$nulls":13},{"$f":"IF(SAISIE!K2963=\"\",0,SAISIE!K2963)","v":0}]
[{"$nulls":13},{"$f":"IF(SAISIE!K2964=\"\",0,SAISIE!K2964)","v":0}]
[{"$nulls":13},{"$f":"IF(SAISIE!K2965=\"\",0,SAISIE!K2965)","v":0}]
[{"$nulls":13},{"$f":"IF(SAISIE!K2966=\"\",0,SAISIE!K2966)","v":0}]
[{"$nulls":13},{"$f":"IF(SAISIE!K2967=\"\",0,SAISIE!K2967)","v":0}]
[{"$nulls":13},{"$f":"IF(SAISIE!K2968=\"\",0,SAISIE!K2968)","v":0}]
[{"$nulls":13},{"$f":"IF(SAISIE!K2969=\"\",0,SAISIE!K2969)","v":0}]
[{"$nulls":13},{"$f":"IF(SAISIE!K2970=\"\",0,SAISIE!K2970)","v":0}]
[{"$nulls":13},{"$f":"IF(SAISIE!K2971=\"\",0,SAISIE!K2971)","v":0}]
[{"$nulls":13},{"$f":"IF(SAISIE!K2972=\"\",0,SAISIE!K2972)","v":0}]
[{"$nulls":13},{"$f":"IF(SAISIE!K2973=\"\",0,SAISIE!K2973)","v":0}]
[{"$nulls":13},{"$f":"IF(SAISIE!K2974=\"\",0,SAISIE!K2974)","v":0}]
[{"$nulls":13},{"$f":"IF(SAISIE!K2975=\"\",0,SAISIE!K2975)","v":0}]
[{"$nulls":13},{"$f":"IF(SAISIE!K2976=\"\",0,SAISIE!K2976)","v":0}]
[{"$nulls":13},{"$f":"IF(SAISIE!K2977=\"\",0,SAISIE!K2977)","v":0}]
[{"$nulls":13},{"$f":"IF(SAISIE!K2978=\"\",0,SAISIE!K2978)","v":0}]
[{"$nulls":13},{"$f":"IF(SAISIE!K2979=\"\",0,SAISIE!K2979)","v":0}]
[{"$nulls":13},{"$f":"IF(SAISIE!K2980=\"\",0,SAISIE!K2980)","v":0}]
[{"$nulls":13},{"$f":"IF(SAISIE!K2981=\"\",0,SAISIE!K2981)","v":0}]
[{"$nulls":13},{"$f":"IF(SAISIE!K2982=\"\",0,SAISIE!K2982)","v":0}]
[{"$nulls":13},{"$f":"IF(SAISIE!K2983=\"\",0,SAISIE!K2983)","v":0}]
[{"$nulls":13},{"$f":"IF(SAISIE!K2984=\"\",0,SAISIE!K2984)","v":0}]
[{"$nulls":13},{"$f":"IF(SAISIE!K2985=\"\",0,SAISIE!K2985)","v":0}]
[{"$nulls":13},{"$f":"IF(SAISIE!K2986=\"\",0,SAISIE!K2986)","v":0}]
[{"$nulls":13},{"$f":"IF(SAISIE!K2987=\"\",0,SAISIE!K2987)","v":0}]
[{"$nulls":13},{"$f":"IF(SAISIE!K2988=\"\",0,SAISIE!K2988)","v":0}]
[{"$nulls":13},{"$f":"IF(SAISIE!K2989=\"\",0,SAISIE!K2989)","v":0}]
[{"$nulls":13},{"$f":"IF(SAISIE!K2990=\"\",0,SAISIE!K2990)","v":0}]
[{"$nulls":13},{"$f":"IF(SAISIE!K2991=\"\",0,SAISIE!K2991)","v":0}]
[{"$nulls":13},{"$f":"IF(SAISIE!K2992=\"\",0,SAISIE!K2992)","v":0}]
[{"$nulls":13},{"$f":"IF(SAISIE!K2993=\"\",0,SAISIE!K2993)","v":0}]
[{"$nulls":13},{"$f":"IF(SAISIE!K2994=\"\",0,SAISIE!K2994)","v":0}]
[{"$nulls":13},{"$f":"IF(SAISIE!K2995=\"\",0,SAISIE!K2995)","v":0}]
[{"$nulls":13},{"$f":"IF(SAISIE!K2996=\"\",0,SAISIE!K2996)","v":0}]
[{"$nulls":13},{"$f":"IF(SAISIE!K2997=\"\",0,SAISIE!K2997)","v":0}]
[{"$nulls":13},{"$f":"IF(SAISIE!K2998=\"\",0,SAISIE!K2998)","v":0}]
[{"$nulls":13},{"$f":"IF(SAISIE!K2999=\"\",0,SAISIE!K2999)","v":0}]
[{"$nulls":13},{"$f":"IF(SAISIE!K3000=\"\",0,SAISIE!K3000)","v":0}]

{"sheet":"FACTURE","index":4,"n_rows":11,"n_cols":16,"rows_kept":11}
[]
[null,"N° FACTURE","FOURNISSEUR","REFERENCE ARTICLE","DESIGNATION","PU HT","REMISE","QUANTITE","TOTAL HT","TOTAL TTC","IMPUTATION",{"$nulls":4},"TVA"]
[null,44540,"LEROY MERLIN",125,"MAILLET",{"v":145,"d":"145.00 €"},{"v":0.05,"d":"5%"},1,{"$f":"(F3*H3)-G3*F3","v":{"v":137.75,"d":"137.75 €"}},{"$f":"(I3*tva)+I3","v":{"v":165.3,"d":"165.30 €"}},"CEBAT",{"$nulls":4},{"v":0.2,"d":"20%"}]
[null,44540,"LEROY MERLIN",126,"CARRELETTE",{"v":75.4,"d":"75.40 €"},null,1,{"v":75.4,"d":"75.40 €"},{"v":90.48,"d":"90.48 €"},"CEE"]
[null,422222,"LEROY MERLIN",127,"MARTEAU",{"v":145,"d":"145.00 €"},null,2,{"v":290,"d":"290.00 €"},{"v":348,"d":"348.00 €"},"CEE"]
[null,422222,"LEROY MERLIN",130,null,{"v":78,"d":"78.00 €"},null,1,{"v":78,"d":"78.00 €"},{"v":93.6,"d":"93.60 €"},"AGIRE 74"]
[null,44540,"LEROY MERLIN",131,null,{"v":4,"d":"4.00 €"},null,2,{"v":8,"d":"8.00 €"},{"v":9.6,"d":"9.60 €"},"CEBAT"]
[null,54545,"LEROY MERLIN",128,null,{"v":1448,"d":"1,448.00 €"},{"v":0.12,"d":"12%"},1,{"v":1274.24,"d":"1,274.24 €"},{"v":1529.088,"d":"1,529.09 €"},"CEE"]
[null,54545,"LEROY MERLIN",129,null,{"v":485,"d":"485.00 €"},null,1,{"v":485,"d":"485.00 €"},{"v":582,"d":"582.00 €"},"AGIRE 74"]
[{"$nulls":9},{"v":0,"d":"0.00 €"},"AGIRE 74"]
[{"$nulls":9},{"v":0,"d":"0.00 €"},"AGIRE 74"]

{"sheet":"CAISSE","index":5,"n_rows":6,"n_cols":2,"rows_kept":6}
["CAISSE CARRELAGE","CAISSE PLACO"]
["1 grattoir à déjointer","Bande à joint"]
["2 taloches","Niveau"]
["1 peigne à colle","Cisaille"]
["1 couteau","Spatule"]
["1 carrelette"]