{"text_format":"3","workbook":"xlsx","n_sheets":5,"sheets":["Acceuil","Base de données","Connexion","Sheet1","Feuil1"],"not_rendered":{"macros":1},"read":"whole","date_system":"1900"}

{"sheet":"Acceuil","index":0,"n_rows":0,"n_cols":0,"rows_kept":0}

{"sheet":"Base de données","index":1,"n_rows":23,"n_cols":12,"rows_kept":23}
["Nom","Prénom","Type véhicule","Immatricule","N° permis","Ville de départ","Ville d'arrivée","Nb place dispo","Date de départ","Heure départ","Tarif","Conducteur"]
["Dubois","Thomas","Ford Fiesta","DM-251-CN","FR30NS934","Paris","Nîmes",3,"2016-07-01","13:00:00",{"v":45,"d":"45.00 €"},"Conducteur"]
["Petit","Jacque","Corolla","ON-615-QG","FR28NS855","Nantes","Toulouse",2,"2016-07-02","08:00:00",{"v":50,"d":"50.00 €"},"Conducteur"]
["Robert","Philippe","Ford escort","NN-832-JU","FR39NS281","Besançon","Lyon",4,"2016-07-03","09:00:00",{"v":35,"d":"35.00 €"},"Conducteur"]
["Richard","Pierre","Volkswagen Golf","UH-701-CK","FR26NS553","Marseille","Bretagne",1,"2016-07-04","10:00:00",{"v":45,"d":"45.00 €"},"Conducteur"]
["Girard","William","Peugeot 207","ZB-602-TA","FR14NS422","Toulouse","Versaille",3,"2016-07-05","11:00:00",{"v":50,"d":"50.00 €"},"Conducteur"]
["Simon","Sarah","Mégane","NI-969-PZ","FR35NS731","Lyon","Metz",2,"2016-07-06","12:00:00",{"v":60,"d":"60.00 €"},"Conducteur"]
["Morel","Sophie","mini-cooper","BA-273-QN","FR23NS448","Bretagne","Argenteuil",4,"2016-07-07","13:00:00",{"v":45,"d":"45.00 €"},"Conducteur"]
["Bonnet","Hélène","Fiat 500","WP-191-XV","FR65NS887","Versaille","Paris",3,"2016-07-08","14:00:00",{"v":50,"d":"50.00 €"},"Conducteur"]
["Fournier","Inès","Mercedes C220","TO-806-WE","FR45NS746","Metz","Paris",4,"2016-07-09","15:00:00",{"v":50,"d":"50.00 €"},"Conducteur"]
["Fontaine","Enzo","Citroën C3","CG-953-AY","FR11NS512","Argenteuil","Lyon",4,"2016-07-10","16:00:00",{"v":55,"d":"55.00 €"},"Conducteur"]
["Lambert","Léa","Toyota Yaris","CQ-561-QJ","FR68NS877","Paris","Lille",3,"2016-07-11","17:00:00",{"v":30,"d":"30.00 €"},"Conducteur"]
["Lefevre","Jade","Renault Clio IV","SH-635-UH","FR71NS507","Paris","Besançon",2,"2016-07-12","18:00:00",{"v":45,"d":"45.00 €"},"Conducteur"]
["Muller","Manon","Citroën C3 II","UG-278-SO","FR64NS287","Longujumeau","Metz",1,"2016-07-13","19:00:00",{"v":60,"d":"60.00 €"},"Conducteur"]
["Blanc","Louise","Golf VII","TZ-351-DQ","FR92NS603","Palaiseau","Lille",3,"2016-07-14","20:00:00",{"v":35,"d":"35.00 €"},"Conducteur"]
["Rousseau","Zoé","Renault Scénic III","YA-145-GP","FR3NS184","Toulouse","Clermont-Ferrand",2,"2016-07-15","21:00:00",{"v":45,"d":"45.00 €"},"Conducteur"]
["Francois","Lilou","Opel Corsa","WF-661-UU","FR6NS472","Nantes","Meaux",4,"2016-07-16","22:00:00",{"v":45,"d":"45.00 €"},"Conducteur"]
["Gracia","Léna","Volkswagen Polo","IL-487-WG","FR80NS656","Nanterre","Montpellier",3,"2016-07-17","08:00:00",{"v":70,"d":"70.00 €"},"Conducteur"]
["Masson","Sarah","Renault Captur","YD-889-QQ","FR94NS734","Brest","Picardie",2,"2016-07-18","09:00:00",{"v":55,"d":"55.00 €"},"Conducteur"]
["Robin","Camille","Renault Twingo III","LP-664-FX","FR7NS809","Blois","Nîmes",4,"2016-07-19","14:00:00",{"v":50,"d":"50.00 €"},"Conducteur"]
["Marchand","Maëlys","Peugeot 2008","LP-139-CP","FR41NS272","Clermont-Ferrand","Toulouse",1,"2016-07-20","14:00:00",{"v":45,"d":"45.00 €"},"Conducteur"]
["Duval","Lina","Renault Twingo III","SB-978-VA","FR82NS961","Meaux","Montpellier",1,"2016-07-21","09:00:00",{"v":60,"d":"60.00 €"},"Conducteur"]
["Azzz","Wiss","picup","QD-231-DD","QS","Qsdqsdqs","Qsdqsdq","1","2016-06-27","05:55:00","12","Conducteur"]

{"sheet":"Connexion","index":2,"n_rows":44,"n_cols":2,"rows_kept":44}
["Identifiant","Mot de passe"]
[{"$f":"'Base de données'!A2","v":"Dubois"},1234]
[{"$f":"'Base de données'!A3","v":"Petit"},1234]
[{"$f":"'Base de données'!A4","v":"Robert"},1234]
[{"$f":"'Base de données'!A5","v":"Richard"},1234]
[{"$f":"'Base de données'!A6","v":"Girard"},1234]
[{"$f":"'Base de données'!A7","v":"Simon"},1234]
[{"$f":"'Base de données'!A8","v":"Morel"},1234]
[{"$f":"'Base de données'!A9","v":"Bonnet"},1234]
[{"$f":"'Base de données'!A10","v":"Fournier"},1234]
[{"$f":"'Base de données'!A11","v":"Fontaine"},1234]
[{"$f":"'Base de données'!A12","v":"Lambert"},1234]
[{"$f":"'Base de données'!A13","v":"Lefevre"},1234]
[{"$f":"'Base de données'!A14","v":"Muller"},1234]
[{"$f":"'Base de données'!A15","v":"Blanc"},1234]
[{"$f":"'Base de données'!A16","v":"Rousseau"},1234]
[{"$f":"'Base de données'!A17","v":"Francois"},1234]
[{"$f":"'Base de données'!A18","v":"Gracia"},1234]
[{"$f":"'Base de données'!A19","v":"Masson"},1234]
[{"$f":"'Base de données'!A20","v":"Robin"},1234]
[{"$f":"'Base de données'!A21","v":"Marchand"},1234]
[{"$f":"'Base de données'!A22","v":"Duval"},1234]
[{"$f":"'Base de données'!A23","v":"Azzz"},1234]
[{"$f":"'Base de données'!#REF!","v":{"$error":"#REF!"}},1234]
[{"$f":"'Base de données'!#REF!","v":{"$error":"#REF!"}},1234]
[{"$f":"'Base de données'!#REF!","v":{"$error":"#REF!"}},1234]
[{"$f":"'Base de données'!#REF!","v":{"$error":"#REF!"}},1234]
[{"$f":"'Base de données'!#REF!","v":{"$error":"#REF!"}},1234]
[{"$f":"'Base de données'!#REF!","v":{"$error":"#REF!"}},1234]
[{"$f":"'Base de données'!#REF!","v":{"$error":"#REF!"}},1234]
[{"$f":"'Base de données'!#REF!","v":{"$error":"#REF!"}},1234]
[{"$f":"'Base de données'!#REF!","v":{"$error":"#REF!"}},1234]
[{"$f":"'Base de données'!#REF!","v":{"$error":"#REF!"}},1234]
[{"$f":"'Base de données'!#REF!","v":{"$error":"#REF!"}},1234]
[{"$f":"'Base de données'!#REF!","v":{"$error":"#REF!"}},1234]
[{"$f":"'Base de données'!#REF!","v":{"$error":"#REF!"}},1234]
[{"$f":"'Base de données'!#REF!","v":{"$error":"#REF!"}},1234]
[{"$f":"'Base de données'!#REF!","v":{"$error":"#REF!"}},1234]
[{"$f":"'Base de données'!#REF!","v":{"$error":"#REF!"}},1234]
[{"$f":"'Base de données'!#REF!","v":{"$error":"#REF!"}},1234]
[{"$f":"'Base de données'!#REF!","v":{"$error":"#REF!"}},1234]
["LAHRABLI",1234]
["Karmouchi",1234]
["taha",1234]

{"sheet":"Sheet1","index":3,"n_rows":4,"n_cols":1,"rows_kept":4}
["1er msg: bienvenue"]
["2 choix: vs etes un passager / chauffeur"]
["si client : directement formulaire"]
["Chauffeur: remplis la BDD"]

{"sheet":"Feuil1","index":4,"n_rows":10,"n_cols":1,"rows_kept":10}
[1]
[{"$f":"A1+1","v":2}]
[{"$f":"A2+1","v":3}]
[4]
[5]
[6]
[7]
[8]
[9]
[10]