{"text_format":"3","workbook":"xlsx","n_sheets":6,"sheets":["Analyse","Indicateurs","Analyse S","stocks S1","Entrées S1","Sorties S1"],"not_rendered":{"charts":6,"macros":1,"external_links":3,"defined_names":5,"comments":2},"read":"whole","date_system":"1900"}

{"sheet":"Analyse","index":0,"n_rows":2758,"n_cols":102,"rows_kept":562,"cut":true,"bounds":{"rows_first":250,"rows_last":62,"rows_between":250,"halvings":3}}
[{"$nulls":3},0,{"$nulls":24},3321,4371,524536,{"$nulls":4},527,6066,519017,0,null,null,2419,2069,519301,{"$nulls":3},17731,5484,531492,{"$nulls":3},23679,2597,552890,{"$nulls":4},9353,1312,560774,{"$nulls":6},4496,7114,558327]
[{"$nulls":4},465991,1850,4877,528687,null,"141 Ref",null,403,3071,532162,null,"178 Ref",{"$nulls":5},77,5362,525478,null,"93 Ref",null,null,3346,4371,524536,{"$nulls":4},527,6066,519017,{"$nulls":3},2419,2069,519301,{"$nulls":3},17731,5484,531526,{"$nulls":3},23679,2597,552852,{"$nulls":4},9333,1312,560796,{"$nulls":6},4496,7114,558327]
["IPL / IPC\nde 07 2015","2763 Ref","Ref Fab (PNR)","Désignation","Stock fin S 40","Entrées S 41","Sorties S 41","Stock fin S 41","Stock S40 + E S41 - S S41","Ecart I - J","Remarques","Entrées S42","Sorties S42","Stocks fin S42","Stock S41 + E S42 - S S42","Ecart O - P","Remarques","Ref affectées a du stock INDUS",{"$nulls":3},"Entrées S43","Sorties S43","Stocks fin S43","Stock S42 + E S43 - S S43","Ecart X - Y","Remarques","Test somme P+Z","Entrées S44","Sorties S44","Stocks fin S44","Stock S43 + E S44 - S S44","Ecart AE - AF","Remarques",null,"Entrées S45","Sorties S45","Stocks fin S45","Stock S44 + E S45 - S S45","Ecart AL - AM","Remarques","Entrées S46","Sorties S46","Stocks fin S46","Stock S45 + E S46 - S S46","Ecart AR - AS","Remarques","Entrées S47","Sorties S47","Stocks fin S47","Stock S46 + E S47 - S S47","Ecart AX - AY","Remarques","Entrées S48","Sorties S48","Stocks fin S48","Stock S47 + E S48 - S S48","Ecart BD - BE","Remarques SN","Remarque AIA","Entrées S49","Sorties S49","Stocks fin S49","Stock S48 + E S49 - S S49","Ecart BJ- BK","Remarques SN","Remarque AIA","Point AIA/SN","Conclusion / ecart","Entrées S50","Sorties S50","Stocks fin S50","Stock S49 + E S50 - S S50","Ecart BT- BU","Remarques SN","Remarque AIA","Point AIA/SN","Conclusion / ecart","Entrées S51","Sorties S51","Stocks fin S51","Stock S50 + E S51 - S S51","Ecart CC- CD","Remarque AIA","Entrées S52","Sorties S52","Stocks fin S53","Stock S51 + E S52- S S52","Ecart CI- CJ","Remarque AIA","Entrées S01","Sorties S01","Stocks fin S01","Stock S53 + E S01- S 01","Ecart Co- Cp","Remarque AIA","Entrées S02","Sorties S02","Stocks fin S02","Stock S01 + E S02- S 02","Ecart CU- CV","Remarque AIA"]
[{"$error":"#N/A"},"Snecma","06003","EMBOUT A ROTULE",22,0,1,21,21,0,null,0,0,21,21,0,{"$nulls":5},0,0,21,21,0,null,null,0,0,21,21,0,null,null,0,0,21,21,0,null,29,0,50,50,0,null,0,0,50,50,0,null,51,0,101,101,0,null,null,0,5,96,96,0,{"$nulls":4},0,0,96,96,0,{"$nulls":4},0,2,{"$f":"VLOOKUP(C4,[1]TCD!$D:$E,2,0)","v":94},{"$f":"BT4+CA4-CB4","v":94},{"$f":"CC4-CD4","v":0},null,20,0,114,{"$f":"CC4+CG4-CH4","v":114},{"$f":"CI4-CJ4","v":0},null,0,0,114,{"$f":"CI4+CM4-CN4","v":114},{"$f":"CO4-CP4","v":0},null,0,0,114,{"$f":"CO4+CS4-CT4","v":114},{"$f":"CU4-CV4","v":0}]
["Oui","Snecma","25907","JOINT DE PYROMETRE",66,0,0,66,66,0,null,0,0,66,66,0,"Ecart de stock avec aucune entree ni sortie",null,"corrigé / format ref (nombre/texte)",null,null,0,0,66,66,0,null,null,0,0,66,66,0,null,null,0,0,66,66,0,null,0,0,66,66,0,null,0,0,66,66,0,null,0,0,66,66,0,null,null,0,0,66,66,0,{"$nulls":4},0,0,66,66,0,{"$nulls":4},0,0,{"$f":"VLOOKUP(C5,[1]TCD!$D:$E,2,0)","v":66},{"$f":"BT5+CA5-CB5","v":66},{"$f":"CC5-CD5","v":0},null,0,0,66,{"$f":"CC5+CG5-CH5","v":66},{"$f":"CI5-CJ5","v":0},null,0,0,66,{"$f":"CI5+CM5-CN5","v":66},{"$f":"CO5-CP5","v":0},null,0,0,66,{"$f":"CO5+CS5-CT5","v":66},{"$f":"CU5-CV5","v":0}]
["Oui",null,"70206",null,161,0,0,161,161,0,null,0,0,161,161,0,{"$nulls":5},0,0,161,161,0,null,null,0,0,161,161,0,null,null,0,0,161,161,0,null,0,0,161,161,0,null,0,0,161,161,0,null,0,0,161,161,0,null,null,0,0,161,161,0,{"$nulls":4},0,0,161,161,0,{"$nulls":4},0,0,{"$f":"VLOOKUP(C6,[1]TCD!$D:$E,2,0)","v":161},161,0,null,0,0,161,161,0,null,0,0,161,161,0,null,0,0,161,161,0]
["Oui","Snecma","70515","BOUCHON POUR SUB-MINIATURE",1,0,0,1,1,0,null,0,0,1,1,0,"Ecart de stock avec aucune entree ni sortie",null,"corrigé / format ref (nombre/texte)",null,null,0,0,1,1,0,null,null,0,0,1,1,0,null,null,0,0,1,1,0,null,0,0,1,1,0,null,0,0,1,1,0,null,0,0,1,1,0,null,null,0,0,1,1,0,{"$nulls":4},0,0,1,1,0,{"$nulls":4},0,0,{"$f":"VLOOKUP(C7,[1]TCD!$D:$E,2,0)","v":1},1,0,null,0,0,1,1,0,null,0,0,1,1,0,null,0,0,1,1,0]
["Oui","Snecma","602991","ROULEMANT A BILLES",36,0,0,36,36,0,null,0,2,34,34,0,{"$nulls":5},0,0,34,34,0,null,null,0,2,32,32,0,null,null,0,0,32,32,0,null,0,0,32,32,0,null,0,0,32,32,0,null,0,0,32,32,0,null,null,0,2,30,30,0,{"$nulls":4},0,0,30,30,0,{"$nulls":4},0,2,{"$f":"VLOOKUP(C8,[1]TCD!$D:$E,2,0)","v":28},28,0,null,0,0,28,28,0,null,0,2,26,26,0,null,0,2,24,24,0]
["Oui","Snecma","2000081","SERRE FIL",3310,0,0,3310,3310,0,null,0,0,3310,3310,0,"Ecart de stock avec aucune entree ni sortie",null,"corrigé / format ref (nombre/texte)",null,null,0,0,3310,3310,0,null,null,0,0,3310,3310,0,null,null,0,0,3310,3310,0,null,0,0,3310,3310,0,null,0,0,3310,3310,0,null,0,0,3310,3310,0,null,null,0,0,3310,3310,0,{"$nulls":4},0,0,3310,3310,0,{"$nulls":4},0,0,{"$f":"VLOOKUP(C9,[1]TCD!$D:$E,2,0)","v":3310},3310,0,null,0,0,3310,3310,0,null,0,0,3310,3310,0,null,0,0,3310,3310,0]
["Oui","Snecma","2010065","BAGUE PTFE",304,0,0,304,304,0,null,0,0,304,304,0,"Ecart de stock avec aucune entree ni sortie",null,"corrigé / format ref (nombre/texte)",null,null,0,0,304,304,0,null,null,0,0,304,304,0,null,null,0,0,304,304,0,null,0,0,304,304,0,null,0,0,304,304,0,null,0,0,304,304,0,null,null,0,0,304,304,0,{"$nulls":4},0,0,304,304,0,{"$nulls":4},0,0,{"$f":"VLOOKUP(C10,[1]TCD!$D:$E,2,0)","v":304},304,0,null,0,0,304,304,0,null,0,0,304,304,0,null,0,0,304,304,0]
["Oui","Snecma","3153008","COLLIER",519,0,10,509,509,0,null,0,0,509,509,0,"Ecart de stock avec aucune entree ni sortie",null,"corrigé / format ref (nombre/texte)",null,null,0,0,509,509,0,null,null,0,0,509,509,0,null,null,0,0,509,509,0,null,0,0,509,509,0,null,0,0,509,509,0,null,0,0,509,509,0,null,null,0,0,509,509,0,{"$nulls":4},0,0,509,509,0,{"$nulls":4},0,0,{"$f":"VLOOKUP(C11,[1]TCD!$D:$E,2,0)","v":509},509,0,null,0,0,509,509,0,null,0,0,509,509,0,null,0,0,509,509,0]
["Oui","Snecma","7290107",null,0,0,0,0,0,0,null,0,0,0,0,0,{"$nulls":5},0,0,0,0,0,null,null,0,0,0,0,0,null,null,0,0,0,0,0,null,0,0,0,0,0,null,0,0,0,0,0,null,0,0,0,0,0,null,null,0,0,0,0,0,{"$nulls":5},0,0,0,0,{"$nulls":4},0,0,0,0,0,null,0,0,0,0,0,null,0,0,0,0,0,null,0,0,0,0,0]
["Oui","Snecma","7440905","ECROU AUTOFREINANT",63,0,0,63,63,0,null,0,0,63,63,0,"Ecart de stock avec aucune entree ni sortie",null,"corrigé / format ref (nombre/texte)",null,null,0,0,63,63,0,null,null,0,0,63,63,0,null,null,0,0,63,63,0,null,0,0,63,63,0,null,0,0,63,63,0,null,0,0,63,63,0,null,null,0,0,63,63,0,{"$nulls":4},0,0,63,63,0,{"$nulls":4},0,0,{"$f":"VLOOKUP(C13,[1]TCD!$D:$E,2,0)","v":63},63,0,null,0,0,63,63,0,null,0,0,63,63,0,null,0,0,63,63,0]
["Oui","Snecma","8607570",null,0,0,0,0,0,0,null,0,0,0,0,0,{"$nulls":5},0,0,0,0,0,null,null,0,0,0,0,0,null,null,0,0,0,0,0,null,0,0,0,0,0,null,0,0,0,0,0,null,0,0,0,0,0,null,null,0,0,0,0,0,{"$nulls":5},0,0,0,0,{"$nulls":4},0,0,0,0,0,null,0,0,0,0,0,null,0,0,0,0,0,null,0,0,0,0,0]
["Oui","Snecma","37189001",null,72,0,0,72,72,0,null,0,0,72,72,0,"Ecart de stock avec aucune entree ni sortie",null,"corrigé / format ref (nombre/texte)",null,null,0,0,72,72,0,null,null,0,0,72,72,0,null,null,0,0,72,72,0,null,0,0,72,72,0,null,0,0,72,72,0,null,0,0,72,72,0,null,null,0,0,72,72,0,{"$nulls":4},0,0,72,72,0,{"$nulls":4},0,0,{"$f":"VLOOKUP(C15,[1]TCD!$D:$E,2,0)","v":72},72,0,null,0,0,72,72,0,null,0,0,72,72,0,null,0,0,72,72,0]
["Oui","Snecma","37199001",null,20,0,0,20,20,0,null,0,0,20,20,0,"Ecart de stock avec aucune entree ni sortie",null,"corrigé / format ref (nombre/texte)",null,null,0,0,20,20,0,null,null,0,0,20,20,0,null,null,0,0,20,20,0,null,0,0,20,20,0,null,0,0,20,20,0,null,0,0,20,20,0,null,null,0,0,20,20,0,{"$nulls":4},0,0,20,20,0,{"$nulls":4},0,0,{"$f":"VLOOKUP(C16,[1]TCD!$D:$E,2,0)","v":20},20,0,null,0,0,20,20,0,null,0,0,20,20,0,null,0,0,20,20,0]
["Oui","Snecma","01320040008",null,0,0,0,5300,0,5300,"Pas d' Entrées et pas de Sorties mais différence de Stock!",0,0,5300,5300,0,"Ecart de stock avec aucune entree ni sortie",{"$nulls":4},0,0,5300,5300,0,null,null,0,0,5300,5300,0,null,null,0,0,5300,5300,0,null,0,0,5300,5300,0,null,0,6,5294,5294,0,null,0,0,5294,5294,0,null,null,0,0,5294,5294,0,{"$nulls":4},3,0,5297,5297,0,{"$nulls":4},0,0,{"$f":"VLOOKUP(C17,[1]TCD!$D:$E,2,0)","v":5297},5297,0,null,0,0,5297,5297,0,null,0,0,5297,5297,0,null,0,0,5297,5297,0]
["Oui","Snecma","01320040009",null,0,0,0,0,0,0,null,0,0,0,0,0,{"$nulls":5},0,0,0,0,0,null,null,0,0,0,0,0,null,null,0,0,0,0,0,null,0,0,0,0,0,null,0,0,0,0,0,null,0,0,0,0,0,null,null,0,0,0,0,0,{"$nulls":5},0,0,0,0,{"$nulls":4},0,0,0,0,0,null,0,0,0,0,0,null,0,0,0,0,0,null,0,0,0,0,0]
["Oui","Snecma","01320050010","INSERT SCREW THREAD",0,0,0,1398,0,1398,null,0,0,1398,1398,0,{"$nulls":5},0,0,1398,1398,0,null,null,0,0,1398,1398,0,null,null,0,0,1398,1398,0,null,0,0,1398,1398,0,null,0,6,1392,1392,0,null,0,0,1392,1392,0,null,null,0,0,1392,1392,0,{"$nulls":4},0,0,1392,1392,0,{"$nulls":4},0,0,{"$f":"VLOOKUP(C19,[1]TCD!$D:$E,2,0)","v":1392},1392,0,null,0,0,1392,1392,0,null,0,0,1392,1392,0,null,0,0,1392,1392,0]
["Oui","Snecma","01320050015",null,0,0,0,200,0,200,null,0,0,200,200,0,{"$nulls":5},0,0,200,200,0,null,null,0,0,200,200,0,null,null,0,0,200,200,0,null,0,0,200,200,0,null,0,0,200,200,0,null,0,0,200,200,0,null,null,0,0,200,200,0,{"$nulls":4},0,0,200,200,0,{"$nulls":4},0,0,{"$f":"VLOOKUP(C20,[1]TCD!$D:$E,2,0)","v":200},200,0,null,0,0,200,200,0,null,0,0,200,200,0,null,0,0,200,200,0]
["Oui","Snecma","01320050075","INSERT, SCREW THREAD",0,0,0,4154,0,4154,null,0,0,4154,4154,0,"Ecart de stock avec aucune entree ni sortie",{"$nulls":4},0,0,4154,4154,0,null,null,0,0,4154,4154,0,null,null,0,0,4154,4154,0,null,0,0,4154,4154,0,null,0,0,4154,4154,0,null,0,0,4154,4154,0,null,null,0,0,4154,4154,0,{"$nulls":4},6,0,4160,4160,0,{"$nulls":4},0,0,{"$f":"VLOOKUP(C21,[1]TCD!$D:$E,2,0)","v":4160},4160,0,null,0,0,4160,4160,0,null,0,0,4160,4160,0,null,0,0,4160,4160,0]
["Oui","Snecma","01320060012","INSERT",1037,0,4,2266,1033,1233,null,0,0,2266,2266,0,{"$nulls":5},0,0,2266,2266,0,null,null,2,0,2268,2268,0,null,null,0,0,2268,2268,0,null,0,0,2268,2268,0,null,0,0,2268,2268,0,null,0,0,2268,2268,0,null,null,0,0,2268,2268,0,{"$nulls":4},0,0,2268,2268,0,{"$nulls":4},0,0,{"$f":"VLOOKUP(C22,[1]TCD!$D:$E,2,0)","v":2268},2268,0,null,0,0,2268,2268,0,null,0,0,2268,2268,0,null,0,0,2268,2268,0]
["Oui","Snecma","01329050503","INSERT HELICAL COIL",1773,0,0,1773,1773,0,null,0,0,1773,1773,0,"Ecart de stock avec aucune entree ni sortie",null,"corrigé / format ref (nombre/texte)",null,null,0,0,1773,1773,0,null,null,0,0,1773,1773,0,null,null,0,0,1773,1773,0,null,0,0,1773,1773,0,null,0,0,1773,1773,0,null,0,0,1773,1773,0,null,null,0,0,1773,1773,0,{"$nulls":4},0,0,1773,1773,0,{"$nulls":4},0,0,{"$f":"VLOOKUP(C23,[1]TCD!$D:$E,2,0)","v":1773},1773,0,null,0,0,1773,1773,0,null,0,0,1773,1773,0,null,0,0,1773,1773,0]
[{"$error":"#N/A"},null,"9794410112",null,20,0,0,20,20,0,null,0,0,20,20,0,{"$nulls":5},0,0,20,20,0,null,null,0,0,20,20,0,null,null,0,0,20,20,0,null,0,0,20,20,0,null,0,0,20,20,0,null,0,0,20,20,0,null,null,0,0,20,20,0,{"$nulls":4},0,0,20,20,0,{"$nulls":4},0,0,{"$f":"VLOOKUP(C24,[1]TCD!$D:$E,2,0)","v":20},20,0,null,0,0,20,20,0,null,0,0,20,20,0,null,0,0,20,20,0]
[null,null,"41320050010","FILET RAP",3681,0,0,3681,3681,0,null,0,0,3681,3681,0,{"$nulls":5},0,0,3681,3681,0,null,null,0,0,3681,3681,0,null,null,0,0,3681,3681,0,null,0,0,3681,3681,0,null,0,0,3681,3681,0,null,0,0,3681,3681,0,null,null,0,0,3681,3681,0,{"$nulls":4},0,0,3681,3681,0,{"$nulls":4},0,0,{"$f":"VLOOKUP(C25,[1]TCD!$D:$E,2,0)","v":3681},3681,0,null,0,0,3681,3681,0,null,0,0,3681,3681,0,null,0,0,3681,3681,0]
["Oui","Snecma",41320050125,null,0,0,0,0,0,0,null,0,0,0,0,0,{"$nulls":5},0,0,0,0,0,null,null,0,0,0,0,0,null,null,0,0,0,0,0,null,0,0,0,0,0,null,0,0,0,0,0,null,0,0,0,0,0,null,null,0,0,0,0,0,{"$nulls":5},0,0,0,0,{"$nulls":4},0,0,0,0,0,null,0,0,0,0,0,null,0,0,0,0,0,null,0,0,0,0,0]
["Oui","AIA","0-0031819-0",null,458,0,0,458,458,0,null,0,0,458,458,0,{"$nulls":5},0,0,458,458,0,null,null,0,0,458,458,0,null,null,0,0,458,458,0,null,0,0,458,458,0,null,0,0,458,458,0,null,0,0,458,458,0,null,null,0,0,458,458,0,{"$nulls":4},0,0,458,458,0,{"$nulls":4},0,0,{"$f":"VLOOKUP(C27,[1]TCD!$D:$E,2,0)","v":458},458,0,null,0,0,458,458,0,null,0,0,458,458,0,null,0,0,458,458,0]
["Oui","AIA","0-0036490-0",null,448,0,0,448,448,0,null,0,0,448,448,0,{"$nulls":5},0,0,448,448,0,null,null,0,0,448,448,0,null,null,0,0,448,448,0,null,0,0,448,448,0,null,0,0,448,448,0,null,0,0,448,448,0,null,null,0,0,448,448,0,{"$nulls":4},0,0,448,448,0,{"$nulls":4},0,0,{"$f":"VLOOKUP(C28,[1]TCD!$D:$E,2,0)","v":448},448,0,null,0,0,448,448,0,null,0,0,448,448,0,null,0,0,448,448,0]
["Oui","AIA","006-0912-16",null,100,0,0,100,100,0,null,0,0,100,100,0,{"$nulls":5},0,0,100,100,0,null,null,0,0,100,100,0,null,null,0,0,100,100,0,null,0,0,100,100,0,null,0,0,100,100,0,null,0,0,100,100,0,null,null,0,0,100,100,0,{"$nulls":4},0,0,100,100,0,{"$nulls":4},0,0,{"$f":"VLOOKUP(C29,[1]TCD!$D:$E,2,0)","v":100},100,0,null,0,0,100,100,0,null,0,0,100,100,0,null,0,0,100,100,0]
["Oui","AIA","006-0912-20",null,100,0,0,100,100,0,null,0,0,100,100,0,{"$nulls":5},0,0,100,100,0,null,null,0,0,100,100,0,null,null,0,0,100,100,0,null,0,0,100,100,0,null,0,0,100,100,0,null,0,0,100,100,0,null,null,0,0,100,100,0,{"$nulls":4},0,0,100,100,0,{"$nulls":4},0,0,{"$f":"VLOOKUP(C30,[1]TCD!$D:$E,2,0)","v":100},100,0,null,0,0,100,100,0,null,0,0,100,100,0,null,0,0,100,100,0]
["Oui","AIA","006-0937-16",null,100,0,0,100,100,0,null,0,0,100,100,0,{"$nulls":5},0,0,100,100,0,null,null,0,0,100,100,0,null,null,0,0,100,100,0,null,0,0,100,100,0,null,0,0,100,100,0,null,0,0,100,100,0,null,null,0,0,100,100,0,{"$nulls":4},0,0,100,100,0,{"$nulls":4},0,0,{"$f":"VLOOKUP(C31,[1]TCD!$D:$E,2,0)","v":100},100,0,null,0,0,100,100,0,null,0,0,100,100,0,null,0,0,100,100,0]
["Oui","AIA","006-0937-20",null,3823,0,0,3823,3823,0,null,0,0,3823,3823,0,{"$nulls":5},0,12,3811,3811,0,null,null,0,6,3805,3805,0,null,null,0,36,3769,3769,0,null,0,0,3769,3769,0,null,0,0,3769,3769,0,null,0,40,3729,3729,0,null,null,0,12,3717,3717,0,{"$nulls":4},0,41,3676,3676,0,{"$nulls":4},0,42,{"$f":"VLOOKUP(C32,[1]TCD!$D:$E,2,0)","v":3634},3634,0,null,0,0,3634,3634,0,null,0,18,3616,3616,0,null,0,12,3604,3604,0]
[null,"AIA","01KS0001","PION",0,0,0,0,0,0,null,0,0,37,0,37,"Pas perimetre SN",{"$nulls":4},0,0,0,37,-37,"sorti du fichier S43 car hors périmètre",null,0,0,0,0,0,null,null,0,0,0,0,0,null,0,0,0,0,0,null,0,0,0,0,0,null,0,0,0,0,0,null,null,0,0,0,0,0,{"$nulls":5},0,0,0,0,{"$nulls":4},0,0,0,0,0,null,0,0,0,0,0,null,0,0,0,0,0,null,0,0,0,0,0]
[null,"AIA","01KS0011","DOUILLE POUR REP 17-80217",0,0,0,0,0,0,null,0,0,236,0,236,"Pas perimetre SN",{"$nulls":4},0,0,0,236,-236,"sorti du fichier S43 car hors périmètre",null,0,0,0,0,0,null,null,0,0,0,0,0,null,0,0,0,0,0,null,0,0,0,0,0,null,0,0,0,0,0,null,null,0,0,0,0,0,{"$nulls":5},0,0,0,0,{"$nulls":4},0,0,0,0,0,null,0,0,0,0,0,null,0,0,0,0,0,null,0,0,0,0,0]
["Oui","Snecma","0200/SPEC/00/F93768",null,0,0,0,0,0,0,null,0,0,0,0,0,{"$nulls":5},0,0,0,0,0,null,null,0,0,0,0,0,null,null,0,0,0,0,0,null,0,0,0,0,0,null,0,0,0,0,0,null,0,0,0,0,0,null,null,0,0,0,0,0,{"$nulls":5},0,0,0,0,{"$nulls":4},0,0,0,0,0,null,0,0,0,0,0,null,0,0,0,0,0,null,0,0,0,0,0]
["Oui","Snecma","0290/SPEC//FJ3730",null,0,0,0,0,0,0,null,0,0,0,0,0,{"$nulls":5},0,0,0,0,0,null,null,0,0,0,0,0,null,null,0,0,0,0,0,null,0,0,0,0,0,null,0,0,0,0,0,null,0,0,0,0,0,null,null,0,0,0,0,0,{"$nulls":5},0,0,0,0,{"$nulls":4},0,0,0,0,0,null,0,0,0,0,0,null,0,0,0,0,0,null,0,0,0,0,0]
[null,"AIA","03KS0001","BAGUE",0,0,0,0,0,0,null,0,0,2,0,2,"Pas perimetre SN",{"$nulls":4},0,0,0,2,-2,"sorti du fichier S43 car hors périmètre",null,0,0,0,0,0,null,null,0,0,0,0,0,null,0,0,0,0,0,null,0,0,0,0,0,null,0,0,0,0,0,null,null,0,0,0,0,0,{"$nulls":5},0,0,0,0,{"$nulls":4},0,0,0,0,0,null,0,0,0,0,0,null,0,0,0,0,0,null,0,0,0,0,0]
["Oui",null,"058-000-604-6","DIAPHRAGME ASSEMBLE",0,0,0,0,0,0,null,0,0,0,0,0,{"$nulls":5},0,0,0,0,0,null,null,0,0,0,0,0,null,null,0,0,0,0,0,null,0,0,0,0,0,null,0,0,0,0,0,null,0,0,0,0,0,null,null,0,0,0,0,0,{"$nulls":5},0,0,0,0,{"$nulls":4},0,0,0,0,0,null,0,0,0,0,0,null,0,0,0,0,0,null,0,0,0,0,0]
["Oui","Snecma","058-001-302-6","JOINT",13,0,0,13,13,0,null,0,0,13,13,0,{"$nulls":5},0,0,13,13,0,null,null,0,0,13,13,0,null,null,0,0,13,13,0,null,0,0,13,13,0,null,0,0,13,13,0,null,0,0,13,13,0,null,null,0,0,13,13,0,{"$nulls":4},0,0,13,13,0,{"$nulls":4},0,0,{"$f":"VLOOKUP(C39,[1]TCD!$D:$E,2,0)","v":13},13,0,null,0,0,13,13,0,null,0,0,13,13,0,null,0,0,13,13,0]
["Oui","Snecma","058-001-901-6",null,0,0,0,0,0,0,null,0,0,0,0,0,{"$nulls":5},0,0,0,0,0,null,null,0,0,0,0,0,null,null,0,0,0,0,0,null,0,0,0,0,0,null,0,0,0,0,0,null,0,0,0,0,0,null,null,0,0,0,0,0,{"$nulls":5},0,0,0,0,{"$nulls":4},0,0,0,0,0,null,0,0,0,0,0,null,0,0,0,0,0,null,0,0,0,0,0]
["Oui","Snecma","058-001-902-6","CARENAGE EXTER ASSEMBLE",0,0,0,0,0,0,null,0,0,0,0,0,{"$nulls":5},0,0,0,0,0,null,null,0,0,0,0,0,null,null,0,0,0,0,0,null,0,0,0,0,0,null,0,0,0,0,0,null,0,0,0,0,0,null,null,0,0,0,0,0,{"$nulls":5},0,0,0,0,{"$nulls":4},0,0,0,0,0,null,0,0,0,0,0,null,0,0,0,0,0,null,0,0,0,0,0]
["Oui","Snecma","058-002-003-6",null,1342,0,0,1342,1342,0,null,0,0,1342,1342,0,{"$nulls":5},0,0,1342,1342,0,null,null,0,0,1342,1342,0,null,null,0,0,1342,1342,0,null,0,0,1342,1342,0,null,0,0,1342,1342,0,null,0,0,1342,1342,0,null,null,0,0,1342,1342,0,{"$nulls":4},0,0,1342,1342,0,{"$nulls":4},0,0,{"$f":"VLOOKUP(C42,[1]TCD!$D:$E,2,0)","v":1342},1342,0,null,0,0,1342,1342,0,null,0,0,1342,1342,0,null,0,0,1342,1342,0]
["Oui","Snecma","058-002-005-6",null,210,0,0,210,210,0,null,0,0,210,210,0,{"$nulls":5},0,0,210,210,0,null,null,0,0,210,210,0,null,null,0,0,210,210,0,null,0,0,210,210,0,null,0,0,210,210,0,null,0,0,210,210,0,null,null,0,0,210,210,0,{"$nulls":4},0,0,210,210,0,{"$nulls":4},0,0,{"$f":"VLOOKUP(C43,[1]TCD!$D:$E,2,0)","v":210},210,0,null,0,0,210,210,0,null,0,0,210,210,0,null,0,0,210,210,0]
["Oui","Snecma","058-004-001-6","TUBE EQUIPE",20,0,0,20,20,0,null,0,0,20,20,0,{"$nulls":5},0,0,20,20,0,null,null,0,0,20,20,0,null,null,0,2,18,18,0,null,5,0,23,23,0,null,0,0,23,23,0,null,0,2,21,21,0,null,null,0,3,18,18,0,{"$nulls":4},0,0,18,18,0,{"$nulls":4},0,0,{"$f":"VLOOKUP(C44,[1]TCD!$D:$E,2,0)","v":18},18,0,null,0,0,18,18,0,null,0,0,18,18,0,null,0,2,16,16,0]
["Oui","Snecma","058-004-201-6","COUDE EQUIPE",27,0,0,27,27,0,null,0,1,26,26,0,{"$nulls":5},0,1,25,25,0,null,null,0,2,23,23,0,null,null,0,4,19,19,0,null,0,0,19,19,0,null,0,0,19,19,0,null,0,0,19,19,0,null,null,0,3,16,16,0,{"$nulls":4},2,0,18,18,0,{"$nulls":4},0,0,{"$f":"VLOOKUP(C45,[1]TCD!$D:$E,2,0)","v":18},18,0,null,0,0,18,18,0,null,64,0,82,82,0,null,0,2,80,80,0]
["Oui","Snecma","058-004-301-6","COUDE EQUIPE",10,0,0,10,10,0,null,0,0,10,10,0,{"$nulls":5},0,0,10,10,0,null,null,1,0,11,11,0,null,null,0,2,9,9,0,null,0,0,9,9,0,null,90,0,99,99,0,null,0,0,99,99,0,null,null,0,1,98,98,0,{"$nulls":4},0,0,98,98,0,{"$nulls":4},0,0,{"$f":"VLOOKUP(C46,[1]TCD!$D:$E,2,0)","v":98},98,0,null,0,0,98,98,0,null,0,0,98,98,0,null,0,2,96,96,0]
["Oui","Snecma","058-004-601-6","TUBE EQUIPE",45,0,0,45,45,0,null,0,0,45,45,0,{"$nulls":5},0,0,45,45,0,null,null,0,0,45,45,0,null,null,0,3,42,42,0,null,9,0,51,51,0,null,0,0,51,51,0,null,0,1,50,50,0,null,null,58,2,106,106,0,{"$nulls":4},0,0,106,106,0,{"$nulls":4},0,0,{"$f":"VLOOKUP(C47,[1]TCD!$D:$E,2,0)","v":106},106,0,null,0,0,106,106,0,null,0,0,106,106,0,null,0,2,104,104,0]
["Oui","Snecma","058-011-301-0",null,20,0,0,20,20,0,null,0,0,20,20,0,{"$nulls":5},0,0,20,20,0,null,null,0,0,20,20,0,null,null,0,0,20,20,0,null,0,0,20,20,0,null,0,0,20,20,0,null,0,0,20,20,0,null,null,0,0,20,20,0,{"$nulls":4},0,0,20,20,0,{"$nulls":4},0,0,{"$f":"VLOOKUP(C48,[1]TCD!$D:$E,2,0)","v":20},20,0,null,0,0,20,20,0,null,0,0,20,20,0,null,0,0,20,20,0]
["Oui",null,"058-011-503-0","BOL EQUIPE",0,0,0,0,0,0,"N'était pas chargée dans la base d'extraction Saphir",0,0,0,0,0,{"$nulls":5},0,0,0,0,0,null,null,0,0,0,0,0,null,null,0,0,0,0,0,null,0,0,0,0,0,null,0,0,0,0,0,"N'était pas chargée dans la base d'extraction Saphir",0,0,23,0,23,"ecart mesuré","OK Nouvelle réf",0,0,23,23,0,{"$nulls":4},0,0,23,23,0,{"$nulls":4},0,0,{"$f":"VLOOKUP(C49,[1]TCD!$D:$E,2,0)","v":23},23,0,null,0,0,23,23,0,null,0,0,23,23,0,null,0,0,23,23,0]
["Oui","Snecma","058-011-607-6",null,0,0,0,0,0,0,null,0,0,0,0,0,{"$nulls":5},0,0,0,0,0,null,null,0,0,0,0,0,null,null,0,0,0,0,0,null,0,0,0,0,0,null,0,0,0,0,0,null,0,0,0,0,0,null,null,0,0,0,0,0,{"$nulls":5},0,0,0,0,{"$nulls":4},0,0,0,0,0,null,0,0,0,0,0,null,0,0,0,0,0,null,0,0,0,0,0]
["Oui","Snecma","058-011-608-6","PAROI EXTER ASSEMBLEE",0,0,0,0,0,0,null,0,0,0,0,0,{"$nulls":5},0,0,0,0,0,null,null,0,0,0,0,0,null,null,0,0,0,0,0,null,0,0,0,0,0,null,0,0,0,0,0,null,0,0,0,0,0,null,null,0,0,0,0,0,{"$nulls":5},0,0,0,0,{"$nulls":4},0,0,0,0,0,null,0,0,0,0,0,null,0,0,0,0,0,null,0,0,0,0,0]
[{"$error":"#N/A"},"AIA","058-021-001-6",null,2,0,0,2,2,0,null,0,0,2,2,0,{"$nulls":5},0,0,2,2,0,null,null,0,0,2,2,0,null,null,0,0,2,2,0,null,0,0,2,2,0,null,0,0,2,2,0,null,0,0,2,2,0,null,null,0,0,2,2,0,{"$nulls":4},0,0,2,2,0,{"$nulls":4},0,0,{"$f":"VLOOKUP(C52,[1]TCD!$D:$E,2,0)","v":2},2,0,null,0,0,2,2,0,null,0,0,2,2,0,null,0,0,2,2,0]
[{"$error":"#N/A"},"AIA","058-021-102-6",null,2,0,0,2,2,0,null,0,0,2,2,0,{"$nulls":5},0,0,2,2,0,null,null,0,0,2,2,0,null,null,0,0,2,2,0,null,0,0,2,2,0,null,0,0,2,2,0,null,0,0,2,2,0,null,null,0,0,2,2,0,{"$nulls":4},0,0,2,2,0,{"$nulls":4},0,0,{"$f":"VLOOKUP(C53,[1]TCD!$D:$E,2,0)","v":2},2,0,null,0,0,2,2,0,null,0,0,2,2,0,null,0,0,2,2,0]
["Oui","Snecma","058-600-101-6","KIT PS23",28,0,0,28,28,0,null,0,0,28,28,0,{"$nulls":5},0,0,28,28,0,null,null,0,1,27,27,0,null,null,0,1,26,26,0,null,0,0,26,26,0,null,0,0,26,26,0,null,0,0,26,26,0,null,null,0,6,20,20,0,{"$nulls":4},0,2,18,18,0,{"$nulls":4},0,1,{"$f":"VLOOKUP(C54,[1]TCD!$D:$E,2,0)","v":17},17,0,null,0,0,17,17,0,null,0,0,17,17,0,null,0,0,17,17,0]
["Oui","Snecma","093-360-004-0",null,0,0,0,0,0,0,null,0,0,0,0,0,{"$nulls":5},0,0,0,0,0,null,null,0,0,0,0,0,null,null,0,0,0,0,0,null,0,0,0,0,0,null,0,0,0,0,0,null,0,0,0,0,0,null,null,0,0,0,0,0,{"$nulls":5},0,0,0,0,{"$nulls":4},0,0,0,0,0,null,0,0,0,0,0,null,0,0,0,0,0,null,0,0,0,0,0]
["Oui","Snecma","093-360-007-0",null,0,0,0,0,0,0,null,0,0,0,0,0,{"$nulls":5},0,0,0,0,0,null,null,0,0,0,0,0,null,null,0,0,0,0,0,null,0,0,0,0,0,null,0,0,0,0,0,null,0,0,0,0,0,null,null,0,0,0,0,0,{"$nulls":5},0,0,0,0,{"$nulls":4},0,0,0,0,0,null,0,0,0,0,0,null,0,0,0,0,0,null,0,0,0,0,0]
["Oui","Snecma","093-360-009-0",null,0,0,0,0,0,0,null,0,0,0,0,0,{"$nulls":5},0,0,0,0,0,null,null,0,0,0,0,0,null,null,0,0,0,0,0,null,0,0,0,0,0,null,0,0,0,0,0,null,0,0,0,0,0,null,null,0,0,0,0,0,{"$nulls":5},0,0,0,0,{"$nulls":4},0,0,0,0,0,null,0,0,0,0,0,null,0,0,0,0,0,null,0,0,0,0,0]
["Oui","Snecma","093-360-010-0",null,0,0,0,0,0,0,null,0,0,0,0,0,{"$nulls":5},0,0,0,0,0,null,null,0,0,0,0,0,null,null,0,0,0,0,0,null,0,0,0,0,0,null,0,0,0,0,0,null,0,0,0,0,0,null,null,0,0,0,0,0,{"$nulls":5},0,0,0,0,{"$nulls":4},0,0,0,0,0,null,0,0,0,0,0,null,0,0,0,0,0,null,0,0,0,0,0]
["Oui","Snecma","093-360-011-0",null,0,0,0,0,0,0,null,0,0,0,0,0,{"$nulls":5},0,0,0,0,0,null,null,0,0,0,0,0,null,null,0,0,0,0,0,null,0,0,0,0,0,null,0,0,0,0,0,null,0,0,0,0,0,null,null,0,0,0,0,0,{"$nulls":5},0,0,0,0,{"$nulls":4},0,0,0,0,0,null,0,0,0,0,0,null,0,0,0,0,0,null,0,0,0,0,0]
["Oui","Snecma","093-360-012-0",null,0,0,0,0,0,0,null,0,0,0,0,0,{"$nulls":5},0,0,0,0,0,null,null,0,0,0,0,0,null,null,0,0,0,0,0,null,0,0,0,0,0,null,0,0,0,0,0,null,0,0,0,0,0,null,null,0,0,0,0,0,{"$nulls":5},0,0,0,0,{"$nulls":4},0,0,0,0,0,null,0,0,0,0,0,null,0,0,0,0,0,null,0,0,0,0,0]
["Oui","Snecma","093-360-013-0",null,0,0,0,0,0,0,null,0,0,0,0,0,{"$nulls":5},0,0,0,0,0,null,null,0,0,0,0,0,null,null,0,0,0,0,0,null,0,0,0,0,0,null,0,0,0,0,0,null,0,0,0,0,0,null,null,0,0,0,0,0,{"$nulls":5},0,0,0,0,{"$nulls":4},0,0,0,0,0,null,0,0,0,0,0,null,0,0,0,0,0,null,0,0,0,0,0]
["Oui","Snecma","093-360-014-0",null,0,0,0,0,0,0,null,0,0,0,0,0,{"$nulls":5},0,0,0,0,0,null,null,0,0,0,0,0,null,null,0,0,0,0,0,null,0,0,0,0,0,null,0,0,0,0,0,null,0,0,0,0,0,null,null,0,0,0,0,0,{"$nulls":5},0,0,0,0,{"$nulls":4},0,0,0,0,0,null,0,0,0,0,0,null,0,0,0,0,0,null,0,0,0,0,0]
["Oui","Snecma","093-360-015-0",null,0,0,0,0,0,0,null,0,0,0,0,0,{"$nulls":5},0,0,0,0,0,null,null,0,0,0,0,0,null,null,0,0,0,0,0,null,0,0,0,0,0,null,0,0,0,0,0,null,0,0,0,0,0,null,null,0,0,0,0,0,{"$nulls":5},0,0,0,0,{"$nulls":4},0,0,0,0,0,null,0,0,0,0,0,null,0,0,0,0,0,null,0,0,0,0,0]
["Oui","Snecma","093-360-016-0",null,0,0,0,0,0,0,null,0,0,0,0,0,{"$nulls":5},0,0,0,0,0,null,null,0,0,0,0,0,null,null,0,0,0,0,0,null,0,0,0,0,0,null,0,0,0,0,0,null,0,0,0,0,0,null,null,0,0,0,0,0,{"$nulls":5},0,0,0,0,{"$nulls":4},0,0,0,0,0,null,0,0,0,0,0,null,0,0,0,0,0,null,0,0,0,0,0]
["Oui","Snecma","093-360-017-0",null,0,0,0,0,0,0,null,0,0,0,0,0,{"$nulls":5},0,0,0,0,0,null,null,0,0,0,0,0,null,null,0,0,0,0,0,null,0,0,0,0,0,null,0,0,0,0,0,null,0,0,0,0,0,null,null,0,0,0,0,0,{"$nulls":5},0,0,0,0,{"$nulls":4},0,0,0,0,0,null,0,0,0,0,0,null,0,0,0,0,0,null,0,0,0,0,0]
["Oui","Snecma","093-360-018-0",null,0,0,0,0,0,0,null,0,0,0,0,0,{"$nulls":5},0,0,0,0,0,null,null,0,0,0,0,0,null,null,0,0,0,0,0,null,0,0,0,0,0,null,0,0,0,0,0,null,0,0,0,0,0,null,null,0,0,0,0,0,{"$nulls":5},0,0,0,0,{"$nulls":4},0,0,0,0,0,null,0,0,0,0,0,null,0,0,0,0,0,null,0,0,0,0,0]
["Oui","Snecma","093-360-019-0",null,0,0,0,0,0,0,null,0,0,0,0,0,{"$nulls":5},0,0,0,0,0,null,null,0,0,0,0,0,null,null,0,0,0,0,0,null,0,0,0,0,0,null,0,0,0,0,0,null,0,0,0,0,0,null,null,0,0,0,0,0,{"$nulls":5},0,0,0,0,{"$nulls":4},0,0,0,0,0,null,0,0,0,0,0,null,0,0,0,0,0,null,0,0,0,0,0]
["Oui","Snecma","093-360-020-0",null,0,0,0,0,0,0,null,0,0,0,0,0,{"$nulls":5},0,0,0,0,0,null,null,0,0,0,0,0,null,null,0,0,0,0,0,null,0,0,0,0,0,null,0,0,0,0,0,null,0,0,0,0,0,null,null,0,0,0,0,0,{"$nulls":5},0,0,0,0,{"$nulls":4},0,0,0,0,0,null,0,0,0,0,0,null,0,0,0,0,0,null,0,0,0,0,0]
["Oui","Snecma","093-360-021-0",null,0,0,0,0,0,0,null,0,0,0,0,0,{"$nulls":5},0,0,0,0,0,null,null,0,0,0,0,0,null,null,0,0,0,0,0,null,0,0,0,0,0,null,0,0,0,0,0,null,0,0,0,0,0,null,null,0,0,0,0,0,{"$nulls":5},0,0,0,0,{"$nulls":4},0,0,0,{"$f":"BT69+CA69-CB69","v":0},{"$f":"CC69-CD69","v":0},null,0,0,0,{"$f":"CC69+CG69-CH69","v":0},{"$f":"CI69-CJ69","v":0},null,0,0,0,{"$f":"CI69+CM69-CN69","v":0},{"$f":"CO69-CP69","v":0},null,0,0,0,{"$f":"CO69+CS69-CT69","v":0},{"$f":"CU69-CV69","v":0}]
["Oui","Snecma","093-360-022-0",null,0,0,0,0,0,0,null,0,0,0,0,0,{"$nulls":5},0,0,0,0,0,null,null,0,0,0,0,0,null,null,0,0,0,0,0,null,0,0,0,0,0,null,0,0,0,0,0,null,0,0,0,0,0,null,null,0,0,0,0,0,{"$nulls":5},0,0,0,0,{"$nulls":4},0,0,0,0,0,null,0,0,0,0,0,null,0,0,0,0,0,null,0,0,0,0,0]
["Oui","Snecma","093-360-023-0",null,0,0,0,0,0,0,null,0,0,0,0,0,{"$nulls":5},0,0,0,0,0,null,null,0,0,0,0,0,null,null,0,0,0,0,0,null,0,0,0,0,0,null,0,0,0,0,0,null,0,0,0,0,0,null,null,0,0,0,0,0,{"$nulls":5},0,0,0,0,{"$nulls":4},0,0,0,0,0,null,0,0,0,0,0,null,0,0,0,0,0,null,0,0,0,0,0]
["Oui","Snecma","093-360-024-0",null,0,0,0,0,0,0,null,0,0,0,0,0,{"$nulls":5},0,0,0,0,0,null,null,0,0,0,0,0,null,null,0,0,0,0,0,null,0,0,0,0,0,null,0,0,0,0,0,null,0,0,0,0,0,null,null,0,0,0,0,0,{"$nulls":5},0,0,0,0,{"$nulls":4},0,0,0,0,0,null,0,0,0,0,0,null,0,0,0,0,0,null,0,0,0,0,0]
["Oui","Snecma","093-360-025-0",null,0,0,0,0,0,0,null,0,0,0,0,0,{"$nulls":5},0,0,0,0,0,null,null,0,0,0,0,0,null,null,0,0,0,0,0,null,0,0,0,0,0,null,0,0,0,0,0,null,0,0,0,0,0,null,null,0,0,0,0,0,{"$nulls":5},0,0,0,0,{"$nulls":4},0,0,0,0,0,null,0,0,0,0,0,null,0,0,0,0,0,null,0,0,0,0,0]
["Oui","Snecma","093-360-026-0",null,0,0,0,0,0,0,null,0,0,0,0,0,{"$nulls":5},0,0,0,0,0,null,null,0,0,0,0,0,null,null,0,0,0,0,0,null,0,0,0,0,0,null,0,0,0,0,0,null,0,0,0,0,0,null,null,0,0,0,0,0,{"$nulls":5},0,0,0,0,{"$nulls":4},0,0,0,0,0,null,0,0,0,0,0,null,0,0,0,0,0,null,0,0,0,0,0]
["Oui","Snecma","093-360-027-0",null,0,0,0,0,0,0,null,0,0,0,0,0,{"$nulls":5},0,0,0,0,0,null,null,0,0,0,0,0,null,null,0,0,0,0,0,null,0,0,0,0,0,null,0,0,0,0,0,null,0,0,0,0,0,null,null,0,0,0,0,0,{"$nulls":5},0,0,0,0,{"$nulls":4},0,0,0,0,0,null,0,0,0,0,0,null,0,0,0,0,0,null,0,0,0,0,0]
["Oui","Snecma","093-360-028-0",null,0,0,0,0,0,0,null,0,0,0,0,0,{"$nulls":5},0,0,0,0,0,null,null,0,0,0,0,0,null,null,0,0,0,0,0,null,0,0,0,0,0,null,0,0,0,0,0,null,0,0,0,0,0,null,null,0,0,0,0,0,{"$nulls":5},0,0,0,0,{"$nulls":4},0,0,0,0,0,null,0,0,0,0,0,null,0,0,0,0,0,null,0,0,0,0,0]
["Oui","Snecma","093-360-029-0",null,0,0,0,0,0,0,null,0,0,0,0,0,{"$nulls":5},0,0,0,0,0,null,null,0,0,0,0,0,null,null,0,0,0,0,0,null,0,0,0,0,0,null,0,0,0,0,0,null,0,0,0,0,0,null,null,0,0,0,0,0,{"$nulls":5},0,0,0,0,{"$nulls":4},0,0,0,0,0,null,0,0,0,0,0,null,0,0,0,0,0,null,0,0,0,0,0]
["Oui","Snecma","093-360-030-0",null,0,0,0,0,0,0,null,0,0,0,0,0,{"$nulls":5},0,0,0,0,0,null,null,0,0,0,0,0,null,null,0,0,0,0,0,null,0,0,0,0,0,null,0,0,0,0,0,null,0,0,0,0,0,null,null,0,0,0,0,0,{"$nulls":5},0,0,0,0,{"$nulls":4},0,0,0,0,0,null,0,0,0,0,0,null,0,0,0,0,0,null,0,0,0,0,0]
["Oui","Snecma","093-360-031-0",null,0,0,0,0,0,0,null,0,0,0,0,0,{"$nulls":5},0,0,0,0,0,null,null,0,0,0,0,0,null,null,0,0,0,0,0,null,0,0,0,0,0,null,0,0,0,0,0,null,0,0,0,0,0,null,null,0,0,0,0,0,{"$nulls":5},0,0,0,0,{"$nulls":4},0,0,0,0,0,null,0,0,0,0,0,null,0,0,0,0,0,null,0,0,0,0,0]
["Oui","Snecma","093-360-033-0",null,0,0,0,0,0,0,null,0,0,0,0,0,{"$nulls":5},0,0,0,0,0,null,null,0,0,0,0,0,null,null,0,0,0,0,0,null,0,0,0,0,0,null,0,0,0,0,0,null,0,0,0,0,0,null,null,0,0,0,0,0,{"$nulls":5},0,0,0,0,{"$nulls":4},0,0,0,0,0,null,0,0,0,0,0,null,0,0,0,0,0,null,0,0,0,0,0]
["Oui","Snecma","093-360-034-0",null,0,0,0,0,0,0,null,0,0,0,0,0,{"$nulls":5},0,0,0,0,0,null,null,0,0,0,0,0,null,null,0,0,0,0,0,null,0,0,0,0,0,null,0,0,0,0,0,null,0,0,0,0,0,null,null,0,0,0,0,0,{"$nulls":5},0,0,0,0,{"$nulls":4},0,0,0,0,0,null,0,0,0,0,0,null,0,0,0,0,0,null,0,0,0,0,0]
["Oui","Snecma","093-360-035-0",null,0,0,0,0,0,0,null,0,0,0,0,0,{"$nulls":5},0,0,0,0,0,null,null,0,0,0,0,0,null,null,0,0,0,0,0,null,0,0,0,0,0,null,0,0,0,0,0,null,0,0,0,0,0,null,null,0,0,0,0,0,{"$nulls":5},0,0,0,0,{"$nulls":4},0,0,0,0,0,null,0,0,0,0,0,null,0,0,0,0,0,null,0,0,0,0,0]
["Oui","Snecma","093-360-036-0",null,0,0,0,0,0,0,null,0,0,0,0,0,{"$nulls":5},0,0,0,0,0,null,null,0,0,0,0,0,null,null,0,0,0,0,0,null,0,0,0,0,0,null,0,0,0,0,0,null,0,0,0,0,0,null,null,0,0,0,0,0,{"$nulls":5},0,0,0,0,{"$nulls":4},0,0,0,0,0,null,0,0,0,0,0,null,0,0,0,0,0,null,0,0,0,0,0]
["Oui","Snecma","093-360-037-0",null,0,0,0,0,0,0,null,0,0,0,0,0,{"$nulls":5},0,0,0,0,0,null,null,0,0,0,0,0,null,null,0,0,0,0,0,null,0,0,0,0,0,null,0,0,0,0,0,null,0,0,0,0,0,null,null,0,0,0,0,0,{"$nulls":5},0,0,0,0,{"$nulls":4},0,0,0,0,0,null,0,0,0,0,0,null,0,0,0,0,0,null,0,0,0,0,0]
["Oui","Snecma","093-360-038-0",null,0,0,0,0,0,0,null,0,0,0,0,0,{"$nulls":5},0,0,0,0,0,null,null,0,0,0,0,0,null,null,0,0,0,0,0,null,0,0,0,0,0,null,0,0,0,0,0,null,0,0,0,0,0,null,null,0,0,0,0,0,{"$nulls":5},0,0,0,0,{"$nulls":4},0,0,0,0,0,null,0,0,0,0,0,null,0,0,0,0,0,null,0,0,0,0,0]
["Oui","Snecma","093-360-039-0",null,0,0,0,0,0,0,null,0,0,0,0,0,{"$nulls":5},0,0,0,0,0,null,null,0,0,0,0,0,null,null,0,0,0,0,0,null,0,0,0,0,0,null,0,0,0,0,0,null,0,0,0,0,0,null,null,0,0,0,0,0,{"$nulls":5},0,0,0,0,{"$nulls":4},0,0,0,0,0,null,0,0,0,0,0,null,0,0,0,0,0,null,0,0,0,0,0]
["Oui","Snecma","093-360-070-0","AIGUILLE",964,0,0,964,964,0,null,0,0,964,964,0,{"$nulls":5},0,0,964,964,0,null,null,0,0,964,964,0,null,null,0,0,964,964,0,null,0,0,964,964,0,null,0,0,964,964,0,null,0,0,964,964,0,null,null,0,0,964,964,0,{"$nulls":4},0,0,964,964,0,{"$nulls":4},0,0,{"$f":"VLOOKUP(C87,[1]TCD!$D:$E,2,0)","v":964},964,0,null,0,0,964,964,0,null,0,0,964,964,0,null,0,0,964,964,0]
["Oui","Snecma","093-360-072-0","BUTEE EQUIPEE",77,0,0,77,77,0,null,0,0,77,77,0,{"$nulls":5},0,0,77,77,0,null,null,0,0,77,77,0,null,null,0,0,77,77,0,null,0,0,77,77,0,null,0,0,77,77,0,null,0,0,77,77,0,null,null,0,0,77,77,0,{"$nulls":4},0,0,77,77,0,{"$nulls":4},0,0,{"$f":"VLOOKUP(C88,[1]TCD!$D:$E,2,0)","v":77},77,0,null,0,0,77,77,0,null,0,0,77,77,0,null,0,0,77,77,0]
["Oui","Snecma","093-360-084-0",null,0,0,0,0,0,0,null,0,0,0,0,0,{"$nulls":5},0,0,0,0,0,null,null,0,0,0,0,0,null,null,0,0,0,0,0,null,0,0,0,0,0,null,0,0,0,0,0,null,0,0,0,0,0,null,null,0,0,0,0,0,{"$nulls":5},0,0,0,0,{"$nulls":4},0,0,0,0,0,null,0,0,0,0,0,null,0,0,0,0,0,null,0,0,0,0,0]
["Oui","Snecma","093-360-085-0",null,400,0,0,400,400,0,null,0,0,400,400,0,{"$nulls":5},0,0,400,400,0,null,null,0,0,400,400,0,null,null,0,0,400,400,0,null,0,0,400,400,0,null,0,0,400,400,0,null,0,0,400,400,0,null,null,0,0,400,400,0,{"$nulls":4},0,0,400,400,0,{"$nulls":4},0,0,{"$f":"VLOOKUP(C90,[1]TCD!$D:$E,2,0)","v":400},400,0,null,0,0,400,400,0,null,0,0,400,400,0,null,0,0,400,400,0]
["Oui","AIA","093-360-087-0",null,990,0,0,990,990,0,null,0,0,990,990,0,{"$nulls":5},0,0,990,990,0,null,null,0,0,990,990,0,null,null,0,0,990,990,0,null,0,0,990,990,0,null,0,0,990,990,0,null,0,0,990,990,0,null,null,0,0,990,990,0,{"$nulls":4},0,0,990,990,0,{"$nulls":4},0,0,{"$f":"VLOOKUP(C91,[1]TCD!$D:$E,2,0)","v":990},990,0,null,0,0,990,990,0,null,0,0,990,990,0,null,0,0,990,990,0]
["Oui","Snecma","093-410-000-0",null,0,0,0,0,0,0,null,0,0,0,0,0,{"$nulls":5},0,0,0,0,0,null,null,0,0,0,0,0,null,null,0,0,0,0,0,null,0,0,0,0,0,null,0,0,0,0,0,null,0,0,0,0,0,null,null,0,0,0,0,0,{"$nulls":5},0,0,0,0,{"$nulls":4},0,0,0,0,0,null,0,0,0,0,0,null,0,0,0,0,0,null,0,0,0,0,0]
["Oui","Snecma","093-410-054-0",null,0,0,0,0,0,0,null,0,0,0,0,0,{"$nulls":5},0,0,0,0,0,null,null,0,0,0,0,0,null,null,0,0,0,0,0,null,0,0,0,0,0,null,0,0,0,0,0,null,0,0,0,0,0,null,null,0,0,0,0,0,{"$nulls":5},0,0,0,0,{"$nulls":4},0,0,0,0,0,null,0,0,0,0,0,null,0,0,0,0,0,null,0,0,0,0,0]
["Oui","Snecma","093-410-138-0","GAINE ISOLANTE ELECTRIQUE",4,0,0,4,4,0,null,0,0,4,4,0,{"$nulls":5},0,0,4,4,0,null,null,0,0,4,4,0,null,null,0,0,4,4,0,null,0,0,4,4,0,null,0,0,4,4,0,null,0,0,4,4,0,null,null,0,0,4,4,0,{"$nulls":4},0,0,4,4,0,{"$nulls":4},0,0,{"$f":"VLOOKUP(C94,[1]TCD!$D:$E,2,0)","v":4},4,0,null,0,0,4,4,0,null,0,0,4,4,0,null,0,0,4,4,0]
["Oui","Snecma","093-998-041-0",null,0,0,0,0,0,0,null,0,0,0,0,0,{"$nulls":5},0,0,0,0,0,null,null,0,0,0,0,0,null,null,0,0,0,0,0,null,0,0,0,0,0,null,0,0,0,0,0,null,0,0,0,0,0,null,null,0,0,0,0,0,{"$nulls":5},0,0,0,0,{"$nulls":4},0,0,0,0,0,null,0,0,0,0,0,null,0,0,0,0,0,null,0,0,0,0,0]
["Oui","Snecma","093-998-097-0",null,0,0,0,0,0,0,null,0,0,0,0,0,{"$nulls":5},0,0,0,0,0,null,null,0,0,0,0,0,null,null,0,0,0,0,0,null,0,0,0,0,0,null,0,0,0,0,0,null,0,0,0,0,0,null,null,0,0,0,0,0,{"$nulls":5},0,0,0,0,{"$nulls":4},0,0,0,0,0,null,0,0,0,0,0,null,0,0,0,0,0,null,0,0,0,0,0]
["Oui","Snecma","093-998-189-0",null,0,0,0,0,0,0,null,0,0,0,0,0,{"$nulls":5},0,0,0,0,0,null,null,0,0,0,0,0,null,null,0,0,0,0,0,null,0,0,0,0,0,null,0,0,0,0,0,null,0,0,0,0,0,null,null,0,0,0,0,0,{"$nulls":5},0,0,0,0,{"$nulls":4},0,0,0,0,0,null,0,0,0,0,0,null,0,0,0,0,0,null,0,0,0,0,0]
["Oui","Snecma","097-0140-20","CLOSURE,CONTACTOR T20 260C",135,0,0,135,135,0,null,0,8,127,127,0,{"$nulls":5},0,0,127,127,0,null,null,0,0,127,127,0,null,null,0,0,127,127,0,null,0,0,127,127,0,null,0,0,127,127,0,null,0,0,127,127,0,null,null,0,0,127,127,0,{"$nulls":4},0,0,127,127,0,{"$nulls":4},0,0,{"$f":"VLOOKUP(C98,[1]TCD!$D:$E,2,0)","v":127},127,0,null,0,0,127,127,0,null,0,0,127,127,0,null,0,0,127,127,0]
["Oui","Snecma","11-10058-4","OBTURATEUR VRILLE",263,0,0,263,263,0,null,0,0,263,263,0,{"$nulls":5},0,0,263,263,0,null,null,0,0,263,263,0,null,null,0,0,263,263,0,null,0,0,263,263,0,null,0,0,263,263,0,null,0,0,263,263,0,null,null,0,0,263,263,0,{"$nulls":4},0,0,263,263,0,{"$nulls":4},0,0,{"$f":"VLOOKUP(C99,[1]TCD!$D:$E,2,0)","v":263},263,0,null,0,0,263,263,0,null,0,0,263,263,0,null,0,0,263,263,0]
["Oui","Snecma","11-10296-4","PLAQUE OBTURATION",211,0,0,211,211,0,null,0,0,211,211,0,{"$nulls":5},0,0,211,211,0,null,null,0,0,211,211,0,null,null,0,0,211,211,0,null,0,0,211,211,0,null,0,0,211,211,0,null,0,0,211,211,0,null,null,0,0,211,211,0,{"$nulls":4},0,0,211,211,0,{"$nulls":4},0,0,{"$f":"VLOOKUP(C100,[1]TCD!$D:$E,2,0)","v":211},211,0,null,0,0,211,211,0,null,0,0,211,211,0,null,0,0,211,211,0]
["Oui","Snecma","11-10297-4","OBTURATEUR ENTREE",460,0,0,460,460,0,null,0,0,460,460,0,{"$nulls":5},0,0,460,460,0,null,null,0,0,460,460,0,null,null,0,0,460,460,0,null,0,0,460,460,0,null,0,0,460,460,0,null,0,0,460,460,0,null,null,0,0,460,460,0,{"$nulls":4},0,0,460,460,0,{"$nulls":4},0,1,{"$f":"VLOOKUP(C101,[1]TCD!$D:$E,2,0)","v":459},459,0,null,0,0,459,459,0,null,0,1,458,458,0,null,0,0,458,458,0]
["Oui","Snecma","11-10298-3","OBTURATEUR POMPE",245,0,0,245,245,0,null,0,0,245,245,0,{"$nulls":5},0,0,245,245,0,null,null,0,0,245,245,0,null,null,0,0,245,245,0,null,0,0,245,245,0,null,0,0,245,245,0,null,0,0,245,245,0,null,null,0,0,245,245,0,{"$nulls":4},0,0,245,245,0,{"$nulls":4},0,0,{"$f":"VLOOKUP(C102,[1]TCD!$D:$E,2,0)","v":245},245,0,null,0,0,245,245,0,null,0,0,245,245,0,null,0,0,245,245,0]
["Oui","Snecma","11-10299-3","PROTECTEUR",464,0,0,464,464,0,null,0,0,464,464,0,{"$nulls":5},0,0,464,464,0,null,null,0,0,464,464,0,null,null,0,0,464,464,0,null,0,0,464,464,0,null,0,0,464,464,0,null,0,0,464,464,0,null,null,0,0,464,464,0,{"$nulls":4},0,0,464,464,0,{"$nulls":4},0,0,{"$f":"VLOOKUP(C103,[1]TCD!$D:$E,2,0)","v":464},464,0,null,0,0,464,464,0,null,0,0,464,464,0,null,0,0,464,464,0]
["Oui","Snecma","11-10300-3","PROTECTEUR",457,0,0,457,457,0,null,0,0,457,457,0,{"$nulls":5},0,0,457,457,0,null,null,0,0,457,457,0,null,null,0,0,457,457,0,null,0,0,457,457,0,null,0,0,457,457,0,null,0,0,457,457,0,null,null,0,0,457,457,0,{"$nulls":4},0,0,457,457,0,{"$nulls":4},0,0,{"$f":"VLOOKUP(C104,[1]TCD!$D:$E,2,0)","v":457},457,0,null,0,0,457,457,0,null,0,0,457,457,0,null,0,0,457,457,0]
["Oui","Snecma","11-11347-3","OBTURATEUR",506,0,0,506,506,0,null,0,0,506,506,0,{"$nulls":5},0,0,506,506,0,null,null,0,1,505,505,0,null,null,0,0,505,505,0,null,0,0,505,505,0,null,0,0,505,505,0,null,0,0,505,505,0,null,null,0,1,504,504,0,{"$nulls":4},0,0,504,504,0,{"$nulls":4},0,1,{"$f":"VLOOKUP(C105,[1]TCD!$D:$E,2,0)","v":503},503,0,null,0,0,503,503,0,null,0,0,503,503,0,null,0,0,503,503,0]
["Oui","Snecma","11-11348-3","OBTURATEUR",702,0,0,702,702,0,null,0,0,702,702,0,{"$nulls":5},0,0,702,702,0,null,null,0,1,701,701,0,null,null,0,0,701,701,0,null,0,0,701,701,0,null,0,0,701,701,0,null,0,0,701,701,0,null,null,0,1,700,700,0,{"$nulls":4},1,0,701,701,0,{"$nulls":4},0,1,{"$f":"VLOOKUP(C106,[1]TCD!$D:$E,2,0)","v":700},700,0,null,0,0,700,700,0,null,0,0,700,700,0,null,0,0,700,700,0]
[{"$error":"#N/A"},"Snecma","1163-100","ROTOR ALTERNATEUR",29,0,0,29,29,0,null,0,0,29,29,0,{"$nulls":5},0,0,29,29,0,null,null,0,0,29,29,0,null,null,0,0,29,29,0,null,0,0,29,29,0,null,3,0,32,32,0,null,0,0,32,32,0,null,null,0,0,32,32,0,{"$nulls":4},0,0,32,32,0,{"$nulls":4},0,0,{"$f":"VLOOKUP(C107,[1]TCD!$D:$E,2,0)","v":32},32,0,null,0,0,32,32,0,null,0,0,32,32,0,null,0,0,32,32,0]
["Oui","Snecma","1163-300","STATOR D'ALTERNATEUR",13,0,0,13,13,0,null,0,0,13,13,0,{"$nulls":5},0,0,13,13,0,null,null,0,0,13,13,0,null,null,0,0,13,13,0,null,0,0,13,13,0,null,0,0,13,13,0,null,0,0,13,13,0,null,null,0,0,13,13,0,{"$nulls":4},0,0,13,13,0,{"$nulls":4},0,0,{"$f":"VLOOKUP(C108,[1]TCD!$D:$E,2,0)","v":13},13,0,null,0,0,13,13,0,null,0,0,13,13,0,null,0,0,13,13,0]
["Oui","Snecma","11-841651-3","ECHANGEUR HUILE CARBURANT",11,0,0,11,11,0,null,0,0,11,11,0,{"$nulls":5},0,0,11,11,0,null,null,0,0,11,11,0,null,null,0,0,11,11,0,null,0,0,11,11,0,null,0,0,11,11,0,null,0,0,11,11,0,null,null,0,0,11,11,0,{"$nulls":4},0,0,11,11,0,{"$nulls":4},0,0,{"$f":"VLOOKUP(C109,[1]TCD!$D:$E,2,0)","v":11},11,0,null,0,0,11,11,0,null,0,0,11,11,0,null,0,0,11,11,0]
["Oui","Snecma","1338T18-23-1","    BOUCHON D'OBTURATION",0,0,0,0,0,0,null,0,0,0,0,0,{"$nulls":5},0,0,0,0,0,null,null,0,0,0,0,0,null,null,0,0,0,0,0,null,0,0,0,0,0,null,0,0,0,0,0,null,0,0,0,0,0,null,null,0,0,0,0,0,{"$nulls":5},0,0,0,0,{"$nulls":4},0,0,0,0,0,null,0,0,0,0,0,null,0,0,0,0,0,null,0,0,0,0,0]
["Oui","Snecma","1338T24-29-1","PLUG,BLANKING",0,0,0,0,0,0,null,0,0,0,0,0,{"$nulls":5},0,0,0,0,0,null,null,0,0,0,0,0,null,null,0,0,0,0,0,null,0,0,0,0,0,null,0,0,0,0,0,null,0,0,0,0,0,null,null,0,0,0,0,0,{"$nulls":5},0,0,0,0,{"$nulls":4},0,0,0,0,0,null,0,0,0,0,0,null,0,0,0,0,0,null,0,0,0,0,0]
["Oui","Snecma","1338T30.37-1","PLUG,BLANKING",0,0,0,0,0,0,null,0,0,0,0,0,{"$nulls":5},0,0,0,0,0,null,null,0,0,0,0,0,null,null,0,0,0,0,0,null,0,0,0,0,0,null,0,0,0,0,0,null,0,0,0,0,0,null,null,0,0,0,0,0,{"$nulls":5},0,0,0,0,{"$nulls":4},0,0,0,0,0,null,0,0,0,0,0,null,0,0,0,0,0,null,0,0,0,0,0]
["Oui","Snecma","1338T30-37-1",null,0,0,0,0,0,0,null,0,0,0,0,0,{"$nulls":5},0,0,0,0,0,null,null,0,0,0,0,0,null,null,0,0,0,0,0,null,0,0,0,0,0,null,0,0,0,0,0,null,0,0,0,0,0,null,null,0,0,0,0,0,{"$nulls":5},0,0,0,0,{"$nulls":4},0,0,0,0,0,null,0,0,0,0,0,null,0,0,0,0,0,null,0,0,0,0,0]
["Oui","Snecma","1338T38.45-1","OBTURATEUR",0,0,0,0,0,0,null,0,0,0,0,0,{"$nulls":5},0,0,0,0,0,null,null,0,0,0,0,0,null,null,0,0,0,0,0,null,0,0,0,0,0,null,0,0,0,0,0,null,0,0,0,0,0,null,null,0,0,0,0,0,{"$nulls":5},0,0,0,0,{"$nulls":4},0,0,0,0,0,null,0,0,0,0,0,null,0,0,0,0,0,null,0,0,0,0,0]
["Oui","Snecma","1338T38-45-1",null,0,0,0,0,0,0,null,0,0,0,0,0,{"$nulls":5},0,0,0,0,0,null,null,0,0,0,0,0,null,null,0,0,0,0,0,null,0,0,0,0,0,null,0,0,0,0,0,null,0,0,0,0,0,null,null,0,0,0,0,0,{"$nulls":5},0,0,0,0,{"$nulls":4},0,0,0,0,0,null,0,0,0,0,0,null,0,0,0,0,0,null,0,0,0,0,0]
["Oui","Snecma","1348-400","MANO CONTACT D HUILE",20,0,0,20,20,0,null,0,0,20,20,0,{"$nulls":5},0,0,20,20,0,null,null,0,0,20,20,0,null,null,0,0,20,20,0,null,0,0,20,20,0,null,0,0,20,20,0,null,20,0,40,40,0,null,null,0,0,40,40,0,{"$nulls":4},0,0,40,40,0,{"$nulls":4},0,0,{"$f":"VLOOKUP(C116,[1]TCD!$D:$E,2,0)","v":40},40,0,null,0,0,40,40,0,null,0,0,40,40,0,null,0,0,40,40,0]
["Oui","Snecma","135D14C","CORPS CAPTEUR DOSEUR",0,0,0,0,0,0,null,0,0,0,0,0,{"$nulls":5},0,0,0,0,0,null,null,0,0,0,0,0,null,null,0,0,0,0,0,null,0,0,0,0,0,null,0,0,0,0,0,null,0,0,0,0,0,null,null,0,0,0,0,0,{"$nulls":5},0,0,0,0,{"$nulls":4},0,0,0,0,0,null,0,0,0,0,0,null,0,0,0,0,0,null,0,0,0,0,0]
["Oui","Snecma","135D14C001","CORPS CAPTEUR DOSEUR",18,0,0,18,18,0,null,0,0,18,18,0,{"$nulls":5},0,0,18,18,0,null,null,2,0,18,20,-2,"2 pièces en cours de transfert magasin indisponible (EMG 10)","intégrer EMG10= indisponibles",0,0,18,18,0,null,0,0,18,18,0,null,0,0,18,18,0,null,26,0,44,44,0,null,null,0,1,43,43,0,{"$nulls":4},0,0,43,43,0,{"$nulls":4},0,2,{"$f":"VLOOKUP(C118,[1]TCD!$D:$E,2,0)","v":41},41,0,null,0,0,41,41,0,null,0,0,41,41,0,null,0,2,39,39,0]
["Oui","Snecma","135D14T","TIGE,CAPTEUR DOSEUR",9,0,0,9,9,0,null,0,0,9,9,0,{"$nulls":5},0,0,9,9,0,null,null,0,0,9,9,0,null,null,0,0,9,9,0,null,0,0,9,9,0,null,0,0,9,9,0,null,0,0,9,9,0,null,null,0,0,9,9,0,{"$nulls":4},2,0,11,11,0,{"$nulls":4},0,0,{"$f":"VLOOKUP(C119,[1]TCD!$D:$E,2,0)","v":11},11,0,null,0,0,11,11,0,null,0,0,11,11,0,null,0,0,11,11,0]
["Oui","Snecma","135D54C","CORPS,CAPTEUR TUYERE",16,0,0,16,16,0,null,0,0,16,16,0,{"$nulls":5},0,0,16,16,0,null,null,0,0,16,16,0,null,null,0,0,16,16,0,null,0,0,16,16,0,null,0,0,16,16,0,null,0,0,16,16,0,null,null,0,0,16,16,0,{"$nulls":4},0,0,16,16,0,{"$nulls":4},0,0,{"$f":"VLOOKUP(C120,[1]TCD!$D:$E,2,0)","v":16},16,0,null,0,0,16,16,0,null,0,0,16,16,0,null,0,0,16,16,0]
["Oui","Snecma","135D54T","TIGE, CAPTEUR TUYERE",51,0,0,51,51,0,null,0,0,51,51,0,{"$nulls":5},0,0,51,51,0,null,null,0,0,51,51,0,null,null,0,0,51,51,0,null,0,0,51,51,0,null,0,0,51,51,0,null,0,0,51,51,0,null,null,0,0,51,51,0,{"$nulls":4},0,0,51,51,0,{"$nulls":4},0,0,{"$f":"VLOOKUP(C121,[1]TCD!$D:$E,2,0)","v":51},51,0,null,0,0,51,51,0,null,0,0,51,51,0,null,0,0,51,51,0]
["Oui","Snecma","135K80","CAPTEUR DOUBLE CALAGE",0,0,0,0,0,0,null,0,0,0,0,0,{"$nulls":5},0,0,0,0,0,null,null,0,0,0,0,0,null,null,0,0,0,0,0,null,0,0,0,0,0,null,0,0,0,0,0,null,0,0,0,0,0,null,null,0,0,0,0,0,{"$nulls":5},0,0,0,0,{"$nulls":4},0,0,0,0,0,null,0,0,0,0,0,null,0,0,0,0,0,null,0,0,0,0,0]
["Oui","Snecma","135K80001","CAPTEUR DOUBLE CALAGE",15,0,0,15,15,0,null,0,1,14,14,0,{"$nulls":5},0,0,14,14,0,null,null,0,0,14,14,0,null,null,0,1,13,13,0,null,0,0,13,13,0,null,0,1,12,12,0,null,0,0,12,12,0,null,null,0,0,12,12,0,{"$nulls":4},0,0,12,12,0,{"$nulls":4},0,0,{"$f":"VLOOKUP(C123,[1]TCD!$D:$E,2,0)","v":12},12,0,null,0,0,12,12,0,null,0,0,12,12,0,null,0,0,12,12,0]
["Oui","Snecma","144-408-000-121","CAPTEUR VIBRATION MOTEUR",23,0,0,23,23,0,null,0,0,23,23,0,{"$nulls":5},0,0,23,23,0,null,null,0,0,23,23,0,null,null,0,0,23,23,0,null,0,0,23,23,0,null,0,0,23,23,0,null,0,0,23,23,0,null,null,0,0,23,23,0,{"$nulls":4},0,0,23,23,0,{"$nulls":4},0,0,{"$f":"VLOOKUP(C124,[1]TCD!$D:$E,2,0)","v":23},23,0,null,0,0,23,23,0,null,0,0,23,23,0,null,0,0,23,23,0]
["Oui","Snecma","144-408-000-122","CAPTEUR VIBRATION MOTEUR",20,0,0,20,20,0,null,0,0,20,20,0,{"$nulls":5},0,0,20,20,0,null,null,0,0,20,20,0,null,null,0,0,20,20,0,null,0,0,20,20,0,null,0,0,20,20,0,null,0,0,20,20,0,null,null,0,0,20,20,0,{"$nulls":4},0,0,20,20,0,{"$nulls":4},0,0,{"$f":"VLOOKUP(C125,[1]TCD!$D:$E,2,0)","v":20},20,0,null,0,0,20,20,0,null,0,0,20,20,0,null,0,0,20,20,0]
["Oui","Snecma","1465-400","DETECTEUR,COLMATAGE HUILE",0,0,0,0,0,0,null,0,0,0,0,0,{"$nulls":5},0,0,0,0,0,null,null,0,0,0,0,0,null,null,0,0,0,0,0,null,0,0,0,0,0,null,0,0,0,0,0,null,0,0,0,0,0,null,null,0,0,0,0,0,{"$nulls":5},0,0,0,0,{"$nulls":4},0,0,0,0,0,null,0,0,0,0,0,null,0,0,0,0,0,null,0,0,0,0,0]
["Oui","Snecma","1465-500","DETECTEUR COLMATAGE HUILE",6,0,0,6,6,0,null,0,0,6,6,0,{"$nulls":5},0,0,6,6,0,null,null,0,0,6,6,0,null,null,0,0,6,6,0,null,0,0,6,6,0,null,0,0,6,6,0,null,0,0,6,6,0,null,null,0,0,6,6,0,{"$nulls":4},0,0,6,6,0,{"$nulls":4},0,0,{"$f":"VLOOKUP(C127,[1]TCD!$D:$E,2,0)","v":6},6,0,null,0,0,6,6,0,null,0,0,6,6,0,null,0,0,6,6,0]
["Oui","Snecma","1466-400","DETECTEUR, COLMATAGE CARBURANT",24,0,0,24,24,0,null,0,0,24,24,0,{"$nulls":5},0,1,23,23,0,null,null,0,0,23,23,0,null,null,0,0,23,23,0,null,0,0,23,23,0,null,0,0,23,23,0,null,0,0,23,23,0,null,null,0,0,23,23,0,{"$nulls":4},0,0,23,23,0,{"$nulls":4},0,0,{"$f":"VLOOKUP(C128,[1]TCD!$D:$E,2,0)","v":23},23,0,null,0,0,23,23,0,null,0,0,23,23,0,null,0,0,23,23,0]
["Oui","Snecma","1567100-03","SERVO-VALVE MONO ETAGE",74,0,0,74,74,0,null,0,0,74,74,0,{"$nulls":5},0,0,74,74,0,null,null,0,0,74,74,0,null,null,0,0,74,74,0,null,0,0,74,74,0,null,0,0,74,74,0,null,0,0,74,74,0,null,null,0,0,74,74,0,{"$nulls":4},0,0,74,74,0,{"$nulls":4},0,0,{"$f":"VLOOKUP(C129,[1]TCD!$D:$E,2,0)","v":74},74,0,null,0,0,74,74,0,null,0,0,74,74,0,null,0,0,74,74,0]
["Oui","Snecma","1567100-04","SERVO-VALVE MONO ETAGE",36,0,0,36,36,0,null,0,1,35,35,0,{"$nulls":5},0,0,35,35,0,null,null,0,0,35,35,0,null,null,0,0,35,35,0,null,17,0,52,52,0,null,0,3,49,49,0,null,0,1,48,48,0,null,null,0,2,46,46,0,{"$nulls":4},49,1,94,94,0,{"$nulls":4},0,1,{"$f":"VLOOKUP(C130,[1]TCD!$D:$E,2,0)","v":93},93,0,null,0,0,93,93,0,null,0,1,92,92,0,null,0,1,91,91,0]
["Oui","Snecma","1567200-03","SERVO VALVE DOUBLE ETAGE",0,0,0,0,0,0,null,0,0,0,0,0,{"$nulls":5},0,0,0,0,0,null,null,0,0,0,0,0,null,null,0,0,0,0,0,null,0,0,0,0,0,null,0,0,0,0,0,null,0,0,0,0,0,null,null,0,0,0,0,0,{"$nulls":5},0,0,0,0,{"$nulls":4},0,0,0,0,0,null,0,0,0,0,0,null,0,0,0,0,0,null,0,0,0,0,0]
["Oui","Snecma","1567200-04","SERVO VALVE DOUBLE ETAGE",13,0,0,13,13,0,null,0,0,13,13,0,{"$nulls":5},0,0,13,13,0,null,null,0,0,13,13,0,null,null,0,1,12,12,0,null,0,0,12,12,0,null,0,0,12,12,0,null,0,0,12,12,0,null,null,0,0,12,12,0,{"$nulls":4},0,0,12,12,0,{"$nulls":4},6,1,{"$f":"VLOOKUP(C132,[1]TCD!$D:$E,2,0)","v":17},17,0,null,0,0,17,17,0,null,0,0,17,17,0,null,0,0,17,17,0]
["Oui","Snecma","1567300-03",null,0,0,0,0,0,0,null,0,0,0,0,0,{"$nulls":5},0,0,0,0,0,null,null,0,0,0,0,0,null,null,0,0,0,0,0,null,0,0,0,0,0,null,0,0,0,0,0,null,0,0,0,0,0,null,null,0,0,0,0,0,{"$nulls":5},0,0,0,0,{"$nulls":4},0,0,0,{"$f":"BT133+CA133-CB133","v":0},{"$f":"CC133-CD133","v":0},null,0,0,0,{"$f":"CC133+CG133-CH133","v":0},{"$f":"CI133-CJ133","v":0},null,0,0,0,{"$f":"CI133+CM133-CN133","v":0},{"$f":"CO133-CP133","v":0},null,0,0,0,{"$f":"CO133+CS133-CT133","v":0},{"$f":"CU133-CV133","v":0}]
["Oui","Snecma","1567300-04","SERVO-VALVE 2 ETAGES-TUYERE",0,0,0,0,0,0,null,0,0,0,0,0,{"$nulls":5},0,0,0,0,0,null,null,0,0,0,0,0,null,null,0,0,0,0,0,null,0,0,0,0,0,null,0,0,0,0,0,null,0,0,0,0,0,null,null,0,0,0,0,0,{"$nulls":5},0,0,0,0,{"$nulls":4},0,0,0,0,0,null,0,0,0,0,0,null,0,0,0,0,0,null,0,0,0,0,0]
["Oui","Snecma","1567300-05","SERVO-VALVE 2 ETAGES-TUYERE",34,0,0,34,34,0,null,0,0,34,34,0,{"$nulls":5},0,0,34,34,0,null,null,0,0,34,34,0,null,null,0,0,34,34,0,null,0,0,34,34,0,null,0,0,34,34,0,null,0,1,33,33,0,null,null,0,0,33,33,0,{"$nulls":4},0,0,33,33,0,{"$nulls":4},0,1,{"$f":"VLOOKUP(C135,[1]TCD!$D:$E,2,0)","v":32},32,0,null,0,0,32,32,0,null,0,1,31,31,0,null,0,0,31,31,0]
["Oui","Snecma","15-841651","FAISCEAU EQUIPE",26,0,0,26,26,0,null,0,0,26,26,0,{"$nulls":5},0,0,26,26,0,null,null,0,0,26,26,0,null,null,0,0,26,26,0,null,0,0,26,26,0,null,0,0,26,26,0,null,0,0,26,26,0,null,null,0,0,26,26,0,{"$nulls":4},0,0,26,26,0,{"$nulls":4},0,0,{"$f":"VLOOKUP(C136,[1]TCD!$D:$E,2,0)","v":26},26,0,null,0,0,26,26,0,null,0,0,26,26,0,null,0,0,26,26,0]
["Oui","Snecma","17,00X2,65-64C8",null,0,0,0,0,0,0,null,0,0,0,0,0,{"$nulls":5},0,0,0,0,0,null,null,0,0,0,0,0,null,null,0,0,0,0,0,null,0,0,0,0,0,null,0,0,0,0,0,null,0,0,0,0,0,null,null,0,0,0,0,0,{"$nulls":5},0,0,0,0,{"$nulls":4},0,0,0,0,0,null,0,0,0,0,0,null,0,0,0,0,0,null,0,0,0,0,0]
["Oui","Snecma","1851-00","FILTRE,CONIQUE",1065,0,0,1065,1065,0,null,0,0,1065,1065,0,{"$nulls":5},0,0,1065,1065,0,null,null,0,0,1065,1065,0,null,null,0,0,1065,1065,0,null,0,0,1065,1065,0,null,0,6,1059,1059,0,null,0,6,1053,1053,0,null,null,0,1,1052,1052,0,{"$nulls":4},0,3,1049,1049,0,{"$nulls":4},0,4,{"$f":"VLOOKUP(C138,[1]TCD!$D:$E,2,0)","v":1045},1045,0,null,0,1,1044,1044,0,null,0,0,1044,1044,0,null,0,0,1044,1044,0]
["Oui","Snecma","200Z5X13","DOUILLE DE PROTECTION",101,0,0,101,101,0,null,0,0,101,101,0,{"$nulls":5},0,0,101,101,0,null,null,0,0,101,101,0,null,null,0,0,101,101,0,null,0,0,101,101,0,null,0,0,101,101,0,null,0,0,101,101,0,null,null,0,0,101,101,0,{"$nulls":4},0,0,101,101,0,{"$nulls":4},0,0,{"$f":"VLOOKUP(C139,[1]TCD!$D:$E,2,0)","v":101},101,0,null,0,0,101,101,0,null,0,0,101,101,0,null,0,0,101,101,0]
["Oui","AIA","202A132-25-0",null,15,0,0,15,15,0,null,0,0,15,15,0,{"$nulls":5},0,0,15,15,0,null,null,0,0,15,15,0,null,null,0,0,15,15,0,null,0,0,15,15,0,null,0,0,15,15,0,null,0,0,15,15,0,null,null,0,0,15,15,0,{"$nulls":4},0,0,15,15,0,{"$nulls":4},0,0,{"$f":"VLOOKUP(C140,[1]TCD!$D:$E,2,0)","v":15},15,0,null,0,0,15,15,0,null,0,0,15,15,0,null,0,0,15,15,0]
["Oui","Snecma","202K132-25",{"$error":"#N/A"},130,0,0,130,130,0,null,0,0,130,130,0,{"$nulls":5},0,0,130,130,0,null,null,0,0,130,130,0,null,null,0,0,130,130,0,null,0,0,130,130,0,null,0,0,130,130,0,null,0,0,130,130,0,null,null,0,0,130,130,0,{"$nulls":4},0,0,130,130,0,{"$nulls":4},0,0,{"$f":"VLOOKUP(C141,[1]TCD!$D:$E,2,0)","v":130},130,0,null,0,0,130,130,0,null,0,0,130,130,0,null,0,0,130,130,0]
["Oui","Snecma","202K132-25-0","EMBOUT THERMORETRACTABLE DROIT",7,0,0,7,7,0,null,0,0,7,7,0,{"$nulls":5},0,0,7,7,0,null,null,0,0,7,7,0,null,null,0,0,7,7,0,null,0,0,7,7,0,null,0,0,7,7,0,null,0,0,7,7,0,null,null,0,0,7,7,0,{"$nulls":4},0,0,7,7,0,{"$nulls":4},0,0,{"$f":"VLOOKUP(C142,[1]TCD!$D:$E,2,0)","v":7},7,0,null,0,0,7,7,0,null,0,0,7,7,0,null,0,0,7,7,0]
["Oui","Snecma","202K132-25-01-0","EMBOUT THERMORETRACTABLE DROIT",60,0,0,60,60,0,null,0,0,60,60,0,{"$nulls":5},0,0,60,60,0,null,null,0,0,60,60,0,null,null,0,0,60,60,0,null,0,0,60,60,0,null,0,0,60,60,0,null,0,0,60,60,0,null,null,0,0,60,60,0,{"$nulls":4},0,0,60,60,0,{"$nulls":4},0,0,{"$f":"VLOOKUP(C143,[1]TCD!$D:$E,2,0)","v":60},60,0,null,0,0,60,60,0,null,0,0,60,60,0,null,0,0,60,60,0]
["Oui","Snecma","202K142-25-01","SLEEVE",127,0,0,127,127,0,null,0,0,127,127,0,{"$nulls":5},0,0,127,127,0,null,null,0,0,127,127,0,null,null,0,0,127,127,0,null,0,0,127,127,0,null,0,0,127,127,0,null,0,0,127,127,0,null,null,0,0,127,127,0,{"$nulls":4},0,0,127,127,0,{"$nulls":4},0,0,{"$f":"VLOOKUP(C144,[1]TCD!$D:$E,2,0)","v":127},127,0,null,0,0,127,127,0,null,0,0,127,127,0,null,0,0,127,127,0]
["Oui","Snecma","202K153-25","FITTING,TRTT DROIT 150C",175,0,0,175,175,0,null,0,0,175,175,0,{"$nulls":5},0,0,175,175,0,null,null,0,0,175,175,0,null,null,0,0,175,175,0,null,0,0,175,175,0,null,0,0,175,175,0,null,0,0,175,175,0,null,null,0,0,175,175,0,{"$nulls":4},0,0,175,175,0,{"$nulls":4},0,0,{"$f":"VLOOKUP(C145,[1]TCD!$D:$E,2,0)","v":175},175,0,null,0,0,175,175,0,null,0,0,175,175,0,null,0,0,175,175,0]
["Oui","AIA","202K153-25-0",null,12,0,0,12,12,0,null,0,0,12,12,0,{"$nulls":5},0,0,12,12,0,null,null,0,0,12,12,0,null,null,0,0,12,12,0,null,0,0,12,12,0,null,0,0,12,12,0,null,0,0,12,12,0,null,null,0,0,12,12,0,{"$nulls":4},0,0,12,12,0,{"$nulls":4},0,0,{"$f":"VLOOKUP(C146,[1]TCD!$D:$E,2,0)","v":12},12,0,null,0,0,12,12,0,null,0,0,12,12,0,null,0,0,12,12,0]
["Oui","Snecma","202K163-25",{"$error":"#N/A"},0,0,0,0,0,0,null,0,0,0,0,0,{"$nulls":5},0,0,0,0,0,null,null,0,0,0,0,0,null,null,0,0,0,0,0,null,0,0,0,0,0,null,0,0,0,0,0,null,0,0,0,0,0,null,null,0,0,0,0,0,{"$nulls":5},0,0,0,0,{"$nulls":4},0,0,0,0,0,null,0,0,0,0,0,null,0,0,0,0,0,null,0,0,0,0,0]
["Oui","AIA","202K163-25-0",null,19,0,0,19,19,0,null,0,0,19,19,0,{"$nulls":5},0,0,19,19,0,null,null,0,0,19,19,0,null,null,0,0,19,19,0,null,0,0,19,19,0,null,0,0,19,19,0,null,0,0,19,19,0,null,null,0,0,19,19,0,{"$nulls":4},0,0,19,19,0,{"$nulls":4},0,0,{"$f":"VLOOKUP(C148,[1]TCD!$D:$E,2,0)","v":19},19,0,null,0,0,19,19,0,null,0,0,19,19,0,null,0,0,19,19,0]
["Oui","Snecma","202K163-25-02","EMBOUT",48,0,0,48,48,0,null,0,0,48,48,0,{"$nulls":5},0,0,48,48,0,null,null,0,0,48,48,0,null,null,0,0,48,48,0,null,0,0,48,48,0,null,0,0,48,48,0,null,0,0,48,48,0,null,null,0,0,48,48,0,{"$nulls":4},0,0,48,48,0,{"$nulls":4},0,0,{"$f":"VLOOKUP(C149,[1]TCD!$D:$E,2,0)","v":48},48,0,null,0,0,48,48,0,null,0,0,48,48,0,null,0,0,48,48,0]
["Oui","Snecma","21215CA3207","RIVET, UNIVERSAL HEAD",351,0,0,1350,351,999,"Pas d' Entrées et pas de Sorties mais différence de Stock!",0,0,1350,1350,0,{"$nulls":5},0,0,1350,1350,0,null,null,0,0,1350,1350,0,null,null,0,0,1350,1350,0,null,0,0,1350,1350,0,null,0,0,1350,1350,0,null,0,0,1350,1350,0,null,null,0,0,1350,1350,0,{"$nulls":4},0,0,1350,1350,0,{"$nulls":4},0,0,{"$f":"VLOOKUP(C150,[1]TCD!$D:$E,2,0)","v":1350},1350,0,null,0,0,1350,1350,0,null,0,0,1350,1350,0,null,0,0,1350,1350,0]
["Oui","Snecma","21215CA3209","RIVET, UNIVERSAL HEAD",912,0,0,912,912,0,null,0,0,912,912,0,{"$nulls":5},0,0,912,912,0,null,null,0,0,912,912,0,null,null,0,0,912,912,0,null,0,0,912,912,0,null,0,0,912,912,0,null,0,0,912,912,0,null,null,0,0,912,912,0,{"$nulls":4},0,0,912,912,0,{"$nulls":4},0,0,{"$f":"VLOOKUP(C151,[1]TCD!$D:$E,2,0)","v":912},912,0,null,0,0,912,912,0,null,0,0,912,912,0,null,0,0,912,912,0]
["Oui","Snecma","21215CA3210","RIVET, UNIVERSAL HEAD",575,0,0,575,575,0,null,0,0,575,575,0,{"$nulls":5},0,0,575,575,0,null,null,0,0,575,575,0,null,null,0,0,575,575,0,null,0,0,575,575,0,null,0,0,575,575,0,null,0,0,575,575,0,null,null,0,0,575,575,0,{"$nulls":4},0,0,575,575,0,{"$nulls":4},0,0,{"$f":"VLOOKUP(C152,[1]TCD!$D:$E,2,0)","v":575},575,0,null,0,0,575,575,0,null,0,0,575,575,0,null,0,0,575,575,0]
["Oui","Snecma","21215CM3208","RIVET",0,0,0,0,0,0,null,0,0,0,0,0,{"$nulls":5},0,0,0,0,0,null,null,0,0,0,0,0,null,null,0,0,0,0,0,null,0,0,0,0,0,null,0,0,0,0,0,null,0,0,200,0,200,"ecart mesuré","OK Nouvelle réf",0,0,200,200,0,{"$nulls":4},0,0,200,200,0,{"$nulls":4},0,0,{"$f":"VLOOKUP(C153,[1]TCD!$D:$E,2,0)","v":200},200,0,null,0,0,200,200,0,null,0,0,200,200,0,null,0,0,200,200,0]
["Oui","Snecma","21215CM4008","RIVET,",234,0,0,234,234,0,null,0,10,224,224,0,{"$nulls":5},0,0,224,224,0,null,null,0,0,224,224,0,null,null,0,0,224,224,0,null,0,0,224,224,0,null,0,0,224,224,0,null,0,0,224,224,0,null,null,0,0,224,224,0,{"$nulls":4},0,0,224,224,0,{"$nulls":4},0,0,{"$f":"VLOOKUP(C154,[1]TCD!$D:$E,2,0)","v":224},224,0,null,0,0,224,224,0,null,0,0,224,224,0,null,0,0,224,224,0]
["Oui","Snecma","21215TC1605",null,700,0,0,700,700,0,null,16,0,700,716,-16,{"$nulls":5},0,0,700,700,0,null,null,0,0,700,700,0,null,null,0,0,700,700,0,null,0,0,700,700,0,null,0,0,700,700,0,null,0,0,700,700,0,null,null,0,0,700,700,0,{"$nulls":4},0,0,700,700,0,{"$nulls":4},0,0,{"$f":"VLOOKUP(C155,[1]TCD!$D:$E,2,0)","v":700},700,0,null,0,0,700,700,0,null,0,0,700,700,0,null,0,0,700,700,0]
["Oui","Snecma","21215TC2407","RIVET",0,0,0,0,0,0,null,0,0,0,0,0,{"$nulls":5},0,0,0,0,0,null,null,0,0,0,0,0,null,null,0,0,0,0,0,null,0,0,0,0,0,null,0,0,0,0,0,null,0,0,0,0,0,null,null,0,0,0,0,0,{"$nulls":5},0,0,0,0,{"$nulls":4},0,0,0,0,0,null,0,0,0,0,0,null,0,0,0,0,0,null,0,0,0,0,0]
["Oui","Snecma","21215TC3206","RIVET",760,0,0,760,760,0,null,0,0,760,760,0,{"$nulls":5},0,0,760,760,0,null,null,0,0,760,760,0,null,null,0,0,760,760,0,null,0,0,760,760,0,null,0,0,760,760,0,null,0,0,760,760,0,null,null,0,0,760,760,0,{"$nulls":4},0,0,760,760,0,{"$nulls":4},0,0,{"$f":"VLOOKUP(C157,[1]TCD!$D:$E,2,0)","v":760},760,0,null,0,0,760,760,0,null,0,0,760,760,0,null,0,0,760,760,0]
[{"$error":"#N/A"},"Snecma","21215TC3207","RIVET",420,0,0,420,420,0,null,0,0,420,420,0,{"$nulls":5},0,0,420,420,0,null,null,0,0,420,420,0,null,null,0,0,420,420,0,null,0,0,420,420,0,null,0,0,420,420,0,null,0,0,420,420,0,null,null,0,0,420,420,0,{"$nulls":4},0,0,420,420,0,{"$nulls":4},0,0,{"$f":"VLOOKUP(C158,[1]TCD!$D:$E,2,0)","v":420},420,0,null,0,0,420,420,0,null,0,0,420,420,0,null,0,0,420,420,0]
["Oui","Snecma","21215TC3208","RIVET",384,0,0,384,384,0,null,0,0,384,384,0,{"$nulls":5},0,0,384,384,0,null,null,0,0,384,384,0,null,null,0,0,384,384,0,null,0,0,384,384,0,null,0,0,384,384,0,null,0,0,384,384,0,null,null,0,0,384,384,0,{"$nulls":4},0,0,384,384,0,{"$nulls":4},0,0,{"$f":"VLOOKUP(C159,[1]TCD!$D:$E,2,0)","v":384},384,0,null,0,0,384,384,0,null,0,0,384,384,0,null,0,0,384,384,0]
["Oui","Snecma","21215TC3607","RIVET",480,0,0,480,480,0,null,0,0,480,480,0,{"$nulls":5},0,0,480,480,0,null,null,0,0,480,480,0,null,null,0,0,480,480,0,null,0,0,480,480,0,null,0,0,480,480,0,null,0,0,480,480,0,null,null,0,0,480,480,0,{"$nulls":4},0,0,480,480,0,{"$nulls":4},0,0,{"$f":"VLOOKUP(C160,[1]TCD!$D:$E,2,0)","v":480},480,0,null,0,0,480,480,0,null,0,0,480,480,0,null,0,0,480,480,0]
["Oui","Snecma","21215TC3608","RIVET",809,0,0,809,809,0,null,0,0,809,809,0,{"$nulls":5},0,0,809,809,0,null,null,0,0,809,809,0,null,null,0,0,809,809,0,null,0,0,809,809,0,null,0,0,809,809,0,null,0,0,809,809,0,null,null,0,0,809,809,0,{"$nulls":4},0,0,809,809,0,{"$nulls":4},0,0,{"$f":"VLOOKUP(C161,[1]TCD!$D:$E,2,0)","v":809},809,0,null,0,0,809,809,0,null,0,0,809,809,0,null,0,0,809,809,0]
["Oui","Snecma","21215TS3208","RIVET, SOLID",1127,0,0,1127,1127,0,null,0,0,1127,1127,0,{"$nulls":5},0,0,1127,1127,0,null,null,0,0,1127,1127,0,null,null,0,0,1127,1127,0,null,46,0,1173,1173,0,null,0,26,1147,1147,0,null,0,0,1147,1147,0,null,null,0,0,1147,1147,0,{"$nulls":4},0,0,1147,1147,0,{"$nulls":4},0,0,{"$f":"VLOOKUP(C162,[1]TCD!$D:$E,2,0)","v":1147},1147,0,null,0,0,1147,1147,0,null,0,0,1147,1147,0,null,0,0,1147,1147,0]
["Oui","Snecma","21215TS3209","RIVET, SOLID",611,0,0,611,611,0,null,0,0,611,611,0,{"$nulls":5},0,0,611,611,0,null,null,0,0,611,611,0,null,null,0,0,611,611,0,null,0,0,611,611,0,null,0,0,611,611,0,null,0,0,611,611,0,null,null,0,0,611,611,0,{"$nulls":4},0,0,611,611,0,{"$nulls":4},0,0,{"$f":"VLOOKUP(C163,[1]TCD!$D:$E,2,0)","v":611},611,0,null,0,0,611,611,0,null,0,0,611,611,0,null,0,0,611,611,0]
["Oui","Snecma","21215TS3608","RIVET, SOLID",289,0,0,289,289,0,null,0,0,289,289,0,{"$nulls":5},0,0,289,289,0,null,null,0,0,289,289,0,null,null,0,0,289,289,0,null,0,0,289,289,0,null,0,0,289,289,0,null,0,0,289,289,0,null,null,0,0,289,289,0,{"$nulls":4},0,0,289,289,0,{"$nulls":4},0,0,{"$f":"VLOOKUP(C164,[1]TCD!$D:$E,2,0)","v":289},289,0,null,0,0,289,289,0,null,0,0,289,289,0,null,0,0,289,289,0]
["Oui","Snecma","21215TS3609","RIVET",0,0,0,0,0,0,null,0,0,0,0,0,{"$nulls":5},0,0,0,0,0,null,null,0,0,0,0,0,null,null,0,0,0,0,0,null,0,0,0,0,0,null,0,0,0,0,0,null,0,0,0,0,0,null,null,0,0,0,0,0,{"$nulls":5},0,0,0,0,{"$nulls":4},0,0,0,0,0,null,0,0,0,0,0,null,0,0,0,0,0,null,0,0,0,0,0]
["Oui","Snecma","21217CA3207","COUNTERSUNK HEAD-RIVET",919,0,0,919,919,0,null,0,0,919,919,0,{"$nulls":5},0,0,919,919,0,null,null,0,0,919,919,0,null,null,0,0,919,919,0,null,0,0,919,919,0,null,0,0,919,919,0,null,0,0,919,919,0,null,null,0,0,919,919,0,{"$nulls":4},0,0,919,919,0,{"$nulls":4},0,0,{"$f":"VLOOKUP(C166,[1]TCD!$D:$E,2,0)","v":919},919,0,null,0,0,919,919,0,null,0,0,919,919,0,null,0,0,919,919,0]
["Oui","Snecma","21217CA3208","COUNTERSUNK HEAD-RIVET",91,0,6,85,85,0,null,0,12,73,73,0,{"$nulls":5},0,6,67,67,0,null,null,0,6,61,61,0,null,null,0,0,61,61,0,null,0,0,61,61,0,null,6,18,49,49,0,null,0,0,49,49,0,null,null,0,0,49,49,0,{"$nulls":4},0,0,49,49,0,{"$nulls":4},0,0,{"$f":"VLOOKUP(C167,[1]TCD!$D:$E,2,0)","v":49},49,0,null,0,0,49,49,0,null,0,12,37,37,0,null,0,0,37,37,0]
["Oui","Snecma","21217CA3209","COUNTERSUNK HEAD-RIVET",74,0,0,74,74,0,null,0,0,74,74,0,{"$nulls":5},0,0,74,74,0,null,null,0,0,74,74,0,null,null,0,0,74,74,0,null,0,0,74,74,0,null,0,0,74,74,0,null,0,0,74,74,0,null,null,0,0,74,74,0,{"$nulls":4},0,0,74,74,0,{"$nulls":4},0,0,{"$f":"VLOOKUP(C168,[1]TCD!$D:$E,2,0)","v":74},74,0,null,0,0,74,74,0,null,0,0,74,74,0,null,0,0,74,74,0]
["Oui","Snecma","21217CA3210","COUNTERSUNK HEAD-RIVET",606,0,0,606,606,0,null,0,0,606,606,0,{"$nulls":5},0,0,606,606,0,null,null,0,0,606,606,0,null,null,0,0,606,606,0,null,0,0,606,606,0,null,0,0,606,606,0,null,0,0,606,606,0,null,null,0,0,606,606,0,{"$nulls":4},0,0,606,606,0,{"$nulls":4},0,0,{"$f":"VLOOKUP(C169,[1]TCD!$D:$E,2,0)","v":606},606,0,null,0,0,606,606,0,null,0,0,606,606,0,null,0,0,606,606,0]
["Oui","Snecma","21217CA3212","COUNTERSUNK HEAD-RIVET",200,0,0,200,200,0,null,0,0,200,200,0,{"$nulls":5},0,0,200,200,0,null,null,0,0,200,200,0,null,null,0,0,200,200,0,null,0,0,200,200,0,null,0,0,200,200,0,null,0,0,200,200,0,null,null,0,0,200,200,0,{"$nulls":4},0,0,200,200,0,{"$nulls":4},0,0,{"$f":"VLOOKUP(C170,[1]TCD!$D:$E,2,0)","v":200},200,0,null,0,0,200,200,0,null,0,0,200,200,0,null,0,0,200,200,0]
["Oui","Snecma","21217CA3610","COUNTERSUNK HEAD-RIVET",250,0,0,250,250,0,null,0,0,250,250,0,{"$nulls":5},0,0,250,250,0,null,null,0,0,250,250,0,null,null,0,0,250,250,0,null,0,0,250,250,0,null,0,0,250,250,0,null,0,0,250,250,0,null,null,0,0,250,250,0,{"$nulls":4},0,0,250,250,0,{"$nulls":4},0,0,{"$f":"VLOOKUP(C171,[1]TCD!$D:$E,2,0)","v":250},250,0,null,0,0,250,250,0,null,0,0,250,250,0,null,0,0,250,250,0]
["Oui","Snecma","21217TC3207","RIVET",500,0,0,500,500,0,null,0,0,500,500,0,{"$nulls":5},0,0,500,500,0,null,null,0,0,500,500,0,null,null,0,0,500,500,0,null,0,0,500,500,0,null,0,0,500,500,0,null,0,0,500,500,0,null,null,0,0,500,500,0,{"$nulls":4},0,0,500,500,0,{"$nulls":4},0,0,{"$f":"VLOOKUP(C172,[1]TCD!$D:$E,2,0)","v":500},500,0,null,0,0,500,500,0,null,0,0,500,500,0,null,0,0,500,500,0]
["Oui","Snecma","21217TC3208","RIVET",500,0,0,500,500,0,null,0,0,500,500,0,{"$nulls":5},0,0,500,500,0,null,null,0,0,500,500,0,null,null,0,0,500,500,0,null,0,0,500,500,0,null,0,0,500,500,0,null,0,0,500,500,0,null,null,0,0,500,500,0,{"$nulls":4},0,0,500,500,0,{"$nulls":4},0,0,{"$f":"VLOOKUP(C173,[1]TCD!$D:$E,2,0)","v":500},500,0,null,0,0,500,500,0,null,0,0,500,500,0,null,0,0,500,500,0]
["Oui","Snecma","21217TC3608","RIVET",400,0,0,400,400,0,null,0,0,400,400,0,{"$nulls":5},0,0,400,400,0,null,null,0,0,400,400,0,null,null,0,0,400,400,0,null,0,0,400,400,0,null,0,0,400,400,0,null,0,0,400,400,0,null,null,0,0,400,400,0,{"$nulls":4},0,0,400,400,0,{"$nulls":4},0,0,{"$f":"VLOOKUP(C174,[1]TCD!$D:$E,2,0)","v":400},400,0,null,0,0,400,400,0,null,0,0,400,400,0,null,0,0,400,400,0]
["Oui","Snecma","21217TC3609","RIVET",200,0,0,200,200,0,null,0,0,200,200,0,{"$nulls":5},0,0,200,200,0,null,null,0,0,200,200,0,null,null,0,0,200,200,0,null,0,0,200,200,0,null,0,0,200,200,0,null,0,0,200,200,0,null,null,0,0,200,200,0,{"$nulls":4},0,0,200,200,0,{"$nulls":4},0,0,{"$f":"VLOOKUP(C175,[1]TCD!$D:$E,2,0)","v":200},200,0,null,0,0,200,200,0,null,0,0,200,200,0,null,0,0,200,200,0]
["Oui","Snecma","21217TS3208",null,238,0,0,238,238,0,null,0,0,238,238,0,{"$nulls":5},0,0,238,238,0,null,null,0,0,238,238,0,null,null,0,0,238,238,0,null,0,0,238,238,0,null,0,0,238,238,0,null,0,0,238,238,0,null,null,0,0,238,238,0,{"$nulls":4},0,0,238,238,0,{"$nulls":4},0,0,{"$f":"VLOOKUP(C176,[1]TCD!$D:$E,2,0)","v":238},238,0,null,0,0,238,238,0,null,0,0,238,238,0,null,0,0,238,238,0]
["Oui","Snecma","21217TS3209","RIVET,",1493,0,0,1493,1493,0,null,0,0,1493,1493,0,{"$nulls":5},0,0,1493,1493,0,null,null,0,0,1493,1493,0,null,null,0,0,1493,1493,0,null,0,0,1493,1493,0,null,0,0,1493,1493,0,null,0,0,1493,1493,0,null,null,0,0,1493,1493,0,{"$nulls":4},0,0,1493,1493,0,{"$nulls":4},0,0,{"$f":"VLOOKUP(C177,[1]TCD!$D:$E,2,0)","v":1493},1493,0,null,0,0,1493,1493,0,null,0,0,1493,1493,0,null,0,0,1493,1493,0]
["Oui","Snecma","21217TS3210","RIVET, SOLID",326,0,0,326,326,0,null,0,0,326,326,0,{"$nulls":5},0,0,326,326,0,null,null,0,326,0,0,0,null,null,0,0,0,0,0,null,0,0,0,0,0,null,0,0,0,0,0,null,0,0,0,0,0,null,null,0,0,0,0,0,{"$nulls":4},100,0,100,100,0,{"$nulls":4},0,0,{"$f":"VLOOKUP(C178,[1]TCD!$D:$E,2,0)","v":100},100,0,null,0,0,100,100,0,null,0,0,100,100,0,null,0,0,100,100,0]
["Oui","Snecma","21217TS3610","RIVET",250,0,0,250,250,0,null,0,0,250,250,0,{"$nulls":5},0,0,250,250,0,null,null,0,0,250,250,0,null,null,0,0,250,250,0,null,0,0,250,250,0,null,0,0,250,250,0,null,0,0,250,250,0,null,null,0,0,250,250,0,{"$nulls":4},0,0,250,250,0,{"$nulls":4},0,0,{"$f":"VLOOKUP(C179,[1]TCD!$D:$E,2,0)","v":250},250,0,null,0,0,250,250,0,null,0,0,250,250,0,null,0,0,250,250,0]
["Oui","Snecma","21217TS3611","RIVET",0,0,0,0,0,0,null,0,0,0,0,0,{"$nulls":5},0,0,0,0,0,null,null,0,0,0,0,0,null,null,0,0,0,0,0,null,0,0,0,0,0,null,0,0,0,0,0,null,0,0,0,0,0,null,null,0,0,0,0,0,{"$nulls":5},0,0,0,0,{"$nulls":4},0,0,0,0,0,null,0,0,0,0,0,null,0,0,0,0,0,null,0,0,0,0,0]
["Oui","Snecma","21826495-7","OBTURATEUR",0,0,0,0,0,0,null,0,0,0,0,0,{"$nulls":5},0,0,0,0,0,null,null,0,0,0,0,0,null,null,0,0,0,0,0,null,0,0,0,0,0,null,0,0,0,0,0,null,0,0,0,0,0,null,null,0,0,0,0,0,{"$nulls":5},0,0,0,0,{"$nulls":4},0,0,0,0,0,null,0,0,0,0,0,null,0,0,0,0,0,null,0,0,0,0,0]
[{"$error":"#N/A"},"Snecma","22126BC040010L","VIS",417,0,0,417,417,0,null,0,0,417,417,0,{"$nulls":5},0,0,417,417,0,null,null,0,0,417,417,0,null,null,0,0,417,417,0,null,0,0,417,417,0,null,0,0,417,417,0,null,0,0,417,417,0,null,null,0,0,417,417,0,{"$nulls":4},12,0,429,429,0,{"$nulls":4},0,0,{"$f":"VLOOKUP(C182,[1]TCD!$D:$E,2,0)","v":429},429,0,null,0,0,429,429,0,null,0,0,429,429,0,null,0,0,429,429,0]
["Oui","Snecma","22220TK060020X","VIS",352,0,0,352,352,0,null,0,0,352,352,0,{"$nulls":5},0,0,352,352,0,null,null,0,0,352,352,0,null,null,0,0,352,352,0,null,0,0,352,352,0,null,0,0,352,352,0,null,0,0,352,352,0,null,null,0,1,351,351,0,{"$nulls":4},0,0,351,351,0,{"$nulls":4},0,0,{"$f":"VLOOKUP(C183,[1]TCD!$D:$E,2,0)","v":351},351,0,null,0,0,351,351,0,null,0,0,351,351,0,null,0,0,351,351,0]
["Oui","Snecma","22224CF030008E","BOLT, CHEESE HEAD",671,0,0,671,671,0,null,0,0,671,671,0,{"$nulls":5},0,0,671,671,0,null,null,0,0,671,671,0,null,null,0,0,671,671,0,null,0,0,671,671,0,null,0,2,669,669,0,null,0,0,669,669,0,null,null,0,0,669,669,0,{"$nulls":4},8,0,677,677,0,{"$nulls":4},0,4,{"$f":"VLOOKUP(C184,[1]TCD!$D:$E,2,0)","v":673},673,0,null,0,0,673,673,0,null,0,0,673,673,0,null,0,0,673,673,0]
["Oui","Snecma","22259BC040010","VIS",748,0,0,748,748,0,null,0,0,748,748,0,{"$nulls":5},0,0,748,748,0,null,null,0,0,748,748,0,null,null,0,0,748,748,0,null,0,0,748,748,0,null,0,6,742,742,0,null,0,6,736,736,0,null,null,0,6,730,730,0,{"$nulls":4},4,0,734,734,0,{"$nulls":4},0,0,{"$f":"VLOOKUP(C185,[1]TCD!$D:$E,2,0)","v":734},734,0,null,0,6,728,728,0,null,0,0,728,728,0,null,0,0,728,728,0]
["Oui","Snecma","22259BC040012","VIS",407,0,0,407,407,0,null,0,0,407,407,0,{"$nulls":5},0,0,407,407,0,null,null,0,0,407,407,0,null,null,0,0,407,407,0,null,0,0,407,407,0,null,0,8,399,399,0,null,0,8,391,391,0,null,null,0,8,383,383,0,{"$nulls":4},10,0,393,393,0,{"$nulls":4},0,0,{"$f":"VLOOKUP(C186,[1]TCD!$D:$E,2,0)","v":393},393,0,null,0,8,385,385,0,null,0,0,385,385,0,null,0,0,385,385,0]
["Oui","Snecma","22259BC050012","VIS",76,0,0,76,76,0,null,0,0,76,76,0,{"$nulls":5},0,0,76,76,0,null,null,0,0,76,76,0,null,null,0,0,76,76,0,null,0,0,76,76,0,null,0,4,72,72,0,null,0,1,71,71,0,null,null,0,0,71,71,0,{"$nulls":4},13,0,84,84,0,{"$nulls":4},0,0,{"$f":"VLOOKUP(C187,[1]TCD!$D:$E,2,0)","v":84},84,0,null,0,0,84,84,0,null,0,0,84,84,0,null,0,0,84,84,0]
["Oui","Snecma","22259TK060020X","VIS",324,0,0,324,324,0,null,0,0,324,324,0,{"$nulls":5},0,0,324,324,0,null,null,0,0,324,324,0,null,null,0,0,324,324,0,null,0,0,324,324,0,null,0,0,324,324,0,null,0,0,324,324,0,null,null,0,0,324,324,0,{"$nulls":4},2,0,326,326,0,{"$nulls":4},0,0,{"$f":"VLOOKUP(C188,[1]TCD!$D:$E,2,0)","v":326},326,0,null,0,0,326,326,0,null,0,0,326,326,0,null,0,0,326,326,0]
["Oui","Snecma","22291CA030006","VIS F/90 M3X6",174,0,0,174,174,0,null,0,0,174,174,0,{"$nulls":5},0,0,174,174,0,null,null,0,0,174,174,0,null,null,0,0,174,174,0,null,0,0,174,174,0,null,0,0,174,174,0,null,0,0,174,174,0,null,null,0,0,174,174,0,{"$nulls":4},2,0,176,176,0,{"$nulls":4},0,0,{"$f":"VLOOKUP(C189,[1]TCD!$D:$E,2,0)","v":176},176,0,null,0,0,176,176,0,null,0,0,176,176,0,null,0,0,176,176,0]
["Oui","Snecma","222K132-25",{"$error":"#N/A"},145,0,0,145,145,0,null,0,0,145,145,0,{"$nulls":5},0,0,145,145,0,null,null,0,0,145,145,0,null,null,0,0,145,145,0,null,0,0,145,145,0,null,0,0,145,145,0,null,0,0,145,145,0,null,null,0,0,145,145,0,{"$nulls":4},0,0,145,145,0,{"$nulls":4},0,0,{"$f":"VLOOKUP(C190,[1]TCD!$D:$E,2,0)","v":145},145,0,null,0,0,145,145,0,null,0,0,145,145,0,null,0,0,145,145,0]
["Oui","Snecma","222K142-25",{"$error":"#N/A"},116,0,0,116,116,0,null,0,0,116,116,0,{"$nulls":5},0,0,116,116,0,null,null,0,0,116,116,0,null,null,0,0,116,116,0,null,0,0,116,116,0,null,0,0,116,116,0,null,0,0,116,116,0,null,null,0,0,116,116,0,{"$nulls":4},0,0,116,116,0,{"$nulls":4},0,0,{"$f":"VLOOKUP(C191,[1]TCD!$D:$E,2,0)","v":116},116,0,null,0,0,116,116,0,null,0,0,116,116,0,null,0,0,116,116,0]
["Oui","Snecma","222K152-25G13","EMBOUT THERMORETRACTABLE COUDE",150,0,0,150,150,0,null,0,0,150,150,0,{"$nulls":5},0,0,150,150,0,null,null,0,0,150,150,0,null,null,0,0,150,150,0,null,0,0,150,150,0,null,0,0,150,150,0,null,0,0,150,150,0,null,null,0,0,150,150,0,{"$nulls":4},0,0,150,150,0,{"$nulls":4},0,0,{"$f":"VLOOKUP(C192,[1]TCD!$D:$E,2,0)","v":150},150,0,null,0,0,150,150,0,null,0,0,150,150,0,null,0,0,150,150,0]
["Oui","Snecma","222K163-25","SLEEVE HEAT SHRINKABLE",190,0,0,190,190,0,null,0,0,190,190,0,{"$nulls":5},0,0,190,190,0,null,null,0,0,190,190,0,null,null,0,0,190,190,0,null,0,0,190,190,0,null,0,0,190,190,0,null,0,0,190,190,0,null,null,0,0,190,190,0,{"$nulls":4},0,0,190,190,0,{"$nulls":4},0,0,{"$f":"VLOOKUP(C193,[1]TCD!$D:$E,2,0)","v":190},190,0,null,0,0,190,190,0,null,0,0,190,190,0,null,0,0,190,190,0]
["Oui","AIA","222K163-25-0",null,37,0,0,37,37,0,null,0,0,37,37,0,{"$nulls":5},0,0,37,37,0,null,null,0,0,37,37,0,null,null,0,0,37,37,0,null,0,0,37,37,0,null,0,0,37,37,0,null,0,0,37,37,0,null,null,0,0,37,37,0,{"$nulls":4},0,0,37,37,0,{"$nulls":4},0,0,{"$f":"VLOOKUP(C194,[1]TCD!$D:$E,2,0)","v":37},37,0,null,0,0,37,37,0,null,0,0,37,37,0,null,0,0,37,37,0]
["Oui","Snecma","23111CA030","WASHER , FLAT",584,0,0,584,584,0,null,0,0,584,584,0,{"$nulls":5},0,0,584,584,0,null,null,0,0,584,584,0,null,null,0,0,584,584,0,null,0,0,584,584,0,null,0,0,584,584,0,null,0,0,584,584,0,null,null,0,0,584,584,0,{"$nulls":4},0,0,584,584,0,{"$nulls":4},0,0,{"$f":"VLOOKUP(C195,[1]TCD!$D:$E,2,0)","v":584},584,0,null,0,0,584,584,0,null,0,0,584,584,0,null,0,0,584,584,0]
["Oui","Snecma","23111CA040","RONDELLE PLATE",205,0,0,205,205,0,null,0,0,205,205,0,{"$nulls":5},0,0,205,205,0,null,null,0,0,205,205,0,null,null,0,0,205,205,0,null,0,0,205,205,0,null,0,0,205,205,0,null,0,16,189,189,0,null,null,0,0,189,189,0,{"$nulls":4},0,0,189,189,0,{"$nulls":4},0,0,{"$f":"VLOOKUP(C196,[1]TCD!$D:$E,2,0)","v":189},189,0,null,0,0,189,189,0,null,0,0,189,189,0,null,0,0,189,189,0]
["Oui","Snecma","23112CA050","WASHER",214,0,0,214,214,0,null,0,0,214,214,0,{"$nulls":5},0,0,214,214,0,null,null,0,0,214,214,0,null,null,0,0,214,214,0,null,0,0,214,214,0,null,0,0,214,214,0,null,0,0,214,214,0,null,null,0,0,214,214,0,{"$nulls":4},0,0,214,214,0,{"$nulls":4},0,0,{"$f":"VLOOKUP(C197,[1]TCD!$D:$E,2,0)","v":214},{"$f":"BT197+CA197-CB197","v":214},{"$f":"CC197-CD197","v":0},null,0,0,214,{"$f":"CC197+CG197-CH197","v":214},{"$f":"CI197-CJ197","v":0},null,0,0,214,{"$f":"CI197+CM197-CN197","v":214},{"$f":"CO197-CP197","v":0},null,0,0,214,{"$f":"CO197+CS197-CT197","v":214},{"$f":"CU197-CV197","v":0}]
["Oui","Snecma","23112CA070","WASHER",261,0,0,261,261,0,null,0,0,261,261,0,{"$nulls":5},0,0,261,261,0,null,null,0,0,261,261,0,null,null,0,0,261,261,0,null,0,0,261,261,0,null,0,0,261,261,0,null,0,0,261,261,0,null,null,0,0,261,261,0,{"$nulls":4},0,0,261,261,0,{"$nulls":4},0,0,{"$f":"VLOOKUP(C198,[1]TCD!$D:$E,2,0)","v":261},261,0,null,0,0,261,261,0,null,0,0,261,261,0,null,0,0,261,261,0]
["Oui","Snecma","23310CA010010","SPLIT PIN",2859,0,0,2859,2859,0,null,0,1,2858,2858,0,{"$nulls":5},0,0,2858,2858,0,null,null,0,2,2856,2856,0,null,null,0,0,2856,2856,0,null,0,0,2856,2856,0,null,0,0,2856,2856,0,null,0,0,2856,2856,0,null,null,0,1,2855,2855,0,{"$nulls":4},3,1,2857,2857,0,{"$nulls":4},0,2,{"$f":"VLOOKUP(C199,[1]TCD!$D:$E,2,0)","v":2855},2855,0,null,0,0,2855,2855,0,null,0,1,2854,2854,0,null,0,1,2853,2853,0]
["Oui","Snecma","243D022-25G04","SLEEVE,HEAT SHRINKABLE",50,0,0,50,50,0,null,0,0,50,50,0,{"$nulls":5},0,0,50,50,0,null,null,0,0,50,50,0,null,null,0,0,50,50,0,null,0,0,50,50,0,null,0,0,50,50,0,null,0,0,50,50,0,null,null,0,0,50,50,0,{"$nulls":4},0,0,50,50,0,{"$nulls":4},0,0,{"$f":"VLOOKUP(C200,[1]TCD!$D:$E,2,0)","v":50},50,0,null,0,0,50,50,0,null,0,0,50,50,0,null,0,0,50,50,0]
["Oui","Snecma","25,00X2,65-64C8",null,60,0,0,60,60,0,null,0,0,60,60,0,{"$nulls":5},0,0,60,60,0,null,null,0,0,60,60,0,null,null,0,0,60,60,0,null,0,0,60,60,0,null,0,0,60,60,0,null,0,0,60,60,0,null,null,0,0,60,60,0,{"$nulls":4},0,0,60,60,0,{"$nulls":4},0,0,{"$f":"VLOOKUP(C201,[1]TCD!$D:$E,2,0)","v":60},60,0,null,0,0,60,60,0,null,0,0,60,60,0,null,0,0,60,60,0]
["Oui","Snecma","26013573-2","CAPTEUR POSITION V.A.G",9,0,0,9,9,0,null,0,1,8,8,0,{"$nulls":5},0,0,8,8,0,null,null,0,0,8,8,0,null,null,0,0,8,8,0,null,0,0,8,8,0,null,0,0,8,8,0,null,0,0,8,8,0,null,null,0,0,8,8,0,{"$nulls":4},0,0,8,8,0,{"$nulls":4},0,0,{"$f":"VLOOKUP(C202,[1]TCD!$D:$E,2,0)","v":8},8,0,null,0,0,8,8,0,null,0,0,8,8,0,null,0,0,8,8,0]
["Oui","Snecma","261960725-0101","S-ENS RECHANGE COEUR NUMERIQUE",0,0,0,0,0,0,null,0,0,0,0,0,{"$nulls":5},0,0,0,0,0,null,null,0,0,0,0,0,null,null,0,0,0,0,0,null,0,0,0,0,0,null,0,0,0,0,0,null,0,0,0,0,0,null,null,0,0,0,0,0,{"$nulls":5},0,0,0,0,{"$nulls":4},0,0,0,0,0,null,0,0,0,0,0,null,0,0,0,0,0,null,0,0,0,0,0]
["Oui","Snecma","261960725-0102",null,0,0,0,0,0,0,null,0,0,0,0,0,{"$nulls":5},0,0,0,0,0,null,null,0,0,0,0,0,null,null,0,0,0,0,0,null,0,0,0,0,0,null,0,0,0,0,0,null,0,0,0,0,0,null,null,0,0,0,0,0,{"$nulls":5},0,0,0,0,{"$nulls":4},0,0,0,0,0,null,0,0,0,0,0,null,0,0,0,0,0,null,0,0,0,0,0]
["Oui","Snecma","261960811-0101","S-ENS RECHANGE COMMUNICATION",0,0,0,0,0,0,null,0,0,0,0,0,{"$nulls":5},0,0,0,0,0,null,null,0,0,0,0,0,null,null,0,0,0,0,0,null,0,0,0,0,0,null,0,0,0,0,0,null,0,0,0,0,0,null,null,0,0,0,0,0,{"$nulls":5},0,0,0,0,{"$nulls":4},0,0,0,0,0,null,0,0,0,0,0,null,0,0,0,0,0,null,0,0,0,0,0]
["Oui","Snecma","263W023-25",{"$error":"#N/A"},95,0,0,95,95,0,null,0,0,95,95,0,{"$nulls":5},0,0,95,95,0,null,null,0,0,95,95,0,null,null,0,0,95,95,0,null,0,0,95,95,0,null,0,0,95,95,0,null,0,0,95,95,0,null,null,0,0,95,95,0,{"$nulls":4},0,0,95,95,0,{"$nulls":4},0,0,{"$f":"VLOOKUP(C206,[1]TCD!$D:$E,2,0)","v":95},95,0,null,0,0,95,95,0,null,0,0,95,95,0,null,0,0,95,95,0]
["Oui","Snecma","264W012-25",{"$error":"#N/A"},50,0,0,50,50,0,null,0,0,50,50,0,{"$nulls":5},0,0,50,50,0,null,null,0,0,50,50,0,null,null,0,0,50,50,0,null,0,0,50,50,0,null,0,0,50,50,0,null,0,0,50,50,0,null,null,0,0,50,50,0,{"$nulls":4},0,0,50,50,0,{"$nulls":4},0,0,{"$f":"VLOOKUP(C207,[1]TCD!$D:$E,2,0)","v":50},50,0,null,0,0,50,50,0,null,0,0,50,50,0,null,0,0,50,50,0]
["Oui","AIA","2AGF0507BLS",null,132,0,0,132,132,0,null,0,0,132,132,0,{"$nulls":5},0,0,132,132,0,null,null,0,0,132,132,0,null,null,0,0,132,132,0,null,0,0,132,132,0,null,0,0,132,132,0,null,0,0,132,132,0,null,null,0,0,132,132,0,{"$nulls":4},0,0,132,132,0,{"$nulls":4},0,0,{"$f":"VLOOKUP(C208,[1]TCD!$D:$E,2,0)","v":132},132,0,null,0,0,132,132,0,null,0,0,132,132,0,null,0,0,132,132,0]
["Oui","AIA","2AGF0509BLS",null,749,0,0,749,749,0,null,0,0,749,749,0,{"$nulls":5},0,0,749,749,0,null,null,0,0,749,749,0,null,null,0,0,749,749,0,null,0,0,749,749,0,null,0,0,749,749,0,null,0,0,749,749,0,null,null,0,0,749,749,0,{"$nulls":4},0,0,749,749,0,{"$nulls":4},0,0,{"$f":"VLOOKUP(C209,[1]TCD!$D:$E,2,0)","v":749},749,0,null,0,0,749,749,0,null,0,0,749,749,0,null,0,0,749,749,0]
["Oui","Snecma","2R500Y158B","AIGUILLE",1320,0,0,1320,1320,0,null,0,0,1320,1320,0,{"$nulls":5},0,0,1320,1320,0,null,null,0,0,1320,1320,0,null,null,0,0,1320,1320,0,null,0,0,1320,1320,0,null,0,28,1292,1292,0,null,0,0,1292,1292,0,null,null,0,0,1292,1292,0,{"$nulls":4},62,0,1354,1354,0,{"$nulls":4},0,0,{"$f":"VLOOKUP(C210,[1]TCD!$D:$E,2,0)","v":1354},1354,0,null,0,0,1354,1354,0,null,0,0,1354,1354,0,null,0,0,1354,1354,0]
["Oui","Snecma","300-017G",{"$error":"#N/A"},443,0,0,443,443,0,null,0,0,443,443,0,{"$nulls":5},0,0,443,443,0,null,null,0,0,443,443,0,null,null,0,0,443,443,0,null,0,0,443,443,0,null,0,1,442,442,0,null,0,2,440,440,0,null,null,0,0,440,440,0,{"$nulls":4},0,1,439,439,0,{"$nulls":4},0,2,{"$f":"VLOOKUP(C211,[1]TCD!$D:$E,2,0)","v":437},437,0,null,0,0,437,437,0,null,0,1,436,436,0,null,0,0,436,436,0]
["Oui","Snecma","300-656-301-0","BOUCHON STOCKAGE",100,0,0,100,100,0,null,0,0,100,100,0,{"$nulls":5},0,0,100,100,0,null,null,0,0,100,100,0,null,null,0,0,100,100,0,null,0,0,100,100,0,null,0,0,100,100,0,null,0,0,100,100,0,null,null,0,0,100,100,0,{"$nulls":4},0,0,100,100,0,{"$nulls":4},0,0,{"$f":"VLOOKUP(C212,[1]TCD!$D:$E,2,0)","v":100},100,0,null,0,0,100,100,0,null,0,0,100,100,0,null,0,0,100,100,0]
["Oui","Snecma","303-928-703-0","PATTE SUPPORT D'ECROU",221,0,0,221,221,0,null,0,0,221,221,0,{"$nulls":5},0,0,221,221,0,null,null,0,0,221,221,0,null,null,0,0,221,221,0,null,0,0,221,221,0,null,0,0,221,221,0,null,0,0,221,221,0,null,null,0,0,221,221,0,{"$nulls":4},0,0,221,221,0,{"$nulls":4},0,0,{"$f":"VLOOKUP(C213,[1]TCD!$D:$E,2,0)","v":221},221,0,null,0,0,221,221,0,null,0,0,221,221,0,null,0,0,221,221,0]
["Oui","Snecma","304-965-001-0","BOUCHON",69,0,2,67,67,0,null,0,2,65,65,0,{"$nulls":5},0,0,65,65,0,null,null,0,0,65,65,0,null,null,0,0,65,65,0,null,0,0,65,65,0,null,0,0,65,65,0,null,0,0,65,65,0,null,null,0,0,65,65,0,{"$nulls":4},2,0,67,67,0,{"$nulls":4},0,0,{"$f":"VLOOKUP(C214,[1]TCD!$D:$E,2,0)","v":67},67,0,null,0,0,67,67,0,null,0,0,67,67,0,null,0,0,67,67,0]
["Oui","Snecma","305-109-701-0","CAP-ALTERNATOR",32,0,0,32,32,0,null,0,0,32,32,0,{"$nulls":5},0,0,32,32,0,null,null,0,0,32,32,0,null,null,0,0,32,32,0,null,0,0,32,32,0,null,0,0,32,32,0,null,0,0,32,32,0,null,null,0,0,32,32,0,{"$nulls":4},0,0,32,32,0,{"$nulls":4},0,0,{"$f":"VLOOKUP(C215,[1]TCD!$D:$E,2,0)","v":32},32,0,null,0,0,32,32,0,null,0,0,32,32,0,null,0,0,32,32,0]
["Oui","Snecma","307-002-023-0","DISQUE 1 TOURILLON,COMP BP",7,0,0,7,7,0,null,0,0,7,7,0,{"$nulls":5},0,0,7,7,0,null,null,0,0,7,7,0,null,null,0,0,7,7,0,null,0,0,7,7,0,null,0,0,7,7,0,null,0,0,7,7,0,null,null,0,0,7,7,0,{"$nulls":4},0,0,7,7,0,{"$nulls":4},0,0,{"$f":"VLOOKUP(C216,[1]TCD!$D:$E,2,0)","v":7},7,0,null,0,0,7,7,0,null,0,0,7,7,0,null,0,0,7,7,0]
["Oui","Snecma","307-002-025-0","DISQUE 1 TOURILLON COMP BP",0,0,0,0,0,0,null,0,0,0,0,0,{"$nulls":5},0,0,0,0,0,null,null,0,0,0,0,0,null,null,0,0,0,0,0,null,0,0,0,0,0,null,0,0,0,0,0,null,0,0,0,0,0,null,null,0,0,0,0,0,{"$nulls":5},0,0,0,0,{"$nulls":4},0,0,0,0,0,null,0,0,0,0,0,null,0,0,0,0,0,null,0,0,0,0,0]
["Oui","Snecma","307-002-173-0","DISQUE 2 TOURILLON,COMP BP",1,0,0,1,1,0,null,0,0,1,1,0,{"$nulls":5},0,0,1,1,0,null,null,0,0,1,1,0,null,null,0,0,1,1,0,null,0,0,1,1,0,null,0,0,1,1,0,null,0,0,1,1,0,null,null,0,0,1,1,0,{"$nulls":4},0,0,1,1,0,{"$nulls":4},0,0,{"$f":"VLOOKUP(C218,[1]TCD!$D:$E,2,0)","v":1},1,0,null,0,0,1,1,0,null,0,0,1,1,0,null,0,0,1,1,0]
["Oui","Snecma","307-002-174-0","DISQUE 2 TOURILLON,COMP BP",0,0,0,0,0,0,null,0,0,0,0,0,{"$nulls":5},0,0,0,0,0,null,null,0,0,0,0,0,null,null,0,0,0,0,0,null,0,0,0,0,0,null,0,0,0,0,0,null,0,0,0,0,0,null,null,0,0,0,0,0,{"$nulls":5},0,0,0,0,{"$nulls":4},0,0,0,0,0,null,0,0,0,0,0,null,0,0,0,0,0,null,0,0,0,0,0]
["Oui","Snecma","307-002-175-0","DISQUE 2 TOURILLON, COMP-BP",16,0,0,16,16,0,null,0,0,16,16,0,{"$nulls":5},0,0,16,16,0,null,null,0,0,16,16,0,null,null,0,0,16,16,0,null,0,0,16,16,0,null,0,0,16,16,0,null,0,0,16,16,0,null,null,0,0,16,16,0,{"$nulls":4},0,0,16,16,0,{"$nulls":4},0,1,{"$f":"VLOOKUP(C220,[1]TCD!$D:$E,2,0)","v":15},15,0,null,0,0,15,15,0,null,0,1,14,14,0,null,0,0,14,14,0]
["Oui","Snecma","307-002-532-0","DISQUE 3,COMPRESSEUR BP",8,0,0,8,8,0,null,0,0,8,8,0,{"$nulls":5},0,0,8,8,0,null,null,0,0,8,8,0,null,null,0,0,8,8,0,null,0,0,8,8,0,null,0,0,8,8,0,null,0,0,8,8,0,null,null,0,0,8,8,0,{"$nulls":4},0,0,8,8,0,{"$nulls":4},0,0,{"$f":"VLOOKUP(C221,[1]TCD!$D:$E,2,0)","v":8},8,0,null,0,0,8,8,0,null,0,0,8,8,0,null,0,0,8,8,0]
["Oui","Snecma","307-002-534-0","DISQUE 3,COMPRESSEUR BP",8,0,0,8,8,0,null,0,0,8,8,0,{"$nulls":5},0,0,8,8,0,null,null,0,0,8,8,0,null,null,0,0,8,8,0,null,0,0,8,8,0,null,0,0,8,8,0,null,0,0,8,8,0,null,null,0,0,8,8,0,{"$nulls":4},0,0,8,8,0,{"$nulls":4},0,1,{"$f":"VLOOKUP(C222,[1]TCD!$D:$E,2,0)","v":7},7,0,null,0,0,7,7,0,null,0,0,7,7,0,null,0,0,7,7,0]
["Oui","Snecma","307-002-809-6","AUBE MOBILE 1,COMP BP",766,0,0,720,766,-46,"Pas d' Entrées et pas de Sorties mais différence de Stock!",0,26,677,694,-17,{"$nulls":5},0,7,670,670,0,null,null,0,0,670,670,0,null,null,0,0,670,670,0,null,179,0,849,849,0,null,161,0,1010,1010,0,null,0,3,1007,1007,0,null,null,0,0,1007,1007,0,{"$nulls":4},0,0,1007,1007,0,{"$nulls":4},0,1,{"$f":"VLOOKUP(C223,[1]TCD!$D:$E,2,0)","v":1006},1006,0,null,0,0,1006,1006,0,null,0,0,1006,1006,0,null,0,0,1006,1006,0]
[{"$error":"#N/A"},"Snecma","307-002-906-6","AUBE MOBILE 2,COMP BP",1585,0,0,1585,1585,0,null,0,0,1585,1585,0,{"$nulls":5},0,0,1585,1585,0,null,null,0,0,1585,1585,0,null,null,0,0,1585,1585,0,null,0,1,1584,1584,0,null,0,0,1584,1584,0,null,0,0,1584,1584,0,null,null,0,0,1584,1584,0,{"$nulls":4},0,0,1584,1584,0,{"$nulls":4},0,0,{"$f":"VLOOKUP(C224,[1]TCD!$D:$E,2,0)","v":1584},1584,0,null,0,0,1584,1584,0,null,0,0,1584,1584,0,null,0,0,1584,1584,0]
["Oui","Snecma","307-003-005-6","AUBE MOBILE 3,COMP BP",1743,0,0,1743,1743,0,null,0,0,1743,1743,0,{"$nulls":5},0,0,1743,1743,0,null,null,0,0,1743,1743,0,null,null,0,0,1743,1743,0,null,0,0,1743,1743,0,null,0,0,1743,1743,0,null,0,0,1743,1743,0,null,null,0,0,1743,1743,0,{"$nulls":4},0,41,1702,1702,0,{"$nulls":4},0,1,{"$f":"VLOOKUP(C225,[1]TCD!$D:$E,2,0)","v":1701},1701,0,null,0,0,1701,1701,0,null,0,0,1701,1701,0,null,0,1,1700,1700,0]
["Oui","Snecma","307-003-124-0","REDRESSEUR 1, COMPRESSEUR BP",45,0,0,45,45,0,null,0,0,44,45,-1,"Ecart de stock avec aucune entree ni sortie",{"$nulls":4},0,0,44,44,0,null,null,0,0,44,44,0,null,null,0,0,44,44,0,null,0,0,44,44,0,null,0,0,44,44,0,null,0,0,44,44,0,null,null,0,0,44,44,0,{"$nulls":4},0,1,43,43,0,{"$nulls":4},0,0,{"$f":"VLOOKUP(C226,[1]TCD!$D:$E,2,0)","v":43},43,0,null,0,0,43,43,0,null,0,0,43,43,0,null,0,0,43,43,0]
["Oui","Snecma","307-003-308-6","AUBE REDRESSEUR,ETAGE 1",5,0,0,5,5,0,null,0,0,5,5,0,{"$nulls":5},0,0,5,5,0,null,null,0,0,5,5,0,null,null,0,0,5,5,0,null,0,0,5,5,0,null,0,0,5,5,0,null,0,0,5,5,0,null,null,0,0,5,5,0,{"$nulls":4},0,0,5,5,0,{"$nulls":4},0,0,{"$f":"VLOOKUP(C227,[1]TCD!$D:$E,2,0)","v":5},5,0,null,0,0,5,5,0,null,0,0,5,5,0,null,0,0,5,5,0]
["Oui","Snecma","307-003-724-0","REDRESSEUR 2, COMPRESSEUR BP",34,0,0,33,34,-1,"Pas d' Entrées et pas de Sorties mais différence de Stock!",0,2,30,31,-1,{"$nulls":5},0,1,30,29,1,"Intersite traités avant la photo du 20/10",0,0,0,30,30,0,null,null,0,0,30,30,0,null,0,0,30,30,0,null,0,0,30,30,0,null,0,0,30,30,0,null,null,0,0,30,30,0,{"$nulls":4},0,2,28,28,0,{"$nulls":4},1,0,{"$f":"VLOOKUP(C228,[1]TCD!$D:$E,2,0)","v":29},29,0,null,0,0,29,29,0,null,1,0,30,30,0,null,0,0,30,30,0]
["Oui","Snecma","307-003-908-6",null,6,0,0,6,6,0,null,0,0,6,6,0,{"$nulls":5},0,0,6,6,0,null,null,0,0,6,6,0,null,null,0,0,6,6,0,null,0,0,6,6,0,null,0,0,0,6,-6,"en écart ?\npièce d indus pour REP chgt aubes sur RD2, pas identifié comme conso habituelle. Élément de commande different. Rectifié. Il y a bien une conso de 6 à faire apparaître. Dès aujourd hui nous intégrons les consos de pièces ",0,0,0,0,0,null,null,0,0,0,0,0,{"$nulls":4},6,0,6,6,0,{"$nulls":4},0,0,{"$f":"VLOOKUP(C229,[1]TCD!$D:$E,2,0)","v":6},6,0,null,0,0,6,6,0,null,0,0,6,6,0,null,0,0,6,6,0]
["Oui","Snecma","307-004-333-0","REDRESSEUR 3,COMPRESSEUR BP",15,0,1,14,14,0,null,0,0,15,14,1,"Ecart de stock avec aucune entree ni sortie",null,null,1,null,1,0,14,16,-2,"Réintégration avant S42 + 1 conso à voir semaine suivante",-1,2,0,16,16,0,null,null,0,1,15,15,0,null,1,1,15,15,0,null,2,0,17,17,0,null,0,0,17,17,0,null,null,0,0,17,17,0,{"$nulls":4},0,1,16,16,0,{"$nulls":4},0,0,{"$f":"VLOOKUP(C230,[1]TCD!$D:$E,2,0)","v":16},16,0,null,0,0,16,16,0,null,2,0,18,18,0,null,2,0,20,20,0]
["Oui","Snecma","307-004-505-6",null,17,0,0,17,17,0,null,0,0,17,17,0,{"$nulls":5},0,0,17,17,0,null,null,0,0,17,17,0,null,null,0,0,17,17,0,null,0,0,17,17,0,null,0,0,17,17,0,null,0,8,9,9,0,null,null,0,0,9,9,0,{"$nulls":4},0,1,8,8,0,{"$nulls":4},0,0,{"$f":"VLOOKUP(C231,[1]TCD!$D:$E,2,0)","v":8},8,0,null,0,0,8,8,0,null,0,0,8,8,0,null,0,0,8,8,0]
["Oui","Snecma","307-007-267-0","COUVERCLE,TURBINE HP",0,0,0,0,0,0,null,0,0,0,0,0,{"$nulls":5},0,0,0,0,0,null,null,0,0,0,0,0,null,null,0,0,0,0,0,null,0,0,0,0,0,null,0,0,0,0,0,null,0,0,0,0,0,null,null,0,0,0,0,0,{"$nulls":5},0,0,0,0,{"$nulls":4},0,0,0,0,0,null,0,0,0,0,0,null,0,0,0,0,0,null,0,0,0,0,0]
[{"$error":"#N/A"},"AIA","307-007-453-0",null,3,0,0,3,3,0,null,0,0,3,3,0,{"$nulls":5},0,0,3,3,0,null,null,0,0,3,3,0,null,null,0,0,3,3,0,null,0,0,3,3,0,null,0,0,3,3,0,null,0,0,3,3,0,null,null,0,0,3,3,0,{"$nulls":4},0,0,3,3,0,{"$nulls":4},0,0,{"$f":"VLOOKUP(C233,[1]TCD!$D:$E,2,0)","v":3},3,0,null,0,0,3,3,0,null,0,0,3,3,0,null,0,0,3,3,0]
["Oui","Snecma","307-007-454-0","SECTEUR D'ARRET, TURB HP",0,0,0,0,0,0,null,0,0,0,0,0,{"$nulls":5},0,0,0,0,0,null,null,0,0,0,0,0,null,null,0,0,0,0,0,null,0,0,0,0,0,null,0,0,0,0,0,null,0,0,0,0,0,null,null,0,0,0,0,0,{"$nulls":5},0,0,0,0,{"$nulls":4},0,0,0,0,0,null,0,0,0,0,0,null,0,0,0,0,0,null,0,0,0,0,0]
["Oui","Snecma","307-007-455-0","SECTEUR ARRET,TURB HP",0,0,0,0,0,0,null,0,0,0,0,0,{"$nulls":5},0,0,0,0,0,null,null,0,0,0,0,0,null,null,0,0,0,0,0,null,0,0,0,0,0,null,0,0,0,0,0,null,0,0,0,0,0,null,null,0,0,0,0,0,{"$nulls":5},0,0,0,0,{"$nulls":4},0,0,0,0,0,null,0,0,0,0,0,null,0,0,0,0,0,null,0,0,0,0,0]
["Oui","Snecma","307-007-568-0","FLASQUE DE TURBINE HP",0,0,0,0,0,0,null,0,0,0,0,0,{"$nulls":5},0,0,0,0,0,null,null,0,0,0,0,0,null,null,0,0,0,0,0,null,0,0,0,0,0,null,0,0,0,0,0,null,0,0,0,0,0,null,null,0,0,0,0,0,{"$nulls":5},0,0,0,0,{"$nulls":4},0,0,0,0,0,null,0,0,0,0,0,null,0,0,0,0,0,null,0,0,0,0,0]
["Oui","Snecma","307-007-570-0","FLASQUE DE TURBINE HP",28,0,0,28,28,0,null,0,0,28,28,0,{"$nulls":5},0,0,28,28,0,null,null,0,0,28,28,0,null,null,0,0,28,28,0,null,0,0,28,28,0,null,0,0,28,28,0,null,0,0,28,28,0,null,null,0,0,28,28,0,{"$nulls":4},0,0,28,28,0,{"$nulls":4},0,0,{"$f":"VLOOKUP(C237,[1]TCD!$D:$E,2,0)","v":28},28,0,null,0,0,28,28,0,null,0,0,28,28,0,null,0,0,28,28,0]
["Oui","Snecma","307-007-580-0",null,0,0,0,0,0,0,null,0,0,0,0,0,{"$nulls":5},0,0,0,0,0,null,null,0,0,0,0,0,null,null,0,0,0,0,0,null,0,0,0,0,0,null,0,0,0,0,0,null,0,0,0,0,0,null,null,0,0,0,0,0,{"$nulls":5},0,0,0,0,{"$nulls":4},0,0,0,0,0,null,0,0,0,0,0,null,0,0,0,0,0,null,0,0,0,0,0]
["Oui","Snecma","307-007-581-0","FLASQUE DE TURBINE HP",15,0,0,15,15,0,null,0,0,15,15,0,{"$nulls":5},0,0,15,15,0,null,null,0,0,15,15,0,null,null,0,0,15,15,0,null,0,0,15,15,0,null,0,0,15,15,0,null,0,0,15,15,0,null,null,0,0,15,15,0,{"$nulls":4},0,0,15,15,0,{"$nulls":4},0,0,{"$f":"VLOOKUP(C239,[1]TCD!$D:$E,2,0)","v":15},15,0,null,0,0,15,15,0,null,0,0,15,15,0,null,0,0,15,15,0]
["Oui","Snecma","307-007-652-0","DISQUE DE TURBINE BP",0,0,0,0,0,0,null,0,0,0,0,0,{"$nulls":5},0,0,0,0,0,null,null,0,0,0,0,0,null,null,0,0,0,0,0,null,0,0,0,0,0,null,0,0,0,0,0,null,0,0,0,0,0,null,null,0,0,0,0,0,{"$nulls":5},0,0,0,0,{"$nulls":4},0,0,0,0,0,null,0,0,0,0,0,null,0,0,0,0,0,null,0,0,0,0,0]
["Oui","Snecma","307-008-153-0","ANNEAU D'ETANCHEITE,TURB B",0,0,0,0,0,0,null,0,0,0,0,0,{"$nulls":5},0,0,0,0,0,null,null,0,0,0,0,0,null,null,0,0,0,0,0,null,0,0,0,0,0,null,0,0,0,0,0,null,0,0,0,0,0,null,null,0,0,0,0,0,{"$nulls":5},0,0,0,0,{"$nulls":4},0,0,0,0,0,null,0,0,0,0,0,null,0,0,0,0,0,null,0,0,0,0,0]
[{"$error":"#N/A"},"Snecma","307-008-512-0","TOURILLON,TURB BP",0,0,0,0,0,0,null,0,0,0,0,0,{"$nulls":5},0,0,0,0,0,null,null,0,0,0,0,0,null,null,0,0,0,0,0,null,0,0,0,0,0,null,0,0,0,0,0,null,0,0,0,0,0,null,null,0,0,0,0,0,{"$nulls":5},0,0,0,0,{"$nulls":4},0,0,0,0,0,null,0,0,0,0,0,null,0,0,0,0,0,null,0,0,0,0,0]
[{"$error":"#N/A"},"Snecma","307-008-513-0","TOURILLON,TURB BP",1,0,0,1,1,0,null,0,0,1,1,0,{"$nulls":5},0,0,1,1,0,null,null,0,0,1,1,0,null,null,0,1,0,0,0,null,0,0,0,0,0,null,0,0,0,0,0,null,0,0,0,0,0,null,null,0,0,0,0,0,{"$nulls":5},0,0,0,0,{"$nulls":4},0,0,0,0,0,null,0,0,0,0,0,null,0,0,0,0,0,null,0,0,0,0,0]
[{"$error":"#N/A"},"Snecma","307-008-715-0","ARBRE DE TURBINE BP",0,0,0,0,0,0,null,0,0,0,0,0,{"$nulls":5},0,0,0,0,0,null,null,0,0,0,0,0,null,null,0,0,0,0,0,null,0,0,0,0,0,null,0,0,0,0,0,null,0,0,0,0,0,null,null,0,0,0,0,0,{"$nulls":5},0,0,0,0,{"$nulls":4},0,0,0,0,0,null,0,0,0,0,0,null,0,0,0,0,0,null,0,0,0,0,0]
[{"$error":"#N/A"},"Snecma","307-008-716-0","ARBRE DE TURBINE BP",0,0,0,0,0,0,null,0,0,0,0,0,{"$nulls":5},0,0,0,0,0,null,null,0,0,0,0,0,null,null,0,0,0,0,0,null,0,0,0,0,0,null,0,0,0,0,0,null,0,0,0,0,0,null,null,0,0,0,0,0,{"$nulls":5},0,0,0,0,{"$nulls":4},0,0,0,0,0,null,0,0,0,0,0,null,0,0,0,0,0,null,0,0,0,0,0]
["Oui","Snecma","307-008-717-0","ARBRE DE TURBINE BP",0,0,0,0,0,0,null,0,0,0,0,0,{"$nulls":5},0,0,0,0,0,null,null,0,0,0,0,0,null,null,0,0,0,0,0,null,0,0,0,0,0,null,0,0,0,0,0,null,0,0,0,0,0,null,null,0,0,0,0,0,{"$nulls":5},0,0,0,0,{"$nulls":4},0,0,0,0,0,null,0,0,0,0,0,null,0,0,0,0,0,null,0,0,0,0,0]
["Oui","Snecma","307-011-001-0","PIGNON 39 DENTS",11,0,0,11,11,0,null,0,0,11,11,0,{"$nulls":5},0,0,11,11,0,null,null,0,0,11,11,0,null,null,0,0,11,11,0,null,0,0,11,11,0,null,0,0,11,11,0,null,0,0,11,11,0,null,null,0,0,11,11,0,{"$nulls":4},0,0,11,11,0,{"$nulls":4},0,0,{"$f":"VLOOKUP(C247,[1]TCD!$D:$E,2,0)","v":11},11,0,null,0,0,11,11,0,null,0,0,11,11,0,null,0,0,11,11,0]
["Oui","Snecma","307-011-403-0","GARNITURE D'ETANCHEITE",5,0,0,5,5,0,null,0,0,5,5,0,{"$nulls":5},0,0,5,5,0,null,null,0,0,5,5,0,null,null,0,0,5,5,0,null,0,0,5,5,0,null,0,0,5,5,0,null,5,0,10,10,0,null,null,0,0,10,10,0,{"$nulls":4},0,0,10,10,0,{"$nulls":4},0,0,{"$f":"VLOOKUP(C248,[1]TCD!$D:$E,2,0)","v":10},10,0,null,0,0,10,10,0,null,0,0,10,10,0,null,0,0,10,10,0]
["Oui","Snecma","307-011-601-0","ROULEMENT A BILLES",25,0,0,25,25,0,null,0,0,25,25,0,{"$nulls":5},0,0,25,25,0,null,null,0,0,25,25,0,null,null,0,0,25,25,0,null,0,0,25,25,0,null,14,0,39,39,0,null,0,0,39,39,0,null,null,0,0,39,39,0,{"$nulls":4},0,0,39,39,0,{"$nulls":4},0,0,{"$f":"VLOOKUP(C249,[1]TCD!$D:$E,2,0)","v":39},39,0,null,0,0,39,39,0,null,0,0,39,39,0,null,0,0,39,39,0]
["Oui","Snecma","307-011-701-0","ROULEMENT A BILLES",48,0,0,48,48,0,null,0,0,48,48,0,{"$nulls":5},0,0,48,48,0,null,null,0,0,48,48,0,null,null,0,0,48,48,0,null,0,0,48,48,0,null,0,0,48,48,0,null,0,0,48,48,0,null,null,0,0,48,48,0,{"$nulls":4},0,0,48,48,0,{"$nulls":4},0,0,{"$f":"VLOOKUP(C250,[1]TCD!$D:$E,2,0)","v":48},48,0,null,0,0,48,48,0,null,0,0,48,48,0,null,0,0,48,48,0]
["Oui","Snecma","307-016-501-0","GICLEUR",14,0,0,14,14,0,null,0,0,14,14,0,{"$nulls":5},0,0,14,14,0,null,null,0,0,14,14,0,null,null,0,0,14,14,0,null,0,0,14,14,0,null,0,0,14,14,0,null,0,0,14,14,0,null,null,0,0,14,14,0,{"$nulls":4},0,0,14,14,0,{"$nulls":4},0,1,{"$f":"VLOOKUP(C257,[1]TCD!$D:$E,2,0)","v":13},13,0,null,0,0,13,13,0,null,0,0,13,13,0,null,0,1,12,12,0]
["Oui","Snecma","307-018-103-0","ENTRETOISE",6,0,0,6,6,0,null,0,0,6,6,0,{"$nulls":5},0,0,6,6,0,null,null,0,0,6,6,0,null,null,0,0,6,6,0,null,0,0,6,6,0,null,0,0,6,6,0,null,0,0,6,6,0,null,null,0,0,6,6,0,{"$nulls":4},0,0,6,6,0,{"$nulls":4},0,0,{"$f":"VLOOKUP(C266,[1]TCD!$D:$E,2,0)","v":6},6,0,null,0,0,6,6,0,null,0,0,6,6,0,null,0,0,6,6,0]
["Oui","Snecma","307-019-902-0","BRIDE",11,0,0,11,11,0,null,0,0,11,11,0,{"$nulls":5},0,0,11,11,0,null,null,0,0,11,11,0,null,null,0,0,11,11,0,null,0,0,11,11,0,null,0,0,11,11,0,null,0,0,11,11,0,null,null,0,0,11,11,0,{"$nulls":4},0,0,11,11,0,{"$nulls":4},0,0,{"$f":"VLOOKUP(C271,[1]TCD!$D:$E,2,0)","v":11},11,0,null,0,0,11,11,0,null,0,0,11,11,0,null,0,0,11,11,0]
["Oui","Snecma","307-021-401-0","SUPPORT DE PLAQUETTE IDENTIT",17,0,0,17,17,0,null,0,0,17,17,0,{"$nulls":5},0,0,17,17,0,null,null,0,0,17,17,0,null,null,0,0,17,17,0,null,0,0,17,17,0,null,0,0,17,17,0,null,0,0,17,17,0,null,null,0,0,17,17,0,{"$nulls":4},0,0,17,17,0,{"$nulls":4},0,1,{"$f":"VLOOKUP(C282,[1]TCD!$D:$E,2,0)","v":16},16,0,null,0,0,16,16,0,null,0,0,16,16,0,null,0,0,16,16,0]
["Oui","Snecma","307-023-604-0","ROTOR POMPE",64,0,0,64,64,0,null,0,0,64,64,0,{"$nulls":5},0,0,64,64,0,null,null,0,0,64,64,0,null,null,0,0,64,64,0,null,0,0,64,64,0,null,0,0,64,64,0,null,0,0,64,64,0,null,null,0,0,64,64,0,{"$nulls":4},0,0,64,64,0,{"$nulls":4},0,0,{"$f":"VLOOKUP(C298,[1]TCD!$D:$E,2,0)","v":64},64,0,null,0,0,64,64,0,null,0,0,64,64,0,null,0,0,64,64,0]
["Oui","Snecma","307-023-903-0","STATOR POMPE",43,0,0,43,43,0,null,0,0,43,43,0,{"$nulls":5},0,0,43,43,0,null,null,0,0,43,43,0,null,null,0,0,43,43,0,null,0,0,43,43,0,null,0,0,43,43,0,null,0,0,43,43,0,null,null,0,0,43,43,0,{"$nulls":4},0,0,43,43,0,{"$nulls":4},0,0,{"$f":"VLOOKUP(C301,[1]TCD!$D:$E,2,0)","v":43},43,0,null,0,0,43,43,0,null,0,0,43,43,0,null,0,0,43,43,0]
["Oui","Snecma","307-026-901-0","OBTURATEUR",31,0,0,31,31,0,null,0,0,31,31,0,{"$nulls":5},0,0,31,31,0,null,null,0,0,31,31,0,null,null,0,0,31,31,0,null,0,0,31,31,0,null,0,0,31,31,0,null,0,0,31,31,0,null,null,0,0,31,31,0,{"$nulls":4},3,0,34,34,0,{"$nulls":4},0,0,{"$f":"VLOOKUP(C312,[1]TCD!$D:$E,2,0)","v":34},34,0,null,0,0,34,34,0,null,0,0,34,34,0,null,0,0,34,34,0]
["Oui","Snecma","307-035-702-0","BUTEE ANTI-ROTATION, REDR4",355,0,0,355,355,0,null,0,0,355,355,0,{"$nulls":5},0,0,355,355,0,null,null,0,2,353,353,0,null,null,0,0,353,353,0,null,0,0,353,353,0,null,0,0,353,353,0,null,0,0,353,353,0,null,null,0,0,353,353,0,{"$nulls":4},0,0,353,353,0,{"$nulls":4},0,4,{"$f":"VLOOKUP(C327,[1]TCD!$D:$E,2,0)","v":349},349,0,null,0,0,349,349,0,null,0,0,349,349,0,null,0,2,347,347,0]
["Oui","Snecma","307-042-908-0","VIROLE DOUBLE ETANCHEITE",6,0,0,6,6,0,null,0,0,6,6,0,{"$nulls":5},0,0,6,6,0,null,null,0,0,6,6,0,null,null,0,0,6,6,0,null,0,0,6,6,0,null,1,1,6,6,0,null,0,0,6,6,0,null,null,0,0,6,6,0,"ecart mesuré","EMG90","Emplacement EMG 90 (emplacement temporaire) déjà intégrée dans l'extraction de stocks\nEntrées comptés en S.48 & S.49. Manip AIA à affiner dans les extractions","OK",0,0,6,6,0,{"$nulls":4},0,0,{"$f":"VLOOKUP(C338,[1]TCD!$D:$E,2,0)","v":6},6,0,null,0,0,6,6,0,null,0,0,6,6,0,null,0,0,6,6,0]
["Oui","Snecma","307-046-710-0","DEFLECTEUR",0,0,0,0,0,0,null,0,0,0,0,0,{"$nulls":5},0,0,0,0,0,null,null,0,0,0,0,0,null,null,0,0,0,0,0,null,0,0,0,0,0,null,0,0,0,0,0,null,0,0,0,0,0,null,null,0,0,0,0,0,{"$nulls":5},0,0,0,0,{"$nulls":4},0,0,0,0,0,null,0,0,0,0,0,null,0,0,0,0,0,null,0,0,0,0,0]
["Oui","Snecma","307-054-701-0","GOUPILLE",0,0,0,0,0,0,null,0,0,0,0,0,{"$nulls":5},0,0,0,0,0,null,null,0,0,0,0,0,null,null,0,0,0,0,0,null,0,0,0,0,0,null,0,0,0,0,0,null,0,0,0,0,0,null,null,0,0,0,0,0,{"$nulls":5},0,0,0,0,{"$nulls":4},0,0,0,0,0,null,0,0,0,0,0,null,0,0,0,0,0,null,0,0,0,0,0]
["Oui","Snecma","307-055-102-0","RONDELLE",58,0,0,58,58,0,null,0,0,58,58,0,{"$nulls":5},0,0,58,58,0,null,null,0,0,58,58,0,null,null,0,0,58,58,0,null,0,0,58,58,0,null,0,0,58,58,0,null,0,0,58,58,0,null,null,0,0,58,58,0,{"$nulls":4},0,0,58,58,0,{"$nulls":4},0,0,{"$f":"VLOOKUP(C358,[1]TCD!$D:$E,2,0)","v":58},58,0,null,0,0,58,58,0,null,0,0,58,58,0,null,0,0,58,58,0]
["Oui","Snecma","307-058-345-0","CARTER PC, SUPPORT TUYERE",0,0,0,0,0,0,null,0,0,0,0,0,{"$nulls":5},0,0,0,0,0,null,null,0,0,0,0,0,null,null,0,0,0,0,0,null,0,0,0,0,0,null,0,0,0,0,0,null,0,0,0,0,0,null,null,0,0,0,0,0,{"$nulls":5},0,0,0,0,{"$nulls":4},0,0,0,0,0,null,0,0,0,0,0,null,0,0,0,0,0,null,2,1,1,1,0]
["Oui","Snecma","307-059-403-0",null,0,0,0,0,0,0,null,0,0,0,0,0,{"$nulls":5},0,0,0,0,0,null,null,0,0,0,0,0,null,null,0,0,0,0,0,null,0,0,0,0,0,null,0,0,0,0,0,null,0,0,0,0,0,null,null,0,0,0,0,0,{"$nulls":5},0,0,0,0,{"$nulls":4},0,0,0,0,0,null,0,0,0,0,0,null,0,0,0,0,0,null,0,0,0,0,0]
["Oui","AIA","307-062-321-0",null,1,0,0,1,1,0,null,0,0,1,1,0,{"$nulls":5},0,0,1,1,0,null,null,0,0,1,1,0,null,null,0,0,1,1,0,null,0,0,1,1,0,null,0,0,1,1,0,null,0,0,1,1,0,null,null,0,0,1,1,0,{"$nulls":4},0,0,1,1,0,{"$nulls":4},0,0,{"$f":"VLOOKUP(C388,[1]TCD!$D:$E,2,0)","v":1},1,0,null,0,0,1,1,0,null,0,0,1,1,0,null,0,0,1,1,0]
["Oui","Snecma","307-067-602-0","MASSE EQUILIBRAGE,ETG 1 BP",25,0,0,25,25,0,null,0,0,25,25,0,{"$nulls":5},0,0,25,25,0,null,null,0,0,25,25,0,null,null,0,0,25,25,0,null,0,0,25,25,0,null,0,0,25,25,0,null,0,0,25,25,0,null,null,0,0,25,25,0,{"$nulls":4},0,0,25,25,0,{"$nulls":4},0,0,{"$f":"VLOOKUP(C403,[1]TCD!$D:$E,2,0)","v":25},25,0,null,0,0,25,25,0,null,0,0,25,25,0,null,0,0,25,25,0]
["Oui","Snecma","307-068-302-0","ECROU ROULEMENT PALIER 1",39,0,0,39,39,0,null,0,0,39,39,0,{"$nulls":5},0,0,39,39,0,null,null,0,0,39,39,0,null,null,0,0,39,39,0,null,0,0,39,39,0,null,0,0,39,39,0,null,0,0,39,39,0,null,null,0,0,39,39,0,{"$nulls":4},0,1,38,38,0,{"$nulls":4},0,0,{"$f":"VLOOKUP(C414,[1]TCD!$D:$E,2,0)","v":38},38,0,null,0,0,38,38,0,null,0,0,38,38,0,null,0,0,38,38,0]
["Oui","Snecma","307-068-603-0","FREIN D'ECROU DE LIAISON",20,0,0,20,20,0,null,0,0,20,20,0,{"$nulls":5},0,0,20,20,0,null,null,0,0,20,20,0,null,null,0,0,20,20,0,null,0,0,20,20,0,null,0,0,20,20,0,null,0,0,20,20,0,null,null,0,0,20,20,0,{"$nulls":4},0,0,20,20,0,{"$nulls":4},0,0,{"$f":"VLOOKUP(C419,[1]TCD!$D:$E,2,0)","v":20},20,0,null,0,0,20,20,0,null,0,0,20,20,0,null,0,0,20,20,0]
["Oui","Snecma","307-076-706-0","SECTEUR ANNEAU, TURBINE BP",187,0,0,187,187,0,null,0,0,187,187,0,{"$nulls":5},0,0,187,187,0,null,null,0,0,187,187,0,null,null,0,1,186,186,0,null,0,0,186,186,0,null,0,0,186,186,0,null,0,0,186,186,0,null,null,0,0,186,186,0,{"$nulls":4},0,0,186,186,0,{"$nulls":4},0,0,{"$f":"VLOOKUP(C434,[1]TCD!$D:$E,2,0)","v":186},186,0,null,0,0,186,186,0,null,0,0,186,186,0,null,0,0,186,186,0]
["Oui","Snecma","307-078-814-0","AUBE MOBILE, TURB BP",373,0,0,373,373,0,null,0,13,360,360,0,{"$nulls":5},0,0,360,360,0,null,null,0,0,360,360,0,null,null,0,0,360,360,0,null,0,0,360,360,0,null,0,0,360,360,0,null,0,0,360,360,0,null,null,0,0,360,360,0,{"$nulls":4},0,0,360,360,0,{"$nulls":4},0,0,{"$f":"VLOOKUP(C444,[1]TCD!$D:$E,2,0)","v":360},360,0,null,0,0,360,360,0,null,0,0,360,360,0,null,0,0,360,360,0]
[{"$error":"#N/A"},"Snecma","307-083-731-0","CARTER D'ENTREE EQUIPE",0,0,0,0,0,0,null,0,0,0,0,0,{"$nulls":5},0,0,0,0,0,null,null,0,0,0,0,0,null,null,0,0,0,0,0,null,0,0,0,0,0,null,0,0,0,0,0,null,0,0,0,0,0,null,null,0,0,0,0,0,{"$nulls":5},0,0,0,0,{"$nulls":4},0,0,0,0,0,null,0,0,0,0,0,null,0,0,0,0,0,null,0,0,0,0,0]
["Oui","Snecma","307-085-002-6","ANNEAU RENFORT AVAL",0,0,0,0,0,0,null,0,0,0,0,0,{"$nulls":5},0,0,0,0,0,null,null,0,0,0,0,0,null,null,0,0,0,0,0,null,0,0,0,0,0,null,0,0,0,0,0,null,0,0,0,0,0,null,null,0,0,0,0,0,{"$nulls":5},0,0,0,0,{"$nulls":4},0,0,0,0,0,null,0,0,0,0,0,null,0,0,0,0,0,null,0,0,0,0,0]
["Oui","Snecma","307-090-002-0","JOINT",44,0,0,44,44,0,null,0,0,44,44,0,{"$nulls":5},0,0,44,44,0,null,null,0,0,44,44,0,null,null,0,0,44,44,0,null,0,0,44,44,0,null,0,0,44,44,0,null,0,0,44,44,0,null,null,0,0,44,44,0,{"$nulls":4},0,0,44,44,0,{"$nulls":4},0,0,{"$f":"VLOOKUP(C475,[1]TCD!$D:$E,2,0)","v":44},44,0,null,0,0,44,44,0,null,0,0,44,44,0,null,0,0,44,44,0]
["Oui","Snecma","307-091-205-0","ECROU DE PYROMETRE",19,0,0,19,19,0,null,0,0,19,19,0,{"$nulls":5},0,0,19,19,0,null,null,0,0,19,19,0,null,null,0,1,18,18,0,null,0,0,18,18,0,null,0,0,18,18,0,null,0,0,18,18,0,null,null,0,0,18,18,0,{"$nulls":4},0,0,18,18,0,{"$nulls":4},0,0,{"$f":"VLOOKUP(C479,[1]TCD!$D:$E,2,0)","v":18},18,0,null,0,0,18,18,0,null,0,0,18,18,0,null,0,0,18,18,0]
[{"$error":"#N/A"},"Snecma","307-094-203-0","PLAQUETTE DE MAINTIEN",4,0,0,4,4,0,null,0,0,4,4,0,{"$nulls":5},0,0,4,4,0,null,null,0,0,4,4,0,null,null,0,0,4,4,0,null,0,0,4,4,0,null,0,0,4,4,0,null,0,0,4,4,0,null,null,0,0,4,4,0,{"$nulls":4},0,0,4,4,0,{"$nulls":4},0,0,{"$f":"VLOOKUP(C490,[1]TCD!$D:$E,2,0)","v":4},4,0,null,0,0,4,4,0,null,0,0,4,4,0,null,0,0,4,4,0]
["Oui","Snecma","307-094-801-0","SEGMENT ETANCHEITE, TURB BP",41,0,0,41,41,0,null,0,0,41,41,0,{"$nulls":5},0,1,40,40,0,null,null,0,1,39,39,0,null,null,0,0,39,39,0,null,0,0,39,39,0,null,40,0,79,79,0,null,0,0,79,79,0,null,null,0,0,79,79,0,{"$nulls":4},0,1,78,78,0,{"$nulls":4},0,0,{"$f":"VLOOKUP(C495,[1]TCD!$D:$E,2,0)","v":78},78,0,null,0,0,78,78,0,null,0,0,78,78,0,null,0,0,78,78,0]
["Oui","Snecma","307-097-755-0","PANNEAU DE VEINE INTER BRAS",17,0,0,17,17,0,null,0,0,17,17,0,{"$nulls":5},0,1,16,16,0,null,null,0,0,16,16,0,null,null,0,0,16,16,0,null,0,0,16,16,0,null,0,0,16,16,0,null,0,0,16,16,0,null,null,0,0,16,16,0,{"$nulls":4},0,0,16,16,0,{"$nulls":4},0,0,{"$f":"VLOOKUP(C510,[1]TCD!$D:$E,2,0)","v":16},16,0,null,0,0,16,16,0,null,0,0,16,16,0,null,0,0,16,16,0]
["Oui","Snecma","307-100-302-0","TOLE D'ETANCHEITE,DISTR BP",360,0,0,360,360,0,null,0,16,344,344,0,{"$nulls":5},0,0,344,344,0,null,null,0,0,344,344,0,null,null,0,0,344,344,0,null,0,0,344,344,0,null,0,0,344,344,0,null,0,0,344,344,0,null,null,0,0,344,344,0,{"$nulls":4},0,0,344,344,0,{"$nulls":4},0,0,{"$f":"VLOOKUP(C520,[1]TCD!$D:$E,2,0)","v":344},344,0,null,0,0,344,344,0,null,0,0,344,344,0,null,0,0,344,344,0]
["Oui","Snecma","307-101-904-0","CARENAGE",1,0,0,1,1,0,null,0,0,1,1,0,{"$nulls":5},0,0,1,1,0,null,null,0,0,1,1,0,null,null,0,0,1,1,0,null,0,0,1,1,0,null,0,0,1,1,0,null,0,0,1,1,0,null,null,0,0,1,1,0,{"$nulls":4},0,0,1,1,0,{"$nulls":4},0,0,{"$f":"VLOOKUP(C525,[1]TCD!$D:$E,2,0)","v":1},1,0,null,0,0,1,1,0,null,0,0,1,1,0,null,0,0,1,1,0]
["Oui","Snecma","307-108-404-0","AXE, FIXATION ANNEAU-BRULEUR",72,0,2,70,70,0,null,0,0,70,70,0,{"$nulls":5},0,0,70,70,0,null,null,0,0,70,70,0,null,null,0,6,64,64,0,null,0,0,64,64,0,null,100,0,164,164,0,null,0,0,164,164,0,null,null,0,0,164,164,0,{"$nulls":4},0,0,164,164,0,{"$nulls":4},0,0,{"$f":"VLOOKUP(C536,[1]TCD!$D:$E,2,0)","v":164},164,0,null,0,0,164,164,0,null,0,0,164,164,0,null,0,0,164,164,0]
["Oui","Snecma","307-111-201-0","CALE",5,0,0,5,5,0,null,0,0,5,5,0,{"$nulls":5},0,0,5,5,0,null,null,0,0,5,5,0,null,null,0,0,5,5,0,null,0,0,5,5,0,null,0,0,5,5,0,null,0,0,5,5,0,null,null,0,0,5,5,0,{"$nulls":4},0,0,5,5,0,{"$nulls":4},0,0,{"$f":"VLOOKUP(C551,[1]TCD!$D:$E,2,0)","v":5},5,0,null,0,0,5,5,0,null,0,0,5,5,0,null,0,0,5,5,0]
["Oui","Snecma","307-112-001-6","MASSE D'EQUILIBRAGE,TURB HP",0,0,0,0,0,0,null,0,0,0,0,0,{"$nulls":5},0,0,0,0,0,null,null,0,0,0,0,0,null,null,0,0,0,0,0,null,0,0,0,0,0,null,0,0,0,0,0,null,0,0,0,0,0,null,null,0,0,0,0,0,{"$nulls":5},0,0,0,0,{"$nulls":4},0,0,0,0,0,null,0,0,0,0,0,null,0,0,0,0,0,null,0,0,0,0,0]
["Oui","Snecma","307-112-130-0","SUPPORT DE PALIER 2",1,0,0,1,1,0,null,0,0,1,1,0,{"$nulls":5},0,0,1,1,0,null,null,0,0,1,1,0,null,null,0,0,1,1,0,null,0,0,1,1,0,null,0,0,1,1,0,null,0,0,1,1,0,null,null,0,0,1,1,0,{"$nulls":4},0,0,1,1,0,{"$nulls":4},0,0,{"$f":"VLOOKUP(C565,[1]TCD!$D:$E,2,0)","v":1},1,0,null,0,0,1,1,0,null,0,0,1,1,0,null,0,0,1,1,0]
["Oui","Snecma","307-120-401-0","GAINE THERMORETRACTABLE",999,0,0,999,999,0,null,0,0,999,999,0,{"$nulls":5},0,0,999,999,0,null,null,0,0,999,999,0,null,null,0,0,999,999,0,null,0,0,999,999,0,null,0,0,999,999,0,null,0,0,999,999,0,null,null,0,0,999,999,0,{"$nulls":4},2,0,1001,1001,0,{"$nulls":4},0,0,{"$f":"VLOOKUP(C581,[1]TCD!$D:$E,2,0)","v":1001},{"$f":"BT581+CA581-CB581","v":1001},{"$f":"CC581-CD581","v":0},null,0,0,1001,{"$f":"CC581+CG581-CH581","v":1001},{"$f":"CI581-CJ581","v":0},null,0,2,999,{"$f":"CI581+CM581-CN581","v":999},{"$f":"CO581-CP581","v":0},null,0,0,999,{"$f":"CO581+CS581-CT581","v":999},{"$f":"CU581-CV581","v":0}]
["Oui","Snecma","307-134-501-0","SUPPORT, MECN GCH CDE STATOR",11,0,0,11,11,0,null,0,0,10,11,-1,"Ecart de stock avec aucune entree ni sortie",{"$nulls":4},0,1,10,9,1,"Ecart temporel (OT confirmé le 20/10)",0,0,0,10,10,0,null,null,0,1,9,9,0,null,0,0,9,9,0,null,0,1,8,8,0,null,0,0,8,8,0,null,null,0,0,8,8,0,{"$nulls":4},0,1,7,7,0,{"$nulls":4},0,1,{"$f":"VLOOKUP(C586,[1]TCD!$D:$E,2,0)","v":6},6,0,null,0,0,6,6,0,null,0,0,6,6,0,null,0,1,5,5,0]
[{"$error":"#N/A"},"Snecma","307-138-702-0","JOINT TORIQUE",24,0,0,24,24,0,null,0,0,24,24,0,{"$nulls":5},0,1,23,23,0,null,null,0,0,23,23,0,null,null,0,0,23,23,0,null,0,2,21,21,0,null,0,1,20,20,0,null,0,0,20,20,0,null,null,0,0,20,20,0,{"$nulls":4},0,0,20,20,0,{"$nulls":4},0,1,{"$f":"VLOOKUP(C597,[1]TCD!$D:$E,2,0)","v":19},19,0,null,0,0,19,19,0,null,0,0,19,19,0,null,0,0,19,19,0]
["Oui","Snecma","307-150-406-0","ROTULE,SYST CDE STATOR",0,0,0,0,0,0,null,0,0,0,0,0,{"$nulls":5},0,0,0,0,0,null,null,0,0,0,0,0,null,null,0,0,0,0,0,null,0,0,0,0,0,null,0,0,0,0,0,null,0,0,0,0,0,null,null,0,0,0,0,0,{"$nulls":5},0,0,0,0,{"$nulls":4},0,0,0,0,0,null,0,0,0,0,0,null,0,0,0,0,0,null,0,0,0,0,0]
["Oui","Snecma","307-150-904-0","LEVIER ,SYSTEME CDE STAT GCHE",16,0,0,16,16,0,null,0,0,16,16,0,{"$nulls":5},0,0,16,16,0,null,null,0,0,16,16,0,null,null,0,0,16,16,0,null,0,0,16,16,0,null,0,0,16,16,0,null,0,0,16,16,0,null,null,0,0,16,16,0,{"$nulls":4},0,0,16,16,0,{"$nulls":4},0,0,{"$f":"VLOOKUP(C619,[1]TCD!$D:$E,2,0)","v":16},16,0,null,0,0,16,16,0,null,0,0,16,16,0,null,0,0,16,16,0]
[{"$error":"#N/A"},"Snecma","307-152-703-0","ROULEMENT A BILLES, PALIER 3",29,0,1,28,28,0,null,0,0,28,28,0,{"$nulls":5},0,0,28,28,0,null,null,0,1,27,27,0,null,null,0,0,27,27,0,null,0,0,27,27,0,null,0,0,27,27,0,null,0,0,27,27,0,null,null,0,0,27,27,0,{"$nulls":4},0,0,27,27,0,{"$nulls":4},0,0,{"$f":"VLOOKUP(C627,[1]TCD!$D:$E,2,0)","v":27},27,0,null,0,0,27,27,0,null,0,0,27,27,0,null,0,0,27,27,0]
["Oui","Snecma","307-153-201-0","ROULEMENT A BILLES,PMVMT",3,0,0,3,3,0,null,0,0,3,3,0,{"$nulls":5},0,0,3,3,0,null,null,0,0,3,3,0,null,null,0,0,3,3,0,null,0,0,3,3,0,null,0,0,3,3,0,null,0,0,3,3,0,null,null,0,0,3,3,0,{"$nulls":4},0,0,3,3,0,{"$nulls":4},0,0,{"$f":"VLOOKUP(C632,[1]TCD!$D:$E,2,0)","v":3},3,0,null,0,0,3,3,0,null,0,0,3,3,0,null,0,0,3,3,0]
[{"$error":"#N/A"},"Snecma","307-154-605-0","JOINT RADIAL SEGMENTE,PAL 3",18,0,0,18,18,0,null,0,0,18,18,0,{"$nulls":5},0,0,18,18,0,null,null,0,0,18,18,0,null,null,0,0,18,18,0,null,0,0,18,18,0,null,0,0,18,18,0,null,0,0,18,18,0,null,null,0,0,18,18,0,{"$nulls":4},0,0,18,18,0,{"$nulls":4},0,0,{"$f":"VLOOKUP(C643,[1]TCD!$D:$E,2,0)","v":18},18,0,null,0,0,18,18,0,null,0,0,18,18,0,null,0,0,18,18,0]
["Oui","Snecma","307-157-903-0","ATTELLE DROITE AVEC VERIN",34,0,6,28,28,0,null,0,0,28,28,0,{"$nulls":5},0,0,28,28,0,null,null,0,0,28,28,0,null,null,0,0,28,28,0,null,0,0,28,28,0,null,0,0,28,28,0,null,0,0,28,28,0,null,null,0,1,27,27,0,{"$nulls":4},0,0,27,27,0,{"$nulls":4},0,1,{"$f":"VLOOKUP(C656,[1]TCD!$D:$E,2,0)","v":26},26,0,null,0,0,26,26,0,null,0,0,26,26,0,null,0,0,26,26,0]
["Oui","Snecma","307-162-202-0","PLAQUETTE,LIAISON SECTEUR",92,0,0,92,92,0,null,0,0,92,92,0,{"$nulls":5},0,0,92,92,0,null,null,0,0,92,92,0,null,null,0,0,92,92,0,null,0,2,90,90,0,null,0,0,90,90,0,null,0,1,89,89,0,null,null,0,0,89,89,0,{"$nulls":4},0,0,89,89,0,{"$nulls":4},0,0,{"$f":"VLOOKUP(C668,[1]TCD!$D:$E,2,0)","v":89},89,0,null,0,0,89,89,0,null,0,0,89,89,0,null,0,0,89,89,0]
[{"$error":"#N/A"},"Snecma","307-164-403-0","TOLE D'ETANCHEITE,ANNEAU HP",0,0,0,0,0,0,null,0,0,0,0,0,{"$nulls":5},0,0,0,0,0,null,null,0,0,0,0,0,null,null,0,0,0,0,0,null,0,0,0,0,0,null,0,0,0,0,0,null,0,0,0,0,0,null,null,0,0,0,0,0,{"$nulls":5},0,0,0,0,{"$nulls":4},0,0,0,0,0,null,0,0,0,0,0,null,0,0,0,0,0,null,0,0,0,0,0]
[{"$error":"#N/A"},null,"307-172-556-6","CHEMISE AMONT EQUIPEE",0,0,0,0,0,0,null,0,0,0,0,0,{"$nulls":5},0,0,0,0,0,null,null,0,0,0,0,0,null,null,0,0,0,0,0,null,0,0,0,0,0,null,0,0,0,0,0,null,0,0,0,0,0,null,null,0,0,0,0,0,{"$nulls":5},0,0,0,0,{"$nulls":4},0,0,0,0,0,null,0,0,0,0,0,null,0,0,0,0,0,null,0,0,0,0,0]
["Oui",null,"307-183-203-0","CLAVETTE",0,0,0,0,0,0,null,0,0,0,0,0,{"$nulls":5},0,0,0,0,0,null,null,0,0,0,0,0,null,null,0,0,0,0,0,null,0,0,0,0,0,null,0,0,0,0,0,null,0,0,0,0,0,null,null,0,0,0,0,0,{"$nulls":5},0,0,0,0,{"$nulls":4},0,0,0,0,0,null,0,0,0,0,0,null,0,0,0,0,0,null,0,0,0,0,0]
["Oui",null,"307-183-303-0","CLAVETTE",0,0,0,0,0,0,null,0,0,0,0,0,{"$nulls":5},0,0,0,0,0,null,null,0,0,0,0,0,null,null,0,0,0,0,0,null,0,0,0,0,0,null,0,0,0,0,0,null,0,0,0,0,0,null,null,0,0,0,0,0,{"$nulls":5},0,0,0,0,{"$nulls":4},0,0,0,0,0,null,0,0,0,0,0,null,0,0,0,0,0,null,0,0,0,0,0]
[{"$error":"#N/A"},"Snecma","307-186-701-0","DIAPHRAGME",22,0,0,22,22,0,null,0,0,22,22,0,{"$nulls":5},0,0,22,22,0,null,null,0,0,22,22,0,null,null,0,0,22,22,0,null,0,0,22,22,0,null,0,0,22,22,0,null,0,0,22,22,0,null,null,0,0,22,22,0,{"$nulls":4},0,0,22,22,0,{"$nulls":4},0,0,{"$f":"VLOOKUP(C718,[1]TCD!$D:$E,2,0)","v":22},22,0,null,0,0,22,22,0,null,0,0,22,22,0,null,0,1,21,21,0]
["Oui","Snecma","307-188-603-0","BOITIER ALTERNATEUR",6,0,0,6,6,0,null,0,0,6,6,0,{"$nulls":5},0,0,6,6,0,null,null,0,0,6,6,0,null,null,0,0,6,6,0,null,0,0,6,6,0,null,0,0,6,6,0,null,0,0,6,6,0,null,null,0,0,6,6,0,{"$nulls":4},0,0,6,6,0,{"$nulls":4},0,0,{"$f":"VLOOKUP(C729,[1]TCD!$D:$E,2,0)","v":6},6,0,null,0,0,6,6,0,null,0,0,6,6,0,null,0,0,6,6,0]
["Oui","Snecma","307-189-102-0","SEPARATEUR AIR / HUILE",10,0,0,10,10,0,null,0,0,10,10,0,{"$nulls":5},0,0,10,10,0,null,null,0,0,10,10,0,null,null,0,0,10,10,0,null,0,0,10,10,0,null,0,0,10,10,0,null,0,0,10,10,0,null,null,0,0,10,10,0,{"$nulls":4},0,0,10,10,0,{"$nulls":4},0,0,{"$f":"VLOOKUP(C734,[1]TCD!$D:$E,2,0)","v":10},10,0,null,0,0,10,10,0,null,0,0,10,10,0,null,0,0,10,10,0]
["Oui","Snecma","307-190-901-0","DEFLECTEUR D'HUILE",27,0,0,27,27,0,null,0,0,27,27,0,{"$nulls":5},0,0,27,27,0,null,null,0,0,27,27,0,null,null,0,0,27,27,0,null,0,0,27,27,0,null,0,0,27,27,0,null,0,0,27,27,0,null,null,0,0,27,27,0,{"$nulls":4},0,0,27,27,0,{"$nulls":4},0,0,{"$f":"VLOOKUP(C742,[1]TCD!$D:$E,2,0)","v":27},27,0,null,0,0,27,27,0,null,0,0,27,27,0,null,0,0,27,27,0]
["Oui","Snecma","307-191-601-0","ECROU AUTO-FREINE",52,0,0,52,52,0,null,0,0,52,52,0,{"$nulls":5},0,0,52,52,0,null,null,0,0,52,52,0,null,null,0,0,52,52,0,null,0,0,52,52,0,null,0,0,52,52,0,null,0,0,52,52,0,null,null,0,0,52,52,0,{"$nulls":4},0,0,52,52,0,{"$nulls":4},0,1,{"$f":"VLOOKUP(C749,[1]TCD!$D:$E,2,0)","v":51},51,0,null,0,0,51,51,0,null,0,0,51,51,0,null,0,0,51,51,0]
["Oui","Snecma","307-194-202-0","PLAQUE D IDENTITE",32,0,0,32,32,0,null,0,0,32,32,0,{"$nulls":5},0,0,32,32,0,null,null,0,0,32,32,0,null,null,0,0,32,32,0,null,0,0,32,32,0,null,0,0,32,32,0,null,0,0,32,32,0,null,null,0,0,32,32,0,{"$nulls":4},0,0,32,32,0,{"$nulls":4},0,1,{"$f":"VLOOKUP(C764,[1]TCD!$D:$E,2,0)","v":31},31,0,null,0,0,31,31,0,null,0,0,31,31,0,null,0,1,30,30,0]
["Oui","Snecma","307-209-202-0","BAGUE A SOUDER",108,0,0,108,108,0,null,0,0,108,108,0,{"$nulls":5},0,0,108,108,0,null,null,0,0,108,108,0,null,null,0,0,108,108,0,null,0,0,108,108,0,null,0,0,108,108,0,null,0,0,108,108,0,null,null,0,0,108,108,0,{"$nulls":4},0,0,108,108,0,{"$nulls":4},0,0,{"$f":"VLOOKUP(C775,[1]TCD!$D:$E,2,0)","v":108},108,0,null,0,0,108,108,0,null,0,0,108,108,0,null,0,0,108,108,0]
["Oui",null,"307-210-573-0","LAMELLE INTERIEURE BA",0,0,0,0,0,0,null,0,0,0,0,0,{"$nulls":5},0,0,0,0,0,null,null,0,0,0,0,0,null,null,0,0,0,0,0,null,0,0,0,0,0,null,0,0,0,0,0,null,0,0,0,0,0,null,null,0,0,0,0,0,{"$nulls":5},0,0,0,0,{"$nulls":4},0,0,0,0,0,null,0,0,0,0,0,null,0,0,0,0,0,null,0,0,0,0,0]
["Oui","Snecma","307-216-102-0","CREPINE",40,0,0,40,40,0,null,0,0,40,40,0,{"$nulls":5},0,0,40,40,0,null,null,0,0,40,40,0,null,null,0,0,40,40,0,null,0,0,40,40,0,null,0,0,40,40,0,null,0,0,40,40,0,null,null,0,0,40,40,0,{"$nulls":4},0,0,40,40,0,{"$nulls":4},0,0,{"$f":"VLOOKUP(C796,[1]TCD!$D:$E,2,0)","v":40},40,0,null,0,0,40,40,0,null,0,0,40,40,0,null,0,0,40,40,0]
["Oui","Snecma","307-220-802-0","TUBE, ALIM HLE GICLEUR PAL 1",9,0,0,9,9,0,null,0,0,9,9,0,{"$nulls":5},0,0,9,9,0,null,null,0,0,9,9,0,null,null,0,0,9,9,0,null,0,0,9,9,0,null,0,0,9,9,0,null,0,0,9,9,0,null,null,0,0,9,9,0,{"$nulls":4},0,0,9,9,0,{"$nulls":4},0,0,{"$f":"VLOOKUP(C805,[1]TCD!$D:$E,2,0)","v":9},9,0,null,0,0,9,9,0,null,0,0,9,9,0,null,0,0,9,9,0]
["Oui","Snecma","307-221-504-0","INJECTEUR DE CARBURANT, PC",23,0,2,21,21,0,null,0,0,21,21,0,{"$nulls":5},0,0,21,21,0,null,null,0,8,13,13,0,null,null,0,9,4,4,0,null,0,0,4,4,0,null,0,0,4,4,0,null,0,0,4,4,0,null,null,0,2,2,2,0,{"$nulls":5},2,0,0,0,{"$nulls":4},0,0,0,0,0,null,0,0,0,0,0,null,0,0,0,0,0,null,0,0,0,0,0]
[{"$error":"#N/A"},"Snecma","307-230-801-6",null,0,0,0,0,0,0,null,0,0,0,0,0,{"$nulls":5},0,0,0,0,0,null,null,0,0,0,0,0,null,null,0,0,0,0,0,null,0,0,0,0,0,null,0,0,0,0,0,null,0,0,0,0,0,null,null,0,0,0,0,0,{"$nulls":5},0,0,0,0,{"$nulls":4},0,0,0,0,0,null,0,0,0,0,0,null,0,0,0,0,0,null,0,0,0,0,0]
[{"$error":"#N/A"},null,"307-231-903-6","AUBE MOBILE 6, COMP HP, VERROU",94,0,2,94,92,2,null,0,0,123,94,29,"Ecart de stock avec aucune entree ni sortie",null,"réintégration aubes marquées 29",null,null,0,0,123,123,0,null,null,0,0,123,123,0,null,null,0,2,121,121,0,null,0,12,109,109,0,null,100,0,209,209,0,null,0,0,209,209,0,null,null,2,0,211,211,0,{"$nulls":4},0,0,211,211,0,{"$nulls":4},0,0,{"$f":"VLOOKUP(C836,[1]TCD!$D:$E,2,0)","v":211},211,0,null,0,8,203,203,0,null,0,0,203,203,0,null,0,6,197,197,0]
["Oui","Snecma","307-233-207-0",null,0,0,0,0,0,0,null,0,0,0,0,0,{"$nulls":5},0,0,0,0,0,null,null,0,0,0,0,0,null,null,0,0,0,0,0,null,0,0,0,0,0,null,0,0,0,0,0,null,0,0,0,0,0,null,null,0,0,0,0,0,{"$nulls":5},0,0,0,0,{"$nulls":4},0,0,0,0,0,null,0,0,0,0,0,null,0,0,0,0,0,null,0,0,0,0,0]
["Oui","Snecma","307-233-801-0","DOUILLE INTERIEURE",6210,0,184,7891,6026,1865,null,0,0,7891,7891,0,{"$nulls":5},0,552,7339,7339,0,null,null,0,412,6927,6927,0,null,null,0,736,6191,6191,0,null,0,0,6191,6191,0,null,0,736,5455,5455,0,null,0,0,5455,5455,0,null,null,0,0,5455,5455,0,{"$nulls":4},0,810,4645,4645,0,{"$nulls":4},4318,552,{"$f":"VLOOKUP(C851,[1]TCD!$D:$E,2,0)","v":8411},8411,0,null,0,0,8411,8411,0,null,0,368,8043,8043,0,null,5000,368,12675,12675,0]
["Oui","Snecma","307-236-601-0","COUVRE-JOINT",53,0,0,53,53,0,null,0,53,0,0,0,{"$nulls":5},0,0,0,0,0,null,null,0,0,0,0,0,null,null,0,0,0,0,0,null,0,0,0,0,0,null,0,0,0,0,0,null,0,0,0,0,0,null,null,0,0,0,0,0,{"$nulls":4},100,0,100,100,0,{"$nulls":4},0,0,{"$f":"VLOOKUP(C866,[1]TCD!$D:$E,2,0)","v":100},100,0,null,100,100,100,100,0,null,0,100,0,0,0,null,0,0,0,0,0]
["Oui","Snecma","307-236-702-0","TOLE D'ETANCHEITE,DISTR HP",272,0,0,272,272,0,null,0,0,272,272,0,{"$nulls":5},0,0,272,272,0,null,null,0,0,272,272,0,null,null,0,0,272,272,0,null,0,0,272,272,0,null,0,0,272,272,0,null,0,80,192,192,0,null,null,0,0,192,192,0,{"$nulls":4},0,0,192,192,0,{"$nulls":4},0,0,{"$f":"VLOOKUP(C867,[1]TCD!$D:$E,2,0)","v":192},192,0,null,0,0,192,192,0,null,0,0,192,192,0,null,0,0,192,192,0]
["Oui","Snecma","307-243-509-0","CHAMBRE DE COMBUSTION EQP",0,0,0,0,0,0,null,0,0,0,0,0,{"$nulls":5},0,0,0,0,0,null,null,0,0,0,0,0,null,null,0,0,0,0,0,null,0,0,0,0,0,null,0,0,0,0,0,null,0,0,0,0,0,null,null,0,0,0,0,0,{"$nulls":5},0,0,0,0,{"$nulls":4},0,0,0,0,0,null,0,0,0,0,0,null,0,0,0,0,0,null,0,0,0,0,0]
["Oui","Snecma","307-245-721-0",null,0,0,0,0,0,0,null,0,0,0,0,0,{"$nulls":5},0,0,0,0,0,null,null,0,0,0,0,0,null,null,0,0,0,0,0,null,0,0,0,0,0,null,0,0,0,0,0,null,0,0,0,0,0,null,null,0,0,0,0,0,{"$nulls":5},0,0,0,0,{"$nulls":4},0,0,0,0,0,null,0,0,0,0,0,null,0,0,0,0,0,null,0,0,0,0,0]
["Oui","Snecma","307-246-851-0","COUVRE-JOINT",143,0,0,143,143,0,null,0,40,103,103,0,{"$nulls":5},0,0,103,103,0,null,null,0,0,103,103,0,null,null,0,0,103,103,0,null,0,0,103,103,0,null,0,0,103,103,0,null,0,80,23,23,0,null,null,0,0,23,23,0,{"$nulls":4},0,0,23,23,0,{"$nulls":4},0,0,{"$f":"VLOOKUP(C897,[1]TCD!$D:$E,2,0)","v":23},23,0,null,0,0,23,23,0,null,0,0,23,23,0,null,0,0,23,23,0]
["Oui","Snecma","307-251-409-0","SECTEUR ANNEAU, RDE COMP HP",110,0,2,110,108,2,null,0,0,110,110,0,{"$nulls":5},0,2,108,108,0,null,null,0,6,102,102,0,null,null,0,2,100,100,0,null,0,0,100,100,0,null,0,4,96,96,0,null,0,0,96,96,0,null,null,4,0,100,100,0,{"$nulls":4},0,4,96,96,0,{"$nulls":4},0,5,{"$f":"VLOOKUP(C912,[1]TCD!$D:$E,2,0)","v":91},91,0,null,0,0,91,91,0,null,0,4,87,87,0,null,28,3,112,112,0]
[{"$error":"#N/A"},"Snecma","307-254-301-0","VERROU,AUBE MOBILE COMP HP",1633,0,16,1625,1617,8,null,0,0,1617,1625,-8,"Ecart de stock avec aucune entree ni sortie",{"$nulls":4},0,24,1601,1593,8,"Ecart temporel (OT confirmé le 20/10)",0,0,32,1569,1569,0,null,null,0,16,1553,1553,0,null,0,0,1553,1553,0,null,0,8,1545,1545,0,null,0,0,1545,1545,0,null,null,0,0,1545,1545,0,{"$nulls":4},0,16,1529,1529,0,{"$nulls":4},0,24,{"$f":"VLOOKUP(C917,[1]TCD!$D:$E,2,0)","v":1505},1505,0,null,0,0,1505,1505,0,null,0,32,1473,1473,0,null,0,24,1449,1449,0]
["Oui","Snecma","307-266-001-0","BUTEE",42,0,0,42,42,0,null,0,0,42,42,0,{"$nulls":5},0,0,42,42,0,null,null,0,0,42,42,0,null,null,0,0,42,42,0,null,0,0,42,42,0,null,0,0,42,42,0,null,0,0,42,42,0,null,null,0,0,42,42,0,{"$nulls":4},0,0,42,42,0,{"$nulls":4},0,0,{"$f":"VLOOKUP(C932,[1]TCD!$D:$E,2,0)","v":42},42,0,null,0,0,42,42,0,null,0,0,42,42,0,null,0,0,42,42,0]
["Oui","Snecma","307-268-802-0","DEMI-ANNEAU,CDE REDR 1-2",6,0,2,5,4,1,null,0,0,5,5,0,{"$nulls":5},0,2,3,3,0,null,null,0,2,1,1,0,null,null,0,0,1,1,0,null,141,0,142,142,0,null,9,5,146,146,0,null,0,0,146,146,0,null,null,0,0,146,146,0,{"$nulls":4},4,1,145,149,-4,"ecart mesuré","BE DEPOSE",null,null,0,7,{"$f":"VLOOKUP(C942,[1]TCD!$D:$E,2,0)","v":138},138,0,null,0,0,138,138,0,null,0,2,136,136,0,null,0,4,132,132,0]
[{"$error":"#N/A"},"Snecma","307-270-101-0","PONTET DE COMMANDE,RDE HP",16,2,0,18,18,0,null,0,0,18,18,0,{"$nulls":5},0,0,18,18,0,null,null,0,1,17,17,0,null,null,0,0,17,17,0,null,0,0,17,17,0,null,0,0,17,17,0,null,0,0,17,17,0,null,null,0,0,17,17,0,{"$nulls":4},1,0,18,18,0,{"$nulls":4},0,0,{"$f":"VLOOKUP(C953,[1]TCD!$D:$E,2,0)","v":18},18,0,null,0,0,18,18,0,null,0,0,18,18,0,null,0,0,18,18,0]
["Oui","Snecma","307-270-901-0","DOUILLE,GUIDAGE RDE-REDR1-2",235,0,6,235,229,6,null,0,6,229,229,0,{"$nulls":5},0,12,217,217,0,null,null,0,6,211,211,0,null,null,0,0,211,211,0,null,0,0,211,211,0,null,0,12,199,199,0,null,0,0,199,199,0,null,null,0,0,199,199,0,{"$nulls":4},0,6,193,193,0,{"$nulls":4},0,12,{"$f":"VLOOKUP(C958,[1]TCD!$D:$E,2,0)","v":181},181,0,null,0,0,181,181,0,null,0,12,169,169,0,null,0,12,157,157,0]
["Oui","Snecma","307-279-401-0","BUTEE ANTI- ROTATION, REDR4",29,6,2,27,33,-6,null,2,2,29,27,2,{"$nulls":3},-4,null,0,4,25,25,0,null,null,4,2,27,27,0,null,null,4,4,27,27,0,null,4,0,31,31,0,null,0,4,27,27,0,null,6,0,33,33,0,null,null,0,0,33,33,0,{"$nulls":4},8,8,33,33,0,{"$nulls":4},0,6,{"$f":"VLOOKUP(C973,[1]TCD!$D:$E,2,0)","v":27},27,0,null,0,0,27,27,0,null,0,2,25,25,0,null,4,0,29,29,0]
["Oui","Snecma","307-279-602-6","RD3_STANDARD_COMP_HP",295,0,0,285,295,-10,"Pas d' Entrées et pas de Sorties mais différence de Stock!",0,10,285,275,10,{"$nulls":3},0,null,0,20,265,265,0,null,null,270,20,515,515,0,null,null,0,20,495,495,0,null,0,0,495,495,0,null,0,20,475,475,0,null,0,0,475,475,0,null,null,0,0,475,475,0,{"$nulls":4},0,20,455,455,0,{"$nulls":4},0,30,{"$f":"VLOOKUP(C977,[1]TCD!$D:$E,2,0)","v":425},425,0,null,20,0,445,445,0,null,0,20,425,425,0,null,0,20,405,405,0]
["Oui","Snecma","307-281-501-6","RD5_BUTEE_COMP_HP",29,0,1,26,28,-2,null,0,2,26,24,2,{"$nulls":3},0,null,0,4,22,22,0,null,null,2,4,20,20,0,null,null,0,6,14,14,0,null,17,0,31,31,0,null,0,4,27,27,0,null,0,0,27,27,0,null,null,0,0,27,27,0,{"$nulls":4},0,4,23,23,0,{"$nulls":4},0,6,{"$f":"VLOOKUP(C988,[1]TCD!$D:$E,2,0)","v":17},17,0,null,0,0,17,17,0,null,20,4,33,33,0,null,0,0,33,33,0]
[{"$error":"#N/A"},"Snecma","307-801-805-0","SUPPORT EQUIPE",2,0,0,2,2,0,null,0,0,2,2,0,{"$nulls":5},0,0,2,2,0,null,null,0,0,2,2,0,null,null,0,0,2,2,0,null,0,0,2,2,0,null,0,0,2,2,0,null,0,0,2,2,0,null,null,0,0,2,2,0,{"$nulls":4},0,0,2,2,0,{"$nulls":4},0,0,{"$f":"VLOOKUP(C999,[1]TCD!$D:$E,2,0)","v":2},2,0,null,0,0,2,2,0,null,0,0,2,2,0,null,0,1,1,1,0]
["Oui","Snecma","307-804-501-0","SUPPORT",6,0,0,6,6,0,null,0,0,6,6,0,{"$nulls":5},0,0,6,6,0,null,null,0,0,6,6,0,null,null,0,0,6,6,0,null,0,0,6,6,0,null,0,0,6,6,0,null,0,0,6,6,0,null,null,0,0,6,6,0,{"$nulls":4},0,0,6,6,0,{"$nulls":4},0,0,{"$f":"VLOOKUP(C1004,[1]TCD!$D:$E,2,0)","v":6},6,0,null,0,0,6,6,0,null,0,0,6,6,0,null,0,0,6,6,0]
["Oui","Snecma","307-811-904-0","SUPPORT",5,0,0,5,5,0,null,0,0,5,5,0,{"$nulls":5},0,0,5,5,0,null,null,0,0,5,5,0,null,null,0,0,5,5,0,null,0,0,5,5,0,null,0,0,5,5,0,null,0,0,5,5,0,null,null,0,0,5,5,0,{"$nulls":4},0,0,5,5,0,{"$nulls":4},0,0,{"$f":"VLOOKUP(C1014,[1]TCD!$D:$E,2,0)","v":5},5,0,null,0,0,5,5,0,null,0,0,5,5,0,null,0,0,5,5,0]
["Oui","Snecma","307-818-005-0","CONDUIT, AIR ANTI-GIVRAGE",11,0,1,9,10,-1,null,0,1,9,8,1,{"$nulls":3},0,null,0,1,8,8,0,null,null,0,1,7,7,0,null,null,0,0,7,7,0,null,0,1,6,6,0,null,0,0,6,6,0,null,0,0,6,6,0,null,null,1,0,7,7,0,{"$nulls":4},0,0,7,7,0,{"$nulls":4},1,1,{"$f":"VLOOKUP(C1029,[1]TCD!$D:$E,2,0)","v":7},{"$f":"BT1029+CA1029-CB1029","v":7},{"$f":"CC1029-CD1029","v":0},null,0,0,7,{"$f":"CC1029+CG1029-CH1029","v":7},{"$f":"CI1029-CJ1029","v":0},null,0,0,7,{"$f":"CI1029+CM1029-CN1029","v":7},{"$f":"CO1029-CP1029","v":0},null,0,0,7,{"$f":"CO1029+CS1029-CT1029","v":7},{"$f":"CU1029-CV1029","v":0}]
["Oui","Snecma","307-827-501-0","CORPS DE LIAISON,RAMPE PC",9,0,0,9,9,0,null,0,0,9,9,0,{"$nulls":5},0,0,9,9,0,null,null,0,0,9,9,0,null,null,0,0,9,9,0,null,0,0,9,9,0,null,0,0,9,9,0,null,0,0,9,9,0,null,null,0,0,9,9,0,{"$nulls":4},0,0,9,9,0,{"$nulls":4},0,0,{"$f":"VLOOKUP(C1034,[1]TCD!$D:$E,2,0)","v":9},9,0,null,0,0,9,9,0,null,0,0,9,9,0,null,0,0,9,9,0]
["Oui","Snecma","307-836-804-0","TUBE,CARBURANT INJECTEUR",9,0,1,8,8,0,null,0,0,8,8,0,{"$nulls":5},0,0,8,8,0,null,null,0,0,8,8,0,null,null,0,0,8,8,0,null,0,0,8,8,0,null,0,0,8,8,0,null,0,0,8,8,0,null,null,0,0,8,8,0,{"$nulls":4},0,0,8,8,0,{"$nulls":4},0,0,{"$f":"VLOOKUP(C1049,[1]TCD!$D:$E,2,0)","v":8},8,0,null,0,0,8,8,0,null,0,0,8,8,0,null,0,0,8,8,0]
["Oui","AIA","307-839-803-0",null,5,0,0,5,5,0,null,0,0,5,5,0,{"$nulls":5},0,0,5,5,0,null,null,0,0,5,5,0,null,null,0,0,5,5,0,null,0,0,5,5,0,null,0,0,5,5,0,null,0,0,5,5,0,null,null,0,0,5,5,0,{"$nulls":4},0,0,5,5,0,{"$nulls":4},0,0,{"$f":"VLOOKUP(C1060,[1]TCD!$D:$E,2,0)","v":5},5,0,null,0,0,5,5,0,null,0,0,5,5,0,null,0,0,5,5,0]
["Oui","Snecma","307-841-406-0","TUYAU SO CARB VERIN RDE",19,0,0,19,19,0,null,0,0,19,19,0,{"$nulls":5},0,0,19,19,0,null,null,0,0,19,19,0,null,null,0,0,19,19,0,null,0,0,19,19,0,null,0,0,19,19,0,null,0,0,19,19,0,null,null,0,0,19,19,0,{"$nulls":4},0,0,19,19,0,{"$nulls":4},0,1,{"$f":"VLOOKUP(C1068,[1]TCD!$D:$E,2,0)","v":18},18,0,null,0,0,18,18,0,null,0,0,18,18,0,null,0,0,18,18,0]
["Oui","Snecma","307-844-803-0","SUPPORT",25,0,0,25,25,0,null,0,0,25,25,0,{"$nulls":5},0,0,25,25,0,null,null,0,0,25,25,0,null,null,0,0,25,25,0,null,0,0,25,25,0,null,0,0,25,25,0,null,0,0,25,25,0,null,null,0,0,25,25,0,{"$nulls":4},0,0,25,25,0,{"$nulls":4},0,0,{"$f":"VLOOKUP(C1075,[1]TCD!$D:$E,2,0)","v":25},25,0,null,0,0,25,25,0,null,0,0,25,25,0,null,0,0,25,25,0]
[{"$error":"#N/A"},"Snecma","307-848-405-0","SUPPORT",2,0,0,2,2,0,null,0,0,2,2,0,{"$nulls":5},0,0,2,2,0,null,null,0,0,2,2,0,null,null,0,0,2,2,0,null,0,0,2,2,0,null,0,0,2,2,0,null,0,0,2,2,0,null,null,0,0,2,2,0,{"$nulls":4},0,0,2,2,0,{"$nulls":4},0,0,{"$f":"VLOOKUP(C1090,[1]TCD!$D:$E,2,0)","v":2},2,0,null,0,0,2,2,0,null,0,0,2,2,0,null,0,0,2,2,0]
["Oui","Snecma","307-848-901-0","SUPPORT",19,0,0,19,19,0,null,0,0,19,19,0,{"$nulls":5},0,0,19,19,0,null,null,0,0,19,19,0,null,null,0,0,19,19,0,null,0,0,19,19,0,null,0,0,19,19,0,null,0,0,19,19,0,null,null,0,0,19,19,0,{"$nulls":4},0,0,19,19,0,{"$nulls":4},0,0,{"$f":"VLOOKUP(C1095,[1]TCD!$D:$E,2,0)","v":19},19,0,null,0,0,19,19,0,null,0,0,19,19,0,null,0,0,19,19,0]
["Oui","Snecma","307-851-003-0","SUPPORT EQUIPE",5,0,0,5,5,0,null,0,0,5,5,0,{"$nulls":5},0,0,5,5,0,null,null,0,0,5,5,0,null,null,0,0,5,5,0,null,0,0,5,5,0,null,0,0,5,5,0,null,0,0,5,5,0,null,null,0,0,5,5,0,{"$nulls":4},0,0,5,5,0,{"$nulls":4},0,0,{"$f":"VLOOKUP(C1109,[1]TCD!$D:$E,2,0)","v":5},5,0,null,0,0,5,5,0,null,0,0,5,5,0,null,0,0,5,5,0]
["Oui","Snecma","307-862-901-0","SUPPORT",5,0,0,5,5,0,null,0,0,5,5,0,{"$nulls":5},0,0,5,5,0,null,null,0,0,5,5,0,null,null,0,0,5,5,0,null,0,0,5,5,0,null,0,0,5,5,0,null,0,0,5,5,0,null,null,0,0,5,5,0,{"$nulls":4},0,0,5,5,0,{"$nulls":4},0,0,{"$f":"VLOOKUP(C1120,[1]TCD!$D:$E,2,0)","v":5},5,0,null,0,0,5,5,0,null,0,0,5,5,0,null,0,0,5,5,0]
["Oui","Snecma","307-868-903-0","TUBE,PURGE CLAPET SURP",3,0,0,3,3,0,null,0,0,3,3,0,{"$nulls":5},0,0,3,3,0,null,null,0,0,3,3,0,null,null,0,0,3,3,0,null,0,0,3,3,0,null,0,0,3,3,0,null,0,0,3,3,0,null,null,0,0,3,3,0,{"$nulls":4},0,0,3,3,0,{"$nulls":4},0,1,{"$f":"VLOOKUP(C1125,[1]TCD!$D:$E,2,0)","v":2},2,0,null,0,0,2,2,0,null,0,0,2,2,0,null,0,0,2,2,0]
["Oui","Snecma","307-875-301-0","SUPPORT",4,0,0,4,4,0,null,0,0,4,4,0,{"$nulls":5},0,0,4,4,0,null,null,0,0,4,4,0,null,null,0,0,4,4,0,null,0,0,4,4,0,null,0,0,4,4,0,null,0,0,4,4,0,null,null,0,0,4,4,0,{"$nulls":4},0,0,4,4,0,{"$nulls":4},0,0,{"$f":"VLOOKUP(C1136,[1]TCD!$D:$E,2,0)","v":4},4,0,null,0,0,4,4,0,null,0,0,4,4,0,null,0,0,4,4,0]
["Oui","Snecma","307-876-102-0","SUPPORT EQUIPE",3,0,0,3,3,0,null,0,0,3,3,0,{"$nulls":5},0,0,3,3,0,null,null,0,0,3,3,0,null,null,0,0,3,3,0,null,0,0,3,3,0,null,0,0,3,3,0,null,0,0,3,3,0,null,null,0,0,3,3,0,{"$nulls":4},0,0,3,3,0,{"$nulls":4},0,0,{"$f":"VLOOKUP(C1141,[1]TCD!$D:$E,2,0)","v":3},3,0,null,0,0,3,3,0,null,0,0,3,3,0,null,0,0,3,3,0]
["Oui","Snecma","307-879-801-0","SUPPORT EQUIPE",12,0,1,11,11,0,null,0,0,11,11,0,{"$nulls":5},0,0,11,11,0,null,null,0,0,11,11,0,null,null,0,0,11,11,0,null,0,0,11,11,0,null,0,0,11,11,0,null,0,0,11,11,0,null,null,0,0,11,11,0,{"$nulls":4},0,0,11,11,0,{"$nulls":4},0,0,{"$f":"VLOOKUP(C1154,[1]TCD!$D:$E,2,0)","v":11},11,0,null,0,0,11,11,0,null,0,0,11,11,0,null,0,0,11,11,0]
["Oui","Snecma","307-902-302-0","TUBE DE LIAISON,AIR ETAGE 3",20,0,0,20,20,0,null,0,0,20,20,0,{"$nulls":5},0,0,20,20,0,null,null,0,0,20,20,0,null,null,0,0,20,20,0,null,0,0,20,20,0,null,0,0,20,20,0,null,0,0,20,20,0,null,null,0,0,20,20,0,{"$nulls":4},0,0,20,20,0,{"$nulls":4},0,0,{"$f":"VLOOKUP(C1166,[1]TCD!$D:$E,2,0)","v":20},20,0,null,0,0,20,20,0,null,0,0,20,20,0,null,0,0,20,20,0]
["Oui","Snecma","307-903-002-0","JOINT PLAT",58,0,0,58,58,0,null,0,0,58,58,0,{"$nulls":5},0,3,55,55,0,null,null,0,2,53,53,0,null,null,0,1,52,52,0,null,0,0,52,52,0,null,0,2,50,50,0,null,0,0,50,50,0,null,null,0,0,50,50,0,{"$nulls":4},0,4,46,46,0,{"$nulls":4},0,2,{"$f":"VLOOKUP(C1171,[1]TCD!$D:$E,2,0)","v":44},44,0,null,0,0,44,44,0,null,0,2,42,42,0,null,0,2,40,40,0]
["Oui","Snecma","307-918-203-0","TUBE,PRELVT AIR REDR 3",4,0,0,4,4,0,null,0,0,4,4,0,{"$nulls":5},0,0,4,4,0,null,null,0,0,4,4,0,null,null,0,0,4,4,0,null,0,0,4,4,0,null,0,0,4,4,0,null,0,0,4,4,0,null,null,0,0,4,4,0,{"$nulls":4},0,0,4,4,0,{"$nulls":4},0,1,{"$f":"VLOOKUP(C1182,[1]TCD!$D:$E,2,0)","v":3},3,0,null,0,0,3,3,0,null,0,0,3,3,0,null,0,0,3,3,0]
["Oui","Snecma","307-942-511-0","TUYAU CARB FERM VER STATOR",4,0,0,4,4,0,null,0,0,4,4,0,{"$nulls":5},0,0,4,4,0,null,null,0,0,4,4,0,null,null,0,0,4,4,0,null,0,1,3,3,0,null,0,0,3,3,0,null,0,0,3,3,0,null,null,0,0,3,3,0,{"$nulls":4},0,0,3,3,0,{"$nulls":4},0,0,{"$f":"VLOOKUP(C1197,[1]TCD!$D:$E,2,0)","v":3},3,0,null,0,0,3,3,0,null,0,0,3,3,0,null,1,0,4,4,0]
[{"$error":"#N/A"},"Snecma","307-943-807-0","TUBE,SORTIE HUILE ECHANGEUR",1,0,0,1,1,0,null,0,0,1,1,0,{"$nulls":5},0,0,1,1,0,null,null,0,0,1,1,0,null,null,0,0,1,1,0,null,0,0,1,1,0,null,0,0,1,1,0,null,0,0,1,1,0,null,null,0,0,1,1,0,{"$nulls":4},0,0,1,1,0,{"$nulls":4},0,0,{"$f":"VLOOKUP(C1208,[1]TCD!$D:$E,2,0)","v":1},1,0,null,0,0,1,1,0,null,0,0,1,1,0,null,0,0,1,1,0]
["Oui","Snecma","307-944-305-0","TUBE,RETOUR HLE ENC PAL 2",3,0,0,3,3,0,null,0,0,3,3,0,{"$nulls":5},0,0,3,3,0,null,null,0,0,3,3,0,null,null,0,0,3,3,0,null,0,0,3,3,0,null,0,0,3,3,0,null,0,0,3,3,0,null,null,0,0,3,3,0,{"$nulls":4},0,0,3,3,0,{"$nulls":4},0,0,{"$f":"VLOOKUP(C1212,[1]TCD!$D:$E,2,0)","v":3},3,0,null,0,0,3,3,0,null,0,0,3,3,0,null,0,0,3,3,0]
["Oui","Snecma","307-948-103-0","TUBE,CARB OUVERTURE TUYERE",8,0,0,8,8,0,null,0,0,8,8,0,{"$nulls":5},0,0,8,8,0,null,null,0,0,8,8,0,null,null,0,0,8,8,0,null,0,0,8,8,0,null,0,0,8,8,0,null,0,0,8,8,0,null,null,0,0,8,8,0,{"$nulls":4},0,0,8,8,0,{"$nulls":4},0,0,{"$f":"VLOOKUP(C1227,[1]TCD!$D:$E,2,0)","v":8},8,0,null,0,0,8,8,0,null,0,0,8,8,0,null,0,0,8,8,0]
["Oui","Snecma","307-968-602-0","RAMPE D'OUVERTURE TUYERE",4,0,0,4,4,0,null,0,0,4,4,0,{"$nulls":5},0,0,4,4,0,null,null,0,0,4,4,0,null,null,0,0,4,4,0,null,0,0,4,4,0,null,0,0,4,4,0,null,0,0,4,4,0,null,null,0,0,4,4,0,{"$nulls":4},0,0,4,4,0,{"$nulls":4},0,0,{"$f":"VLOOKUP(C1238,[1]TCD!$D:$E,2,0)","v":4},4,0,null,0,0,4,4,0,null,0,0,4,4,0,null,0,0,4,4,0]
["Oui","Snecma","307-985-401-0","GAINE",221,0,0,221,221,0,null,0,0,221,221,0,{"$nulls":5},0,0,221,221,0,null,null,0,0,221,221,0,null,null,0,0,221,221,0,null,0,0,221,221,0,null,0,0,221,221,0,null,0,0,221,221,0,null,null,0,0,221,221,0,{"$nulls":4},0,0,221,221,0,{"$nulls":4},0,1,{"$f":"VLOOKUP(C1245,[1]TCD!$D:$E,2,0)","v":220},220,0,null,0,0,220,220,0,null,0,0,220,220,0,null,0,0,220,220,0]
["Oui","Snecma","307-989-902-0","SUPPORT",20,0,0,20,20,0,null,0,0,20,20,0,{"$nulls":5},0,0,20,20,0,null,null,0,0,20,20,0,null,null,0,0,20,20,0,null,0,0,20,20,0,null,0,0,20,20,0,null,0,0,20,20,0,null,null,0,0,20,20,0,{"$nulls":4},0,0,20,20,0,{"$nulls":4},0,0,{"$f":"VLOOKUP(C1257,[1]TCD!$D:$E,2,0)","v":20},20,0,null,0,0,20,20,0,null,0,0,20,20,0,null,0,0,20,20,0]
["Oui","Snecma","307-991-103-0","GAINE",310,0,0,310,310,0,null,0,0,310,310,0,{"$nulls":5},0,0,310,310,0,null,null,0,0,310,310,0,null,null,0,0,310,310,0,null,0,0,310,310,0,null,0,0,310,310,0,null,0,0,310,310,0,null,null,0,0,310,310,0,{"$nulls":4},0,0,310,310,0,{"$nulls":4},0,0,{"$f":"VLOOKUP(C1258,[1]TCD!$D:$E,2,0)","v":310},310,0,null,0,0,310,310,0,null,0,0,310,310,0,null,0,0,310,310,0]
["Oui","Snecma","309-006-101-0","TIROIR",23,0,0,23,23,0,null,0,1,22,22,0,{"$nulls":5},0,0,22,22,0,null,null,0,0,22,22,0,null,null,0,0,22,22,0,null,0,0,22,22,0,null,0,2,20,20,0,null,0,0,20,20,0,null,null,0,0,20,20,0,{"$nulls":4},0,0,20,20,0,{"$nulls":4},0,0,{"$f":"VLOOKUP(C1273,[1]TCD!$D:$E,2,0)","v":20},20,0,null,0,0,20,20,0,null,0,0,20,20,0,null,0,0,20,20,0]
["Oui","Snecma","309-007-311-0","CLAPET-STOP",0,0,0,0,0,0,null,0,0,0,0,0,{"$nulls":5},0,0,0,0,0,null,null,0,0,0,0,0,null,null,0,0,0,0,0,null,0,0,0,0,0,null,0,0,0,0,0,null,0,0,0,0,0,null,null,0,0,0,0,0,{"$nulls":5},0,0,0,0,{"$nulls":4},0,0,0,0,0,null,0,0,0,0,0,null,0,0,0,0,0,null,0,0,0,0,0]
["Oui","Snecma","309-013-802-0","PLAQUE",55,0,0,55,55,0,null,0,0,55,55,0,{"$nulls":5},0,0,55,55,0,null,null,0,0,55,55,0,null,null,0,0,55,55,0,null,0,0,55,55,0,null,0,1,54,54,0,null,0,0,54,54,0,null,null,0,0,54,54,0,{"$nulls":4},0,0,54,54,0,{"$nulls":4},0,0,{"$f":"VLOOKUP(C1290,[1]TCD!$D:$E,2,0)","v":54},54,0,null,0,0,54,54,0,null,0,0,54,54,0,null,0,0,54,54,0]
["Oui","Snecma","309-018-801-0","BRIDE",79,0,0,79,79,0,null,0,0,79,79,0,{"$nulls":5},0,0,79,79,0,null,null,0,0,79,79,0,null,null,0,0,79,79,0,null,0,0,79,79,0,null,0,0,79,79,0,null,0,0,79,79,0,null,null,0,0,79,79,0,{"$nulls":4},0,0,79,79,0,{"$nulls":4},0,0,{"$f":"VLOOKUP(C1303,[1]TCD!$D:$E,2,0)","v":79},79,0,null,0,0,79,79,0,null,0,0,79,79,0,null,0,0,79,79,0]
["Oui","Snecma","309-025-002-0","RESSORT",10,0,0,10,10,0,null,0,0,10,10,0,{"$nulls":5},0,0,10,10,0,null,null,0,0,10,10,0,null,null,0,0,10,10,0,null,0,0,10,10,0,null,0,0,10,10,0,null,0,0,10,10,0,null,null,0,0,10,10,0,{"$nulls":4},0,0,10,10,0,{"$nulls":4},0,0,{"$f":"VLOOKUP(C1314,[1]TCD!$D:$E,2,0)","v":10},10,0,null,0,0,10,10,0,null,0,0,10,10,0,null,0,0,10,10,0]
["Oui","Snecma","309-026-002-0","TIROIR COMMUTATION STOP",9,0,0,9,9,0,null,0,0,9,9,0,{"$nulls":5},0,0,9,9,0,null,null,0,0,9,9,0,null,null,0,0,9,9,0,null,0,0,9,9,0,null,0,0,9,9,0,null,0,0,9,9,0,null,null,0,0,9,9,0,{"$nulls":4},0,0,9,9,0,{"$nulls":4},0,0,{"$f":"VLOOKUP(C1319,[1]TCD!$D:$E,2,0)","v":9},9,0,null,0,0,9,9,0,null,0,0,9,9,0,null,0,0,9,9,0]
["Oui","Snecma","309-032-202-0","JOINT V",664,0,0,664,664,0,null,0,0,664,664,0,{"$nulls":5},0,0,664,664,0,null,null,0,0,664,664,0,null,null,0,0,664,664,0,null,0,0,664,664,0,null,0,0,664,664,0,null,0,0,664,664,0,null,null,0,0,664,664,0,{"$nulls":4},1,0,665,665,0,{"$nulls":4},0,0,{"$f":"VLOOKUP(C1330,[1]TCD!$D:$E,2,0)","v":665},665,0,null,0,0,665,665,0,null,0,0,665,665,0,null,0,0,665,665,0]
["Oui","Snecma","309-037-801-0","MAMELON",41,0,0,41,41,0,null,0,0,41,41,0,{"$nulls":5},0,0,41,41,0,null,null,0,0,41,41,0,null,null,0,0,41,41,0,null,0,0,41,41,0,null,0,0,41,41,0,null,0,0,41,41,0,null,null,0,0,41,41,0,{"$nulls":4},1,0,42,42,0,{"$nulls":4},0,0,{"$f":"VLOOKUP(C1344,[1]TCD!$D:$E,2,0)","v":42},42,0,null,0,0,42,42,0,null,0,0,42,42,0,null,0,0,42,42,0]
["Oui","Snecma","309-040-402-0","BOITIER DE ROULEMENTS",6,0,0,6,6,0,null,0,0,6,6,0,{"$nulls":5},0,0,6,6,0,null,null,0,0,6,6,0,null,null,0,0,6,6,0,null,0,0,6,6,0,null,0,0,6,6,0,null,0,0,6,6,0,null,null,0,0,6,6,0,{"$nulls":4},0,2,4,4,0,{"$nulls":4},0,0,{"$f":"VLOOKUP(C1349,[1]TCD!$D:$E,2,0)","v":4},{"$f":"BT1349+CA1349-CB1349","v":4},{"$f":"CC1349-CD1349","v":0},null,0,0,4,{"$f":"CC1349+CG1349-CH1349","v":4},{"$f":"CI1349-CJ1349","v":0},null,0,0,4,{"$f":"CI1349+CM1349-CN1349","v":4},{"$f":"CO1349-CP1349","v":0},null,0,0,4,{"$f":"CO1349+CS1349-CT1349","v":4},{"$f":"CU1349-CV1349","v":0}]
["Oui","Snecma","309-044-801-0",null,0,0,0,0,0,0,null,0,0,0,0,0,{"$nulls":5},0,0,0,0,0,null,null,0,0,0,0,0,null,null,0,0,0,0,0,null,0,0,0,0,0,null,0,0,0,0,0,null,0,0,0,0,0,null,null,0,0,0,0,0,{"$nulls":5},0,0,0,0,{"$nulls":4},0,0,0,0,0,null,0,0,0,0,0,null,0,0,0,0,0,null,0,0,0,0,0]
["Oui","Snecma","309-054-008-0","PALIER EQUIPE",48,0,0,48,48,0,null,0,0,49,48,1,"Ecart de stock avec aucune entree ni sortie",null,null,1,null,1,0,49,50,-1,"Réintégration avant photo S42 ",0,0,0,49,49,0,null,null,0,0,49,49,0,null,1,0,50,50,0,null,0,1,49,49,0,null,1,0,50,50,0,null,null,0,0,50,50,0,{"$nulls":4},0,0,50,50,0,{"$nulls":4},0,0,{"$f":"VLOOKUP(C1375,[1]TCD!$D:$E,2,0)","v":50},50,0,null,0,0,50,50,0,null,14,0,64,64,0,null,0,0,64,64,0]
["Oui","Snecma","309-054-403-0","DIAPHRAGME",42,0,0,42,42,0,null,0,0,42,42,0,{"$nulls":5},0,0,42,42,0,null,null,0,0,42,42,0,null,null,0,0,42,42,0,null,0,0,42,42,0,null,0,1,41,41,0,null,0,0,41,41,0,null,null,0,0,41,41,0,{"$nulls":4},1,0,42,42,0,{"$nulls":4},0,0,{"$f":"VLOOKUP(C1381,[1]TCD!$D:$E,2,0)","v":42},42,0,null,0,0,42,42,0,null,0,1,41,41,0,null,0,0,41,41,0]
["Oui","Snecma","309-061-602-0","JOINT,W",31,0,0,31,31,0,null,0,1,30,30,0,{"$nulls":5},0,0,30,30,0,null,null,0,2,28,28,0,null,null,0,0,28,28,0,null,0,0,28,28,0,null,0,0,28,28,0,null,0,0,28,28,0,null,null,0,1,27,27,0,{"$nulls":4},1,0,28,28,0,{"$nulls":4},1,1,{"$f":"VLOOKUP(C1390,[1]TCD!$D:$E,2,0)","v":28},28,0,null,0,0,28,28,0,null,0,0,28,28,0,null,0,0,28,28,0]
["Oui",null,"309-064-101-0","ROUET APPARIE",3,0,0,3,3,0,null,0,0,3,3,0,{"$nulls":5},0,0,3,3,0,null,null,0,0,3,3,0,null,null,0,0,3,3,0,null,0,0,3,3,0,null,0,0,3,3,0,null,0,0,3,3,0,null,null,0,0,3,3,0,{"$nulls":4},0,0,3,3,0,{"$nulls":4},0,0,{"$f":"VLOOKUP(C1395,[1]TCD!$D:$E,2,0)","v":3},3,0,null,0,0,3,3,0,null,0,0,3,3,0,null,0,0,3,3,0]
["Oui","Snecma","309-071-104-6","TIGE DE BUTEE",18,0,0,18,18,0,null,0,0,18,18,0,{"$nulls":5},0,0,18,18,0,null,null,0,0,18,18,0,null,null,0,0,18,18,0,null,0,0,18,18,0,null,0,2,16,16,0,null,0,1,15,15,0,null,null,0,0,15,15,0,{"$nulls":4},10,1,24,24,0,{"$nulls":4},0,0,{"$f":"VLOOKUP(C1406,[1]TCD!$D:$E,2,0)","v":24},24,0,null,0,0,24,24,0,null,0,0,24,24,0,null,0,0,24,24,0]
["Oui","Snecma","309-094-801-0","JOINT V",161,0,0,161,161,0,null,0,0,161,161,0,{"$nulls":5},0,2,159,159,0,null,null,0,2,157,157,0,null,null,0,8,149,149,0,null,0,1,148,148,0,null,0,5,143,143,0,null,0,0,143,143,0,null,null,0,0,143,143,0,{"$nulls":4},2,0,145,145,0,{"$nulls":4},0,0,{"$f":"VLOOKUP(C1421,[1]TCD!$D:$E,2,0)","v":145},145,0,null,0,0,145,145,0,null,0,7,138,138,0,null,0,0,138,138,0]
["Oui","AIA","309-098-201-0",null,18,0,0,18,18,0,null,0,0,18,18,0,{"$nulls":5},0,0,18,18,0,null,null,0,0,18,18,0,null,null,0,0,18,18,0,null,0,0,18,18,0,null,0,0,18,18,0,null,0,0,18,18,0,null,null,0,0,18,18,0,{"$nulls":4},0,0,18,18,0,{"$nulls":4},0,0,{"$f":"VLOOKUP(C1426,[1]TCD!$D:$E,2,0)","v":18},18,0,null,0,0,18,18,0,null,0,0,18,18,0,null,0,0,18,18,0]
[{"$error":"#N/A"},"Snecma","309-102-501-0","PORTE JOINT",4,0,0,4,4,0,null,0,0,4,4,0,{"$nulls":5},0,0,4,4,0,null,null,0,0,4,4,0,null,null,0,0,4,4,0,null,0,0,4,4,0,null,0,0,4,4,0,null,0,0,4,4,0,null,null,0,0,4,4,0,{"$nulls":4},0,0,4,4,0,{"$nulls":4},0,0,{"$f":"VLOOKUP(C1436,[1]TCD!$D:$E,2,0)","v":4},4,0,null,0,0,4,4,0,null,0,0,4,4,0,null,0,0,4,4,0]
["Oui","Snecma","309-106-302-0",null,0,0,0,0,0,0,null,0,0,0,0,0,{"$nulls":5},0,0,0,0,0,null,null,0,0,0,0,0,null,null,0,0,0,0,0,null,0,0,0,0,0,null,0,0,0,0,0,null,0,0,0,0,0,null,null,0,0,0,0,0,{"$nulls":5},0,0,0,0,{"$nulls":4},0,0,0,0,0,null,0,0,0,0,0,null,0,0,0,0,0,null,0,0,0,0,0]
["Oui","Snecma","309-106-901-0","DIAPHRAGME K2",69,0,0,69,69,0,null,0,0,69,69,0,{"$nulls":5},0,0,69,69,0,null,null,0,0,69,69,0,null,null,0,0,69,69,0,null,0,0,69,69,0,null,0,0,69,69,0,null,0,0,69,69,0,null,null,0,0,69,69,0,{"$nulls":4},0,0,69,69,0,{"$nulls":4},0,0,{"$f":"VLOOKUP(C1456,[1]TCD!$D:$E,2,0)","v":69},69,0,null,0,0,69,69,0,null,0,0,69,69,0,null,0,0,69,69,0]
[{"$error":"#N/A"},"Snecma","309-109-701-0","DOUILLE",24,0,0,24,24,0,null,0,0,24,24,0,{"$nulls":5},0,0,24,24,0,null,null,0,0,24,24,0,null,null,0,1,23,23,0,null,0,0,23,23,0,null,0,0,23,23,0,null,0,0,23,23,0,null,null,0,0,23,23,0,{"$nulls":4},0,0,23,23,0,{"$nulls":4},0,0,{"$f":"VLOOKUP(C1467,[1]TCD!$D:$E,2,0)","v":23},23,0,null,0,0,23,23,0,null,0,0,23,23,0,null,0,0,23,23,0]
["Oui","Snecma","309-115-502-0","VERIN DE TUYERE",11,0,0,11,11,0,null,0,0,11,11,0,{"$nulls":5},0,1,10,10,0,null,null,0,3,7,7,0,null,null,0,0,7,7,0,null,0,0,7,7,0,null,0,0,7,7,0,null,0,2,5,5,0,null,null,0,0,5,5,0,{"$nulls":4},0,2,3,3,0,{"$nulls":4},0,0,{"$f":"VLOOKUP(C1480,[1]TCD!$D:$E,2,0)","v":3},3,0,null,0,0,3,3,0,null,0,0,3,3,0,null,0,0,3,3,0]
["Oui","Snecma","309-121-802-0","CLAPET ENTREE",9,0,0,9,9,0,null,0,0,9,9,0,{"$nulls":5},0,0,9,9,0,null,null,0,0,9,9,0,null,null,0,0,9,9,0,null,0,0,9,9,0,null,0,0,9,9,0,null,0,0,9,9,0,null,null,0,0,9,9,0,{"$nulls":4},0,0,9,9,0,{"$nulls":4},0,0,{"$f":"VLOOKUP(C1492,[1]TCD!$D:$E,2,0)","v":9},9,0,null,0,0,9,9,0,null,0,0,9,9,0,null,0,0,9,9,0]
[{"$error":"#N/A"},"Snecma","309-123-801-0","CARTER,VERIN EQUIPE",8,0,0,8,8,0,null,0,0,8,8,0,{"$nulls":5},0,0,8,8,0,null,null,0,0,8,8,0,null,null,0,0,8,8,0,null,0,0,8,8,0,null,0,0,8,8,0,null,0,0,8,8,0,null,null,1,0,9,9,0,{"$nulls":4},0,0,9,9,0,{"$nulls":4},0,0,{"$f":"VLOOKUP(C1497,[1]TCD!$D:$E,2,0)","v":9},9,0,null,0,0,9,9,0,null,0,0,9,9,0,null,0,0,9,9,0]
[{"$error":"#N/A"},null,"309-127-506-0","CARTER DE VERIN RDE EQUIPE",0,2,0,2,2,0,null,0,0,2,2,0,{"$nulls":5},0,0,2,2,0,null,null,3,0,5,5,0,null,null,0,0,5,5,0,null,2,0,7,7,0,null,0,0,7,7,0,null,0,0,7,7,0,null,null,1,0,8,8,0,{"$nulls":4},0,0,8,8,0,{"$nulls":4},0,6,{"$f":"VLOOKUP(C1512,[1]TCD!$D:$E,2,0)","v":2},2,0,null,1,0,3,3,0,null,0,0,3,3,0,null,0,0,3,3,0]
["Oui","Snecma","309-128-501-0","SEGEMENT DE GUIDAGE CAPTEUR",302,0,2,300,300,0,null,0,2,298,298,0,{"$nulls":5},0,0,298,298,0,null,null,0,0,298,298,0,null,null,0,1,297,297,0,null,0,0,297,297,0,null,0,1,296,296,0,null,0,0,296,296,0,null,null,0,0,296,296,0,{"$nulls":4},3,0,299,299,0,{"$nulls":4},1,0,{"$f":"VLOOKUP(C1521,[1]TCD!$D:$E,2,0)","v":300},300,0,null,0,1,299,299,0,null,0,1,298,298,0,null,0,0,298,298,0]
["Oui","Snecma","309-129-207-0","VERIN-MAITRE-STATOR",0,0,0,0,0,0,null,0,0,0,0,0,{"$nulls":5},0,0,0,0,0,null,null,0,0,0,0,0,null,null,0,0,0,0,0,null,0,0,0,0,0,null,0,0,0,0,0,null,1,0,1,1,0,null,null,1,0,2,2,0,{"$nulls":4},0,0,2,2,0,{"$nulls":4},2,0,{"$f":"VLOOKUP(C1527,[1]TCD!$D:$E,2,0)","v":4},4,0,null,0,0,4,4,0,null,0,0,4,4,0,null,2,0,6,6,0]
["Oui","Snecma","309-131-603-0","AXE",56,0,0,56,56,0,null,0,1,55,55,0,{"$nulls":5},0,0,55,55,0,null,null,0,1,54,54,0,null,null,0,0,54,54,0,null,7,0,61,61,0,null,0,0,61,61,0,null,47,0,108,108,0,null,null,0,1,107,107,0,{"$nulls":4},0,1,106,106,0,{"$nulls":4},0,1,{"$f":"VLOOKUP(C1538,[1]TCD!$D:$E,2,0)","v":105},105,0,null,0,0,105,105,0,null,0,1,104,104,0,null,0,0,104,104,0]
["Oui","Snecma","309-132-301-0",null,0,0,0,0,0,0,null,0,0,0,0,0,{"$nulls":5},0,0,0,0,0,null,null,0,0,0,0,0,null,null,0,0,0,0,0,null,0,0,0,0,0,null,0,0,0,0,0,null,0,0,0,0,0,null,null,0,0,0,0,0,{"$nulls":5},0,0,0,0,{"$nulls":4},0,0,0,0,0,null,0,0,0,0,0,null,0,0,0,0,0,null,0,0,0,0,0]
["Oui","Snecma","309-135-001-0","RESSORT HELICOIDAL DE PENTE",39,0,0,39,39,0,null,0,0,39,39,0,{"$nulls":5},0,0,39,39,0,null,null,0,0,39,39,0,null,null,0,0,39,39,0,null,0,0,39,39,0,null,0,0,39,39,0,null,0,0,39,39,0,null,null,0,0,39,39,0,{"$nulls":4},0,0,39,39,0,{"$nulls":4},0,0,{"$f":"VLOOKUP(C1558,[1]TCD!$D:$E,2,0)","v":39},39,0,null,0,0,39,39,0,null,0,0,39,39,0,null,0,0,39,39,0]
[{"$error":"#N/A"},"Snecma","309-136-701-0","FOURRURE",22,0,0,22,22,0,null,0,0,22,22,0,{"$nulls":5},0,0,22,22,0,null,null,0,0,22,22,0,null,null,0,0,22,22,0,null,0,0,22,22,0,null,0,1,21,21,0,null,0,0,21,21,0,null,null,0,0,21,21,0,{"$nulls":4},0,0,21,21,0,{"$nulls":4},0,0,{"$f":"VLOOKUP(C1566,[1]TCD!$D:$E,2,0)","v":21},21,0,null,0,0,21,21,0,null,0,0,21,21,0,null,0,0,21,21,0]
["Oui","Snecma","309-140-301-0","SOUPAPE CORPS APPARIES",39,0,0,39,39,0,null,0,0,39,39,0,{"$nulls":5},0,0,39,39,0,null,null,0,0,39,39,0,null,null,0,0,39,39,0,null,0,0,39,39,0,null,0,0,39,39,0,null,0,0,39,39,0,null,null,0,0,39,39,0,{"$nulls":4},0,0,39,39,0,{"$nulls":4},0,0,{"$f":"VLOOKUP(C1573,[1]TCD!$D:$E,2,0)","v":39},39,0,null,0,0,39,39,0,null,0,0,39,39,0,null,0,0,39,39,0]
["Oui","Snecma","309-144-501-0","RACCORD EQUIPE",8,0,0,8,8,0,null,0,0,8,8,0,{"$nulls":5},0,0,8,8,0,null,null,0,0,8,8,0,null,null,0,0,8,8,0,null,0,0,8,8,0,null,0,0,8,8,0,null,0,0,8,8,0,null,null,0,0,8,8,0,{"$nulls":4},0,0,8,8,0,{"$nulls":4},0,0,{"$f":"VLOOKUP(C1588,[1]TCD!$D:$E,2,0)","v":8},8,0,null,0,0,8,8,0,null,0,0,8,8,0,null,0,0,8,8,0]
["Oui","Snecma","309-151-601-0","SUPPORT EQUIPE",19,0,0,19,19,0,null,0,0,19,19,0,{"$nulls":5},0,0,4,19,-15,"15 en cours de transfert magasin indisponible",-15,0,0,0,4,-4,"4 de moins en cours de transfert magasin indisponible (EMG 10)","intégrer EMG10= indisponibles",0,0,0,0,0,null,0,0,0,0,0,null,0,0,0,0,0,null,0,0,0,0,0,null,null,0,0,0,0,0,{"$nulls":5},0,0,0,0,{"$nulls":4},0,0,0,0,0,null,0,0,0,0,0,null,1,0,1,1,0,null,0,0,1,1,0]
["Oui","Snecma","309-155-901-0","PLAQUE DISTRIBUTION EQUIPEE",8,0,0,8,8,0,null,0,0,8,8,0,{"$nulls":5},0,0,8,8,0,null,null,0,0,8,8,0,null,null,0,0,8,8,0,null,0,0,8,8,0,null,0,0,8,8,0,null,0,0,8,8,0,null,null,0,0,8,8,0,{"$nulls":4},0,0,8,8,0,{"$nulls":4},0,0,{"$f":"VLOOKUP(C1603,[1]TCD!$D:$E,2,0)","v":8},8,0,null,0,0,8,8,0,null,0,0,8,8,0,null,0,0,8,8,0]
["Oui",null,"309-159-501-0","RESSORT",0,0,0,0,0,0,null,0,0,0,0,0,{"$nulls":5},0,0,0,0,0,null,null,0,0,0,0,0,null,null,0,0,0,0,0,null,0,0,0,0,0,null,0,0,0,0,0,null,0,0,0,0,0,null,null,0,0,0,0,0,{"$nulls":5},0,0,0,0,{"$nulls":4},0,0,0,0,0,null,0,0,0,0,0,null,0,0,0,0,0,null,0,0,0,0,0]
["Oui","Snecma","309-166-301-0","CHAPEAU PROTECTEUR TIGE CAPTEU",9,0,0,9,9,0,null,0,0,9,9,0,{"$nulls":5},0,0,9,9,0,null,null,0,0,9,9,0,null,null,0,0,9,9,0,null,0,0,9,9,0,null,0,0,9,9,0,null,0,0,9,9,0,null,null,0,0,9,9,0,{"$nulls":4},0,0,9,9,0,{"$nulls":4},0,0,{"$f":"VLOOKUP(C1629,[1]TCD!$D:$E,2,0)","v":9},9,0,null,0,0,9,9,0,null,0,0,9,9,0,null,0,0,9,9,0]
["Oui","Snecma","309-166-801-0","OBTURATEUR PYROMETRE",39,0,0,39,39,0,null,0,0,39,39,0,{"$nulls":5},0,0,39,39,0,null,null,0,0,39,39,0,null,null,0,0,39,39,0,null,0,0,39,39,0,null,0,0,39,39,0,null,0,0,39,39,0,null,null,0,0,39,39,0,{"$nulls":4},0,0,39,39,0,{"$nulls":4},0,0,{"$f":"VLOOKUP(C1634,[1]TCD!$D:$E,2,0)","v":39},39,0,null,0,0,39,39,0,null,0,0,39,39,0,null,0,0,39,39,0]
["Oui","Snecma","309-168-801-0","GLACE",29,0,1,28,28,0,null,0,1,27,27,0,{"$nulls":5},0,2,25,25,0,null,null,0,0,25,25,0,null,null,0,0,25,25,0,null,0,0,25,25,0,null,0,0,25,25,0,null,0,0,25,25,0,null,null,0,0,25,25,0,{"$nulls":4},0,0,25,25,0,{"$nulls":4},0,1,{"$f":"VLOOKUP(C1645,[1]TCD!$D:$E,2,0)","v":24},24,0,null,0,0,24,24,0,null,0,0,24,24,0,null,0,0,24,24,0]
["Oui","Snecma","309-704-703-0",null,0,0,0,0,0,0,null,0,0,0,0,0,{"$nulls":5},0,0,0,0,0,null,null,0,0,0,0,0,null,null,0,0,0,0,0,null,0,0,0,0,0,null,0,0,0,0,0,null,0,0,0,0,0,null,null,0,0,0,0,0,{"$nulls":5},0,0,0,0,{"$nulls":4},0,0,0,0,0,null,0,0,0,0,0,null,0,0,0,0,0,null,0,0,0,0,0]
["Oui","Snecma","320-304-101-0","RACCORD COMPLET",20,0,0,20,20,0,null,0,0,20,20,0,{"$nulls":5},0,0,20,20,0,null,null,0,0,20,20,0,null,null,0,0,20,20,0,null,0,0,20,20,0,null,0,0,20,20,0,null,0,0,20,20,0,null,null,0,0,20,20,0,{"$nulls":4},0,0,20,20,0,{"$nulls":4},0,0,{"$f":"VLOOKUP(C1660,[1]TCD!$D:$E,2,0)","v":20},20,0,null,0,0,20,20,0,null,0,0,20,20,0,null,0,0,20,20,0]
["Oui","Snecma","320-314-601-0","MANCHON MARQUES",50,0,0,50,50,0,null,0,0,50,50,0,{"$nulls":5},0,0,50,50,0,null,null,0,0,50,50,0,null,null,0,0,50,50,0,null,0,0,50,50,0,null,0,0,50,50,0,null,0,0,50,50,0,null,null,0,0,50,50,0,{"$nulls":4},0,0,50,50,0,{"$nulls":4},0,0,{"$f":"VLOOKUP(C1675,[1]TCD!$D:$E,2,0)","v":50},50,0,null,0,0,50,50,0,null,0,0,50,50,0,null,0,0,50,50,0]
["Oui","Snecma","320-315-101-0","MANCHON MARQUES",75,0,0,75,75,0,null,0,0,75,75,0,{"$nulls":5},0,0,75,75,0,null,null,0,0,75,75,0,null,null,0,0,75,75,0,null,0,0,75,75,0,null,0,0,75,75,0,null,0,0,75,75,0,null,null,0,0,75,75,0,{"$nulls":4},0,0,75,75,0,{"$nulls":4},0,0,{"$f":"VLOOKUP(C1680,[1]TCD!$D:$E,2,0)","v":75},75,0,null,0,0,75,75,0,null,0,0,75,75,0,null,0,0,75,75,0]
["Oui","Snecma","320-316-201-0","MANCHON MARQUES",50,0,0,50,50,0,null,0,0,50,50,0,{"$nulls":5},0,0,50,50,0,null,null,0,0,50,50,0,null,null,0,0,50,50,0,null,0,0,50,50,0,null,0,0,50,50,0,null,0,0,50,50,0,null,null,0,0,50,50,0,{"$nulls":4},0,0,50,50,0,{"$nulls":4},0,0,{"$f":"VLOOKUP(C1691,[1]TCD!$D:$E,2,0)","v":50},50,0,null,0,0,50,50,0,null,0,0,50,50,0,null,0,0,50,50,0]
["Oui","Snecma","320-317-301-0","MANCHON MARQUES",50,0,0,50,50,0,null,0,0,50,50,0,{"$nulls":5},0,0,50,50,0,null,null,0,0,50,50,0,null,null,0,0,50,50,0,null,0,0,50,50,0,null,0,0,50,50,0,null,0,0,50,50,0,null,null,0,0,50,50,0,{"$nulls":4},0,0,50,50,0,{"$nulls":4},0,0,{"$f":"VLOOKUP(C1702,[1]TCD!$D:$E,2,0)","v":50},50,0,null,0,0,50,50,0,null,0,0,50,50,0,null,0,0,50,50,0]
["Oui","Snecma","320-318-201-0","MANCHON MARQUES",75,0,0,75,75,0,null,0,0,75,75,0,{"$nulls":5},0,0,75,75,0,null,null,0,0,75,75,0,null,null,0,0,75,75,0,null,0,0,75,75,0,null,0,0,75,75,0,null,0,0,75,75,0,null,null,0,0,75,75,0,{"$nulls":4},0,0,75,75,0,{"$nulls":4},0,0,{"$f":"VLOOKUP(C1710,[1]TCD!$D:$E,2,0)","v":75},75,0,null,0,0,75,75,0,null,0,0,75,75,0,null,0,0,75,75,0]
[{"$error":"#N/A"},"Snecma","320-334-401-0","HARNAIS W05",6,0,0,6,6,0,null,0,0,6,6,0,{"$nulls":5},0,0,6,6,0,null,null,0,0,6,6,0,null,null,0,0,6,6,0,null,0,0,6,6,0,null,0,0,6,6,0,null,0,0,6,6,0,null,null,0,0,6,6,0,{"$nulls":4},0,0,6,6,0,{"$nulls":4},0,0,{"$f":"VLOOKUP(C1721,[1]TCD!$D:$E,2,0)","v":6},6,0,null,0,0,6,6,0,null,0,0,6,6,0,null,0,0,6,6,0]
["Oui","Snecma","320-828-803-0",null,0,0,0,0,0,0,null,0,0,0,0,0,{"$nulls":5},0,0,0,0,0,null,null,0,0,0,0,0,null,null,0,0,0,0,0,null,0,0,0,0,0,null,0,0,0,0,0,null,0,0,0,0,0,null,null,0,0,0,0,0,{"$nulls":5},0,0,0,0,{"$nulls":4},0,0,0,0,0,null,0,0,0,0,0,null,0,0,0,0,0,null,0,0,0,0,0]
["Oui",null,"320-912-603-0","ENTREE/SORTIE",0,0,0,0,0,0,null,0,0,0,0,0,{"$nulls":5},0,0,0,0,0,null,null,0,0,0,0,0,null,null,0,0,0,0,0,null,0,0,0,0,0,null,0,0,0,0,0,null,0,0,0,0,0,null,null,0,0,0,0,0,{"$nulls":5},0,0,0,0,{"$nulls":4},0,0,0,0,0,null,0,0,0,0,0,null,0,0,0,0,0,null,0,0,0,0,0]
["Oui",null,"326-201-901-0","TOLE D'ETANCHEITE,ANNEAU H",0,0,0,0,0,0,null,0,0,0,0,0,{"$nulls":5},0,0,0,0,0,null,null,0,0,0,0,0,null,null,0,0,0,0,0,null,0,0,0,0,0,null,0,0,0,0,0,null,0,0,0,0,0,null,null,0,0,0,0,0,{"$nulls":5},0,0,0,0,{"$nulls":4},0,0,0,0,0,null,0,0,0,0,0,null,0,0,0,0,0,null,0,0,0,0,0]
["Oui",null,"326-909-902-0","S-ENS RECHANGE SM",0,0,0,0,0,0,null,0,0,0,0,0,{"$nulls":5},0,0,0,0,0,null,null,0,0,0,0,0,null,null,0,0,0,0,0,null,0,0,0,0,0,null,0,0,0,0,0,null,0,0,0,0,0,null,null,0,0,0,0,0,{"$nulls":5},0,0,0,0,{"$nulls":4},0,0,0,0,0,null,0,0,0,0,0,null,0,0,0,0,0,null,0,0,0,0,0]
["Oui","Snecma","327-700-339-0",null,0,0,0,0,0,0,null,0,0,0,0,0,{"$nulls":5},0,0,0,0,0,null,null,0,0,0,0,0,null,null,0,0,0,0,0,null,0,0,0,0,0,null,0,0,0,0,0,null,0,0,0,0,0,null,null,0,0,0,0,0,{"$nulls":5},0,0,0,0,{"$nulls":4},0,0,0,0,0,null,0,0,0,0,0,null,0,0,0,0,0,null,0,0,0,0,0]
[{"$error":"#N/A"},"AIA","394-062-301-0",null,2,0,0,2,2,0,null,0,0,2,2,0,{"$nulls":5},0,0,2,2,0,null,null,0,0,2,2,0,null,null,0,0,2,2,0,null,0,0,2,2,0,null,0,0,2,2,0,null,0,0,2,2,0,null,null,0,0,2,2,0,{"$nulls":4},0,0,2,2,0,{"$nulls":4},0,0,{"$f":"VLOOKUP(C1782,[1]TCD!$D:$E,2,0)","v":2},2,0,null,0,0,2,2,0,null,0,0,2,2,0,null,0,0,2,2,0]
[{"$error":"#N/A"},"AIA","394-147-301-0",null,1,0,0,1,1,0,null,0,0,1,1,0,{"$nulls":5},0,0,1,1,0,null,null,0,0,1,1,0,null,null,0,0,1,1,0,null,0,0,1,1,0,null,0,0,1,1,0,null,0,0,1,1,0,null,null,0,0,1,1,0,{"$nulls":4},0,0,1,1,0,{"$nulls":4},0,0,{"$f":"VLOOKUP(C1793,[1]TCD!$D:$E,2,0)","v":1},1,0,null,0,0,1,1,0,null,0,0,1,1,0,null,0,0,1,1,0]
[{"$error":"#N/A"},"AIA","394-175-301-0",null,1,0,0,1,1,0,null,0,0,1,1,0,{"$nulls":5},0,0,1,1,0,null,null,0,0,1,1,0,null,null,0,0,1,1,0,null,0,0,1,1,0,null,0,0,1,1,0,null,0,0,1,1,0,null,null,0,0,1,1,0,{"$nulls":4},0,0,1,1,0,{"$nulls":4},0,0,{"$f":"VLOOKUP(C1797,[1]TCD!$D:$E,2,0)","v":1},{"$f":"BT1797+CA1797-CB1797","v":1},{"$f":"CC1797-CD1797","v":0},null,0,0,1,{"$f":"CC1797+CG1797-CH1797","v":1},{"$f":"CI1797-CJ1797","v":0},null,0,0,1,{"$f":"CI1797+CM1797-CN1797","v":1},{"$f":"CO1797-CP1797","v":0},null,0,0,1,{"$f":"CO1797+CS1797-CT1797","v":1},{"$f":"CU1797-CV1797","v":0}]
["Oui","Snecma","399-009-023-0","OBT ENTREE CARBURANT",20,0,0,20,20,0,null,0,0,20,20,0,{"$nulls":5},0,0,20,20,0,null,null,0,0,20,20,0,null,null,0,0,20,20,0,null,0,0,20,20,0,null,0,0,20,20,0,null,0,0,20,20,0,null,null,0,0,20,20,0,{"$nulls":4},0,0,20,20,0,{"$nulls":4},0,0,{"$f":"VLOOKUP(C1812,[1]TCD!$D:$E,2,0)","v":20},20,0,null,0,0,20,20,0,null,0,0,20,20,0,null,0,0,20,20,0]
["Oui","Snecma","399-900-075-0","OBTURATEUR SOUPLE",874,0,4,874,870,4,null,0,0,874,874,0,{"$nulls":5},0,4,870,870,0,null,null,0,4,866,866,0,null,null,0,0,866,866,0,null,0,0,866,866,0,null,0,4,862,862,0,null,0,0,862,862,0,null,null,0,0,862,862,0,{"$nulls":4},0,0,862,862,0,{"$nulls":4},0,0,{"$f":"VLOOKUP(C1823,[1]TCD!$D:$E,2,0)","v":862},862,0,null,0,0,862,862,0,null,0,0,862,862,0,null,0,0,862,862,0]
["Oui","Snecma","399-900-114-0","PROTECTOR",63,0,0,63,63,0,null,0,0,63,63,0,{"$nulls":5},0,0,63,63,0,null,null,0,0,63,63,0,null,null,0,0,63,63,0,null,0,0,63,63,0,null,0,0,63,63,0,null,0,0,63,63,0,null,null,0,0,63,63,0,{"$nulls":4},0,0,63,63,0,{"$nulls":4},0,0,{"$f":"VLOOKUP(C1828,[1]TCD!$D:$E,2,0)","v":63},63,0,null,0,0,63,63,0,null,0,0,63,63,0,null,0,0,63,63,0]
["Oui","Snecma","416A20-82","FILTRE A CARBURANT",33,0,0,33,33,0,null,0,0,33,33,0,{"$nulls":5},0,0,33,33,0,null,null,0,0,33,33,0,null,null,0,0,33,33,0,null,0,0,33,33,0,null,0,0,33,33,0,null,0,0,33,33,0,null,null,0,0,33,33,0,{"$nulls":4},0,0,33,33,0,{"$nulls":4},0,0,{"$f":"VLOOKUP(C1838,[1]TCD!$D:$E,2,0)","v":33},33,0,null,0,0,33,33,0,null,0,0,33,33,0,null,0,0,33,33,0]
["Oui","Snecma","46012B02500","JOINT TORIQUE",16,0,0,16,16,0,null,0,0,16,16,0,{"$nulls":5},0,0,16,16,0,null,null,0,0,16,16,0,null,null,0,0,16,16,0,null,0,0,16,16,0,null,0,0,16,16,0,null,0,0,16,16,0,null,null,0,0,16,16,0,{"$nulls":4},5,0,21,21,0,{"$nulls":4},0,0,{"$f":"VLOOKUP(C1853,[1]TCD!$D:$E,2,0)","v":21},21,0,null,0,0,21,21,0,null,0,0,21,21,0,null,0,0,21,21,0]
["Oui","Snecma","551-806-008-0","PLUG",773,0,0,773,773,0,null,0,3,770,770,0,{"$nulls":5},0,0,770,770,0,null,null,0,1,769,769,0,null,null,0,1,768,768,0,null,0,0,768,768,0,null,0,5,763,763,0,null,0,6,757,757,0,null,null,0,0,757,757,0,{"$nulls":4},0,2,755,755,0,{"$nulls":4},0,6,{"$f":"VLOOKUP(C1858,[1]TCD!$D:$E,2,0)","v":749},749,0,null,0,0,749,749,0,null,2,1,750,750,0,null,0,1,749,749,0]
["Oui","Snecma","5552-000","RACCORD, TROP PLEIN HLE SE",8,0,0,8,8,0,null,0,0,8,8,0,{"$nulls":5},0,0,8,8,0,null,null,0,0,8,8,0,null,null,0,0,8,8,0,null,0,0,8,8,0,null,0,0,8,8,0,null,0,0,8,8,0,null,null,0,0,8,8,0,{"$nulls":4},0,0,8,8,0,{"$nulls":4},0,0,{"$f":"VLOOKUP(C1869,[1]TCD!$D:$E,2,0)","v":8},8,0,null,0,0,8,8,0,null,0,0,8,8,0,null,0,0,8,8,0]
["Oui","Snecma","620U22B",null,0,0,0,0,0,0,null,0,0,0,0,0,{"$nulls":5},0,0,0,0,0,null,null,0,0,0,0,0,null,null,0,0,0,0,0,null,0,0,0,0,0,null,0,0,0,0,0,null,0,0,0,0,0,null,null,0,0,0,0,0,{"$nulls":5},0,0,0,0,{"$nulls":4},0,0,0,0,0,null,0,0,0,0,0,null,0,0,0,0,0,null,0,0,0,0,0]
["Oui","Snecma","649-365-637-0","RETAINING RING",18,0,0,18,18,0,null,0,0,18,18,0,{"$nulls":5},0,0,18,18,0,null,null,0,0,18,18,0,null,null,0,0,18,18,0,null,0,0,18,18,0,null,0,0,18,18,0,null,0,0,18,18,0,null,null,0,0,18,18,0,{"$nulls":4},0,0,18,18,0,{"$nulls":4},0,0,{"$f":"VLOOKUP(C1888,[1]TCD!$D:$E,2,0)","v":18},18,0,null,0,0,18,18,0,null,0,0,18,18,0,null,0,0,18,18,0]
["Oui","Snecma","649-972-057-0","PLUG,",49,0,0,49,49,0,null,0,2,47,47,0,{"$nulls":5},0,0,47,47,0,null,null,0,0,47,47,0,null,null,0,0,47,47,0,null,0,0,47,47,0,null,0,0,47,47,0,null,0,0,47,47,0,null,null,0,2,45,45,0,{"$nulls":4},0,2,43,43,0,{"$nulls":4},0,2,{"$f":"VLOOKUP(C1899,[1]TCD!$D:$E,2,0)","v":41},41,0,null,0,0,41,41,0,null,0,1,40,40,0,null,0,0,40,40,0]
["Oui","Snecma","650-001-606-0","PIN",31,0,0,31,31,0,null,0,0,31,31,0,{"$nulls":5},0,2,29,29,0,null,null,0,0,29,29,0,null,null,0,0,29,29,0,null,0,0,29,29,0,null,0,2,27,27,0,null,0,0,27,27,0,null,null,0,0,27,27,0,{"$nulls":4},0,1,26,26,0,{"$nulls":4},0,1,{"$f":"VLOOKUP(C1904,[1]TCD!$D:$E,2,0)","v":25},25,0,null,0,1,24,24,0,null,0,0,24,24,0,null,0,0,24,24,0]
["Oui","Snecma","650-051-105-0","PLUG",38,0,0,38,38,0,null,0,0,38,38,0,{"$nulls":5},0,0,38,38,0,null,null,0,0,38,38,0,null,null,0,0,38,38,0,null,0,0,38,38,0,null,0,0,38,38,0,null,0,0,38,38,0,null,null,0,0,38,38,0,{"$nulls":4},0,0,38,38,0,{"$nulls":4},0,0,{"$f":"VLOOKUP(C1919,[1]TCD!$D:$E,2,0)","v":38},38,0,null,0,0,38,38,0,null,0,0,38,38,0,null,0,0,38,38,0]
["Oui","Snecma","650-066-271-0","FILET RAPPORTE,AUTO-FREINANT",198,0,0,198,198,0,null,0,0,198,198,0,{"$nulls":5},0,0,198,198,0,null,null,0,0,198,198,0,null,null,0,0,198,198,0,null,0,0,198,198,0,null,0,0,198,198,0,null,0,0,198,198,0,null,null,0,0,198,198,0,{"$nulls":4},0,0,198,198,0,{"$nulls":4},0,8,{"$f":"VLOOKUP(C1924,[1]TCD!$D:$E,2,0)","v":190},190,0,null,0,0,190,190,0,null,0,0,190,190,0,null,0,0,190,190,0]
["Oui","Snecma","650-066-571-0","INSERT",758,0,0,758,758,0,null,0,0,758,758,0,{"$nulls":5},0,0,758,758,0,null,null,0,0,758,758,0,null,null,0,0,758,758,0,null,0,0,758,758,0,null,0,0,758,758,0,null,0,0,758,758,0,null,null,0,0,758,758,0,{"$nulls":4},9,0,767,767,0,{"$nulls":4},0,0,{"$f":"VLOOKUP(C1934,[1]TCD!$D:$E,2,0)","v":767},767,0,null,0,0,767,767,0,null,0,0,767,767,0,null,0,0,767,767,0]
["Oui","Snecma","650-091-638-0","SCREW",428,0,0,428,428,0,null,0,0,428,428,0,{"$nulls":5},0,0,428,428,0,null,null,0,0,428,428,0,null,null,0,0,428,428,0,null,0,0,428,428,0,null,0,0,428,428,0,null,0,0,428,428,0,null,null,0,0,428,428,0,{"$nulls":4},0,0,428,428,0,{"$nulls":4},0,0,{"$f":"VLOOKUP(C1945,[1]TCD!$D:$E,2,0)","v":428},428,0,null,0,0,428,428,0,null,0,0,428,428,0,null,0,0,428,428,0]
["Oui","Snecma","650-152-856-0","SCREW",173,0,0,173,173,0,null,0,0,173,173,0,{"$nulls":5},0,0,173,173,0,null,null,0,0,173,173,0,null,null,0,0,173,173,0,null,0,0,173,173,0,null,0,0,173,173,0,null,0,0,173,173,0,null,null,0,0,173,173,0,{"$nulls":4},0,0,173,173,0,{"$nulls":4},0,0,{"$f":"VLOOKUP(C1960,[1]TCD!$D:$E,2,0)","v":173},173,0,null,0,0,173,173,0,null,0,0,173,173,0,null,0,0,173,173,0]
["Oui","Snecma","650-153-214-0","BOLT",302,0,0,302,302,0,null,0,0,302,302,0,{"$nulls":5},0,4,298,298,0,null,null,0,0,298,298,0,null,null,0,0,298,298,0,null,0,0,298,298,0,null,0,1,297,297,0,null,0,0,297,297,0,null,null,0,0,297,297,0,{"$nulls":4},0,4,293,293,0,{"$nulls":4},0,0,{"$f":"VLOOKUP(C1970,[1]TCD!$D:$E,2,0)","v":293},293,0,null,0,0,293,293,0,null,0,4,289,289,0,null,0,0,289,289,0]
["Oui","Snecma","650-153-220-0","BOLT",55,0,0,55,55,0,null,0,0,55,55,0,{"$nulls":5},0,0,55,55,0,null,null,0,0,55,55,0,null,null,0,0,55,55,0,null,0,0,55,55,0,null,0,3,52,52,0,null,0,0,52,52,0,null,null,0,0,52,52,0,{"$nulls":4},0,0,52,52,0,{"$nulls":4},0,0,{"$f":"VLOOKUP(C1975,[1]TCD!$D:$E,2,0)","v":52},52,0,null,0,0,52,52,0,null,0,0,52,52,0,null,0,1,51,51,0]
["Oui","Snecma","650-153-504-0","BOLT",309,0,43,309,266,43,null,100,89,266,320,-54,{"$nulls":5},0,100,220,166,54,"Ecart temporel (OT confirmé le 20/10)",0,225,45,400,400,0,null,null,200,3,597,597,0,null,200,178,619,619,0,null,0,37,582,582,0,null,1225,0,1807,1807,0,null,null,0,53,1754,1754,0,{"$nulls":4},0,163,1591,1591,0,{"$nulls":4},200,121,{"$f":"VLOOKUP(C1990,[1]TCD!$D:$E,2,0)","v":1670},1670,0,null,0,0,1670,1670,0,null,0,0,1670,1670,0,null,25,33,1662,1662,0]
["Oui","Snecma","650-153-527-0","BOLT",69,0,0,65,69,-4,"Pas d' Entrées et pas de Sorties mais différence de Stock!",0,4,65,61,4,{"$nulls":3},0,null,0,0,65,65,0,null,null,0,0,65,65,0,null,null,0,0,65,65,0,null,0,0,65,65,0,null,0,0,65,65,0,null,0,0,65,65,0,null,null,0,0,65,65,0,{"$nulls":4},0,0,65,65,0,{"$nulls":4},0,0,{"$f":"VLOOKUP(C1995,[1]TCD!$D:$E,2,0)","v":65},65,0,null,0,0,65,65,0,null,0,0,65,65,0,null,0,0,65,65,0]
["Oui","Snecma","650-192-657-0","VIS A TETE CYLINDRIQUE",435,0,0,435,435,0,null,0,0,435,435,0,{"$nulls":5},0,0,435,435,0,null,null,0,0,435,435,0,null,null,0,0,435,435,0,null,0,0,435,435,0,null,0,0,435,435,0,null,0,0,435,435,0,null,null,0,0,435,435,0,{"$nulls":4},0,0,435,435,0,{"$nulls":4},0,0,{"$f":"VLOOKUP(C2006,[1]TCD!$D:$E,2,0)","v":435},435,0,null,0,0,435,435,0,null,0,0,435,435,0,null,0,1,434,434,0]
["Oui","Snecma","650-192-678-0","VIS A TETE CYLINDRIQUE",142,0,0,142,142,0,null,0,0,142,142,0,{"$nulls":5},0,0,142,142,0,null,null,0,0,142,142,0,null,null,0,0,142,142,0,null,0,0,142,142,0,null,0,0,142,142,0,null,0,0,142,142,0,null,null,0,0,142,142,0,{"$nulls":4},3,0,145,145,0,{"$nulls":4},0,0,{"$f":"VLOOKUP(C2015,[1]TCD!$D:$E,2,0)","v":145},145,0,null,0,0,145,145,0,null,0,0,145,145,0,null,0,0,145,145,0]
["Oui",null,"650-192-694-0","CHEESE-HEAD SCREW",0,0,0,0,0,0,null,0,0,0,0,0,{"$nulls":5},0,0,0,0,0,null,null,0,0,0,0,0,null,null,0,0,0,0,0,null,0,0,0,0,0,null,0,0,0,0,0,null,0,0,0,0,0,null,null,0,0,0,0,0,{"$nulls":5},0,0,0,0,{"$nulls":4},0,0,0,0,0,null,0,0,0,0,0,null,0,0,0,0,0,null,0,0,0,0,0]
["Oui","Snecma","650-201-829-0","SCREW",16,0,0,16,16,0,null,0,0,16,16,0,{"$nulls":5},0,0,16,16,0,null,null,0,0,16,16,0,null,null,0,0,16,16,0,null,0,0,16,16,0,null,0,0,16,16,0,null,0,0,16,16,0,null,null,0,0,16,16,0,{"$nulls":4},0,0,16,16,0,{"$nulls":4},0,0,{"$f":"VLOOKUP(C2036,[1]TCD!$D:$E,2,0)","v":16},16,0,null,0,0,16,16,0,null,0,0,16,16,0,null,0,0,16,16,0]
["Oui","Snecma","650-291-202-0","ECROU,BIHEXAGONAL,CHAMBRE",86,0,0,86,86,0,null,0,0,86,86,0,{"$nulls":5},0,0,86,86,0,null,null,0,0,86,86,0,null,null,0,0,86,86,0,null,0,0,86,86,0,null,0,0,86,86,0,null,0,0,86,86,0,null,null,0,0,86,86,0,{"$nulls":4},0,0,86,86,0,{"$nulls":4},0,0,{"$f":"VLOOKUP(C2041,[1]TCD!$D:$E,2,0)","v":86},86,0,null,0,0,86,86,0,null,0,0,86,86,0,null,0,0,86,86,0]
["Oui","Snecma","650-302-603-0","NUT",98,0,3,95,95,0,null,0,6,89,89,0,{"$nulls":5},0,3,86,86,0,null,null,0,3,83,83,0,null,null,0,0,83,83,0,null,0,0,83,83,0,null,0,6,77,77,0,null,0,0,77,77,0,null,null,0,0,77,77,0,{"$nulls":4},0,0,77,77,0,{"$nulls":4},0,0,{"$f":"VLOOKUP(C2052,[1]TCD!$D:$E,2,0)","v":77},77,0,null,0,0,77,77,0,null,0,6,71,71,0,null,0,0,71,71,0]
["Oui","Snecma","650-305-020-0","NUT",2665,0,0,4942,2665,2277,"Pas d' Entrées et pas de Sorties mais différence de Stock!",0,0,4942,4942,0,{"$nulls":5},0,0,4942,4942,0,null,null,0,0,4942,4942,0,null,null,0,0,4942,4942,0,null,0,0,4942,4942,0,null,0,0,4942,4942,0,null,0,0,4942,4942,0,null,null,0,0,4942,4942,0,{"$nulls":4},0,0,4942,4942,0,{"$nulls":4},0,0,{"$f":"VLOOKUP(C2069,[1]TCD!$D:$E,2,0)","v":4942},4942,0,null,0,0,4942,4942,0,null,0,0,4942,4942,0,null,0,0,4942,4942,0]
["Oui","Snecma","650-341-082-0","WASHER,FLAT",211,0,0,211,211,0,null,0,0,211,211,0,{"$nulls":5},0,0,211,211,0,null,null,0,0,211,211,0,null,null,0,0,211,211,0,null,0,0,211,211,0,null,0,0,211,211,0,null,0,0,211,211,0,null,null,0,0,211,211,0,{"$nulls":4},1,0,212,212,0,{"$nulls":4},0,0,{"$f":"VLOOKUP(C2077,[1]TCD!$D:$E,2,0)","v":212},212,0,null,0,0,212,212,0,null,0,0,212,212,0,null,0,0,212,212,0]
["Oui","Snecma","650-341-125-0","WASHER , FLAT",480,0,0,480,480,0,null,0,0,480,480,0,{"$nulls":5},0,0,480,480,0,null,null,0,0,480,480,0,null,null,0,0,480,480,0,null,0,0,480,480,0,null,0,0,480,480,0,null,0,0,480,480,0,null,null,0,0,480,480,0,{"$nulls":4},6,0,486,486,0,{"$nulls":4},0,0,{"$f":"VLOOKUP(C2082,[1]TCD!$D:$E,2,0)","v":486},486,0,null,0,0,486,486,0,null,0,0,486,486,0,null,0,0,486,486,0]
["Oui","Snecma","650-342-225-0","WASHER",388,0,0,388,388,0,null,0,0,388,388,0,{"$nulls":5},0,0,388,388,0,null,null,0,0,388,388,0,null,null,0,0,388,388,0,null,0,0,388,388,0,null,0,0,388,388,0,null,0,0,388,388,0,null,null,0,0,388,388,0,{"$nulls":4},2,0,390,390,0,{"$nulls":4},0,0,{"$f":"VLOOKUP(C2097,[1]TCD!$D:$E,2,0)","v":390},390,0,null,0,0,390,390,0,null,0,0,390,390,0,null,0,0,390,390,0]
[{"$error":"#N/A"},"Snecma","650-360-002-0","CABLE",33,0,2,31,31,0,null,0,0,31,31,0,{"$nulls":5},0,0,31,31,0,null,null,0,0,31,31,0,null,null,0,2,29,29,0,null,0,0,29,29,0,null,0,3,26,26,0,null,0,0,26,26,0,null,null,0,0,26,26,0,{"$nulls":4},0,0,26,26,0,{"$nulls":4},0,8,{"$f":"VLOOKUP(C2101,[1]TCD!$D:$E,2,0)","v":18},18,0,null,0,0,18,18,0,null,0,0,18,18,0,null,0,0,18,18,0]
["Oui","Snecma","650-365-026-0","RING",56,0,1,54,55,-1,null,0,2,52,52,0,{"$nulls":5},0,3,50,49,1,null,1,25,2,73,73,0,null,null,0,3,70,70,0,null,0,0,70,70,0,null,0,1,69,69,0,null,0,1,68,68,0,null,null,0,0,68,68,0,{"$nulls":4},0,4,64,64,0,{"$nulls":4},0,3,{"$f":"VLOOKUP(C2112,[1]TCD!$D:$E,2,0)","v":61},61,0,null,0,0,61,61,0,null,0,2,59,59,0,null,0,2,57,57,0]
["Oui","Snecma","650-392-041-0","O-RING",329,0,0,329,329,0,null,0,0,329,329,0,{"$nulls":5},0,0,329,329,0,null,null,0,0,329,329,0,null,null,0,0,329,329,0,null,0,0,329,329,0,null,0,3,326,326,0,null,0,6,320,320,0,null,null,0,0,320,320,0,{"$nulls":4},0,0,320,320,0,{"$nulls":4},0,0,{"$f":"VLOOKUP(C2127,[1]TCD!$D:$E,2,0)","v":320},320,0,null,0,0,320,320,0,null,0,3,317,317,0,null,0,0,317,317,0]
["Oui","Snecma","650-393-029-0",null,0,0,0,0,0,0,null,0,0,0,0,0,{"$nulls":5},0,0,0,0,0,null,null,0,0,0,0,0,null,null,0,0,0,0,0,null,0,0,0,0,0,null,0,0,0,0,0,null,0,0,0,0,0,null,null,0,0,0,0,0,{"$nulls":5},0,0,0,0,{"$nulls":4},0,0,0,0,0,null,0,0,0,0,0,null,0,0,0,0,0,null,0,0,0,0,0]
["Oui","Snecma","650-393-053-0",null,0,0,0,0,0,0,null,0,0,0,0,0,{"$nulls":5},0,0,0,0,0,null,null,0,0,0,0,0,null,null,0,0,0,0,0,null,0,0,0,0,0,null,0,0,0,0,0,null,0,0,0,0,0,null,null,0,0,0,0,0,{"$nulls":5},0,0,0,0,{"$nulls":4},0,0,0,0,0,null,0,0,0,0,0,null,0,0,0,0,0,null,0,0,0,0,0]
["Oui","Snecma","650-393-092-0",null,0,0,0,0,0,0,null,0,0,0,0,0,{"$nulls":5},0,0,0,0,0,null,null,0,0,0,0,0,null,null,0,0,0,0,0,null,0,0,0,0,0,null,0,0,0,0,0,null,0,0,0,0,0,null,null,0,0,0,0,0,{"$nulls":5},0,0,0,0,{"$nulls":4},0,0,0,0,0,null,0,0,0,0,0,null,0,0,0,0,0,null,0,0,0,0,0]
["Oui","Snecma","650-393-098-0",null,0,0,0,0,0,0,null,0,0,0,0,0,{"$nulls":5},0,0,0,0,0,null,null,0,0,0,0,0,null,null,0,0,0,0,0,null,0,0,0,0,0,null,0,0,0,0,0,null,0,0,0,0,0,null,null,0,0,0,0,0,{"$nulls":5},0,0,0,0,{"$nulls":4},0,0,0,0,0,null,0,0,0,0,0,null,0,0,0,0,0,null,0,0,0,0,0]
["Oui","Snecma","650-403-003-0","CLAMP LOOP",72,0,0,72,72,0,null,0,0,72,72,0,{"$nulls":5},0,0,72,72,0,null,null,0,0,72,72,0,null,null,0,0,72,72,0,null,0,0,72,72,0,null,0,0,72,72,0,null,0,0,72,72,0,null,null,0,0,72,72,0,{"$nulls":4},0,0,72,72,0,{"$nulls":4},0,0,{"$f":"VLOOKUP(C2173,[1]TCD!$D:$E,2,0)","v":72},72,0,null,0,0,72,72,0,null,0,0,72,72,0,null,0,1,71,71,0]
["Oui","Snecma","650-403-027-0","CLAMP LOOP",101,0,0,101,101,0,null,0,0,101,101,0,{"$nulls":5},0,0,101,101,0,null,null,0,0,101,101,0,null,null,0,0,101,101,0,null,0,0,101,101,0,null,0,0,101,101,0,null,0,0,101,101,0,null,null,0,0,101,101,0,{"$nulls":4},0,0,101,101,0,{"$nulls":4},0,0,{"$f":"VLOOKUP(C2184,[1]TCD!$D:$E,2,0)","v":101},101,0,null,0,0,101,101,0,null,0,0,101,101,0,null,0,0,101,101,0]
["Oui","Snecma","650-403-042-0","CLAMP LOOP",496,0,0,496,496,0,null,0,0,496,496,0,{"$nulls":5},0,0,496,496,0,null,null,0,0,496,496,0,null,null,0,0,496,496,0,null,0,0,496,496,0,null,0,0,496,496,0,null,0,0,496,496,0,null,null,0,0,496,496,0,{"$nulls":4},0,0,496,496,0,{"$nulls":4},0,3,{"$f":"VLOOKUP(C2189,[1]TCD!$D:$E,2,0)","v":493},493,0,null,0,0,493,493,0,null,0,0,493,493,0,null,0,1,492,492,0]
["Oui","Snecma","650-403-063-0","CLAMP",104,0,0,104,104,0,null,0,0,104,104,0,{"$nulls":5},0,1,103,103,0,null,null,0,0,103,103,0,null,null,0,0,103,103,0,null,0,2,101,101,0,null,0,0,101,101,0,null,0,0,101,101,0,null,null,0,0,101,101,0,{"$nulls":4},0,0,101,101,0,{"$nulls":4},0,1,{"$f":"VLOOKUP(C2200,[1]TCD!$D:$E,2,0)","v":100},100,0,null,0,0,100,100,0,null,0,0,100,100,0,null,0,0,100,100,0]
["Oui","Snecma","650-462-502-0","NIPPLE",50,0,0,50,50,0,null,0,0,50,50,0,{"$nulls":5},0,0,50,50,0,null,null,0,0,50,50,0,null,null,0,0,50,50,0,null,0,0,50,50,0,null,0,0,50,50,0,null,0,0,50,50,0,null,null,0,0,50,50,0,{"$nulls":4},2,0,52,52,0,{"$nulls":4},0,0,{"$f":"VLOOKUP(C2214,[1]TCD!$D:$E,2,0)","v":52},52,0,null,0,0,52,52,0,null,0,0,52,52,0,null,0,0,52,52,0]
[{"$error":"#N/A"},"Snecma","650-462-781-0","CAP-PLUG, PROTECTIVE, DUST AND",25,0,0,25,25,0,null,0,0,25,25,0,{"$nulls":5},0,0,25,25,0,null,null,0,0,25,25,0,null,null,0,0,25,25,0,null,0,0,25,25,0,null,0,0,25,25,0,null,0,0,25,25,0,null,null,0,0,25,25,0,{"$nulls":4},0,0,25,25,0,{"$nulls":4},0,0,{"$f":"VLOOKUP(C2219,[1]TCD!$D:$E,2,0)","v":25},25,0,null,0,0,25,25,0,null,0,0,25,25,0,null,0,0,25,25,0]
["Oui","Snecma","650-774-093-0","BOLT",376,0,0,376,376,0,null,0,0,376,376,0,{"$nulls":5},0,0,376,376,0,null,null,0,0,376,376,0,null,null,0,0,376,376,0,null,0,0,376,376,0,null,0,0,376,376,0,null,0,0,376,376,0,null,null,0,0,376,376,0,{"$nulls":4},0,0,376,376,0,{"$nulls":4},0,0,{"$f":"VLOOKUP(C2230,[1]TCD!$D:$E,2,0)","v":376},376,0,null,0,0,376,376,0,null,0,0,376,376,0,null,0,0,376,376,0]
["Oui","Snecma","650-779-047-0","BOLT",230,0,18,212,212,0,null,0,0,212,212,0,{"$nulls":5},0,0,212,212,0,null,null,0,0,212,212,0,null,null,0,0,212,212,0,null,0,0,212,212,0,null,0,0,212,212,0,null,0,0,212,212,0,null,null,0,0,212,212,0,{"$nulls":4},0,0,212,212,0,{"$nulls":4},0,0,{"$f":"VLOOKUP(C2237,[1]TCD!$D:$E,2,0)","v":212},212,0,null,0,0,212,212,0,null,0,0,212,212,0,null,0,0,212,212,0]
["Oui","AIA","650-781-085-0",null,100,0,0,100,100,0,null,0,0,100,100,0,{"$nulls":5},0,0,100,100,0,null,null,0,0,100,100,0,null,null,0,0,100,100,0,null,0,0,100,100,0,null,0,0,100,100,0,null,0,0,100,100,0,null,null,0,0,100,100,0,{"$nulls":4},0,0,100,100,0,{"$nulls":4},0,0,{"$f":"VLOOKUP(C2249,[1]TCD!$D:$E,2,0)","v":100},100,0,null,0,0,100,100,0,null,0,0,100,100,0,null,0,0,100,100,0]
["Oui","Snecma","650-784-077-0","NUT",60,0,0,60,60,0,null,0,0,60,60,0,{"$nulls":5},0,0,60,60,0,null,null,0,1,59,59,0,null,null,0,0,59,59,0,null,0,1,58,58,0,null,0,0,58,58,0,null,0,0,58,58,0,null,null,0,0,58,58,0,{"$nulls":4},0,0,58,58,0,{"$nulls":4},0,0,{"$f":"VLOOKUP(C2260,[1]TCD!$D:$E,2,0)","v":58},58,0,null,0,0,58,58,0,null,0,0,58,58,0,null,0,0,58,58,0]
["Oui","Snecma","650-788-586-0","GASKET",495,0,0,495,495,0,null,0,0,495,495,0,{"$nulls":5},0,0,495,495,0,null,null,0,0,495,495,0,null,null,0,0,495,495,0,null,0,0,495,495,0,null,0,0,495,495,0,null,0,0,495,495,0,null,null,0,0,495,495,0,{"$nulls":4},0,10,485,485,0,{"$nulls":4},0,1,{"$f":"VLOOKUP(C2275,[1]TCD!$D:$E,2,0)","v":484},484,0,null,0,0,484,484,0,null,0,0,484,484,0,null,0,1,483,483,0]
["Oui","Snecma","650-788-587-0","E SEAL",17,0,0,17,17,0,null,0,0,17,17,0,{"$nulls":5},0,1,16,16,0,null,null,0,0,16,16,0,null,null,0,0,16,16,0,null,0,0,16,16,0,null,0,2,14,14,0,null,0,1,13,13,0,null,null,0,1,12,12,0,{"$nulls":4},0,1,11,11,0,{"$nulls":4},0,0,{"$f":"VLOOKUP(C2276,[1]TCD!$D:$E,2,0)","v":11},11,0,null,0,0,11,11,0,null,0,0,11,11,0,null,0,0,11,11,0]
["Oui","Snecma","650-819-016-0","WASHER",51,0,0,51,51,0,null,0,0,51,51,0,{"$nulls":5},0,0,51,51,0,null,null,0,0,51,51,0,null,null,0,0,51,51,0,null,0,0,51,51,0,null,0,0,51,51,0,null,0,0,51,51,0,null,null,0,0,51,51,0,{"$nulls":4},0,0,51,51,0,{"$nulls":4},0,0,{"$f":"VLOOKUP(C2291,[1]TCD!$D:$E,2,0)","v":51},51,0,null,0,0,51,51,0,null,0,0,51,51,0,null,0,0,51,51,0]
["Oui","Snecma","650-972-011-0","SCREW",850,0,10,848,840,8,null,0,0,848,848,0,{"$nulls":5},0,8,840,840,0,null,null,0,8,832,832,0,null,null,0,0,832,832,0,null,0,0,832,832,0,null,0,8,824,824,0,null,0,0,824,824,0,null,null,0,0,824,824,0,{"$nulls":4},0,0,824,824,0,{"$nulls":4},0,0,{"$f":"VLOOKUP(C2295,[1]TCD!$D:$E,2,0)","v":824},824,0,null,0,0,824,824,0,null,0,0,824,824,0,null,0,0,824,824,0]
["Oui","Snecma","650-975-018-0","CAP",281,0,0,281,281,0,null,0,0,281,281,0,{"$nulls":5},0,0,281,281,0,null,null,0,0,281,281,0,null,null,0,0,281,281,0,null,0,0,281,281,0,null,0,0,281,281,0,null,0,0,281,281,0,null,null,0,0,281,281,0,{"$nulls":4},0,0,281,281,0,{"$nulls":4},0,0,{"$f":"VLOOKUP(C2306,[1]TCD!$D:$E,2,0)","v":281},281,0,null,0,0,281,281,0,null,0,0,281,281,0,null,0,0,281,281,0]
["Oui","Snecma","650-976-038-0","PLUG,PROTECTIVE,DUST AND MOIST",282,0,0,282,282,0,null,0,0,282,282,0,{"$nulls":5},0,0,282,282,0,null,null,0,0,282,282,0,null,null,0,0,282,282,0,null,0,0,282,282,0,null,0,0,282,282,0,null,0,0,282,282,0,null,null,0,0,282,282,0,{"$nulls":4},0,0,282,282,0,{"$nulls":4},0,0,{"$f":"VLOOKUP(C2321,[1]TCD!$D:$E,2,0)","v":282},282,0,null,0,0,282,282,0,null,0,0,282,282,0,null,0,0,282,282,0]
["Oui","Snecma","650-977-222-0","CAP PROTECTIVE",847,0,0,2845,847,1998,"Pas d' Entrées et pas de Sorties mais différence de Stock!",0,0,2845,2845,0,{"$nulls":5},0,0,2845,2845,0,null,null,0,0,2845,2845,0,null,null,0,0,2845,2845,0,null,0,0,2845,2845,0,null,0,0,2845,2845,0,null,0,0,2845,2845,0,null,null,0,0,2845,2845,0,{"$nulls":4},1,0,2846,2846,0,{"$nulls":4},0,0,{"$f":"VLOOKUP(C2328,[1]TCD!$D:$E,2,0)","v":2846},2846,0,null,0,0,2846,2846,0,null,0,0,2846,2846,0,null,0,0,2846,2846,0]
["Oui","Snecma","650-993-103-0","STRAP, BONDING",13,0,1,11,12,-1,null,0,1,11,10,1,{"$nulls":3},0,null,0,0,11,11,0,null,null,0,1,10,10,0,null,null,0,0,10,10,0,null,0,0,10,10,0,null,0,0,10,10,0,null,0,0,10,10,0,null,null,0,0,10,10,0,{"$nulls":4},1,1,10,10,0,{"$nulls":4},1,1,{"$f":"VLOOKUP(C2336,[1]TCD!$D:$E,2,0)","v":10},10,0,null,0,0,10,10,0,null,0,0,10,10,0,null,0,1,9,9,0]
["Oui","Snecma","689-700-001-0","MOUNT,RESILIENT",176,0,0,176,176,0,null,0,0,176,176,0,{"$nulls":5},0,0,176,176,0,null,null,0,0,176,176,0,null,null,0,0,176,176,0,null,0,0,116,176,-60,"demande d intersite du 06/11/2015 (M Bidaud) non traité en expé, apparaitra en code 281 dans les semaines a venir",0,0,116,116,0,null,0,4,112,112,0,null,null,0,0,112,112,0,{"$nulls":4},0,0,112,112,0,{"$nulls":4},0,0,{"$f":"VLOOKUP(C2351,[1]TCD!$D:$E,2,0)","v":112},112,0,null,0,0,112,112,0,null,0,0,112,112,0,null,0,0,112,112,0]
["Oui","Snecma","82-841651","PLAQUE DE PROTECTION",10,0,0,10,10,0,null,0,0,10,10,0,{"$nulls":5},0,0,10,10,0,null,null,0,0,10,10,0,null,null,0,0,10,10,0,null,0,0,10,10,0,null,0,0,10,10,0,null,0,0,10,10,0,null,null,0,0,10,10,0,{"$nulls":4},3,0,13,13,0,{"$nulls":4},0,0,{"$f":"VLOOKUP(C2362,[1]TCD!$D:$E,2,0)","v":13},13,0,null,0,0,13,13,0,null,0,0,13,13,0,null,0,0,13,13,0]
["Oui","Snecma","8533-2Y12-03PN","CONNECTEUR HERMETIQUE",65,0,0,65,65,0,null,0,0,65,65,0,{"$nulls":5},0,0,65,65,0,null,null,0,0,65,65,0,null,null,0,0,65,65,0,null,0,0,65,65,0,null,0,0,65,65,0,null,0,0,65,65,0,null,null,0,0,65,65,0,{"$nulls":4},1,0,66,66,0,{"$nulls":4},0,0,{"$f":"VLOOKUP(C2367,[1]TCD!$D:$E,2,0)","v":66},66,0,null,0,0,66,66,0,null,0,0,66,66,0,null,0,0,66,66,0]
["Oui","AIA","983-0S-10-06PN",null,4,0,0,4,4,0,null,0,0,4,4,0,{"$nulls":5},0,0,4,4,0,null,null,0,0,4,4,0,null,null,0,0,4,4,0,null,0,0,4,4,0,null,0,0,4,4,0,null,0,0,4,4,0,null,null,0,0,4,4,0,{"$nulls":4},0,0,4,4,0,{"$nulls":4},0,0,{"$f":"VLOOKUP(C2382,[1]TCD!$D:$E,2,0)","v":4},4,0,null,0,0,4,4,0,null,0,0,4,4,0,null,0,0,4,4,0]
["Oui","AIA","983-0WS-20-41PN",null,3,0,0,3,3,0,null,0,0,3,3,0,{"$nulls":5},0,0,3,3,0,null,null,0,0,3,3,0,null,null,0,0,3,3,0,null,0,0,3,3,0,null,0,0,3,3,0,null,0,0,3,3,0,null,null,0,0,3,3,0,{"$nulls":4},0,0,3,3,0,{"$nulls":4},0,0,{"$f":"VLOOKUP(C2392,[1]TCD!$D:$E,2,0)","v":3},3,0,null,0,0,3,3,0,null,0,0,3,3,0,null,0,0,3,3,0]
["Oui","AIA","983-3W-C12",null,13,0,0,13,13,0,null,0,0,13,13,0,{"$nulls":5},0,0,13,13,0,null,null,0,0,13,13,0,null,null,0,0,13,13,0,null,0,0,13,13,0,null,0,0,13,13,0,null,0,0,13,13,0,null,null,0,0,13,13,0,{"$nulls":4},0,0,13,13,0,{"$nulls":4},0,0,{"$f":"VLOOKUP(C2397,[1]TCD!$D:$E,2,0)","v":13},13,0,null,0,0,13,13,0,null,0,0,13,13,0,null,0,0,13,13,0]
["Oui","Snecma","A46702","ECROU",435,0,0,435,435,0,null,0,0,435,435,0,{"$nulls":5},0,0,435,435,0,null,null,0,0,435,435,0,null,null,0,0,435,435,0,null,0,0,435,435,0,null,0,0,435,435,0,null,0,0,435,435,0,null,null,0,0,435,435,0,{"$nulls":4},9,0,444,444,0,{"$nulls":4},0,0,{"$f":"VLOOKUP(C2408,[1]TCD!$D:$E,2,0)","v":444},444,0,null,0,0,444,444,0,null,0,0,444,444,0,null,0,0,444,444,0]
["Oui","Snecma","A80246-1","RONDELLE",196,0,0,196,196,0,null,0,0,196,196,0,{"$nulls":5},0,0,196,196,0,null,null,0,0,196,196,0,null,null,0,0,196,196,0,null,0,0,196,196,0,null,0,0,196,196,0,null,0,0,196,196,0,null,null,0,0,196,196,0,{"$nulls":4},1,0,197,197,0,{"$nulls":4},0,0,{"$f":"VLOOKUP(C2413,[1]TCD!$D:$E,2,0)","v":197},197,0,null,0,0,197,197,0,null,0,0,197,197,0,null,0,0,197,197,0]
[{"$error":"#N/A"},"Snecma","A88820","PISTON",27,0,0,27,27,0,null,0,0,27,27,0,{"$nulls":5},0,0,27,27,0,null,null,0,0,27,27,0,null,null,0,0,27,27,0,null,0,0,27,27,0,null,0,0,27,27,0,null,0,1,26,26,0,null,null,0,0,26,26,0,{"$nulls":4},0,0,26,26,0,{"$nulls":4},0,0,{"$f":"VLOOKUP(C2427,[1]TCD!$D:$E,2,0)","v":26},26,0,null,0,1,25,25,0,null,0,0,25,25,0,null,0,0,25,25,0]
["Oui","AIA","AGF0507BLS",null,735,0,0,735,735,0,null,0,0,735,735,0,{"$nulls":5},0,0,735,735,0,null,null,0,0,735,735,0,null,null,0,0,735,735,0,null,0,0,735,735,0,null,0,0,735,735,0,null,0,0,735,735,0,null,null,0,0,735,735,0,{"$nulls":4},0,0,735,735,0,{"$nulls":4},0,0,{"$f":"VLOOKUP(C2438,[1]TCD!$D:$E,2,0)","v":735},735,0,null,0,0,735,735,0,null,0,0,735,735,0,null,0,0,735,735,0]
["Oui","Snecma","AX50531",null,23,0,0,23,23,0,null,0,0,23,23,0,{"$nulls":5},0,0,23,23,0,null,null,0,0,23,23,0,null,null,0,0,23,23,0,null,0,0,23,23,0,null,0,2,21,21,0,null,0,2,19,19,0,null,null,0,2,17,17,0,{"$nulls":4},1,0,18,18,0,{"$nulls":4},0,0,{"$f":"VLOOKUP(C2443,[1]TCD!$D:$E,2,0)","v":18},18,0,null,0,0,18,18,0,null,0,0,18,18,0,null,0,1,17,17,0]
["Oui","Snecma","C71695","ROULEMENT",8,0,0,8,8,0,null,0,0,8,8,0,{"$nulls":5},0,0,8,8,0,null,null,0,0,8,8,0,null,null,0,0,8,8,0,null,0,0,8,8,0,null,0,1,7,7,0,null,0,0,7,7,0,null,null,0,0,7,7,0,{"$nulls":4},0,0,7,7,0,{"$nulls":4},0,0,{"$f":"VLOOKUP(C2458,[1]TCD!$D:$E,2,0)","v":7},7,0,null,0,0,7,7,0,null,0,0,7,7,0,null,0,0,7,7,0]
["Oui","AIA","DR-25-1/4-0-CS34034",null,50,0,0,50,50,0,null,0,0,50,50,0,{"$nulls":5},0,0,50,50,0,null,null,0,0,50,50,0,null,null,0,0,50,50,0,null,0,0,50,50,0,null,0,0,50,50,0,null,0,0,50,50,0,null,null,0,0,50,50,0,{"$nulls":4},0,0,50,50,0,{"$nulls":4},0,0,{"$f":"VLOOKUP(C2468,[1]TCD!$D:$E,2,0)","v":50},50,0,null,0,0,50,50,0,null,0,0,50,50,0,null,0,0,50,50,0]
["Oui","Snecma","E25766A16-3STS","PIN, GROOVED, HEADED",0,0,0,0,0,0,null,0,0,0,0,0,{"$nulls":5},0,0,0,0,0,null,null,0,0,0,0,0,null,null,0,0,0,0,0,null,0,0,0,0,0,null,0,0,0,0,0,null,0,0,0,0,0,null,null,0,0,0,0,0,{"$nulls":5},0,0,0,0,{"$nulls":4},0,0,0,0,0,null,0,0,0,0,0,null,0,0,0,0,0,null,0,0,0,0,0]
["Oui","Snecma","EN2939-030006","SCREW",363,0,0,363,363,0,null,0,0,363,363,0,{"$nulls":5},0,0,363,363,0,null,null,0,0,363,363,0,null,null,0,0,363,363,0,null,0,0,363,363,0,null,0,0,363,363,0,null,0,0,363,363,0,null,null,0,0,363,363,0,{"$nulls":4},3,0,366,366,0,{"$nulls":4},0,0,{"$f":"VLOOKUP(C2484,[1]TCD!$D:$E,2,0)","v":366},366,0,null,0,0,366,366,0,null,0,0,366,366,0,null,0,0,366,366,0]
["Oui","Snecma","EN2997W60803BN","CONNECTEUR HARNAIS W05",8,0,0,8,8,0,null,0,0,8,8,0,{"$nulls":5},0,0,8,8,0,null,null,0,0,8,8,0,null,null,0,0,8,8,0,null,0,0,8,8,0,null,0,0,8,8,0,null,0,0,8,8,0,null,null,0,0,8,8,0,{"$nulls":4},0,0,8,8,0,{"$nulls":4},0,0,{"$f":"VLOOKUP(C2499,[1]TCD!$D:$E,2,0)","v":8},8,0,null,0,0,8,8,0,null,0,0,8,8,0,null,0,0,8,8,0]
["Oui","Snecma","EN2997W61831B6","CONNECTEUR HARNAIS W09",10,0,0,10,10,0,null,0,0,10,10,0,{"$nulls":5},0,0,10,10,0,null,null,0,0,10,10,0,null,null,0,0,10,10,0,null,0,0,10,10,0,null,0,0,10,10,0,null,0,0,10,10,0,null,null,0,0,10,10,0,{"$nulls":4},0,0,10,10,0,{"$nulls":4},0,0,{"$f":"VLOOKUP(C2504,[1]TCD!$D:$E,2,0)","v":10},10,0,null,0,0,10,10,0,null,0,0,10,10,0,null,0,0,10,10,0]
["Oui","Snecma","EN3049A0031","O-RING",356,0,0,356,356,0,null,0,0,356,356,0,{"$nulls":5},0,0,356,356,0,null,null,0,0,356,356,0,null,null,0,0,356,356,0,null,0,0,356,356,0,null,0,0,356,356,0,null,0,0,356,356,0,null,null,0,0,356,356,0,{"$nulls":4},4,0,360,360,0,{"$nulls":4},0,0,{"$f":"VLOOKUP(C2513,[1]TCD!$D:$E,2,0)","v":360},360,0,null,0,0,360,360,0,null,0,0,360,360,0,null,0,0,360,360,0]
["Oui","Snecma","EN3049A0095","O-RING",301,0,0,1462,301,1161,"Pas d' Entrées et pas de Sorties mais différence de Stock!",0,0,1462,1462,0,{"$nulls":5},0,4,1458,1458,0,null,null,0,0,1458,1458,0,null,null,1,0,1459,1459,0,null,0,4,1455,1455,0,null,0,0,1455,1455,0,null,0,0,1455,1455,0,null,null,0,1,1454,1454,0,{"$nulls":4},0,0,1454,1454,0,{"$nulls":4},0,2,{"$f":"VLOOKUP(C2529,[1]TCD!$D:$E,2,0)","v":1452},1452,0,null,0,0,1452,1452,0,null,0,0,1452,1452,0,null,0,0,1452,1452,0]
["Oui","Snecma","EN3049A0125","O-RING",210,0,9,201,201,0,null,0,8,193,193,0,{"$nulls":5},0,0,193,193,0,null,null,0,0,193,193,0,null,null,0,8,185,185,0,null,0,0,185,185,0,null,50,0,235,235,0,null,0,4,231,231,0,null,null,0,0,231,231,0,{"$nulls":4},5,0,236,236,0,{"$nulls":4},0,8,{"$f":"VLOOKUP(C2534,[1]TCD!$D:$E,2,0)","v":228},228,0,null,0,4,224,224,0,null,0,7,217,217,0,null,0,0,217,217,0]
["Oui","Snecma","EN3049A0236","O-RING",1357,0,0,1357,1357,0,null,0,2,1355,1355,0,{"$nulls":5},0,0,1355,1355,0,null,null,0,0,1355,1355,0,null,null,0,0,1355,1355,0,null,0,0,1355,1355,0,null,0,4,1351,1351,0,null,0,7,1344,1344,0,null,null,0,3,1341,1341,0,{"$nulls":4},30,3,1368,1368,0,{"$nulls":4},0,7,{"$f":"VLOOKUP(C2545,[1]TCD!$D:$E,2,0)","v":1361},1361,0,null,0,0,1361,1361,0,null,0,2,1359,1359,0,null,0,3,1356,1356,0]
["Oui","Snecma","EN3049A0315","O-RING",1168,0,5,1163,1163,0,null,0,8,1155,1155,0,"Ref à inclure (du stock propriété indus)",2,2,null,null,0,2,1153,1153,0,null,null,0,0,1153,1153,0,null,null,0,4,1149,1149,0,null,0,0,1149,1149,0,null,2,8,1143,1143,0,null,0,14,1129,1129,0,null,null,0,1,1128,1128,0,"ecart mesuré","EMG90","Emplacement EMG 90 (emplacement temporaire) déjà intégrée dans l'extraction de stocks\nEntrées comptés en S.48 & S.49. Manip AIA à affiner dans les extractions","OK",1,8,1121,1121,0,{"$nulls":4},0,13,{"$f":"VLOOKUP(C2550,[1]TCD!$D:$E,2,0)","v":1108},1108,0,null,0,2,1106,1106,0,null,0,7,1099,1099,0,null,0,8,1091,1091,0]
["Oui","Snecma","EN3049B0080","O-RING",1578,0,4,1574,1574,0,null,0,4,1570,1570,0,{"$nulls":5},0,8,1562,1562,0,null,null,0,5,1557,1557,0,null,null,0,30,1527,1527,0,null,1,0,1528,1528,0,null,0,6,1522,1522,0,null,0,2,1520,1520,0,null,null,0,5,1515,1515,0,{"$nulls":4},2,0,1517,1517,0,{"$nulls":4},0,5,{"$f":"VLOOKUP(C2567,[1]TCD!$D:$E,2,0)","v":1512},1512,0,null,0,0,1512,1512,0,null,0,4,1508,1508,0,null,0,4,1504,1504,0]
["Oui","Snecma","EN3049B0170","O-RING",1021,0,0,1021,1021,0,null,0,0,1022,1021,1,"Ecart de stock avec aucune entree ni sortie",null,null,1,null,1,0,1022,1023,-1,"Réintégration avant photo S42 ",0,0,0,1022,1022,0,null,null,0,0,1022,1022,0,null,0,0,1022,1022,0,null,0,3,1019,1019,0,null,1,4,1016,1016,0,null,null,0,2,1014,1014,0,{"$nulls":4},3,0,1017,1017,0,{"$nulls":4},0,1,{"$f":"VLOOKUP(C2575,[1]TCD!$D:$E,2,0)","v":1016},1016,0,null,0,0,1016,1016,0,null,1,3,1014,1014,0,null,0,0,1014,1014,0]
["Oui","Snecma","EN3049B0236","O-RING",477,0,2,475,475,0,null,0,0,475,475,0,{"$nulls":5},0,5,470,470,0,null,null,0,0,470,470,0,null,null,0,0,470,470,0,null,0,0,470,470,0,null,0,0,470,470,0,null,0,0,470,470,0,null,null,0,0,470,470,0,{"$nulls":4},0,0,470,470,0,{"$nulls":4},0,0,{"$f":"VLOOKUP(C2580,[1]TCD!$D:$E,2,0)","v":470},470,0,null,0,0,470,470,0,null,0,0,470,470,0,null,0,7,463,463,0]
["Oui","Snecma","EN3049B0580","O-RING",181,0,0,181,181,0,null,0,0,181,181,0,{"$nulls":5},0,1,180,180,0,null,null,0,0,180,180,0,null,null,0,0,180,180,0,null,0,0,180,180,0,null,0,1,179,179,0,null,0,0,179,179,0,null,null,0,0,179,179,0,{"$nulls":4},0,1,178,178,0,{"$nulls":4},0,1,{"$f":"VLOOKUP(C2591,[1]TCD!$D:$E,2,0)","v":177},177,0,null,0,1,176,176,0,null,0,0,176,176,0,null,0,5,171,171,0]
["Oui","Snecma","EN3239-060","ECROU BIHEXAGONAL",192,0,0,192,192,0,null,0,0,192,192,0,{"$nulls":5},0,0,192,192,0,null,null,0,0,192,192,0,null,null,0,0,192,192,0,null,0,0,192,192,0,null,0,0,192,192,0,null,0,0,192,192,0,null,null,0,0,192,192,0,{"$nulls":4},0,0,192,192,0,{"$nulls":4},0,0,{"$f":"VLOOKUP(C2604,[1]TCD!$D:$E,2,0)","v":192},192,0,null,0,0,192,192,0,null,0,0,192,192,0,null,0,0,192,192,0]
["Oui",null,"EN3723-100",null,214,0,0,214,214,0,null,0,0,214,214,0,{"$nulls":5},0,0,214,214,0,null,null,0,0,214,214,0,null,null,0,1,213,213,0,null,0,0,213,213,0,null,0,1,212,212,0,null,0,0,212,212,0,null,null,0,0,212,212,0,{"$nulls":4},0,0,212,212,0,{"$nulls":4},0,0,{"$f":"VLOOKUP(C2616,[1]TCD!$D:$E,2,0)","v":212},212,0,null,0,0,212,212,0,null,2,0,214,214,0,null,0,0,214,214,0]
["Oui","Snecma","EN3832-060024","BOLT",235,0,0,235,235,0,null,0,0,235,235,0,{"$nulls":5},0,0,235,235,0,null,null,0,0,235,235,0,null,null,0,0,235,235,0,null,0,0,235,235,0,null,0,0,235,235,0,null,0,0,235,235,0,null,null,0,0,235,235,0,{"$nulls":4},1,0,236,236,0,{"$nulls":4},0,0,{"$f":"VLOOKUP(C2621,[1]TCD!$D:$E,2,0)","v":236},236,0,null,0,0,236,236,0,null,0,0,236,236,0,null,0,0,236,236,0]
["Oui","Snecma","F/K4700",null,0,0,0,0,0,0,null,0,0,0,0,0,{"$nulls":5},0,0,0,0,0,null,null,0,0,0,0,0,null,null,0,0,0,0,0,null,0,0,0,0,0,null,0,0,0,0,0,null,0,0,0,0,0,null,null,0,0,0,0,0,{"$nulls":5},0,0,0,0,{"$nulls":4},0,0,0,0,0,null,0,0,0,0,0,null,0,0,0,0,0,null,0,0,0,0,0]
["Oui","Snecma","GA72168","ARBRE EQUIPE",16,0,0,16,16,0,null,0,0,16,16,0,{"$nulls":5},0,0,16,16,0,null,null,0,0,16,16,0,null,null,0,0,16,16,0,null,0,0,16,16,0,null,0,0,16,16,0,null,0,1,15,15,0,null,null,0,1,14,14,0,{"$nulls":4},0,0,14,14,0,{"$nulls":4},0,0,{"$f":"VLOOKUP(C2647,[1]TCD!$D:$E,2,0)","v":14},14,0,null,0,0,14,14,0,null,0,0,14,14,0,null,0,0,14,14,0]
["Oui","Snecma","GPN620U13B","PLUG",746,0,1,745,745,0,null,0,0,745,745,0,{"$nulls":5},0,0,745,745,0,null,null,0,1,744,744,0,null,null,0,0,744,744,0,null,0,0,744,744,0,null,0,0,744,744,0,null,0,0,744,744,0,null,null,0,0,744,744,0,{"$nulls":4},0,0,744,744,0,{"$nulls":4},0,0,{"$f":"VLOOKUP(C2649,[1]TCD!$D:$E,2,0)","v":744},744,0,null,0,0,744,744,0,null,0,0,744,744,0,null,0,0,744,744,0]
["Oui","Snecma","IE-JET08SF","ECROU",0,0,0,0,0,0,null,0,0,0,0,0,{"$nulls":5},0,0,0,0,0,null,null,0,0,0,0,0,null,null,0,0,0,0,0,null,0,0,0,0,0,null,0,0,0,0,0,null,0,0,0,0,0,null,null,0,0,0,0,0,{"$nulls":5},0,0,0,0,{"$nulls":4},0,0,0,0,0,null,0,0,0,0,0,null,0,0,0,0,0,null,0,0,0,0,0]
["Oui","Snecma","INAC6A28-22",null,0,0,0,0,0,0,null,0,0,0,0,0,{"$nulls":5},0,0,0,0,0,null,null,0,0,0,0,0,null,null,0,0,0,0,0,null,0,0,0,0,0,null,0,0,0,0,0,null,0,0,0,0,0,null,null,0,0,0,0,0,{"$nulls":5},0,0,0,0,{"$nulls":4},0,0,0,0,0,null,0,0,0,0,0,null,0,0,0,0,0,null,0,0,0,0,0]
["Oui","Snecma","N100-1185","BOUCHON DE PROTECTION",181,0,0,181,181,0,null,0,0,181,181,0,{"$nulls":5},0,0,181,181,0,null,null,0,0,181,181,0,null,null,0,0,181,181,0,null,0,0,181,181,0,null,0,0,181,181,0,null,0,0,181,181,0,null,null,0,0,181,181,0,{"$nulls":4},0,0,181,181,0,{"$nulls":4},0,0,{"$f":"VLOOKUP(C2682,[1]TCD!$D:$E,2,0)","v":181},181,0,null,0,0,181,181,0,null,0,0,181,181,0,null,0,0,181,181,0]
["Oui","Snecma","PA00147A","SIEGE CLAPET",55,0,0,55,55,0,null,0,0,55,55,0,{"$nulls":5},0,0,55,55,0,null,null,0,0,55,55,0,null,null,0,0,55,55,0,null,0,0,55,55,0,null,0,0,55,55,0,null,0,0,55,55,0,null,null,0,0,55,55,0,{"$nulls":4},0,0,55,55,0,{"$nulls":4},0,0,{"$f":"VLOOKUP(C2693,[1]TCD!$D:$E,2,0)","v":55},{"$f":"BT2693+CA2693-CB2693","v":55},{"$f":"CC2693-CD2693","v":0},null,0,0,55,{"$f":"CC2693+CG2693-CH2693","v":55},{"$f":"CI2693-CJ2693","v":0},null,0,0,55,{"$f":"CI2693+CM2693-CN2693","v":55},{"$f":"CO2693-CP2693","v":0},null,0,0,55,{"$f":"CO2693+CS2693-CT2693","v":55},{"$f":"CU2693-CV2693","v":0}]
["Oui","Snecma","PLGA1561010","BOUCHON EXPANSIBLE",247,0,0,247,247,0,null,0,0,247,247,0,{"$nulls":5},0,0,247,247,0,null,null,0,0,247,247,0,null,null,0,0,247,247,0,null,0,0,247,247,0,null,0,0,247,247,0,null,0,0,247,247,0,null,null,0,0,247,247,0,{"$nulls":4},0,0,247,247,0,{"$nulls":4},0,0,{"$f":"VLOOKUP(C2697,[1]TCD!$D:$E,2,0)","v":247},247,0,null,0,0,247,247,0,null,0,0,247,247,0,null,0,0,247,247,0]
["Oui","Snecma","PLGA2181010","BOUCHON EXPANSIBLE",255,0,0,255,255,0,null,0,0,255,255,0,{"$nulls":5},0,0,255,255,0,null,null,0,0,255,255,0,null,null,0,0,255,255,0,null,0,0,255,255,0,null,0,0,255,255,0,null,0,0,255,255,0,null,null,0,0,255,255,0,{"$nulls":4},0,0,255,255,0,{"$nulls":4},0,0,{"$f":"VLOOKUP(C2698,[1]TCD!$D:$E,2,0)","v":255},255,0,null,0,0,255,255,0,null,0,0,255,255,0,null,0,0,255,255,0]
["Oui","Snecma","PLGA2810010","SHORT EXPANDING PLUG",114,0,0,114,114,0,null,0,0,114,114,0,{"$nulls":5},0,0,114,114,0,null,null,0,0,114,114,0,null,null,0,0,114,114,0,null,0,0,114,114,0,null,0,0,114,114,0,null,0,0,114,114,0,null,null,0,0,114,114,0,{"$nulls":4},0,0,114,114,0,{"$nulls":4},0,0,{"$f":"VLOOKUP(C2699,[1]TCD!$D:$E,2,0)","v":114},114,0,null,0,0,114,114,0,null,0,0,114,114,0,null,0,0,114,114,0]
["Oui","Snecma","PRRA2812300L","VALVE, SAFETY",10,0,0,10,10,0,null,1,0,11,11,0,{"$nulls":5},0,0,11,11,0,null,null,0,0,11,11,0,null,null,1,0,12,12,0,null,10,0,22,22,0,null,0,2,20,20,0,null,14,2,32,32,0,null,null,0,0,32,32,0,{"$nulls":4},0,1,31,31,0,{"$nulls":4},0,1,{"$f":"VLOOKUP(C2700,[1]TCD!$D:$E,2,0)","v":30},30,0,null,0,0,30,30,0,null,0,0,30,30,0,null,0,0,30,30,0]
[{"$error":"#N/A"},"Snecma","PS0042001IX","RONDELLE ELASTIQUE",400,0,2,398,398,0,null,0,0,398,398,0,{"$nulls":5},0,0,398,398,0,null,null,0,0,398,398,0,null,null,0,0,398,398,0,null,0,0,398,398,0,null,0,0,398,398,0,null,0,0,398,398,0,null,null,0,0,398,398,0,{"$nulls":4},0,0,398,398,0,{"$nulls":4},0,0,{"$f":"VLOOKUP(C2701,[1]TCD!$D:$E,2,0)","v":398},398,0,null,0,0,398,398,0,null,0,0,398,398,0,null,0,0,398,398,0]
["Oui","Snecma","Q41-154A0","EMBOUT THERMORETRACTABLE DROIT",0,0,0,0,0,0,null,0,0,0,0,0,{"$nulls":5},0,0,0,0,0,null,null,0,0,0,0,0,null,null,0,0,0,0,0,null,0,0,0,0,0,null,0,0,0,0,0,null,0,0,0,0,0,null,null,0,0,0,0,0,{"$nulls":5},0,0,0,0,{"$nulls":4},0,0,0,0,0,null,0,0,0,0,0,null,0,0,0,0,0,null,0,0,0,0,0]
["Oui","Snecma","Q4-1154A0","EMBOUT THERMORETRACTABLE CO",0,0,0,0,0,0,null,0,0,0,0,0,{"$nulls":5},0,0,0,0,0,null,null,0,0,0,0,0,null,null,0,0,0,0,0,null,0,0,0,0,0,null,0,0,0,0,0,null,0,0,0,0,0,null,null,0,0,0,0,0,{"$nulls":5},0,0,0,0,{"$nulls":4},0,0,0,0,0,null,0,0,0,0,0,null,0,0,0,0,0,null,0,0,0,0,0]
["Oui","Snecma","Q41-155A0","EMBOUT THERMORETRACTABLE DROIT",97,0,0,97,97,0,null,0,0,97,97,0,{"$nulls":5},0,0,97,97,0,null,null,0,0,97,97,0,null,null,0,0,97,97,0,null,0,0,97,97,0,null,0,0,97,97,0,null,0,0,97,97,0,null,null,0,0,97,97,0,{"$nulls":4},0,0,97,97,0,{"$nulls":4},0,0,{"$f":"VLOOKUP(C2704,[1]TCD!$D:$E,2,0)","v":97},97,0,null,0,0,97,97,0,null,0,0,97,97,0,null,0,0,97,97,0]
["Oui","Snecma","Q4-1155A0","EMBOUT THERMORETRACTABLE COUDE",0,0,0,0,0,0,null,0,0,0,0,0,{"$nulls":5},0,0,0,0,0,null,null,0,0,0,0,0,null,null,0,0,0,0,0,null,0,0,0,0,0,null,0,0,0,0,0,null,0,0,0,0,0,null,null,0,0,0,0,0,{"$nulls":5},0,0,0,0,{"$nulls":4},0,0,0,0,0,null,0,0,0,0,0,null,0,0,0,0,0,null,0,0,0,0,0]
["Oui","Snecma","Q41-157A0","EMBOUT THERMORETRACTABLE DR",0,0,0,0,0,0,null,0,0,0,0,0,{"$nulls":5},0,0,0,0,0,null,null,0,0,0,0,0,null,null,0,0,0,0,0,null,0,0,0,0,0,null,0,0,0,0,0,null,0,0,0,0,0,null,null,0,0,0,0,0,{"$nulls":5},0,0,0,0,{"$nulls":4},0,0,0,0,0,null,0,0,0,0,0,null,0,0,0,0,0,null,0,0,0,0,0]
["Oui","Snecma","Q4-1157A0","SLEEVE HEAT SHRINKABLE",78,0,0,78,78,0,null,0,0,78,78,0,{"$nulls":5},0,0,78,78,0,null,null,0,0,78,78,0,null,null,0,0,78,78,0,null,0,0,78,78,0,null,0,0,78,78,0,null,0,0,78,78,0,null,null,0,0,78,78,0,{"$nulls":4},0,0,78,78,0,{"$nulls":4},0,0,{"$f":"VLOOKUP(C2707,[1]TCD!$D:$E,2,0)","v":78},78,0,null,0,0,78,78,0,null,0,0,78,78,0,null,0,0,78,78,0]
["Oui","Snecma","Q42-154A0","EMBOUT THERMORETRACTABLE DR",0,0,0,0,0,0,null,0,0,0,0,0,{"$nulls":5},0,0,0,0,0,null,null,0,0,0,0,0,null,null,0,0,0,0,0,null,0,0,0,0,0,null,0,0,0,0,0,null,0,0,0,0,0,null,null,0,0,0,0,0,{"$nulls":5},0,0,0,0,{"$nulls":4},0,0,0,0,0,null,0,0,0,0,0,null,0,0,0,0,0,null,0,0,0,0,0]
["Oui","Snecma","Q42-156A0","EMBOUT THERMORETRACTABLE DROIT",3,0,0,3,3,0,null,0,0,3,3,0,{"$nulls":5},0,0,3,3,0,null,null,0,0,3,3,0,null,null,0,0,3,3,0,null,0,0,3,3,0,null,0,0,3,3,0,null,0,0,3,3,0,null,null,0,0,3,3,0,{"$nulls":4},0,0,3,3,0,{"$nulls":4},0,0,{"$f":"VLOOKUP(C2709,[1]TCD!$D:$E,2,0)","v":3},3,0,null,0,0,3,3,0,null,0,0,3,3,0,null,0,0,3,3,0]
["Oui","Snecma","RP177-10","Sonde T23",0,0,0,0,0,0,null,0,0,0,0,0,{"$nulls":5},0,0,0,0,0,null,null,0,0,0,0,0,null,null,0,0,0,0,0,null,0,0,0,0,0,null,0,0,0,0,0,null,0,0,0,0,0,null,null,0,0,0,0,0,{"$nulls":5},0,0,0,0,{"$nulls":4},0,0,0,0,0,null,0,0,0,0,0,null,0,0,0,0,0,null,0,0,0,0,0]
["Oui","Snecma","RP177-11","Sonde T23",0,0,0,0,0,0,null,0,0,0,0,0,{"$nulls":5},0,0,0,0,0,null,null,0,0,0,0,0,null,null,0,0,0,0,0,null,0,0,0,0,0,null,0,0,0,0,0,null,0,0,0,0,0,null,null,0,0,0,0,0,{"$nulls":5},0,0,0,0,{"$nulls":4},0,0,0,0,0,null,0,0,0,0,0,null,0,0,0,0,0,null,0,0,0,0,0]
["Oui","Snecma","RP177-12","SONDE T23",5,0,0,5,5,0,null,0,0,5,5,0,{"$nulls":5},0,0,5,5,0,null,null,0,0,5,5,0,null,null,0,0,5,5,0,null,0,0,5,5,0,null,15,0,20,20,0,null,0,0,20,20,0,null,null,0,0,20,20,0,{"$nulls":4},0,0,20,20,0,{"$nulls":4},0,0,{"$f":"VLOOKUP(C2712,[1]TCD!$D:$E,2,0)","v":20},20,0,null,0,0,20,20,0,null,0,0,20,20,0,null,0,0,20,20,0]
[{"$error":"#N/A"},"Snecma","RP217-02","SONDE TEMPERATURE CARBURANT",0,0,0,0,0,0,null,0,0,0,0,0,{"$nulls":5},0,0,0,0,0,null,null,0,0,0,0,0,null,null,0,0,0,0,0,null,0,0,0,0,0,null,0,0,0,0,0,null,0,0,0,0,0,null,null,0,0,0,0,0,{"$nulls":5},0,0,0,0,{"$nulls":4},0,0,0,0,0,null,0,0,0,0,0,null,0,0,0,0,0,null,0,0,0,0,0]
["Oui","Snecma","RP217-03","SONDE TEMPERATURE CARBURANT",152,0,0,152,152,0,null,0,0,152,152,0,{"$nulls":5},0,0,152,152,0,null,null,0,0,152,152,0,null,null,0,0,152,152,0,null,0,0,152,152,0,null,0,1,151,151,0,null,2,0,153,153,0,null,null,0,0,153,153,0,{"$nulls":4},0,0,153,153,0,{"$nulls":4},0,0,{"$f":"VLOOKUP(C2714,[1]TCD!$D:$E,2,0)","v":153},153,0,null,0,0,153,153,0,null,0,0,153,153,0,null,28,0,181,181,0]
["Oui","Snecma","RU21909",null,0,0,0,0,0,0,null,0,0,0,0,0,{"$nulls":5},0,0,0,0,0,null,null,0,0,0,0,0,null,null,0,0,0,0,0,null,0,0,0,0,0,null,0,0,0,0,0,null,0,0,0,0,0,null,null,0,0,0,0,0,{"$nulls":5},0,0,0,0,{"$nulls":4},0,0,0,0,0,null,0,0,0,0,0,null,0,0,0,0,0,null,0,0,0,0,0]
["Oui","Snecma","RU27711",null,0,0,0,0,0,0,null,0,0,0,0,0,{"$nulls":5},0,0,0,0,0,null,null,0,0,0,0,0,null,null,0,0,0,0,0,null,0,0,0,0,0,null,0,0,0,0,0,null,0,0,0,0,0,null,null,0,0,0,0,0,{"$nulls":5},0,0,0,0,{"$nulls":4},0,0,0,0,0,null,0,0,0,0,0,null,0,0,0,0,0,null,0,0,0,0,0]
["Oui","Snecma","SC1950A",null,0,0,0,0,0,0,null,0,0,0,0,0,{"$nulls":5},0,0,0,0,0,null,null,0,0,0,0,0,null,null,0,0,0,0,0,null,0,0,0,0,0,null,0,0,0,0,0,null,0,0,0,0,0,null,null,0,0,0,0,0,{"$nulls":5},0,0,0,0,{"$nulls":4},0,0,0,0,0,null,0,0,0,0,0,null,0,0,0,0,0,null,0,0,0,0,0]
["Oui","Snecma","SC1950AEC","BOUGIE,PC",0,0,0,0,0,0,null,0,0,0,0,0,{"$nulls":5},0,0,0,0,0,null,null,0,0,0,0,0,null,null,0,0,0,0,0,null,0,0,0,0,0,null,0,0,0,0,0,null,0,0,0,0,0,null,null,0,0,0,0,0,{"$nulls":5},0,0,0,0,{"$nulls":4},0,0,0,0,0,null,0,0,0,0,0,null,0,0,0,0,0,null,0,0,0,0,0]
["Oui","Snecma","SC2238A","BOUGIE PRINCIPALE",0,0,0,0,0,0,null,0,0,0,0,0,{"$nulls":5},0,0,0,0,0,null,null,0,0,0,0,0,null,null,0,0,0,0,0,null,0,0,0,0,0,null,0,0,0,0,0,null,0,0,0,0,0,null,null,0,0,0,0,0,{"$nulls":5},0,0,0,0,{"$nulls":4},0,0,0,0,0,null,0,0,0,0,0,null,0,0,0,0,0,null,0,0,0,0,0]
["Oui","Snecma","SC2238AEC","BOUGIE,PRINCIPALE",0,0,0,0,0,0,null,0,0,0,0,0,{"$nulls":5},0,0,0,0,0,null,null,0,0,0,0,0,null,null,0,0,0,0,0,null,0,0,0,0,0,null,0,0,0,0,0,null,0,0,0,0,0,null,null,0,0,0,0,0,{"$nulls":5},0,0,0,0,{"$nulls":4},0,0,0,0,0,null,0,0,0,0,0,null,0,0,0,0,0,null,0,0,0,0,0]
["Oui","Snecma","SC2938","BOUGIE PRINCIPALE",0,0,0,0,0,0,null,0,0,0,0,0,{"$nulls":5},0,0,0,0,0,null,null,0,0,0,0,0,null,null,0,0,0,0,0,null,0,0,0,0,0,null,0,0,0,0,0,null,0,0,0,0,0,null,null,0,0,0,0,0,{"$nulls":5},0,0,0,0,{"$nulls":4},0,0,0,0,0,null,0,0,0,0,0,null,0,0,0,0,0,null,0,0,0,0,0]
["Oui","Snecma","SC3680","BOUGIE,PC",0,0,0,0,0,0,null,0,0,0,0,0,{"$nulls":5},0,0,0,0,0,null,null,0,0,0,0,0,null,null,0,0,0,0,0,null,0,0,0,0,0,null,0,0,0,0,0,null,0,0,0,0,0,null,null,0,0,0,0,0,{"$nulls":5},0,0,0,0,{"$nulls":4},0,0,0,0,0,null,0,0,0,0,0,null,0,0,0,0,0,null,0,0,0,0,0]
["Oui","Snecma","SC3850","BOUGIE,PC",39,0,0,39,39,0,null,0,0,39,39,0,{"$nulls":5},0,2,37,37,0,null,null,0,0,37,37,0,null,null,0,0,37,37,0,null,0,0,37,37,0,null,0,0,37,37,0,null,0,0,37,37,0,null,null,0,0,37,37,0,{"$nulls":4},0,0,37,37,0,{"$nulls":4},0,0,{"$f":"VLOOKUP(C2723,[1]TCD!$D:$E,2,0)","v":37},37,0,null,0,0,37,37,0,null,0,0,37,37,0,null,0,0,37,37,0]
["Oui","Snecma","SC3861","BOUGIE PRINCIPALE",76,0,0,76,76,0,null,0,0,76,76,0,{"$nulls":5},0,0,76,76,0,null,null,0,0,76,76,0,null,null,0,0,76,76,0,null,0,0,76,76,0,null,0,0,76,76,0,null,1,0,77,77,0,null,null,0,0,77,77,0,{"$nulls":4},0,1,76,76,0,{"$nulls":4},0,1,{"$f":"VLOOKUP(C2724,[1]TCD!$D:$E,2,0)","v":75},75,0,null,0,0,75,75,0,null,0,1,74,74,0,null,0,0,44,74,-30,"30 en cours de sortie Intersite"]
["Oui","Snecma","SF0367-2",null,32,0,0,32,32,0,null,0,0,32,32,0,{"$nulls":5},0,0,32,32,0,null,null,0,0,32,32,0,null,null,0,0,32,32,0,null,0,0,32,32,0,null,0,0,32,32,0,null,0,0,32,32,0,null,null,0,0,32,32,0,{"$nulls":4},0,0,32,32,0,{"$nulls":4},0,0,{"$f":"VLOOKUP(C2725,[1]TCD!$D:$E,2,0)","v":32},32,0,null,0,0,32,32,0,null,0,0,32,32,0,null,0,0,32,32,0]
[{"$error":"#N/A"},"Snecma","SF0368-2",null,12,0,0,12,12,0,null,0,0,12,12,0,{"$nulls":5},0,0,12,12,0,null,null,0,0,12,12,0,null,null,0,0,12,12,0,null,0,0,12,12,0,null,0,0,12,12,0,null,0,0,12,12,0,null,null,0,0,12,12,0,{"$nulls":4},1,0,13,13,0,{"$nulls":4},0,0,{"$f":"VLOOKUP(C2726,[1]TCD!$D:$E,2,0)","v":13},13,0,null,0,0,13,13,0,null,0,0,13,13,0,null,0,0,13,13,0]
["Oui","Snecma","SF0369-1","TIGE AIMENTEE",32,0,0,32,32,0,null,0,0,32,32,0,{"$nulls":5},0,0,32,32,0,null,null,0,0,32,32,0,null,null,0,0,32,32,0,null,0,0,32,32,0,null,0,0,32,32,0,null,0,0,32,32,0,null,null,0,0,32,32,0,{"$nulls":4},0,0,32,32,0,{"$nulls":4},0,0,{"$f":"VLOOKUP(C2727,[1]TCD!$D:$E,2,0)","v":32},32,0,null,0,0,32,32,0,null,0,0,32,32,0,null,0,0,32,32,0]
["Oui","Snecma","SF0370-1","TIGE AIMANTEE",20,0,0,20,20,0,null,0,0,20,20,0,{"$nulls":5},0,0,20,20,0,null,null,0,0,20,20,0,null,null,0,0,20,20,0,null,0,0,20,20,0,null,0,0,20,20,0,null,0,0,20,20,0,null,null,0,0,20,20,0,{"$nulls":4},0,0,20,20,0,{"$nulls":4},0,0,{"$f":"VLOOKUP(C2728,[1]TCD!$D:$E,2,0)","v":20},20,0,null,0,0,20,20,0,null,0,0,20,20,0,null,0,0,20,20,0]
["Oui","AIA","SRM0508BL",null,10,0,0,10,10,0,null,0,0,10,10,0,{"$nulls":5},0,0,10,10,0,null,null,0,0,10,10,0,null,null,0,0,10,10,0,null,0,0,10,10,0,null,0,0,10,10,0,null,0,0,10,10,0,null,null,0,0,10,10,0,{"$nulls":4},0,0,10,10,0,{"$nulls":4},0,0,{"$f":"VLOOKUP(C2729,[1]TCD!$D:$E,2,0)","v":10},10,0,null,0,0,10,10,0,null,0,0,10,10,0,null,0,0,10,10,0]
["Oui","Snecma","SWM1000AU05","NUT",2165,0,0,3164,2165,999,"Pas d' Entrées et pas de Sorties mais différence de Stock!",0,0,3164,3164,0,{"$nulls":5},0,0,3164,3164,0,null,null,0,0,3164,3164,0,null,null,0,0,3164,3164,0,null,0,2,3162,3162,0,null,0,0,3162,3162,0,null,0,0,3162,3162,0,null,null,0,0,3162,3162,0,{"$nulls":4},0,0,3162,3162,0,{"$nulls":4},0,2,{"$f":"VLOOKUP(C2730,[1]TCD!$D:$E,2,0)","v":3160},3160,0,null,0,0,3160,3160,0,null,0,0,3160,3160,0,null,0,0,3160,3160,0]
[{"$error":"#N/A"},"Snecma","TFE-R-1/4-X",null,0,0,0,0,0,0,null,0,0,0,0,0,{"$nulls":5},0,0,0,0,0,null,null,0,0,0,0,0,null,null,0,0,0,0,0,null,0,0,0,0,0,null,0,0,0,0,0,null,0,0,0,0,0,null,null,0,0,0,0,0,{"$nulls":5},0,0,0,0,{"$nulls":4},0,0,0,0,0,null,0,0,0,0,0,null,0,0,0,0,0,null,0,0,0,0,0]
["Oui","Snecma","TFE-R-1/8-X","GAINE THERMORETRACTABLE",0,0,0,0,0,0,null,0,0,0,0,0,{"$nulls":5},0,0,0,0,0,null,null,0,0,0,0,0,null,null,0,0,0,0,0,null,0,0,0,0,0,null,0,0,0,0,0,null,0,0,0,0,0,null,null,0,0,0,0,0,{"$nulls":5},0,0,0,0,{"$nulls":4},0,0,0,0,0,null,0,0,0,0,0,null,0,0,0,0,0,null,0,0,0,0,0]
["Oui","Snecma","TFE-R-5/64-X","GAINE THERMORETRACTABLE",83,0,0,83,83,0,null,0,1,82,82,0,{"$nulls":5},0,0,82,82,0,null,null,0,0,82,82,0,null,null,0,0,82,82,0,null,0,0,82,82,0,null,0,1,81,81,0,null,0,2,79,79,0,null,null,0,2,77,77,0,{"$nulls":4},0,0,77,77,0,{"$nulls":4},0,2,{"$f":"VLOOKUP(C2733,[1]TCD!$D:$E,2,0)","v":75},75,0,null,0,0,75,75,0,null,0,0,75,75,0,null,0,2,73,73,0]
["Oui","Snecma","TP434-3","DEBIMETRE PC FAN",16,0,0,16,16,0,null,0,0,16,16,0,{"$nulls":5},0,0,16,16,0,null,null,0,0,16,16,0,null,null,0,0,16,16,0,null,0,0,16,16,0,null,0,0,16,16,0,null,0,0,16,16,0,null,null,0,0,16,16,0,{"$nulls":4},0,0,16,16,0,{"$nulls":4},0,0,{"$f":"VLOOKUP(C2734,[1]TCD!$D:$E,2,0)","v":16},16,0,null,0,0,16,16,0,null,0,0,16,16,0,null,0,0,16,16,0]
["Oui","Snecma","TP434-4","DEBIMETRE PC FAN",43,0,0,43,43,0,null,0,0,43,43,0,{"$nulls":5},0,0,43,43,0,null,null,0,0,43,43,0,null,null,0,0,43,43,0,null,0,0,43,43,0,null,0,0,43,43,0,null,0,0,43,43,0,null,null,0,0,43,43,0,{"$nulls":4},0,0,43,43,0,{"$nulls":4},0,0,{"$f":"VLOOKUP(C2735,[1]TCD!$D:$E,2,0)","v":43},43,0,null,0,0,43,43,0,null,0,0,43,43,0,null,0,0,43,43,0]
["Oui","Snecma","TP634-3","DEBIMETRE PC PRIMAIRE",26,0,0,26,26,0,null,0,0,26,26,0,{"$nulls":5},0,0,26,26,0,null,null,0,0,26,26,0,null,null,0,0,26,26,0,null,0,0,26,26,0,null,0,0,26,26,0,null,0,0,26,26,0,null,null,0,0,26,26,0,{"$nulls":4},0,0,26,26,0,{"$nulls":4},0,1,{"$f":"VLOOKUP(C2736,[1]TCD!$D:$E,2,0)","v":25},25,0,null,0,0,25,25,0,null,0,0,25,25,0,null,1,0,26,26,0]
["Oui","Snecma","TP634-4","DEBIMETRE PC PRIMAIRE",38,0,0,38,38,0,null,0,0,38,38,0,{"$nulls":5},0,0,38,38,0,null,null,0,0,38,38,0,null,null,0,0,38,38,0,null,9,0,47,47,0,null,0,0,47,47,0,null,1,0,48,48,0,null,null,0,0,48,48,0,{"$nulls":4},0,0,48,48,0,{"$nulls":4},0,0,{"$f":"VLOOKUP(C2737,[1]TCD!$D:$E,2,0)","v":48},48,0,null,0,0,48,48,0,null,0,0,48,48,0,null,0,0,48,48,0]
["Oui","Snecma","TR04AI","BAGUE A MEMOIRE",147,0,0,147,147,0,null,0,0,147,147,0,{"$nulls":5},0,0,147,147,0,null,null,0,0,147,147,0,null,null,0,0,147,147,0,null,0,0,147,147,0,null,0,0,147,147,0,null,0,0,147,147,0,null,null,0,0,147,147,0,{"$nulls":4},0,0,147,147,0,{"$nulls":4},0,0,{"$f":"VLOOKUP(C2738,[1]TCD!$D:$E,2,0)","v":147},147,0,null,0,0,147,147,0,null,0,0,147,147,0,null,0,0,147,147,0]
["Oui","Snecma","TR06AI","BAGUE A MEMOIRE",237,0,0,237,237,0,null,0,0,237,237,0,{"$nulls":5},0,0,237,237,0,null,null,0,0,237,237,0,null,null,0,0,237,237,0,null,0,0,237,237,0,null,0,0,237,237,0,null,0,0,237,237,0,null,null,0,0,237,237,0,{"$nulls":4},0,0,237,237,0,{"$nulls":4},0,0,{"$f":"VLOOKUP(C2739,[1]TCD!$D:$E,2,0)","v":237},237,0,null,0,0,237,237,0,null,0,0,237,237,0,null,0,0,237,237,0]
["Oui","Snecma","TR104-03","PYROMETRE",8,0,0,8,8,0,null,0,0,8,8,0,{"$nulls":5},0,0,8,8,0,null,null,0,0,8,8,0,null,null,0,2,6,6,0,null,0,0,6,6,0,null,0,0,6,6,0,null,0,0,6,6,0,null,null,0,0,6,6,0,{"$nulls":4},0,0,6,6,0,{"$nulls":4},0,2,{"$f":"VLOOKUP(C2740,[1]TCD!$D:$E,2,0)","v":4},4,0,null,0,0,4,4,0,null,0,0,4,4,0,null,0,0,4,4,0]
["Oui","Snecma","TR10AI","RING,CRIMPING",298,0,0,298,298,0,null,0,0,298,298,0,{"$nulls":5},0,0,298,298,0,null,null,0,0,298,298,0,null,null,0,0,298,298,0,null,0,0,298,298,0,null,0,0,298,298,0,null,0,0,298,298,0,null,null,0,0,298,298,0,{"$nulls":4},0,0,298,298,0,{"$nulls":4},0,0,{"$f":"VLOOKUP(C2741,[1]TCD!$D:$E,2,0)","v":298},298,0,null,0,0,298,298,0,null,0,0,298,298,0,null,0,0,298,298,0]
["Oui","Snecma","TUHF020004TZ",null,0,0,0,0,0,0,null,0,0,0,0,0,{"$nulls":5},0,0,0,0,0,null,null,0,0,0,0,0,null,null,0,0,0,0,0,null,0,0,0,0,0,null,0,0,0,0,0,null,0,0,0,0,0,null,null,0,0,0,0,0,{"$nulls":5},0,0,0,0,{"$nulls":4},0,0,0,0,0,null,0,0,0,0,0,null,0,0,0,0,0,null,0,0,0,0,0]
["Oui","Snecma","TUHF020005TZ",null,0,0,0,0,0,0,null,0,0,0,0,0,{"$nulls":5},0,0,0,0,0,null,null,0,0,0,0,0,null,null,0,0,0,0,0,null,0,0,0,0,0,null,0,0,0,0,0,null,0,0,0,0,0,null,null,0,0,0,0,0,{"$nulls":5},0,0,0,0,{"$nulls":4},0,0,0,0,0,null,0,0,0,0,0,null,0,0,0,0,0,null,0,0,0,0,0]
["Oui","Snecma","VDCA1845112H","DIAPHRAGME",44,0,0,44,44,0,null,0,0,44,44,0,{"$nulls":5},0,0,44,44,0,null,null,0,0,44,44,0,null,null,0,0,44,44,0,null,0,0,44,44,0,null,0,0,44,44,0,null,0,0,44,44,0,null,null,0,0,44,44,0,{"$nulls":4},0,0,44,44,0,{"$nulls":4},0,0,{"$f":"VLOOKUP(C2744,[1]TCD!$D:$E,2,0)","v":44},44,0,null,0,0,44,44,0,null,0,0,44,44,0,null,0,0,44,44,0]
["Oui","Snecma","VIT1016","CAPTEUR, REGIME XN2",32,0,0,32,32,0,null,0,0,32,32,0,{"$nulls":5},0,0,32,32,0,null,null,0,0,32,32,0,null,null,0,0,32,32,0,null,0,0,32,32,0,null,0,0,32,32,0,null,0,0,32,32,0,null,null,0,0,32,32,0,{"$nulls":4},0,0,32,32,0,{"$nulls":4},0,0,{"$f":"VLOOKUP(C2745,[1]TCD!$D:$E,2,0)","v":32},32,0,null,0,0,32,32,0,null,0,0,32,32,0,null,0,0,32,32,0]
["Oui","Snecma","WFL624ZZT56G27","ROULEMENT A BILLES",0,0,0,0,0,0,null,0,0,0,0,0,{"$nulls":5},0,0,0,0,0,null,null,0,0,0,0,0,null,null,0,0,0,0,0,null,0,0,0,0,0,null,0,0,0,0,0,null,0,0,0,0,0,null,null,0,0,0,0,0,{"$nulls":5},0,0,0,0,{"$nulls":4},0,0,0,0,0,null,0,0,0,0,0,null,0,0,0,0,0,null,0,0,0,0,0]
["Oui","Snecma","WGLD5","PLAIN",174,0,0,174,174,0,null,0,0,174,174,0,{"$nulls":5},0,0,174,174,0,null,null,0,0,174,174,0,null,null,0,0,174,174,0,null,0,0,174,174,0,null,0,0,174,174,0,null,0,0,174,174,0,null,null,0,0,174,174,0,{"$nulls":4},3,0,177,177,0,{"$nulls":4},0,0,{"$f":"VLOOKUP(C2747,[1]TCD!$D:$E,2,0)","v":177},177,0,null,0,0,177,177,0,null,0,0,177,177,0,null,0,0,177,177,0]
["Oui","Snecma","ZXN396-01","S/ENS RECH.BLOC DE PRESSION",0,0,0,0,0,0,null,0,0,0,0,0,{"$nulls":5},0,0,0,0,0,null,null,0,0,0,0,0,null,null,0,0,0,0,0,null,0,0,0,0,0,null,0,0,0,0,0,null,0,0,0,0,0,null,null,0,0,0,0,0,{"$nulls":5},0,0,0,0,{"$nulls":4},0,0,0,0,0,null,0,0,0,0,0,null,0,0,0,0,0,null,0,0,0,0,0]
["Oui","Snecma","ZXN617-01",null,0,0,0,0,0,0,null,0,0,0,0,0,{"$nulls":5},0,0,0,0,0,null,null,0,0,0,0,0,null,null,0,0,0,0,0,null,0,0,0,0,0,null,0,0,0,0,0,null,0,0,0,0,0,null,null,0,0,0,0,0,{"$nulls":5},0,0,0,0,{"$nulls":4},0,0,0,0,0,null,0,0,0,0,0,null,0,0,0,0,0,null,0,0,0,0,0]
[null,"AIA","394-213-301-0","TROUSSE DE RATTRAPAGE",{"$nulls":17},4,0,1,4,-3,"Trousse  / hors MCO",null,0,1,0,0,0,null,null,0,0,0,0,0,null,0,0,0,0,0,null,0,0,0,0,0,null,0,0,0,0,0,null,null,0,0,0,0,0,{"$nulls":5},0,0,0,0,{"$nulls":4},0,0,0,0,0,null,0,0,0,0,0,null,0,0,0,0,0,null,0,0,0,0,0]
[null,"AIA","394-210-301-0","Trousse",{"$nulls":19},1,0,1,"Trousse  / hors MCO",null,0,0,1,1,0,null,null,0,0,1,1,0,null,0,0,0,0,0,null,0,0,1,0,0,"Ecart de 1 corrigé car les trousses ne sont pas suivies",0,0,1,1,0,null,null,0,1,0,0,0,{"$nulls":5},0,0,0,0,{"$nulls":4},0,0,0,0,0,null,0,0,0,0,0,null,0,0,0,0,0,null,0,0,0,0,0]
[null,"AIA","394-211-301-0","Trousse",{"$nulls":19},1,0,1,"Trousse  / hors MCO",null,0,1,0,0,0,null,null,0,0,0,0,0,null,0,0,0,0,0,null,0,0,0,0,0,null,0,0,0,0,0,null,null,0,0,0,0,0,{"$nulls":5},0,0,0,0,{"$nulls":4},0,0,0,0,0,null,0,0,0,0,0,null,0,0,0,0,0,null,0,0,0,0,0]
[null,"AIA","394-214-301-0","Trousse",{"$nulls":19},1,0,1,"Trousse  / hors MCO",null,0,1,0,0,0,null,null,0,0,0,0,0,null,0,0,0,0,0,null,0,0,0,0,0,null,0,0,0,0,0,null,null,0,0,0,0,0,{"$nulls":5},0,0,0,0,{"$nulls":4},0,0,0,0,0,null,0,0,0,0,0,null,0,0,0,0,0,null,0,0,0,0,0]
[null,null,"502-705-302-0",{"$nulls":57},0,0,36,0,36,"ecart mesuré\nNouvelle Ref extraite de Saphir","ecart mesuré\nNouvelle Ref extraite de Saphir",null,"OK",0,0,36,36,0,{"$nulls":4},0,0,{"$f":"VLOOKUP(C2754,[1]TCD!$D:$E,2,0)","v":36},36,0,null,0,0,36,36,0,null,0,0,36,36,0,null,0,0,36,36,0]
[null,null,"888-390-500-1",{"$nulls":57},0,0,2,0,2,"ecart mesuré\nNouvelle Ref extraite de Saphir","ecart mesuré\nNouvelle Ref extraite de Saphir",null,"OK",0,0,2,2,0,{"$nulls":4},0,0,{"$f":"VLOOKUP(C2755,[1]TCD!$D:$E,2,0)","v":2},2,0,null,0,0,2,2,0,null,0,0,2,2,0,null,0,0,2,2,0]
[null,null,"300-587-402-0",{"$nulls":66},1,0,1,null,null,"Nouvelle Ref / extration Saphir","ras",null,null,0,0,{"$f":"VLOOKUP(C2756,[1]TCD!$D:$E,2,0)","v":1},1,0,null,0,0,1,1,0,null,0,0,1,1,0,null,0,0,1,1,0]
[null,null,"611-101-041-0",{"$nulls":66},4,0,4,null,null,"Nouvelle Ref / extration Saphir","ras",null,null,0,0,{"$f":"VLOOKUP(C2757,[1]TCD!$D:$E,2,0)","v":4},{"$f":"BT2757+CA2757-CB2757","v":4},{"$f":"CC2757-CD2757","v":0},null,0,0,4,{"$f":"CC2757+CG2757-CH2757","v":4},{"$f":"CI2757-CJ2757","v":0},null,0,0,4,{"$f":"CI2757+CM2757-CN2757","v":4},{"$f":"CO2757-CP2757","v":0},null,0,0,4,{"$f":"CO2757+CS2757-CT2757","v":4},{"$f":"CU2757-CV2757","v":0}]
[null,null,"960342",{"$nulls":66},1,0,1,null,null,"Nouvelle Ref / extration Saphir","ras",null,null,0,0,{"$f":"VLOOKUP(C2758,[1]TCD!$D:$E,2,0)","v":1},1,0,null,0,0,1,1,0,null,0,0,1,1,0,null,0,0,1,1,0]

{"sheet":"Indicateurs","index":1,"n_rows":47,"n_cols":12,"rows_kept":47}
["Extractions Brutes","Sem 41","Sem 42","Sem 43","Sem 44","Sem 45","Sem 46","Sem 47","Sem 48","Sem 49","Sem 50","Sem 51"]
["Qté de réf suivies",2750,2750,2750,2750,2750,2750,2750,2752,2750,2755,2755]
["Qté de ref déclarées en stock (<>0)",{"v":2207,"d":"2,207"},{"v":2218,"d":"2,218"},2201,2206,2204,2193,2204,2215,2216,2221]
["Qté de pièces en stock",{"v":529480,"d":"529,480"},{"v":532162,"d":"532,162"},525478,524536,519017,519301,531492,552890,560774,558327]
["Qté ref cohérent (Stock Final = S Initial+entrées-sorties)",{"v":2622,"d":"2,622"},{"v":2600,"d":"2,600"},2657,2739,2749,2748,2748,2736,2723,2747]
["Qté pièces cohérentes (Stock Final = S Initial+entrées-sorties)",{"v":385706,"d":"385,706"},{"v":464380,"d":"464,380"},{"v":495900,"d":"495,900"},523349,519008,517592,530194,538029,530398,557730]
["Qté ref incohérent (Stock Final = S Initial+entrées-sorties)",141,146,93,10,1,2,2,16,29,8]
["Qté pièces incohérent (Stock Final = S Initial+entrées-sorties)",{"$f":"B10+B12","v":61266},6722,2661,138,20,65,57,367,{"$f":"J10+J12","v":297},{"$f":"K10+K12","v":355},{"$f":"L10+L12","v":0}]
["Dont stock trop important Ref",82,100,48,6,1,0,0,12,13,5]
["Dont stock trop important Qté",{"v":60889,"d":"60,889"},{"v":6036,"d":"6,036"},631,123,20,0,0,312,89,319]
["Dont stock pas assez important Ref",59,46,45,5,0,2,2,4,16,3]
["Dont stock pas assez important Qté",377,686,2030,15,0,65,57,55,208,36]
{"$rows_empty":23}
["Extractions Net (Pble système Saphir)","Sem 49","Sem 50","Sem 51"]
["Qté de réf suivies",2750,2750,2750]
["Qté de ref déclarées en stock (<>0)",2216]
["Qté de pièces en stock",560774]
["Qté ref cohérent (Stock Final = S Initial+entrées-sorties)",2723]
["Qté pièces cohérentes (Stock Final = S Initial+entrées-sorties)",530398]
["Qté ref incohérent (Stock Final = S Initial+entrées-sorties)",3]
["Qté pièces incohérent (Stock Final = S Initial+entrées-sorties)",56]
["Dont stock trop important Ref",0]
["Dont stock trop important Qté",0]
["Dont stock pas assez important Ref",3]
["Dont stock pas assez important Qté",56]

{"sheet":"Analyse S","index":2,"n_rows":2758,"n_cols":11,"rows_kept":2758}
[null,{"$f":"SUM(B4:B2758)","v":6933},{"$f":"SUM(C4:C2758)","v":4636},{"$f":"SUM(D4:D2758)","v":556317}]
[null,6933,4636,556317]
["Ref Fab (PNR)","Entrées S2","Sorties S2","Stock fin S2","Stock S1 + E S2- S S2","Ecarts Données stock AIA et données trouvées","Remarques SN","Remarques AIA","Point AIA/SN","Conclusion ecarts","Stocks fin S01"]
["06003",0,0,114,{"$f":"(K4+B4)-C4","v":114},{"$f":"D4-E4","v":0},{"$nulls":4},114]
["25907",0,0,66,{"$f":"(K5+B5)-C5","v":66},{"$f":"D5-E5","v":0},{"$nulls":4},66]
["70206",0,0,161,161,0,{"$nulls":4},161]
["70515",0,0,1,1,0,{"$nulls":4},1]
["602991",0,2,24,24,0,{"$nulls":4},26]
["2000081",0,0,3310,3310,0,{"$nulls":4},3310]
["2010065",0,0,304,304,0,{"$nulls":4},304]
["3153008",0,0,509,509,0,{"$nulls":4},509]
["7290107",0,0,0,0,0,{"$nulls":4},0]
["7440905",0,0,63,63,0,{"$nulls":4},63]
["8607570",0,0,0,0,0,{"$nulls":4},0]
["37189001",0,0,72,72,0,{"$nulls":4},72]
["37199001",0,0,20,20,0,{"$nulls":4},20]
["01320040008",0,0,5297,5297,0,{"$nulls":4},5297]
["01320040009",0,0,0,0,0,{"$nulls":4},0]
["01320050010",0,0,1392,1392,0,{"$nulls":4},1392]
["01320050015",0,0,200,200,0,{"$nulls":4},200]
["01320050075",0,0,4160,4160,0,{"$nulls":4},4160]
["01320060012",0,0,2268,2268,0,{"$nulls":4},2268]
["01329050503",0,0,1773,1773,0,{"$nulls":4},1773]
["9794410112",0,0,20,20,0,{"$nulls":4},20]
["41320050010",0,0,3681,3681,0,{"$nulls":4},3681]
[41320050125,0,0,0,0,0,{"$nulls":4},0]
["0-0031819-0",0,0,458,458,0,{"$nulls":4},458]
["0-0036490-0",0,0,448,448,0,{"$nulls":4},448]
["006-0912-16",0,0,100,100,0,{"$nulls":4},100]
["006-0912-20",0,0,100,100,0,{"$nulls":4},100]
["006-0937-16",0,0,100,100,0,{"$nulls":4},100]
["006-0937-20",0,12,3604,3604,0,{"$nulls":4},3616]
["01KS0001",0,0,0,0,0,{"$nulls":4},0]
["01KS0011",0,0,0,0,0,{"$nulls":4},0]
["0200/SPEC/00/F93768",0,0,0,0,0,{"$nulls":4},0]
["0290/SPEC//FJ3730",0,0,0,0,0,{"$nulls":4},0]
["03KS0001",0,0,0,0,0,{"$nulls":4},0]
["058-000-604-6",0,0,0,0,0,{"$nulls":4},0]
["058-001-302-6",0,0,13,13,0,{"$nulls":4},13]
["058-001-901-6",0,0,0,0,0,{"$nulls":4},0]
["058-001-902-6",0,0,0,0,0,{"$nulls":4},0]
["058-002-003-6",0,0,1342,1342,0,{"$nulls":4},1342]
["058-002-005-6",0,0,210,210,0,{"$nulls":4},210]
["058-004-001-6",0,2,16,16,0,{"$nulls":4},18]
["058-004-201-6",0,2,80,80,0,{"$nulls":4},82]
["058-004-301-6",0,2,96,96,0,{"$nulls":4},98]
["058-004-601-6",0,2,104,104,0,{"$nulls":4},106]
["058-011-301-0",0,0,20,20,0,{"$nulls":4},20]
["058-011-503-0",0,0,23,23,0,{"$nulls":4},23]
["058-011-607-6",0,0,0,0,0,{"$nulls":4},0]
["058-011-608-6",0,0,0,0,0,{"$nulls":4},0]
["058-021-001-6",0,0,2,2,0,{"$nulls":4},2]
["058-021-102-6",0,0,2,2,0,{"$nulls":4},2]
["058-600-101-6",0,0,17,17,0,{"$nulls":4},17]
["093-360-004-0",0,0,0,0,0,{"$nulls":4},0]
["093-360-007-0",0,0,0,0,0,{"$nulls":4},0]
["093-360-009-0",0,0,0,0,0,{"$nulls":4},0]
["093-360-010-0",0,0,0,0,0,{"$nulls":4},0]
["093-360-011-0",0,0,0,0,0,{"$nulls":4},0]
["093-360-012-0",0,0,0,0,0,{"$nulls":4},0]
["093-360-013-0",0,0,0,0,0,{"$nulls":4},0]
["093-360-014-0",0,0,0,0,0,{"$nulls":4},0]
["093-360-015-0",0,0,0,0,0,{"$nulls":4},0]
["093-360-016-0",0,0,0,0,0,{"$nulls":4},0]
["093-360-017-0",0,0,0,0,0,{"$nulls":4},0]
["093-360-018-0",0,0,0,0,0,{"$nulls":4},0]
["093-360-019-0",0,0,0,0,0,{"$nulls":4},0]
["093-360-020-0",0,0,0,0,0,{"$nulls":4},0]
["093-360-021-0",0,0,0,{"$f":"(K69+B69)-C69","v":0},{"$f":"D69-E69","v":0},{"$nulls":4},0]
["093-360-022-0",0,0,0,0,0,{"$nulls":4},0]
["093-360-023-0",0,0,0,0,0,{"$nulls":4},0]
["093-360-024-0",0,0,0,0,0,{"$nulls":4},0]
["093-360-025-0",0,0,0,0,0,{"$nulls":4},0]
["093-360-026-0",0,0,0,0,0,{"$nulls":4},0]
["093-360-027-0",0,0,0,0,0,{"$nulls":4},0]
["093-360-028-0",0,0,0,0,0,{"$nulls":4},0]
["093-360-029-0",0,0,0,0,0,{"$nulls":4},0]
["093-360-030-0",0,0,0,0,0,{"$nulls":4},0]
["093-360-031-0",0,0,0,0,0,{"$nulls":4},0]
["093-360-033-0",0,0,0,0,0,{"$nulls":4},0]
["093-360-034-0",0,0,0,0,0,{"$nulls":4},0]
["093-360-035-0",0,0,0,0,0,{"$nulls":4},0]
["093-360-036-0",0,0,0,0,0,{"$nulls":4},0]
["093-360-037-0",0,0,0,0,0,{"$nulls":4},0]
["093-360-038-0",0,0,0,0,0,{"$nulls":4},0]
["093-360-039-0",0,0,0,0,0,{"$nulls":4},0]
["093-360-070-0",0,0,964,964,0,{"$nulls":4},964]
["093-360-072-0",0,0,77,77,0,{"$nulls":4},77]
["093-360-084-0",0,0,0,0,0,{"$nulls":4},0]
["093-360-085-0",0,0,400,400,0,{"$nulls":4},400]
["093-360-087-0",0,0,990,990,0,{"$nulls":4},990]
["093-410-000-0",0,0,0,0,0,{"$nulls":4},0]
["093-410-054-0",0,0,0,0,0,{"$nulls":4},0]
["093-410-138-0",0,0,4,4,0,{"$nulls":4},4]
["093-998-041-0",0,0,0,0,0,{"$nulls":4},0]
["093-998-097-0",0,0,0,0,0,{"$nulls":4},0]
["093-998-189-0",0,0,0,0,0,{"$nulls":4},0]
["097-0140-20",0,0,127,127,0,{"$nulls":4},127]
["11-10058-4",0,0,263,263,0,{"$nulls":4},263]
["11-10296-4",0,0,211,211,0,{"$nulls":4},211]
["11-10297-4",0,0,458,458,0,{"$nulls":4},458]
["11-10298-3",0,0,245,245,0,{"$nulls":4},245]
["11-10299-3",0,0,464,464,0,{"$nulls":4},464]
["11-10300-3",0,0,457,457,0,{"$nulls":4},457]
["11-11347-3",0,0,503,503,0,{"$nulls":4},503]
["11-11348-3",0,0,700,700,0,{"$nulls":4},700]
["1163-100",0,0,32,32,0,{"$nulls":4},32]
["1163-300",0,0,13,13,0,{"$nulls":4},13]
["11-841651-3",0,0,11,11,0,{"$nulls":4},11]
["1338T18-23-1",0,0,0,0,0,{"$nulls":4},0]
["1338T24-29-1",0,0,0,0,0,{"$nulls":4},0]
["1338T30.37-1",0,0,0,0,0,{"$nulls":4},0]
["1338T30-37-1",0,0,0,0,0,{"$nulls":4},0]
["1338T38.45-1",0,0,0,0,0,{"$nulls":4},0]
["1338T38-45-1",0,0,0,0,0,{"$nulls":4},0]
["1348-400",0,0,40,40,0,{"$nulls":4},40]
["135D14C",0,0,0,0,0,{"$nulls":4},0]
["135D14C001",0,2,39,39,0,{"$nulls":4},41]
["135D14T",0,0,11,11,0,{"$nulls":4},11]
["135D54C",0,0,16,16,0,{"$nulls":4},16]
["135D54T",0,0,51,51,0,{"$nulls":4},51]
["135K80",0,0,0,0,0,{"$nulls":4},0]
["135K80001",0,0,12,12,0,{"$nulls":4},12]
["144-408-000-121",0,0,23,23,0,{"$nulls":4},23]
["144-408-000-122",0,0,20,20,0,{"$nulls":4},20]
["1465-400",0,0,0,0,0,{"$nulls":4},0]
["1465-500",0,0,6,6,0,{"$nulls":4},6]
["1466-400",0,0,23,23,0,{"$nulls":4},23]
["1567100-03",0,0,74,74,0,{"$nulls":4},74]
["1567100-04",0,1,91,91,0,{"$nulls":4},92]
["1567200-03",0,0,0,0,0,{"$nulls":4},0]
["1567200-04",0,0,17,17,0,{"$nulls":4},17]
["1567300-03",0,0,0,{"$f":"(K133+B133)-C133","v":0},{"$f":"D133-E133","v":0},{"$nulls":4},0]
["1567300-04",0,0,0,0,0,{"$nulls":4},0]
["1567300-05",0,0,31,31,0,{"$nulls":4},31]
["15-841651",0,0,26,26,0,{"$nulls":4},26]
["17,00X2,65-64C8",0,0,0,0,0,{"$nulls":4},0]
["1851-00",0,0,1044,1044,0,{"$nulls":4},1044]
["200Z5X13",0,0,101,101,0,{"$nulls":4},101]
["202A132-25-0",0,0,15,15,0,{"$nulls":4},15]
["202K132-25",0,0,130,130,0,{"$nulls":4},130]
["202K132-25-0",0,0,7,7,0,{"$nulls":4},7]
["202K132-25-01-0",0,0,60,60,0,{"$nulls":4},60]
["202K142-25-01",0,0,127,127,0,{"$nulls":4},127]
["202K153-25",0,0,175,175,0,{"$nulls":4},175]
["202K153-25-0",0,0,12,12,0,{"$nulls":4},12]
["202K163-25",0,0,0,0,0,{"$nulls":4},0]
["202K163-25-0",0,0,19,19,0,{"$nulls":4},19]
["202K163-25-02",0,0,48,48,0,{"$nulls":4},48]
["21215CA3207",0,0,1350,1350,0,{"$nulls":4},1350]
["21215CA3209",0,0,912,912,0,{"$nulls":4},912]
["21215CA3210",0,0,575,575,0,{"$nulls":4},575]
["21215CM3208",0,0,200,200,0,{"$nulls":4},200]
["21215CM4008",0,0,224,224,0,{"$nulls":4},224]
["21215TC1605",0,0,700,700,0,{"$nulls":4},700]
["21215TC2407",0,0,0,0,0,{"$nulls":4},0]
["21215TC3206",0,0,760,760,0,{"$nulls":4},760]
["21215TC3207",0,0,420,420,0,{"$nulls":4},420]
["21215TC3208",0,0,384,384,0,{"$nulls":4},384]
["21215TC3607",0,0,480,480,0,{"$nulls":4},480]
["21215TC3608",0,0,809,809,0,{"$nulls":4},809]
["21215TS3208",0,0,1147,1147,0,{"$nulls":4},1147]
["21215TS3209",0,0,611,611,0,{"$nulls":4},611]
["21215TS3608",0,0,289,289,0,{"$nulls":4},289]
["21215TS3609",0,0,0,0,0,{"$nulls":4},0]
["21217CA3207",0,0,919,919,0,{"$nulls":4},919]
["21217CA3208",0,0,37,37,0,{"$nulls":4},37]
["21217CA3209",0,0,74,74,0,{"$nulls":4},74]
["21217CA3210",0,0,606,606,0,{"$nulls":4},606]
["21217CA3212",0,0,200,200,0,{"$nulls":4},200]
["21217CA3610",0,0,250,250,0,{"$nulls":4},250]
["21217TC3207",0,0,500,500,0,{"$nulls":4},500]
["21217TC3208",0,0,500,500,0,{"$nulls":4},500]
["21217TC3608",0,0,400,400,0,{"$nulls":4},400]
["21217TC3609",0,0,200,200,0,{"$nulls":4},200]
["21217TS3208",0,0,238,238,0,{"$nulls":4},238]
["21217TS3209",0,0,1493,1493,0,{"$nulls":4},1493]
["21217TS3210",0,0,100,100,0,{"$nulls":4},100]
["21217TS3610",0,0,250,250,0,{"$nulls":4},250]
["21217TS3611",0,0,0,0,0,{"$nulls":4},0]
["21826495-7",0,0,0,0,0,{"$nulls":4},0]
["22126BC040010L",0,0,429,429,0,{"$nulls":4},429]
["22220TK060020X",0,0,351,351,0,{"$nulls":4},351]
["22224CF030008E",0,0,673,673,0,{"$nulls":4},673]
["22259BC040010",0,0,728,728,0,{"$nulls":4},728]
["22259BC040012",0,0,385,385,0,{"$nulls":4},385]
["22259BC050012",0,0,84,84,0,{"$nulls":4},84]
["22259TK060020X",0,0,326,326,0,{"$nulls":4},326]
["22291CA030006",0,0,176,176,0,{"$nulls":4},176]
["222K132-25",0,0,145,145,0,{"$nulls":4},145]
["222K142-25",0,0,116,116,0,{"$nulls":4},116]
["222K152-25G13",0,0,150,150,0,{"$nulls":4},150]
["222K163-25",0,0,190,190,0,{"$nulls":4},190]
["222K163-25-0",0,0,37,37,0,{"$nulls":4},37]
["23111CA030",0,0,584,584,0,{"$nulls":4},584]
["23111CA040",0,0,189,189,0,{"$nulls":4},189]
["23112CA050",0,0,214,{"$f":"(K197+B197)-C197","v":214},{"$f":"D197-E197","v":0},{"$nulls":4},214]
["23112CA070",0,0,261,261,0,{"$nulls":4},261]
["23310CA010010",0,1,2853,2853,0,{"$nulls":4},2854]
["243D022-25G04",0,0,50,50,0,{"$nulls":4},50]
["25,00X2,65-64C8",0,0,60,60,0,{"$nulls":4},60]
["26013573-2",0,0,8,8,0,{"$nulls":4},8]
["261960725-0101",0,0,0,0,0,{"$nulls":4},0]
["261960725-0102",0,0,0,0,0,{"$nulls":4},0]
["261960811-0101",0,0,0,0,0,{"$nulls":4},0]
["263W023-25",0,0,95,95,0,{"$nulls":4},95]
["264W012-25",0,0,50,50,0,{"$nulls":4},50]
["2AGF0507BLS",0,0,132,132,0,{"$nulls":4},132]
["2AGF0509BLS",0,0,749,749,0,{"$nulls":4},749]
["2R500Y158B",0,0,1354,1354,0,{"$nulls":4},1354]
["300-017G",0,0,436,436,0,{"$nulls":4},436]
["300-656-301-0",0,0,100,100,0,{"$nulls":4},100]
["303-928-703-0",0,0,221,221,0,{"$nulls":4},221]
["304-965-001-0",0,0,67,67,0,{"$nulls":4},67]
["305-109-701-0",0,0,32,32,0,{"$nulls":4},32]
["307-002-023-0",0,0,7,7,0,{"$nulls":4},7]
["307-002-025-0",0,0,0,0,0,{"$nulls":4},0]
["307-002-173-0",0,0,1,1,0,{"$nulls":4},1]
["307-002-174-0",0,0,0,0,0,{"$nulls":4},0]
["307-002-175-0",0,0,14,14,0,{"$nulls":4},14]
["307-002-532-0",0,0,8,8,0,{"$nulls":4},8]
["307-002-534-0",0,0,7,7,0,{"$nulls":4},7]
["307-002-809-6",0,0,1006,1006,0,{"$nulls":4},1006]
["307-002-906-6",0,0,1584,1584,0,{"$nulls":4},1584]
["307-003-005-6",0,1,1700,1700,0,{"$nulls":4},1701]
["307-003-124-0",0,0,43,43,0,{"$nulls":4},43]
["307-003-308-6",0,0,5,5,0,{"$nulls":4},5]
["307-003-724-0",0,0,30,30,0,{"$nulls":4},30]
["307-003-908-6",0,0,6,6,0,{"$nulls":4},6]
["307-004-333-0",2,0,20,20,0,{"$nulls":4},18]
["307-004-505-6",0,0,8,8,0,{"$nulls":4},8]
["307-007-267-0",0,0,0,0,0,{"$nulls":4},0]
["307-007-453-0",0,0,3,3,0,{"$nulls":4},3]
["307-007-454-0",0,0,0,0,0,{"$nulls":4},0]
["307-007-455-0",0,0,0,0,0,{"$nulls":4},0]
["307-007-568-0",0,0,0,0,0,{"$nulls":4},0]
["307-007-570-0",0,0,28,28,0,{"$nulls":4},28]
["307-007-580-0",0,0,0,0,0,{"$nulls":4},0]
["307-007-581-0",0,0,15,15,0,{"$nulls":4},15]
["307-007-652-0",0,0,0,0,0,{"$nulls":4},0]
["307-008-153-0",0,0,0,0,0,{"$nulls":4},0]
["307-008-512-0",0,0,0,0,0,{"$nulls":4},0]
["307-008-513-0",0,0,0,0,0,{"$nulls":4},0]
["307-008-715-0",0,0,0,0,0,{"$nulls":4},0]
["307-008-716-0",0,0,0,0,0,{"$nulls":4},0]
["307-008-717-0",0,0,0,0,0,{"$nulls":4},0]
["307-011-001-0",0,0,11,11,0,{"$nulls":4},11]
["307-011-403-0",0,0,10,10,0,{"$nulls":4},10]
["307-011-601-0",0,0,39,39,0,{"$nulls":4},39]
["307-011-701-0",0,0,48,48,0,{"$nulls":4},48]
["307-012-001-0",0,0,34,34,0,{"$nulls":4},34]
["307-012-201-0",0,0,51,51,0,{"$nulls":4},51]
["307-014-201-6",0,0,72,72,0,{"$nulls":4},72]
["307-015-407-0",0,0,108,108,0,{"$nulls":4},108]
["307-015-801-0",0,0,13,13,0,{"$nulls":4},13]
["307-015-901-0",0,0,51,51,0,{"$nulls":4},51]
["307-016-501-0",0,1,12,12,0,{"$nulls":4},13]
["307-016-602-0",0,0,10,10,0,{"$nulls":4},10]
["307-017-204-0",0,0,6,6,0,{"$nulls":4},6]
["307-017-304-0",0,0,8,8,0,{"$nulls":4},8]
["307-017-403-0",0,0,0,{"$f":"(K261+B261)-C261","v":0},{"$f":"D261-E261","v":0},{"$nulls":4},0]
["307-017-404-0",0,0,1,1,0,{"$nulls":4},1]
["307-017-701-0",0,1,11,11,0,{"$nulls":4},12]
["307-017-901-0",0,0,29,29,0,{"$nulls":4},29]
["307-018-001-0",0,0,30,30,0,{"$nulls":4},30]
["307-018-103-0",0,0,6,6,0,{"$nulls":4},6]
["307-018-202-0",0,0,17,17,0,{"$nulls":4},17]
["307-018-301-0",0,0,14,14,0,{"$nulls":4},14]
["307-018-502-0",0,1,110,110,0,{"$nulls":4},111]
["307-019-701-0",0,0,26,26,0,{"$nulls":4},26]
["307-019-902-0",0,0,11,11,0,{"$nulls":4},11]
["307-020-001-0",0,0,58,58,0,{"$nulls":4},58]
["307-020-103-0",0,0,8,8,0,{"$nulls":4},8]
["307-020-201-0",0,0,143,143,0,{"$nulls":4},143]
["307-020-301-0",0,0,18,18,0,{"$nulls":4},18]
["307-020-601-0",0,0,184,184,0,{"$nulls":4},184]
["307-020-701-0",0,1,153,153,0,{"$nulls":4},154]
["307-020-801-0",0,1,231,231,0,{"$nulls":4},232]
["307-021-001-0",0,1,8,8,0,{"$nulls":4},9]
["307-021-101-0",0,0,25,25,0,{"$nulls":4},25]
["307-021-201-0",0,0,20,20,0,{"$nulls":4},20]
["307-021-401-0",0,0,16,16,0,{"$nulls":4},16]
["307-021-801-0",0,0,30,30,0,{"$nulls":4},30]
["307-021-901-0",0,0,20,20,0,{"$nulls":4},20]
["307-022-114-0",0,0,5,5,0,{"$nulls":4},5]
["307-022-115-0",0,0,0,0,0,{"$nulls":4},0]
["307-022-403-0",0,0,126,126,0,{"$nulls":4},126]
["307-022-506-0",0,0,43,43,0,{"$nulls":4},43]
["307-022-605-0",0,0,565,565,0,{"$nulls":4},565]
["307-022-703-0",0,0,143,143,0,{"$nulls":4},143]
["307-022-802-0",0,0,125,125,0,{"$nulls":4},125]
["307-022-806-0",0,0,55,55,0,{"$nulls":4},55]
["307-023-004-0",0,0,44,44,0,{"$nulls":4},44]
["307-023-105-0",0,0,729,729,0,{"$nulls":4},729]
["307-023-203-0",0,0,112,112,0,{"$nulls":4},112]
["307-023-304-0",0,0,51,51,0,{"$nulls":4},51]
["307-023-402-0",0,0,500,500,0,{"$nulls":4},500]
["307-023-604-0",0,0,64,64,0,{"$nulls":4},64]
["307-023-704-0",0,0,44,44,0,{"$nulls":4},44]
["307-023-805-0",0,0,200,200,0,{"$nulls":4},200]
["307-023-903-0",0,0,43,43,0,{"$nulls":4},43]
["307-024-004-0",0,0,44,44,0,{"$nulls":4},44]
["307-024-103-0",0,0,14,14,0,{"$nulls":4},14]
["307-024-203-0",0,0,59,59,0,{"$nulls":4},59]
["307-024-901-0",0,0,25,25,0,{"$nulls":4},25]
["307-025-001-0",0,0,25,25,0,{"$nulls":4},25]
["307-025-002-0",0,0,0,0,0,{"$nulls":4},0]
["307-025-102-0",0,0,15,15,0,{"$nulls":4},15]
["307-025-202-0",0,0,14,14,0,{"$nulls":4},14]
["307-026-201-0",0,0,110,110,0,{"$nulls":4},110]
["307-026-503-0",0,0,0,0,0,{"$nulls":4},0]
["307-026-901-0",0,0,34,34,0,{"$nulls":4},34]
["307-028-001-0",0,0,25,25,0,{"$nulls":4},25]
["307-028-101-0",0,0,30,30,0,{"$nulls":4},30]
["307-028-201-0",0,0,50,50,0,{"$nulls":4},50]
["307-028-402-0",0,0,50,50,0,{"$nulls":4},50]
["307-028-501-0",0,0,20,20,0,{"$nulls":4},20]
["307-028-601-0",0,0,40,40,0,{"$nulls":4},40]
["307-028-801-0",0,1,53,53,0,{"$nulls":4},54]
["307-028-901-0",0,0,16,16,0,{"$nulls":4},16]
["307-029-001-0",0,0,25,25,0,{"$nulls":4},25]
["307-029-701-0",0,0,36,36,0,{"$nulls":4},36]
["307-029-901-0",0,0,30,30,0,{"$nulls":4},30]
["307-034-653-0",0,0,0,0,0,{"$nulls":4},0]
["307-034-654-0",0,0,2,{"$f":"(K325+B325)-C325","v":2},{"$f":"D325-E325","v":0},{"$nulls":4},2]
["307-035-601-0",0,2,380,380,0,{"$nulls":4},382]
["307-035-702-0",0,2,347,347,0,{"$nulls":4},349]
["307-035-802-0",0,2,373,373,0,{"$nulls":4},375]
["307-038-110-0",0,4,72,72,0,{"$nulls":4},76]
["307-038-210-0",0,4,95,95,0,{"$nulls":4},99]
["307-040-721-6",0,0,0,0,0,{"$nulls":4},0]
["307-042-303-0",0,0,0,0,0,{"$nulls":4},0]
["307-042-404-0",0,0,2,2,0,{"$nulls":4},2]
["307-042-502-0",0,0,9,9,0,{"$nulls":4},9]
["307-042-606-0",0,0,9,9,0,{"$nulls":4},9]
["307-042-702-0",0,0,7,7,0,{"$nulls":4},7]
["307-042-803-0",0,0,3,3,0,{"$nulls":4},3]
["307-042-908-0",0,0,6,6,0,{"$nulls":4},6]
["307-044-406-0",0,0,0,0,0,{"$nulls":4},0]
["307-044-506-0",0,0,0,0,0,{"$nulls":4},0]
["307-045-825-0",0,0,0,0,0,{"$nulls":4},0]
["307-045-827-0",0,0,0,0,0,{"$nulls":4},0]
["307-046-710-0",0,0,0,0,0,{"$nulls":4},0]
["307-046-710-6",0,0,0,0,0,{"$nulls":4},0]
["307-047-756-0",0,0,0,0,0,{"$nulls":4},0]
["307-047-757-0",0,0,0,0,0,{"$nulls":4},0]
["307-047-852-0",0,0,158,158,0,{"$nulls":4},158]
["307-047-902-0",0,0,0,0,0,{"$nulls":4},0]
["307-047-903-0",0,0,1,1,0,{"$nulls":4},1]
["307-048-524-0",0,0,1,1,0,{"$nulls":4},1]
["307-048-524-6",0,0,0,0,0,{"$nulls":4},0]
["307-049-317-6",0,0,0,0,0,{"$nulls":4},0]
["307-050-106-0",0,15,67,67,0,{"$nulls":4},82]
["307-052-404-0",0,0,0,0,0,{"$nulls":4},0]
["307-054-305-0",0,0,0,0,0,{"$nulls":4},0]
["307-054-601-0",0,0,0,0,0,{"$nulls":4},0]
["307-054-701-0",0,0,0,0,0,{"$nulls":4},0]
["307-055-102-0",0,0,58,58,0,{"$nulls":4},58]
["307-055-606-0",0,16,96,96,0,{"$nulls":4},112]
["307-056-101-0",50,21,29,29,0,{"$nulls":4},0]
["307-056-402-0",0,0,130,130,0,{"$nulls":4},130]
["307-056-602-0",0,0,6,6,0,{"$nulls":4},6]
["307-056-603-0",0,20,142,142,0,{"$nulls":4},162]
["307-056-702-0",0,0,35,35,0,{"$nulls":4},35]
["307-056-805-0",0,0,67,67,0,{"$nulls":4},67]
["307-057-003-0",0,20,248,248,0,{"$nulls":4},268]
["307-057-101-0",0,0,42,42,0,{"$nulls":4},42]
["307-057-201-0",0,0,90,90,0,{"$nulls":4},90]
["307-057-721-0",0,5,65,65,0,{"$nulls":4},70]
["307-057-817-0",0,5,40,40,0,{"$nulls":4},45]
["307-057-907-0",0,8,0,0,0,{"$nulls":4},8]
["307-058-007-0",0,14,3,3,0,{"$nulls":4},17]
["307-058-345-0",2,1,1,1,0,{"$nulls":4},0]
["307-058-349-0",0,0,0,0,0,{"$nulls":4},0]
["307-058-801-0",0,20,308,308,0,{"$nulls":4},328]
["307-058-903-0",0,11,272,272,0,{"$nulls":4},283]
["307-059-011-0",0,2,50,50,0,{"$nulls":4},52]
["307-059-108-0",1,0,31,31,0,{"$nulls":4},30]
["307-059-205-0",0,0,18,18,0,{"$nulls":4},18]
["307-059-403-0",0,0,0,0,0,{"$nulls":4},0]
["307-059-504-0",0,0,0,0,0,{"$nulls":4},0]
["307-060-102-8",0,0,0,0,0,{"$nulls":4},0]
["307-060-202-8",0,0,0,0,0,{"$nulls":4},0]
["307-060-302-8",0,0,0,0,0,{"$nulls":4},0]
["307-060-402-8",0,0,0,0,0,{"$nulls":4},0]
["307-060-502-8",0,0,0,0,0,{"$nulls":4},0]
["307-061-202-0",0,0,62,62,0,{"$nulls":4},62]
["307-062-321-0",0,0,1,1,0,{"$nulls":4},1]
["307-062-602-0",0,0,126,{"$f":"(K389+B389)-C389","v":126},{"$f":"D389-E389","v":0},{"$nulls":4},126]
["307-062-703-6",0,0,0,0,0,{"$nulls":4},0]
["307-062-904-6",0,0,0,0,0,{"$nulls":4},0]
["307-065-950-0",0,0,3,3,0,{"$nulls":4},3]
["307-065-954-0",0,0,31,31,0,{"$nulls":4},31]
["307-065-956-0",0,0,199,199,0,{"$nulls":4},199]
["307-066-050-0",0,0,0,0,0,{"$nulls":4},0]
["307-066-051-0",0,0,0,0,0,{"$nulls":4},0]
["307-067-102-0",0,0,0,0,0,{"$nulls":4},0]
["307-067-103-0",0,0,0,0,0,{"$nulls":4},0]
["307-067-201-0",0,0,0,0,0,{"$nulls":4},0]
["307-067-401-0",0,0,167,167,0,{"$nulls":4},167]
["307-067-501-0",0,0,36,36,0,{"$nulls":4},36]
["307-067-601-0",0,0,115,115,0,{"$nulls":4},115]
["307-067-602-0",0,0,25,25,0,{"$nulls":4},25]
["307-067-603-0",0,0,11,11,0,{"$nulls":4},11]
["307-067-704-0",0,0,57,57,0,{"$nulls":4},57]
["307-067-802-0",0,0,0,0,0,{"$nulls":4},0]
["307-067-804-0",0,0,410,410,0,{"$nulls":4},410]
["307-067-903-0",0,0,31,31,0,{"$nulls":4},31]
["307-068-003-0",0,0,0,0,0,{"$nulls":4},0]
["307-068-005-0",0,0,335,335,0,{"$nulls":4},335]
["307-068-104-0",0,0,22,22,0,{"$nulls":4},22]
["307-068-203-0",0,0,29,29,0,{"$nulls":4},29]
["307-068-301-0",0,0,1501,1501,0,{"$nulls":4},1501]
["307-068-302-0",0,0,38,38,0,{"$nulls":4},38]
["307-068-401-0",0,0,80,80,0,{"$nulls":4},80]
["307-068-402-0",0,0,10,10,0,{"$nulls":4},10]
["307-068-403-0",0,0,17,17,0,{"$nulls":4},17]
["307-068-503-0",0,0,8,8,0,{"$nulls":4},8]
["307-068-603-0",0,0,20,20,0,{"$nulls":4},20]
["307-069-102-0",0,0,190,190,0,{"$nulls":4},190]
["307-070-215-0",0,0,1,1,0,{"$nulls":4},1]
["307-070-504-0",0,0,0,0,0,{"$nulls":4},0]
["307-070-505-0",0,0,76,76,0,{"$nulls":4},76]
["307-074-011-0",0,0,1930,1930,0,{"$nulls":4},1930]
["307-074-021-0",0,0,2081,2081,0,{"$nulls":4},2081]
["307-074-031-0",0,0,229,229,0,{"$nulls":4},229]
["307-074-501-0",0,0,12,12,0,{"$nulls":4},12]
["307-074-730-0",0,0,0,0,0,{"$nulls":4},0]
["307-074-735-0",0,0,1,1,0,{"$nulls":4},1]
["307-074-737-0",0,0,2,2,0,{"$nulls":4},2]
["307-075-360-0",0,0,7,7,0,{"$nulls":4},7]
["307-076-209-0",0,0,5,5,0,{"$nulls":4},5]
["307-076-702-0",0,0,7,7,0,{"$nulls":4},7]
["307-076-706-0",0,0,186,186,0,{"$nulls":4},186]
["307-077-210-0",0,0,16,16,0,{"$nulls":4},16]
["307-077-325-0",0,0,0,0,0,{"$nulls":4},0]
["307-077-328-0",0,0,0,0,0,{"$nulls":4},0]
["307-077-331-0",0,0,59,59,0,{"$nulls":4},59]
["307-077-332-0",0,0,8,8,0,{"$nulls":4},8]
["307-077-396-0",0,0,0,0,0,{"$nulls":4},0]
["307-077-399-0",0,0,0,0,0,{"$nulls":4},0]
["307-077-400-0",0,0,8,8,0,{"$nulls":4},8]
["307-078-604-0",0,0,6,6,0,{"$nulls":4},6]
["307-078-814-0",0,0,360,360,0,{"$nulls":4},360]
["307-079-704-0",0,0,45,45,0,{"$nulls":4},45]
["307-080-303-6",0,2,23,23,0,{"$nulls":4},25]
["307-080-703-6",0,2,30,30,0,{"$nulls":4},32]
["307-081-903-0",0,8,20,20,0,{"$nulls":4},28]
["307-083-731-0",0,0,0,0,0,{"$nulls":4},0]
["307-083-732-0",0,0,0,0,0,{"$nulls":4},0]
["307-083-733-0",0,0,0,0,0,{"$nulls":4},0]
["307-083-734-0",4,0,9,9,0,{"$nulls":4},5]
["307-083-737-0",0,0,0,{"$f":"(K453+B453)-C453","v":0},{"$f":"D453-E453","v":0},{"$nulls":4},0]
["307-083-739-0",0,0,0,0,0,{"$nulls":4},0]
["307-084-118-0",0,0,83,83,0,{"$nulls":4},83]
["307-084-735-0",0,0,0,0,0,{"$nulls":4},0]
["307-084-737-0",0,0,0,0,0,{"$nulls":4},0]
["307-084-738-0",0,0,0,0,0,{"$nulls":4},0]
["307-084-915-6",0,0,0,0,0,{"$nulls":4},0]
["307-085-002-6",0,0,0,0,0,{"$nulls":4},0]
["307-085-305-6",0,0,0,0,0,{"$nulls":4},0]
["307-085-603-6",0,0,0,0,0,{"$nulls":4},0]
["307-085-604-0",0,0,0,0,0,{"$nulls":4},0]
["307-085-807-0",0,0,0,0,0,{"$nulls":4},0]
["307-086-010-0",0,0,0,0,0,{"$nulls":4},0]
["307-086-704-0",0,0,4,4,0,{"$nulls":4},4]
["307-087-103-0",0,0,2131,2131,0,{"$nulls":4},2131]
["307-087-603-0",0,4,296,296,0,{"$nulls":4},300]
["307-087-702-0",0,1,293,293,0,{"$nulls":4},294]
["307-087-831-0",0,0,0,0,0,{"$nulls":4},0]
["307-089-601-0",0,4,1663,1663,0,{"$nulls":4},1667]
["307-089-703-0",0,0,3,3,0,{"$nulls":4},3]
["307-089-803-0",0,0,6,6,0,{"$nulls":4},6]
["307-089-901-0",0,0,3,3,0,{"$nulls":4},3]
["307-090-002-0",0,0,44,44,0,{"$nulls":4},44]
["307-090-267-0",0,0,0,0,0,{"$nulls":4},0]
["307-090-904-0",0,0,3,3,0,{"$nulls":4},3]
["307-091-002-0",0,0,3,3,0,{"$nulls":4},3]
["307-091-205-0",0,0,18,18,0,{"$nulls":4},18]
["307-091-306-0",0,0,16,16,0,{"$nulls":4},16]
["307-091-601-0",0,0,15,15,0,{"$nulls":4},15]
["307-091-701-0",0,0,3,3,0,{"$nulls":4},3]
["307-091-902-0",0,0,1,1,0,{"$nulls":4},1]
["307-092-001-0",0,0,3,3,0,{"$nulls":4},3]
["307-092-102-0",0,0,7,7,0,{"$nulls":4},7]
["307-092-401-0",0,0,4,4,0,{"$nulls":4},4]
["307-093-123-0",0,0,6,6,0,{"$nulls":4},6]
["307-093-402-0",0,0,6,6,0,{"$nulls":4},6]
["307-094-102-0",0,0,2,2,0,{"$nulls":4},2]
["307-094-203-0",0,0,4,4,0,{"$nulls":4},4]
["307-094-451-6",1,0,5,5,0,{"$nulls":4},4]
["307-094-507-0",0,0,4,4,0,{"$nulls":4},4]
["307-094-605-0",8,0,13,13,0,{"$nulls":4},5]
["307-094-704-0",0,0,23,23,0,{"$nulls":4},23]
["307-094-801-0",0,0,78,78,0,{"$nulls":4},78]
["307-095-002-6",0,0,117,117,0,{"$nulls":4},117]
["307-095-107-0",0,0,3,3,0,{"$nulls":4},3]
["307-095-931-0",0,0,202,202,0,{"$nulls":4},202]
["307-096-405-0",0,0,3,3,0,{"$nulls":4},3]
["307-096-704-0",0,0,4,4,0,{"$nulls":4},4]
["307-096-953-0",0,0,0,0,0,{"$nulls":4},0]
["307-096-954-0",0,0,15,15,0,{"$nulls":4},15]
["307-097-154-0",0,0,0,0,0,{"$nulls":4},0]
["307-097-155-0",0,0,18,18,0,{"$nulls":4},18]
["307-097-354-0",0,0,0,0,0,{"$nulls":4},0]
["307-097-355-0",0,0,25,25,0,{"$nulls":4},25]
["307-097-554-0",0,0,0,0,0,{"$nulls":4},0]
["307-097-555-0",0,0,10,10,0,{"$nulls":4},10]
["307-097-754-0",0,0,2,2,0,{"$nulls":4},2]
["307-097-755-0",0,0,16,16,0,{"$nulls":4},16]
["307-098-101-0",0,0,185,185,0,{"$nulls":4},185]
["307-098-201-0",0,0,38,38,0,{"$nulls":4},38]
["307-098-302-0",0,0,750,750,0,{"$nulls":4},750]
["307-098-403-0",0,0,32,32,0,{"$nulls":4},32]
["307-098-542-0",0,0,0,0,0,{"$nulls":4},0]
["307-099-803-0",0,0,454,454,0,{"$nulls":4},454]
["307-099-903-0",0,0,384,{"$f":"(K517+B517)-C517","v":384},{"$f":"D517-E517","v":0},{"$nulls":4},384]
["307-100-002-0",0,0,384,384,0,{"$nulls":4},384]
["307-100-204-0",0,0,344,344,0,{"$nulls":4},344]
["307-100-302-0",0,0,344,344,0,{"$nulls":4},344]
["307-100-401-0",0,0,324,324,0,{"$nulls":4},324]
["307-100-503-0",0,0,4,4,0,{"$nulls":4},4]
["307-100-603-0",0,0,4,4,0,{"$nulls":4},4]
["307-101-703-0",0,0,5,5,0,{"$nulls":4},5]
["307-101-904-0",0,0,1,1,0,{"$nulls":4},1]
["307-102-357-0",0,0,31,31,0,{"$nulls":4},31]
["307-102-701-0",0,0,2855,2855,0,{"$nulls":4},2855]
["307-102-903-6",0,36,57,57,0,{"$nulls":4},93]
["307-103-404-0",0,0,40,40,0,{"$nulls":4},40]
["307-104-313-0",0,0,7,7,0,{"$nulls":4},7]
["307-105-405-0",0,0,7,7,0,{"$nulls":4},7]
["307-106-310-0",0,0,159,159,0,{"$nulls":4},159]
["307-107-210-0",0,0,12,12,0,{"$nulls":4},12]
["307-107-260-0",0,0,2,2,0,{"$nulls":4},2]
["307-108-003-0",0,0,4,4,0,{"$nulls":4},4]
["307-108-404-0",0,0,164,164,0,{"$nulls":4},164]
["307-109-403-0",0,0,11,11,0,{"$nulls":4},11]
["307-109-502-0",0,0,12,12,0,{"$nulls":4},12]
["307-109-703-0",0,0,1,1,0,{"$nulls":4},1]
["307-109-704-0",0,0,0,0,0,{"$nulls":4},0]
["307-109-901-0",0,0,1527,1527,0,{"$nulls":4},1527]
["307-110-001-6",0,0,253,253,0,{"$nulls":4},253]
["307-110-101-0",0,0,52,52,0,{"$nulls":4},52]
["307-110-201-0",0,0,47,47,0,{"$nulls":4},47]
["307-110-607-0",0,0,23,23,0,{"$nulls":4},23]
["307-110-701-0",0,0,15,15,0,{"$nulls":4},15]
["307-110-804-0",0,0,22,22,0,{"$nulls":4},22]
["307-110-901-6",0,0,5,5,0,{"$nulls":4},5]
["307-111-002-0",1,0,4,4,0,{"$nulls":4},3]
["307-111-101-0",0,0,5,5,0,{"$nulls":4},5]
["307-111-201-0",0,0,5,5,0,{"$nulls":4},5]
["307-111-302-0",0,0,5,5,0,{"$nulls":4},5]
["307-111-501-0",0,0,14,14,0,{"$nulls":4},14]
["307-111-605-0",0,0,38,38,0,{"$nulls":4},38]
["307-111-901-0",0,0,30,30,0,{"$nulls":4},30]
["307-112-001-6",0,0,0,0,0,{"$nulls":4},0]
["307-112-002-0",0,0,0,0,0,{"$nulls":4},0]
["307-112-003-0",0,0,0,0,0,{"$nulls":4},0]
["307-112-004-0",0,0,0,0,0,{"$nulls":4},0]
["307-112-005-0",0,0,0,0,0,{"$nulls":4},0]
["307-112-006-0",0,0,0,0,0,{"$nulls":4},0]
["307-112-007-0",0,0,0,0,0,{"$nulls":4},0]
["307-112-008-0",0,0,0,0,0,{"$nulls":4},0]
["307-112-009-0",0,0,0,0,0,{"$nulls":4},0]
["307-112-130-0",0,0,1,1,0,{"$nulls":4},1]
["307-112-501-0",0,0,0,0,0,{"$nulls":4},0]
["307-112-702-0",0,0,22,22,0,{"$nulls":4},22]
["307-113-702-6",1,0,6,6,0,{"$nulls":4},5]
["307-114-301-0",0,1,187,187,0,{"$nulls":4},188]
["307-114-401-0",0,0,15,15,0,{"$nulls":4},15]
["307-117-151-0",0,0,55,55,0,{"$nulls":4},55]
["307-117-251-0",0,0,2,2,0,{"$nulls":4},2]
["307-117-351-0",0,0,4,4,0,{"$nulls":4},4]
["307-117-401-0",0,1,16,16,0,{"$nulls":4},17]
["307-117-551-0",0,0,3,3,0,{"$nulls":4},3]
["307-119-501-0",0,0,73,73,0,{"$nulls":4},73]
["307-119-656-6",0,0,7,7,0,{"$nulls":4},7]
["307-119-702-0",0,0,9,9,0,{"$nulls":4},9]
["307-119-858-6",0,0,17,17,0,{"$nulls":4},17]
["307-119-901-0",0,0,96,96,0,{"$nulls":4},96]
["307-120-401-0",0,0,999,{"$f":"(K581+B581)-C581","v":999},{"$f":"D581-E581","v":0},{"$nulls":4},999]
["307-120-501-0",0,0,569,569,0,{"$nulls":4},569]
["307-130-201-0",0,0,90,90,0,{"$nulls":4},90]
["307-133-501-0",0,0,0,0,0,{"$nulls":4},0]
["307-133-823-0",0,0,3,3,0,{"$nulls":4},3]
["307-134-501-0",0,1,5,5,0,{"$nulls":4},6]
["307-134-750-0",0,0,16,16,0,{"$nulls":4},16]
["307-136-201-0",0,0,0,0,0,{"$nulls":4},0]
["307-137-012-0",0,0,16,16,0,{"$nulls":4},16]
["307-137-062-0",0,0,0,0,0,{"$nulls":4},0]
["307-137-105-0",0,0,90,90,0,{"$nulls":4},90]
["307-137-912-0",0,2,120,120,0,{"$nulls":4},122]
["307-137-962-0",0,3,26,26,0,{"$nulls":4},29]
["307-138-402-0",0,0,21,21,0,{"$nulls":4},21]
["307-138-501-0",5,0,11,11,0,{"$nulls":4},6]
["307-138-601-0",0,0,33,33,0,{"$nulls":4},33]
["307-138-702-0",0,0,19,19,0,{"$nulls":4},19]
["307-138-801-0",0,0,102,102,0,{"$nulls":4},102]
["307-139-512-0",0,0,345,345,0,{"$nulls":4},345]
["307-139-612-0",0,0,27,27,0,{"$nulls":4},27]
["307-140-101-0",0,0,144,144,0,{"$nulls":4},144]
["307-141-003-0",0,0,3,3,0,{"$nulls":4},3]
["307-141-502-0",0,0,4,4,0,{"$nulls":4},4]
["307-142-903-0",0,0,2,2,0,{"$nulls":4},2]
["307-147-013-6",0,0,0,0,0,{"$nulls":4},0]
["307-147-113-6",0,0,0,0,0,{"$nulls":4},0]
["307-148-109-0",0,2,25,25,0,{"$nulls":4},27]
["307-148-110-0",0,0,0,0,0,{"$nulls":4},0]
["307-148-505-0",0,0,77,77,0,{"$nulls":4},77]
["307-150-001-0",2,0,53,53,0,{"$nulls":4},51]
["307-150-203-0",0,0,8,8,0,{"$nulls":4},8]
["307-150-406-0",0,0,0,0,0,{"$nulls":4},0]
["307-150-407-0",0,0,33,33,0,{"$nulls":4},33]
["307-150-501-0",0,0,25,25,0,{"$nulls":4},25]
["307-150-606-0",0,0,1,1,0,{"$nulls":4},1]
["307-150-607-0",0,0,47,47,0,{"$nulls":4},47]
["307-150-804-0",0,0,64,64,0,{"$nulls":4},64]
["307-150-903-0",0,0,0,0,0,{"$nulls":4},0]
["307-150-904-0",0,0,16,16,0,{"$nulls":4},16]
["307-151-102-0",0,0,0,0,0,{"$nulls":4},0]
["307-151-201-0",0,0,0,0,0,{"$nulls":4},0]
["307-151-701-0",0,0,5,5,0,{"$nulls":4},5]
["307-151-902-0",0,0,11,11,0,{"$nulls":4},11]
["307-152-202-0",0,0,35,35,0,{"$nulls":4},35]
["307-152-203-0",0,0,0,0,0,{"$nulls":4},0]
["307-152-503-0",0,0,37,37,0,{"$nulls":4},37]
["307-152-703-0",0,0,27,27,0,{"$nulls":4},27]
["307-152-802-0",0,0,1,1,0,{"$nulls":4},1]
["307-152-902-0",0,0,0,0,0,{"$nulls":4},0]
["307-153-001-0",0,0,0,0,0,{"$nulls":4},0]
["307-153-102-0",0,0,1,1,0,{"$nulls":4},1]
["307-153-201-0",0,0,3,3,0,{"$nulls":4},3]
["307-153-302-0",0,0,9,9,0,{"$nulls":4},9]
["307-153-503-0",0,0,5,5,0,{"$nulls":4},5]
["307-153-702-0",0,0,2,2,0,{"$nulls":4},2]
["307-153-801-0",0,0,14,14,0,{"$nulls":4},14]
["307-153-901-0",0,0,16,16,0,{"$nulls":4},16]
["307-154-001-0",0,0,50,50,0,{"$nulls":4},50]
["307-154-101-0",0,0,52,52,0,{"$nulls":4},52]
["307-154-201-0",0,0,71,71,0,{"$nulls":4},71]
["307-154-302-0",0,0,2,2,0,{"$nulls":4},2]
["307-154-405-0",0,0,35,35,0,{"$nulls":4},35]
["307-154-605-0",0,0,18,18,0,{"$nulls":4},18]
["307-154-702-0",0,0,117,117,0,{"$nulls":4},117]
["307-154-802-0",0,0,85,{"$f":"(K645+B645)-C645","v":85},{"$f":"D645-E645","v":0},{"$nulls":4},85]
["307-154-904-0",0,0,19,19,0,{"$nulls":4},19]
["307-155-004-0",0,0,71,71,0,{"$nulls":4},71]
["307-155-902-0",0,0,6,6,0,{"$nulls":4},6]
["307-156-101-0",0,3,31,31,0,{"$nulls":4},34]
["307-156-201-0",0,0,118,118,0,{"$nulls":4},118]
["307-156-301-0",0,0,1,1,0,{"$nulls":4},1]
["307-156-604-0",0,0,3,3,0,{"$nulls":4},3]
["307-156-703-0",0,0,18,18,0,{"$nulls":4},18]
["307-157-502-0",0,0,0,0,0,{"$nulls":4},0]
["307-157-503-0",1,0,15,15,0,{"$nulls":4},14]
["307-157-903-0",0,0,26,26,0,{"$nulls":4},26]
["307-158-003-0",0,0,14,14,0,{"$nulls":4},14]
["307-158-103-0",0,0,16,16,0,{"$nulls":4},16]
["307-158-203-0",0,0,43,43,0,{"$nulls":4},43]
["307-160-101-0",0,0,0,0,0,{"$nulls":4},0]
["307-160-102-0",0,0,0,0,0,{"$nulls":4},0]
["307-160-201-0",0,0,0,0,0,{"$nulls":4},0]
["307-160-202-0",0,0,0,0,0,{"$nulls":4},0]
["307-161-103-6",0,0,0,0,0,{"$nulls":4},0]
["307-161-105-6",0,0,100,100,0,{"$nulls":4},100]
["307-161-203-0",0,0,4,4,0,{"$nulls":4},4]
["307-162-103-0",0,0,16,16,0,{"$nulls":4},16]
["307-162-202-0",0,0,89,89,0,{"$nulls":4},89]
["307-162-502-0",0,0,2,2,0,{"$nulls":4},2]
["307-162-702-0",0,0,38,38,0,{"$nulls":4},38]
["307-163-303-0",0,4,0,0,0,{"$nulls":4},4]
["307-164-402-0",0,0,0,0,0,{"$nulls":4},0]
["307-164-403-0",0,0,0,0,0,{"$nulls":4},0]
["307-164-502-0",0,0,0,0,0,{"$nulls":4},0]
["307-164-503-0",0,0,0,0,0,{"$nulls":4},0]
["307-164-604-0",0,0,0,0,0,{"$nulls":4},0]
["307-164-605-0",0,0,300,300,0,{"$nulls":4},300]
["307-164-702-0",0,0,0,0,0,{"$nulls":4},0]
["307-166-807-6",0,0,71,71,0,{"$nulls":4},71]
["307-166-857-6",0,0,80,80,0,{"$nulls":4},80]
["307-166-907-6",0,0,194,194,0,{"$nulls":4},194]
["307-167-003-6",0,0,25,25,0,{"$nulls":4},25]
["307-168-303-6",0,0,12,12,0,{"$nulls":4},12]
["307-168-403-6",0,0,12,12,0,{"$nulls":4},12]
["307-168-502-0",0,0,15,15,0,{"$nulls":4},15]
["307-170-401-0",0,0,56,56,0,{"$nulls":4},56]
["307-170-501-0",0,0,40,40,0,{"$nulls":4},40]
["307-172-556-6",0,0,0,0,0,{"$nulls":4},0]
["307-175-212-0",0,0,0,0,0,{"$nulls":4},0]
["307-179-401-0",0,0,0,0,0,{"$nulls":4},0]
["307-179-402-0",0,0,0,0,0,{"$nulls":4},0]
["307-179-502-0",0,0,0,0,0,{"$nulls":4},0]
["307-180-002-0",0,0,324,324,0,{"$nulls":4},324]
["307-180-102-0",0,0,354,354,0,{"$nulls":4},354]
["307-182-604-0",0,0,2,2,0,{"$nulls":4},2]
["307-182-607-0",0,0,0,0,0,{"$nulls":4},0]
["307-183-101-0",0,0,50,50,0,{"$nulls":4},50]
["307-183-202-0",0,0,50,50,0,{"$nulls":4},50]
["307-183-203-0",0,0,0,0,0,{"$nulls":4},0]
["307-183-302-0",0,0,40,40,0,{"$nulls":4},40]
["307-183-303-0",0,0,0,0,0,{"$nulls":4},0]
["307-183-402-0",0,0,30,30,0,{"$nulls":4},30]
["307-183-403-0",0,0,0,0,0,{"$nulls":4},0]
["307-183-701-0",0,0,82,82,0,{"$nulls":4},82]
["307-184-837-0",0,0,33,33,0,{"$nulls":4},33]
["307-184-838-0",0,0,11,11,0,{"$nulls":4},11]
["307-185-702-0",0,0,500,500,0,{"$nulls":4},500]
["307-185-702-6",0,0,70,70,0,{"$nulls":4},70]
["307-185-704-6",0,25,1201,{"$f":"(K709+B709)-C709","v":1201},{"$f":"D709-E709","v":0},{"$nulls":4},1226]
["307-185-902-0",0,0,300,300,0,{"$nulls":4},300]
["307-185-902-6",0,0,166,166,0,{"$nulls":4},166]
["307-185-904-6",0,0,376,376,0,{"$nulls":4},376]
["307-186-105-0",0,0,0,0,0,{"$nulls":4},0]
["307-186-106-0",0,0,4,4,0,{"$nulls":4},4]
["307-186-404-0",0,0,0,0,0,{"$nulls":4},0]
["307-186-405-0",0,0,0,0,0,{"$nulls":4},0]
["307-186-601-0",0,1,76,76,0,{"$nulls":4},77]
["307-186-701-0",0,1,21,21,0,{"$nulls":4},22]
["307-186-801-0",0,0,22,22,0,{"$nulls":4},22]
["307-186-802-0",0,0,0,0,0,{"$nulls":4},0]
["307-187-001-0",0,0,29,29,0,{"$nulls":4},29]
["307-187-101-0",0,0,42,42,0,{"$nulls":4},42]
["307-187-801-6",0,1,53,53,0,{"$nulls":4},54]
["307-187-901-0",0,0,8,8,0,{"$nulls":4},8]
["307-188-001-0",0,0,10,10,0,{"$nulls":4},10]
["307-188-101-0",0,0,11,11,0,{"$nulls":4},11]
["307-188-201-0",0,0,5,5,0,{"$nulls":4},5]
["307-188-501-0",0,0,259,259,0,{"$nulls":4},259]
["307-188-603-0",0,0,6,6,0,{"$nulls":4},6]
["307-188-702-0",0,0,0,0,0,{"$nulls":4},0]
["307-188-703-0",0,0,6,6,0,{"$nulls":4},6]
["307-188-901-0",0,0,8,8,0,{"$nulls":4},8]
["307-189-001-0",0,0,6,6,0,{"$nulls":4},6]
["307-189-102-0",0,0,10,10,0,{"$nulls":4},10]
["307-189-201-0",0,0,9,9,0,{"$nulls":4},9]
["307-189-501-0",0,0,10,10,0,{"$nulls":4},10]
["307-190-001-0",0,0,4,4,0,{"$nulls":4},4]
["307-190-201-0",0,0,4,4,0,{"$nulls":4},4]
["307-190-401-0",0,1,178,178,0,{"$nulls":4},179]
["307-190-501-0",0,0,15,15,0,{"$nulls":4},15]
["307-190-703-0",0,0,23,23,0,{"$nulls":4},23]
["307-190-901-0",0,0,27,27,0,{"$nulls":4},27]
["307-191-001-0",0,0,12,12,0,{"$nulls":4},12]
["307-191-103-0",0,0,0,0,0,{"$nulls":4},0]
["307-191-104-0",0,0,4,4,0,{"$nulls":4},4]
["307-191-105-0",0,0,11,11,0,{"$nulls":4},11]
["307-191-301-0",0,0,6,6,0,{"$nulls":4},6]
["307-191-401-0",0,0,32,32,0,{"$nulls":4},32]
["307-191-601-0",0,0,51,51,0,{"$nulls":4},51]
["307-192-101-0",0,0,8,8,0,{"$nulls":4},8]
["307-192-201-0",0,0,40,40,0,{"$nulls":4},40]
["307-192-303-0",0,0,4,4,0,{"$nulls":4},4]
["307-192-402-0",0,0,21,21,0,{"$nulls":4},21]
["307-192-501-0",0,0,30,30,0,{"$nulls":4},30]
["307-192-801-0",0,0,1,1,0,{"$nulls":4},1]
["307-192-902-0",0,0,8,8,0,{"$nulls":4},8]
["307-193-001-0",0,0,14,14,0,{"$nulls":4},14]
["307-193-101-0",0,0,2,2,0,{"$nulls":4},2]
["307-193-401-0",0,1,7,7,0,{"$nulls":4},8]
["307-193-501-0",0,0,30,30,0,{"$nulls":4},30]
["307-193-701-0",0,0,25,25,0,{"$nulls":4},25]
["307-193-801-0",0,0,10,10,0,{"$nulls":4},10]
["307-193-901-0",0,0,11,11,0,{"$nulls":4},11]
["307-194-202-0",0,1,30,30,0,{"$nulls":4},31]
["307-194-402-0",0,0,6,6,0,{"$nulls":4},6]
["307-194-403-0",0,0,0,0,0,{"$nulls":4},0]
["307-206-905-0",0,0,0,0,0,{"$nulls":4},0]
["307-207-202-0",0,0,2,2,0,{"$nulls":4},2]
["307-207-305-0",0,0,0,0,0,{"$nulls":4},0]
["307-207-308-0",0,0,1,1,0,{"$nulls":4},1]
["307-207-312-0",0,0,1,1,0,{"$nulls":4},1]
["307-207-702-0",0,0,671,671,0,{"$nulls":4},671]
["307-207-802-0",0,0,1277,{"$f":"(K773+B773)-C773","v":1277},{"$f":"D773-E773","v":0},{"$nulls":4},1277]
["307-208-301-0",0,0,504,504,0,{"$nulls":4},504]
["307-209-202-0",0,0,108,108,0,{"$nulls":4},108]
["307-209-301-0",0,0,0,0,0,{"$nulls":4},0]
["307-209-303-0",0,0,65,65,0,{"$nulls":4},65]
["307-209-702-0",0,3,142,142,0,{"$nulls":4},145]
["307-210-572-0",0,0,0,0,0,{"$nulls":4},0]
["307-210-573-0",0,0,0,0,0,{"$nulls":4},0]
["307-210-803-0",0,0,0,0,0,{"$nulls":4},0]
["307-210-903-0",0,0,0,0,0,{"$nulls":4},0]
["307-212-603-0",0,0,9,9,0,{"$nulls":4},9]
["307-214-401-0",0,0,0,0,0,{"$nulls":4},0]
["307-214-402-0",0,0,13,13,0,{"$nulls":4},13]
["307-214-501-0",0,0,0,0,0,{"$nulls":4},0]
["307-214-502-0",0,0,21,21,0,{"$nulls":4},21]
["307-214-601-0",2,0,4,4,0,{"$nulls":4},2]
["307-214-701-0",2,0,5,5,0,{"$nulls":4},3]
["307-214-801-0",0,0,3,3,0,{"$nulls":4},3]
["307-214-901-0",0,0,0,0,0,{"$nulls":4},0]
["307-214-902-0",0,0,3,3,0,{"$nulls":4},3]
["307-215-001-0",0,0,8,8,0,{"$nulls":4},8]
["307-215-501-0",0,0,0,0,0,{"$nulls":4},0]
["307-215-801-0",0,0,48,48,0,{"$nulls":4},48]
["307-216-102-0",0,0,40,40,0,{"$nulls":4},40]
["307-216-202-0",0,0,40,40,0,{"$nulls":4},40]
["307-216-301-0",0,0,0,0,0,{"$nulls":4},0]
["307-216-401-0",0,0,0,0,0,{"$nulls":4},0]
["307-216-501-0",0,0,232,232,0,{"$nulls":4},232]
["307-219-202-0",0,0,0,0,0,{"$nulls":4},0]
["307-219-202-6",0,0,0,0,0,{"$nulls":4},0]
["307-219-801-0",0,0,1,1,0,{"$nulls":4},1]
["307-220-401-0",0,0,8,8,0,{"$nulls":4},8]
["307-220-802-0",0,0,9,9,0,{"$nulls":4},9]
["307-221-301-0",0,0,0,0,0,{"$nulls":4},0]
["307-221-304-0",0,0,0,0,0,{"$nulls":4},0]
["307-221-305-0",0,0,83,83,0,{"$nulls":4},83]
["307-221-501-0",0,0,0,0,0,{"$nulls":4},0]
["307-221-504-0",0,0,0,0,0,{"$nulls":4},0]
["307-221-902-0",0,0,18,18,0,{"$nulls":4},18]
["307-222-602-6",10,0,59,59,0,{"$nulls":4},49]
["307-223-802-6",0,0,14,14,0,{"$nulls":4},14]
["307-226-302-0",4,0,18,18,0,{"$nulls":4},14]
["307-227-403-0",0,0,2,2,0,{"$nulls":4},2]
["307-229-001-0",0,0,7,7,0,{"$nulls":4},7]
["307-230-601-6",0,0,0,0,0,{"$nulls":4},0]
["307-230-602-6",0,64,89,89,0,{"$nulls":4},153]
["307-230-701-6",0,0,0,0,0,{"$nulls":4},0]
["307-230-702-6",2,2,18,18,0,{"$nulls":4},18]
["307-230-801-6",0,0,0,0,0,{"$nulls":4},0]
["307-230-802-6",0,6,16,16,0,{"$nulls":4},22]
["307-230-901-6",0,0,0,0,0,{"$nulls":4},0]
["307-230-902-6",0,19,236,236,0,{"$nulls":4},255]
["307-231-003-0",0,0,0,0,0,{"$nulls":4},0]
["307-231-003-6",0,248,2644,2644,0,{"$nulls":4},2892]
["307-231-103-6",0,1,194,194,0,{"$nulls":4},195]
["307-231-203-6",0,2,141,141,0,{"$nulls":4},143]
["307-231-303-6",0,57,1395,1395,0,{"$nulls":4},1452]
["307-231-403-6",0,113,8292,8292,0,{"$nulls":4},8405]
["307-231-503-6",0,1,179,179,0,{"$nulls":4},180]
["307-231-603-6",0,2,481,481,0,{"$nulls":4},483]
["307-231-703-6",0,17,1019,1019,0,{"$nulls":4},1036]
["307-231-803-6",0,140,6518,6518,0,{"$nulls":4},6658]
["307-231-901-0",0,0,0,0,0,{"$nulls":4},0]
["307-231-903-6",0,6,197,197,0,{"$nulls":4},203]
["307-232-003-6",0,3,215,{"$f":"(K837+B837)-C837","v":215},{"$f":"D837-E837","v":0},{"$nulls":4},218]
["307-232-103-6",0,53,2491,2491,0,{"$nulls":4},2544]
["307-232-207-0",0,0,0,0,0,{"$nulls":4},0]
["307-232-210-0",0,0,0,0,0,{"$nulls":4},0]
["307-232-214-0",1,0,4,4,0,{"$nulls":4},3]
["307-232-302-0",0,45,1876,1876,0,{"$nulls":4},1921]
["307-232-401-0",0,440,10927,10927,0,{"$nulls":4},11367]
["307-232-606-0",600,124,1631,1631,0,{"$nulls":4},1155]
["307-232-901-0",0,205,139,139,0,{"$nulls":4},344]
["307-233-207-0",0,0,0,0,0,{"$nulls":4},0]
["307-233-207-6",0,0,0,0,0,{"$nulls":4},0]
["307-233-304-0",0,0,0,0,0,{"$nulls":4},0]
["307-233-304-6",0,0,29,29,0,{"$nulls":4},29]
["307-233-404-6",0,0,0,0,0,{"$nulls":4},0]
["307-233-801-0",5000,368,12675,12675,0,{"$nulls":4},8043]
["307-234-201-0",0,0,0,0,0,{"$nulls":4},0]
["307-234-202-0",2,0,15,15,0,{"$nulls":4},13]
["307-234-411-0",0,0,1,1,0,{"$nulls":4},1]
["307-235-507-0",0,0,0,0,0,{"$nulls":4},0]
["307-235-509-0",0,0,2,2,0,{"$nulls":4},2]
["307-235-514-0",0,0,0,0,0,{"$nulls":4},0]
["307-235-515-0",0,0,253,253,0,{"$nulls":4},253]
["307-235-602-0",0,0,106,106,0,{"$nulls":4},106]
["307-235-902-0",0,0,93,93,0,{"$nulls":4},93]
["307-236-002-0",0,0,0,0,0,{"$nulls":4},0]
["307-236-202-0",0,0,40,40,0,{"$nulls":4},40]
["307-236-303-0",0,0,129,129,0,{"$nulls":4},129]
["307-236-405-0",0,0,6,6,0,{"$nulls":4},6]
["307-236-421-0",0,0,5,5,0,{"$nulls":4},5]
["307-236-601-0",0,0,0,0,0,{"$nulls":4},0]
["307-236-702-0",0,0,192,192,0,{"$nulls":4},192]
["307-236-802-0",0,0,42,42,0,{"$nulls":4},42]
["307-237-118-0",0,0,0,0,0,{"$nulls":4},0]
["307-237-121-0",0,0,0,0,0,{"$nulls":4},0]
["307-237-125-0",0,0,0,0,0,{"$nulls":4},0]
["307-238-101-0",0,0,27,27,0,{"$nulls":4},27]
["307-240-002-0",0,0,589,589,0,{"$nulls":4},589]
["307-240-107-0",120,0,184,304,-120,{"$nulls":4},184]
["307-243-001-0",0,0,1,1,0,{"$nulls":4},1]
["307-243-507-0",0,0,0,0,0,{"$nulls":4},0]
["307-243-508-0",0,0,0,0,0,{"$nulls":4},0]
["307-243-509-0",0,0,0,0,0,{"$nulls":4},0]
["307-243-801-6",0,0,0,0,0,{"$nulls":4},0]
["307-243-901-6",0,0,0,0,0,{"$nulls":4},0]
["307-244-001-0",0,0,310,310,0,{"$nulls":4},310]
["307-244-101-0",0,0,180,180,0,{"$nulls":4},180]
["307-244-201-0",0,0,21,21,0,{"$nulls":4},21]
["307-244-301-0",0,0,4,4,0,{"$nulls":4},4]
["307-245-701-0",0,0,0,0,0,{"$nulls":4},0]
["307-245-721-0",0,0,0,0,0,{"$nulls":4},0]
["307-245-722-0",0,0,21,21,0,{"$nulls":4},21]
["307-245-802-0",0,0,0,0,0,{"$nulls":4},0]
["307-245-803-0",0,0,0,0,0,{"$nulls":4},0]
["307-245-852-0",0,0,0,0,0,{"$nulls":4},0]
["307-245-855-0",0,0,0,0,0,{"$nulls":4},0]
["307-245-902-0",0,0,0,0,0,{"$nulls":4},0]
["307-245-952-0",0,0,15,15,0,{"$nulls":4},15]
["307-246-301-0",0,0,0,0,0,{"$nulls":4},0]
["307-246-701-0",0,0,0,0,0,{"$nulls":4},0]
["307-246-801-0",0,0,0,0,0,{"$nulls":4},0]
["307-246-851-0",0,0,23,23,0,{"$nulls":4},23]
["307-246-901-0",0,0,0,0,0,{"$nulls":4},0]
["307-246-951-0",0,0,116,116,0,{"$nulls":4},116]
["307-249-202-0",0,0,0,0,0,{"$nulls":4},0]
["307-249-302-0",0,0,0,{"$f":"(K901+B901)-C901","v":0},{"$f":"D901-E901","v":0},{"$nulls":4},0]
["307-249-402-0",0,0,0,0,0,{"$nulls":4},0]
["307-250-118-0",0,0,0,0,0,{"$nulls":4},0]
["307-250-505-0",0,0,0,0,0,{"$nulls":4},0]
["307-250-507-0",60,3,116,116,0,{"$nulls":4},59]
["307-250-605-0",0,0,0,0,0,{"$nulls":4},0]
["307-250-605-6",0,4,100,100,0,{"$nulls":4},104]
["307-250-903-0",0,4,97,97,0,{"$nulls":4},101]
["307-251-304-0",0,0,0,0,0,{"$nulls":4},0]
["307-251-305-0",0,2,35,35,0,{"$nulls":4},37]
["307-251-402-0",0,0,0,0,0,{"$nulls":4},0]
["307-251-409-0",28,3,112,112,0,{"$nulls":4},87]
["307-251-505-0",0,4,110,110,0,{"$nulls":4},114]
["307-251-601-0",0,36,2943,2943,0,{"$nulls":4},2979]
["307-251-704-0",0,0,0,0,0,{"$nulls":4},0]
["307-251-705-0",0,2,29,29,0,{"$nulls":4},31]
["307-254-301-0",0,24,1449,1449,0,{"$nulls":4},1473]
["307-254-702-6",0,6,28,28,0,{"$nulls":4},34]
["307-255-201-0",0,0,142,142,0,{"$nulls":4},142]
["307-260-002-0",0,0,35,35,0,{"$nulls":4},35]
["307-264-510-6",1,3,26,26,0,{"$nulls":4},28]
["307-264-702-0",0,0,0,0,0,{"$nulls":4},0]
["307-264-703-0",0,0,0,0,0,{"$nulls":4},0]
["307-264-704-0",0,0,0,0,0,{"$nulls":4},0]
["307-264-706-0",0,0,2,2,0,{"$nulls":4},2]
["307-265-003-0",0,0,0,0,0,{"$nulls":4},0]
["307-265-003-6",0,6,35,35,0,{"$nulls":4},41]
["307-265-302-0",0,0,33,33,0,{"$nulls":4},33]
["307-265-704-0",0,0,6,6,0,{"$nulls":4},6]
["307-265-802-0",0,0,3,3,0,{"$nulls":4},3]
["307-265-902-0",0,0,4,4,0,{"$nulls":4},4]
["307-266-001-0",0,0,42,42,0,{"$nulls":4},42]
["307-266-501-0",0,0,6,6,0,{"$nulls":4},6]
["307-266-601-0",0,0,0,0,0,{"$nulls":4},0]
["307-266-702-0",0,2,25,25,0,{"$nulls":4},27]
["307-266-901-0",0,0,27,27,0,{"$nulls":4},27]
["307-267-102-0",0,0,0,0,0,{"$nulls":4},0]
["307-267-103-0",0,4,43,43,0,{"$nulls":4},47]
["307-267-202-0",0,0,0,0,0,{"$nulls":4},0]
["307-267-202-6",0,4,64,64,0,{"$nulls":4},68]
["307-268-602-0",0,1,29,29,0,{"$nulls":4},30]
["307-268-802-0",0,4,132,132,0,{"$nulls":4},136]
["307-269-501-0",0,0,0,0,0,{"$nulls":4},0]
["307-269-502-0",0,0,0,0,0,{"$nulls":4},0]
["307-269-503-0",0,0,90,90,0,{"$nulls":4},90]
["307-269-701-0",0,0,0,0,0,{"$nulls":4},0]
["307-269-711-0",0,0,29,29,0,{"$nulls":4},29]
["307-269-721-0",0,0,0,0,0,{"$nulls":4},0]
["307-269-731-0",0,0,167,167,0,{"$nulls":4},167]
["307-269-741-0",0,0,30,30,0,{"$nulls":4},30]
["307-269-902-0",0,4,91,91,0,{"$nulls":4},95]
["307-270-001-0",0,2,0,0,0,{"$nulls":4},2]
["307-270-101-0",0,0,18,18,0,{"$nulls":4},18]
["307-270-201-0",0,0,63,63,0,{"$nulls":4},63]
["307-270-301-0",0,0,80,80,0,{"$nulls":4},80]
["307-270-601-0",0,6,589,589,0,{"$nulls":4},595]
["307-270-801-0",0,16,6,6,0,{"$nulls":4},22]
["307-270-901-0",0,12,157,157,0,{"$nulls":4},169]
["307-272-602-0",0,0,0,0,0,{"$nulls":4},0]
["307-272-603-0",0,0,0,0,0,{"$nulls":4},0]
["307-272-604-0",0,0,0,0,0,{"$nulls":4},0]
["307-272-605-0",0,0,3,3,0,{"$nulls":4},3]
["307-272-801-0",0,0,18,18,0,{"$nulls":4},18]
["307-273-301-0",0,2,97,97,0,{"$nulls":4},99]
["307-273-901-0",0,0,195,{"$f":"(K965+B965)-C965","v":195},{"$f":"D965-E965","v":0},{"$nulls":4},195]
["307-273-902-0",0,0,307,307,0,{"$nulls":4},307]
["307-274-301-0",0,0,0,0,0,{"$nulls":4},0]
["307-274-302-0",0,4,101,101,0,{"$nulls":4},105]
["307-274-701-0",0,0,3,3,0,{"$nulls":4},3]
["307-274-801-0",0,0,453,453,0,{"$nulls":4},453]
["307-274-901-0",0,0,53,53,0,{"$nulls":4},53]
["307-275-001-0",0,0,9,9,0,{"$nulls":4},9]
["307-279-401-0",4,0,29,29,0,{"$nulls":4},25]
["307-279-501-6",0,0,0,0,0,{"$nulls":4},0]
["307-279-502-6",0,4,29,29,0,{"$nulls":4},33]
["307-279-601-6",0,0,0,0,0,{"$nulls":4},0]
["307-279-602-6",0,20,405,405,0,{"$nulls":4},425]
["307-279-701-6",0,0,0,0,0,{"$nulls":4},0]
["307-279-702-6",0,4,35,35,0,{"$nulls":4},39]
["307-281-101-6",0,0,0,0,0,{"$nulls":4},0]
["307-281-102-6",0,0,176,176,0,{"$nulls":4},176]
["307-281-201-6",0,0,0,0,0,{"$nulls":4},0]
["307-281-202-6",0,4,57,57,0,{"$nulls":4},61]
["307-281-301-6",0,0,0,0,0,{"$nulls":4},0]
["307-281-302-6",0,12,91,91,0,{"$nulls":4},103]
["307-281-401-6",0,0,0,0,0,{"$nulls":4},0]
["307-281-402-6",0,4,36,36,0,{"$nulls":4},40]
["307-281-501-6",0,0,33,33,0,{"$nulls":4},33]
["307-281-601-6",0,12,83,83,0,{"$nulls":4},95]
["307-281-701-6",0,5,56,56,0,{"$nulls":4},61]
["307-282-001-0",120,84,1159,1159,0,{"$nulls":4},1123]
["307-282-101-0",0,60,1380,1380,0,{"$nulls":4},1440]
["307-282-201-0",0,1,109,109,0,{"$nulls":4},110]
["307-282-401-0",0,0,12,12,0,{"$nulls":4},12]
["307-797-902-0",0,0,0,0,0,{"$nulls":4},0]
["307-798-105-0",0,0,0,0,0,{"$nulls":4},0]
["307-798-203-0",0,0,0,0,0,{"$nulls":4},0]
["307-800-206-0",0,0,2,2,0,{"$nulls":4},2]
["307-801-805-0",0,1,1,1,0,{"$nulls":4},2]
["307-802-303-0",0,0,8,8,0,{"$nulls":4},8]
["307-803-702-0",0,0,15,15,0,{"$nulls":4},15]
["307-804-001-0",0,0,6,6,0,{"$nulls":4},6]
["307-804-203-0",0,0,3,3,0,{"$nulls":4},3]
["307-804-501-0",0,0,6,6,0,{"$nulls":4},6]
["307-804-701-0",0,0,6,6,0,{"$nulls":4},6]
["307-804-901-0",0,0,15,15,0,{"$nulls":4},15]
["307-805-407-0",0,0,6,6,0,{"$nulls":4},6]
["307-806-308-0",0,0,24,24,0,{"$nulls":4},24]
["307-810-601-0",0,0,1,1,0,{"$nulls":4},1]
["307-810-701-0",0,0,45,45,0,{"$nulls":4},45]
["307-811-305-0",0,0,0,0,0,{"$nulls":4},0]
["307-811-308-0",0,0,11,11,0,{"$nulls":4},11]
["307-811-706-0",0,0,10,10,0,{"$nulls":4},10]
["307-811-904-0",0,0,5,5,0,{"$nulls":4},5]
["307-812-003-0",0,0,15,15,0,{"$nulls":4},15]
["307-812-206-0",0,0,5,5,0,{"$nulls":4},5]
["307-812-305-0",0,0,4,4,0,{"$nulls":4},4]
["307-812-501-0",1,1,14,14,0,{"$nulls":4},14]
["307-812-601-0",0,0,25,25,0,{"$nulls":4},25]
["307-813-302-0",0,8,50,50,0,{"$nulls":4},58]
["307-813-603-0",0,0,14,14,0,{"$nulls":4},14]
["307-814-105-0",0,0,11,11,0,{"$nulls":4},11]
["307-814-604-0",0,0,5,5,0,{"$nulls":4},5]
["307-814-707-0",0,0,6,6,0,{"$nulls":4},6]
["307-815-001-0",0,0,1,1,0,{"$nulls":4},1]
["307-817-304-0",0,0,13,13,0,{"$nulls":4},13]
["307-817-505-0",0,0,8,8,0,{"$nulls":4},8]
["307-817-604-0",0,0,28,28,0,{"$nulls":4},28]
["307-818-005-0",0,0,7,{"$f":"(K1029+B1029)-C1029","v":7},{"$f":"D1029-E1029","v":0},{"$nulls":4},7]
["307-824-804-0",0,0,9,9,0,{"$nulls":4},9]
["307-826-902-0",1,0,9,9,0,{"$nulls":4},8]
["307-827-411-0",0,0,0,0,0,{"$nulls":4},0]
["307-827-413-0",18,0,24,24,0,{"$nulls":4},6]
["307-827-501-0",0,0,9,9,0,{"$nulls":4},9]
["307-827-802-0",0,0,10,10,0,{"$nulls":4},10]
["307-831-305-0",0,0,24,24,0,{"$nulls":4},24]
["307-831-903-0",0,0,13,13,0,{"$nulls":4},13]
["307-833-702-0",0,0,12,12,0,{"$nulls":4},12]
["307-833-904-0",0,0,11,11,0,{"$nulls":4},11]
["307-834-905-0",0,0,20,20,0,{"$nulls":4},20]
["307-835-006-0",0,0,14,14,0,{"$nulls":4},14]
["307-835-704-0",0,1,0,0,0,{"$nulls":4},1]
["307-836-205-0",0,0,13,13,0,{"$nulls":4},13]
["307-836-305-0",0,0,7,7,0,{"$nulls":4},7]
["307-836-405-0",0,0,9,9,0,{"$nulls":4},9]
["307-836-502-0",0,0,27,27,0,{"$nulls":4},27]
["307-836-603-0",0,0,11,11,0,{"$nulls":4},11]
["307-836-702-0",0,0,9,9,0,{"$nulls":4},9]
["307-836-804-0",0,0,8,8,0,{"$nulls":4},8]
["307-836-903-0",0,1,16,16,0,{"$nulls":4},17]
["307-837-003-0",0,0,6,6,0,{"$nulls":4},6]
["307-837-102-0",0,0,12,12,0,{"$nulls":4},12]
["307-837-202-0",0,0,7,7,0,{"$nulls":4},7]
["307-837-403-0",0,0,10,10,0,{"$nulls":4},10]
["307-837-703-0",0,0,4,4,0,{"$nulls":4},4]
["307-838-006-0",0,0,4,4,0,{"$nulls":4},4]
["307-839-403-0",0,0,9,9,0,{"$nulls":4},9]
["307-839-405-0",0,0,18,18,0,{"$nulls":4},18]
["307-839-604-0",0,0,7,7,0,{"$nulls":4},7]
["307-839-803-0",0,0,5,5,0,{"$nulls":4},5]
["307-839-804-0",0,0,4,4,0,{"$nulls":4},4]
["307-839-904-0",0,0,30,30,0,{"$nulls":4},30]
["307-840-406-0",0,0,9,9,0,{"$nulls":4},9]
["307-840-704-0",0,0,7,7,0,{"$nulls":4},7]
["307-840-805-0",0,0,3,3,0,{"$nulls":4},3]
["307-840-903-0",0,0,7,7,0,{"$nulls":4},7]
["307-841-303-0",0,0,9,9,0,{"$nulls":4},9]
["307-841-406-0",0,0,18,18,0,{"$nulls":4},18]
["307-841-504-0",0,0,36,36,0,{"$nulls":4},36]
["307-841-604-0",0,0,6,6,0,{"$nulls":4},6]
["307-841-803-0",0,0,27,27,0,{"$nulls":4},27]
["307-844-103-0",0,0,0,0,0,{"$nulls":4},0]
["307-844-404-0",0,0,2,2,0,{"$nulls":4},2]
["307-844-602-0",0,0,3,3,0,{"$nulls":4},3]
["307-844-803-0",0,0,25,25,0,{"$nulls":4},25]
["307-845-101-0",0,0,5,5,0,{"$nulls":4},5]
["307-845-305-0",0,0,4,4,0,{"$nulls":4},4]
["307-845-504-0",0,0,1,1,0,{"$nulls":4},1]
["307-846-101-0",0,0,1,1,0,{"$nulls":4},1]
["307-846-503-0",0,0,5,5,0,{"$nulls":4},5]
["307-846-702-0",0,0,27,27,0,{"$nulls":4},27]
["307-846-804-0",0,0,6,6,0,{"$nulls":4},6]
["307-847-004-0",0,0,5,5,0,{"$nulls":4},5]
["307-847-504-0",0,0,2,2,0,{"$nulls":4},2]
["307-847-703-0",0,0,6,6,0,{"$nulls":4},6]
["307-848-002-0",0,0,14,14,0,{"$nulls":4},14]
["307-848-206-0",0,0,20,20,0,{"$nulls":4},20]
["307-848-302-0",0,0,5,5,0,{"$nulls":4},5]
["307-848-303-0",0,0,15,15,0,{"$nulls":4},15]
["307-848-405-0",0,0,2,2,0,{"$nulls":4},2]
["307-848-502-0",0,0,4,4,0,{"$nulls":4},4]
["307-848-605-0",0,0,5,5,0,{"$nulls":4},5]
["307-848-703-0",0,0,3,{"$f":"(K1093+B1093)-C1093","v":3},{"$f":"D1093-E1093","v":0},{"$nulls":4},3]
["307-848-804-0",0,0,13,13,0,{"$nulls":4},13]
["307-848-901-0",0,0,19,19,0,{"$nulls":4},19]
["307-849-001-0",0,0,15,15,0,{"$nulls":4},15]
["307-849-101-0",0,0,17,17,0,{"$nulls":4},17]
["307-849-205-0",0,0,4,4,0,{"$nulls":4},4]
["307-849-305-0",0,0,5,5,0,{"$nulls":4},5]
["307-849-502-0",0,0,5,5,0,{"$nulls":4},5]
["307-849-602-0",0,0,5,5,0,{"$nulls":4},5]
["307-849-703-0",0,0,6,6,0,{"$nulls":4},6]
["307-849-804-0",0,0,10,10,0,{"$nulls":4},10]
["307-850-204-0",0,0,8,8,0,{"$nulls":4},8]
["307-850-303-0",0,0,5,5,0,{"$nulls":4},5]
["307-850-505-0",0,0,0,0,0,{"$nulls":4},0]
["307-850-506-0",0,0,1,1,0,{"$nulls":4},1]
["307-850-508-0",0,0,25,25,0,{"$nulls":4},25]
["307-851-003-0",0,0,5,5,0,{"$nulls":4},5]
["307-851-005-0",0,0,2,2,0,{"$nulls":4},2]
["307-851-403-0",0,0,3,3,0,{"$nulls":4},3]
["307-851-603-0",0,0,6,6,0,{"$nulls":4},6]
["307-851-803-0",0,0,6,6,0,{"$nulls":4},6]
["307-852-003-0",0,0,5,5,0,{"$nulls":4},5]
["307-861-502-0",0,0,7,7,0,{"$nulls":4},7]
["307-861-704-0",0,0,14,14,0,{"$nulls":4},14]
["307-862-401-0",0,0,1,1,0,{"$nulls":4},1]
["307-862-804-0",0,0,5,5,0,{"$nulls":4},5]
["307-862-805-0",0,0,10,10,0,{"$nulls":4},10]
["307-862-901-0",0,0,5,5,0,{"$nulls":4},5]
["307-863-205-0",0,0,3,3,0,{"$nulls":4},3]
["307-863-704-0",0,0,5,5,0,{"$nulls":4},5]
["307-865-106-0",0,0,0,0,0,{"$nulls":4},0]
["307-867-201-0",0,0,10,10,0,{"$nulls":4},10]
["307-868-903-0",0,0,2,2,0,{"$nulls":4},2]
["307-870-001-0",0,0,5,5,0,{"$nulls":4},5]
["307-870-502-0",0,0,19,19,0,{"$nulls":4},19]
["307-872-701-0",0,0,6,6,0,{"$nulls":4},6]
["307-873-202-0",0,0,7,7,0,{"$nulls":4},7]
["307-873-401-0",0,0,20,20,0,{"$nulls":4},20]
["307-873-601-0",0,0,20,20,0,{"$nulls":4},20]
["307-873-801-0",0,0,2,2,0,{"$nulls":4},2]
["307-874-602-0",0,0,18,18,0,{"$nulls":4},18]
["307-874-901-0",0,0,9,9,0,{"$nulls":4},9]
["307-875-202-0",0,0,5,5,0,{"$nulls":4},5]
["307-875-301-0",0,0,4,4,0,{"$nulls":4},4]
["307-875-501-0",0,0,6,6,0,{"$nulls":4},6]
["307-875-701-0",0,0,17,17,0,{"$nulls":4},17]
["307-875-901-0",0,0,4,4,0,{"$nulls":4},4]
["307-875-902-0",0,0,74,74,0,{"$nulls":4},74]
["307-876-102-0",0,0,3,3,0,{"$nulls":4},3]
["307-876-302-0",0,0,14,14,0,{"$nulls":4},14]
["307-876-501-0",0,0,13,13,0,{"$nulls":4},13]
["307-876-901-0",0,0,5,5,0,{"$nulls":4},5]
["307-877-501-0",0,0,2,2,0,{"$nulls":4},2]
["307-877-801-0",0,0,4,4,0,{"$nulls":4},4]
["307-878-001-0",0,0,10,10,0,{"$nulls":4},10]
["307-878-401-0",0,0,3,3,0,{"$nulls":4},3]
["307-878-601-0",0,0,4,4,0,{"$nulls":4},4]
["307-878-702-0",0,0,8,8,0,{"$nulls":4},8]
["307-879-202-0",0,0,2,2,0,{"$nulls":4},2]
["307-879-305-0",0,0,0,0,0,{"$nulls":4},0]
["307-879-306-0",0,0,15,15,0,{"$nulls":4},15]
["307-879-801-0",0,0,11,11,0,{"$nulls":4},11]
["307-880-501-0",0,0,310,310,0,{"$nulls":4},310]
["307-900-304-0",0,0,29,29,0,{"$nulls":4},29]
["307-901-203-0",0,0,2,{"$f":"(K1157+B1157)-C1157","v":2},{"$f":"D1157-E1157","v":0},{"$nulls":4},2]
["307-901-402-0",0,0,67,67,0,{"$nulls":4},67]
["307-901-502-0",0,0,23,23,0,{"$nulls":4},23]
["307-901-603-0",0,0,5,5,0,{"$nulls":4},5]
["307-901-702-0",0,0,32,32,0,{"$nulls":4},32]
["307-901-801-0",0,0,33,33,0,{"$nulls":4},33]
["307-902-107-0",0,2,17,17,0,{"$nulls":4},19]
["307-902-206-0",0,2,2,2,0,{"$nulls":4},4]
["307-902-301-0",0,0,5,5,0,{"$nulls":4},5]
["307-902-302-0",0,0,20,20,0,{"$nulls":4},20]
["307-902-401-0",0,0,12,12,0,{"$nulls":4},12]
["307-902-402-0",0,0,92,92,0,{"$nulls":4},92]
["307-902-503-0",0,0,240,240,0,{"$nulls":4},240]
["307-902-602-0",0,8,17,17,0,{"$nulls":4},25]
["307-903-002-0",0,2,40,40,0,{"$nulls":4},42]
["307-904-201-0",0,0,8,8,0,{"$nulls":4},8]
["307-908-406-0",0,0,9,9,0,{"$nulls":4},9]
["307-908-705-0",0,1,14,14,0,{"$nulls":4},15]
["307-909-009-0",0,0,13,13,0,{"$nulls":4},13]
["307-911-202-0",0,0,4,4,0,{"$nulls":4},4]
["307-911-401-0",0,0,11,11,0,{"$nulls":4},11]
["307-911-501-0",0,0,4,4,0,{"$nulls":4},4]
["307-911-602-0",0,0,111,111,0,{"$nulls":4},111]
["307-911-701-0",0,0,105,105,0,{"$nulls":4},105]
["307-918-201-0",0,0,0,0,0,{"$nulls":4},0]
["307-918-203-0",0,0,3,3,0,{"$nulls":4},3]
["307-924-005-0",0,0,4,4,0,{"$nulls":4},4]
["307-924-205-0",0,0,5,5,0,{"$nulls":4},5]
["307-924-505-0",0,0,3,3,0,{"$nulls":4},3]
["307-924-705-0",0,0,5,5,0,{"$nulls":4},5]
["307-924-905-0",0,0,3,3,0,{"$nulls":4},3]
["307-925-105-0",0,0,27,27,0,{"$nulls":4},27]
["307-925-305-0",0,0,5,5,0,{"$nulls":4},5]
["307-930-802-0",0,9,61,61,0,{"$nulls":4},70]
["307-941-209-0",0,0,1,1,0,{"$nulls":4},1]
["307-941-305-0",0,0,0,0,0,{"$nulls":4},0]
["307-941-307-0",0,0,15,15,0,{"$nulls":4},15]
["307-941-505-0",0,0,4,4,0,{"$nulls":4},4]
["307-942-309-0",0,0,3,3,0,{"$nulls":4},3]
["307-942-408-0",0,0,7,7,0,{"$nulls":4},7]
["307-942-511-0",1,0,4,4,0,{"$nulls":4},3]
["307-942-606-0",0,0,0,0,0,{"$nulls":4},0]
["307-942-608-0",0,0,13,13,0,{"$nulls":4},13]
["307-942-706-0",0,0,6,6,0,{"$nulls":4},6]
["307-942-806-0",0,0,8,8,0,{"$nulls":4},8]
["307-942-908-0",0,0,3,3,0,{"$nulls":4},3]
["307-943-107-0",0,0,37,37,0,{"$nulls":4},37]
["307-943-406-0",0,1,1,1,0,{"$nulls":4},2]
["307-943-509-0",0,0,6,6,0,{"$nulls":4},6]
["307-943-606-0",0,0,3,3,0,{"$nulls":4},3]
["307-943-710-0",0,0,7,7,0,{"$nulls":4},7]
["307-943-807-0",0,0,1,1,0,{"$nulls":4},1]
["307-943-906-0",0,1,11,11,0,{"$nulls":4},12]
["307-944-108-0",0,0,5,5,0,{"$nulls":4},5]
["307-944-205-0",0,0,11,11,0,{"$nulls":4},11]
["307-944-305-0",0,0,3,3,0,{"$nulls":4},3]
["307-944-406-0",0,0,3,3,0,{"$nulls":4},3]
["307-944-506-0",0,0,5,5,0,{"$nulls":4},5]
["307-944-607-0",0,0,8,8,0,{"$nulls":4},8]
["307-944-706-0",0,0,7,7,0,{"$nulls":4},7]
["307-945-010-0",0,0,9,9,0,{"$nulls":4},9]
["307-945-505-0",0,0,4,4,0,{"$nulls":4},4]
["307-946-007-0",0,0,8,8,0,{"$nulls":4},8]
["307-946-106-0",0,0,2,2,0,{"$nulls":4},2]
["307-946-709-0",0,0,1,{"$f":"(K1221+B1221)-C1221","v":1},{"$f":"D1221-E1221","v":0},{"$nulls":4},1]
["307-946-812-0",0,0,0,0,0,{"$nulls":4},0]
["307-946-903-0",0,0,11,11,0,{"$nulls":4},11]
["307-947-003-0",0,0,8,8,0,{"$nulls":4},8]
["307-947-402-0",0,0,8,8,0,{"$nulls":4},8]
["307-947-502-0",0,0,8,8,0,{"$nulls":4},8]
["307-948-103-0",0,0,8,8,0,{"$nulls":4},8]
["307-948-203-0",0,0,8,8,0,{"$nulls":4},8]
["307-948-303-0",0,0,9,9,0,{"$nulls":4},9]
["307-948-404-0",0,0,4,4,0,{"$nulls":4},4]
["307-948-503-0",0,0,8,8,0,{"$nulls":4},8]
["307-948-603-0",0,0,9,9,0,{"$nulls":4},9]
["307-948-906-0",0,0,3,3,0,{"$nulls":4},3]
["307-965-901-0",0,0,26,26,0,{"$nulls":4},26]
["307-966-102-0",0,0,5,5,0,{"$nulls":4},5]
["307-967-901-0",0,0,18,18,0,{"$nulls":4},18]
["307-968-102-0",0,0,4,4,0,{"$nulls":4},4]
["307-968-602-0",0,0,4,4,0,{"$nulls":4},4]
["307-969-102-0",0,0,2,2,0,{"$nulls":4},2]
["307-983-106-0",0,0,4,4,0,{"$nulls":4},4]
["307-985-001-0",0,0,6,6,0,{"$nulls":4},6]
["307-985-101-0",0,0,141,141,0,{"$nulls":4},141]
["307-985-201-0",0,0,101,101,0,{"$nulls":4},101]
["307-985-301-0",0,0,152,152,0,{"$nulls":4},152]
["307-985-401-0",0,0,220,220,0,{"$nulls":4},220]
["307-985-501-0",0,0,68,68,0,{"$nulls":4},68]
["307-985-601-0",0,0,92,92,0,{"$nulls":4},92]
["307-985-701-0",0,0,86,86,0,{"$nulls":4},86]
["307-985-801-0",0,0,245,245,0,{"$nulls":4},245]
["307-986-502-0",0,0,3,3,0,{"$nulls":4},3]
["307-986-503-0",0,0,3,3,0,{"$nulls":4},3]
["307-986-905-0",0,0,3,3,0,{"$nulls":4},3]
["307-987-203-0",0,0,10,10,0,{"$nulls":4},10]
["307-988-308-0",0,0,15,15,0,{"$nulls":4},15]
["307-988-407-0",0,0,4,4,0,{"$nulls":4},4]
["307-989-211-0",0,0,14,14,0,{"$nulls":4},14]
["307-989-902-0",0,0,20,20,0,{"$nulls":4},20]
["307-991-103-0",0,0,310,310,0,{"$nulls":4},310]
["307-994-710-0",0,0,3,3,0,{"$nulls":4},3]
["307-995-206-0",0,0,5,5,0,{"$nulls":4},5]
["307-995-305-0",0,0,9,9,0,{"$nulls":4},9]
["307-996-102-0",0,0,19,19,0,{"$nulls":4},19]
["307-996-602-0",0,0,10,10,0,{"$nulls":4},10]
["307-996-703-0",0,0,5,5,0,{"$nulls":4},5]
["307-997-903-0",0,0,5,5,0,{"$nulls":4},5]
["307-998-303-0",0,0,5,5,0,{"$nulls":4},5]
["307-998-708-0",0,0,2,2,0,{"$nulls":4},2]
["307-998-905-0",0,0,8,8,0,{"$nulls":4},8]
["307-999-101-0",0,0,0,0,0,{"$nulls":4},0]
["307-999-203-0",0,0,0,0,0,{"$nulls":4},0]
["309-001-102-0",0,0,20,20,0,{"$nulls":4},20]
["309-002-501-0",0,0,60,60,0,{"$nulls":4},60]
["309-006-101-0",0,0,20,20,0,{"$nulls":4},20]
["309-006-102-0",0,0,0,0,0,{"$nulls":4},0]
["309-006-202-0",0,0,26,26,0,{"$nulls":4},26]
["309-006-301-0",0,0,13,13,0,{"$nulls":4},13]
["309-006-401-0",0,0,24,24,0,{"$nulls":4},24]
["309-006-701-0",0,0,23,23,0,{"$nulls":4},23]
["309-006-804-0",0,0,0,0,0,{"$nulls":4},0]
["309-006-805-0",0,0,29,29,0,{"$nulls":4},29]
["309-006-902-0",0,0,28,28,0,{"$nulls":4},28]
["309-007-102-6",0,0,38,38,0,{"$nulls":4},38]
["309-007-202-0",0,0,12,12,0,{"$nulls":4},12]
["309-007-311-0",0,0,0,0,0,{"$nulls":4},0]
["309-008-607-0",0,0,0,{"$f":"(K1285+B1285)-C1285","v":0},{"$f":"D1285-E1285","v":0},{"$nulls":4},0]
["309-008-705-0",0,0,0,0,0,{"$nulls":4},0]
["309-009-404-0",0,0,16,16,0,{"$nulls":4},16]
["309-009-902-0",0,0,6,6,0,{"$nulls":4},6]
["309-012-902-0",2,0,22,22,0,{"$nulls":4},20]
["309-013-802-0",0,0,54,54,0,{"$nulls":4},54]
["309-014-201-0",0,0,408,408,0,{"$nulls":4},408]
["309-015-004-0",0,0,1,1,0,{"$nulls":4},1]
["309-015-005-0",0,0,6,6,0,{"$nulls":4},6]
["309-015-006-0",0,0,4,4,0,{"$nulls":4},4]
["309-016-201-0",0,0,10,10,0,{"$nulls":4},10]
["309-016-405-0",0,0,11,11,0,{"$nulls":4},11]
["309-016-701-0",0,0,32,32,0,{"$nulls":4},32]
["309-016-802-0",0,0,17,17,0,{"$nulls":4},17]
["309-016-901-6",0,0,42,42,0,{"$nulls":4},42]
["309-017-001-0",0,0,23,23,0,{"$nulls":4},23]
["309-017-104-6",0,0,211,211,0,{"$nulls":4},211]
["309-017-201-0",0,0,95,95,0,{"$nulls":4},95]
["309-018-801-0",0,0,79,79,0,{"$nulls":4},79]
["309-018-902-0",0,0,54,54,0,{"$nulls":4},54]
["309-019-201-0",0,0,85,85,0,{"$nulls":4},85]
["309-019-302-0",0,0,83,83,0,{"$nulls":4},83]
["309-021-801-0",0,0,10,10,0,{"$nulls":4},10]
["309-021-901-0",0,0,15,15,0,{"$nulls":4},15]
["309-022-001-0",0,0,7,7,0,{"$nulls":4},7]
["309-022-102-0",0,0,15,15,0,{"$nulls":4},15]
["309-022-701-0",0,0,110,110,0,{"$nulls":4},110]
["309-022-804-0",0,0,7,7,0,{"$nulls":4},7]
["309-024-902-0",0,0,10,10,0,{"$nulls":4},10]
["309-025-002-0",0,0,10,10,0,{"$nulls":4},10]
["309-025-302-0",0,0,9,9,0,{"$nulls":4},9]
["309-025-601-0",0,0,10,10,0,{"$nulls":4},10]
["309-025-702-0",0,0,10,10,0,{"$nulls":4},10]
["309-025-801-0",0,0,30,30,0,{"$nulls":4},30]
["309-026-002-0",0,0,9,9,0,{"$nulls":4},9]
["309-030-602-0",0,0,5,5,0,{"$nulls":4},5]
["309-030-604-0",0,0,114,114,0,{"$nulls":4},114]
["309-030-605-0",0,0,0,0,0,{"$nulls":4},0]
["309-031-503-0",0,0,17,17,0,{"$nulls":4},17]
["309-031-603-0",0,0,71,71,0,{"$nulls":4},71]
["309-031-701-0",0,0,31,31,0,{"$nulls":4},31]
["309-031-801-0",0,0,21,21,0,{"$nulls":4},21]
["309-031-902-0",0,0,579,579,0,{"$nulls":4},579]
["309-032-002-0",0,0,346,346,0,{"$nulls":4},346]
["309-032-102-0",0,0,463,463,0,{"$nulls":4},463]
["309-032-202-0",0,0,665,665,0,{"$nulls":4},665]
["309-032-302-0",0,0,260,260,0,{"$nulls":4},260]
["309-032-401-6",0,0,32,32,0,{"$nulls":4},32]
["309-032-503-0",0,0,27,27,0,{"$nulls":4},27]
["309-032-803-0",0,0,5,5,0,{"$nulls":4},5]
["309-033-102-6",0,0,14,14,0,{"$nulls":4},14]
["309-033-201-0",0,0,209,209,0,{"$nulls":4},209]
["309-033-301-0",0,0,646,646,0,{"$nulls":4},646]
["309-033-402-0",0,0,10,10,0,{"$nulls":4},10]
["309-036-601-0",0,0,38,38,0,{"$nulls":4},38]
["309-037-101-0",0,0,88,88,0,{"$nulls":4},88]
["309-037-201-0",0,0,160,160,0,{"$nulls":4},160]
["309-037-402-0",0,0,42,42,0,{"$nulls":4},42]
["309-037-501-0",0,0,112,112,0,{"$nulls":4},112]
["309-037-801-0",0,0,42,42,0,{"$nulls":4},42]
["309-038-602-0",0,0,10,10,0,{"$nulls":4},10]
["309-039-001-0",0,0,89,89,0,{"$nulls":4},89]
["309-039-601-0",0,0,93,93,0,{"$nulls":4},93]
["309-039-903-0",0,0,145,145,0,{"$nulls":4},145]
["309-040-402-0",0,0,4,{"$f":"(K1349+B1349)-C1349","v":4},{"$f":"D1349-E1349","v":0},{"$nulls":4},4]
["309-040-501-0",0,0,34,34,0,{"$nulls":4},34]
["309-041-102-0",0,0,120,120,0,{"$nulls":4},120]
["309-041-202-0",0,0,288,288,0,{"$nulls":4},288]
["309-041-302-0",0,0,293,293,0,{"$nulls":4},293]
["309-041-402-0",0,0,367,367,0,{"$nulls":4},367]
["309-041-502-0",0,0,374,374,0,{"$nulls":4},374]
["309-041-801-0",0,0,459,459,0,{"$nulls":4},459]
["309-042-004-0",1,1,66,66,0,{"$nulls":4},66]
["309-042-102-0",0,0,9,9,0,{"$nulls":4},9]
["309-044-701-0",0,0,1000,1000,0,{"$nulls":4},1000]
["309-044-801-0",0,0,0,0,0,{"$nulls":4},0]
["309-044-901-0",0,0,959,959,0,{"$nulls":4},959]
["309-045-702-0",0,0,13,13,0,{"$nulls":4},13]
["309-047-801-0",0,0,28,28,0,{"$nulls":4},28]
["309-047-901-0",0,0,35,35,0,{"$nulls":4},35]
["309-049-802-6",0,0,1,1,0,{"$nulls":4},1]
["309-050-601-0",0,0,40,40,0,{"$nulls":4},40]
["309-051-101-0",0,0,5,5,0,{"$nulls":4},5]
["309-051-301-0",0,0,112,112,0,{"$nulls":4},112]
["309-051-703-0",0,0,16,16,0,{"$nulls":4},16]
["309-052-912-0",0,0,0,0,0,{"$nulls":4},0]
["309-053-207-6",0,0,3,3,0,{"$nulls":4},3]
["309-053-407-6",0,0,3,3,0,{"$nulls":4},3]
["309-053-601-0",12,0,25,25,0,{"$nulls":4},13]
["309-054-007-0",0,0,0,0,0,{"$nulls":4},0]
["309-054-008-0",0,0,64,64,0,{"$nulls":4},64]
["309-054-202-0",0,0,0,0,0,{"$nulls":4},0]
["309-054-203-0",0,0,0,0,0,{"$nulls":4},0]
["309-054-302-0",0,0,5,5,0,{"$nulls":4},5]
["309-054-304-0",0,0,1,1,0,{"$nulls":4},1]
["309-054-305-0",0,0,185,185,0,{"$nulls":4},185]
["309-054-403-0",0,0,41,41,0,{"$nulls":4},41]
["309-054-502-0",0,0,33,33,0,{"$nulls":4},33]
["309-054-602-0",0,0,68,68,0,{"$nulls":4},68]
["309-057-707-6",0,0,3,3,0,{"$nulls":4},3]
["309-057-807-6",0,0,3,3,0,{"$nulls":4},3]
["309-058-101-0",0,0,280,280,0,{"$nulls":4},280]
["309-059-503-0",0,1,50,50,0,{"$nulls":4},51]
["309-061-203-0",0,0,8,8,0,{"$nulls":4},8]
["309-061-502-0",0,0,156,156,0,{"$nulls":4},156]
["309-061-602-0",0,0,28,28,0,{"$nulls":4},28]
["309-062-702-0",0,0,61,61,0,{"$nulls":4},61]
["309-062-802-0",0,0,24,24,0,{"$nulls":4},24]
["309-062-902-0",0,0,5,5,0,{"$nulls":4},5]
["309-063-001-6",0,0,18,18,0,{"$nulls":4},18]
["309-064-101-0",0,0,3,3,0,{"$nulls":4},3]
["309-065-002-0",0,0,40,40,0,{"$nulls":4},40]
["309-065-102-0",0,0,52,52,0,{"$nulls":4},52]
["309-065-202-0",0,0,67,67,0,{"$nulls":4},67]
["309-065-607-0",0,0,22,22,0,{"$nulls":4},22]
["309-065-608-0",0,0,8,8,0,{"$nulls":4},8]
["309-067-601-0",0,0,57,57,0,{"$nulls":4},57]
["309-068-601-0",0,0,777,777,0,{"$nulls":4},777]
["309-069-101-0",0,0,4,4,0,{"$nulls":4},4]
["309-069-803-0",0,0,0,0,0,{"$nulls":4},0]
["309-070-801-0",0,0,21,21,0,{"$nulls":4},21]
["309-071-104-6",0,0,24,24,0,{"$nulls":4},24]
["309-072-001-0",0,0,131,131,0,{"$nulls":4},131]
["309-072-701-0",0,0,0,0,0,{"$nulls":4},0]
["309-072-702-0",0,0,0,0,0,{"$nulls":4},0]
["309-073-701-6",0,0,289,289,0,{"$nulls":4},289]
["309-074-401-6",0,0,0,0,0,{"$nulls":4},0]
["309-077-801-0",0,0,0,0,0,{"$nulls":4},0]
["309-080-401-0",0,0,27,{"$f":"(K1413+B1413)-C1413","v":27},{"$f":"D1413-E1413","v":0},{"$nulls":4},27]
["309-080-801-0",0,0,155,155,0,{"$nulls":4},155]
["309-084-501-6",0,0,10,10,0,{"$nulls":4},10]
["309-084-901-0",0,0,60,60,0,{"$nulls":4},60]
["309-085-101-6",0,0,17,17,0,{"$nulls":4},17]
["309-085-301-0",0,0,20,20,0,{"$nulls":4},20]
["309-085-901-0",0,0,24,24,0,{"$nulls":4},24]
["309-093-201-0",0,0,68,68,0,{"$nulls":4},68]
["309-094-801-0",0,0,138,138,0,{"$nulls":4},138]
["309-094-901-0",0,0,393,393,0,{"$nulls":4},393]
["309-095-001-0",0,0,60,60,0,{"$nulls":4},60]
["309-098-001-0",0,0,10,10,0,{"$nulls":4},10]
["309-098-101-0",0,0,10,10,0,{"$nulls":4},10]
["309-098-201-0",0,0,18,18,0,{"$nulls":4},18]
["309-098-401-0",0,0,10,10,0,{"$nulls":4},10]
["309-098-801-0",0,0,0,0,0,{"$nulls":4},0]
["309-100-401-0",0,0,39,39,0,{"$nulls":4},39]
["309-100-402-0",0,0,98,98,0,{"$nulls":4},98]
["309-100-901-0",0,0,22,22,0,{"$nulls":4},22]
["309-101-801-0",0,0,32,32,0,{"$nulls":4},32]
["309-101-802-0",0,16,52,52,0,{"$nulls":4},68]
["309-102-001-0",0,0,0,0,0,{"$nulls":4},0]
["309-102-401-0",0,0,1,1,0,{"$nulls":4},1]
["309-102-501-0",0,0,4,4,0,{"$nulls":4},4]
["309-102-601-0",0,0,59,59,0,{"$nulls":4},59]
["309-102-701-0",0,0,59,59,0,{"$nulls":4},59]
["309-102-901-0",0,0,7,7,0,{"$nulls":4},7]
["309-103-001-6",0,0,295,295,0,{"$nulls":4},295]
["309-103-905-0",0,0,0,0,0,{"$nulls":4},0]
["309-103-906-0",0,0,8,8,0,{"$nulls":4},8]
["309-104-010-0",0,0,0,0,0,{"$nulls":4},0]
["309-104-011-0",0,0,0,0,0,{"$nulls":4},0]
["309-104-012-0",0,0,0,0,0,{"$nulls":4},0]
["309-105-502-0",0,0,28,28,0,{"$nulls":4},28]
["309-105-602-0",0,0,0,0,0,{"$nulls":4},0]
["309-105-702-0",0,0,138,138,0,{"$nulls":4},138]
["309-106-001-6",0,0,51,51,0,{"$nulls":4},51]
["309-106-204-0",0,0,0,0,0,{"$nulls":4},0]
["309-106-302-0",0,0,0,0,0,{"$nulls":4},0]
["309-106-502-0",0,0,20,20,0,{"$nulls":4},20]
["309-106-602-0",0,0,25,25,0,{"$nulls":4},25]
["309-106-701-0",0,0,23,23,0,{"$nulls":4},23]
["309-106-801-0",0,0,69,69,0,{"$nulls":4},69]
["309-106-901-0",0,0,69,69,0,{"$nulls":4},69]
["309-107-006-0",1,0,4,4,0,{"$nulls":4},3]
["309-107-101-6",0,0,9,9,0,{"$nulls":4},9]
["309-107-501-0",0,0,15,15,0,{"$nulls":4},15]
["309-108-201-0",0,0,30,30,0,{"$nulls":4},30]
["309-108-301-0",0,0,37,37,0,{"$nulls":4},37]
["309-109-101-0",0,0,131,131,0,{"$nulls":4},131]
["309-109-201-0",0,0,88,88,0,{"$nulls":4},88]
["309-109-301-0",0,0,100,100,0,{"$nulls":4},100]
["309-109-401-0",0,0,150,150,0,{"$nulls":4},150]
["309-109-501-0",0,0,180,180,0,{"$nulls":4},180]
["309-109-701-0",0,0,23,23,0,{"$nulls":4},23]
["309-110-701-0",0,0,39,39,0,{"$nulls":4},39]
["309-111-401-0",0,0,2,2,0,{"$nulls":4},2]
["309-111-402-0",100,0,230,230,0,{"$nulls":4},130]
["309-111-501-0",0,0,248,248,0,{"$nulls":4},248]
["309-111-601-0",0,0,66,66,0,{"$nulls":4},66]
["309-111-701-0",0,0,75,75,0,{"$nulls":4},75]
["309-111-801-6",0,0,159,159,0,{"$nulls":4},159]
["309-112-202-0",0,0,0,0,0,{"$nulls":4},0]
["309-112-302-0",0,0,0,0,0,{"$nulls":4},0]
["309-112-303-0",0,0,0,{"$f":"(K1477+B1477)-C1477","v":0},{"$f":"D1477-E1477","v":0},{"$nulls":4},0]
["309-112-304-0",0,0,11,11,0,{"$nulls":4},11]
["309-115-402-0",0,0,3,3,0,{"$nulls":4},3]
["309-115-502-0",0,0,3,3,0,{"$nulls":4},3]
["309-116-913-0",0,0,0,0,0,{"$nulls":4},0]
["309-116-914-0",0,0,0,0,0,{"$nulls":4},0]
["309-118-002-0",0,0,52,52,0,{"$nulls":4},52]
["309-118-102-0",0,0,131,131,0,{"$nulls":4},131]
["309-118-201-0",0,0,35,35,0,{"$nulls":4},35]
["309-119-008-0",0,0,0,0,0,{"$nulls":4},0]
["309-119-010-0",0,0,0,0,0,{"$nulls":4},0]
["309-119-101-0",0,0,5,5,0,{"$nulls":4},5]
["309-119-201-0",0,0,10,10,0,{"$nulls":4},10]
["309-120-401-0",0,0,46,46,0,{"$nulls":4},46]
["309-120-901-0",0,0,7,7,0,{"$nulls":4},7]
["309-121-802-0",0,0,9,9,0,{"$nulls":4},9]
["309-122-902-0",0,0,4,4,0,{"$nulls":4},4]
["309-123-201-0",0,0,17,17,0,{"$nulls":4},17]
["309-123-301-0",0,0,32,32,0,{"$nulls":4},32]
["309-123-401-0",0,0,29,29,0,{"$nulls":4},29]
["309-123-801-0",0,0,9,9,0,{"$nulls":4},9]
["309-123-903-0",0,0,8,8,0,{"$nulls":4},8]
["309-124-703-0",1,0,4,4,0,{"$nulls":4},3]
["309-124-807-0",0,0,4,4,0,{"$nulls":4},4]
["309-125-001-0",0,0,29,29,0,{"$nulls":4},29]
["309-125-701-0",0,0,16,16,0,{"$nulls":4},16]
["309-126-101-0",1,0,5,5,0,{"$nulls":4},4]
["309-126-201-0",1,0,1,1,0,{"$nulls":4},0]
["309-126-401-0",0,0,0,0,0,{"$nulls":4},0]
["309-126-502-0",0,0,0,0,0,{"$nulls":4},0]
["309-126-503-0",0,0,0,0,0,{"$nulls":4},0]
["309-126-504-0",0,0,0,0,0,{"$nulls":4},0]
["309-127-103-6",0,0,42,42,0,{"$nulls":4},42]
["309-127-104-6",0,0,0,0,0,{"$nulls":4},0]
["309-127-407-0",0,0,4,4,0,{"$nulls":4},4]
["309-127-506-0",0,0,3,3,0,{"$nulls":4},3]
["309-127-702-0",0,0,12,12,0,{"$nulls":4},12]
["309-127-802-0",0,0,356,356,0,{"$nulls":4},356]
["309-127-902-0",0,0,720,720,0,{"$nulls":4},720]
["309-128-001-0",0,0,110,110,0,{"$nulls":4},110]
["309-128-102-0",0,0,726,726,0,{"$nulls":4},726]
["309-128-203-0",0,0,870,870,0,{"$nulls":4},870]
["309-128-302-0",0,0,290,290,0,{"$nulls":4},290]
["309-128-401-0",0,0,55,55,0,{"$nulls":4},55]
["309-128-501-0",0,0,298,298,0,{"$nulls":4},298]
["309-128-603-0",0,0,33,33,0,{"$nulls":4},33]
["309-128-801-0",0,0,645,645,0,{"$nulls":4},645]
["309-128-901-0",0,0,323,323,0,{"$nulls":4},323]
["309-129-001-0",0,0,185,185,0,{"$nulls":4},185]
["309-129-103-6",0,0,120,120,0,{"$nulls":4},120]
["309-129-207-0",2,0,6,6,0,{"$nulls":4},4]
["309-129-305-0",0,0,8,8,0,{"$nulls":4},8]
["309-129-803-0",0,0,1,1,0,{"$nulls":4},1]
["309-130-003-0",0,0,4,4,0,{"$nulls":4},4]
["309-130-301-6",0,0,38,38,0,{"$nulls":4},38]
["309-130-702-0",0,0,18,18,0,{"$nulls":4},18]
["309-130-801-0",0,0,20,20,0,{"$nulls":4},20]
["309-130-901-0",0,0,17,17,0,{"$nulls":4},17]
["309-131-001-0",0,0,17,17,0,{"$nulls":4},17]
["309-131-111-0",0,0,0,0,0,{"$nulls":4},0]
["309-131-302-0",0,0,41,41,0,{"$nulls":4},41]
["309-131-603-0",0,0,104,104,0,{"$nulls":4},104]
["309-131-702-0",0,0,41,41,0,{"$nulls":4},41]
["309-132-003-0",0,0,23,23,0,{"$nulls":4},23]
["309-132-202-0",0,0,8,{"$f":"(K1541+B1541)-C1541","v":8},{"$f":"D1541-E1541","v":0},{"$nulls":4},8]
["309-132-203-0",0,0,0,0,0,{"$nulls":4},0]
["309-132-301-0",0,0,0,0,0,{"$nulls":4},0]
["309-132-602-0",0,0,8,8,0,{"$nulls":4},8]
["309-132-603-0",0,0,0,0,0,{"$nulls":4},0]
["309-132-701-0",0,0,34,34,0,{"$nulls":4},34]
["309-132-801-0",0,0,43,43,0,{"$nulls":4},43]
["309-132-901-0",0,0,27,27,0,{"$nulls":4},27]
["309-133-101-0",0,0,34,34,0,{"$nulls":4},34]
["309-133-201-0",0,0,30,30,0,{"$nulls":4},30]
["309-133-202-0",0,0,0,0,0,{"$nulls":4},0]
["309-133-301-0",1,0,21,21,0,{"$nulls":4},20]
["309-133-401-0",0,0,6,6,0,{"$nulls":4},6]
["309-134-201-0",0,0,3,3,0,{"$nulls":4},3]
["309-134-202-0",0,0,0,0,0,{"$nulls":4},0]
["309-134-801-0",0,0,50,50,0,{"$nulls":4},50]
["309-134-901-0",0,0,28,28,0,{"$nulls":4},28]
["309-135-001-0",0,0,39,39,0,{"$nulls":4},39]
["309-135-101-6",0,0,67,67,0,{"$nulls":4},67]
["309-135-201-0",0,0,17,17,0,{"$nulls":4},17]
["309-135-401-0",0,0,70,70,0,{"$nulls":4},70]
["309-136-408-0",0,0,0,0,0,{"$nulls":4},0]
["309-136-410-0",0,0,0,0,0,{"$nulls":4},0]
["309-136-501-0",0,0,162,162,0,{"$nulls":4},162]
["309-136-631-0",0,0,0,0,0,{"$nulls":4},0]
["309-136-701-0",0,0,21,21,0,{"$nulls":4},21]
["309-136-801-0",0,0,26,26,0,{"$nulls":4},26]
["309-137-601-0",0,0,17,17,0,{"$nulls":4},17]
["309-137-705-0",0,0,0,0,0,{"$nulls":4},0]
["309-138-101-0",0,0,8,8,0,{"$nulls":4},8]
["309-139-201-0",0,0,6,6,0,{"$nulls":4},6]
["309-140-101-0",0,0,36,36,0,{"$nulls":4},36]
["309-140-301-0",0,0,39,39,0,{"$nulls":4},39]
["309-141-001-0",0,1,515,515,0,{"$nulls":4},516]
["309-141-201-0",0,0,21,21,0,{"$nulls":4},21]
["309-141-401-0",0,0,12,12,0,{"$nulls":4},12]
["309-142-101-0",0,0,0,0,0,{"$nulls":4},0]
["309-142-201-0",0,0,296,296,0,{"$nulls":4},296]
["309-142-303-6",0,0,8,8,0,{"$nulls":4},8]
["309-142-401-0",0,0,51,51,0,{"$nulls":4},51]
["309-142-601-0",0,0,5,5,0,{"$nulls":4},5]
["309-142-801-0",0,0,21,21,0,{"$nulls":4},21]
["309-142-904-0",0,0,2,2,0,{"$nulls":4},2]
["309-143-003-0",0,0,2,2,0,{"$nulls":4},2]
["309-143-601-0",0,0,28,28,0,{"$nulls":4},28]
["309-144-101-0",0,0,368,368,0,{"$nulls":4},368]
["309-144-403-0",0,0,0,0,0,{"$nulls":4},0]
["309-144-501-0",0,0,8,8,0,{"$nulls":4},8]
["309-146-101-6",0,0,14,14,0,{"$nulls":4},14]
["309-146-201-0",0,0,0,0,0,{"$nulls":4},0]
["309-146-301-0",0,0,70,70,0,{"$nulls":4},70]
["309-147-201-0",0,0,15,15,0,{"$nulls":4},15]
["309-147-501-0",0,0,9,9,0,{"$nulls":4},9]
["309-148-601-6",0,0,73,73,0,{"$nulls":4},73]
["309-148-701-0",0,0,44,44,0,{"$nulls":4},44]
["309-148-801-0",0,0,15,15,0,{"$nulls":4},15]
["309-149-201-6",0,0,20,20,0,{"$nulls":4},20]
["309-151-301-0",0,0,29,29,0,{"$nulls":4},29]
["309-151-601-0",0,0,1,1,0,{"$nulls":4},1]
["309-152-601-0",0,0,11,11,0,{"$nulls":4},11]
["309-153-601-6",0,0,0,0,0,{"$nulls":4},0]
["309-154-801-0",0,0,383,383,0,{"$nulls":4},383]
["309-155-901-0",0,0,8,8,0,{"$nulls":4},8]
["309-156-301-0",0,0,0,0,0,{"$nulls":4},0]
["309-158-201-0",0,0,54,{"$f":"(K1605+B1605)-C1605","v":54},{"$f":"D1605-E1605","v":0},{"$nulls":4},54]
["309-158-301-0",0,0,59,59,0,{"$nulls":4},59]
["309-158-401-0",0,0,59,59,0,{"$nulls":4},59]
["309-158-601-0",0,0,59,59,0,{"$nulls":4},59]
["309-158-701-0",0,0,0,0,0,{"$nulls":4},0]
["309-158-802-0",0,0,0,0,0,{"$nulls":4},0]
["309-159-101-0",0,0,1,1,0,{"$nulls":4},1]
["309-159-301-0",0,0,4,4,0,{"$nulls":4},4]
["309-159-401-6",0,0,0,0,0,{"$nulls":4},0]
["309-159-501-0",0,0,0,0,0,{"$nulls":4},0]
["309-159-801-0",0,0,0,0,0,{"$nulls":4},0]
["309-159-901-0",0,0,0,0,0,{"$nulls":4},0]
["309-160-401-0",0,0,47,47,0,{"$nulls":4},47]
["309-160-402-0",0,0,26,26,0,{"$nulls":4},26]
["309-160-601-0",0,0,36,36,0,{"$nulls":4},36]
["309-161-001-0",0,0,10,10,0,{"$nulls":4},10]
["309-162-003-0",0,0,0,0,0,{"$nulls":4},0]
["309-162-004-0",0,0,0,0,0,{"$nulls":4},0]
["309-162-102-0",0,0,0,0,0,{"$nulls":4},0]
["309-163-901-6",0,0,194,194,0,{"$nulls":4},194]
["309-165-201-0",0,1,91,91,0,{"$nulls":4},92]
["309-166-001-6",0,0,37,37,0,{"$nulls":4},37]
["309-166-101-0",0,0,0,0,0,{"$nulls":4},0]
["309-166-201-0",0,0,2,2,0,{"$nulls":4},2]
["309-166-301-0",0,0,9,9,0,{"$nulls":4},9]
["309-166-401-0",0,0,0,0,0,{"$nulls":4},0]
["309-166-501-0",0,0,16,16,0,{"$nulls":4},16]
["309-166-601-0",0,0,2,2,0,{"$nulls":4},2]
["309-166-701-0",0,0,6,6,0,{"$nulls":4},6]
["309-166-801-0",0,0,39,39,0,{"$nulls":4},39]
["309-166-901-0",0,0,73,73,0,{"$nulls":4},73]
["309-167-001-0",0,0,5,5,0,{"$nulls":4},5]
["309-167-101-0",0,0,0,0,0,{"$nulls":4},0]
["309-167-201-0",0,0,9,9,0,{"$nulls":4},9]
["309-167-301-0",0,0,35,35,0,{"$nulls":4},35]
["309-167-401-0",0,0,12,12,0,{"$nulls":4},12]
["309-167-501-0",0,0,2,2,0,{"$nulls":4},2]
["309-167-601-0",0,0,0,0,0,{"$nulls":4},0]
["309-168-002-0",0,0,8,8,0,{"$nulls":4},8]
["309-168-701-0",0,0,10,10,0,{"$nulls":4},10]
["309-168-801-0",0,0,24,24,0,{"$nulls":4},24]
["309-168-901-0",0,0,14,14,0,{"$nulls":4},14]
["309-169-001-0",0,0,67,67,0,{"$nulls":4},67]
["309-169-102-0",0,0,51,51,0,{"$nulls":4},51]
["309-169-202-0",0,0,57,57,0,{"$nulls":4},57]
["309-169-402-0",0,0,51,51,0,{"$nulls":4},51]
["309-169-501-0",0,0,56,56,0,{"$nulls":4},56]
["309-169-601-0",1,0,56,56,0,{"$nulls":4},55]
["309-169-702-0",0,0,51,51,0,{"$nulls":4},51]
["309-169-901-0",0,0,158,158,0,{"$nulls":4},158]
["309-701-101-0",0,0,0,0,0,{"$nulls":4},0]
["309-701-202-0",0,0,0,0,0,{"$nulls":4},0]
["309-704-703-0",0,0,0,0,0,{"$nulls":4},0]
["31-841651",0,0,55,55,0,{"$nulls":4},55]
["320-304-001-0",0,0,20,20,0,{"$nulls":4},20]
["320-304-101-0",0,0,20,20,0,{"$nulls":4},20]
["320-304-201-0",0,0,40,40,0,{"$nulls":4},40]
["320-304-301-0",0,0,26,26,0,{"$nulls":4},26]
["320-304-401-0",0,0,40,40,0,{"$nulls":4},40]
["320-304-501-0",0,0,34,34,0,{"$nulls":4},34]
["320-304-601-0",0,0,34,34,0,{"$nulls":4},34]
["320-305-001-0",0,0,29,29,0,{"$nulls":4},29]
["320-305-101-0",0,0,9,9,0,{"$nulls":4},9]
["320-305-201-0",0,0,20,20,0,{"$nulls":4},20]
["320-314-001-0",0,0,75,{"$f":"(K1669+B1669)-C1669","v":75},{"$f":"D1669-E1669","v":0},{"$nulls":4},75]
["320-314-101-0",0,0,75,75,0,{"$nulls":4},75]
["320-314-201-0",0,0,99,99,0,{"$nulls":4},99]
["320-314-301-0",0,0,75,75,0,{"$nulls":4},75]
["320-314-401-0",0,0,48,48,0,{"$nulls":4},48]
["320-314-501-0",0,0,50,50,0,{"$nulls":4},50]
["320-314-601-0",0,0,50,50,0,{"$nulls":4},50]
["320-314-701-0",0,0,124,124,0,{"$nulls":4},124]
["320-314-801-0",0,0,50,50,0,{"$nulls":4},50]
["320-314-901-0",0,0,75,75,0,{"$nulls":4},75]
["320-315-001-0",0,0,50,50,0,{"$nulls":4},50]
["320-315-101-0",0,0,75,75,0,{"$nulls":4},75]
["320-315-201-0",0,0,124,124,0,{"$nulls":4},124]
["320-315-301-0",0,0,50,50,0,{"$nulls":4},50]
["320-315-401-0",0,0,74,74,0,{"$nulls":4},74]
["320-315-501-0",0,0,50,50,0,{"$nulls":4},50]
["320-315-601-0",0,0,73,73,0,{"$nulls":4},73]
["320-315-701-0",0,0,100,100,0,{"$nulls":4},100]
["320-315-801-0",0,0,125,125,0,{"$nulls":4},125]
["320-315-901-0",0,0,75,75,0,{"$nulls":4},75]
["320-316-001-0",0,0,50,50,0,{"$nulls":4},50]
["320-316-101-0",0,0,50,50,0,{"$nulls":4},50]
["320-316-201-0",0,0,50,50,0,{"$nulls":4},50]
["320-316-301-0",0,0,128,128,0,{"$nulls":4},128]
["320-316-401-0",0,0,50,50,0,{"$nulls":4},50]
["320-316-501-0",0,0,100,100,0,{"$nulls":4},100]
["320-316-601-0",0,0,50,50,0,{"$nulls":4},50]
["320-316-701-0",0,0,125,125,0,{"$nulls":4},125]
["320-316-801-0",0,0,50,50,0,{"$nulls":4},50]
["320-316-901-0",0,0,125,125,0,{"$nulls":4},125]
["320-317-001-0",0,0,100,100,0,{"$nulls":4},100]
["320-317-101-0",0,0,125,125,0,{"$nulls":4},125]
["320-317-201-0",0,0,50,50,0,{"$nulls":4},50]
["320-317-301-0",0,0,50,50,0,{"$nulls":4},50]
["320-317-401-0",0,0,100,100,0,{"$nulls":4},100]
["320-317-501-0",0,0,50,50,0,{"$nulls":4},50]
["320-317-701-0",0,0,50,50,0,{"$nulls":4},50]
["320-317-801-0",0,0,50,50,0,{"$nulls":4},50]
["320-317-901-0",0,0,50,50,0,{"$nulls":4},50]
["320-318-001-0",0,0,100,100,0,{"$nulls":4},100]
["320-318-101-0",0,0,75,75,0,{"$nulls":4},75]
["320-318-201-0",0,0,75,75,0,{"$nulls":4},75]
["320-318-301-0",0,0,95,95,0,{"$nulls":4},95]
["320-318-401-0",0,0,50,50,0,{"$nulls":4},50]
["320-318-501-0",0,0,49,49,0,{"$nulls":4},49]
["320-332-601-0",0,0,11,11,0,{"$nulls":4},11]
["320-332-701-0",0,0,9,9,0,{"$nulls":4},9]
["320-333-001-0",0,0,9,9,0,{"$nulls":4},9]
["320-334-001-0",0,0,10,10,0,{"$nulls":4},10]
["320-334-101-0",0,0,6,6,0,{"$nulls":4},6]
["320-334-201-0",0,0,7,7,0,{"$nulls":4},7]
["320-334-301-0",0,0,8,8,0,{"$nulls":4},8]
["320-334-401-0",0,0,6,6,0,{"$nulls":4},6]
["320-334-501-0",0,0,8,8,0,{"$nulls":4},8]
["320-334-801-0",0,0,0,0,0,{"$nulls":4},0]
["320-334-901-0",0,0,5,5,0,{"$nulls":4},5]
["320-335-101-0",0,0,4,4,0,{"$nulls":4},4]
["320-396-803-0",0,0,100,100,0,{"$nulls":4},100]
["320-408-101-0",0,0,1,1,0,{"$nulls":4},1]
["320-600-101-0",0,0,0,0,0,{"$nulls":4},0]
["320-603-003-0",0,0,14,14,0,{"$nulls":4},14]
["320-610-001-0",0,0,0,0,0,{"$nulls":4},0]
["320-611-103-0",0,0,2,2,0,{"$nulls":4},2]
["320-638-101-0",0,0,100,100,0,{"$nulls":4},100]
["320-665-101-0",0,0,80,{"$f":"(K1733+B1733)-C1733","v":80},{"$f":"D1733-E1733","v":0},{"$nulls":4},80]
["320-828-801-0",0,0,0,0,0,{"$nulls":4},0]
["320-828-802-0",0,0,0,0,0,{"$nulls":4},0]
["320-828-803-0",0,0,0,0,0,{"$nulls":4},0]
["320-857-104-0",0,0,0,0,0,{"$nulls":4},0]
["320-860-005-0",0,0,0,0,0,{"$nulls":4},0]
["320-860-006-0",0,0,0,0,0,{"$nulls":4},0]
["320-860-301-0",0,0,4,4,0,{"$nulls":4},4]
["320-912-503-0",0,0,1,1,0,{"$nulls":4},1]
["320-912-602-0",0,0,0,0,0,{"$nulls":4},0]
["320-912-603-0",0,0,0,0,0,{"$nulls":4},0]
["320-912-611-0",0,0,0,0,0,{"$nulls":4},0]
["320-912-905-0",0,0,0,0,0,{"$nulls":4},0]
["320-912-906-0",0,0,0,0,0,{"$nulls":4},0]
["320-913-003-0",0,0,0,0,0,{"$nulls":4},0]
["326-025-301-0",2,0,82,82,0,{"$nulls":4},80]
["326-025-501-0",0,0,84,84,0,{"$nulls":4},84]
["326-201-801-0",0,0,0,0,0,{"$nulls":4},0]
["326-201-901-0",0,0,0,0,0,{"$nulls":4},0]
["326-202-301-0",1,0,7,7,0,{"$nulls":4},6]
["326-900-102-0",0,0,0,0,0,{"$nulls":4},0]
["326-900-104-0",0,0,0,0,0,{"$nulls":4},0]
["326-903-902-0",0,0,0,0,0,{"$nulls":4},0]
["326-903-903-0",0,0,0,0,0,{"$nulls":4},0]
["326-904-203-0",0,0,0,0,0,{"$nulls":4},0]
["326-907-101-0",0,0,0,0,0,{"$nulls":4},0]
["326-907-102-0",0,0,0,0,0,{"$nulls":4},0]
["326-907-202-0",0,0,0,0,0,{"$nulls":4},0]
["326-908-001-0",0,0,0,0,0,{"$nulls":4},0]
["326-909-001-0",0,0,0,0,0,{"$nulls":4},0]
["326-909-301-0",0,0,0,0,0,{"$nulls":4},0]
["326-909-601-0",0,0,0,0,0,{"$nulls":4},0]
["326-909-901-0",0,0,0,0,0,{"$nulls":4},0]
["326-909-902-0",0,0,0,0,0,{"$nulls":4},0]
["327-700-339-0",0,0,0,0,0,{"$nulls":4},0]
["32-841651",0,0,55,55,0,{"$nulls":4},55]
["334-011-857-0",0,0,10,10,0,{"$nulls":4},10]
["334-014-003-0",0,0,0,0,0,{"$nulls":4},0]
["334-014-010-0",0,0,2,2,0,{"$nulls":4},2]
["334-014-011-0",0,0,0,0,0,{"$nulls":4},0]
["334-014-012-0",0,0,453,453,0,{"$nulls":4},453]
["334-014-013-6",0,0,36,36,0,{"$nulls":4},36]
["334-014-014-6",0,0,0,0,0,{"$nulls":4},0]
["334-014-015-6",0,0,4,4,0,{"$nulls":4},4]
["334-014-016-6",0,0,18,18,0,{"$nulls":4},18]
["33-841651",0,0,55,55,0,{"$nulls":4},55]
["3400-152-0020",0,0,0,0,0,{"$nulls":4},0]
["34-841651-1",0,0,26,26,0,{"$nulls":4},26]
["38-841651",0,0,59,59,0,{"$nulls":4},59]
["394-062-301-0",0,0,2,2,0,{"$nulls":4},2]
["394-063-301-0",0,0,37,37,0,{"$nulls":4},37]
["394-067-301-0",0,0,41,41,0,{"$nulls":4},41]
["394-068-302-0",0,0,1,1,0,{"$nulls":4},1]
["394-087-301-0",0,0,6,6,0,{"$nulls":4},6]
["394-088-301-0",0,0,2,2,0,{"$nulls":4},2]
["394-109-301-0",0,0,92,92,0,{"$nulls":4},92]
["394-110-301-0",0,0,3,3,0,{"$nulls":4},3]
["394-128-301-0",0,0,1,1,0,{"$nulls":4},1]
["394-131-301-0",0,0,8,8,0,{"$nulls":4},8]
["394-137-301-0",0,0,1,1,0,{"$nulls":4},1]
["394-147-301-0",0,0,1,1,0,{"$nulls":4},1]
["394-157-301-0",0,0,13,13,0,{"$nulls":4},13]
["394-158-301-0",0,0,0,0,0,{"$nulls":4},0]
["394-162-301-0",0,0,4,4,0,{"$nulls":4},4]
["394-175-301-0",0,0,1,{"$f":"(K1797+B1797)-C1797","v":1},{"$f":"D1797-E1797","v":0},{"$nulls":4},1]
["394-178-301-0",0,1,84,84,0,{"$nulls":4},85]
["394-179-301-0",0,1,12,12,0,{"$nulls":4},13]
["394-197-301-0",0,0,16,16,0,{"$nulls":4},16]
["394-201-301-0",0,0,47,47,0,{"$nulls":4},47]
["394-202-301-0",0,0,2,2,0,{"$nulls":4},2]
["39-841651-1",0,0,60,60,0,{"$nulls":4},60]
["399-002-862-0",0,0,200,200,0,{"$nulls":4},200]
["399-002-864-0",0,0,247,247,0,{"$nulls":4},247]
["399-007-009-0",0,0,188,188,0,{"$nulls":4},188]
["399-007-010-0",0,0,130,130,0,{"$nulls":4},130]
["399-008-471-0",0,0,0,0,0,{"$nulls":4},0]
["399-008-528-0",0,0,5,5,0,{"$nulls":4},5]
["399-009-014-0",0,0,20,20,0,{"$nulls":4},20]
["399-009-020-0",0,0,10,10,0,{"$nulls":4},10]
["399-009-023-0",0,0,20,20,0,{"$nulls":4},20]
["399-009-024-0",0,0,48,48,0,{"$nulls":4},48]
["399-009-025-0",0,0,96,96,0,{"$nulls":4},96]
["399-009-026-0",0,0,29,29,0,{"$nulls":4},29]
["399-009-029-0",0,0,9,9,0,{"$nulls":4},9]
["399-009-037-0",0,0,9,9,0,{"$nulls":4},9]
["399-009-042-0",0,0,10,10,0,{"$nulls":4},10]
["399-009-045-0",0,0,50,50,0,{"$nulls":4},50]
["399-009-046-0",0,0,75,75,0,{"$nulls":4},75]
["399-009-047-0",0,0,61,61,0,{"$nulls":4},61]
["399-900-072-0",0,0,465,465,0,{"$nulls":4},465]
["399-900-075-0",0,0,862,862,0,{"$nulls":4},862]
["399-900-079-0",0,0,1464,1464,0,{"$nulls":4},1464]
["399-900-080-0",0,0,276,276,0,{"$nulls":4},276]
["399-900-081-0",0,0,145,145,0,{"$nulls":4},145]
["399-900-083-0",0,0,828,828,0,{"$nulls":4},828]
["399-900-114-0",0,0,63,63,0,{"$nulls":4},63]
["403-712-036-0",0,0,0,0,0,{"$nulls":4},0]
["4040U14-1",0,0,10,10,0,{"$nulls":4},10]
["4040U14-2",0,0,35,35,0,{"$nulls":4},35]
["404C20-102",0,0,17,17,0,{"$nulls":4},17]
["404C20-202",0,0,18,18,0,{"$nulls":4},18]
["40-841651",0,0,47,47,0,{"$nulls":4},47]
["416A12-31",0,0,44,44,0,{"$nulls":4},44]
["416A12-41",0,0,358,358,0,{"$nulls":4},358]
["416A16-11",0,0,109,109,0,{"$nulls":4},109]
["416A20-82",0,0,33,33,0,{"$nulls":4},33]
["416A20-91",0,0,70,70,0,{"$nulls":4},70]
["416A25-3",0,0,107,107,0,{"$nulls":4},107]
["416A30-1",0,0,38,38,0,{"$nulls":4},38]
["416A50-6",0,0,81,81,0,{"$nulls":4},81]
["416B16-3",0,1,61,61,0,{"$nulls":4},62]
["416B20-3",0,1,76,76,0,{"$nulls":4},77]
["416C8-11",0,0,42,42,0,{"$nulls":4},42]
["416C8-21",0,0,143,143,0,{"$nulls":4},143]
["419B20-21",0,0,55,55,0,{"$nulls":4},55]
["443-349-00-C",20,21,63,63,0,{"$nulls":4},64]
["443-379-00-C",0,0,8,8,0,{"$nulls":4},8]
["443-600-0",0,1,131,131,0,{"$nulls":4},132]
["46012A01120",0,0,18,18,0,{"$nulls":4},18]
["46012B01700",0,0,55,55,0,{"$nulls":4},55]
["46012B02500",0,0,21,21,0,{"$nulls":4},21]
["500B41",0,0,30,30,0,{"$nulls":4},30]
["53521-035",0,0,9,9,0,{"$nulls":4},9]
["54-831413",0,0,0,0,0,{"$nulls":4},0]
["5513-100",0,0,8,8,0,{"$nulls":4},8]
["551-806-008-0",0,1,749,749,0,{"$nulls":4},750]
["551-807-008-0",0,0,153,153,0,{"$nulls":4},153]
["551-808-110-0",0,0,88,88,0,{"$nulls":4},88]
["551-810-910-0",0,1,91,{"$f":"(K1861+B1861)-C1861","v":91},{"$f":"D1861-E1861","v":0},{"$nulls":4},92]
["551-812-010-0",0,0,327,327,0,{"$nulls":4},327]
["551-812-110-0",0,0,200,200,0,{"$nulls":4},200]
["551-816-010-0",0,0,210,210,0,{"$nulls":4},210]
["551-822-010-0",0,0,172,172,0,{"$nulls":4},172]
["55310-1",0,0,54,54,0,{"$nulls":4},54]
["55312-1",0,0,53,53,0,{"$nulls":4},53]
["55315-1",0,0,48,48,0,{"$nulls":4},48]
["5552-000",0,0,8,8,0,{"$nulls":4},8]
["55-831413",0,0,0,0,0,{"$nulls":4},0]
["55-841651",0,0,60,60,0,{"$nulls":4},60]
["56-831413-1",0,0,60,60,0,{"$nulls":4},60]
["57239-271-3",0,0,304,304,0,{"$nulls":4},304]
["610-132-601-0",0,0,0,0,0,{"$nulls":4},0]
["612U90-2132-1",0,0,80,80,0,{"$nulls":4},80]
["620-020-555-0",0,0,10,10,0,{"$nulls":4},10]
["620-880-000-0",0,0,85,85,0,{"$nulls":4},85]
["620U1B-RAL3000",0,0,1900,1900,0,{"$nulls":4},1900]
["620U22B",0,0,0,0,0,{"$nulls":4},0]
["620U2B",0,0,94,94,0,{"$nulls":4},94]
["649-305-500-0",0,0,0,0,0,{"$nulls":4},0]
["649-305-501-0",0,0,977,977,0,{"$nulls":4},977]
["649-305-523-0",0,0,941,941,0,{"$nulls":4},941]
["649-363-500-0",0,0,19,19,0,{"$nulls":4},19]
["649-363-525-0",0,0,14,14,0,{"$nulls":4},14]
["649-363-600-0",0,0,11,11,0,{"$nulls":4},11]
["649-363-800-0",0,0,18,18,0,{"$nulls":4},18]
["649-365-637-0",0,0,18,18,0,{"$nulls":4},18]
["649-392-351-0",0,32,110,110,0,{"$nulls":4},142]
["649-393-155-0",0,0,124,124,0,{"$nulls":4},124]
["649-550-001-0",0,0,75,75,0,{"$nulls":4},75]
["649-679-500-0",0,0,9,9,0,{"$nulls":4},9]
["649-679-600-0",0,0,25,25,0,{"$nulls":4},25]
["649-679-637-0",0,0,10,10,0,{"$nulls":4},10]
["649-804-019-0",1,0,115,115,0,{"$nulls":4},114]
["649-971-053-0",0,0,354,354,0,{"$nulls":4},354]
["649-972-052-0",0,1,142,142,0,{"$nulls":4},143]
["649-972-054-0",0,0,201,201,0,{"$nulls":4},201]
["649-972-057-0",0,0,40,40,0,{"$nulls":4},40]
["649-972-058-0",0,6,165,165,0,{"$nulls":4},171]
["650-001-004-0",0,0,75,75,0,{"$nulls":4},75]
["650-001-008-0",0,0,25,25,0,{"$nulls":4},25]
["650-001-602-0",0,0,250,250,0,{"$nulls":4},250]
["650-001-606-0",0,0,24,24,0,{"$nulls":4},24]
["650-002-045-0",0,0,650,650,0,{"$nulls":4},650]
["650-002-500-0",0,0,725,725,0,{"$nulls":4},725]
["650-002-551-0",450,440,2434,2434,0,{"$nulls":4},2424]
["650-014-101-0",0,0,0,0,0,{"$nulls":4},0]
["650-015-072-0",0,0,0,0,0,{"$nulls":4},0]
["650-015-074-0",0,0,0,0,0,{"$nulls":4},0]
["650-015-200-0",0,0,0,0,0,{"$nulls":4},0]
["650-023-074-0",0,0,0,0,0,{"$nulls":4},0]
["650-025-074-0",0,0,0,0,0,{"$nulls":4},0]
["650-025-201-0",0,0,500,500,0,{"$nulls":4},500]
["650-026-076-0",0,0,0,0,0,{"$nulls":4},0]
["650-026-204-0",0,0,0,0,0,{"$nulls":4},0]
["650-038-033-0",0,0,0,0,0,{"$nulls":4},0]
["650-039-045-0",0,0,574,574,0,{"$nulls":4},574]
["650-051-105-0",0,0,38,38,0,{"$nulls":4},38]
["650-051-106-0",0,0,41,41,0,{"$nulls":4},41]
["650-061-616-0",0,0,99,99,0,{"$nulls":4},99]
["650-066-080-0",0,0,21,21,0,{"$nulls":4},21]
["650-066-261-0",0,0,157,157,0,{"$nulls":4},157]
["650-066-271-0",0,0,190,190,0,{"$nulls":4},190]
["650-066-295-0",0,0,650,{"$f":"(K1925+B1925)-C1925","v":650},{"$f":"D1925-E1925","v":0},{"$nulls":4},650]
["650-066-371-0",0,0,1227,1227,0,{"$nulls":4},1227]
["650-066-391-0",0,0,493,493,0,{"$nulls":4},493]
["650-066-401-0",0,0,862,862,0,{"$nulls":4},862]
["650-066-411-0",0,0,1239,1239,0,{"$nulls":4},1239]
["650-066-521-0",0,0,1394,1394,0,{"$nulls":4},1394]
["650-066-541-0",0,0,427,427,0,{"$nulls":4},427]
["650-066-551-0",0,100,812,812,0,{"$nulls":4},912]
["650-066-561-0",0,0,642,642,0,{"$nulls":4},642]
["650-066-571-0",0,0,767,767,0,{"$nulls":4},767]
["650-066-585-0",0,0,220,220,0,{"$nulls":4},220]
["650-066-853-0",0,0,200,200,0,{"$nulls":4},200]
["650-067-060-0",0,0,250,250,0,{"$nulls":4},250]
["650-067-061-0",0,0,245,245,0,{"$nulls":4},245]
["650-067-120-0",0,0,304,304,0,{"$nulls":4},304]
["650-067-121-0",0,0,283,283,0,{"$nulls":4},283]
["650-067-122-0",0,0,113,113,0,{"$nulls":4},113]
["650-067-124-0",0,0,108,108,0,{"$nulls":4},108]
["650-072-008-0",0,0,250,250,0,{"$nulls":4},250]
["650-091-635-0",0,0,263,263,0,{"$nulls":4},263]
["650-091-638-0",0,0,428,428,0,{"$nulls":4},428]
["650-091-811-0",0,0,83,83,0,{"$nulls":4},83]
["650-091-813-0",0,0,66,66,0,{"$nulls":4},66]
["650-150-078-0",0,0,125,125,0,{"$nulls":4},125]
["650-151-500-0",0,2,208,208,0,{"$nulls":4},210]
["650-151-505-0",0,6,450,450,0,{"$nulls":4},456]
["650-151-508-0",0,49,48,48,0,{"$nulls":4},97]
["650-151-513-0",0,0,115,115,0,{"$nulls":4},115]
["650-151-538-0",0,8,250,250,0,{"$nulls":4},258]
["650-151-901-0",0,0,200,200,0,{"$nulls":4},200]
["650-151-903-0",0,0,71,71,0,{"$nulls":4},71]
["650-151-922-0",0,2,689,689,0,{"$nulls":4},691]
["650-152-703-0",0,0,995,995,0,{"$nulls":4},995]
["650-152-854-0",0,2,215,215,0,{"$nulls":4},217]
["650-152-855-0",0,3,348,348,0,{"$nulls":4},351]
["650-152-856-0",0,0,173,173,0,{"$nulls":4},173]
["650-152-857-0",0,0,182,182,0,{"$nulls":4},182]
["650-152-865-0",0,0,208,208,0,{"$nulls":4},208]
["650-152-867-0",0,0,340,340,0,{"$nulls":4},340]
["650-152-901-0",0,0,141,141,0,{"$nulls":4},141]
["650-153-202-0",0,0,126,126,0,{"$nulls":4},126]
["650-153-203-0",0,0,178,178,0,{"$nulls":4},178]
["650-153-204-0",0,0,74,74,0,{"$nulls":4},74]
["650-153-212-0",0,2,493,493,0,{"$nulls":4},495]
["650-153-213-0",0,5,335,335,0,{"$nulls":4},340]
["650-153-214-0",0,0,289,289,0,{"$nulls":4},289]
["650-153-215-0",0,0,120,120,0,{"$nulls":4},120]
["650-153-216-0",25,34,492,492,0,{"$nulls":4},501]
["650-153-218-0",0,0,766,766,0,{"$nulls":4},766]
["650-153-219-0",0,0,144,144,0,{"$nulls":4},144]
["650-153-220-0",0,1,51,51,0,{"$nulls":4},52]
["650-153-228-0",0,0,100,100,0,{"$nulls":4},100]
["650-153-231-0",0,14,378,378,0,{"$nulls":4},392]
["650-153-351-0",0,0,83,83,0,{"$nulls":4},83]
["650-153-352-0",0,2,710,710,0,{"$nulls":4},712]
["650-153-353-0",0,16,224,224,0,{"$nulls":4},240]
["650-153-354-0",0,6,956,956,0,{"$nulls":4},962]
["650-153-355-0",0,0,835,835,0,{"$nulls":4},835]
["650-153-356-0",0,0,254,254,0,{"$nulls":4},254]
["650-153-358-0",0,0,165,165,0,{"$nulls":4},165]
["650-153-363-0",0,0,26,26,0,{"$nulls":4},26]
["650-153-364-0",0,0,91,91,0,{"$nulls":4},91]
["650-153-366-0",0,0,245,245,0,{"$nulls":4},245]
["650-153-502-0",0,5,368,368,0,{"$nulls":4},373]
["650-153-503-0",0,0,49,{"$f":"(K1989+B1989)-C1989","v":49},{"$f":"D1989-E1989","v":0},{"$nulls":4},49]
["650-153-504-0",25,33,1662,1662,0,{"$nulls":4},1670]
["650-153-506-0",200,15,618,618,0,{"$nulls":4},433]
["650-153-508-0",0,0,93,93,0,{"$nulls":4},93]
["650-153-509-0",0,0,340,340,0,{"$nulls":4},340]
["650-153-525-0",0,4,103,103,0,{"$nulls":4},107]
["650-153-527-0",0,0,65,65,0,{"$nulls":4},65]
["650-153-532-0",0,0,115,115,0,{"$nulls":4},115]
["650-153-533-0",0,0,98,98,0,{"$nulls":4},98]
["650-153-534-0",0,0,111,111,0,{"$nulls":4},111]
["650-153-535-0",0,0,77,77,0,{"$nulls":4},77]
["650-153-601-0",0,0,56,56,0,{"$nulls":4},56]
["650-153-630-0",0,0,219,219,0,{"$nulls":4},219]
["650-191-698-0",0,0,80,80,0,{"$nulls":4},80]
["650-192-653-0",0,0,453,453,0,{"$nulls":4},453]
["650-192-654-0",0,0,256,256,0,{"$nulls":4},256]
["650-192-655-0",0,0,783,783,0,{"$nulls":4},783]
["650-192-657-0",0,1,434,434,0,{"$nulls":4},435]
["650-192-664-0",0,0,294,294,0,{"$nulls":4},294]
["650-192-665-0",0,1,357,357,0,{"$nulls":4},358]
["650-192-666-0",0,0,471,471,0,{"$nulls":4},471]
["650-192-671-0",0,0,402,402,0,{"$nulls":4},402]
["650-192-674-0",0,0,220,220,0,{"$nulls":4},220]
["650-192-675-0",0,0,232,232,0,{"$nulls":4},232]
["650-192-676-0",0,0,278,278,0,{"$nulls":4},278]
["650-192-677-0",0,1,171,171,0,{"$nulls":4},172]
["650-192-678-0",0,0,145,145,0,{"$nulls":4},145]
["650-192-688-0",0,0,358,358,0,{"$nulls":4},358]
["650-192-689-0",0,0,178,178,0,{"$nulls":4},178]
["650-192-690-0",0,0,535,535,0,{"$nulls":4},535]
["650-192-691-0",0,0,290,290,0,{"$nulls":4},290]
["650-192-693-0",0,0,219,219,0,{"$nulls":4},219]
["650-192-694-0",0,0,0,0,0,{"$nulls":4},0]
["650-192-695-0",0,0,268,268,0,{"$nulls":4},268]
["650-192-698-0",0,0,438,438,0,{"$nulls":4},438]
["650-192-704-0",0,0,526,526,0,{"$nulls":4},526]
["650-192-706-0",0,6,535,535,0,{"$nulls":4},541]
["650-192-708-0",0,1,271,271,0,{"$nulls":4},272]
["650-192-721-0",0,0,396,396,0,{"$nulls":4},396]
["650-192-726-0",0,0,47,47,0,{"$nulls":4},47]
["650-192-854-0",0,0,156,156,0,{"$nulls":4},156]
["650-192-887-0",0,0,17,17,0,{"$nulls":4},17]
["650-201-013-0",0,0,244,244,0,{"$nulls":4},244]
["650-201-521-0",0,0,0,0,0,{"$nulls":4},0]
["650-201-641-0",0,12,183,183,0,{"$nulls":4},195]
["650-201-824-0",0,0,433,433,0,{"$nulls":4},433]
["650-201-828-0",0,0,72,72,0,{"$nulls":4},72]
["650-201-829-0",0,0,16,16,0,{"$nulls":4},16]
["650-277-010-0",0,0,251,251,0,{"$nulls":4},251]
["650-291-070-0",0,0,0,0,0,{"$nulls":4},0]
["650-291-170-0",0,0,42,42,0,{"$nulls":4},42]
["650-291-171-0",0,0,87,87,0,{"$nulls":4},87]
["650-291-202-0",0,0,86,86,0,{"$nulls":4},86]
["650-291-203-0",0,0,4916,4916,0,{"$nulls":4},4916]
["650-301-701-0",0,0,12937,12937,0,{"$nulls":4},12937]
["650-301-702-0",0,0,0,0,0,{"$nulls":4},0]
["650-301-711-0",0,0,3210,3210,0,{"$nulls":4},3210]
["650-301-712-0",0,0,100,100,0,{"$nulls":4},100]
["650-301-713-0",0,0,7506,7506,0,{"$nulls":4},7506]
["650-301-721-0",0,0,0,0,0,{"$nulls":4},0]
["650-301-722-0",0,0,0,0,0,{"$nulls":4},0]
["650-301-811-0",0,16,4547,4547,0,{"$nulls":4},4563]
["650-301-821-0",0,0,3823,3823,0,{"$nulls":4},3823]
["650-302-603-0",0,0,71,71,0,{"$nulls":4},71]
["650-303-150-0",0,0,2957,{"$f":"(K2053+B2053)-C2053","v":2957},{"$f":"D2053-E2053","v":0},{"$nulls":4},2957]
["650-303-152-0",0,0,454,454,0,{"$nulls":4},454]
["650-303-653-0",0,0,152,152,0,{"$nulls":4},152]
["650-303-821-0",0,0,1351,1351,0,{"$nulls":4},1351]
["650-303-823-0",0,0,3495,3495,0,{"$nulls":4},3495]
["650-303-825-0",0,0,988,988,0,{"$nulls":4},988]
["650-304-212-0",0,0,866,866,0,{"$nulls":4},866]
["650-304-221-0",0,0,601,601,0,{"$nulls":4},601]
["650-304-502-0",0,0,844,844,0,{"$nulls":4},844]
["650-304-503-0",0,0,334,334,0,{"$nulls":4},334]
["650-304-504-0",0,0,161,161,0,{"$nulls":4},161]
["650-304-510-0",0,0,346,346,0,{"$nulls":4},346]
["650-304-512-0",0,0,894,894,0,{"$nulls":4},894]
["650-304-513-0",0,0,36,36,0,{"$nulls":4},36]
["650-304-514-0",0,0,472,472,0,{"$nulls":4},472]
["650-305-016-0",0,0,4060,4060,0,{"$nulls":4},4060]
["650-305-020-0",0,0,4942,4942,0,{"$nulls":4},4942]
["650-305-055-0",0,0,82,82,0,{"$nulls":4},82]
["650-305-341-0",0,2,155,155,0,{"$nulls":4},157]
["650-305-342-0",0,0,259,259,0,{"$nulls":4},259]
["650-309-004-0",0,18,116,116,0,{"$nulls":4},134]
["650-337-013-0",0,0,66,66,0,{"$nulls":4},66]
["650-337-278-0",0,0,39,39,0,{"$nulls":4},39]
["650-341-012-0",0,0,2153,2153,0,{"$nulls":4},2153]
["650-341-082-0",0,0,212,212,0,{"$nulls":4},212]
["650-341-120-0",0,0,763,763,0,{"$nulls":4},763]
["650-341-121-0",0,0,167,167,0,{"$nulls":4},167]
["650-341-122-0",0,5,233,233,0,{"$nulls":4},238]
["650-341-124-0",0,1,646,646,0,{"$nulls":4},647]
["650-341-125-0",0,0,486,486,0,{"$nulls":4},486]
["650-341-126-0",0,0,39,39,0,{"$nulls":4},39]
["650-341-151-0",0,0,729,729,0,{"$nulls":4},729]
["650-341-154-0",0,0,104,104,0,{"$nulls":4},104]
["650-342-005-0",0,0,298,298,0,{"$nulls":4},298]
["650-342-007-0",0,0,480,480,0,{"$nulls":4},480]
["650-342-012-0",0,0,264,264,0,{"$nulls":4},264]
["650-342-013-0",0,0,283,283,0,{"$nulls":4},283]
["650-342-014-0",0,0,105,105,0,{"$nulls":4},105]
["650-342-204-0",0,0,5884,5884,0,{"$nulls":4},5884]
["650-342-220-0",0,1,835,835,0,{"$nulls":4},836]
["650-342-221-0",0,0,471,471,0,{"$nulls":4},471]
["650-342-222-0",0,0,238,238,0,{"$nulls":4},238]
["650-342-223-0",0,0,1090,1090,0,{"$nulls":4},1090]
["650-342-224-0",0,0,724,724,0,{"$nulls":4},724]
["650-342-225-0",0,0,390,390,0,{"$nulls":4},390]
["650-343-001-0",0,0,122,122,0,{"$nulls":4},122]
["650-343-200-0",0,0,83,83,0,{"$nulls":4},83]
["650-351-161-0",0,0,100,100,0,{"$nulls":4},100]
["650-360-002-0",0,0,18,18,0,{"$nulls":4},18]
["650-360-050-0",0,0,52,52,0,{"$nulls":4},52]
["650-362-620-6",0,0,428,428,0,{"$nulls":4},428]
["650-362-621-6",0,20,1700,1700,0,{"$nulls":4},1720]
["650-363-182-0",0,0,52,52,0,{"$nulls":4},52]
["650-363-435-0",0,0,76,76,0,{"$nulls":4},76]
["650-364-510-0",0,0,42,42,0,{"$nulls":4},42]
["650-365-011-0",0,1,27,27,0,{"$nulls":4},28]
["650-365-015-0",0,0,493,493,0,{"$nulls":4},493]
["650-365-021-0",0,1,217,217,0,{"$nulls":4},218]
["650-365-024-0",0,0,99,99,0,{"$nulls":4},99]
["650-365-026-0",0,2,57,57,0,{"$nulls":4},59]
["650-365-053-0",0,0,64,64,0,{"$nulls":4},64]
["650-365-062-0",0,0,78,78,0,{"$nulls":4},78]
["650-365-138-0",0,0,440,440,0,{"$nulls":4},440]
["650-366-520-0",0,1,49,49,0,{"$nulls":4},50]
["650-367-002-0",0,0,0,{"$f":"(K2117+B2117)-C2117","v":0},{"$f":"D2117-E2117","v":0},{"$nulls":4},0]
["650-379-120-0",0,0,594,594,0,{"$nulls":4},594]
["650-389-031-0",0,0,122,122,0,{"$nulls":4},122]
["650-389-032-0",0,0,155,155,0,{"$nulls":4},155]
["650-389-033-0",0,0,90,90,0,{"$nulls":4},90]
["650-389-035-0",0,0,40,40,0,{"$nulls":4},40]
["650-389-036-0",0,1,84,84,0,{"$nulls":4},85]
["650-391-009-0",0,1,5879,5879,0,{"$nulls":4},5880]
["650-391-010-0",0,0,73,73,0,{"$nulls":4},73]
["650-391-048-0",0,2,11187,11187,0,{"$nulls":4},11189]
["650-392-041-0",0,0,317,317,0,{"$nulls":4},317]
["650-392-054-0",0,0,375,375,0,{"$nulls":4},375]
["650-392-055-0",0,0,633,633,0,{"$nulls":4},633]
["650-392-056-0",0,0,452,452,0,{"$nulls":4},452]
["650-392-063-0",0,0,572,572,0,{"$nulls":4},572]
["650-392-089-0",0,0,165,165,0,{"$nulls":4},165]
["650-392-101-0",0,0,319,319,0,{"$nulls":4},319]
["650-392-216-0",0,0,383,383,0,{"$nulls":4},383]
["650-392-249-0",0,0,679,679,0,{"$nulls":4},679]
["650-393-019-0",0,0,0,0,0,{"$nulls":4},0]
["650-393-028-0",0,0,147,147,0,{"$nulls":4},147]
["650-393-029-0",0,0,0,0,0,{"$nulls":4},0]
["650-393-037-0",0,0,0,0,0,{"$nulls":4},0]
["650-393-041-0",0,0,0,0,0,{"$nulls":4},0]
["650-393-047-0",0,0,0,0,0,{"$nulls":4},0]
["650-393-051-0",0,0,0,0,0,{"$nulls":4},0]
["650-393-053-0",0,0,0,0,0,{"$nulls":4},0]
["650-393-054-0",0,0,0,0,0,{"$nulls":4},0]
["650-393-057-0",0,2,29,29,0,{"$nulls":4},31]
["650-393-058-0",0,0,412,412,0,{"$nulls":4},412]
["650-393-061-0",0,0,629,629,0,{"$nulls":4},629]
["650-393-065-0",0,2,86,86,0,{"$nulls":4},88]
["650-393-071-0",0,0,1308,1308,0,{"$nulls":4},1308]
["650-393-078-0",0,0,0,0,0,{"$nulls":4},0]
["650-393-080-0",0,1,368,368,0,{"$nulls":4},369]
["650-393-081-0",0,1,142,142,0,{"$nulls":4},143]
["650-393-086-0",0,0,0,0,0,{"$nulls":4},0]
["650-393-089-0",0,0,0,0,0,{"$nulls":4},0]
["650-393-092-0",0,0,0,0,0,{"$nulls":4},0]
["650-393-095-0",0,0,0,0,0,{"$nulls":4},0]
["650-393-096-0",0,0,0,0,0,{"$nulls":4},0]
["650-393-098-0",0,0,0,0,0,{"$nulls":4},0]
["650-393-101-0",0,0,0,0,0,{"$nulls":4},0]
["650-393-102-0",0,0,0,0,0,{"$nulls":4},0]
["650-393-108-0",0,0,0,0,0,{"$nulls":4},0]
["650-393-155-0",0,0,91,91,0,{"$nulls":4},91]
["650-393-171-0",0,0,99,99,0,{"$nulls":4},99]
["650-393-216-0",0,0,426,426,0,{"$nulls":4},426]
["650-393-236-0",0,3,116,116,0,{"$nulls":4},119]
["650-393-248-0",0,0,0,0,0,{"$nulls":4},0]
["650-393-260-0",0,1,68,68,0,{"$nulls":4},69]
["650-393-268-0",0,2,202,202,0,{"$nulls":4},204]
["650-393-276-0",0,0,52,52,0,{"$nulls":4},52]
["650-393-317-0",0,0,0,0,0,{"$nulls":4},0]
["650-393-329-0",0,0,72,72,0,{"$nulls":4},72]
["650-403-002-0",0,0,573,573,0,{"$nulls":4},573]
["650-403-003-0",0,1,71,71,0,{"$nulls":4},72]
["650-403-004-0",0,0,368,368,0,{"$nulls":4},368]
["650-403-005-0",0,0,101,101,0,{"$nulls":4},101]
["650-403-006-0",0,0,101,101,0,{"$nulls":4},101]
["650-403-007-0",0,0,112,112,0,{"$nulls":4},112]
["650-403-008-0",0,0,16,16,0,{"$nulls":4},16]
["650-403-022-0",0,1,296,296,0,{"$nulls":4},297]
["650-403-023-0",0,0,270,270,0,{"$nulls":4},270]
["650-403-024-0",0,0,171,{"$f":"(K2181+B2181)-C2181","v":171},{"$f":"D2181-E2181","v":0},{"$nulls":4},171]
["650-403-025-0",0,0,77,77,0,{"$nulls":4},77]
["650-403-026-0",0,0,204,204,0,{"$nulls":4},204]
["650-403-027-0",0,0,101,101,0,{"$nulls":4},101]
["650-403-028-0",0,0,83,83,0,{"$nulls":4},83]
["650-403-029-0",0,0,33,33,0,{"$nulls":4},33]
["650-403-030-0",0,0,105,105,0,{"$nulls":4},105]
["650-403-031-0",0,0,83,83,0,{"$nulls":4},83]
["650-403-042-0",0,1,492,492,0,{"$nulls":4},493]
["650-403-043-0",0,0,479,479,0,{"$nulls":4},479]
["650-403-044-0",0,0,117,117,0,{"$nulls":4},117]
["650-403-045-0",0,0,44,44,0,{"$nulls":4},44]
["650-403-046-0",0,0,75,75,0,{"$nulls":4},75]
["650-403-047-0",0,0,38,38,0,{"$nulls":4},38]
["650-403-048-0",0,0,91,91,0,{"$nulls":4},91]
["650-403-049-0",0,0,88,88,0,{"$nulls":4},88]
["650-403-050-0",0,0,42,42,0,{"$nulls":4},42]
["650-403-051-0",0,0,42,42,0,{"$nulls":4},42]
["650-403-062-0",0,1,203,203,0,{"$nulls":4},204]
["650-403-063-0",0,0,100,100,0,{"$nulls":4},100]
["650-403-064-0",0,0,181,181,0,{"$nulls":4},181]
["650-403-065-0",0,0,96,96,0,{"$nulls":4},96]
["650-403-066-0",0,0,129,129,0,{"$nulls":4},129]
["650-403-067-0",0,0,46,46,0,{"$nulls":4},46]
["650-403-068-0",0,0,69,69,0,{"$nulls":4},69]
["650-403-069-0",0,0,88,88,0,{"$nulls":4},88]
["650-403-070-0",0,0,58,58,0,{"$nulls":4},58]
["650-403-071-0",0,0,45,45,0,{"$nulls":4},45]
["650-404-051-0",0,0,165,165,0,{"$nulls":4},165]
["650-419-020-0",0,0,125,125,0,{"$nulls":4},125]
["650-461-002-0",0,0,359,359,0,{"$nulls":4},359]
["650-461-902-0",0,0,94,94,0,{"$nulls":4},94]
["650-462-501-0",0,0,59,59,0,{"$nulls":4},59]
["650-462-502-0",0,0,52,52,0,{"$nulls":4},52]
["650-462-503-0",0,0,36,36,0,{"$nulls":4},36]
["650-462-504-0",0,0,19,19,0,{"$nulls":4},19]
["650-462-505-0",0,0,79,79,0,{"$nulls":4},79]
["650-462-766-0",0,0,59,59,0,{"$nulls":4},59]
["650-462-781-0",0,0,25,25,0,{"$nulls":4},25]
["650-771-040-0",0,0,75,75,0,{"$nulls":4},75]
["650-772-022-0",0,0,750,750,0,{"$nulls":4},750]
["650-773-106-0",0,80,1216,1216,0,{"$nulls":4},1296]
["650-773-107-0",0,0,325,325,0,{"$nulls":4},325]
["650-773-108-0",0,0,59,59,0,{"$nulls":4},59]
["650-773-112-0",0,4,49,49,0,{"$nulls":4},53]
["650-773-113-0",0,0,10,10,0,{"$nulls":4},10]
["650-773-115-0",0,0,0,0,0,{"$nulls":4},0]
["650-773-121-0",0,0,4,4,0,{"$nulls":4},4]
["650-773-123-0",0,0,0,0,0,{"$nulls":4},0]
["650-774-093-0",0,0,376,376,0,{"$nulls":4},376]
["650-774-096-0",0,0,332,332,0,{"$nulls":4},332]
["650-774-099-0",0,0,37,37,0,{"$nulls":4},37]
["650-774-111-0",0,0,152,152,0,{"$nulls":4},152]
["650-777-154-0",0,0,500,500,0,{"$nulls":4},500]
["650-777-162-0",0,0,484,484,0,{"$nulls":4},484]
["650-777-166-0",0,0,94,94,0,{"$nulls":4},94]
["650-779-047-0",0,0,212,212,0,{"$nulls":4},212]
["650-779-049-0",0,0,0,0,0,{"$nulls":4},0]
["650-779-050-0",0,0,142,142,0,{"$nulls":4},142]
["650-779-051-0",0,0,287,287,0,{"$nulls":4},287]
["650-779-053-0",0,2,7,7,0,{"$nulls":4},9]
["650-779-054-0",0,0,60,60,0,{"$nulls":4},60]
["650-779-062-0",0,0,964,964,0,{"$nulls":4},964]
["650-779-063-0",0,30,2276,2276,0,{"$nulls":4},2306]
["650-779-064-0",0,0,8765,{"$f":"(K2245+B2245)-C2245","v":8765},{"$f":"D2245-E2245","v":0},{"$nulls":4},8765]
["650-781-078-0",0,0,0,0,0,{"$nulls":4},0]
["650-781-079-0",0,0,513,513,0,{"$nulls":4},513]
["650-781-080-0",0,0,100,100,0,{"$nulls":4},100]
["650-781-085-0",0,0,100,100,0,{"$nulls":4},100]
["650-781-088-0",0,0,3,3,0,{"$nulls":4},3]
["650-781-101-0",0,0,96,96,0,{"$nulls":4},96]
["650-781-105-0",0,23,54,54,0,{"$nulls":4},77]
["650-781-108-0",0,12,362,362,0,{"$nulls":4},374]
["650-783-049-0",0,66,793,793,0,{"$nulls":4},859]
["650-783-058-0",0,0,76,76,0,{"$nulls":4},76]
["650-783-065-0",0,0,57,57,0,{"$nulls":4},57]
["650-783-066-0",0,0,66,66,0,{"$nulls":4},66]
["650-784-044-0",0,120,2709,2709,0,{"$nulls":4},2829]
["650-784-070-0",0,0,915,915,0,{"$nulls":4},915]
["650-784-077-0",0,0,58,58,0,{"$nulls":4},58]
["650-785-003-0",0,0,7,7,0,{"$nulls":4},7]
["650-785-223-0",0,0,7,7,0,{"$nulls":4},7]
["650-786-021-0",0,0,569,569,0,{"$nulls":4},569]
["650-786-077-0",0,0,38,38,0,{"$nulls":4},38]
["650-786-138-0",0,0,78,78,0,{"$nulls":4},78]
["650-786-139-0",0,0,49,49,0,{"$nulls":4},49]
["650-786-141-0",0,0,48,48,0,{"$nulls":4},48]
["650-786-166-0",0,0,95,95,0,{"$nulls":4},95]
["650-788-131-0",0,1,70,70,0,{"$nulls":4},71]
["650-788-275-0",0,0,53,53,0,{"$nulls":4},53]
["650-788-276-0",0,3,54,54,0,{"$nulls":4},57]
["650-788-583-0",0,1,410,410,0,{"$nulls":4},411]
["650-788-584-0",0,1,26,26,0,{"$nulls":4},27]
["650-788-585-0",0,0,9,9,0,{"$nulls":4},9]
["650-788-586-0",0,1,483,483,0,{"$nulls":4},484]
["650-788-587-0",0,0,11,11,0,{"$nulls":4},11]
["650-791-066-0",0,0,0,0,0,{"$nulls":4},0]
["650-791-090-0",0,0,0,0,0,{"$nulls":4},0]
["650-791-091-0",0,0,0,0,0,{"$nulls":4},0]
["650-791-093-0",0,0,19,19,0,{"$nulls":4},19]
["650-794-103-0",0,0,123,123,0,{"$nulls":4},123]
["650-794-106-0",0,0,113,113,0,{"$nulls":4},113]
["650-804-003-0",0,0,242,242,0,{"$nulls":4},242]
["650-804-006-0",0,0,0,0,0,{"$nulls":4},0]
["650-805-023-0",0,0,111,111,0,{"$nulls":4},111]
["650-805-028-0",0,1,1644,1644,0,{"$nulls":4},1645]
["650-805-029-0",0,2,1586,1586,0,{"$nulls":4},1588]
["650-819-003-0",0,0,67,67,0,{"$nulls":4},67]
["650-819-004-0",0,0,9,9,0,{"$nulls":4},9]
["650-819-005-0",0,0,0,0,0,{"$nulls":4},0]
["650-819-016-0",0,0,51,51,0,{"$nulls":4},51]
["650-819-017-0",0,0,96,96,0,{"$nulls":4},96]
["650-819-018-0",0,0,34,34,0,{"$nulls":4},34]
["650-972-010-0",0,17,914,914,0,{"$nulls":4},931]
["650-972-011-0",0,0,824,824,0,{"$nulls":4},824]
["650-972-012-0",0,0,885,885,0,{"$nulls":4},885]
["650-972-015-0",0,0,18,18,0,{"$nulls":4},18]
["650-972-020-0",0,0,685,685,0,{"$nulls":4},685]
["650-972-030-0",0,0,203,203,0,{"$nulls":4},203]
["650-972-038-0",0,0,0,0,0,{"$nulls":4},0]
["650-972-045-0",0,0,423,423,0,{"$nulls":4},423]
["650-972-505-0",0,0,832,832,0,{"$nulls":4},832]
["650-972-506-0",0,0,1484,1484,0,{"$nulls":4},1484]
["650-975-010-0",0,0,512,512,0,{"$nulls":4},512]
["650-975-015-0",0,0,66,66,0,{"$nulls":4},66]
["650-975-018-0",0,0,281,281,0,{"$nulls":4},281]
["650-975-019-0",0,0,331,331,0,{"$nulls":4},331]
["650-975-020-0",0,0,356,356,0,{"$nulls":4},356]
["650-975-021-0",0,0,458,{"$f":"(K2309+B2309)-C2309","v":458},{"$f":"D2309-E2309","v":0},{"$nulls":4},458]
["650-975-022-0",0,0,284,284,0,{"$nulls":4},284]
["650-975-024-0",0,0,720,720,0,{"$nulls":4},720]
["650-975-038-0",0,0,207,207,0,{"$nulls":4},207]
["650-976-012-0",0,0,1752,1752,0,{"$nulls":4},1752]
["650-976-014-0",0,0,282,282,0,{"$nulls":4},282]
["650-976-019-0",0,0,754,754,0,{"$nulls":4},754]
["650-976-020-0",0,0,185,185,0,{"$nulls":4},185]
["650-976-021-0",0,0,649,649,0,{"$nulls":4},649]
["650-976-022-0",0,0,789,789,0,{"$nulls":4},789]
["650-976-023-0",0,0,387,387,0,{"$nulls":4},387]
["650-976-024-0",0,0,265,265,0,{"$nulls":4},265]
["650-976-038-0",0,0,282,282,0,{"$nulls":4},282]
["650-977-201-0",0,0,409,409,0,{"$nulls":4},409]
["650-977-202-0",0,0,239,239,0,{"$nulls":4},239]
["650-977-203-0",0,0,292,292,0,{"$nulls":4},292]
["650-977-205-0",0,0,389,389,0,{"$nulls":4},389]
["650-977-206-0",0,0,454,454,0,{"$nulls":4},454]
["650-977-208-0",0,0,445,445,0,{"$nulls":4},445]
["650-977-222-0",0,0,2846,2846,0,{"$nulls":4},2846]
["650-977-223-0",0,0,263,263,0,{"$nulls":4},263]
["650-977-226-0",0,0,522,522,0,{"$nulls":4},522]
["650-977-227-0",0,0,375,375,0,{"$nulls":4},375]
["650-977-322-0",0,0,0,0,0,{"$nulls":4},0]
["650-993-051-0",0,0,0,0,0,{"$nulls":4},0]
["650-993-052-0",0,0,17,17,0,{"$nulls":4},17]
["650-993-102-0",0,0,16,16,0,{"$nulls":4},16]
["650-993-103-0",0,1,9,9,0,{"$nulls":4},10]
["650-993-104-0",0,0,19,19,0,{"$nulls":4},19]
["650-993-106-0",0,0,10,10,0,{"$nulls":4},10]
["650-993-151-0",0,0,47,47,0,{"$nulls":4},47]
["66241-08A",0,0,18,18,0,{"$nulls":4},18]
["66241-10A",0,0,3,3,0,{"$nulls":4},3]
["66241-12A",0,0,12,12,0,{"$nulls":4},12]
["66241-14A",0,0,4,4,0,{"$nulls":4},4]
["66241-16A",0,0,9,9,0,{"$nulls":4},9]
["66241-18A",0,0,7,7,0,{"$nulls":4},7]
["66241-20A",0,0,7,7,0,{"$nulls":4},7]
["6801-100",0,0,27,27,0,{"$nulls":4},27]
["689-502-273-0",0,0,1434,1434,0,{"$nulls":4},1434]
["689-502-321-0",0,0,46,46,0,{"$nulls":4},46]
["689-503-250-0",0,0,249,249,0,{"$nulls":4},249]
["689-700-001-0",0,0,112,112,0,{"$nulls":4},112]
["689-760-015-0",0,0,0,0,0,{"$nulls":4},0]
["689-760-061-0",0,0,0,0,0,{"$nulls":4},0]
["689-760-085-0",0,0,0,0,0,{"$nulls":4},0]
["689-980-029-0",0,0,25,25,0,{"$nulls":4},25]
["690 A 16-3",0,0,0,0,0,{"$nulls":4},0]
["690A16-3",0,0,37,37,0,{"$nulls":4},37]
["70-841651-1",0,0,30,30,0,{"$nulls":4},30]
["79-841651",0,0,13,13,0,{"$nulls":4},13]
["80246-1",0,0,98,98,0,{"$nulls":4},98]
["81-841651",0,0,11,11,0,{"$nulls":4},11]
["82-841651",0,0,13,13,0,{"$nulls":4},13]
["8500-5597",0,0,100,100,0,{"$nulls":4},100]
["851-36RA20-41S50",0,0,2,2,0,{"$nulls":4},2]
["8522-389A",0,0,0,0,0,{"$nulls":4},0]
["85330WS1415PNL",0,0,0,0,0,{"$nulls":4},0]
["8533-2Y12-03PN",0,0,66,66,0,{"$nulls":4},66]
["8533-4KS08-03S6",0,0,0,0,0,{"$nulls":4},0]
["8533-4WS-18-31SN",0,0,2,2,0,{"$nulls":4},2]
["8533-4WS-20-39SN",0,0,1,1,0,{"$nulls":4},1]
["8533-4WS-20-41S6",0,0,2,2,0,{"$nulls":4},2]
["8533-4WS-22-55SN",0,0,0,0,0,{"$nulls":4},0]
["888-560-800-1",0,0,0,{"$f":"(K2373+B2373)-C2373","v":0},{"$f":"D2373-E2373","v":0},{"$nulls":4},0]
["889-404-653-0",0,0,1027,1027,0,{"$nulls":4},1027]
["889-404-672-0",0,0,0,0,0,{"$nulls":4},0]
["9201-107-0",0,0,6,6,0,{"$nulls":4},6]
["951086-0",0,0,0,0,0,{"$nulls":4},0]
["97500-2931",0,0,60,60,0,{"$nulls":4},60]
["97500-2944",0,0,60,60,0,{"$nulls":4},60]
["983-0S-08-03P6",0,0,4,4,0,{"$nulls":4},4]
["983-0S-08-03PN",0,0,4,4,0,{"$nulls":4},4]
["983-0S-10-06PN",0,0,4,4,0,{"$nulls":4},4]
["983-0S-12-03PN",0,0,3,3,0,{"$nulls":4},3]
["983-0WS-08-03PN",0,0,5,5,0,{"$nulls":4},5]
["983-0WS-12-03PN",0,0,5,5,0,{"$nulls":4},5]
["983-0WS-12-12PN",0,0,9,9,0,{"$nulls":4},9]
["983-0WS-14-15PN",0,0,4,4,0,{"$nulls":4},4]
["983-0WS-16-24PN",0,0,4,4,0,{"$nulls":4},4]
["983-0WS-18-31P6",0,0,4,4,0,{"$nulls":4},4]
["983-0WS-18-31PN",0,0,3,3,0,{"$nulls":4},3]
["983-0WS-20-41P6",0,0,4,4,0,{"$nulls":4},4]
["983-0WS-20-41PN",0,0,3,3,0,{"$nulls":4},3]
["983-3KE-C08",0,0,20,20,0,{"$nulls":4},20]
["983-3KE-C10",0,0,9,9,0,{"$nulls":4},9]
["983-3KE-C12",0,0,10,10,0,{"$nulls":4},10]
["983-3W-C08",0,0,3,3,0,{"$nulls":4},3]
["983-3W-C12",0,0,13,13,0,{"$nulls":4},13]
["983-3W-C14",0,0,9,9,0,{"$nulls":4},9]
["983-3W-C16",0,0,9,9,0,{"$nulls":4},9]
["983-3W-C18",0,0,7,7,0,{"$nulls":4},7]
["983-3W-C20",0,0,7,7,0,{"$nulls":4},7]
["983-4W-C10",0,0,9,9,0,{"$nulls":4},9]
["983-6WS-10-06SN",0,0,4,4,0,{"$nulls":4},4]
["A25400028-206A",0,0,0,0,0,{"$nulls":4},0]
["A25400028-207",0,0,2,2,0,{"$nulls":4},2]
["A25400028-207A",0,0,2,2,0,{"$nulls":4},2]
["A46447-83",0,0,66,66,0,{"$nulls":4},66]
["A46702",0,0,444,444,0,{"$nulls":4},444]
["A46797",0,0,868,868,0,{"$nulls":4},868]
["A47400-3041",0,0,53,53,0,{"$nulls":4},53]
["A47646",0,0,37,37,0,{"$nulls":4},37]
["A73948",0,0,91,91,0,{"$nulls":4},91]
["A80246-1",0,0,197,197,0,{"$nulls":4},197]
["A80324-13",0,0,51,51,0,{"$nulls":4},51]
["A80904-1",0,0,15,15,0,{"$nulls":4},15]
["A80905-2",0,0,45,45,0,{"$nulls":4},45]
["A80907",0,0,49,49,0,{"$nulls":4},49]
["A80910-9",2,0,41,41,0,{"$nulls":4},39]
["A80912-1",0,0,61,61,0,{"$nulls":4},61]
["A80929-2",0,0,29,29,0,{"$nulls":4},29]
["A81278",0,0,25,25,0,{"$nulls":4},25]
["A81279-2",0,0,25,25,0,{"$nulls":4},25]
["A87565-2",0,0,99,99,0,{"$nulls":4},99]
["A87870",0,0,18,18,0,{"$nulls":4},18]
["A88132",0,0,36,36,0,{"$nulls":4},36]
["A88819",0,0,17,17,0,{"$nulls":4},17]
["A88820",0,0,25,25,0,{"$nulls":4},25]
["A88821",0,0,74,74,0,{"$nulls":4},74]
["A88823",0,0,15,15,0,{"$nulls":4},15]
["A88825",0,0,17,17,0,{"$nulls":4},17]
["A88826",0,0,0,0,0,{"$nulls":4},0]
["A88826-1",0,0,37,37,0,{"$nulls":4},37]
["A88826-2",0,0,0,0,0,{"$nulls":4},0]
["AA00164A",0,0,1472,1472,0,{"$nulls":4},1472]
["AE43697BAA",0,0,394,394,0,{"$nulls":4},394]
["AE43698CAA",0,2,151,151,0,{"$nulls":4},153]
["AGF0507BLANC",0,0,824,{"$f":"(K2437+B2437)-C2437","v":824},{"$f":"D2437-E2437","v":0},{"$nulls":4},824]
["AGF0507BLS",0,0,735,735,0,{"$nulls":4},735]
["AIG2,5X9,8BR/G2-0-2",0,0,1000,1000,0,{"$nulls":4},1000]
["AIG2X11,8BR/G2-0-2",0,0,1160,1160,0,{"$nulls":4},1160]
["ATUM19/6-0",0,0,6,6,0,{"$nulls":4},6]
["AX 50531",0,0,0,0,0,{"$nulls":4},0]
["AX50531",0,1,17,17,0,{"$nulls":4},18]
["BPYFA10106T01",0,0,0,0,0,{"$nulls":4},0]
["BPZHA10004T01",0,0,166,166,0,{"$nulls":4},166]
["BSA6DF801A",0,0,46,46,0,{"$nulls":4},46]
["BT110-1",0,0,172,172,0,{"$nulls":4},172]
["BT90-1",0,0,184,184,0,{"$nulls":4},184]
["C58450-21",0,0,372,372,0,{"$nulls":4},372]
["C70968",0,0,56,56,0,{"$nulls":4},56]
["C70969",0,0,65,65,0,{"$nulls":4},65]
["C70970",0,0,17,17,0,{"$nulls":4},17]
["C71668",0,0,40,40,0,{"$nulls":4},40]
["C71684",0,0,35,35,0,{"$nulls":4},35]
["C71685",0,0,23,23,0,{"$nulls":4},23]
["C71686",0,0,16,16,0,{"$nulls":4},16]
["C71688",0,0,17,17,0,{"$nulls":4},17]
["C71695",0,0,7,7,0,{"$nulls":4},7]
["CA00149A",0,1,3,3,0,{"$nulls":4},4]
["CSNFB30/3-05RH3BA3040",0,0,9,9,0,{"$nulls":4},9]
["D142-51",0,0,336,336,0,{"$nulls":4},336]
["D142-52",0,0,85,85,0,{"$nulls":4},85]
["D-142-52",0,0,0,0,0,{"$nulls":4},0]
["D-436-37",0,0,89,89,0,{"$nulls":4},89]
["D-436-38",0,0,9,9,0,{"$nulls":4},9]
["D92503-4",0,0,135,135,0,{"$nulls":4},135]
["DR-25-1/2-0-CS34034",0,0,14,14,0,{"$nulls":4},14]
["DR-25-1/4-0-CS34034",0,0,50,50,0,{"$nulls":4},50]
["DR-25-3/4-0-CS34034",0,0,1,1,0,{"$nulls":4},1]
["DR-25-3/8-0-CS115105",0,0,1,1,0,{"$nulls":4},1]
["DR-25-3/8-0-CS-115105",0,0,0,0,0,{"$nulls":4},0]
["DR-25-3/8-0-CS34034",0,0,5,5,0,{"$nulls":4},5]
["E25766A16-3STS",0,0,0,0,0,{"$nulls":4},0]
["E27489E20-6HVT",0,0,496,496,0,{"$nulls":4},496]
["E27499-16-3HFT",0,0,753,753,0,{"$nulls":4},753]
["E27499-17-3FUT",0,0,400,400,0,{"$nulls":4},400]
["E27499-17-3HFT",0,0,4113,4113,0,{"$nulls":4},4113]
["E27499-20-4HFTZ",0,4,664,664,0,{"$nulls":4},668]
["E27499-20-5HFTZ",0,4,534,534,0,{"$nulls":4},538]
["EM12SP21-A",0,0,88,88,0,{"$nulls":4},88]
["EN2907-050",0,0,994,994,0,{"$nulls":4},994]
["EN2929-060014",0,2,122,122,0,{"$nulls":4},124]
["EN2929-070024",0,0,658,658,0,{"$nulls":4},658]
["EN2939-030006",0,0,366,366,0,{"$nulls":4},366]
["EN2939-030008",0,0,103,103,0,{"$nulls":4},103]
["EN2939-040006",0,0,182,182,0,{"$nulls":4},182]
["EN2939-040008",0,0,91,91,0,{"$nulls":4},91]
["EN2939-040010",0,0,454,454,0,{"$nulls":4},454]
["EN2939-050014",0,0,123,123,0,{"$nulls":4},123]
["EN2940-030008",0,0,546,546,0,{"$nulls":4},546]
["EN2940-030012",0,0,624,624,0,{"$nulls":4},624]
["EN2940-040016",0,0,142,142,0,{"$nulls":4},142]
["EN2942-060090",0,0,100,100,0,{"$nulls":4},100]
["EN2997K60803B6",0,0,10,10,0,{"$nulls":4},10]
["EN2997K60803BN",0,0,32,32,0,{"$nulls":4},32]
["EN2997K61006BN",0,0,9,9,0,{"$nulls":4},9]
["EN2997K61203BN",0,0,10,10,0,{"$nulls":4},10]
["EN2997S60803BN",0,0,10,10,0,{"$nulls":4},10]
["EN2997W60803BN",0,0,8,8,0,{"$nulls":4},8]
["EN2997W61203BN",0,0,10,10,0,{"$nulls":4},10]
["EN2997W61212BN",0,0,13,{"$f":"(K2501+B2501)-C2501","v":13},{"$f":"D2501-E2501","v":0},{"$nulls":4},13]
["EN2997W61415BN",0,0,55,55,0,{"$nulls":4},55]
["EN2997W61624BN",0,0,10,10,0,{"$nulls":4},10]
["EN2997W61831B6",0,0,10,10,0,{"$nulls":4},10]
["EN2997W61831BN",0,0,10,10,0,{"$nulls":4},10]
["EN2997W62041B6",0,0,14,14,0,{"$nulls":4},14]
["EN2997W62041BN",0,0,14,14,0,{"$nulls":4},14]
["EN2997WS01006AN",0,0,20,20,0,{"$nulls":4},20]
["EN2997WS01212MN",0,0,0,0,0,{"$nulls":4},0]
["EN2997WS01415AN",0,0,0,0,0,{"$nulls":4},0]
["EN2997WS01415MN",0,1,5,5,0,{"$nulls":4},6]
["EN3049A0025",0,1,513,513,0,{"$nulls":4},514]
["EN3049A0031",0,0,360,360,0,{"$nulls":4},360]
["EN3049A0035",0,0,309,309,0,{"$nulls":4},309]
["EN3049A0040",0,1,803,803,0,{"$nulls":4},804]
["EN3049A0045",0,6,1966,1966,0,{"$nulls":4},1972]
["EN3049A0050",0,0,937,937,0,{"$nulls":4},937]
["EN3049A0053",0,0,184,184,0,{"$nulls":4},184]
["EN3049A0056",0,0,193,193,0,{"$nulls":4},193]
["EN3049A0060",0,0,234,234,0,{"$nulls":4},234]
["EN3049A0063",0,1,1215,1215,0,{"$nulls":4},1216]
["EN3049A0067",0,1,464,464,0,{"$nulls":4},465]
["EN3049A0071",0,0,355,355,0,{"$nulls":4},355]
["EN3049A0075",0,4,157,157,0,{"$nulls":4},161]
["EN3049A0080",0,1,488,488,0,{"$nulls":4},489]
["EN3049A0085",0,4,198,198,0,{"$nulls":4},202]
["EN3049A0087",0,0,809,809,0,{"$nulls":4},809]
["EN3049A0090",0,0,656,656,0,{"$nulls":4},656]
["EN3049A0095",0,0,1452,1452,0,{"$nulls":4},1452]
["EN3049A0100",0,0,0,0,0,{"$nulls":4},0]
["EN3049A0106",0,3,212,212,0,{"$nulls":4},215]
["EN3049A0112",0,0,876,876,0,{"$nulls":4},876]
["EN3049A0118",0,2,310,310,0,{"$nulls":4},312]
["EN3049A0125",0,0,217,217,0,{"$nulls":4},217]
["EN3049A0132",0,1,152,152,0,{"$nulls":4},153]
["EN3049A0140",0,0,133,133,0,{"$nulls":4},133]
["EN3049A0150",0,0,195,195,0,{"$nulls":4},195]
["EN3049A0160",0,1,594,594,0,{"$nulls":4},595]
["EN3049A0170",0,0,124,124,0,{"$nulls":4},124]
["EN3049A0180",0,0,4754,4754,0,{"$nulls":4},4754]
["EN3049A0190",0,1,6581,6581,0,{"$nulls":4},6582]
["EN3049A0200",0,2,89,89,0,{"$nulls":4},91]
["EN3049A0212",0,1,469,469,0,{"$nulls":4},470]
["EN3049A0224",0,1,814,814,0,{"$nulls":4},815]
["EN3049A0236",0,3,1356,1356,0,{"$nulls":4},1359]
["EN3049A0250",0,4,1536,1536,0,{"$nulls":4},1540]
["EN3049A0265",0,1,1103,1103,0,{"$nulls":4},1104]
["EN3049A0280",0,6,1273,1273,0,{"$nulls":4},1279]
["EN3049A0300",0,5,2089,2089,0,{"$nulls":4},2094]
["EN3049A0315",0,8,1091,1091,0,{"$nulls":4},1099]
["EN3049A0325",0,0,311,311,0,{"$nulls":4},311]
["EN3049A0335",0,2,767,767,0,{"$nulls":4},769]
["EN3049A0345",0,1,381,381,0,{"$nulls":4},382]
["EN3049A0355",0,5,1685,1685,0,{"$nulls":4},1690]
["EN3049A0365",0,1,93,93,0,{"$nulls":4},94]
["EN3049A0375",0,0,186,186,0,{"$nulls":4},186]
["EN3049A0387",0,0,764,764,0,{"$nulls":4},764]
["EN3049A0437",0,8,133,133,0,{"$nulls":4},141]
["EN3049A0450",0,0,542,542,0,{"$nulls":4},542]
["EN3049A0475",0,0,376,376,0,{"$nulls":4},376]
["EN3049A0530",0,0,188,188,0,{"$nulls":4},188]
["EN3049A0560",0,0,643,643,0,{"$nulls":4},643]
["EN3049A0600",0,0,538,538,0,{"$nulls":4},538]
["EN3049A1000",0,1,197,197,0,{"$nulls":4},198]
["EN3049A1250",0,0,189,{"$f":"(K2565+B2565)-C2565","v":189},{"$f":"D2565-E2565","v":0},{"$nulls":4},189]
["EN3049B0045",0,0,283,283,0,{"$nulls":4},283]
["EN3049B0080",0,4,1504,1504,0,{"$nulls":4},1508]
["EN3049B0100",0,2,781,781,0,{"$nulls":4},783]
["EN3049B0106",0,10,170,170,0,{"$nulls":4},180]
["EN3049B0125",0,0,486,486,0,{"$nulls":4},486]
["EN3049B0132",0,2,499,499,0,{"$nulls":4},501]
["EN3049B0140",0,0,29,29,0,{"$nulls":4},29]
["EN3049B0150",0,2,383,383,0,{"$nulls":4},385]
["EN3049B0160",0,0,31,31,0,{"$nulls":4},31]
["EN3049B0170",0,0,1014,1014,0,{"$nulls":4},1014]
["EN3049B0190",0,0,218,218,0,{"$nulls":4},218]
["EN3049B0200",0,0,396,396,0,{"$nulls":4},396]
["EN3049B0212",0,0,189,189,0,{"$nulls":4},189]
["EN3049B0224",0,1,92,92,0,{"$nulls":4},93]
["EN3049B0236",0,7,463,463,0,{"$nulls":4},470]
["EN3049B0250",0,1,246,246,0,{"$nulls":4},247]
["EN3049B0265",0,8,237,237,0,{"$nulls":4},245]
["EN3049B0280",0,8,32,32,0,{"$nulls":4},40]
["EN3049B0315",0,1,222,222,0,{"$nulls":4},223]
["EN3049B0325",0,0,220,220,0,{"$nulls":4},220]
["EN3049B0335",0,0,241,241,0,{"$nulls":4},241]
["EN3049B0437",0,4,599,599,0,{"$nulls":4},603]
["EN3049B0475",0,1,74,74,0,{"$nulls":4},75]
["EN3049B0487",0,1,26,26,0,{"$nulls":4},27]
["EN3049B0545",0,0,117,117,0,{"$nulls":4},117]
["EN3049B0580",0,5,171,171,0,{"$nulls":4},176]
["EN3049B0600",0,5,107,107,0,{"$nulls":4},112]
["EN3049B0750",0,0,0,0,0,{"$nulls":4},0]
["EN3049B0950",0,1,342,342,0,{"$nulls":4},343]
["EN3049B1250",0,0,104,104,0,{"$nulls":4},104]
["EN3049B1500",0,1,95,95,0,{"$nulls":4},96]
["EN3052-050007",0,0,56,56,0,{"$nulls":4},56]
["EN3052-070015",0,0,369,369,0,{"$nulls":4},369]
["EN3155-004M1616",0,0,0,0,0,{"$nulls":4},0]
["EN3155-005F1616",0,0,150,150,0,{"$nulls":4},150]
["EN3155-005F2020",0,0,400,400,0,{"$nulls":4},400]
["EN3155-044M2022",0,0,110,110,0,{"$nulls":4},110]
["EN3155-045F2022",0,0,653,653,0,{"$nulls":4},653]
["EN3239-060",0,0,192,192,0,{"$nulls":4},192]
["EN3637-060",0,0,50,50,0,{"$nulls":4},50]
["EN3637-080",0,0,193,193,0,{"$nulls":4},193]
["EN3637-100",0,30,58,58,0,{"$nulls":4},88]
["EN3720-050",0,444,3045,3045,0,{"$nulls":4},3489]
["EN3720-060",0,13,5443,5443,0,{"$nulls":4},5456]
["EN3720-070",0,1,1756,1756,0,{"$nulls":4},1757]
["EN3720-080",0,12,142,142,0,{"$nulls":4},154]
["EN3720-100",0,0,159,159,0,{"$nulls":4},159]
["EN3720-120",0,0,92,92,0,{"$nulls":4},92]
["EN3723-030",0,0,137,137,0,{"$nulls":4},137]
["EN3723-050",0,0,387,387,0,{"$nulls":4},387]
["EN3723-100",0,0,214,214,0,{"$nulls":4},214]
["EN3832-060014",0,0,120,120,0,{"$nulls":4},120]
["EN3832-060018",0,0,1876,1876,0,{"$nulls":4},1876]
["EN3832-060020",0,19,208,208,0,{"$nulls":4},227]
["EN3832-060022",0,0,746,746,0,{"$nulls":4},746]
["EN3832-060024",0,0,236,236,0,{"$nulls":4},236]
["EN3832-060026",0,0,2421,2421,0,{"$nulls":4},2421]
["EN3832-060034",0,0,223,223,0,{"$nulls":4},223]
["EN3832-070014",0,0,58,58,0,{"$nulls":4},58]
["EN3832-070022",0,0,154,154,0,{"$nulls":4},154]
["EN3832-070024",0,8,287,287,0,{"$nulls":4},295]
["EN3832-070032",0,0,1995,1995,0,{"$nulls":4},1995]
["EN3832-080034",0,0,106,106,0,{"$nulls":4},106]
["EN3832-100040",0,0,362,{"$f":"(K2629+B2629)-C2629","v":362},{"$f":"D2629-E2629","v":0},{"$nulls":4},362]
["EN4011-070",0,0,234,234,0,{"$nulls":4},234]
["ENR03603",0,2,59,59,0,{"$nulls":4},61]
["ESX30/15-05RH3BA23FF2JE2",0,0,0,0,0,{"$nulls":4},0]
["EV5105-0-09",0,0,20,20,0,{"$nulls":4},20]
["EV5105-0-10",0,2,51,51,0,{"$nulls":4},53]
["EV5105-0-11",0,0,16,16,0,{"$nulls":4},16]
["F/K4700",0,0,0,0,0,{"$nulls":4},0]
["FBR3518-32-6",0,0,139,139,0,{"$nulls":4},139]
["FI0134",0,0,176,176,0,{"$nulls":4},176]
["FI1642",0,0,0,0,0,{"$nulls":4},0]
["FSSA1700060A",0,0,262,262,0,{"$nulls":4},262]
["GA71163",0,0,20,20,0,{"$nulls":4},20]
["GA71164-2",0,0,46,46,0,{"$nulls":4},46]
["GA71165",0,0,81,81,0,{"$nulls":4},81]
["GA72139",0,0,15,15,0,{"$nulls":4},15]
["GA72143",0,0,15,15,0,{"$nulls":4},15]
["GA72145",0,0,69,69,0,{"$nulls":4},69]
["GA72168",0,0,14,14,0,{"$nulls":4},14]
["GA72417",0,0,189,189,0,{"$nulls":4},189]
["GPN620U13B",0,0,744,744,0,{"$nulls":4},744]
["GPN620U22B",0,1,409,409,0,{"$nulls":4},410]
["GPN620U22B-RAL3000",0,0,0,0,0,{"$nulls":4},0]
["HE841EC",0,0,0,0,0,{"$nulls":4},0]
["HE843",0,0,0,0,0,{"$nulls":4},0]
["HE844",0,0,10,10,0,{"$nulls":4},10]
["HLM32-05-7",0,0,998,998,0,{"$nulls":4},998]
["HTNS-L/H04-5",0,0,350,350,0,{"$nulls":4},350]
["HTNS-L/H06-5",0,0,265,265,0,{"$nulls":4},265]
["IC1730-1",0,0,0,0,0,{"$nulls":4},0]
["IC2482-14-R",0,0,300,300,0,{"$nulls":4},300]
["IC504-18-23R",0,0,57,57,0,{"$nulls":4},57]
["IC504-24-29R",0,0,62,62,0,{"$nulls":4},62]
["IC504-30-37R",0,0,61,61,0,{"$nulls":4},61]
["IC504-38-45R",0,0,58,58,0,{"$nulls":4},58]
["IC704-14R",0,0,75,75,0,{"$nulls":4},75]
["IC704-18-23R",0,0,0,0,0,{"$nulls":4},0]
["IE-JET08SF",0,0,0,0,0,{"$nulls":4},0]
["INAC6A28-22",0,0,0,0,0,{"$nulls":4},0]
["INAC6A34-38",0,0,0,0,0,{"$nulls":4},0]
["INAC6A35-41",0,0,0,0,0,{"$nulls":4},0]
["INAC6A36-41",0,0,0,0,0,{"$nulls":4},0]
["J206P0500",0,0,84,84,0,{"$nulls":4},84]
["J206P0525",0,0,0,0,0,{"$nulls":4},0]
["J206P0800",0,0,30,30,0,{"$nulls":4},30]
["JETA1872800L",0,0,18,18,0,{"$nulls":4},18]
["JGD54-1",0,0,105,105,0,{"$nulls":4},105]
["JSD47-6",0,0,165,165,0,{"$nulls":4},165]
["KEJETI08SF",0,0,0,0,0,{"$nulls":4},0]
["MS9388-013",0,0,231,231,0,{"$nulls":4},231]
["MS9388-014",0,0,95,95,0,{"$nulls":4},95]
["MS9388-020",0,0,200,200,0,{"$nulls":4},200]
["N100-111CL",0,0,1996,1996,0,{"$nulls":4},1996]
["N100-1185",0,0,181,181,0,{"$nulls":4},181]
["N100-135",0,0,10,10,0,{"$nulls":4},10]
["N100-136CL",0,0,2984,2984,0,{"$nulls":4},2984]
["N100-172",0,0,103,103,0,{"$nulls":4},103]
["N100-193CL",0,0,69,69,0,{"$nulls":4},69]
["N100-226CL",0,0,680,680,0,{"$nulls":4},680]
["NE46589",0,0,31,31,0,{"$nulls":4},31]
["NEC91-21-001",0,0,0,0,0,{"$nulls":4},0]
["NL105-04",0,0,10,10,0,{"$nulls":4},10]
["P3C0416410",0,0,40,40,0,{"$nulls":4},40]
["PA00145A",0,0,20,20,0,{"$nulls":4},20]
["PA00147A",0,0,55,{"$f":"(K2693+B2693)-C2693","v":55},{"$f":"D2693-E2693","v":0},{"$nulls":4},55]
["PA00148A",0,0,11,11,0,{"$nulls":4},11]
["PA00247B",0,0,50,50,0,{"$nulls":4},50]
["PA00247C",0,0,0,0,0,{"$nulls":4},0]
["PLGA1561010",0,0,247,247,0,{"$nulls":4},247]
["PLGA2181010",0,0,255,255,0,{"$nulls":4},255]
["PLGA2810010",0,0,114,114,0,{"$nulls":4},114]
["PRRA2812300L",0,0,30,30,0,{"$nulls":4},30]
["PS0042001IX",0,0,398,398,0,{"$nulls":4},398]
["Q41-154A0",0,0,0,0,0,{"$nulls":4},0]
["Q4-1154A0",0,0,0,0,0,{"$nulls":4},0]
["Q41-155A0",0,0,97,97,0,{"$nulls":4},97]
["Q4-1155A0",0,0,0,0,0,{"$nulls":4},0]
["Q41-157A0",0,0,0,0,0,{"$nulls":4},0]
["Q4-1157A0",0,0,78,78,0,{"$nulls":4},78]
["Q42-154A0",0,0,0,0,0,{"$nulls":4},0]
["Q42-156A0",0,0,3,3,0,{"$nulls":4},3]
["RP177-10",0,0,0,0,0,{"$nulls":4},0]
["RP177-11",0,0,0,0,0,{"$nulls":4},0]
["RP177-12",0,0,20,20,0,{"$nulls":4},20]
["RP217-02",0,0,0,0,0,{"$nulls":4},0]
["RP217-03",28,0,181,181,0,{"$nulls":4},153]
["RU21909",0,0,0,0,0,{"$nulls":4},0]
["RU27711",0,0,0,0,0,{"$nulls":4},0]
["SC1950A",0,0,0,0,0,{"$nulls":4},0]
["SC1950AEC",0,0,0,0,0,{"$nulls":4},0]
["SC2238A",0,0,0,0,0,{"$nulls":4},0]
["SC2238AEC",0,0,0,0,0,{"$nulls":4},0]
["SC2938",0,0,0,0,0,{"$nulls":4},0]
["SC3680",0,0,0,0,0,{"$nulls":4},0]
["SC3850",0,0,37,37,0,{"$nulls":4},37]
["SC3861",0,0,44,74,-30,{"$nulls":4},74]
["SF0367-2",0,0,32,32,0,{"$nulls":4},32]
["SF0368-2",0,0,13,13,0,{"$nulls":4},13]
["SF0369-1",0,0,32,32,0,{"$nulls":4},32]
["SF0370-1",0,0,20,20,0,{"$nulls":4},20]
["SRM0508BL",0,0,10,10,0,{"$nulls":4},10]
["SWM1000AU05",0,0,3160,3160,0,{"$nulls":4},3160]
["TFE-R-1/4-X",0,0,0,0,0,{"$nulls":4},0]
["TFE-R-1/8-X",0,0,0,0,0,{"$nulls":4},0]
["TFE-R-5/64-X",0,2,73,73,0,{"$nulls":4},75]
["TP434-3",0,0,16,16,0,{"$nulls":4},16]
["TP434-4",0,0,43,43,0,{"$nulls":4},43]
["TP634-3",1,0,26,26,0,{"$nulls":4},25]
["TP634-4",0,0,48,48,0,{"$nulls":4},48]
["TR04AI",0,0,147,147,0,{"$nulls":4},147]
["TR06AI",0,0,237,237,0,{"$nulls":4},237]
["TR104-03",0,0,4,4,0,{"$nulls":4},4]
["TR10AI",0,0,298,298,0,{"$nulls":4},298]
["TUHF020004TZ",0,0,0,0,0,{"$nulls":4},0]
["TUHF020005TZ",0,0,0,0,0,{"$nulls":4},0]
["VDCA1845112H",0,0,44,44,0,{"$nulls":4},44]
["VIT1016",0,0,32,32,0,{"$nulls":4},32]
["WFL624ZZT56G27",0,0,0,0,0,{"$nulls":4},0]
["WGLD5",0,0,177,177,0,{"$nulls":4},177]
["ZXN396-01",0,0,0,0,0,{"$nulls":4},0]
["ZXN617-01",0,0,0,0,0,{"$nulls":4},0]
["394-213-301-0",0,0,0,0,0,{"$nulls":4},0]
["394-210-301-0",0,0,0,0,0,{"$nulls":4},0]
["394-211-301-0",0,0,0,0,0,{"$nulls":4},0]
["394-214-301-0",0,0,0,0,0,{"$nulls":4},0]
["502-705-302-0",0,0,36,36,0,{"$nulls":4},36]
["888-390-500-1",0,0,2,2,0,{"$nulls":4},2]
["300-587-402-0",0,0,1,1,0,{"$nulls":4},1]
["611-101-041-0",0,0,4,{"$f":"(K2757+B2757)-C2757","v":4},{"$f":"D2757-E2757","v":0},{"$nulls":4},4]
["960342",0,0,1,1,0,{"$nulls":4},1]

{"sheet":"stocks S1","index":3,"n_rows":2758,"n_cols":4,"rows_kept":2758}
["Étiquettes de lignes","Somme de Stocktotal"," Vérification"]
["0-0031819-0",458,{"$f":"VLOOKUP(A2,'Analyse S'!A:D,4,FALSE)","v":458}]
["0-0036490-0",448,{"$f":"VLOOKUP(A3,'Analyse S'!A:D,4,FALSE)","v":448}]
["006-0912-16",100,{"$f":"VLOOKUP(A4,'Analyse S'!A:D,4,FALSE)","v":100}]
["006-0912-20",100,{"$f":"VLOOKUP(A5,'Analyse S'!A:D,4,FALSE)","v":100}]
["006-0937-16",100,{"$f":"VLOOKUP(A6,'Analyse S'!A:D,4,FALSE)","v":100}]
["006-0937-20",3604,{"$f":"VLOOKUP(A7,'Analyse S'!A:D,4,FALSE)","v":3604}]
["01320040008",5297,{"$f":"VLOOKUP(A8,'Analyse S'!A:D,4,FALSE)","v":5297}]
["01320050010",1392,{"$f":"VLOOKUP(A9,'Analyse S'!A:D,4,FALSE)","v":1392}]
["01320050015",200,{"$f":"VLOOKUP(A10,'Analyse S'!A:D,4,FALSE)","v":200}]
["01320050075",4160,{"$f":"VLOOKUP(A11,'Analyse S'!A:D,4,FALSE)","v":4160}]
["01320060012",2268,{"$f":"VLOOKUP(A12,'Analyse S'!A:D,4,FALSE)","v":2268}]
["01329050503",1773,{"$f":"VLOOKUP(A13,'Analyse S'!A:D,4,FALSE)","v":1773}]
["058-001-302-6",13,{"$f":"VLOOKUP(A14,'Analyse S'!A:D,4,FALSE)","v":13}]
["058-002-003-6",1342,{"$f":"VLOOKUP(A15,'Analyse S'!A:D,4,FALSE)","v":1342}]
["058-002-005-6",210,{"$f":"VLOOKUP(A16,'Analyse S'!A:D,4,FALSE)","v":210}]
["058-004-001-6",16,{"$f":"VLOOKUP(A17,'Analyse S'!A:D,4,FALSE)","v":16}]
["058-004-201-6",80,{"$f":"VLOOKUP(A18,'Analyse S'!A:D,4,FALSE)","v":80}]
["058-004-301-6",96,{"$f":"VLOOKUP(A19,'Analyse S'!A:D,4,FALSE)","v":96}]
["058-004-601-6",104,{"$f":"VLOOKUP(A20,'Analyse S'!A:D,4,FALSE)","v":104}]
["058-011-301-0",20,{"$f":"VLOOKUP(A21,'Analyse S'!A:D,4,FALSE)","v":20}]
["058-011-503-0",23,{"$f":"VLOOKUP(A22,'Analyse S'!A:D,4,FALSE)","v":23}]
["058-021-001-6",2,{"$f":"VLOOKUP(A23,'Analyse S'!A:D,4,FALSE)","v":2}]
["058-021-102-6",2,{"$f":"VLOOKUP(A24,'Analyse S'!A:D,4,FALSE)","v":2}]
["058-600-101-6",17,{"$f":"VLOOKUP(A25,'Analyse S'!A:D,4,FALSE)","v":17}]
["06003",114,{"$f":"VLOOKUP(A26,'Analyse S'!A:D,4,FALSE)","v":114}]
["093-360-070-0",964,{"$f":"VLOOKUP(A27,'Analyse S'!A:D,4,FALSE)","v":964}]
["093-360-072-0",77,{"$f":"VLOOKUP(A28,'Analyse S'!A:D,4,FALSE)","v":77}]
["093-360-085-0",400,{"$f":"VLOOKUP(A29,'Analyse S'!A:D,4,FALSE)","v":400}]
["093-360-087-0",990,{"$f":"VLOOKUP(A30,'Analyse S'!A:D,4,FALSE)","v":990}]
["093-410-138-0",4,{"$f":"VLOOKUP(A31,'Analyse S'!A:D,4,FALSE)","v":4}]
["097-0140-20",127,{"$f":"VLOOKUP(A32,'Analyse S'!A:D,4,FALSE)","v":127}]
["11-10058-4",263,{"$f":"VLOOKUP(A33,'Analyse S'!A:D,4,FALSE)","v":263}]
["11-10296-4",211,{"$f":"VLOOKUP(A34,'Analyse S'!A:D,4,FALSE)","v":211}]
["11-10297-4",458,{"$f":"VLOOKUP(A35,'Analyse S'!A:D,4,FALSE)","v":458}]
["11-10298-3",245,{"$f":"VLOOKUP(A36,'Analyse S'!A:D,4,FALSE)","v":245}]
["11-10299-3",464,{"$f":"VLOOKUP(A37,'Analyse S'!A:D,4,FALSE)","v":464}]
["11-10300-3",457,{"$f":"VLOOKUP(A38,'Analyse S'!A:D,4,FALSE)","v":457}]
["11-11347-3",503,{"$f":"VLOOKUP(A39,'Analyse S'!A:D,4,FALSE)","v":503}]
["11-11348-3",700,{"$f":"VLOOKUP(A40,'Analyse S'!A:D,4,FALSE)","v":700}]
["1163-100",32,{"$f":"VLOOKUP(A41,'Analyse S'!A:D,4,FALSE)","v":32}]
["1163-300",13,{"$f":"VLOOKUP(A42,'Analyse S'!A:D,4,FALSE)","v":13}]
["11-841651-3",11,{"$f":"VLOOKUP(A43,'Analyse S'!A:D,4,FALSE)","v":11}]
["1348-400",40,{"$f":"VLOOKUP(A44,'Analyse S'!A:D,4,FALSE)","v":40}]
["135D14C001",39,{"$f":"VLOOKUP(A45,'Analyse S'!A:D,4,FALSE)","v":39}]
["135D14T",11,{"$f":"VLOOKUP(A46,'Analyse S'!A:D,4,FALSE)","v":11}]
["135D54C",16,{"$f":"VLOOKUP(A47,'Analyse S'!A:D,4,FALSE)","v":16}]
["135D54T",51,{"$f":"VLOOKUP(A48,'Analyse S'!A:D,4,FALSE)","v":51}]
["135K80001",12,{"$f":"VLOOKUP(A49,'Analyse S'!A:D,4,FALSE)","v":12}]
["144-408-000-121",23,{"$f":"VLOOKUP(A50,'Analyse S'!A:D,4,FALSE)","v":23}]
["144-408-000-122",20,{"$f":"VLOOKUP(A51,'Analyse S'!A:D,4,FALSE)","v":20}]
["1465-500",6,{"$f":"VLOOKUP(A52,'Analyse S'!A:D,4,FALSE)","v":6}]
["1466-400",23,{"$f":"VLOOKUP(A53,'Analyse S'!A:D,4,FALSE)","v":23}]
["1567100-03",74,{"$f":"VLOOKUP(A54,'Analyse S'!A:D,4,FALSE)","v":74}]
["1567100-04",91,{"$f":"VLOOKUP(A55,'Analyse S'!A:D,4,FALSE)","v":91}]
["1567200-04",17,{"$f":"VLOOKUP(A56,'Analyse S'!A:D,4,FALSE)","v":17}]
["1567300-05",31,{"$f":"VLOOKUP(A57,'Analyse S'!A:D,4,FALSE)","v":31}]
["15-841651",26,{"$f":"VLOOKUP(A58,'Analyse S'!A:D,4,FALSE)","v":26}]
["1851-00",1044,{"$f":"VLOOKUP(A59,'Analyse S'!A:D,4,FALSE)","v":1044}]
["2000081",3310,{"$f":"VLOOKUP(A60,'Analyse S'!A:D,4,FALSE)","v":3310}]
["200Z5X13",101,{"$f":"VLOOKUP(A61,'Analyse S'!A:D,4,FALSE)","v":101}]
["2010065",304,{"$f":"VLOOKUP(A62,'Analyse S'!A:D,4,FALSE)","v":304}]
["202A132-25-0",15,{"$f":"VLOOKUP(A63,'Analyse S'!A:D,4,FALSE)","v":15}]
["202K132-25",130,{"$f":"VLOOKUP(A64,'Analyse S'!A:D,4,FALSE)","v":130}]
["202K132-25-0",7,{"$f":"VLOOKUP(A65,'Analyse S'!A:D,4,FALSE)","v":7}]
["202K132-25-01-0",60,{"$f":"VLOOKUP(A66,'Analyse S'!A:D,4,FALSE)","v":60}]
["202K142-25-01",127,{"$f":"VLOOKUP(A67,'Analyse S'!A:D,4,FALSE)","v":127}]
["202K153-25",175,{"$f":"VLOOKUP(A68,'Analyse S'!A:D,4,FALSE)","v":175}]
["202K153-25-0",12,{"$f":"VLOOKUP(A69,'Analyse S'!A:D,4,FALSE)","v":12}]
["202K163-25-0",19,{"$f":"VLOOKUP(A70,'Analyse S'!A:D,4,FALSE)","v":19}]
["202K163-25-02",48,{"$f":"VLOOKUP(A71,'Analyse S'!A:D,4,FALSE)","v":48}]
["21215CA3207",1350,{"$f":"VLOOKUP(A72,'Analyse S'!A:D,4,FALSE)","v":1350}]
["21215CA3209",912,{"$f":"VLOOKUP(A73,'Analyse S'!A:D,4,FALSE)","v":912}]
["21215CA3210",575,{"$f":"VLOOKUP(A74,'Analyse S'!A:D,4,FALSE)","v":575}]
["21215CM3208",200,{"$f":"VLOOKUP(A75,'Analyse S'!A:D,4,FALSE)","v":200}]
["21215CM4008",224,{"$f":"VLOOKUP(A76,'Analyse S'!A:D,4,FALSE)","v":224}]
["21215TC1605",700,{"$f":"VLOOKUP(A77,'Analyse S'!A:D,4,FALSE)","v":700}]
["21215TC3206",760,{"$f":"VLOOKUP(A78,'Analyse S'!A:D,4,FALSE)","v":760}]
["21215TC3207",420,{"$f":"VLOOKUP(A79,'Analyse S'!A:D,4,FALSE)","v":420}]
["21215TC3208",384,{"$f":"VLOOKUP(A80,'Analyse S'!A:D,4,FALSE)","v":384}]
["21215TC3607",480,{"$f":"VLOOKUP(A81,'Analyse S'!A:D,4,FALSE)","v":480}]
["21215TC3608",809,{"$f":"VLOOKUP(A82,'Analyse S'!A:D,4,FALSE)","v":809}]
["21215TS3208",1147,{"$f":"VLOOKUP(A83,'Analyse S'!A:D,4,FALSE)","v":1147}]
["21215TS3209",611,{"$f":"VLOOKUP(A84,'Analyse S'!A:D,4,FALSE)","v":611}]
["21215TS3608",289,{"$f":"VLOOKUP(A85,'Analyse S'!A:D,4,FALSE)","v":289}]
["21217CA3207",919,{"$f":"VLOOKUP(A86,'Analyse S'!A:D,4,FALSE)","v":919}]
["21217CA3208",37,{"$f":"VLOOKUP(A87,'Analyse S'!A:D,4,FALSE)","v":37}]
["21217CA3209",74,{"$f":"VLOOKUP(A88,'Analyse S'!A:D,4,FALSE)","v":74}]
["21217CA3210",606,{"$f":"VLOOKUP(A89,'Analyse S'!A:D,4,FALSE)","v":606}]
["21217CA3212",200,{"$f":"VLOOKUP(A90,'Analyse S'!A:D,4,FALSE)","v":200}]
["21217CA3610",250,{"$f":"VLOOKUP(A91,'Analyse S'!A:D,4,FALSE)","v":250}]
["21217TC3207",500,{"$f":"VLOOKUP(A92,'Analyse S'!A:D,4,FALSE)","v":500}]
["21217TC3208",500,{"$f":"VLOOKUP(A93,'Analyse S'!A:D,4,FALSE)","v":500}]
["21217TC3608",400,{"$f":"VLOOKUP(A94,'Analyse S'!A:D,4,FALSE)","v":400}]
["21217TC3609",200,{"$f":"VLOOKUP(A95,'Analyse S'!A:D,4,FALSE)","v":200}]
["21217TS3208",238,{"$f":"VLOOKUP(A96,'Analyse S'!A:D,4,FALSE)","v":238}]
["21217TS3209",1493,{"$f":"VLOOKUP(A97,'Analyse S'!A:D,4,FALSE)","v":1493}]
["21217TS3210",100,{"$f":"VLOOKUP(A98,'Analyse S'!A:D,4,FALSE)","v":100}]
["21217TS3610",250,{"$f":"VLOOKUP(A99,'Analyse S'!A:D,4,FALSE)","v":250}]
["22126BC040010L",429,{"$f":"VLOOKUP(A100,'Analyse S'!A:D,4,FALSE)","v":429}]
["22220TK060020X",351,{"$f":"VLOOKUP(A101,'Analyse S'!A:D,4,FALSE)","v":351}]
["22224CF030008E",673,{"$f":"VLOOKUP(A102,'Analyse S'!A:D,4,FALSE)","v":673}]
["22259BC040010",728,{"$f":"VLOOKUP(A103,'Analyse S'!A:D,4,FALSE)","v":728}]
["22259BC040012",385,{"$f":"VLOOKUP(A104,'Analyse S'!A:D,4,FALSE)","v":385}]
["22259BC050012",84,{"$f":"VLOOKUP(A105,'Analyse S'!A:D,4,FALSE)","v":84}]
["22259TK060020X",326,{"$f":"VLOOKUP(A106,'Analyse S'!A:D,4,FALSE)","v":326}]
["22291CA030006",176,{"$f":"VLOOKUP(A107,'Analyse S'!A:D,4,FALSE)","v":176}]
["222K132-25",145,{"$f":"VLOOKUP(A108,'Analyse S'!A:D,4,FALSE)","v":145}]
["222K142-25",116,{"$f":"VLOOKUP(A109,'Analyse S'!A:D,4,FALSE)","v":116}]
["222K152-25G13",150,{"$f":"VLOOKUP(A110,'Analyse S'!A:D,4,FALSE)","v":150}]
["222K163-25",190,{"$f":"VLOOKUP(A111,'Analyse S'!A:D,4,FALSE)","v":190}]
["222K163-25-0",37,{"$f":"VLOOKUP(A112,'Analyse S'!A:D,4,FALSE)","v":37}]
["23111CA030",584,{"$f":"VLOOKUP(A113,'Analyse S'!A:D,4,FALSE)","v":584}]
["23111CA040",189,{"$f":"VLOOKUP(A114,'Analyse S'!A:D,4,FALSE)","v":189}]
["23112CA050",214,{"$f":"VLOOKUP(A115,'Analyse S'!A:D,4,FALSE)","v":214}]
["23112CA070",261,{"$f":"VLOOKUP(A116,'Analyse S'!A:D,4,FALSE)","v":261}]
["23310CA010010",2853,{"$f":"VLOOKUP(A117,'Analyse S'!A:D,4,FALSE)","v":2853}]
["243D022-25G04",50,{"$f":"VLOOKUP(A118,'Analyse S'!A:D,4,FALSE)","v":50}]
["25,00X2,65-64C8",60,{"$f":"VLOOKUP(A119,'Analyse S'!A:D,4,FALSE)","v":60}]
["25907",66,{"$f":"VLOOKUP(A120,'Analyse S'!A:D,4,FALSE)","v":66}]
["26013573-2",8,{"$f":"VLOOKUP(A121,'Analyse S'!A:D,4,FALSE)","v":8}]
["263W023-25",95,{"$f":"VLOOKUP(A122,'Analyse S'!A:D,4,FALSE)","v":95}]
["264W012-25",50,{"$f":"VLOOKUP(A123,'Analyse S'!A:D,4,FALSE)","v":50}]
["2AGF0507BLS",132,{"$f":"VLOOKUP(A124,'Analyse S'!A:D,4,FALSE)","v":132}]
["2AGF0509BLS",749,{"$f":"VLOOKUP(A125,'Analyse S'!A:D,4,FALSE)","v":749}]
["2R500Y158B",1354,{"$f":"VLOOKUP(A126,'Analyse S'!A:D,4,FALSE)","v":1354}]
["300-017G",436,{"$f":"VLOOKUP(A127,'Analyse S'!A:D,4,FALSE)","v":436}]
["300-587-402-0",1,{"$f":"VLOOKUP(A128,'Analyse S'!A:D,4,FALSE)","v":1}]
["300-656-301-0",100,{"$f":"VLOOKUP(A129,'Analyse S'!A:D,4,FALSE)","v":100}]
["303-928-703-0",221,{"$f":"VLOOKUP(A130,'Analyse S'!A:D,4,FALSE)","v":221}]
["304-965-001-0",67,{"$f":"VLOOKUP(A131,'Analyse S'!A:D,4,FALSE)","v":67}]
["305-109-701-0",32,{"$f":"VLOOKUP(A132,'Analyse S'!A:D,4,FALSE)","v":32}]
["307-002-023-0",7,{"$f":"VLOOKUP(A133,'Analyse S'!A:D,4,FALSE)","v":7}]
["307-002-173-0",1,{"$f":"VLOOKUP(A134,'Analyse S'!A:D,4,FALSE)","v":1}]
["307-002-175-0",14,{"$f":"VLOOKUP(A135,'Analyse S'!A:D,4,FALSE)","v":14}]
["307-002-532-0",8,{"$f":"VLOOKUP(A136,'Analyse S'!A:D,4,FALSE)","v":8}]
["307-002-534-0",7,{"$f":"VLOOKUP(A137,'Analyse S'!A:D,4,FALSE)","v":7}]
["307-002-809-6",1006,{"$f":"VLOOKUP(A138,'Analyse S'!A:D,4,FALSE)","v":1006}]
["307-002-906-6",1584,{"$f":"VLOOKUP(A139,'Analyse S'!A:D,4,FALSE)","v":1584}]
["307-003-005-6",1700,{"$f":"VLOOKUP(A140,'Analyse S'!A:D,4,FALSE)","v":1700}]
["307-003-124-0",43,{"$f":"VLOOKUP(A141,'Analyse S'!A:D,4,FALSE)","v":43}]
["307-003-308-6",5,{"$f":"VLOOKUP(A142,'Analyse S'!A:D,4,FALSE)","v":5}]
["307-003-724-0",30,{"$f":"VLOOKUP(A143,'Analyse S'!A:D,4,FALSE)","v":30}]
["307-003-908-6",6,{"$f":"VLOOKUP(A144,'Analyse S'!A:D,4,FALSE)","v":6}]
["307-004-333-0",20,{"$f":"VLOOKUP(A145,'Analyse S'!A:D,4,FALSE)","v":20}]
["307-004-505-6",8,{"$f":"VLOOKUP(A146,'Analyse S'!A:D,4,FALSE)","v":8}]
["307-007-453-0",3,{"$f":"VLOOKUP(A147,'Analyse S'!A:D,4,FALSE)","v":3}]
["307-007-570-0",28,{"$f":"VLOOKUP(A148,'Analyse S'!A:D,4,FALSE)","v":28}]
["307-007-581-0",15,{"$f":"VLOOKUP(A149,'Analyse S'!A:D,4,FALSE)","v":15}]
["307-011-001-0",11,{"$f":"VLOOKUP(A150,'Analyse S'!A:D,4,FALSE)","v":11}]
["307-011-403-0",10,{"$f":"VLOOKUP(A151,'Analyse S'!A:D,4,FALSE)","v":10}]
["307-011-601-0",39,{"$f":"VLOOKUP(A152,'Analyse S'!A:D,4,FALSE)","v":39}]
["307-011-701-0",48,{"$f":"VLOOKUP(A153,'Analyse S'!A:D,4,FALSE)","v":48}]
["307-012-001-0",34,{"$f":"VLOOKUP(A154,'Analyse S'!A:D,4,FALSE)","v":34}]
["307-012-201-0",51,{"$f":"VLOOKUP(A155,'Analyse S'!A:D,4,FALSE)","v":51}]
["307-014-201-6",72,{"$f":"VLOOKUP(A156,'Analyse S'!A:D,4,FALSE)","v":72}]
["307-015-407-0",108,{"$f":"VLOOKUP(A157,'Analyse S'!A:D,4,FALSE)","v":108}]
["307-015-801-0",13,{"$f":"VLOOKUP(A158,'Analyse S'!A:D,4,FALSE)","v":13}]
["307-015-901-0",51,{"$f":"VLOOKUP(A159,'Analyse S'!A:D,4,FALSE)","v":51}]
["307-016-501-0",12,{"$f":"VLOOKUP(A160,'Analyse S'!A:D,4,FALSE)","v":12}]
["307-016-602-0",10,{"$f":"VLOOKUP(A161,'Analyse S'!A:D,4,FALSE)","v":10}]
["307-017-204-0",6,{"$f":"VLOOKUP(A162,'Analyse S'!A:D,4,FALSE)","v":6}]
["307-017-304-0",8,{"$f":"VLOOKUP(A163,'Analyse S'!A:D,4,FALSE)","v":8}]
["307-017-404-0",1,{"$f":"VLOOKUP(A164,'Analyse S'!A:D,4,FALSE)","v":1}]
["307-017-701-0",11,{"$f":"VLOOKUP(A165,'Analyse S'!A:D,4,FALSE)","v":11}]
["307-017-901-0",29,{"$f":"VLOOKUP(A166,'Analyse S'!A:D,4,FALSE)","v":29}]
["307-018-001-0",30,{"$f":"VLOOKUP(A167,'Analyse S'!A:D,4,FALSE)","v":30}]
["307-018-103-0",6,{"$f":"VLOOKUP(A168,'Analyse S'!A:D,4,FALSE)","v":6}]
["307-018-202-0",17,{"$f":"VLOOKUP(A169,'Analyse S'!A:D,4,FALSE)","v":17}]
["307-018-301-0",14,{"$f":"VLOOKUP(A170,'Analyse S'!A:D,4,FALSE)","v":14}]
["307-018-502-0",110,{"$f":"VLOOKUP(A171,'Analyse S'!A:D,4,FALSE)","v":110}]
["307-019-701-0",26,{"$f":"VLOOKUP(A172,'Analyse S'!A:D,4,FALSE)","v":26}]
["307-019-902-0",11,{"$f":"VLOOKUP(A173,'Analyse S'!A:D,4,FALSE)","v":11}]
["307-020-001-0",58,{"$f":"VLOOKUP(A174,'Analyse S'!A:D,4,FALSE)","v":58}]
["307-020-103-0",8,{"$f":"VLOOKUP(A175,'Analyse S'!A:D,4,FALSE)","v":8}]
["307-020-201-0",143,{"$f":"VLOOKUP(A176,'Analyse S'!A:D,4,FALSE)","v":143}]
["307-020-301-0",18,{"$f":"VLOOKUP(A177,'Analyse S'!A:D,4,FALSE)","v":18}]
["307-020-601-0",184,{"$f":"VLOOKUP(A178,'Analyse S'!A:D,4,FALSE)","v":184}]
["307-020-701-0",153,{"$f":"VLOOKUP(A179,'Analyse S'!A:D,4,FALSE)","v":153}]
["307-020-801-0",231,{"$f":"VLOOKUP(A180,'Analyse S'!A:D,4,FALSE)","v":231}]
["307-021-001-0",8,{"$f":"VLOOKUP(A181,'Analyse S'!A:D,4,FALSE)","v":8}]
["307-021-101-0",25,{"$f":"VLOOKUP(A182,'Analyse S'!A:D,4,FALSE)","v":25}]
["307-021-201-0",20,{"$f":"VLOOKUP(A183,'Analyse S'!A:D,4,FALSE)","v":20}]
["307-021-401-0",16,{"$f":"VLOOKUP(A184,'Analyse S'!A:D,4,FALSE)","v":16}]
["307-021-801-0",30,{"$f":"VLOOKUP(A185,'Analyse S'!A:D,4,FALSE)","v":30}]
["307-021-901-0",20,{"$f":"VLOOKUP(A186,'Analyse S'!A:D,4,FALSE)","v":20}]
["307-022-114-0",5,{"$f":"VLOOKUP(A187,'Analyse S'!A:D,4,FALSE)","v":5}]
["307-022-403-0",126,{"$f":"VLOOKUP(A188,'Analyse S'!A:D,4,FALSE)","v":126}]
["307-022-506-0",43,{"$f":"VLOOKUP(A189,'Analyse S'!A:D,4,FALSE)","v":43}]
["307-022-605-0",565,{"$f":"VLOOKUP(A190,'Analyse S'!A:D,4,FALSE)","v":565}]
["307-022-703-0",143,{"$f":"VLOOKUP(A191,'Analyse S'!A:D,4,FALSE)","v":143}]
["307-022-802-0",125,{"$f":"VLOOKUP(A192,'Analyse S'!A:D,4,FALSE)","v":125}]
["307-022-806-0",55,{"$f":"VLOOKUP(A193,'Analyse S'!A:D,4,FALSE)","v":55}]
["307-023-004-0",44,{"$f":"VLOOKUP(A194,'Analyse S'!A:D,4,FALSE)","v":44}]
["307-023-105-0",729,{"$f":"VLOOKUP(A195,'Analyse S'!A:D,4,FALSE)","v":729}]
["307-023-203-0",112,{"$f":"VLOOKUP(A196,'Analyse S'!A:D,4,FALSE)","v":112}]
["307-023-304-0",51,{"$f":"VLOOKUP(A197,'Analyse S'!A:D,4,FALSE)","v":51}]
["307-023-402-0",500,{"$f":"VLOOKUP(A198,'Analyse S'!A:D,4,FALSE)","v":500}]
["307-023-604-0",64,{"$f":"VLOOKUP(A199,'Analyse S'!A:D,4,FALSE)","v":64}]
["307-023-704-0",44,{"$f":"VLOOKUP(A200,'Analyse S'!A:D,4,FALSE)","v":44}]
["307-023-805-0",200,{"$f":"VLOOKUP(A201,'Analyse S'!A:D,4,FALSE)","v":200}]
["307-023-903-0",43,{"$f":"VLOOKUP(A202,'Analyse S'!A:D,4,FALSE)","v":43}]
["307-024-004-0",44,{"$f":"VLOOKUP(A203,'Analyse S'!A:D,4,FALSE)","v":44}]
["307-024-103-0",14,{"$f":"VLOOKUP(A204,'Analyse S'!A:D,4,FALSE)","v":14}]
["307-024-203-0",59,{"$f":"VLOOKUP(A205,'Analyse S'!A:D,4,FALSE)","v":59}]
["307-024-901-0",25,{"$f":"VLOOKUP(A206,'Analyse S'!A:D,4,FALSE)","v":25}]
["307-025-001-0",25,{"$f":"VLOOKUP(A207,'Analyse S'!A:D,4,FALSE)","v":25}]
["307-025-102-0",15,{"$f":"VLOOKUP(A208,'Analyse S'!A:D,4,FALSE)","v":15}]
["307-025-202-0",14,{"$f":"VLOOKUP(A209,'Analyse S'!A:D,4,FALSE)","v":14}]
["307-026-201-0",110,{"$f":"VLOOKUP(A210,'Analyse S'!A:D,4,FALSE)","v":110}]
["307-026-901-0",34,{"$f":"VLOOKUP(A211,'Analyse S'!A:D,4,FALSE)","v":34}]
["307-028-001-0",25,{"$f":"VLOOKUP(A212,'Analyse S'!A:D,4,FALSE)","v":25}]
["307-028-101-0",30,{"$f":"VLOOKUP(A213,'Analyse S'!A:D,4,FALSE)","v":30}]
["307-028-201-0",50,{"$f":"VLOOKUP(A214,'Analyse S'!A:D,4,FALSE)","v":50}]
["307-028-402-0",50,{"$f":"VLOOKUP(A215,'Analyse S'!A:D,4,FALSE)","v":50}]
["307-028-501-0",20,{"$f":"VLOOKUP(A216,'Analyse S'!A:D,4,FALSE)","v":20}]
["307-028-601-0",40,{"$f":"VLOOKUP(A217,'Analyse S'!A:D,4,FALSE)","v":40}]
["307-028-801-0",53,{"$f":"VLOOKUP(A218,'Analyse S'!A:D,4,FALSE)","v":53}]
["307-028-901-0",16,{"$f":"VLOOKUP(A219,'Analyse S'!A:D,4,FALSE)","v":16}]
["307-029-001-0",25,{"$f":"VLOOKUP(A220,'Analyse S'!A:D,4,FALSE)","v":25}]
["307-029-701-0",36,{"$f":"VLOOKUP(A221,'Analyse S'!A:D,4,FALSE)","v":36}]
["307-029-901-0",30,{"$f":"VLOOKUP(A222,'Analyse S'!A:D,4,FALSE)","v":30}]
["307-034-654-0",2,{"$f":"VLOOKUP(A223,'Analyse S'!A:D,4,FALSE)","v":2}]
["307-035-601-0",380,{"$f":"VLOOKUP(A224,'Analyse S'!A:D,4,FALSE)","v":380}]
["307-035-702-0",347,{"$f":"VLOOKUP(A225,'Analyse S'!A:D,4,FALSE)","v":347}]
["307-035-802-0",373,{"$f":"VLOOKUP(A226,'Analyse S'!A:D,4,FALSE)","v":373}]
["307-038-110-0",72,{"$f":"VLOOKUP(A227,'Analyse S'!A:D,4,FALSE)","v":72}]
["307-038-210-0",95,{"$f":"VLOOKUP(A228,'Analyse S'!A:D,4,FALSE)","v":95}]
["307-042-404-0",2,{"$f":"VLOOKUP(A229,'Analyse S'!A:D,4,FALSE)","v":2}]
["307-042-502-0",9,{"$f":"VLOOKUP(A230,'Analyse S'!A:D,4,FALSE)","v":9}]
["307-042-606-0",9,{"$f":"VLOOKUP(A231,'Analyse S'!A:D,4,FALSE)","v":9}]
["307-042-702-0",7,{"$f":"VLOOKUP(A232,'Analyse S'!A:D,4,FALSE)","v":7}]
["307-042-803-0",3,{"$f":"VLOOKUP(A233,'Analyse S'!A:D,4,FALSE)","v":3}]
["307-042-908-0",6,{"$f":"VLOOKUP(A234,'Analyse S'!A:D,4,FALSE)","v":6}]
["307-047-852-0",158,{"$f":"VLOOKUP(A235,'Analyse S'!A:D,4,FALSE)","v":158}]
["307-047-903-0",1,{"$f":"VLOOKUP(A236,'Analyse S'!A:D,4,FALSE)","v":1}]
["307-048-524-0",1,{"$f":"VLOOKUP(A237,'Analyse S'!A:D,4,FALSE)","v":1}]
["307-050-106-0",67,{"$f":"VLOOKUP(A238,'Analyse S'!A:D,4,FALSE)","v":67}]
["307-055-102-0",58,{"$f":"VLOOKUP(A239,'Analyse S'!A:D,4,FALSE)","v":58}]
["307-055-606-0",96,{"$f":"VLOOKUP(A240,'Analyse S'!A:D,4,FALSE)","v":96}]
["307-056-101-0",29,{"$f":"VLOOKUP(A241,'Analyse S'!A:D,4,FALSE)","v":29}]
["307-056-402-0",130,{"$f":"VLOOKUP(A242,'Analyse S'!A:D,4,FALSE)","v":130}]
["307-056-602-0",6,{"$f":"VLOOKUP(A243,'Analyse S'!A:D,4,FALSE)","v":6}]
["307-056-603-0",142,{"$f":"VLOOKUP(A244,'Analyse S'!A:D,4,FALSE)","v":142}]
["307-056-702-0",35,{"$f":"VLOOKUP(A245,'Analyse S'!A:D,4,FALSE)","v":35}]
["307-056-805-0",67,{"$f":"VLOOKUP(A246,'Analyse S'!A:D,4,FALSE)","v":67}]
["307-057-003-0",248,{"$f":"VLOOKUP(A247,'Analyse S'!A:D,4,FALSE)","v":248}]
["307-057-101-0",42,{"$f":"VLOOKUP(A248,'Analyse S'!A:D,4,FALSE)","v":42}]
["307-057-201-0",90,{"$f":"VLOOKUP(A249,'Analyse S'!A:D,4,FALSE)","v":90}]
["307-057-721-0",65,{"$f":"VLOOKUP(A250,'Analyse S'!A:D,4,FALSE)","v":65}]
["307-057-817-0",40,{"$f":"VLOOKUP(A251,'Analyse S'!A:D,4,FALSE)","v":40}]
["307-058-007-0",3,{"$f":"VLOOKUP(A252,'Analyse S'!A:D,4,FALSE)","v":3}]
["307-058-801-0",308,{"$f":"VLOOKUP(A253,'Analyse S'!A:D,4,FALSE)","v":308}]
["307-058-903-0",272,{"$f":"VLOOKUP(A254,'Analyse S'!A:D,4,FALSE)","v":272}]
["307-059-011-0",50,{"$f":"VLOOKUP(A255,'Analyse S'!A:D,4,FALSE)","v":50}]
["307-059-108-0",31,{"$f":"VLOOKUP(A256,'Analyse S'!A:D,4,FALSE)","v":31}]
["307-059-205-0",18,{"$f":"VLOOKUP(A257,'Analyse S'!A:D,4,FALSE)","v":18}]
["307-061-202-0",62,{"$f":"VLOOKUP(A258,'Analyse S'!A:D,4,FALSE)","v":62}]
["307-062-321-0",1,{"$f":"VLOOKUP(A259,'Analyse S'!A:D,4,FALSE)","v":1}]
["307-062-602-0",126,{"$f":"VLOOKUP(A260,'Analyse S'!A:D,4,FALSE)","v":126}]
["307-065-950-0",3,{"$f":"VLOOKUP(A261,'Analyse S'!A:D,4,FALSE)","v":3}]
["307-065-954-0",31,{"$f":"VLOOKUP(A262,'Analyse S'!A:D,4,FALSE)","v":31}]
["307-065-956-0",199,{"$f":"VLOOKUP(A263,'Analyse S'!A:D,4,FALSE)","v":199}]
["307-067-401-0",167,{"$f":"VLOOKUP(A264,'Analyse S'!A:D,4,FALSE)","v":167}]
["307-067-501-0",36,{"$f":"VLOOKUP(A265,'Analyse S'!A:D,4,FALSE)","v":36}]
["307-067-601-0",115,{"$f":"VLOOKUP(A266,'Analyse S'!A:D,4,FALSE)","v":115}]
["307-067-602-0",25,{"$f":"VLOOKUP(A267,'Analyse S'!A:D,4,FALSE)","v":25}]
["307-067-603-0",11,{"$f":"VLOOKUP(A268,'Analyse S'!A:D,4,FALSE)","v":11}]
["307-067-704-0",57,{"$f":"VLOOKUP(A269,'Analyse S'!A:D,4,FALSE)","v":57}]
["307-067-804-0",410,{"$f":"VLOOKUP(A270,'Analyse S'!A:D,4,FALSE)","v":410}]
["307-067-903-0",31,{"$f":"VLOOKUP(A271,'Analyse S'!A:D,4,FALSE)","v":31}]
["307-068-005-0",335,{"$f":"VLOOKUP(A272,'Analyse S'!A:D,4,FALSE)","v":335}]
["307-068-104-0",22,{"$f":"VLOOKUP(A273,'Analyse S'!A:D,4,FALSE)","v":22}]
["307-068-203-0",29,{"$f":"VLOOKUP(A274,'Analyse S'!A:D,4,FALSE)","v":29}]
["307-068-301-0",1501,{"$f":"VLOOKUP(A275,'Analyse S'!A:D,4,FALSE)","v":1501}]
["307-068-302-0",38,{"$f":"VLOOKUP(A276,'Analyse S'!A:D,4,FALSE)","v":38}]
["307-068-401-0",80,{"$f":"VLOOKUP(A277,'Analyse S'!A:D,4,FALSE)","v":80}]
["307-068-402-0",10,{"$f":"VLOOKUP(A278,'Analyse S'!A:D,4,FALSE)","v":10}]
["307-068-403-0",17,{"$f":"VLOOKUP(A279,'Analyse S'!A:D,4,FALSE)","v":17}]
["307-068-503-0",8,{"$f":"VLOOKUP(A280,'Analyse S'!A:D,4,FALSE)","v":8}]
["307-068-603-0",20,{"$f":"VLOOKUP(A281,'Analyse S'!A:D,4,FALSE)","v":20}]
["307-069-102-0",190,{"$f":"VLOOKUP(A282,'Analyse S'!A:D,4,FALSE)","v":190}]
["307-070-215-0",1,{"$f":"VLOOKUP(A283,'Analyse S'!A:D,4,FALSE)","v":1}]
["307-070-505-0",76,{"$f":"VLOOKUP(A284,'Analyse S'!A:D,4,FALSE)","v":76}]
["307-074-011-0",1930,{"$f":"VLOOKUP(A285,'Analyse S'!A:D,4,FALSE)","v":1930}]
["307-074-021-0",2081,{"$f":"VLOOKUP(A286,'Analyse S'!A:D,4,FALSE)","v":2081}]
["307-074-031-0",229,{"$f":"VLOOKUP(A287,'Analyse S'!A:D,4,FALSE)","v":229}]
["307-074-501-0",12,{"$f":"VLOOKUP(A288,'Analyse S'!A:D,4,FALSE)","v":12}]
["307-074-735-0",1,{"$f":"VLOOKUP(A289,'Analyse S'!A:D,4,FALSE)","v":1}]
["307-074-737-0",2,{"$f":"VLOOKUP(A290,'Analyse S'!A:D,4,FALSE)","v":2}]
["307-075-360-0",7,{"$f":"VLOOKUP(A291,'Analyse S'!A:D,4,FALSE)","v":7}]
["307-076-209-0",5,{"$f":"VLOOKUP(A292,'Analyse S'!A:D,4,FALSE)","v":5}]
["307-076-702-0",7,{"$f":"VLOOKUP(A293,'Analyse S'!A:D,4,FALSE)","v":7}]
["307-076-706-0",186,{"$f":"VLOOKUP(A294,'Analyse S'!A:D,4,FALSE)","v":186}]
["307-077-210-0",16,{"$f":"VLOOKUP(A295,'Analyse S'!A:D,4,FALSE)","v":16}]
["307-077-331-0",59,{"$f":"VLOOKUP(A296,'Analyse S'!A:D,4,FALSE)","v":59}]
["307-077-332-0",8,{"$f":"VLOOKUP(A297,'Analyse S'!A:D,4,FALSE)","v":8}]
["307-077-400-0",8,{"$f":"VLOOKUP(A298,'Analyse S'!A:D,4,FALSE)","v":8}]
["307-078-604-0",6,{"$f":"VLOOKUP(A299,'Analyse S'!A:D,4,FALSE)","v":6}]
["307-078-814-0",360,{"$f":"VLOOKUP(A300,'Analyse S'!A:D,4,FALSE)","v":360}]
["307-079-704-0",45,{"$f":"VLOOKUP(A301,'Analyse S'!A:D,4,FALSE)","v":45}]
["307-080-303-6",23,{"$f":"VLOOKUP(A302,'Analyse S'!A:D,4,FALSE)","v":23}]
["307-080-703-6",30,{"$f":"VLOOKUP(A303,'Analyse S'!A:D,4,FALSE)","v":30}]
["307-081-903-0",20,{"$f":"VLOOKUP(A304,'Analyse S'!A:D,4,FALSE)","v":20}]
["307-083-734-0",9,{"$f":"VLOOKUP(A305,'Analyse S'!A:D,4,FALSE)","v":9}]
["307-084-118-0",83,{"$f":"VLOOKUP(A306,'Analyse S'!A:D,4,FALSE)","v":83}]
["307-086-704-0",4,{"$f":"VLOOKUP(A307,'Analyse S'!A:D,4,FALSE)","v":4}]
["307-087-103-0",2131,{"$f":"VLOOKUP(A308,'Analyse S'!A:D,4,FALSE)","v":2131}]
["307-087-603-0",296,{"$f":"VLOOKUP(A309,'Analyse S'!A:D,4,FALSE)","v":296}]
["307-087-702-0",293,{"$f":"VLOOKUP(A310,'Analyse S'!A:D,4,FALSE)","v":293}]
["307-089-601-0",1663,{"$f":"VLOOKUP(A311,'Analyse S'!A:D,4,FALSE)","v":1663}]
["307-089-703-0",3,{"$f":"VLOOKUP(A312,'Analyse S'!A:D,4,FALSE)","v":3}]
["307-089-803-0",6,{"$f":"VLOOKUP(A313,'Analyse S'!A:D,4,FALSE)","v":6}]
["307-089-901-0",3,{"$f":"VLOOKUP(A314,'Analyse S'!A:D,4,FALSE)","v":3}]
["307-090-002-0",44,{"$f":"VLOOKUP(A315,'Analyse S'!A:D,4,FALSE)","v":44}]
["307-090-904-0",3,{"$f":"VLOOKUP(A316,'Analyse S'!A:D,4,FALSE)","v":3}]
["307-091-002-0",3,{"$f":"VLOOKUP(A317,'Analyse S'!A:D,4,FALSE)","v":3}]
["307-091-205-0",18,{"$f":"VLOOKUP(A318,'Analyse S'!A:D,4,FALSE)","v":18}]
["307-091-306-0",16,{"$f":"VLOOKUP(A319,'Analyse S'!A:D,4,FALSE)","v":16}]
["307-091-601-0",15,{"$f":"VLOOKUP(A320,'Analyse S'!A:D,4,FALSE)","v":15}]
["307-091-701-0",3,{"$f":"VLOOKUP(A321,'Analyse S'!A:D,4,FALSE)","v":3}]
["307-091-902-0",1,{"$f":"VLOOKUP(A322,'Analyse S'!A:D,4,FALSE)","v":1}]
["307-092-001-0",3,{"$f":"VLOOKUP(A323,'Analyse S'!A:D,4,FALSE)","v":3}]
["307-092-102-0",7,{"$f":"VLOOKUP(A324,'Analyse S'!A:D,4,FALSE)","v":7}]
["307-092-401-0",4,{"$f":"VLOOKUP(A325,'Analyse S'!A:D,4,FALSE)","v":4}]
["307-093-123-0",6,{"$f":"VLOOKUP(A326,'Analyse S'!A:D,4,FALSE)","v":6}]
["307-093-402-0",6,{"$f":"VLOOKUP(A327,'Analyse S'!A:D,4,FALSE)","v":6}]
["307-094-102-0",2,{"$f":"VLOOKUP(A328,'Analyse S'!A:D,4,FALSE)","v":2}]
["307-094-203-0",4,{"$f":"VLOOKUP(A329,'Analyse S'!A:D,4,FALSE)","v":4}]
["307-094-451-6",5,{"$f":"VLOOKUP(A330,'Analyse S'!A:D,4,FALSE)","v":5}]
["307-094-507-0",4,{"$f":"VLOOKUP(A331,'Analyse S'!A:D,4,FALSE)","v":4}]
["307-094-605-0",13,{"$f":"VLOOKUP(A332,'Analyse S'!A:D,4,FALSE)","v":13}]
["307-094-704-0",23,{"$f":"VLOOKUP(A333,'Analyse S'!A:D,4,FALSE)","v":23}]
["307-094-801-0",78,{"$f":"VLOOKUP(A334,'Analyse S'!A:D,4,FALSE)","v":78}]
["307-095-002-6",117,{"$f":"VLOOKUP(A335,'Analyse S'!A:D,4,FALSE)","v":117}]
["307-095-107-0",3,{"$f":"VLOOKUP(A336,'Analyse S'!A:D,4,FALSE)","v":3}]
["307-095-931-0",202,{"$f":"VLOOKUP(A337,'Analyse S'!A:D,4,FALSE)","v":202}]
["307-096-405-0",3,{"$f":"VLOOKUP(A338,'Analyse S'!A:D,4,FALSE)","v":3}]
["307-096-704-0",4,{"$f":"VLOOKUP(A339,'Analyse S'!A:D,4,FALSE)","v":4}]
["307-096-954-0",15,{"$f":"VLOOKUP(A340,'Analyse S'!A:D,4,FALSE)","v":15}]
["307-097-155-0",18,{"$f":"VLOOKUP(A341,'Analyse S'!A:D,4,FALSE)","v":18}]
["307-097-355-0",25,{"$f":"VLOOKUP(A342,'Analyse S'!A:D,4,FALSE)","v":25}]
["307-097-555-0",10,{"$f":"VLOOKUP(A343,'Analyse S'!A:D,4,FALSE)","v":10}]
["307-097-754-0",2,{"$f":"VLOOKUP(A344,'Analyse S'!A:D,4,FALSE)","v":2}]
["307-097-755-0",16,{"$f":"VLOOKUP(A345,'Analyse S'!A:D,4,FALSE)","v":16}]
["307-098-101-0",185,{"$f":"VLOOKUP(A346,'Analyse S'!A:D,4,FALSE)","v":185}]
["307-098-201-0",38,{"$f":"VLOOKUP(A347,'Analyse S'!A:D,4,FALSE)","v":38}]
["307-098-302-0",750,{"$f":"VLOOKUP(A348,'Analyse S'!A:D,4,FALSE)","v":750}]
["307-098-403-0",32,{"$f":"VLOOKUP(A349,'Analyse S'!A:D,4,FALSE)","v":32}]
["307-099-803-0",454,{"$f":"VLOOKUP(A350,'Analyse S'!A:D,4,FALSE)","v":454}]
["307-099-903-0",384,{"$f":"VLOOKUP(A351,'Analyse S'!A:D,4,FALSE)","v":384}]
["307-100-002-0",384,{"$f":"VLOOKUP(A352,'Analyse S'!A:D,4,FALSE)","v":384}]
["307-100-204-0",344,{"$f":"VLOOKUP(A353,'Analyse S'!A:D,4,FALSE)","v":344}]
["307-100-302-0",344,{"$f":"VLOOKUP(A354,'Analyse S'!A:D,4,FALSE)","v":344}]
["307-100-401-0",324,{"$f":"VLOOKUP(A355,'Analyse S'!A:D,4,FALSE)","v":324}]
["307-100-503-0",4,{"$f":"VLOOKUP(A356,'Analyse S'!A:D,4,FALSE)","v":4}]
["307-100-603-0",4,{"$f":"VLOOKUP(A357,'Analyse S'!A:D,4,FALSE)","v":4}]
["307-101-703-0",5,{"$f":"VLOOKUP(A358,'Analyse S'!A:D,4,FALSE)","v":5}]
["307-101-904-0",1,{"$f":"VLOOKUP(A359,'Analyse S'!A:D,4,FALSE)","v":1}]
["307-102-357-0",31,{"$f":"VLOOKUP(A360,'Analyse S'!A:D,4,FALSE)","v":31}]
["307-102-701-0",2855,{"$f":"VLOOKUP(A361,'Analyse S'!A:D,4,FALSE)","v":2855}]
["307-102-903-6",57,{"$f":"VLOOKUP(A362,'Analyse S'!A:D,4,FALSE)","v":57}]
["307-103-404-0",40,{"$f":"VLOOKUP(A363,'Analyse S'!A:D,4,FALSE)","v":40}]
["307-104-313-0",7,{"$f":"VLOOKUP(A364,'Analyse S'!A:D,4,FALSE)","v":7}]
["307-105-405-0",7,{"$f":"VLOOKUP(A365,'Analyse S'!A:D,4,FALSE)","v":7}]
["307-106-310-0",159,{"$f":"VLOOKUP(A366,'Analyse S'!A:D,4,FALSE)","v":159}]
["307-107-210-0",12,{"$f":"VLOOKUP(A367,'Analyse S'!A:D,4,FALSE)","v":12}]
["307-107-260-0",2,{"$f":"VLOOKUP(A368,'Analyse S'!A:D,4,FALSE)","v":2}]
["307-108-003-0",4,{"$f":"VLOOKUP(A369,'Analyse S'!A:D,4,FALSE)","v":4}]
["307-108-404-0",164,{"$f":"VLOOKUP(A370,'Analyse S'!A:D,4,FALSE)","v":164}]
["307-109-403-0",11,{"$f":"VLOOKUP(A371,'Analyse S'!A:D,4,FALSE)","v":11}]
["307-109-502-0",12,{"$f":"VLOOKUP(A372,'Analyse S'!A:D,4,FALSE)","v":12}]
["307-109-703-0",1,{"$f":"VLOOKUP(A373,'Analyse S'!A:D,4,FALSE)","v":1}]
["307-109-901-0",1527,{"$f":"VLOOKUP(A374,'Analyse S'!A:D,4,FALSE)","v":1527}]
["307-110-001-6",253,{"$f":"VLOOKUP(A375,'Analyse S'!A:D,4,FALSE)","v":253}]
["307-110-101-0",52,{"$f":"VLOOKUP(A376,'Analyse S'!A:D,4,FALSE)","v":52}]
["307-110-201-0",47,{"$f":"VLOOKUP(A377,'Analyse S'!A:D,4,FALSE)","v":47}]
["307-110-607-0",23,{"$f":"VLOOKUP(A378,'Analyse S'!A:D,4,FALSE)","v":23}]
["307-110-701-0",15,{"$f":"VLOOKUP(A379,'Analyse S'!A:D,4,FALSE)","v":15}]
["307-110-804-0",22,{"$f":"VLOOKUP(A380,'Analyse S'!A:D,4,FALSE)","v":22}]
["307-110-901-6",5,{"$f":"VLOOKUP(A381,'Analyse S'!A:D,4,FALSE)","v":5}]
["307-111-002-0",4,{"$f":"VLOOKUP(A382,'Analyse S'!A:D,4,FALSE)","v":4}]
["307-111-101-0",5,{"$f":"VLOOKUP(A383,'Analyse S'!A:D,4,FALSE)","v":5}]
["307-111-201-0",5,{"$f":"VLOOKUP(A384,'Analyse S'!A:D,4,FALSE)","v":5}]
["307-111-302-0",5,{"$f":"VLOOKUP(A385,'Analyse S'!A:D,4,FALSE)","v":5}]
["307-111-501-0",14,{"$f":"VLOOKUP(A386,'Analyse S'!A:D,4,FALSE)","v":14}]
["307-111-605-0",38,{"$f":"VLOOKUP(A387,'Analyse S'!A:D,4,FALSE)","v":38}]
["307-111-901-0",30,{"$f":"VLOOKUP(A388,'Analyse S'!A:D,4,FALSE)","v":30}]
["307-112-130-0",1,{"$f":"VLOOKUP(A389,'Analyse S'!A:D,4,FALSE)","v":1}]
["307-112-702-0",22,{"$f":"VLOOKUP(A390,'Analyse S'!A:D,4,FALSE)","v":22}]
["307-113-702-6",6,{"$f":"VLOOKUP(A391,'Analyse S'!A:D,4,FALSE)","v":6}]
["307-114-301-0",187,{"$f":"VLOOKUP(A392,'Analyse S'!A:D,4,FALSE)","v":187}]
["307-114-401-0",15,{"$f":"VLOOKUP(A393,'Analyse S'!A:D,4,FALSE)","v":15}]
["307-117-151-0",55,{"$f":"VLOOKUP(A394,'Analyse S'!A:D,4,FALSE)","v":55}]
["307-117-251-0",2,{"$f":"VLOOKUP(A395,'Analyse S'!A:D,4,FALSE)","v":2}]
["307-117-351-0",4,{"$f":"VLOOKUP(A396,'Analyse S'!A:D,4,FALSE)","v":4}]
["307-117-401-0",16,{"$f":"VLOOKUP(A397,'Analyse S'!A:D,4,FALSE)","v":16}]
["307-117-551-0",3,{"$f":"VLOOKUP(A398,'Analyse S'!A:D,4,FALSE)","v":3}]
["307-119-501-0",73,{"$f":"VLOOKUP(A399,'Analyse S'!A:D,4,FALSE)","v":73}]
["307-119-656-6",7,{"$f":"VLOOKUP(A400,'Analyse S'!A:D,4,FALSE)","v":7}]
["307-119-702-0",9,{"$f":"VLOOKUP(A401,'Analyse S'!A:D,4,FALSE)","v":9}]
["307-119-858-6",17,{"$f":"VLOOKUP(A402,'Analyse S'!A:D,4,FALSE)","v":17}]
["307-119-901-0",96,{"$f":"VLOOKUP(A403,'Analyse S'!A:D,4,FALSE)","v":96}]
["307-120-401-0",999,{"$f":"VLOOKUP(A404,'Analyse S'!A:D,4,FALSE)","v":999}]
["307-120-501-0",569,{"$f":"VLOOKUP(A405,'Analyse S'!A:D,4,FALSE)","v":569}]
["307-130-201-0",90,{"$f":"VLOOKUP(A406,'Analyse S'!A:D,4,FALSE)","v":90}]
["307-133-823-0",3,{"$f":"VLOOKUP(A407,'Analyse S'!A:D,4,FALSE)","v":3}]
["307-134-501-0",5,{"$f":"VLOOKUP(A408,'Analyse S'!A:D,4,FALSE)","v":5}]
["307-134-750-0",16,{"$f":"VLOOKUP(A409,'Analyse S'!A:D,4,FALSE)","v":16}]
["307-137-012-0",16,{"$f":"VLOOKUP(A410,'Analyse S'!A:D,4,FALSE)","v":16}]
["307-137-105-0",90,{"$f":"VLOOKUP(A411,'Analyse S'!A:D,4,FALSE)","v":90}]
["307-137-912-0",120,{"$f":"VLOOKUP(A412,'Analyse S'!A:D,4,FALSE)","v":120}]
["307-137-962-0",26,{"$f":"VLOOKUP(A413,'Analyse S'!A:D,4,FALSE)","v":26}]
["307-138-402-0",21,{"$f":"VLOOKUP(A414,'Analyse S'!A:D,4,FALSE)","v":21}]
["307-138-501-0",11,{"$f":"VLOOKUP(A415,'Analyse S'!A:D,4,FALSE)","v":11}]
["307-138-601-0",33,{"$f":"VLOOKUP(A416,'Analyse S'!A:D,4,FALSE)","v":33}]
["307-138-702-0",19,{"$f":"VLOOKUP(A417,'Analyse S'!A:D,4,FALSE)","v":19}]
["307-138-801-0",102,{"$f":"VLOOKUP(A418,'Analyse S'!A:D,4,FALSE)","v":102}]
["307-139-512-0",345,{"$f":"VLOOKUP(A419,'Analyse S'!A:D,4,FALSE)","v":345}]
["307-139-612-0",27,{"$f":"VLOOKUP(A420,'Analyse S'!A:D,4,FALSE)","v":27}]
["307-140-101-0",144,{"$f":"VLOOKUP(A421,'Analyse S'!A:D,4,FALSE)","v":144}]
["307-141-003-0",3,{"$f":"VLOOKUP(A422,'Analyse S'!A:D,4,FALSE)","v":3}]
["307-141-502-0",4,{"$f":"VLOOKUP(A423,'Analyse S'!A:D,4,FALSE)","v":4}]
["307-142-903-0",2,{"$f":"VLOOKUP(A424,'Analyse S'!A:D,4,FALSE)","v":2}]
["307-148-109-0",25,{"$f":"VLOOKUP(A425,'Analyse S'!A:D,4,FALSE)","v":25}]
["307-148-505-0",77,{"$f":"VLOOKUP(A426,'Analyse S'!A:D,4,FALSE)","v":77}]
["307-150-001-0",53,{"$f":"VLOOKUP(A427,'Analyse S'!A:D,4,FALSE)","v":53}]
["307-150-203-0",8,{"$f":"VLOOKUP(A428,'Analyse S'!A:D,4,FALSE)","v":8}]
["307-150-407-0",33,{"$f":"VLOOKUP(A429,'Analyse S'!A:D,4,FALSE)","v":33}]
["307-150-501-0",25,{"$f":"VLOOKUP(A430,'Analyse S'!A:D,4,FALSE)","v":25}]
["307-150-606-0",1,{"$f":"VLOOKUP(A431,'Analyse S'!A:D,4,FALSE)","v":1}]
["307-150-607-0",47,{"$f":"VLOOKUP(A432,'Analyse S'!A:D,4,FALSE)","v":47}]
["307-150-804-0",64,{"$f":"VLOOKUP(A433,'Analyse S'!A:D,4,FALSE)","v":64}]
["307-150-904-0",16,{"$f":"VLOOKUP(A434,'Analyse S'!A:D,4,FALSE)","v":16}]
["307-151-701-0",5,{"$f":"VLOOKUP(A435,'Analyse S'!A:D,4,FALSE)","v":5}]
["307-151-902-0",11,{"$f":"VLOOKUP(A436,'Analyse S'!A:D,4,FALSE)","v":11}]
["307-152-202-0",35,{"$f":"VLOOKUP(A437,'Analyse S'!A:D,4,FALSE)","v":35}]
["307-152-503-0",37,{"$f":"VLOOKUP(A438,'Analyse S'!A:D,4,FALSE)","v":37}]
["307-152-703-0",27,{"$f":"VLOOKUP(A439,'Analyse S'!A:D,4,FALSE)","v":27}]
["307-152-802-0",1,{"$f":"VLOOKUP(A440,'Analyse S'!A:D,4,FALSE)","v":1}]
["307-153-102-0",1,{"$f":"VLOOKUP(A441,'Analyse S'!A:D,4,FALSE)","v":1}]
["307-153-201-0",3,{"$f":"VLOOKUP(A442,'Analyse S'!A:D,4,FALSE)","v":3}]
["307-153-302-0",9,{"$f":"VLOOKUP(A443,'Analyse S'!A:D,4,FALSE)","v":9}]
["307-153-503-0",5,{"$f":"VLOOKUP(A444,'Analyse S'!A:D,4,FALSE)","v":5}]
["307-153-702-0",2,{"$f":"VLOOKUP(A445,'Analyse S'!A:D,4,FALSE)","v":2}]
["307-153-801-0",14,{"$f":"VLOOKUP(A446,'Analyse S'!A:D,4,FALSE)","v":14}]
["307-153-901-0",16,{"$f":"VLOOKUP(A447,'Analyse S'!A:D,4,FALSE)","v":16}]
["307-154-001-0",50,{"$f":"VLOOKUP(A448,'Analyse S'!A:D,4,FALSE)","v":50}]
["307-154-101-0",52,{"$f":"VLOOKUP(A449,'Analyse S'!A:D,4,FALSE)","v":52}]
["307-154-201-0",71,{"$f":"VLOOKUP(A450,'Analyse S'!A:D,4,FALSE)","v":71}]
["307-154-302-0",2,{"$f":"VLOOKUP(A451,'Analyse S'!A:D,4,FALSE)","v":2}]
["307-154-405-0",35,{"$f":"VLOOKUP(A452,'Analyse S'!A:D,4,FALSE)","v":35}]
["307-154-605-0",18,{"$f":"VLOOKUP(A453,'Analyse S'!A:D,4,FALSE)","v":18}]
["307-154-702-0",117,{"$f":"VLOOKUP(A454,'Analyse S'!A:D,4,FALSE)","v":117}]
["307-154-802-0",85,{"$f":"VLOOKUP(A455,'Analyse S'!A:D,4,FALSE)","v":85}]
["307-154-904-0",19,{"$f":"VLOOKUP(A456,'Analyse S'!A:D,4,FALSE)","v":19}]
["307-155-004-0",71,{"$f":"VLOOKUP(A457,'Analyse S'!A:D,4,FALSE)","v":71}]
["307-155-902-0",6,{"$f":"VLOOKUP(A458,'Analyse S'!A:D,4,FALSE)","v":6}]
["307-156-101-0",31,{"$f":"VLOOKUP(A459,'Analyse S'!A:D,4,FALSE)","v":31}]
["307-156-201-0",118,{"$f":"VLOOKUP(A460,'Analyse S'!A:D,4,FALSE)","v":118}]
["307-156-301-0",1,{"$f":"VLOOKUP(A461,'Analyse S'!A:D,4,FALSE)","v":1}]
["307-156-604-0",3,{"$f":"VLOOKUP(A462,'Analyse S'!A:D,4,FALSE)","v":3}]
["307-156-703-0",18,{"$f":"VLOOKUP(A463,'Analyse S'!A:D,4,FALSE)","v":18}]
["307-157-503-0",15,{"$f":"VLOOKUP(A464,'Analyse S'!A:D,4,FALSE)","v":15}]
["307-157-903-0",26,{"$f":"VLOOKUP(A465,'Analyse S'!A:D,4,FALSE)","v":26}]
["307-158-003-0",14,{"$f":"VLOOKUP(A466,'Analyse S'!A:D,4,FALSE)","v":14}]
["307-158-103-0",16,{"$f":"VLOOKUP(A467,'Analyse S'!A:D,4,FALSE)","v":16}]
["307-158-203-0",43,{"$f":"VLOOKUP(A468,'Analyse S'!A:D,4,FALSE)","v":43}]
["307-161-105-6",100,{"$f":"VLOOKUP(A469,'Analyse S'!A:D,4,FALSE)","v":100}]
["307-161-203-0",4,{"$f":"VLOOKUP(A470,'Analyse S'!A:D,4,FALSE)","v":4}]
["307-162-103-0",16,{"$f":"VLOOKUP(A471,'Analyse S'!A:D,4,FALSE)","v":16}]
["307-162-202-0",89,{"$f":"VLOOKUP(A472,'Analyse S'!A:D,4,FALSE)","v":89}]
["307-162-502-0",2,{"$f":"VLOOKUP(A473,'Analyse S'!A:D,4,FALSE)","v":2}]
["307-162-702-0",38,{"$f":"VLOOKUP(A474,'Analyse S'!A:D,4,FALSE)","v":38}]
["307-164-605-0",300,{"$f":"VLOOKUP(A475,'Analyse S'!A:D,4,FALSE)","v":300}]
["307-166-807-6",71,{"$f":"VLOOKUP(A476,'Analyse S'!A:D,4,FALSE)","v":71}]
["307-166-857-6",80,{"$f":"VLOOKUP(A477,'Analyse S'!A:D,4,FALSE)","v":80}]
["307-166-907-6",194,{"$f":"VLOOKUP(A478,'Analyse S'!A:D,4,FALSE)","v":194}]
["307-167-003-6",25,{"$f":"VLOOKUP(A479,'Analyse S'!A:D,4,FALSE)","v":25}]
["307-168-303-6",12,{"$f":"VLOOKUP(A480,'Analyse S'!A:D,4,FALSE)","v":12}]
["307-168-403-6",12,{"$f":"VLOOKUP(A481,'Analyse S'!A:D,4,FALSE)","v":12}]
["307-168-502-0",15,{"$f":"VLOOKUP(A482,'Analyse S'!A:D,4,FALSE)","v":15}]
["307-170-401-0",56,{"$f":"VLOOKUP(A483,'Analyse S'!A:D,4,FALSE)","v":56}]
["307-170-501-0",40,{"$f":"VLOOKUP(A484,'Analyse S'!A:D,4,FALSE)","v":40}]
["307-180-002-0",324,{"$f":"VLOOKUP(A485,'Analyse S'!A:D,4,FALSE)","v":324}]
["307-180-102-0",354,{"$f":"VLOOKUP(A486,'Analyse S'!A:D,4,FALSE)","v":354}]
["307-182-604-0",2,{"$f":"VLOOKUP(A487,'Analyse S'!A:D,4,FALSE)","v":2}]
["307-183-101-0",50,{"$f":"VLOOKUP(A488,'Analyse S'!A:D,4,FALSE)","v":50}]
["307-183-202-0",50,{"$f":"VLOOKUP(A489,'Analyse S'!A:D,4,FALSE)","v":50}]
["307-183-302-0",40,{"$f":"VLOOKUP(A490,'Analyse S'!A:D,4,FALSE)","v":40}]
["307-183-402-0",30,{"$f":"VLOOKUP(A491,'Analyse S'!A:D,4,FALSE)","v":30}]
["307-183-701-0",82,{"$f":"VLOOKUP(A492,'Analyse S'!A:D,4,FALSE)","v":82}]
["307-184-837-0",33,{"$f":"VLOOKUP(A493,'Analyse S'!A:D,4,FALSE)","v":33}]
["307-184-838-0",11,{"$f":"VLOOKUP(A494,'Analyse S'!A:D,4,FALSE)","v":11}]
["307-185-702-0",500,{"$f":"VLOOKUP(A495,'Analyse S'!A:D,4,FALSE)","v":500}]
["307-185-702-6",70,{"$f":"VLOOKUP(A496,'Analyse S'!A:D,4,FALSE)","v":70}]
["307-185-704-6",1201,{"$f":"VLOOKUP(A497,'Analyse S'!A:D,4,FALSE)","v":1201}]
["307-185-902-0",300,{"$f":"VLOOKUP(A498,'Analyse S'!A:D,4,FALSE)","v":300}]
["307-185-902-6",166,{"$f":"VLOOKUP(A499,'Analyse S'!A:D,4,FALSE)","v":166}]
["307-185-904-6",376,{"$f":"VLOOKUP(A500,'Analyse S'!A:D,4,FALSE)","v":376}]
["307-186-106-0",4,{"$f":"VLOOKUP(A501,'Analyse S'!A:D,4,FALSE)","v":4}]
["307-186-601-0",76,{"$f":"VLOOKUP(A502,'Analyse S'!A:D,4,FALSE)","v":76}]
["307-186-701-0",21,{"$f":"VLOOKUP(A503,'Analyse S'!A:D,4,FALSE)","v":21}]
["307-186-801-0",22,{"$f":"VLOOKUP(A504,'Analyse S'!A:D,4,FALSE)","v":22}]
["307-187-001-0",29,{"$f":"VLOOKUP(A505,'Analyse S'!A:D,4,FALSE)","v":29}]
["307-187-101-0",42,{"$f":"VLOOKUP(A506,'Analyse S'!A:D,4,FALSE)","v":42}]
["307-187-801-6",53,{"$f":"VLOOKUP(A507,'Analyse S'!A:D,4,FALSE)","v":53}]
["307-187-901-0",8,{"$f":"VLOOKUP(A508,'Analyse S'!A:D,4,FALSE)","v":8}]
["307-188-001-0",10,{"$f":"VLOOKUP(A509,'Analyse S'!A:D,4,FALSE)","v":10}]
["307-188-101-0",11,{"$f":"VLOOKUP(A510,'Analyse S'!A:D,4,FALSE)","v":11}]
["307-188-201-0",5,{"$f":"VLOOKUP(A511,'Analyse S'!A:D,4,FALSE)","v":5}]
["307-188-501-0",259,{"$f":"VLOOKUP(A512,'Analyse S'!A:D,4,FALSE)","v":259}]
["307-188-603-0",6,{"$f":"VLOOKUP(A513,'Analyse S'!A:D,4,FALSE)","v":6}]
["307-188-703-0",6,{"$f":"VLOOKUP(A514,'Analyse S'!A:D,4,FALSE)","v":6}]
["307-188-901-0",8,{"$f":"VLOOKUP(A515,'Analyse S'!A:D,4,FALSE)","v":8}]
["307-189-001-0",6,{"$f":"VLOOKUP(A516,'Analyse S'!A:D,4,FALSE)","v":6}]
["307-189-102-0",10,{"$f":"VLOOKUP(A517,'Analyse S'!A:D,4,FALSE)","v":10}]
["307-189-201-0",9,{"$f":"VLOOKUP(A518,'Analyse S'!A:D,4,FALSE)","v":9}]
["307-189-501-0",10,{"$f":"VLOOKUP(A519,'Analyse S'!A:D,4,FALSE)","v":10}]
["307-190-001-0",4,{"$f":"VLOOKUP(A520,'Analyse S'!A:D,4,FALSE)","v":4}]
["307-190-201-0",4,{"$f":"VLOOKUP(A521,'Analyse S'!A:D,4,FALSE)","v":4}]
["307-190-401-0",178,{"$f":"VLOOKUP(A522,'Analyse S'!A:D,4,FALSE)","v":178}]
["307-190-501-0",15,{"$f":"VLOOKUP(A523,'Analyse S'!A:D,4,FALSE)","v":15}]
["307-190-703-0",23,{"$f":"VLOOKUP(A524,'Analyse S'!A:D,4,FALSE)","v":23}]
["307-190-901-0",27,{"$f":"VLOOKUP(A525,'Analyse S'!A:D,4,FALSE)","v":27}]
["307-191-001-0",12,{"$f":"VLOOKUP(A526,'Analyse S'!A:D,4,FALSE)","v":12}]
["307-191-104-0",4,{"$f":"VLOOKUP(A527,'Analyse S'!A:D,4,FALSE)","v":4}]
["307-191-105-0",11,{"$f":"VLOOKUP(A528,'Analyse S'!A:D,4,FALSE)","v":11}]
["307-191-301-0",6,{"$f":"VLOOKUP(A529,'Analyse S'!A:D,4,FALSE)","v":6}]
["307-191-401-0",32,{"$f":"VLOOKUP(A530,'Analyse S'!A:D,4,FALSE)","v":32}]
["307-191-601-0",51,{"$f":"VLOOKUP(A531,'Analyse S'!A:D,4,FALSE)","v":51}]
["307-192-101-0",8,{"$f":"VLOOKUP(A532,'Analyse S'!A:D,4,FALSE)","v":8}]
["307-192-201-0",40,{"$f":"VLOOKUP(A533,'Analyse S'!A:D,4,FALSE)","v":40}]
["307-192-303-0",4,{"$f":"VLOOKUP(A534,'Analyse S'!A:D,4,FALSE)","v":4}]
["307-192-402-0",21,{"$f":"VLOOKUP(A535,'Analyse S'!A:D,4,FALSE)","v":21}]
["307-192-501-0",30,{"$f":"VLOOKUP(A536,'Analyse S'!A:D,4,FALSE)","v":30}]
["307-192-801-0",1,{"$f":"VLOOKUP(A537,'Analyse S'!A:D,4,FALSE)","v":1}]
["307-192-902-0",8,{"$f":"VLOOKUP(A538,'Analyse S'!A:D,4,FALSE)","v":8}]
["307-193-001-0",14,{"$f":"VLOOKUP(A539,'Analyse S'!A:D,4,FALSE)","v":14}]
["307-193-101-0",2,{"$f":"VLOOKUP(A540,'Analyse S'!A:D,4,FALSE)","v":2}]
["307-193-401-0",7,{"$f":"VLOOKUP(A541,'Analyse S'!A:D,4,FALSE)","v":7}]
["307-193-501-0",30,{"$f":"VLOOKUP(A542,'Analyse S'!A:D,4,FALSE)","v":30}]
["307-193-701-0",25,{"$f":"VLOOKUP(A543,'Analyse S'!A:D,4,FALSE)","v":25}]
["307-193-801-0",10,{"$f":"VLOOKUP(A544,'Analyse S'!A:D,4,FALSE)","v":10}]
["307-193-901-0",11,{"$f":"VLOOKUP(A545,'Analyse S'!A:D,4,FALSE)","v":11}]
["307-194-202-0",30,{"$f":"VLOOKUP(A546,'Analyse S'!A:D,4,FALSE)","v":30}]
["307-194-402-0",6,{"$f":"VLOOKUP(A547,'Analyse S'!A:D,4,FALSE)","v":6}]
["307-207-202-0",2,{"$f":"VLOOKUP(A548,'Analyse S'!A:D,4,FALSE)","v":2}]
["307-207-308-0",1,{"$f":"VLOOKUP(A549,'Analyse S'!A:D,4,FALSE)","v":1}]
["307-207-312-0",1,{"$f":"VLOOKUP(A550,'Analyse S'!A:D,4,FALSE)","v":1}]
["307-207-702-0",671,{"$f":"VLOOKUP(A551,'Analyse S'!A:D,4,FALSE)","v":671}]
["307-207-802-0",1277,{"$f":"VLOOKUP(A552,'Analyse S'!A:D,4,FALSE)","v":1277}]
["307-208-301-0",504,{"$f":"VLOOKUP(A553,'Analyse S'!A:D,4,FALSE)","v":504}]
["307-209-202-0",108,{"$f":"VLOOKUP(A554,'Analyse S'!A:D,4,FALSE)","v":108}]
["307-209-303-0",65,{"$f":"VLOOKUP(A555,'Analyse S'!A:D,4,FALSE)","v":65}]
["307-209-702-0",142,{"$f":"VLOOKUP(A556,'Analyse S'!A:D,4,FALSE)","v":142}]
["307-212-603-0",9,{"$f":"VLOOKUP(A557,'Analyse S'!A:D,4,FALSE)","v":9}]
["307-214-402-0",13,{"$f":"VLOOKUP(A558,'Analyse S'!A:D,4,FALSE)","v":13}]
["307-214-502-0",21,{"$f":"VLOOKUP(A559,'Analyse S'!A:D,4,FALSE)","v":21}]
["307-214-601-0",4,{"$f":"VLOOKUP(A560,'Analyse S'!A:D,4,FALSE)","v":4}]
["307-214-701-0",5,{"$f":"VLOOKUP(A561,'Analyse S'!A:D,4,FALSE)","v":5}]
["307-214-801-0",3,{"$f":"VLOOKUP(A562,'Analyse S'!A:D,4,FALSE)","v":3}]
["307-214-902-0",3,{"$f":"VLOOKUP(A563,'Analyse S'!A:D,4,FALSE)","v":3}]
["307-215-001-0",8,{"$f":"VLOOKUP(A564,'Analyse S'!A:D,4,FALSE)","v":8}]
["307-215-801-0",48,{"$f":"VLOOKUP(A565,'Analyse S'!A:D,4,FALSE)","v":48}]
["307-216-102-0",40,{"$f":"VLOOKUP(A566,'Analyse S'!A:D,4,FALSE)","v":40}]
["307-216-202-0",40,{"$f":"VLOOKUP(A567,'Analyse S'!A:D,4,FALSE)","v":40}]
["307-216-501-0",232,{"$f":"VLOOKUP(A568,'Analyse S'!A:D,4,FALSE)","v":232}]
["307-219-801-0",1,{"$f":"VLOOKUP(A569,'Analyse S'!A:D,4,FALSE)","v":1}]
["307-220-401-0",8,{"$f":"VLOOKUP(A570,'Analyse S'!A:D,4,FALSE)","v":8}]
["307-220-802-0",9,{"$f":"VLOOKUP(A571,'Analyse S'!A:D,4,FALSE)","v":9}]
["307-221-305-0",83,{"$f":"VLOOKUP(A572,'Analyse S'!A:D,4,FALSE)","v":83}]
["307-221-902-0",18,{"$f":"VLOOKUP(A573,'Analyse S'!A:D,4,FALSE)","v":18}]
["307-222-602-6",59,{"$f":"VLOOKUP(A574,'Analyse S'!A:D,4,FALSE)","v":59}]
["307-223-802-6",14,{"$f":"VLOOKUP(A575,'Analyse S'!A:D,4,FALSE)","v":14}]
["307-226-302-0",18,{"$f":"VLOOKUP(A576,'Analyse S'!A:D,4,FALSE)","v":18}]
["307-227-403-0",2,{"$f":"VLOOKUP(A577,'Analyse S'!A:D,4,FALSE)","v":2}]
["307-229-001-0",7,{"$f":"VLOOKUP(A578,'Analyse S'!A:D,4,FALSE)","v":7}]
["307-230-602-6",89,{"$f":"VLOOKUP(A579,'Analyse S'!A:D,4,FALSE)","v":89}]
["307-230-702-6",18,{"$f":"VLOOKUP(A580,'Analyse S'!A:D,4,FALSE)","v":18}]
["307-230-802-6",16,{"$f":"VLOOKUP(A581,'Analyse S'!A:D,4,FALSE)","v":16}]
["307-230-902-6",236,{"$f":"VLOOKUP(A582,'Analyse S'!A:D,4,FALSE)","v":236}]
["307-231-003-6",2644,{"$f":"VLOOKUP(A583,'Analyse S'!A:D,4,FALSE)","v":2644}]
["307-231-103-6",194,{"$f":"VLOOKUP(A584,'Analyse S'!A:D,4,FALSE)","v":194}]
["307-231-203-6",141,{"$f":"VLOOKUP(A585,'Analyse S'!A:D,4,FALSE)","v":141}]
["307-231-303-6",1395,{"$f":"VLOOKUP(A586,'Analyse S'!A:D,4,FALSE)","v":1395}]
["307-231-403-6",8292,{"$f":"VLOOKUP(A587,'Analyse S'!A:D,4,FALSE)","v":8292}]
["307-231-503-6",179,{"$f":"VLOOKUP(A588,'Analyse S'!A:D,4,FALSE)","v":179}]
["307-231-603-6",481,{"$f":"VLOOKUP(A589,'Analyse S'!A:D,4,FALSE)","v":481}]
["307-231-703-6",1019,{"$f":"VLOOKUP(A590,'Analyse S'!A:D,4,FALSE)","v":1019}]
["307-231-803-6",6518,{"$f":"VLOOKUP(A591,'Analyse S'!A:D,4,FALSE)","v":6518}]
["307-231-903-6",197,{"$f":"VLOOKUP(A592,'Analyse S'!A:D,4,FALSE)","v":197}]
["307-232-003-6",215,{"$f":"VLOOKUP(A593,'Analyse S'!A:D,4,FALSE)","v":215}]
["307-232-103-6",2491,{"$f":"VLOOKUP(A594,'Analyse S'!A:D,4,FALSE)","v":2491}]
["307-232-214-0",4,{"$f":"VLOOKUP(A595,'Analyse S'!A:D,4,FALSE)","v":4}]
["307-232-302-0",1876,{"$f":"VLOOKUP(A596,'Analyse S'!A:D,4,FALSE)","v":1876}]
["307-232-401-0",10927,{"$f":"VLOOKUP(A597,'Analyse S'!A:D,4,FALSE)","v":10927}]
["307-232-606-0",1631,{"$f":"VLOOKUP(A598,'Analyse S'!A:D,4,FALSE)","v":1631}]
["307-232-901-0",139,{"$f":"VLOOKUP(A599,'Analyse S'!A:D,4,FALSE)","v":139}]
["307-233-304-6",29,{"$f":"VLOOKUP(A600,'Analyse S'!A:D,4,FALSE)","v":29}]
["307-233-801-0",12675,{"$f":"VLOOKUP(A601,'Analyse S'!A:D,4,FALSE)","v":12675}]
["307-234-202-0",15,{"$f":"VLOOKUP(A602,'Analyse S'!A:D,4,FALSE)","v":15}]
["307-234-411-0",1,{"$f":"VLOOKUP(A603,'Analyse S'!A:D,4,FALSE)","v":1}]
["307-235-509-0",2,{"$f":"VLOOKUP(A604,'Analyse S'!A:D,4,FALSE)","v":2}]
["307-235-515-0",253,{"$f":"VLOOKUP(A605,'Analyse S'!A:D,4,FALSE)","v":253}]
["307-235-602-0",106,{"$f":"VLOOKUP(A606,'Analyse S'!A:D,4,FALSE)","v":106}]
["307-235-902-0",93,{"$f":"VLOOKUP(A607,'Analyse S'!A:D,4,FALSE)","v":93}]
["307-236-202-0",40,{"$f":"VLOOKUP(A608,'Analyse S'!A:D,4,FALSE)","v":40}]
["307-236-303-0",129,{"$f":"VLOOKUP(A609,'Analyse S'!A:D,4,FALSE)","v":129}]
["307-236-405-0",6,{"$f":"VLOOKUP(A610,'Analyse S'!A:D,4,FALSE)","v":6}]
["307-236-421-0",5,{"$f":"VLOOKUP(A611,'Analyse S'!A:D,4,FALSE)","v":5}]
["307-236-702-0",192,{"$f":"VLOOKUP(A612,'Analyse S'!A:D,4,FALSE)","v":192}]
["307-236-802-0",42,{"$f":"VLOOKUP(A613,'Analyse S'!A:D,4,FALSE)","v":42}]
["307-238-101-0",27,{"$f":"VLOOKUP(A614,'Analyse S'!A:D,4,FALSE)","v":27}]
["307-240-002-0",589,{"$f":"VLOOKUP(A615,'Analyse S'!A:D,4,FALSE)","v":589}]
["307-240-107-0",184,{"$f":"VLOOKUP(A616,'Analyse S'!A:D,4,FALSE)","v":184}]
["307-243-001-0",1,{"$f":"VLOOKUP(A617,'Analyse S'!A:D,4,FALSE)","v":1}]
["307-244-001-0",310,{"$f":"VLOOKUP(A618,'Analyse S'!A:D,4,FALSE)","v":310}]
["307-244-101-0",180,{"$f":"VLOOKUP(A619,'Analyse S'!A:D,4,FALSE)","v":180}]
["307-244-201-0",21,{"$f":"VLOOKUP(A620,'Analyse S'!A:D,4,FALSE)","v":21}]
["307-244-301-0",4,{"$f":"VLOOKUP(A621,'Analyse S'!A:D,4,FALSE)","v":4}]
["307-245-722-0",21,{"$f":"VLOOKUP(A622,'Analyse S'!A:D,4,FALSE)","v":21}]
["307-245-952-0",15,{"$f":"VLOOKUP(A623,'Analyse S'!A:D,4,FALSE)","v":15}]
["307-246-851-0",23,{"$f":"VLOOKUP(A624,'Analyse S'!A:D,4,FALSE)","v":23}]
["307-246-951-0",116,{"$f":"VLOOKUP(A625,'Analyse S'!A:D,4,FALSE)","v":116}]
["307-250-507-0",116,{"$f":"VLOOKUP(A626,'Analyse S'!A:D,4,FALSE)","v":116}]
["307-250-605-6",100,{"$f":"VLOOKUP(A627,'Analyse S'!A:D,4,FALSE)","v":100}]
["307-250-903-0",97,{"$f":"VLOOKUP(A628,'Analyse S'!A:D,4,FALSE)","v":97}]
["307-251-305-0",35,{"$f":"VLOOKUP(A629,'Analyse S'!A:D,4,FALSE)","v":35}]
["307-251-409-0",112,{"$f":"VLOOKUP(A630,'Analyse S'!A:D,4,FALSE)","v":112}]
["307-251-505-0",110,{"$f":"VLOOKUP(A631,'Analyse S'!A:D,4,FALSE)","v":110}]
["307-251-601-0",2943,{"$f":"VLOOKUP(A632,'Analyse S'!A:D,4,FALSE)","v":2943}]
["307-251-705-0",29,{"$f":"VLOOKUP(A633,'Analyse S'!A:D,4,FALSE)","v":29}]
["307-254-301-0",1449,{"$f":"VLOOKUP(A634,'Analyse S'!A:D,4,FALSE)","v":1449}]
["307-254-702-6",28,{"$f":"VLOOKUP(A635,'Analyse S'!A:D,4,FALSE)","v":28}]
["307-255-201-0",142,{"$f":"VLOOKUP(A636,'Analyse S'!A:D,4,FALSE)","v":142}]
["307-260-002-0",35,{"$f":"VLOOKUP(A637,'Analyse S'!A:D,4,FALSE)","v":35}]
["307-264-510-6",26,{"$f":"VLOOKUP(A638,'Analyse S'!A:D,4,FALSE)","v":26}]
["307-264-706-0",2,{"$f":"VLOOKUP(A639,'Analyse S'!A:D,4,FALSE)","v":2}]
["307-265-003-6",35,{"$f":"VLOOKUP(A640,'Analyse S'!A:D,4,FALSE)","v":35}]
["307-265-302-0",33,{"$f":"VLOOKUP(A641,'Analyse S'!A:D,4,FALSE)","v":33}]
["307-265-704-0",6,{"$f":"VLOOKUP(A642,'Analyse S'!A:D,4,FALSE)","v":6}]
["307-265-802-0",3,{"$f":"VLOOKUP(A643,'Analyse S'!A:D,4,FALSE)","v":3}]
["307-265-902-0",4,{"$f":"VLOOKUP(A644,'Analyse S'!A:D,4,FALSE)","v":4}]
["307-266-001-0",42,{"$f":"VLOOKUP(A645,'Analyse S'!A:D,4,FALSE)","v":42}]
["307-266-501-0",6,{"$f":"VLOOKUP(A646,'Analyse S'!A:D,4,FALSE)","v":6}]
["307-266-702-0",25,{"$f":"VLOOKUP(A647,'Analyse S'!A:D,4,FALSE)","v":25}]
["307-266-901-0",27,{"$f":"VLOOKUP(A648,'Analyse S'!A:D,4,FALSE)","v":27}]
["307-267-103-0",43,{"$f":"VLOOKUP(A649,'Analyse S'!A:D,4,FALSE)","v":43}]
["307-267-202-6",64,{"$f":"VLOOKUP(A650,'Analyse S'!A:D,4,FALSE)","v":64}]
["307-268-602-0",29,{"$f":"VLOOKUP(A651,'Analyse S'!A:D,4,FALSE)","v":29}]
["307-268-802-0",132,{"$f":"VLOOKUP(A652,'Analyse S'!A:D,4,FALSE)","v":132}]
["307-269-503-0",90,{"$f":"VLOOKUP(A653,'Analyse S'!A:D,4,FALSE)","v":90}]
["307-269-711-0",29,{"$f":"VLOOKUP(A654,'Analyse S'!A:D,4,FALSE)","v":29}]
["307-269-731-0",167,{"$f":"VLOOKUP(A655,'Analyse S'!A:D,4,FALSE)","v":167}]
["307-269-741-0",30,{"$f":"VLOOKUP(A656,'Analyse S'!A:D,4,FALSE)","v":30}]
["307-269-902-0",91,{"$f":"VLOOKUP(A657,'Analyse S'!A:D,4,FALSE)","v":91}]
["307-270-101-0",18,{"$f":"VLOOKUP(A658,'Analyse S'!A:D,4,FALSE)","v":18}]
["307-270-201-0",63,{"$f":"VLOOKUP(A659,'Analyse S'!A:D,4,FALSE)","v":63}]
["307-270-301-0",80,{"$f":"VLOOKUP(A660,'Analyse S'!A:D,4,FALSE)","v":80}]
["307-270-601-0",589,{"$f":"VLOOKUP(A661,'Analyse S'!A:D,4,FALSE)","v":589}]
["307-270-801-0",6,{"$f":"VLOOKUP(A662,'Analyse S'!A:D,4,FALSE)","v":6}]
["307-270-901-0",157,{"$f":"VLOOKUP(A663,'Analyse S'!A:D,4,FALSE)","v":157}]
["307-272-605-0",3,{"$f":"VLOOKUP(A664,'Analyse S'!A:D,4,FALSE)","v":3}]
["307-272-801-0",18,{"$f":"VLOOKUP(A665,'Analyse S'!A:D,4,FALSE)","v":18}]
["307-273-301-0",97,{"$f":"VLOOKUP(A666,'Analyse S'!A:D,4,FALSE)","v":97}]
["307-273-901-0",195,{"$f":"VLOOKUP(A667,'Analyse S'!A:D,4,FALSE)","v":195}]
["307-273-902-0",307,{"$f":"VLOOKUP(A668,'Analyse S'!A:D,4,FALSE)","v":307}]
["307-274-302-0",101,{"$f":"VLOOKUP(A669,'Analyse S'!A:D,4,FALSE)","v":101}]
["307-274-701-0",3,{"$f":"VLOOKUP(A670,'Analyse S'!A:D,4,FALSE)","v":3}]
["307-274-801-0",453,{"$f":"VLOOKUP(A671,'Analyse S'!A:D,4,FALSE)","v":453}]
["307-274-901-0",53,{"$f":"VLOOKUP(A672,'Analyse S'!A:D,4,FALSE)","v":53}]
["307-275-001-0",9,{"$f":"VLOOKUP(A673,'Analyse S'!A:D,4,FALSE)","v":9}]
["307-279-401-0",29,{"$f":"VLOOKUP(A674,'Analyse S'!A:D,4,FALSE)","v":29}]
["307-279-502-6",29,{"$f":"VLOOKUP(A675,'Analyse S'!A:D,4,FALSE)","v":29}]
["307-279-602-6",405,{"$f":"VLOOKUP(A676,'Analyse S'!A:D,4,FALSE)","v":405}]
["307-279-702-6",35,{"$f":"VLOOKUP(A677,'Analyse S'!A:D,4,FALSE)","v":35}]
["307-281-102-6",176,{"$f":"VLOOKUP(A678,'Analyse S'!A:D,4,FALSE)","v":176}]
["307-281-202-6",57,{"$f":"VLOOKUP(A679,'Analyse S'!A:D,4,FALSE)","v":57}]
["307-281-302-6",91,{"$f":"VLOOKUP(A680,'Analyse S'!A:D,4,FALSE)","v":91}]
["307-281-402-6",36,{"$f":"VLOOKUP(A681,'Analyse S'!A:D,4,FALSE)","v":36}]
["307-281-501-6",33,{"$f":"VLOOKUP(A682,'Analyse S'!A:D,4,FALSE)","v":33}]
["307-281-601-6",83,{"$f":"VLOOKUP(A683,'Analyse S'!A:D,4,FALSE)","v":83}]
["307-281-701-6",56,{"$f":"VLOOKUP(A684,'Analyse S'!A:D,4,FALSE)","v":56}]
["307-282-001-0",1159,{"$f":"VLOOKUP(A685,'Analyse S'!A:D,4,FALSE)","v":1159}]
["307-282-101-0",1380,{"$f":"VLOOKUP(A686,'Analyse S'!A:D,4,FALSE)","v":1380}]
["307-282-201-0",109,{"$f":"VLOOKUP(A687,'Analyse S'!A:D,4,FALSE)","v":109}]
["307-282-401-0",12,{"$f":"VLOOKUP(A688,'Analyse S'!A:D,4,FALSE)","v":12}]
["307-800-206-0",2,{"$f":"VLOOKUP(A689,'Analyse S'!A:D,4,FALSE)","v":2}]
["307-801-805-0",1,{"$f":"VLOOKUP(A690,'Analyse S'!A:D,4,FALSE)","v":1}]
["307-802-303-0",8,{"$f":"VLOOKUP(A691,'Analyse S'!A:D,4,FALSE)","v":8}]
["307-803-702-0",15,{"$f":"VLOOKUP(A692,'Analyse S'!A:D,4,FALSE)","v":15}]
["307-804-001-0",6,{"$f":"VLOOKUP(A693,'Analyse S'!A:D,4,FALSE)","v":6}]
["307-804-203-0",3,{"$f":"VLOOKUP(A694,'Analyse S'!A:D,4,FALSE)","v":3}]
["307-804-501-0",6,{"$f":"VLOOKUP(A695,'Analyse S'!A:D,4,FALSE)","v":6}]
["307-804-701-0",6,{"$f":"VLOOKUP(A696,'Analyse S'!A:D,4,FALSE)","v":6}]
["307-804-901-0",15,{"$f":"VLOOKUP(A697,'Analyse S'!A:D,4,FALSE)","v":15}]
["307-805-407-0",6,{"$f":"VLOOKUP(A698,'Analyse S'!A:D,4,FALSE)","v":6}]
["307-806-308-0",24,{"$f":"VLOOKUP(A699,'Analyse S'!A:D,4,FALSE)","v":24}]
["307-810-601-0",1,{"$f":"VLOOKUP(A700,'Analyse S'!A:D,4,FALSE)","v":1}]
["307-810-701-0",45,{"$f":"VLOOKUP(A701,'Analyse S'!A:D,4,FALSE)","v":45}]
["307-811-308-0",11,{"$f":"VLOOKUP(A702,'Analyse S'!A:D,4,FALSE)","v":11}]
["307-811-706-0",10,{"$f":"VLOOKUP(A703,'Analyse S'!A:D,4,FALSE)","v":10}]
["307-811-904-0",5,{"$f":"VLOOKUP(A704,'Analyse S'!A:D,4,FALSE)","v":5}]
["307-812-003-0",15,{"$f":"VLOOKUP(A705,'Analyse S'!A:D,4,FALSE)","v":15}]
["307-812-206-0",5,{"$f":"VLOOKUP(A706,'Analyse S'!A:D,4,FALSE)","v":5}]
["307-812-305-0",4,{"$f":"VLOOKUP(A707,'Analyse S'!A:D,4,FALSE)","v":4}]
["307-812-501-0",14,{"$f":"VLOOKUP(A708,'Analyse S'!A:D,4,FALSE)","v":14}]
["307-812-601-0",25,{"$f":"VLOOKUP(A709,'Analyse S'!A:D,4,FALSE)","v":25}]
["307-813-302-0",50,{"$f":"VLOOKUP(A710,'Analyse S'!A:D,4,FALSE)","v":50}]
["307-813-603-0",14,{"$f":"VLOOKUP(A711,'Analyse S'!A:D,4,FALSE)","v":14}]
["307-814-105-0",11,{"$f":"VLOOKUP(A712,'Analyse S'!A:D,4,FALSE)","v":11}]
["307-814-604-0",5,{"$f":"VLOOKUP(A713,'Analyse S'!A:D,4,FALSE)","v":5}]
["307-814-707-0",6,{"$f":"VLOOKUP(A714,'Analyse S'!A:D,4,FALSE)","v":6}]
["307-815-001-0",1,{"$f":"VLOOKUP(A715,'Analyse S'!A:D,4,FALSE)","v":1}]
["307-817-304-0",13,{"$f":"VLOOKUP(A716,'Analyse S'!A:D,4,FALSE)","v":13}]
["307-817-505-0",8,{"$f":"VLOOKUP(A717,'Analyse S'!A:D,4,FALSE)","v":8}]
["307-817-604-0",28,{"$f":"VLOOKUP(A718,'Analyse S'!A:D,4,FALSE)","v":28}]
["307-818-005-0",7,{"$f":"VLOOKUP(A719,'Analyse S'!A:D,4,FALSE)","v":7}]
["307-824-804-0",9,{"$f":"VLOOKUP(A720,'Analyse S'!A:D,4,FALSE)","v":9}]
["307-826-902-0",9,{"$f":"VLOOKUP(A721,'Analyse S'!A:D,4,FALSE)","v":9}]
["307-827-413-0",24,{"$f":"VLOOKUP(A722,'Analyse S'!A:D,4,FALSE)","v":24}]
["307-827-501-0",9,{"$f":"VLOOKUP(A723,'Analyse S'!A:D,4,FALSE)","v":9}]
["307-827-802-0",10,{"$f":"VLOOKUP(A724,'Analyse S'!A:D,4,FALSE)","v":10}]
["307-831-305-0",24,{"$f":"VLOOKUP(A725,'Analyse S'!A:D,4,FALSE)","v":24}]
["307-831-903-0",13,{"$f":"VLOOKUP(A726,'Analyse S'!A:D,4,FALSE)","v":13}]
["307-833-702-0",12,{"$f":"VLOOKUP(A727,'Analyse S'!A:D,4,FALSE)","v":12}]
["307-833-904-0",11,{"$f":"VLOOKUP(A728,'Analyse S'!A:D,4,FALSE)","v":11}]
["307-834-905-0",20,{"$f":"VLOOKUP(A729,'Analyse S'!A:D,4,FALSE)","v":20}]
["307-835-006-0",14,{"$f":"VLOOKUP(A730,'Analyse S'!A:D,4,FALSE)","v":14}]
["307-836-205-0",13,{"$f":"VLOOKUP(A731,'Analyse S'!A:D,4,FALSE)","v":13}]
["307-836-305-0",7,{"$f":"VLOOKUP(A732,'Analyse S'!A:D,4,FALSE)","v":7}]
["307-836-405-0",9,{"$f":"VLOOKUP(A733,'Analyse S'!A:D,4,FALSE)","v":9}]
["307-836-502-0",27,{"$f":"VLOOKUP(A734,'Analyse S'!A:D,4,FALSE)","v":27}]
["307-836-603-0",11,{"$f":"VLOOKUP(A735,'Analyse S'!A:D,4,FALSE)","v":11}]
["307-836-702-0",9,{"$f":"VLOOKUP(A736,'Analyse S'!A:D,4,FALSE)","v":9}]
["307-836-804-0",8,{"$f":"VLOOKUP(A737,'Analyse S'!A:D,4,FALSE)","v":8}]
["307-836-903-0",16,{"$f":"VLOOKUP(A738,'Analyse S'!A:D,4,FALSE)","v":16}]
["307-837-003-0",6,{"$f":"VLOOKUP(A739,'Analyse S'!A:D,4,FALSE)","v":6}]
["307-837-102-0",12,{"$f":"VLOOKUP(A740,'Analyse S'!A:D,4,FALSE)","v":12}]
["307-837-202-0",7,{"$f":"VLOOKUP(A741,'Analyse S'!A:D,4,FALSE)","v":7}]
["307-837-403-0",10,{"$f":"VLOOKUP(A742,'Analyse S'!A:D,4,FALSE)","v":10}]
["307-837-703-0",4,{"$f":"VLOOKUP(A743,'Analyse S'!A:D,4,FALSE)","v":4}]
["307-838-006-0",4,{"$f":"VLOOKUP(A744,'Analyse S'!A:D,4,FALSE)","v":4}]
["307-839-403-0",9,{"$f":"VLOOKUP(A745,'Analyse S'!A:D,4,FALSE)","v":9}]
["307-839-405-0",18,{"$f":"VLOOKUP(A746,'Analyse S'!A:D,4,FALSE)","v":18}]
["307-839-604-0",7,{"$f":"VLOOKUP(A747,'Analyse S'!A:D,4,FALSE)","v":7}]
["307-839-803-0",5,{"$f":"VLOOKUP(A748,'Analyse S'!A:D,4,FALSE)","v":5}]
["307-839-804-0",4,{"$f":"VLOOKUP(A749,'Analyse S'!A:D,4,FALSE)","v":4}]
["307-839-904-0",30,{"$f":"VLOOKUP(A750,'Analyse S'!A:D,4,FALSE)","v":30}]
["307-840-406-0",9,{"$f":"VLOOKUP(A751,'Analyse S'!A:D,4,FALSE)","v":9}]
["307-840-704-0",7,{"$f":"VLOOKUP(A752,'Analyse S'!A:D,4,FALSE)","v":7}]
["307-840-805-0",3,{"$f":"VLOOKUP(A753,'Analyse S'!A:D,4,FALSE)","v":3}]
["307-840-903-0",7,{"$f":"VLOOKUP(A754,'Analyse S'!A:D,4,FALSE)","v":7}]
["307-841-303-0",9,{"$f":"VLOOKUP(A755,'Analyse S'!A:D,4,FALSE)","v":9}]
["307-841-406-0",18,{"$f":"VLOOKUP(A756,'Analyse S'!A:D,4,FALSE)","v":18}]
["307-841-504-0",36,{"$f":"VLOOKUP(A757,'Analyse S'!A:D,4,FALSE)","v":36}]
["307-841-604-0",6,{"$f":"VLOOKUP(A758,'Analyse S'!A:D,4,FALSE)","v":6}]
["307-841-803-0",27,{"$f":"VLOOKUP(A759,'Analyse S'!A:D,4,FALSE)","v":27}]
["307-844-404-0",2,{"$f":"VLOOKUP(A760,'Analyse S'!A:D,4,FALSE)","v":2}]
["307-844-602-0",3,{"$f":"VLOOKUP(A761,'Analyse S'!A:D,4,FALSE)","v":3}]
["307-844-803-0",25,{"$f":"VLOOKUP(A762,'Analyse S'!A:D,4,FALSE)","v":25}]
["307-845-101-0",5,{"$f":"VLOOKUP(A763,'Analyse S'!A:D,4,FALSE)","v":5}]
["307-845-305-0",4,{"$f":"VLOOKUP(A764,'Analyse S'!A:D,4,FALSE)","v":4}]
["307-845-504-0",1,{"$f":"VLOOKUP(A765,'Analyse S'!A:D,4,FALSE)","v":1}]
["307-846-101-0",1,{"$f":"VLOOKUP(A766,'Analyse S'!A:D,4,FALSE)","v":1}]
["307-846-503-0",5,{"$f":"VLOOKUP(A767,'Analyse S'!A:D,4,FALSE)","v":5}]
["307-846-702-0",27,{"$f":"VLOOKUP(A768,'Analyse S'!A:D,4,FALSE)","v":27}]
["307-846-804-0",6,{"$f":"VLOOKUP(A769,'Analyse S'!A:D,4,FALSE)","v":6}]
["307-847-004-0",5,{"$f":"VLOOKUP(A770,'Analyse S'!A:D,4,FALSE)","v":5}]
["307-847-504-0",2,{"$f":"VLOOKUP(A771,'Analyse S'!A:D,4,FALSE)","v":2}]
["307-847-703-0",6,{"$f":"VLOOKUP(A772,'Analyse S'!A:D,4,FALSE)","v":6}]
["307-848-002-0",14,{"$f":"VLOOKUP(A773,'Analyse S'!A:D,4,FALSE)","v":14}]
["307-848-206-0",20,{"$f":"VLOOKUP(A774,'Analyse S'!A:D,4,FALSE)","v":20}]
["307-848-302-0",5,{"$f":"VLOOKUP(A775,'Analyse S'!A:D,4,FALSE)","v":5}]
["307-848-303-0",15,{"$f":"VLOOKUP(A776,'Analyse S'!A:D,4,FALSE)","v":15}]
["307-848-405-0",2,{"$f":"VLOOKUP(A777,'Analyse S'!A:D,4,FALSE)","v":2}]
["307-848-502-0",4,{"$f":"VLOOKUP(A778,'Analyse S'!A:D,4,FALSE)","v":4}]
["307-848-605-0",5,{"$f":"VLOOKUP(A779,'Analyse S'!A:D,4,FALSE)","v":5}]
["307-848-703-0",3,{"$f":"VLOOKUP(A780,'Analyse S'!A:D,4,FALSE)","v":3}]
["307-848-804-0",13,{"$f":"VLOOKUP(A781,'Analyse S'!A:D,4,FALSE)","v":13}]
["307-848-901-0",19,{"$f":"VLOOKUP(A782,'Analyse S'!A:D,4,FALSE)","v":19}]
["307-849-001-0",15,{"$f":"VLOOKUP(A783,'Analyse S'!A:D,4,FALSE)","v":15}]
["307-849-101-0",17,{"$f":"VLOOKUP(A784,'Analyse S'!A:D,4,FALSE)","v":17}]
["307-849-205-0",4,{"$f":"VLOOKUP(A785,'Analyse S'!A:D,4,FALSE)","v":4}]
["307-849-305-0",5,{"$f":"VLOOKUP(A786,'Analyse S'!A:D,4,FALSE)","v":5}]
["307-849-502-0",5,{"$f":"VLOOKUP(A787,'Analyse S'!A:D,4,FALSE)","v":5}]
["307-849-602-0",5,{"$f":"VLOOKUP(A788,'Analyse S'!A:D,4,FALSE)","v":5}]
["307-849-703-0",6,{"$f":"VLOOKUP(A789,'Analyse S'!A:D,4,FALSE)","v":6}]
["307-849-804-0",10,{"$f":"VLOOKUP(A790,'Analyse S'!A:D,4,FALSE)","v":10}]
["307-850-204-0",8,{"$f":"VLOOKUP(A791,'Analyse S'!A:D,4,FALSE)","v":8}]
["307-850-303-0",5,{"$f":"VLOOKUP(A792,'Analyse S'!A:D,4,FALSE)","v":5}]
["307-850-506-0",1,{"$f":"VLOOKUP(A793,'Analyse S'!A:D,4,FALSE)","v":1}]
["307-850-508-0",25,{"$f":"VLOOKUP(A794,'Analyse S'!A:D,4,FALSE)","v":25}]
["307-851-003-0",5,{"$f":"VLOOKUP(A795,'Analyse S'!A:D,4,FALSE)","v":5}]
["307-851-005-0",2,{"$f":"VLOOKUP(A796,'Analyse S'!A:D,4,FALSE)","v":2}]
["307-851-403-0",3,{"$f":"VLOOKUP(A797,'Analyse S'!A:D,4,FALSE)","v":3}]
["307-851-603-0",6,{"$f":"VLOOKUP(A798,'Analyse S'!A:D,4,FALSE)","v":6}]
["307-851-803-0",6,{"$f":"VLOOKUP(A799,'Analyse S'!A:D,4,FALSE)","v":6}]
["307-852-003-0",5,{"$f":"VLOOKUP(A800,'Analyse S'!A:D,4,FALSE)","v":5}]
["307-861-502-0",7,{"$f":"VLOOKUP(A801,'Analyse S'!A:D,4,FALSE)","v":7}]
["307-861-704-0",14,{"$f":"VLOOKUP(A802,'Analyse S'!A:D,4,FALSE)","v":14}]
["307-862-401-0",1,{"$f":"VLOOKUP(A803,'Analyse S'!A:D,4,FALSE)","v":1}]
["307-862-804-0",5,{"$f":"VLOOKUP(A804,'Analyse S'!A:D,4,FALSE)","v":5}]
["307-862-805-0",10,{"$f":"VLOOKUP(A805,'Analyse S'!A:D,4,FALSE)","v":10}]
["307-862-901-0",5,{"$f":"VLOOKUP(A806,'Analyse S'!A:D,4,FALSE)","v":5}]
["307-863-205-0",3,{"$f":"VLOOKUP(A807,'Analyse S'!A:D,4,FALSE)","v":3}]
["307-863-704-0",5,{"$f":"VLOOKUP(A808,'Analyse S'!A:D,4,FALSE)","v":5}]
["307-867-201-0",10,{"$f":"VLOOKUP(A809,'Analyse S'!A:D,4,FALSE)","v":10}]
["307-868-903-0",2,{"$f":"VLOOKUP(A810,'Analyse S'!A:D,4,FALSE)","v":2}]
["307-870-001-0",5,{"$f":"VLOOKUP(A811,'Analyse S'!A:D,4,FALSE)","v":5}]
["307-870-502-0",19,{"$f":"VLOOKUP(A812,'Analyse S'!A:D,4,FALSE)","v":19}]
["307-872-701-0",6,{"$f":"VLOOKUP(A813,'Analyse S'!A:D,4,FALSE)","v":6}]
["307-873-202-0",7,{"$f":"VLOOKUP(A814,'Analyse S'!A:D,4,FALSE)","v":7}]
["307-873-401-0",20,{"$f":"VLOOKUP(A815,'Analyse S'!A:D,4,FALSE)","v":20}]
["307-873-601-0",20,{"$f":"VLOOKUP(A816,'Analyse S'!A:D,4,FALSE)","v":20}]
["307-873-801-0",2,{"$f":"VLOOKUP(A817,'Analyse S'!A:D,4,FALSE)","v":2}]
["307-874-602-0",18,{"$f":"VLOOKUP(A818,'Analyse S'!A:D,4,FALSE)","v":18}]
["307-874-901-0",9,{"$f":"VLOOKUP(A819,'Analyse S'!A:D,4,FALSE)","v":9}]
["307-875-202-0",5,{"$f":"VLOOKUP(A820,'Analyse S'!A:D,4,FALSE)","v":5}]
["307-875-301-0",4,{"$f":"VLOOKUP(A821,'Analyse S'!A:D,4,FALSE)","v":4}]
["307-875-501-0",6,{"$f":"VLOOKUP(A822,'Analyse S'!A:D,4,FALSE)","v":6}]
["307-875-701-0",17,{"$f":"VLOOKUP(A823,'Analyse S'!A:D,4,FALSE)","v":17}]
["307-875-901-0",4,{"$f":"VLOOKUP(A824,'Analyse S'!A:D,4,FALSE)","v":4}]
["307-875-902-0",74,{"$f":"VLOOKUP(A825,'Analyse S'!A:D,4,FALSE)","v":74}]
["307-876-102-0",3,{"$f":"VLOOKUP(A826,'Analyse S'!A:D,4,FALSE)","v":3}]
["307-876-302-0",14,{"$f":"VLOOKUP(A827,'Analyse S'!A:D,4,FALSE)","v":14}]
["307-876-501-0",13,{"$f":"VLOOKUP(A828,'Analyse S'!A:D,4,FALSE)","v":13}]
["307-876-901-0",5,{"$f":"VLOOKUP(A829,'Analyse S'!A:D,4,FALSE)","v":5}]
["307-877-501-0",2,{"$f":"VLOOKUP(A830,'Analyse S'!A:D,4,FALSE)","v":2}]
["307-877-801-0",4,{"$f":"VLOOKUP(A831,'Analyse S'!A:D,4,FALSE)","v":4}]
["307-878-001-0",10,{"$f":"VLOOKUP(A832,'Analyse S'!A:D,4,FALSE)","v":10}]
["307-878-401-0",3,{"$f":"VLOOKUP(A833,'Analyse S'!A:D,4,FALSE)","v":3}]
["307-878-601-0",4,{"$f":"VLOOKUP(A834,'Analyse S'!A:D,4,FALSE)","v":4}]
["307-878-702-0",8,{"$f":"VLOOKUP(A835,'Analyse S'!A:D,4,FALSE)","v":8}]
["307-879-202-0",2,{"$f":"VLOOKUP(A836,'Analyse S'!A:D,4,FALSE)","v":2}]
["307-879-306-0",15,{"$f":"VLOOKUP(A837,'Analyse S'!A:D,4,FALSE)","v":15}]
["307-879-801-0",11,{"$f":"VLOOKUP(A838,'Analyse S'!A:D,4,FALSE)","v":11}]
["307-880-501-0",310,{"$f":"VLOOKUP(A839,'Analyse S'!A:D,4,FALSE)","v":310}]
["307-900-304-0",29,{"$f":"VLOOKUP(A840,'Analyse S'!A:D,4,FALSE)","v":29}]
["307-901-203-0",2,{"$f":"VLOOKUP(A841,'Analyse S'!A:D,4,FALSE)","v":2}]
["307-901-402-0",67,{"$f":"VLOOKUP(A842,'Analyse S'!A:D,4,FALSE)","v":67}]
["307-901-502-0",23,{"$f":"VLOOKUP(A843,'Analyse S'!A:D,4,FALSE)","v":23}]
["307-901-603-0",5,{"$f":"VLOOKUP(A844,'Analyse S'!A:D,4,FALSE)","v":5}]
["307-901-702-0",32,{"$f":"VLOOKUP(A845,'Analyse S'!A:D,4,FALSE)","v":32}]
["307-901-801-0",33,{"$f":"VLOOKUP(A846,'Analyse S'!A:D,4,FALSE)","v":33}]
["307-902-107-0",17,{"$f":"VLOOKUP(A847,'Analyse S'!A:D,4,FALSE)","v":17}]
["307-902-206-0",2,{"$f":"VLOOKUP(A848,'Analyse S'!A:D,4,FALSE)","v":2}]
["307-902-301-0",5,{"$f":"VLOOKUP(A849,'Analyse S'!A:D,4,FALSE)","v":5}]
["307-902-302-0",20,{"$f":"VLOOKUP(A850,'Analyse S'!A:D,4,FALSE)","v":20}]
["307-902-401-0",12,{"$f":"VLOOKUP(A851,'Analyse S'!A:D,4,FALSE)","v":12}]
["307-902-402-0",92,{"$f":"VLOOKUP(A852,'Analyse S'!A:D,4,FALSE)","v":92}]
["307-902-503-0",240,{"$f":"VLOOKUP(A853,'Analyse S'!A:D,4,FALSE)","v":240}]
["307-902-602-0",17,{"$f":"VLOOKUP(A854,'Analyse S'!A:D,4,FALSE)","v":17}]
["307-903-002-0",40,{"$f":"VLOOKUP(A855,'Analyse S'!A:D,4,FALSE)","v":40}]
["307-904-201-0",8,{"$f":"VLOOKUP(A856,'Analyse S'!A:D,4,FALSE)","v":8}]
["307-908-406-0",9,{"$f":"VLOOKUP(A857,'Analyse S'!A:D,4,FALSE)","v":9}]
["307-908-705-0",14,{"$f":"VLOOKUP(A858,'Analyse S'!A:D,4,FALSE)","v":14}]
["307-909-009-0",13,{"$f":"VLOOKUP(A859,'Analyse S'!A:D,4,FALSE)","v":13}]
["307-911-202-0",4,{"$f":"VLOOKUP(A860,'Analyse S'!A:D,4,FALSE)","v":4}]
["307-911-401-0",11,{"$f":"VLOOKUP(A861,'Analyse S'!A:D,4,FALSE)","v":11}]
["307-911-501-0",4,{"$f":"VLOOKUP(A862,'Analyse S'!A:D,4,FALSE)","v":4}]
["307-911-602-0",111,{"$f":"VLOOKUP(A863,'Analyse S'!A:D,4,FALSE)","v":111}]
["307-911-701-0",105,{"$f":"VLOOKUP(A864,'Analyse S'!A:D,4,FALSE)","v":105}]
["307-918-203-0",3,{"$f":"VLOOKUP(A865,'Analyse S'!A:D,4,FALSE)","v":3}]
["307-924-005-0",4,{"$f":"VLOOKUP(A866,'Analyse S'!A:D,4,FALSE)","v":4}]
["307-924-205-0",5,{"$f":"VLOOKUP(A867,'Analyse S'!A:D,4,FALSE)","v":5}]
["307-924-505-0",3,{"$f":"VLOOKUP(A868,'Analyse S'!A:D,4,FALSE)","v":3}]
["307-924-705-0",5,{"$f":"VLOOKUP(A869,'Analyse S'!A:D,4,FALSE)","v":5}]
["307-924-905-0",3,{"$f":"VLOOKUP(A870,'Analyse S'!A:D,4,FALSE)","v":3}]
["307-925-105-0",27,{"$f":"VLOOKUP(A871,'Analyse S'!A:D,4,FALSE)","v":27}]
["307-925-305-0",5,{"$f":"VLOOKUP(A872,'Analyse S'!A:D,4,FALSE)","v":5}]
["307-930-802-0",61,{"$f":"VLOOKUP(A873,'Analyse S'!A:D,4,FALSE)","v":61}]
["307-941-209-0",1,{"$f":"VLOOKUP(A874,'Analyse S'!A:D,4,FALSE)","v":1}]
["307-941-307-0",15,{"$f":"VLOOKUP(A875,'Analyse S'!A:D,4,FALSE)","v":15}]
["307-941-505-0",4,{"$f":"VLOOKUP(A876,'Analyse S'!A:D,4,FALSE)","v":4}]
["307-942-309-0",3,{"$f":"VLOOKUP(A877,'Analyse S'!A:D,4,FALSE)","v":3}]
["307-942-408-0",7,{"$f":"VLOOKUP(A878,'Analyse S'!A:D,4,FALSE)","v":7}]
["307-942-511-0",4,{"$f":"VLOOKUP(A879,'Analyse S'!A:D,4,FALSE)","v":4}]
["307-942-608-0",13,{"$f":"VLOOKUP(A880,'Analyse S'!A:D,4,FALSE)","v":13}]
["307-942-706-0",6,{"$f":"VLOOKUP(A881,'Analyse S'!A:D,4,FALSE)","v":6}]
["307-942-806-0",8,{"$f":"VLOOKUP(A882,'Analyse S'!A:D,4,FALSE)","v":8}]
["307-942-908-0",3,{"$f":"VLOOKUP(A883,'Analyse S'!A:D,4,FALSE)","v":3}]
["307-943-107-0",37,{"$f":"VLOOKUP(A884,'Analyse S'!A:D,4,FALSE)","v":37}]
["307-943-406-0",1,{"$f":"VLOOKUP(A885,'Analyse S'!A:D,4,FALSE)","v":1}]
["307-943-509-0",6,{"$f":"VLOOKUP(A886,'Analyse S'!A:D,4,FALSE)","v":6}]
["307-943-606-0",3,{"$f":"VLOOKUP(A887,'Analyse S'!A:D,4,FALSE)","v":3}]
["307-943-710-0",7,{"$f":"VLOOKUP(A888,'Analyse S'!A:D,4,FALSE)","v":7}]
["307-943-807-0",1,{"$f":"VLOOKUP(A889,'Analyse S'!A:D,4,FALSE)","v":1}]
["307-943-906-0",11,{"$f":"VLOOKUP(A890,'Analyse S'!A:D,4,FALSE)","v":11}]
["307-944-108-0",5,{"$f":"VLOOKUP(A891,'Analyse S'!A:D,4,FALSE)","v":5}]
["307-944-205-0",11,{"$f":"VLOOKUP(A892,'Analyse S'!A:D,4,FALSE)","v":11}]
["307-944-305-0",3,{"$f":"VLOOKUP(A893,'Analyse S'!A:D,4,FALSE)","v":3}]
["307-944-406-0",3,{"$f":"VLOOKUP(A894,'Analyse S'!A:D,4,FALSE)","v":3}]
["307-944-506-0",5,{"$f":"VLOOKUP(A895,'Analyse S'!A:D,4,FALSE)","v":5}]
["307-944-607-0",8,{"$f":"VLOOKUP(A896,'Analyse S'!A:D,4,FALSE)","v":8}]
["307-944-706-0",7,{"$f":"VLOOKUP(A897,'Analyse S'!A:D,4,FALSE)","v":7}]
["307-945-010-0",9,{"$f":"VLOOKUP(A898,'Analyse S'!A:D,4,FALSE)","v":9}]
["307-945-505-0",4,{"$f":"VLOOKUP(A899,'Analyse S'!A:D,4,FALSE)","v":4}]
["307-946-007-0",8,{"$f":"VLOOKUP(A900,'Analyse S'!A:D,4,FALSE)","v":8}]
["307-946-106-0",2,{"$f":"VLOOKUP(A901,'Analyse S'!A:D,4,FALSE)","v":2}]
["307-946-709-0",1,{"$f":"VLOOKUP(A902,'Analyse S'!A:D,4,FALSE)","v":1}]
["307-946-903-0",11,{"$f":"VLOOKUP(A903,'Analyse S'!A:D,4,FALSE)","v":11}]
["307-947-003-0",8,{"$f":"VLOOKUP(A904,'Analyse S'!A:D,4,FALSE)","v":8}]
["307-947-402-0",8,{"$f":"VLOOKUP(A905,'Analyse S'!A:D,4,FALSE)","v":8}]
["307-947-502-0",8,{"$f":"VLOOKUP(A906,'Analyse S'!A:D,4,FALSE)","v":8}]
["307-948-103-0",8,{"$f":"VLOOKUP(A907,'Analyse S'!A:D,4,FALSE)","v":8}]
["307-948-203-0",8,{"$f":"VLOOKUP(A908,'Analyse S'!A:D,4,FALSE)","v":8}]
["307-948-303-0",9,{"$f":"VLOOKUP(A909,'Analyse S'!A:D,4,FALSE)","v":9}]
["307-948-404-0",4,{"$f":"VLOOKUP(A910,'Analyse S'!A:D,4,FALSE)","v":4}]
["307-948-503-0",8,{"$f":"VLOOKUP(A911,'Analyse S'!A:D,4,FALSE)","v":8}]
["307-948-603-0",9,{"$f":"VLOOKUP(A912,'Analyse S'!A:D,4,FALSE)","v":9}]
["307-948-906-0",3,{"$f":"VLOOKUP(A913,'Analyse S'!A:D,4,FALSE)","v":3}]
["307-965-901-0",26,{"$f":"VLOOKUP(A914,'Analyse S'!A:D,4,FALSE)","v":26}]
["307-966-102-0",5,{"$f":"VLOOKUP(A915,'Analyse S'!A:D,4,FALSE)","v":5}]
["307-967-901-0",18,{"$f":"VLOOKUP(A916,'Analyse S'!A:D,4,FALSE)","v":18}]
["307-968-102-0",4,{"$f":"VLOOKUP(A917,'Analyse S'!A:D,4,FALSE)","v":4}]
["307-968-602-0",4,{"$f":"VLOOKUP(A918,'Analyse S'!A:D,4,FALSE)","v":4}]
["307-969-102-0",2,{"$f":"VLOOKUP(A919,'Analyse S'!A:D,4,FALSE)","v":2}]
["307-983-106-0",4,{"$f":"VLOOKUP(A920,'Analyse S'!A:D,4,FALSE)","v":4}]
["307-985-001-0",6,{"$f":"VLOOKUP(A921,'Analyse S'!A:D,4,FALSE)","v":6}]
["307-985-101-0",141,{"$f":"VLOOKUP(A922,'Analyse S'!A:D,4,FALSE)","v":141}]
["307-985-201-0",101,{"$f":"VLOOKUP(A923,'Analyse S'!A:D,4,FALSE)","v":101}]
["307-985-301-0",152,{"$f":"VLOOKUP(A924,'Analyse S'!A:D,4,FALSE)","v":152}]
["307-985-401-0",220,{"$f":"VLOOKUP(A925,'Analyse S'!A:D,4,FALSE)","v":220}]
["307-985-501-0",68,{"$f":"VLOOKUP(A926,'Analyse S'!A:D,4,FALSE)","v":68}]
["307-985-601-0",92,{"$f":"VLOOKUP(A927,'Analyse S'!A:D,4,FALSE)","v":92}]
["307-985-701-0",86,{"$f":"VLOOKUP(A928,'Analyse S'!A:D,4,FALSE)","v":86}]
["307-985-801-0",245,{"$f":"VLOOKUP(A929,'Analyse S'!A:D,4,FALSE)","v":245}]
["307-986-502-0",3,{"$f":"VLOOKUP(A930,'Analyse S'!A:D,4,FALSE)","v":3}]
["307-986-503-0",3,{"$f":"VLOOKUP(A931,'Analyse S'!A:D,4,FALSE)","v":3}]
["307-986-905-0",3,{"$f":"VLOOKUP(A932,'Analyse S'!A:D,4,FALSE)","v":3}]
["307-987-203-0",10,{"$f":"VLOOKUP(A933,'Analyse S'!A:D,4,FALSE)","v":10}]
["307-988-308-0",15,{"$f":"VLOOKUP(A934,'Analyse S'!A:D,4,FALSE)","v":15}]
["307-988-407-0",4,{"$f":"VLOOKUP(A935,'Analyse S'!A:D,4,FALSE)","v":4}]
["307-989-211-0",14,{"$f":"VLOOKUP(A936,'Analyse S'!A:D,4,FALSE)","v":14}]
["307-989-902-0",20,{"$f":"VLOOKUP(A937,'Analyse S'!A:D,4,FALSE)","v":20}]
["307-991-103-0",310,{"$f":"VLOOKUP(A938,'Analyse S'!A:D,4,FALSE)","v":310}]
["307-994-710-0",3,{"$f":"VLOOKUP(A939,'Analyse S'!A:D,4,FALSE)","v":3}]
["307-995-206-0",5,{"$f":"VLOOKUP(A940,'Analyse S'!A:D,4,FALSE)","v":5}]
["307-995-305-0",9,{"$f":"VLOOKUP(A941,'Analyse S'!A:D,4,FALSE)","v":9}]
["307-996-102-0",19,{"$f":"VLOOKUP(A942,'Analyse S'!A:D,4,FALSE)","v":19}]
["307-996-602-0",10,{"$f":"VLOOKUP(A943,'Analyse S'!A:D,4,FALSE)","v":10}]
["307-996-703-0",5,{"$f":"VLOOKUP(A944,'Analyse S'!A:D,4,FALSE)","v":5}]
["307-997-903-0",5,{"$f":"VLOOKUP(A945,'Analyse S'!A:D,4,FALSE)","v":5}]
["307-998-303-0",5,{"$f":"VLOOKUP(A946,'Analyse S'!A:D,4,FALSE)","v":5}]
["307-998-708-0",2,{"$f":"VLOOKUP(A947,'Analyse S'!A:D,4,FALSE)","v":2}]
["307-998-905-0",8,{"$f":"VLOOKUP(A948,'Analyse S'!A:D,4,FALSE)","v":8}]
["309-001-102-0",20,{"$f":"VLOOKUP(A949,'Analyse S'!A:D,4,FALSE)","v":20}]
["309-002-501-0",60,{"$f":"VLOOKUP(A950,'Analyse S'!A:D,4,FALSE)","v":60}]
["309-006-101-0",20,{"$f":"VLOOKUP(A951,'Analyse S'!A:D,4,FALSE)","v":20}]
["309-006-202-0",26,{"$f":"VLOOKUP(A952,'Analyse S'!A:D,4,FALSE)","v":26}]
["309-006-301-0",13,{"$f":"VLOOKUP(A953,'Analyse S'!A:D,4,FALSE)","v":13}]
["309-006-401-0",24,{"$f":"VLOOKUP(A954,'Analyse S'!A:D,4,FALSE)","v":24}]
["309-006-701-0",23,{"$f":"VLOOKUP(A955,'Analyse S'!A:D,4,FALSE)","v":23}]
["309-006-805-0",29,{"$f":"VLOOKUP(A956,'Analyse S'!A:D,4,FALSE)","v":29}]
["309-006-902-0",28,{"$f":"VLOOKUP(A957,'Analyse S'!A:D,4,FALSE)","v":28}]
["309-007-102-6",38,{"$f":"VLOOKUP(A958,'Analyse S'!A:D,4,FALSE)","v":38}]
["309-007-202-0",12,{"$f":"VLOOKUP(A959,'Analyse S'!A:D,4,FALSE)","v":12}]
["309-009-404-0",16,{"$f":"VLOOKUP(A960,'Analyse S'!A:D,4,FALSE)","v":16}]
["309-009-902-0",6,{"$f":"VLOOKUP(A961,'Analyse S'!A:D,4,FALSE)","v":6}]
["309-012-902-0",22,{"$f":"VLOOKUP(A962,'Analyse S'!A:D,4,FALSE)","v":22}]
["309-013-802-0",54,{"$f":"VLOOKUP(A963,'Analyse S'!A:D,4,FALSE)","v":54}]
["309-014-201-0",408,{"$f":"VLOOKUP(A964,'Analyse S'!A:D,4,FALSE)","v":408}]
["309-015-004-0",1,{"$f":"VLOOKUP(A965,'Analyse S'!A:D,4,FALSE)","v":1}]
["309-015-005-0",6,{"$f":"VLOOKUP(A966,'Analyse S'!A:D,4,FALSE)","v":6}]
["309-015-006-0",4,{"$f":"VLOOKUP(A967,'Analyse S'!A:D,4,FALSE)","v":4}]
["309-016-201-0",10,{"$f":"VLOOKUP(A968,'Analyse S'!A:D,4,FALSE)","v":10}]
["309-016-405-0",11,{"$f":"VLOOKUP(A969,'Analyse S'!A:D,4,FALSE)","v":11}]
["309-016-701-0",32,{"$f":"VLOOKUP(A970,'Analyse S'!A:D,4,FALSE)","v":32}]
["309-016-802-0",17,{"$f":"VLOOKUP(A971,'Analyse S'!A:D,4,FALSE)","v":17}]
["309-016-901-6",42,{"$f":"VLOOKUP(A972,'Analyse S'!A:D,4,FALSE)","v":42}]
["309-017-001-0",23,{"$f":"VLOOKUP(A973,'Analyse S'!A:D,4,FALSE)","v":23}]
["309-017-104-6",211,{"$f":"VLOOKUP(A974,'Analyse S'!A:D,4,FALSE)","v":211}]
["309-017-201-0",95,{"$f":"VLOOKUP(A975,'Analyse S'!A:D,4,FALSE)","v":95}]
["309-018-801-0",79,{"$f":"VLOOKUP(A976,'Analyse S'!A:D,4,FALSE)","v":79}]
["309-018-902-0",54,{"$f":"VLOOKUP(A977,'Analyse S'!A:D,4,FALSE)","v":54}]
["309-019-201-0",85,{"$f":"VLOOKUP(A978,'Analyse S'!A:D,4,FALSE)","v":85}]
["309-019-302-0",83,{"$f":"VLOOKUP(A979,'Analyse S'!A:D,4,FALSE)","v":83}]
["309-021-801-0",10,{"$f":"VLOOKUP(A980,'Analyse S'!A:D,4,FALSE)","v":10}]
["309-021-901-0",15,{"$f":"VLOOKUP(A981,'Analyse S'!A:D,4,FALSE)","v":15}]
["309-022-001-0",7,{"$f":"VLOOKUP(A982,'Analyse S'!A:D,4,FALSE)","v":7}]
["309-022-102-0",15,{"$f":"VLOOKUP(A983,'Analyse S'!A:D,4,FALSE)","v":15}]
["309-022-701-0",110,{"$f":"VLOOKUP(A984,'Analyse S'!A:D,4,FALSE)","v":110}]
["309-022-804-0",7,{"$f":"VLOOKUP(A985,'Analyse S'!A:D,4,FALSE)","v":7}]
["309-024-902-0",10,{"$f":"VLOOKUP(A986,'Analyse S'!A:D,4,FALSE)","v":10}]
["309-025-002-0",10,{"$f":"VLOOKUP(A987,'Analyse S'!A:D,4,FALSE)","v":10}]
["309-025-302-0",9,{"$f":"VLOOKUP(A988,'Analyse S'!A:D,4,FALSE)","v":9}]
["309-025-601-0",10,{"$f":"VLOOKUP(A989,'Analyse S'!A:D,4,FALSE)","v":10}]
["309-025-702-0",10,{"$f":"VLOOKUP(A990,'Analyse S'!A:D,4,FALSE)","v":10}]
["309-025-801-0",30,{"$f":"VLOOKUP(A991,'Analyse S'!A:D,4,FALSE)","v":30}]
["309-026-002-0",9,{"$f":"VLOOKUP(A992,'Analyse S'!A:D,4,FALSE)","v":9}]
["309-030-602-0",5,{"$f":"VLOOKUP(A993,'Analyse S'!A:D,4,FALSE)","v":5}]
["309-030-604-0",114,{"$f":"VLOOKUP(A994,'Analyse S'!A:D,4,FALSE)","v":114}]
["309-031-503-0",17,{"$f":"VLOOKUP(A995,'Analyse S'!A:D,4,FALSE)","v":17}]
["309-031-603-0",71,{"$f":"VLOOKUP(A996,'Analyse S'!A:D,4,FALSE)","v":71}]
["309-031-701-0",31,{"$f":"VLOOKUP(A997,'Analyse S'!A:D,4,FALSE)","v":31}]
["309-031-801-0",21,{"$f":"VLOOKUP(A998,'Analyse S'!A:D,4,FALSE)","v":21}]
["309-031-902-0",579,{"$f":"VLOOKUP(A999,'Analyse S'!A:D,4,FALSE)","v":579}]
["309-032-002-0",346,{"$f":"VLOOKUP(A1000,'Analyse S'!A:D,4,FALSE)","v":346}]
["309-032-102-0",463,{"$f":"VLOOKUP(A1001,'Analyse S'!A:D,4,FALSE)","v":463}]
["309-032-202-0",665,{"$f":"VLOOKUP(A1002,'Analyse S'!A:D,4,FALSE)","v":665}]
["309-032-302-0",260,{"$f":"VLOOKUP(A1003,'Analyse S'!A:D,4,FALSE)","v":260}]
["309-032-401-6",32,{"$f":"VLOOKUP(A1004,'Analyse S'!A:D,4,FALSE)","v":32}]
["309-032-503-0",27,{"$f":"VLOOKUP(A1005,'Analyse S'!A:D,4,FALSE)","v":27}]
["309-032-803-0",5,{"$f":"VLOOKUP(A1006,'Analyse S'!A:D,4,FALSE)","v":5}]
["309-033-102-6",14,{"$f":"VLOOKUP(A1007,'Analyse S'!A:D,4,FALSE)","v":14}]
["309-033-201-0",209,{"$f":"VLOOKUP(A1008,'Analyse S'!A:D,4,FALSE)","v":209}]
["309-033-301-0",646,{"$f":"VLOOKUP(A1009,'Analyse S'!A:D,4,FALSE)","v":646}]
["309-033-402-0",10,{"$f":"VLOOKUP(A1010,'Analyse S'!A:D,4,FALSE)","v":10}]
["309-036-601-0",38,{"$f":"VLOOKUP(A1011,'Analyse S'!A:D,4,FALSE)","v":38}]
["309-037-101-0",88,{"$f":"VLOOKUP(A1012,'Analyse S'!A:D,4,FALSE)","v":88}]
["309-037-201-0",160,{"$f":"VLOOKUP(A1013,'Analyse S'!A:D,4,FALSE)","v":160}]
["309-037-402-0",42,{"$f":"VLOOKUP(A1014,'Analyse S'!A:D,4,FALSE)","v":42}]
["309-037-501-0",112,{"$f":"VLOOKUP(A1015,'Analyse S'!A:D,4,FALSE)","v":112}]
["309-037-801-0",42,{"$f":"VLOOKUP(A1016,'Analyse S'!A:D,4,FALSE)","v":42}]
["309-038-602-0",10,{"$f":"VLOOKUP(A1017,'Analyse S'!A:D,4,FALSE)","v":10}]
["309-039-001-0",89,{"$f":"VLOOKUP(A1018,'Analyse S'!A:D,4,FALSE)","v":89}]
["309-039-601-0",93,{"$f":"VLOOKUP(A1019,'Analyse S'!A:D,4,FALSE)","v":93}]
["309-039-903-0",145,{"$f":"VLOOKUP(A1020,'Analyse S'!A:D,4,FALSE)","v":145}]
["309-040-402-0",4,{"$f":"VLOOKUP(A1021,'Analyse S'!A:D,4,FALSE)","v":4}]
["309-040-501-0",34,{"$f":"VLOOKUP(A1022,'Analyse S'!A:D,4,FALSE)","v":34}]
["309-041-102-0",120,{"$f":"VLOOKUP(A1023,'Analyse S'!A:D,4,FALSE)","v":120}]
["309-041-202-0",288,{"$f":"VLOOKUP(A1024,'Analyse S'!A:D,4,FALSE)","v":288}]
["309-041-302-0",293,{"$f":"VLOOKUP(A1025,'Analyse S'!A:D,4,FALSE)","v":293}]
["309-041-402-0",367,{"$f":"VLOOKUP(A1026,'Analyse S'!A:D,4,FALSE)","v":367}]
["309-041-502-0",374,{"$f":"VLOOKUP(A1027,'Analyse S'!A:D,4,FALSE)","v":374}]
["309-041-801-0",459,{"$f":"VLOOKUP(A1028,'Analyse S'!A:D,4,FALSE)","v":459}]
["309-042-004-0",66,{"$f":"VLOOKUP(A1029,'Analyse S'!A:D,4,FALSE)","v":66}]
["309-042-102-0",9,{"$f":"VLOOKUP(A1030,'Analyse S'!A:D,4,FALSE)","v":9}]
["309-044-701-0",1000,{"$f":"VLOOKUP(A1031,'Analyse S'!A:D,4,FALSE)","v":1000}]
["309-044-901-0",959,{"$f":"VLOOKUP(A1032,'Analyse S'!A:D,4,FALSE)","v":959}]
["309-045-702-0",13,{"$f":"VLOOKUP(A1033,'Analyse S'!A:D,4,FALSE)","v":13}]
["309-047-801-0",28,{"$f":"VLOOKUP(A1034,'Analyse S'!A:D,4,FALSE)","v":28}]
["309-047-901-0",35,{"$f":"VLOOKUP(A1035,'Analyse S'!A:D,4,FALSE)","v":35}]
["309-049-802-6",1,{"$f":"VLOOKUP(A1036,'Analyse S'!A:D,4,FALSE)","v":1}]
["309-050-601-0",40,{"$f":"VLOOKUP(A1037,'Analyse S'!A:D,4,FALSE)","v":40}]
["309-051-101-0",5,{"$f":"VLOOKUP(A1038,'Analyse S'!A:D,4,FALSE)","v":5}]
["309-051-301-0",112,{"$f":"VLOOKUP(A1039,'Analyse S'!A:D,4,FALSE)","v":112}]
["309-051-703-0",16,{"$f":"VLOOKUP(A1040,'Analyse S'!A:D,4,FALSE)","v":16}]
["309-053-207-6",3,{"$f":"VLOOKUP(A1041,'Analyse S'!A:D,4,FALSE)","v":3}]
["309-053-407-6",3,{"$f":"VLOOKUP(A1042,'Analyse S'!A:D,4,FALSE)","v":3}]
["309-053-601-0",25,{"$f":"VLOOKUP(A1043,'Analyse S'!A:D,4,FALSE)","v":25}]
["309-054-008-0",64,{"$f":"VLOOKUP(A1044,'Analyse S'!A:D,4,FALSE)","v":64}]
["309-054-302-0",5,{"$f":"VLOOKUP(A1045,'Analyse S'!A:D,4,FALSE)","v":5}]
["309-054-304-0",1,{"$f":"VLOOKUP(A1046,'Analyse S'!A:D,4,FALSE)","v":1}]
["309-054-305-0",185,{"$f":"VLOOKUP(A1047,'Analyse S'!A:D,4,FALSE)","v":185}]
["309-054-403-0",41,{"$f":"VLOOKUP(A1048,'Analyse S'!A:D,4,FALSE)","v":41}]
["309-054-502-0",33,{"$f":"VLOOKUP(A1049,'Analyse S'!A:D,4,FALSE)","v":33}]
["309-054-602-0",68,{"$f":"VLOOKUP(A1050,'Analyse S'!A:D,4,FALSE)","v":68}]
["309-057-707-6",3,{"$f":"VLOOKUP(A1051,'Analyse S'!A:D,4,FALSE)","v":3}]
["309-057-807-6",3,{"$f":"VLOOKUP(A1052,'Analyse S'!A:D,4,FALSE)","v":3}]
["309-058-101-0",280,{"$f":"VLOOKUP(A1053,'Analyse S'!A:D,4,FALSE)","v":280}]
["309-059-503-0",50,{"$f":"VLOOKUP(A1054,'Analyse S'!A:D,4,FALSE)","v":50}]
["309-061-203-0",8,{"$f":"VLOOKUP(A1055,'Analyse S'!A:D,4,FALSE)","v":8}]
["309-061-502-0",156,{"$f":"VLOOKUP(A1056,'Analyse S'!A:D,4,FALSE)","v":156}]
["309-061-602-0",28,{"$f":"VLOOKUP(A1057,'Analyse S'!A:D,4,FALSE)","v":28}]
["309-062-702-0",61,{"$f":"VLOOKUP(A1058,'Analyse S'!A:D,4,FALSE)","v":61}]
["309-062-802-0",24,{"$f":"VLOOKUP(A1059,'Analyse S'!A:D,4,FALSE)","v":24}]
["309-062-902-0",5,{"$f":"VLOOKUP(A1060,'Analyse S'!A:D,4,FALSE)","v":5}]
["309-063-001-6",18,{"$f":"VLOOKUP(A1061,'Analyse S'!A:D,4,FALSE)","v":18}]
["309-064-101-0",3,{"$f":"VLOOKUP(A1062,'Analyse S'!A:D,4,FALSE)","v":3}]
["309-065-002-0",40,{"$f":"VLOOKUP(A1063,'Analyse S'!A:D,4,FALSE)","v":40}]
["309-065-102-0",52,{"$f":"VLOOKUP(A1064,'Analyse S'!A:D,4,FALSE)","v":52}]
["309-065-202-0",67,{"$f":"VLOOKUP(A1065,'Analyse S'!A:D,4,FALSE)","v":67}]
["309-065-607-0",22,{"$f":"VLOOKUP(A1066,'Analyse S'!A:D,4,FALSE)","v":22}]
["309-065-608-0",8,{"$f":"VLOOKUP(A1067,'Analyse S'!A:D,4,FALSE)","v":8}]
["309-067-601-0",57,{"$f":"VLOOKUP(A1068,'Analyse S'!A:D,4,FALSE)","v":57}]
["309-068-601-0",777,{"$f":"VLOOKUP(A1069,'Analyse S'!A:D,4,FALSE)","v":777}]
["309-069-101-0",4,{"$f":"VLOOKUP(A1070,'Analyse S'!A:D,4,FALSE)","v":4}]
["309-070-801-0",21,{"$f":"VLOOKUP(A1071,'Analyse S'!A:D,4,FALSE)","v":21}]
["309-071-104-6",24,{"$f":"VLOOKUP(A1072,'Analyse S'!A:D,4,FALSE)","v":24}]
["309-072-001-0",131,{"$f":"VLOOKUP(A1073,'Analyse S'!A:D,4,FALSE)","v":131}]
["309-073-701-6",289,{"$f":"VLOOKUP(A1074,'Analyse S'!A:D,4,FALSE)","v":289}]
["309-080-401-0",27,{"$f":"VLOOKUP(A1075,'Analyse S'!A:D,4,FALSE)","v":27}]
["309-080-801-0",155,{"$f":"VLOOKUP(A1076,'Analyse S'!A:D,4,FALSE)","v":155}]
["309-084-501-6",10,{"$f":"VLOOKUP(A1077,'Analyse S'!A:D,4,FALSE)","v":10}]
["309-084-901-0",60,{"$f":"VLOOKUP(A1078,'Analyse S'!A:D,4,FALSE)","v":60}]
["309-085-101-6",17,{"$f":"VLOOKUP(A1079,'Analyse S'!A:D,4,FALSE)","v":17}]
["309-085-301-0",20,{"$f":"VLOOKUP(A1080,'Analyse S'!A:D,4,FALSE)","v":20}]
["309-085-901-0",24,{"$f":"VLOOKUP(A1081,'Analyse S'!A:D,4,FALSE)","v":24}]
["309-093-201-0",68,{"$f":"VLOOKUP(A1082,'Analyse S'!A:D,4,FALSE)","v":68}]
["309-094-801-0",138,{"$f":"VLOOKUP(A1083,'Analyse S'!A:D,4,FALSE)","v":138}]
["309-094-901-0",393,{"$f":"VLOOKUP(A1084,'Analyse S'!A:D,4,FALSE)","v":393}]
["309-095-001-0",60,{"$f":"VLOOKUP(A1085,'Analyse S'!A:D,4,FALSE)","v":60}]
["309-098-001-0",10,{"$f":"VLOOKUP(A1086,'Analyse S'!A:D,4,FALSE)","v":10}]
["309-098-101-0",10,{"$f":"VLOOKUP(A1087,'Analyse S'!A:D,4,FALSE)","v":10}]
["309-098-201-0",18,{"$f":"VLOOKUP(A1088,'Analyse S'!A:D,4,FALSE)","v":18}]
["309-098-401-0",10,{"$f":"VLOOKUP(A1089,'Analyse S'!A:D,4,FALSE)","v":10}]
["309-100-401-0",39,{"$f":"VLOOKUP(A1090,'Analyse S'!A:D,4,FALSE)","v":39}]
["309-100-402-0",98,{"$f":"VLOOKUP(A1091,'Analyse S'!A:D,4,FALSE)","v":98}]
["309-100-901-0",22,{"$f":"VLOOKUP(A1092,'Analyse S'!A:D,4,FALSE)","v":22}]
["309-101-801-0",32,{"$f":"VLOOKUP(A1093,'Analyse S'!A:D,4,FALSE)","v":32}]
["309-101-802-0",52,{"$f":"VLOOKUP(A1094,'Analyse S'!A:D,4,FALSE)","v":52}]
["309-102-401-0",1,{"$f":"VLOOKUP(A1095,'Analyse S'!A:D,4,FALSE)","v":1}]
["309-102-501-0",4,{"$f":"VLOOKUP(A1096,'Analyse S'!A:D,4,FALSE)","v":4}]
["309-102-601-0",59,{"$f":"VLOOKUP(A1097,'Analyse S'!A:D,4,FALSE)","v":59}]
["309-102-701-0",59,{"$f":"VLOOKUP(A1098,'Analyse S'!A:D,4,FALSE)","v":59}]
["309-102-901-0",7,{"$f":"VLOOKUP(A1099,'Analyse S'!A:D,4,FALSE)","v":7}]
["309-103-001-6",295,{"$f":"VLOOKUP(A1100,'Analyse S'!A:D,4,FALSE)","v":295}]
["309-103-906-0",8,{"$f":"VLOOKUP(A1101,'Analyse S'!A:D,4,FALSE)","v":8}]
["309-105-502-0",28,{"$f":"VLOOKUP(A1102,'Analyse S'!A:D,4,FALSE)","v":28}]
["309-105-702-0",138,{"$f":"VLOOKUP(A1103,'Analyse S'!A:D,4,FALSE)","v":138}]
["309-106-001-6",51,{"$f":"VLOOKUP(A1104,'Analyse S'!A:D,4,FALSE)","v":51}]
["309-106-502-0",20,{"$f":"VLOOKUP(A1105,'Analyse S'!A:D,4,FALSE)","v":20}]
["309-106-602-0",25,{"$f":"VLOOKUP(A1106,'Analyse S'!A:D,4,FALSE)","v":25}]
["309-106-701-0",23,{"$f":"VLOOKUP(A1107,'Analyse S'!A:D,4,FALSE)","v":23}]
["309-106-801-0",69,{"$f":"VLOOKUP(A1108,'Analyse S'!A:D,4,FALSE)","v":69}]
["309-106-901-0",69,{"$f":"VLOOKUP(A1109,'Analyse S'!A:D,4,FALSE)","v":69}]
["309-107-006-0",4,{"$f":"VLOOKUP(A1110,'Analyse S'!A:D,4,FALSE)","v":4}]
["309-107-101-6",9,{"$f":"VLOOKUP(A1111,'Analyse S'!A:D,4,FALSE)","v":9}]
["309-107-501-0",15,{"$f":"VLOOKUP(A1112,'Analyse S'!A:D,4,FALSE)","v":15}]
["309-108-201-0",30,{"$f":"VLOOKUP(A1113,'Analyse S'!A:D,4,FALSE)","v":30}]
["309-108-301-0",37,{"$f":"VLOOKUP(A1114,'Analyse S'!A:D,4,FALSE)","v":37}]
["309-109-101-0",131,{"$f":"VLOOKUP(A1115,'Analyse S'!A:D,4,FALSE)","v":131}]
["309-109-201-0",88,{"$f":"VLOOKUP(A1116,'Analyse S'!A:D,4,FALSE)","v":88}]
["309-109-301-0",100,{"$f":"VLOOKUP(A1117,'Analyse S'!A:D,4,FALSE)","v":100}]
["309-109-401-0",150,{"$f":"VLOOKUP(A1118,'Analyse S'!A:D,4,FALSE)","v":150}]
["309-109-501-0",180,{"$f":"VLOOKUP(A1119,'Analyse S'!A:D,4,FALSE)","v":180}]
["309-109-701-0",23,{"$f":"VLOOKUP(A1120,'Analyse S'!A:D,4,FALSE)","v":23}]
["309-110-701-0",39,{"$f":"VLOOKUP(A1121,'Analyse S'!A:D,4,FALSE)","v":39}]
["309-111-401-0",2,{"$f":"VLOOKUP(A1122,'Analyse S'!A:D,4,FALSE)","v":2}]
["309-111-402-0",230,{"$f":"VLOOKUP(A1123,'Analyse S'!A:D,4,FALSE)","v":230}]
["309-111-501-0",248,{"$f":"VLOOKUP(A1124,'Analyse S'!A:D,4,FALSE)","v":248}]
["309-111-601-0",66,{"$f":"VLOOKUP(A1125,'Analyse S'!A:D,4,FALSE)","v":66}]
["309-111-701-0",75,{"$f":"VLOOKUP(A1126,'Analyse S'!A:D,4,FALSE)","v":75}]
["309-111-801-6",159,{"$f":"VLOOKUP(A1127,'Analyse S'!A:D,4,FALSE)","v":159}]
["309-112-304-0",11,{"$f":"VLOOKUP(A1128,'Analyse S'!A:D,4,FALSE)","v":11}]
["309-115-402-0",3,{"$f":"VLOOKUP(A1129,'Analyse S'!A:D,4,FALSE)","v":3}]
["309-115-502-0",3,{"$f":"VLOOKUP(A1130,'Analyse S'!A:D,4,FALSE)","v":3}]
["309-118-002-0",52,{"$f":"VLOOKUP(A1131,'Analyse S'!A:D,4,FALSE)","v":52}]
["309-118-102-0",131,{"$f":"VLOOKUP(A1132,'Analyse S'!A:D,4,FALSE)","v":131}]
["309-118-201-0",35,{"$f":"VLOOKUP(A1133,'Analyse S'!A:D,4,FALSE)","v":35}]
["309-119-101-0",5,{"$f":"VLOOKUP(A1134,'Analyse S'!A:D,4,FALSE)","v":5}]
["309-119-201-0",10,{"$f":"VLOOKUP(A1135,'Analyse S'!A:D,4,FALSE)","v":10}]
["309-120-401-0",46,{"$f":"VLOOKUP(A1136,'Analyse S'!A:D,4,FALSE)","v":46}]
["309-120-901-0",7,{"$f":"VLOOKUP(A1137,'Analyse S'!A:D,4,FALSE)","v":7}]
["309-121-802-0",9,{"$f":"VLOOKUP(A1138,'Analyse S'!A:D,4,FALSE)","v":9}]
["309-122-902-0",4,{"$f":"VLOOKUP(A1139,'Analyse S'!A:D,4,FALSE)","v":4}]
["309-123-201-0",17,{"$f":"VLOOKUP(A1140,'Analyse S'!A:D,4,FALSE)","v":17}]
["309-123-301-0",32,{"$f":"VLOOKUP(A1141,'Analyse S'!A:D,4,FALSE)","v":32}]
["309-123-401-0",29,{"$f":"VLOOKUP(A1142,'Analyse S'!A:D,4,FALSE)","v":29}]
["309-123-801-0",9,{"$f":"VLOOKUP(A1143,'Analyse S'!A:D,4,FALSE)","v":9}]
["309-123-903-0",8,{"$f":"VLOOKUP(A1144,'Analyse S'!A:D,4,FALSE)","v":8}]
["309-124-703-0",4,{"$f":"VLOOKUP(A1145,'Analyse S'!A:D,4,FALSE)","v":4}]
["309-124-807-0",4,{"$f":"VLOOKUP(A1146,'Analyse S'!A:D,4,FALSE)","v":4}]
["309-125-001-0",29,{"$f":"VLOOKUP(A1147,'Analyse S'!A:D,4,FALSE)","v":29}]
["309-125-701-0",16,{"$f":"VLOOKUP(A1148,'Analyse S'!A:D,4,FALSE)","v":16}]
["309-126-101-0",5,{"$f":"VLOOKUP(A1149,'Analyse S'!A:D,4,FALSE)","v":5}]
["309-126-201-0",1,{"$f":"VLOOKUP(A1150,'Analyse S'!A:D,4,FALSE)","v":1}]
["309-127-103-6",42,{"$f":"VLOOKUP(A1151,'Analyse S'!A:D,4,FALSE)","v":42}]
["309-127-407-0",4,{"$f":"VLOOKUP(A1152,'Analyse S'!A:D,4,FALSE)","v":4}]
["309-127-506-0",3,{"$f":"VLOOKUP(A1153,'Analyse S'!A:D,4,FALSE)","v":3}]
["309-127-702-0",12,{"$f":"VLOOKUP(A1154,'Analyse S'!A:D,4,FALSE)","v":12}]
["309-127-802-0",356,{"$f":"VLOOKUP(A1155,'Analyse S'!A:D,4,FALSE)","v":356}]
["309-127-902-0",720,{"$f":"VLOOKUP(A1156,'Analyse S'!A:D,4,FALSE)","v":720}]
["309-128-001-0",110,{"$f":"VLOOKUP(A1157,'Analyse S'!A:D,4,FALSE)","v":110}]
["309-128-102-0",726,{"$f":"VLOOKUP(A1158,'Analyse S'!A:D,4,FALSE)","v":726}]
["309-128-203-0",870,{"$f":"VLOOKUP(A1159,'Analyse S'!A:D,4,FALSE)","v":870}]
["309-128-302-0",290,{"$f":"VLOOKUP(A1160,'Analyse S'!A:D,4,FALSE)","v":290}]
["309-128-401-0",55,{"$f":"VLOOKUP(A1161,'Analyse S'!A:D,4,FALSE)","v":55}]
["309-128-501-0",298,{"$f":"VLOOKUP(A1162,'Analyse S'!A:D,4,FALSE)","v":298}]
["309-128-603-0",33,{"$f":"VLOOKUP(A1163,'Analyse S'!A:D,4,FALSE)","v":33}]
["309-128-801-0",645,{"$f":"VLOOKUP(A1164,'Analyse S'!A:D,4,FALSE)","v":645}]
["309-128-901-0",323,{"$f":"VLOOKUP(A1165,'Analyse S'!A:D,4,FALSE)","v":323}]
["309-129-001-0",185,{"$f":"VLOOKUP(A1166,'Analyse S'!A:D,4,FALSE)","v":185}]
["309-129-103-6",120,{"$f":"VLOOKUP(A1167,'Analyse S'!A:D,4,FALSE)","v":120}]
["309-129-207-0",6,{"$f":"VLOOKUP(A1168,'Analyse S'!A:D,4,FALSE)","v":6}]
["309-129-305-0",8,{"$f":"VLOOKUP(A1169,'Analyse S'!A:D,4,FALSE)","v":8}]
["309-129-803-0",1,{"$f":"VLOOKUP(A1170,'Analyse S'!A:D,4,FALSE)","v":1}]
["309-130-003-0",4,{"$f":"VLOOKUP(A1171,'Analyse S'!A:D,4,FALSE)","v":4}]
["309-130-301-6",38,{"$f":"VLOOKUP(A1172,'Analyse S'!A:D,4,FALSE)","v":38}]
["309-130-702-0",18,{"$f":"VLOOKUP(A1173,'Analyse S'!A:D,4,FALSE)","v":18}]
["309-130-801-0",20,{"$f":"VLOOKUP(A1174,'Analyse S'!A:D,4,FALSE)","v":20}]
["309-130-901-0",17,{"$f":"VLOOKUP(A1175,'Analyse S'!A:D,4,FALSE)","v":17}]
["309-131-001-0",17,{"$f":"VLOOKUP(A1176,'Analyse S'!A:D,4,FALSE)","v":17}]
["309-131-302-0",41,{"$f":"VLOOKUP(A1177,'Analyse S'!A:D,4,FALSE)","v":41}]
["309-131-603-0",104,{"$f":"VLOOKUP(A1178,'Analyse S'!A:D,4,FALSE)","v":104}]
["309-131-702-0",41,{"$f":"VLOOKUP(A1179,'Analyse S'!A:D,4,FALSE)","v":41}]
["309-132-003-0",23,{"$f":"VLOOKUP(A1180,'Analyse S'!A:D,4,FALSE)","v":23}]
["309-132-202-0",8,{"$f":"VLOOKUP(A1181,'Analyse S'!A:D,4,FALSE)","v":8}]
["309-132-602-0",8,{"$f":"VLOOKUP(A1182,'Analyse S'!A:D,4,FALSE)","v":8}]
["309-132-701-0",34,{"$f":"VLOOKUP(A1183,'Analyse S'!A:D,4,FALSE)","v":34}]
["309-132-801-0",43,{"$f":"VLOOKUP(A1184,'Analyse S'!A:D,4,FALSE)","v":43}]
["309-132-901-0",27,{"$f":"VLOOKUP(A1185,'Analyse S'!A:D,4,FALSE)","v":27}]
["309-133-101-0",34,{"$f":"VLOOKUP(A1186,'Analyse S'!A:D,4,FALSE)","v":34}]
["309-133-201-0",30,{"$f":"VLOOKUP(A1187,'Analyse S'!A:D,4,FALSE)","v":30}]
["309-133-301-0",21,{"$f":"VLOOKUP(A1188,'Analyse S'!A:D,4,FALSE)","v":21}]
["309-133-401-0",6,{"$f":"VLOOKUP(A1189,'Analyse S'!A:D,4,FALSE)","v":6}]
["309-134-201-0",3,{"$f":"VLOOKUP(A1190,'Analyse S'!A:D,4,FALSE)","v":3}]
["309-134-801-0",50,{"$f":"VLOOKUP(A1191,'Analyse S'!A:D,4,FALSE)","v":50}]
["309-134-901-0",28,{"$f":"VLOOKUP(A1192,'Analyse S'!A:D,4,FALSE)","v":28}]
["309-135-001-0",39,{"$f":"VLOOKUP(A1193,'Analyse S'!A:D,4,FALSE)","v":39}]
["309-135-101-6",67,{"$f":"VLOOKUP(A1194,'Analyse S'!A:D,4,FALSE)","v":67}]
["309-135-201-0",17,{"$f":"VLOOKUP(A1195,'Analyse S'!A:D,4,FALSE)","v":17}]
["309-135-401-0",70,{"$f":"VLOOKUP(A1196,'Analyse S'!A:D,4,FALSE)","v":70}]
["309-136-501-0",162,{"$f":"VLOOKUP(A1197,'Analyse S'!A:D,4,FALSE)","v":162}]
["309-136-701-0",21,{"$f":"VLOOKUP(A1198,'Analyse S'!A:D,4,FALSE)","v":21}]
["309-136-801-0",26,{"$f":"VLOOKUP(A1199,'Analyse S'!A:D,4,FALSE)","v":26}]
["309-137-601-0",17,{"$f":"VLOOKUP(A1200,'Analyse S'!A:D,4,FALSE)","v":17}]
["309-138-101-0",8,{"$f":"VLOOKUP(A1201,'Analyse S'!A:D,4,FALSE)","v":8}]
["309-139-201-0",6,{"$f":"VLOOKUP(A1202,'Analyse S'!A:D,4,FALSE)","v":6}]
["309-140-101-0",36,{"$f":"VLOOKUP(A1203,'Analyse S'!A:D,4,FALSE)","v":36}]
["309-140-301-0",39,{"$f":"VLOOKUP(A1204,'Analyse S'!A:D,4,FALSE)","v":39}]
["309-141-001-0",515,{"$f":"VLOOKUP(A1205,'Analyse S'!A:D,4,FALSE)","v":515}]
["309-141-201-0",21,{"$f":"VLOOKUP(A1206,'Analyse S'!A:D,4,FALSE)","v":21}]
["309-141-401-0",12,{"$f":"VLOOKUP(A1207,'Analyse S'!A:D,4,FALSE)","v":12}]
["309-142-201-0",296,{"$f":"VLOOKUP(A1208,'Analyse S'!A:D,4,FALSE)","v":296}]
["309-142-303-6",8,{"$f":"VLOOKUP(A1209,'Analyse S'!A:D,4,FALSE)","v":8}]
["309-142-401-0",51,{"$f":"VLOOKUP(A1210,'Analyse S'!A:D,4,FALSE)","v":51}]
["309-142-601-0",5,{"$f":"VLOOKUP(A1211,'Analyse S'!A:D,4,FALSE)","v":5}]
["309-142-801-0",21,{"$f":"VLOOKUP(A1212,'Analyse S'!A:D,4,FALSE)","v":21}]
["309-142-904-0",2,{"$f":"VLOOKUP(A1213,'Analyse S'!A:D,4,FALSE)","v":2}]
["309-143-003-0",2,{"$f":"VLOOKUP(A1214,'Analyse S'!A:D,4,FALSE)","v":2}]
["309-143-601-0",28,{"$f":"VLOOKUP(A1215,'Analyse S'!A:D,4,FALSE)","v":28}]
["309-144-101-0",368,{"$f":"VLOOKUP(A1216,'Analyse S'!A:D,4,FALSE)","v":368}]
["309-144-501-0",8,{"$f":"VLOOKUP(A1217,'Analyse S'!A:D,4,FALSE)","v":8}]
["309-146-101-6",14,{"$f":"VLOOKUP(A1218,'Analyse S'!A:D,4,FALSE)","v":14}]
["309-146-301-0",70,{"$f":"VLOOKUP(A1219,'Analyse S'!A:D,4,FALSE)","v":70}]
["309-147-201-0",15,{"$f":"VLOOKUP(A1220,'Analyse S'!A:D,4,FALSE)","v":15}]
["309-147-501-0",9,{"$f":"VLOOKUP(A1221,'Analyse S'!A:D,4,FALSE)","v":9}]
["309-148-601-6",73,{"$f":"VLOOKUP(A1222,'Analyse S'!A:D,4,FALSE)","v":73}]
["309-148-701-0",44,{"$f":"VLOOKUP(A1223,'Analyse S'!A:D,4,FALSE)","v":44}]
["309-148-801-0",15,{"$f":"VLOOKUP(A1224,'Analyse S'!A:D,4,FALSE)","v":15}]
["309-149-201-6",20,{"$f":"VLOOKUP(A1225,'Analyse S'!A:D,4,FALSE)","v":20}]
["309-151-301-0",29,{"$f":"VLOOKUP(A1226,'Analyse S'!A:D,4,FALSE)","v":29}]
["309-151-601-0",1,{"$f":"VLOOKUP(A1227,'Analyse S'!A:D,4,FALSE)","v":1}]
["309-152-601-0",11,{"$f":"VLOOKUP(A1228,'Analyse S'!A:D,4,FALSE)","v":11}]
["309-154-801-0",383,{"$f":"VLOOKUP(A1229,'Analyse S'!A:D,4,FALSE)","v":383}]
["309-155-901-0",8,{"$f":"VLOOKUP(A1230,'Analyse S'!A:D,4,FALSE)","v":8}]
["309-158-201-0",54,{"$f":"VLOOKUP(A1231,'Analyse S'!A:D,4,FALSE)","v":54}]
["309-158-301-0",59,{"$f":"VLOOKUP(A1232,'Analyse S'!A:D,4,FALSE)","v":59}]
["309-158-401-0",59,{"$f":"VLOOKUP(A1233,'Analyse S'!A:D,4,FALSE)","v":59}]
["309-158-601-0",59,{"$f":"VLOOKUP(A1234,'Analyse S'!A:D,4,FALSE)","v":59}]
["309-159-101-0",1,{"$f":"VLOOKUP(A1235,'Analyse S'!A:D,4,FALSE)","v":1}]
["309-159-301-0",4,{"$f":"VLOOKUP(A1236,'Analyse S'!A:D,4,FALSE)","v":4}]
["309-160-401-0",47,{"$f":"VLOOKUP(A1237,'Analyse S'!A:D,4,FALSE)","v":47}]
["309-160-402-0",26,{"$f":"VLOOKUP(A1238,'Analyse S'!A:D,4,FALSE)","v":26}]
["309-160-601-0",36,{"$f":"VLOOKUP(A1239,'Analyse S'!A:D,4,FALSE)","v":36}]
["309-161-001-0",10,{"$f":"VLOOKUP(A1240,'Analyse S'!A:D,4,FALSE)","v":10}]
["309-163-901-6",194,{"$f":"VLOOKUP(A1241,'Analyse S'!A:D,4,FALSE)","v":194}]
["309-165-201-0",91,{"$f":"VLOOKUP(A1242,'Analyse S'!A:D,4,FALSE)","v":91}]
["309-166-001-6",37,{"$f":"VLOOKUP(A1243,'Analyse S'!A:D,4,FALSE)","v":37}]
["309-166-201-0",2,{"$f":"VLOOKUP(A1244,'Analyse S'!A:D,4,FALSE)","v":2}]
["309-166-301-0",9,{"$f":"VLOOKUP(A1245,'Analyse S'!A:D,4,FALSE)","v":9}]
["309-166-501-0",16,{"$f":"VLOOKUP(A1246,'Analyse S'!A:D,4,FALSE)","v":16}]
["309-166-601-0",2,{"$f":"VLOOKUP(A1247,'Analyse S'!A:D,4,FALSE)","v":2}]
["309-166-701-0",6,{"$f":"VLOOKUP(A1248,'Analyse S'!A:D,4,FALSE)","v":6}]
["309-166-801-0",39,{"$f":"VLOOKUP(A1249,'Analyse S'!A:D,4,FALSE)","v":39}]
["309-166-901-0",73,{"$f":"VLOOKUP(A1250,'Analyse S'!A:D,4,FALSE)","v":73}]
["309-167-001-0",5,{"$f":"VLOOKUP(A1251,'Analyse S'!A:D,4,FALSE)","v":5}]
["309-167-201-0",9,{"$f":"VLOOKUP(A1252,'Analyse S'!A:D,4,FALSE)","v":9}]
["309-167-301-0",35,{"$f":"VLOOKUP(A1253,'Analyse S'!A:D,4,FALSE)","v":35}]
["309-167-401-0",12,{"$f":"VLOOKUP(A1254,'Analyse S'!A:D,4,FALSE)","v":12}]
["309-167-501-0",2,{"$f":"VLOOKUP(A1255,'Analyse S'!A:D,4,FALSE)","v":2}]
["309-168-002-0",8,{"$f":"VLOOKUP(A1256,'Analyse S'!A:D,4,FALSE)","v":8}]
["309-168-701-0",10,{"$f":"VLOOKUP(A1257,'Analyse S'!A:D,4,FALSE)","v":10}]
["309-168-801-0",24,{"$f":"VLOOKUP(A1258,'Analyse S'!A:D,4,FALSE)","v":24}]
["309-168-901-0",14,{"$f":"VLOOKUP(A1259,'Analyse S'!A:D,4,FALSE)","v":14}]
["309-169-001-0",67,{"$f":"VLOOKUP(A1260,'Analyse S'!A:D,4,FALSE)","v":67}]
["309-169-102-0",51,{"$f":"VLOOKUP(A1261,'Analyse S'!A:D,4,FALSE)","v":51}]
["309-169-202-0",57,{"$f":"VLOOKUP(A1262,'Analyse S'!A:D,4,FALSE)","v":57}]
["309-169-402-0",51,{"$f":"VLOOKUP(A1263,'Analyse S'!A:D,4,FALSE)","v":51}]
["309-169-501-0",56,{"$f":"VLOOKUP(A1264,'Analyse S'!A:D,4,FALSE)","v":56}]
["309-169-601-0",56,{"$f":"VLOOKUP(A1265,'Analyse S'!A:D,4,FALSE)","v":56}]
["309-169-702-0",51,{"$f":"VLOOKUP(A1266,'Analyse S'!A:D,4,FALSE)","v":51}]
["309-169-901-0",158,{"$f":"VLOOKUP(A1267,'Analyse S'!A:D,4,FALSE)","v":158}]
["3153008",509,{"$f":"VLOOKUP(A1268,'Analyse S'!A:D,4,FALSE)","v":509}]
["31-841651",55,{"$f":"VLOOKUP(A1269,'Analyse S'!A:D,4,FALSE)","v":55}]
["320-304-001-0",20,{"$f":"VLOOKUP(A1270,'Analyse S'!A:D,4,FALSE)","v":20}]
["320-304-101-0",20,{"$f":"VLOOKUP(A1271,'Analyse S'!A:D,4,FALSE)","v":20}]
["320-304-201-0",40,{"$f":"VLOOKUP(A1272,'Analyse S'!A:D,4,FALSE)","v":40}]
["320-304-301-0",26,{"$f":"VLOOKUP(A1273,'Analyse S'!A:D,4,FALSE)","v":26}]
["320-304-401-0",40,{"$f":"VLOOKUP(A1274,'Analyse S'!A:D,4,FALSE)","v":40}]
["320-304-501-0",34,{"$f":"VLOOKUP(A1275,'Analyse S'!A:D,4,FALSE)","v":34}]
["320-304-601-0",34,{"$f":"VLOOKUP(A1276,'Analyse S'!A:D,4,FALSE)","v":34}]
["320-305-001-0",29,{"$f":"VLOOKUP(A1277,'Analyse S'!A:D,4,FALSE)","v":29}]
["320-305-101-0",9,{"$f":"VLOOKUP(A1278,'Analyse S'!A:D,4,FALSE)","v":9}]
["320-305-201-0",20,{"$f":"VLOOKUP(A1279,'Analyse S'!A:D,4,FALSE)","v":20}]
["320-314-001-0",75,{"$f":"VLOOKUP(A1280,'Analyse S'!A:D,4,FALSE)","v":75}]
["320-314-101-0",75,{"$f":"VLOOKUP(A1281,'Analyse S'!A:D,4,FALSE)","v":75}]
["320-314-201-0",99,{"$f":"VLOOKUP(A1282,'Analyse S'!A:D,4,FALSE)","v":99}]
["320-314-301-0",75,{"$f":"VLOOKUP(A1283,'Analyse S'!A:D,4,FALSE)","v":75}]
["320-314-401-0",48,{"$f":"VLOOKUP(A1284,'Analyse S'!A:D,4,FALSE)","v":48}]
["320-314-501-0",50,{"$f":"VLOOKUP(A1285,'Analyse S'!A:D,4,FALSE)","v":50}]
["320-314-601-0",50,{"$f":"VLOOKUP(A1286,'Analyse S'!A:D,4,FALSE)","v":50}]
["320-314-701-0",124,{"$f":"VLOOKUP(A1287,'Analyse S'!A:D,4,FALSE)","v":124}]
["320-314-801-0",50,{"$f":"VLOOKUP(A1288,'Analyse S'!A:D,4,FALSE)","v":50}]
["320-314-901-0",75,{"$f":"VLOOKUP(A1289,'Analyse S'!A:D,4,FALSE)","v":75}]
["320-315-001-0",50,{"$f":"VLOOKUP(A1290,'Analyse S'!A:D,4,FALSE)","v":50}]
["320-315-101-0",75,{"$f":"VLOOKUP(A1291,'Analyse S'!A:D,4,FALSE)","v":75}]
["320-315-201-0",124,{"$f":"VLOOKUP(A1292,'Analyse S'!A:D,4,FALSE)","v":124}]
["320-315-301-0",50,{"$f":"VLOOKUP(A1293,'Analyse S'!A:D,4,FALSE)","v":50}]
["320-315-401-0",74,{"$f":"VLOOKUP(A1294,'Analyse S'!A:D,4,FALSE)","v":74}]
["320-315-501-0",50,{"$f":"VLOOKUP(A1295,'Analyse S'!A:D,4,FALSE)","v":50}]
["320-315-601-0",73,{"$f":"VLOOKUP(A1296,'Analyse S'!A:D,4,FALSE)","v":73}]
["320-315-701-0",100,{"$f":"VLOOKUP(A1297,'Analyse S'!A:D,4,FALSE)","v":100}]
["320-315-801-0",125,{"$f":"VLOOKUP(A1298,'Analyse S'!A:D,4,FALSE)","v":125}]
["320-315-901-0",75,{"$f":"VLOOKUP(A1299,'Analyse S'!A:D,4,FALSE)","v":75}]
["320-316-001-0",50,{"$f":"VLOOKUP(A1300,'Analyse S'!A:D,4,FALSE)","v":50}]
["320-316-101-0",50,{"$f":"VLOOKUP(A1301,'Analyse S'!A:D,4,FALSE)","v":50}]
["320-316-201-0",50,{"$f":"VLOOKUP(A1302,'Analyse S'!A:D,4,FALSE)","v":50}]
["320-316-301-0",128,{"$f":"VLOOKUP(A1303,'Analyse S'!A:D,4,FALSE)","v":128}]
["320-316-401-0",50,{"$f":"VLOOKUP(A1304,'Analyse S'!A:D,4,FALSE)","v":50}]
["320-316-501-0",100,{"$f":"VLOOKUP(A1305,'Analyse S'!A:D,4,FALSE)","v":100}]
["320-316-601-0",50,{"$f":"VLOOKUP(A1306,'Analyse S'!A:D,4,FALSE)","v":50}]
["320-316-701-0",125,{"$f":"VLOOKUP(A1307,'Analyse S'!A:D,4,FALSE)","v":125}]
["320-316-801-0",50,{"$f":"VLOOKUP(A1308,'Analyse S'!A:D,4,FALSE)","v":50}]
["320-316-901-0",125,{"$f":"VLOOKUP(A1309,'Analyse S'!A:D,4,FALSE)","v":125}]
["320-317-001-0",100,{"$f":"VLOOKUP(A1310,'Analyse S'!A:D,4,FALSE)","v":100}]
["320-317-101-0",125,{"$f":"VLOOKUP(A1311,'Analyse S'!A:D,4,FALSE)","v":125}]
["320-317-201-0",50,{"$f":"VLOOKUP(A1312,'Analyse S'!A:D,4,FALSE)","v":50}]
["320-317-301-0",50,{"$f":"VLOOKUP(A1313,'Analyse S'!A:D,4,FALSE)","v":50}]
["320-317-401-0",100,{"$f":"VLOOKUP(A1314,'Analyse S'!A:D,4,FALSE)","v":100}]
["320-317-501-0",50,{"$f":"VLOOKUP(A1315,'Analyse S'!A:D,4,FALSE)","v":50}]
["320-317-701-0",50,{"$f":"VLOOKUP(A1316,'Analyse S'!A:D,4,FALSE)","v":50}]
["320-317-801-0",50,{"$f":"VLOOKUP(A1317,'Analyse S'!A:D,4,FALSE)","v":50}]
["320-317-901-0",50,{"$f":"VLOOKUP(A1318,'Analyse S'!A:D,4,FALSE)","v":50}]
["320-318-001-0",100,{"$f":"VLOOKUP(A1319,'Analyse S'!A:D,4,FALSE)","v":100}]
["320-318-101-0",75,{"$f":"VLOOKUP(A1320,'Analyse S'!A:D,4,FALSE)","v":75}]
["320-318-201-0",75,{"$f":"VLOOKUP(A1321,'Analyse S'!A:D,4,FALSE)","v":75}]
["320-318-301-0",95,{"$f":"VLOOKUP(A1322,'Analyse S'!A:D,4,FALSE)","v":95}]
["320-318-401-0",50,{"$f":"VLOOKUP(A1323,'Analyse S'!A:D,4,FALSE)","v":50}]
["320-318-501-0",49,{"$f":"VLOOKUP(A1324,'Analyse S'!A:D,4,FALSE)","v":49}]
["320-332-601-0",11,{"$f":"VLOOKUP(A1325,'Analyse S'!A:D,4,FALSE)","v":11}]
["320-332-701-0",9,{"$f":"VLOOKUP(A1326,'Analyse S'!A:D,4,FALSE)","v":9}]
["320-333-001-0",9,{"$f":"VLOOKUP(A1327,'Analyse S'!A:D,4,FALSE)","v":9}]
["320-334-001-0",10,{"$f":"VLOOKUP(A1328,'Analyse S'!A:D,4,FALSE)","v":10}]
["320-334-101-0",6,{"$f":"VLOOKUP(A1329,'Analyse S'!A:D,4,FALSE)","v":6}]
["320-334-201-0",7,{"$f":"VLOOKUP(A1330,'Analyse S'!A:D,4,FALSE)","v":7}]
["320-334-301-0",8,{"$f":"VLOOKUP(A1331,'Analyse S'!A:D,4,FALSE)","v":8}]
["320-334-401-0",6,{"$f":"VLOOKUP(A1332,'Analyse S'!A:D,4,FALSE)","v":6}]
["320-334-501-0",8,{"$f":"VLOOKUP(A1333,'Analyse S'!A:D,4,FALSE)","v":8}]
["320-334-901-0",5,{"$f":"VLOOKUP(A1334,'Analyse S'!A:D,4,FALSE)","v":5}]
["320-335-101-0",4,{"$f":"VLOOKUP(A1335,'Analyse S'!A:D,4,FALSE)","v":4}]
["320-396-803-0",100,{"$f":"VLOOKUP(A1336,'Analyse S'!A:D,4,FALSE)","v":100}]
["320-408-101-0",1,{"$f":"VLOOKUP(A1337,'Analyse S'!A:D,4,FALSE)","v":1}]
["320-603-003-0",14,{"$f":"VLOOKUP(A1338,'Analyse S'!A:D,4,FALSE)","v":14}]
["320-611-103-0",2,{"$f":"VLOOKUP(A1339,'Analyse S'!A:D,4,FALSE)","v":2}]
["320-638-101-0",100,{"$f":"VLOOKUP(A1340,'Analyse S'!A:D,4,FALSE)","v":100}]
["320-665-101-0",80,{"$f":"VLOOKUP(A1341,'Analyse S'!A:D,4,FALSE)","v":80}]
["320-860-301-0",4,{"$f":"VLOOKUP(A1342,'Analyse S'!A:D,4,FALSE)","v":4}]
["320-912-503-0",1,{"$f":"VLOOKUP(A1343,'Analyse S'!A:D,4,FALSE)","v":1}]
["326-025-301-0",82,{"$f":"VLOOKUP(A1344,'Analyse S'!A:D,4,FALSE)","v":82}]
["326-025-501-0",84,{"$f":"VLOOKUP(A1345,'Analyse S'!A:D,4,FALSE)","v":84}]
["326-202-301-0",7,{"$f":"VLOOKUP(A1346,'Analyse S'!A:D,4,FALSE)","v":7}]
["32-841651",55,{"$f":"VLOOKUP(A1347,'Analyse S'!A:D,4,FALSE)","v":55}]
["334-011-857-0",10,{"$f":"VLOOKUP(A1348,'Analyse S'!A:D,4,FALSE)","v":10}]
["334-014-010-0",2,{"$f":"VLOOKUP(A1349,'Analyse S'!A:D,4,FALSE)","v":2}]
["334-014-012-0",453,{"$f":"VLOOKUP(A1350,'Analyse S'!A:D,4,FALSE)","v":453}]
["334-014-013-6",36,{"$f":"VLOOKUP(A1351,'Analyse S'!A:D,4,FALSE)","v":36}]
["334-014-015-6",4,{"$f":"VLOOKUP(A1352,'Analyse S'!A:D,4,FALSE)","v":4}]
["334-014-016-6",18,{"$f":"VLOOKUP(A1353,'Analyse S'!A:D,4,FALSE)","v":18}]
["33-841651",55,{"$f":"VLOOKUP(A1354,'Analyse S'!A:D,4,FALSE)","v":55}]
["34-841651-1",26,{"$f":"VLOOKUP(A1355,'Analyse S'!A:D,4,FALSE)","v":26}]
["37189001",72,{"$f":"VLOOKUP(A1356,'Analyse S'!A:D,4,FALSE)","v":72}]
["37199001",20,{"$f":"VLOOKUP(A1357,'Analyse S'!A:D,4,FALSE)","v":20}]
["38-841651",59,{"$f":"VLOOKUP(A1358,'Analyse S'!A:D,4,FALSE)","v":59}]
["394-062-301-0",2,{"$f":"VLOOKUP(A1359,'Analyse S'!A:D,4,FALSE)","v":2}]
["394-063-301-0",37,{"$f":"VLOOKUP(A1360,'Analyse S'!A:D,4,FALSE)","v":37}]
["394-067-301-0",41,{"$f":"VLOOKUP(A1361,'Analyse S'!A:D,4,FALSE)","v":41}]
["394-068-302-0",1,{"$f":"VLOOKUP(A1362,'Analyse S'!A:D,4,FALSE)","v":1}]
["394-087-301-0",6,{"$f":"VLOOKUP(A1363,'Analyse S'!A:D,4,FALSE)","v":6}]
["394-088-301-0",2,{"$f":"VLOOKUP(A1364,'Analyse S'!A:D,4,FALSE)","v":2}]
["394-109-301-0",92,{"$f":"VLOOKUP(A1365,'Analyse S'!A:D,4,FALSE)","v":92}]
["394-110-301-0",3,{"$f":"VLOOKUP(A1366,'Analyse S'!A:D,4,FALSE)","v":3}]
["394-128-301-0",1,{"$f":"VLOOKUP(A1367,'Analyse S'!A:D,4,FALSE)","v":1}]
["394-131-301-0",8,{"$f":"VLOOKUP(A1368,'Analyse S'!A:D,4,FALSE)","v":8}]
["394-137-301-0",1,{"$f":"VLOOKUP(A1369,'Analyse S'!A:D,4,FALSE)","v":1}]
["394-147-301-0",1,{"$f":"VLOOKUP(A1370,'Analyse S'!A:D,4,FALSE)","v":1}]
["394-157-301-0",13,{"$f":"VLOOKUP(A1371,'Analyse S'!A:D,4,FALSE)","v":13}]
["394-162-301-0",4,{"$f":"VLOOKUP(A1372,'Analyse S'!A:D,4,FALSE)","v":4}]
["394-175-301-0",1,{"$f":"VLOOKUP(A1373,'Analyse S'!A:D,4,FALSE)","v":1}]
["394-178-301-0",84,{"$f":"VLOOKUP(A1374,'Analyse S'!A:D,4,FALSE)","v":84}]
["394-179-301-0",12,{"$f":"VLOOKUP(A1375,'Analyse S'!A:D,4,FALSE)","v":12}]
["394-181-301-0",1,{"$f":"VLOOKUP(A1376,'Analyse S'!A:D,4,FALSE)","v":{"$error":"#N/A"}},"Nouvelle ref"]
["394-197-301-0",16,{"$f":"VLOOKUP(A1377,'Analyse S'!A:D,4,FALSE)","v":16}]
["394-201-301-0",47,{"$f":"VLOOKUP(A1378,'Analyse S'!A:D,4,FALSE)","v":47}]
["394-202-301-0",2,{"$f":"VLOOKUP(A1379,'Analyse S'!A:D,4,FALSE)","v":2}]
["39-841651-1",60,{"$f":"VLOOKUP(A1380,'Analyse S'!A:D,4,FALSE)","v":60}]
["399-002-862-0",200,{"$f":"VLOOKUP(A1381,'Analyse S'!A:D,4,FALSE)","v":200}]
["399-002-864-0",247,{"$f":"VLOOKUP(A1382,'Analyse S'!A:D,4,FALSE)","v":247}]
["399-007-009-0",188,{"$f":"VLOOKUP(A1383,'Analyse S'!A:D,4,FALSE)","v":188}]
["399-007-010-0",130,{"$f":"VLOOKUP(A1384,'Analyse S'!A:D,4,FALSE)","v":130}]
["399-008-528-0",5,{"$f":"VLOOKUP(A1385,'Analyse S'!A:D,4,FALSE)","v":5}]
["399-009-014-0",20,{"$f":"VLOOKUP(A1386,'Analyse S'!A:D,4,FALSE)","v":20}]
["399-009-020-0",10,{"$f":"VLOOKUP(A1387,'Analyse S'!A:D,4,FALSE)","v":10}]
["399-009-023-0",20,{"$f":"VLOOKUP(A1388,'Analyse S'!A:D,4,FALSE)","v":20}]
["399-009-024-0",48,{"$f":"VLOOKUP(A1389,'Analyse S'!A:D,4,FALSE)","v":48}]
["399-009-025-0",96,{"$f":"VLOOKUP(A1390,'Analyse S'!A:D,4,FALSE)","v":96}]
["399-009-026-0",29,{"$f":"VLOOKUP(A1391,'Analyse S'!A:D,4,FALSE)","v":29}]
["399-009-029-0",9,{"$f":"VLOOKUP(A1392,'Analyse S'!A:D,4,FALSE)","v":9}]
["399-009-037-0",9,{"$f":"VLOOKUP(A1393,'Analyse S'!A:D,4,FALSE)","v":9}]
["399-009-042-0",10,{"$f":"VLOOKUP(A1394,'Analyse S'!A:D,4,FALSE)","v":10}]
["399-009-045-0",50,{"$f":"VLOOKUP(A1395,'Analyse S'!A:D,4,FALSE)","v":50}]
["399-009-046-0",75,{"$f":"VLOOKUP(A1396,'Analyse S'!A:D,4,FALSE)","v":75}]
["399-009-047-0",61,{"$f":"VLOOKUP(A1397,'Analyse S'!A:D,4,FALSE)","v":61}]
["399-900-072-0",465,{"$f":"VLOOKUP(A1398,'Analyse S'!A:D,4,FALSE)","v":465}]
["399-900-075-0",862,{"$f":"VLOOKUP(A1399,'Analyse S'!A:D,4,FALSE)","v":862}]
["399-900-079-0",1464,{"$f":"VLOOKUP(A1400,'Analyse S'!A:D,4,FALSE)","v":1464}]
["399-900-080-0",276,{"$f":"VLOOKUP(A1401,'Analyse S'!A:D,4,FALSE)","v":276}]
["399-900-081-0",145,{"$f":"VLOOKUP(A1402,'Analyse S'!A:D,4,FALSE)","v":145}]
["399-900-083-0",828,{"$f":"VLOOKUP(A1403,'Analyse S'!A:D,4,FALSE)","v":828}]
["399-900-114-0",63,{"$f":"VLOOKUP(A1404,'Analyse S'!A:D,4,FALSE)","v":63}]
["4040U14-1",10,{"$f":"VLOOKUP(A1405,'Analyse S'!A:D,4,FALSE)","v":10}]
["4040U14-2",35,{"$f":"VLOOKUP(A1406,'Analyse S'!A:D,4,FALSE)","v":35}]
["404C20-102",17,{"$f":"VLOOKUP(A1407,'Analyse S'!A:D,4,FALSE)","v":17}]
["404C20-202",18,{"$f":"VLOOKUP(A1408,'Analyse S'!A:D,4,FALSE)","v":18}]
["40-841651",47,{"$f":"VLOOKUP(A1409,'Analyse S'!A:D,4,FALSE)","v":47}]
["41320050010",3681,{"$f":"VLOOKUP(A1410,'Analyse S'!A:D,4,FALSE)","v":3681}]
["416A12-31",44,{"$f":"VLOOKUP(A1411,'Analyse S'!A:D,4,FALSE)","v":44}]
["416A12-41",358,{"$f":"VLOOKUP(A1412,'Analyse S'!A:D,4,FALSE)","v":358}]
["416A16-11",109,{"$f":"VLOOKUP(A1413,'Analyse S'!A:D,4,FALSE)","v":109}]
["416A20-82",33,{"$f":"VLOOKUP(A1414,'Analyse S'!A:D,4,FALSE)","v":33}]
["416A20-91",70,{"$f":"VLOOKUP(A1415,'Analyse S'!A:D,4,FALSE)","v":70}]
["416A25-3",107,{"$f":"VLOOKUP(A1416,'Analyse S'!A:D,4,FALSE)","v":107}]
["416A30-1",38,{"$f":"VLOOKUP(A1417,'Analyse S'!A:D,4,FALSE)","v":38}]
["416A50-6",81,{"$f":"VLOOKUP(A1418,'Analyse S'!A:D,4,FALSE)","v":81}]
["416B16-3",61,{"$f":"VLOOKUP(A1419,'Analyse S'!A:D,4,FALSE)","v":61}]
["416B20-3",76,{"$f":"VLOOKUP(A1420,'Analyse S'!A:D,4,FALSE)","v":76}]
["416C8-11",42,{"$f":"VLOOKUP(A1421,'Analyse S'!A:D,4,FALSE)","v":42}]
["416C8-21",143,{"$f":"VLOOKUP(A1422,'Analyse S'!A:D,4,FALSE)","v":143}]
["419B20-21",55,{"$f":"VLOOKUP(A1423,'Analyse S'!A:D,4,FALSE)","v":55}]
["443-349-00-C",63,{"$f":"VLOOKUP(A1424,'Analyse S'!A:D,4,FALSE)","v":63}]
["443-379-00-C",8,{"$f":"VLOOKUP(A1425,'Analyse S'!A:D,4,FALSE)","v":8}]
["443-6000",78,{"$f":"VLOOKUP(A1426,'Analyse S'!A:D,4,FALSE)","v":{"$error":"#N/A"}},"2eme ref"]
["443-600-0",53,{"$f":"VLOOKUP(A1427,'Analyse S'!A:D,4,FALSE)","v":131}]
["46012A01120",18,{"$f":"VLOOKUP(A1428,'Analyse S'!A:D,4,FALSE)","v":18}]
["46012B01700",55,{"$f":"VLOOKUP(A1429,'Analyse S'!A:D,4,FALSE)","v":55}]
["46012B02500",21,{"$f":"VLOOKUP(A1430,'Analyse S'!A:D,4,FALSE)","v":21}]
["500B41",30,{"$f":"VLOOKUP(A1431,'Analyse S'!A:D,4,FALSE)","v":30}]
["502-705-302-0",36,{"$f":"VLOOKUP(A1432,'Analyse S'!A:D,4,FALSE)","v":36}]
["53521-035",9,{"$f":"VLOOKUP(A1433,'Analyse S'!A:D,4,FALSE)","v":9}]
["5513-100",8,{"$f":"VLOOKUP(A1434,'Analyse S'!A:D,4,FALSE)","v":8}]
["551-806-008-0",749,{"$f":"VLOOKUP(A1435,'Analyse S'!A:D,4,FALSE)","v":749}]
["551-807-008-0",153,{"$f":"VLOOKUP(A1436,'Analyse S'!A:D,4,FALSE)","v":153}]
["551-808-110-0",88,{"$f":"VLOOKUP(A1437,'Analyse S'!A:D,4,FALSE)","v":88}]
["551-810-910-0",91,{"$f":"VLOOKUP(A1438,'Analyse S'!A:D,4,FALSE)","v":91}]
["551-812-010-0",327,{"$f":"VLOOKUP(A1439,'Analyse S'!A:D,4,FALSE)","v":327}]
["551-812-110-0",200,{"$f":"VLOOKUP(A1440,'Analyse S'!A:D,4,FALSE)","v":200}]
["551-816-010-0",210,{"$f":"VLOOKUP(A1441,'Analyse S'!A:D,4,FALSE)","v":210}]
["551-822-010-0",172,{"$f":"VLOOKUP(A1442,'Analyse S'!A:D,4,FALSE)","v":172}]
["55310-1",54,{"$f":"VLOOKUP(A1443,'Analyse S'!A:D,4,FALSE)","v":54}]
["55312-1",53,{"$f":"VLOOKUP(A1444,'Analyse S'!A:D,4,FALSE)","v":53}]
["55315-1",48,{"$f":"VLOOKUP(A1445,'Analyse S'!A:D,4,FALSE)","v":48}]
["5552-000",8,{"$f":"VLOOKUP(A1446,'Analyse S'!A:D,4,FALSE)","v":8}]
["55-841651",60,{"$f":"VLOOKUP(A1447,'Analyse S'!A:D,4,FALSE)","v":60}]
["56-831413-1",60,{"$f":"VLOOKUP(A1448,'Analyse S'!A:D,4,FALSE)","v":60}]
["57239-271-3",304,{"$f":"VLOOKUP(A1449,'Analyse S'!A:D,4,FALSE)","v":304}]
["602991",24,{"$f":"VLOOKUP(A1450,'Analyse S'!A:D,4,FALSE)","v":24}]
["611-101-041-0",4,{"$f":"VLOOKUP(A1451,'Analyse S'!A:D,4,FALSE)","v":4}]
["612U90-2132-1",80,{"$f":"VLOOKUP(A1452,'Analyse S'!A:D,4,FALSE)","v":80}]
["620-020-555-0",10,{"$f":"VLOOKUP(A1453,'Analyse S'!A:D,4,FALSE)","v":10}]
["620-880-000-0",85,{"$f":"VLOOKUP(A1454,'Analyse S'!A:D,4,FALSE)","v":85}]
["620U1B-RAL3000",1900,{"$f":"VLOOKUP(A1455,'Analyse S'!A:D,4,FALSE)","v":1900}]
["620U2B",94,{"$f":"VLOOKUP(A1456,'Analyse S'!A:D,4,FALSE)","v":94}]
["649-305-501-0",977,{"$f":"VLOOKUP(A1457,'Analyse S'!A:D,4,FALSE)","v":977}]
["649-305-523-0",941,{"$f":"VLOOKUP(A1458,'Analyse S'!A:D,4,FALSE)","v":941}]
["649-363-500-0",19,{"$f":"VLOOKUP(A1459,'Analyse S'!A:D,4,FALSE)","v":19}]
["649-363-525-0",14,{"$f":"VLOOKUP(A1460,'Analyse S'!A:D,4,FALSE)","v":14}]
["649-363-600-0",11,{"$f":"VLOOKUP(A1461,'Analyse S'!A:D,4,FALSE)","v":11}]
["649-363-800-0",18,{"$f":"VLOOKUP(A1462,'Analyse S'!A:D,4,FALSE)","v":18}]
["649-365-637-0",18,{"$f":"VLOOKUP(A1463,'Analyse S'!A:D,4,FALSE)","v":18}]
["649-392-351-0",110,{"$f":"VLOOKUP(A1464,'Analyse S'!A:D,4,FALSE)","v":110}]
["649-393-155-0",124,{"$f":"VLOOKUP(A1465,'Analyse S'!A:D,4,FALSE)","v":124}]
["649-550-001-0",75,{"$f":"VLOOKUP(A1466,'Analyse S'!A:D,4,FALSE)","v":75}]
["649-679-500-0",9,{"$f":"VLOOKUP(A1467,'Analyse S'!A:D,4,FALSE)","v":9}]
["649-679-600-0",25,{"$f":"VLOOKUP(A1468,'Analyse S'!A:D,4,FALSE)","v":25}]
["649-679-637-0",10,{"$f":"VLOOKUP(A1469,'Analyse S'!A:D,4,FALSE)","v":10}]
["649-804-019-0",115,{"$f":"VLOOKUP(A1470,'Analyse S'!A:D,4,FALSE)","v":115}]
["649-971-053-0",354,{"$f":"VLOOKUP(A1471,'Analyse S'!A:D,4,FALSE)","v":354}]
["649-972-052-0",142,{"$f":"VLOOKUP(A1472,'Analyse S'!A:D,4,FALSE)","v":142}]
["649-972-054-0",201,{"$f":"VLOOKUP(A1473,'Analyse S'!A:D,4,FALSE)","v":201}]
["649-972-057-0",40,{"$f":"VLOOKUP(A1474,'Analyse S'!A:D,4,FALSE)","v":40}]
["649-972-058-0",165,{"$f":"VLOOKUP(A1475,'Analyse S'!A:D,4,FALSE)","v":165}]
["650-001-004-0",75,{"$f":"VLOOKUP(A1476,'Analyse S'!A:D,4,FALSE)","v":75}]
["650-001-008-0",25,{"$f":"VLOOKUP(A1477,'Analyse S'!A:D,4,FALSE)","v":25}]
["650-001-602-0",250,{"$f":"VLOOKUP(A1478,'Analyse S'!A:D,4,FALSE)","v":250}]
["650-001-606-0",24,{"$f":"VLOOKUP(A1479,'Analyse S'!A:D,4,FALSE)","v":24}]
["650-002-045-0",650,{"$f":"VLOOKUP(A1480,'Analyse S'!A:D,4,FALSE)","v":650}]
["650-002-500-0",725,{"$f":"VLOOKUP(A1481,'Analyse S'!A:D,4,FALSE)","v":725}]
["650-002-551-0",2434,{"$f":"VLOOKUP(A1482,'Analyse S'!A:D,4,FALSE)","v":2434}]
["650-025-201-0",500,{"$f":"VLOOKUP(A1483,'Analyse S'!A:D,4,FALSE)","v":500}]
["650-039-045-0",574,{"$f":"VLOOKUP(A1484,'Analyse S'!A:D,4,FALSE)","v":574}]
["650-051-105-0",38,{"$f":"VLOOKUP(A1485,'Analyse S'!A:D,4,FALSE)","v":38}]
["650-051-106-0",41,{"$f":"VLOOKUP(A1486,'Analyse S'!A:D,4,FALSE)","v":41}]
["650-061-616-0",99,{"$f":"VLOOKUP(A1487,'Analyse S'!A:D,4,FALSE)","v":99}]
["650-066-080-0",21,{"$f":"VLOOKUP(A1488,'Analyse S'!A:D,4,FALSE)","v":21}]
["650-066-261-0",157,{"$f":"VLOOKUP(A1489,'Analyse S'!A:D,4,FALSE)","v":157}]
["650-066-271-0",190,{"$f":"VLOOKUP(A1490,'Analyse S'!A:D,4,FALSE)","v":190}]
["650-066-295-0",650,{"$f":"VLOOKUP(A1491,'Analyse S'!A:D,4,FALSE)","v":650}]
["650-066-371-0",1227,{"$f":"VLOOKUP(A1492,'Analyse S'!A:D,4,FALSE)","v":1227}]
["650-066-391-0",493,{"$f":"VLOOKUP(A1493,'Analyse S'!A:D,4,FALSE)","v":493}]
["650-066-401-0",862,{"$f":"VLOOKUP(A1494,'Analyse S'!A:D,4,FALSE)","v":862}]
["650-066-411-0",1239,{"$f":"VLOOKUP(A1495,'Analyse S'!A:D,4,FALSE)","v":1239}]
["650-066-521-0",1394,{"$f":"VLOOKUP(A1496,'Analyse S'!A:D,4,FALSE)","v":1394}]
["650-066-541-0",427,{"$f":"VLOOKUP(A1497,'Analyse S'!A:D,4,FALSE)","v":427}]
["650-066-551-0",812,{"$f":"VLOOKUP(A1498,'Analyse S'!A:D,4,FALSE)","v":812}]
["650-066-561-0",642,{"$f":"VLOOKUP(A1499,'Analyse S'!A:D,4,FALSE)","v":642}]
["650-066-571-0",767,{"$f":"VLOOKUP(A1500,'Analyse S'!A:D,4,FALSE)","v":767}]
["650-066-585-0",220,{"$f":"VLOOKUP(A1501,'Analyse S'!A:D,4,FALSE)","v":220}]
["650-066-853-0",200,{"$f":"VLOOKUP(A1502,'Analyse S'!A:D,4,FALSE)","v":200}]
["650-067-060-0",250,{"$f":"VLOOKUP(A1503,'Analyse S'!A:D,4,FALSE)","v":250}]
["650-067-061-0",245,{"$f":"VLOOKUP(A1504,'Analyse S'!A:D,4,FALSE)","v":245}]
["650-067-120-0",304,{"$f":"VLOOKUP(A1505,'Analyse S'!A:D,4,FALSE)","v":304}]
["650-067-121-0",283,{"$f":"VLOOKUP(A1506,'Analyse S'!A:D,4,FALSE)","v":283}]
["650-067-122-0",113,{"$f":"VLOOKUP(A1507,'Analyse S'!A:D,4,FALSE)","v":113}]
["650-067-124-0",108,{"$f":"VLOOKUP(A1508,'Analyse S'!A:D,4,FALSE)","v":108}]
["650-072-008-0",250,{"$f":"VLOOKUP(A1509,'Analyse S'!A:D,4,FALSE)","v":250}]
["650-091-635-0",263,{"$f":"VLOOKUP(A1510,'Analyse S'!A:D,4,FALSE)","v":263}]
["650-091-638-0",428,{"$f":"VLOOKUP(A1511,'Analyse S'!A:D,4,FALSE)","v":428}]
["650-091-811-0",83,{"$f":"VLOOKUP(A1512,'Analyse S'!A:D,4,FALSE)","v":83}]
["650-091-813-0",66,{"$f":"VLOOKUP(A1513,'Analyse S'!A:D,4,FALSE)","v":66}]
["650-150-078-0",125,{"$f":"VLOOKUP(A1514,'Analyse S'!A:D,4,FALSE)","v":125}]
["650-151-500-0",208,{"$f":"VLOOKUP(A1515,'Analyse S'!A:D,4,FALSE)","v":208}]
["650-151-505-0",450,{"$f":"VLOOKUP(A1516,'Analyse S'!A:D,4,FALSE)","v":450}]
["650-151-508-0",48,{"$f":"VLOOKUP(A1517,'Analyse S'!A:D,4,FALSE)","v":48}]
["650-151-513-0",115,{"$f":"VLOOKUP(A1518,'Analyse S'!A:D,4,FALSE)","v":115}]
["650-151-538-0",250,{"$f":"VLOOKUP(A1519,'Analyse S'!A:D,4,FALSE)","v":250}]
["650-151-901-0",200,{"$f":"VLOOKUP(A1520,'Analyse S'!A:D,4,FALSE)","v":200}]
["650-151-903-0",71,{"$f":"VLOOKUP(A1521,'Analyse S'!A:D,4,FALSE)","v":71}]
["650-151-922-0",689,{"$f":"VLOOKUP(A1522,'Analyse S'!A:D,4,FALSE)","v":689}]
["650-152-703-0",995,{"$f":"VLOOKUP(A1523,'Analyse S'!A:D,4,FALSE)","v":995}]
["650-152-854-0",215,{"$f":"VLOOKUP(A1524,'Analyse S'!A:D,4,FALSE)","v":215}]
["650-152-855-0",348,{"$f":"VLOOKUP(A1525,'Analyse S'!A:D,4,FALSE)","v":348}]
["650-152-856-0",173,{"$f":"VLOOKUP(A1526,'Analyse S'!A:D,4,FALSE)","v":173}]
["650-152-857-0",182,{"$f":"VLOOKUP(A1527,'Analyse S'!A:D,4,FALSE)","v":182}]
["650-152-865-0",208,{"$f":"VLOOKUP(A1528,'Analyse S'!A:D,4,FALSE)","v":208}]
["650-152-867-0",340,{"$f":"VLOOKUP(A1529,'Analyse S'!A:D,4,FALSE)","v":340}]
["650-152-901-0",141,{"$f":"VLOOKUP(A1530,'Analyse S'!A:D,4,FALSE)","v":141}]
["650-153-202-0",126,{"$f":"VLOOKUP(A1531,'Analyse S'!A:D,4,FALSE)","v":126}]
["650-153-203-0",178,{"$f":"VLOOKUP(A1532,'Analyse S'!A:D,4,FALSE)","v":178}]
["650-153-204-0",74,{"$f":"VLOOKUP(A1533,'Analyse S'!A:D,4,FALSE)","v":74}]
["650-153-212-0",493,{"$f":"VLOOKUP(A1534,'Analyse S'!A:D,4,FALSE)","v":493}]
["650-153-213-0",335,{"$f":"VLOOKUP(A1535,'Analyse S'!A:D,4,FALSE)","v":335}]
["650-153-214-0",289,{"$f":"VLOOKUP(A1536,'Analyse S'!A:D,4,FALSE)","v":289}]
["650-153-215-0",120,{"$f":"VLOOKUP(A1537,'Analyse S'!A:D,4,FALSE)","v":120}]
["650-153-216-0",492,{"$f":"VLOOKUP(A1538,'Analyse S'!A:D,4,FALSE)","v":492}]
["650-153-218-0",766,{"$f":"VLOOKUP(A1539,'Analyse S'!A:D,4,FALSE)","v":766}]
["650-153-219-0",144,{"$f":"VLOOKUP(A1540,'Analyse S'!A:D,4,FALSE)","v":144}]
["650-153-220-0",51,{"$f":"VLOOKUP(A1541,'Analyse S'!A:D,4,FALSE)","v":51}]
["650-153-228-0",100,{"$f":"VLOOKUP(A1542,'Analyse S'!A:D,4,FALSE)","v":100}]
["650-153-231-0",378,{"$f":"VLOOKUP(A1543,'Analyse S'!A:D,4,FALSE)","v":378}]
["650-153-351-0",83,{"$f":"VLOOKUP(A1544,'Analyse S'!A:D,4,FALSE)","v":83}]
["650-153-352-0",710,{"$f":"VLOOKUP(A1545,'Analyse S'!A:D,4,FALSE)","v":710}]
["650-153-353-0",224,{"$f":"VLOOKUP(A1546,'Analyse S'!A:D,4,FALSE)","v":224}]
["650-153-354-0",956,{"$f":"VLOOKUP(A1547,'Analyse S'!A:D,4,FALSE)","v":956}]
["650-153-355-0",835,{"$f":"VLOOKUP(A1548,'Analyse S'!A:D,4,FALSE)","v":835}]
["650-153-356-0",254,{"$f":"VLOOKUP(A1549,'Analyse S'!A:D,4,FALSE)","v":254}]
["650-153-358-0",165,{"$f":"VLOOKUP(A1550,'Analyse S'!A:D,4,FALSE)","v":165}]
["650-153-363-0",26,{"$f":"VLOOKUP(A1551,'Analyse S'!A:D,4,FALSE)","v":26}]
["650-153-364-0",91,{"$f":"VLOOKUP(A1552,'Analyse S'!A:D,4,FALSE)","v":91}]
["650-153-366-0",245,{"$f":"VLOOKUP(A1553,'Analyse S'!A:D,4,FALSE)","v":245}]
["650-153-502-0",368,{"$f":"VLOOKUP(A1554,'Analyse S'!A:D,4,FALSE)","v":368}]
["650-153-503-0",49,{"$f":"VLOOKUP(A1555,'Analyse S'!A:D,4,FALSE)","v":49}]
["650-153-504-0",1662,{"$f":"VLOOKUP(A1556,'Analyse S'!A:D,4,FALSE)","v":1662}]
["650-153-506-0",618,{"$f":"VLOOKUP(A1557,'Analyse S'!A:D,4,FALSE)","v":618}]
["650-153-508-0",93,{"$f":"VLOOKUP(A1558,'Analyse S'!A:D,4,FALSE)","v":93}]
["650-153-509-0",340,{"$f":"VLOOKUP(A1559,'Analyse S'!A:D,4,FALSE)","v":340}]
["650-153-525-0",103,{"$f":"VLOOKUP(A1560,'Analyse S'!A:D,4,FALSE)","v":103}]
["650-153-527-0",65,{"$f":"VLOOKUP(A1561,'Analyse S'!A:D,4,FALSE)","v":65}]
["650-153-532-0",115,{"$f":"VLOOKUP(A1562,'Analyse S'!A:D,4,FALSE)","v":115}]
["650-153-533-0",98,{"$f":"VLOOKUP(A1563,'Analyse S'!A:D,4,FALSE)","v":98}]
["650-153-534-0",111,{"$f":"VLOOKUP(A1564,'Analyse S'!A:D,4,FALSE)","v":111}]
["650-153-535-0",77,{"$f":"VLOOKUP(A1565,'Analyse S'!A:D,4,FALSE)","v":77}]
["650-153-601-0",56,{"$f":"VLOOKUP(A1566,'Analyse S'!A:D,4,FALSE)","v":56}]
["650-153-630-0",219,{"$f":"VLOOKUP(A1567,'Analyse S'!A:D,4,FALSE)","v":219}]
["650-191-698-0",80,{"$f":"VLOOKUP(A1568,'Analyse S'!A:D,4,FALSE)","v":80}]
["650-192-653-0",453,{"$f":"VLOOKUP(A1569,'Analyse S'!A:D,4,FALSE)","v":453}]
["650-192-654-0",256,{"$f":"VLOOKUP(A1570,'Analyse S'!A:D,4,FALSE)","v":256}]
["650-192-655-0",783,{"$f":"VLOOKUP(A1571,'Analyse S'!A:D,4,FALSE)","v":783}]
["650-192-657-0",434,{"$f":"VLOOKUP(A1572,'Analyse S'!A:D,4,FALSE)","v":434}]
["650-192-664-0",294,{"$f":"VLOOKUP(A1573,'Analyse S'!A:D,4,FALSE)","v":294}]
["650-192-665-0",357,{"$f":"VLOOKUP(A1574,'Analyse S'!A:D,4,FALSE)","v":357}]
["650-192-666-0",471,{"$f":"VLOOKUP(A1575,'Analyse S'!A:D,4,FALSE)","v":471}]
["650-192-671-0",402,{"$f":"VLOOKUP(A1576,'Analyse S'!A:D,4,FALSE)","v":402}]
["650-192-674-0",220,{"$f":"VLOOKUP(A1577,'Analyse S'!A:D,4,FALSE)","v":220}]
["650-192-675-0",232,{"$f":"VLOOKUP(A1578,'Analyse S'!A:D,4,FALSE)","v":232}]
["650-192-676-0",278,{"$f":"VLOOKUP(A1579,'Analyse S'!A:D,4,FALSE)","v":278}]
["650-192-677-0",171,{"$f":"VLOOKUP(A1580,'Analyse S'!A:D,4,FALSE)","v":171}]
["650-192-678-0",145,{"$f":"VLOOKUP(A1581,'Analyse S'!A:D,4,FALSE)","v":145}]
["650-192-688-0",358,{"$f":"VLOOKUP(A1582,'Analyse S'!A:D,4,FALSE)","v":358}]
["650-192-689-0",178,{"$f":"VLOOKUP(A1583,'Analyse S'!A:D,4,FALSE)","v":178}]
["650-192-690-0",535,{"$f":"VLOOKUP(A1584,'Analyse S'!A:D,4,FALSE)","v":535}]
["650-192-691-0",290,{"$f":"VLOOKUP(A1585,'Analyse S'!A:D,4,FALSE)","v":290}]
["650-192-693-0",219,{"$f":"VLOOKUP(A1586,'Analyse S'!A:D,4,FALSE)","v":219}]
["650-192-695-0",268,{"$f":"VLOOKUP(A1587,'Analyse S'!A:D,4,FALSE)","v":268}]
["650-192-698-0",438,{"$f":"VLOOKUP(A1588,'Analyse S'!A:D,4,FALSE)","v":438}]
["650-192-704-0",526,{"$f":"VLOOKUP(A1589,'Analyse S'!A:D,4,FALSE)","v":526}]
["650-192-706-0",535,{"$f":"VLOOKUP(A1590,'Analyse S'!A:D,4,FALSE)","v":535}]
["650-192-708-0",271,{"$f":"VLOOKUP(A1591,'Analyse S'!A:D,4,FALSE)","v":271}]
["650-192-721-0",396,{"$f":"VLOOKUP(A1592,'Analyse S'!A:D,4,FALSE)","v":396}]
["650-192-726-0",47,{"$f":"VLOOKUP(A1593,'Analyse S'!A:D,4,FALSE)","v":47}]
["650-192-854-0",156,{"$f":"VLOOKUP(A1594,'Analyse S'!A:D,4,FALSE)","v":156}]
["650-192-887-0",17,{"$f":"VLOOKUP(A1595,'Analyse S'!A:D,4,FALSE)","v":17}]
["650-201-013-0",244,{"$f":"VLOOKUP(A1596,'Analyse S'!A:D,4,FALSE)","v":244}]
["650-201-641-0",183,{"$f":"VLOOKUP(A1597,'Analyse S'!A:D,4,FALSE)","v":183}]
["650-201-824-0",433,{"$f":"VLOOKUP(A1598,'Analyse S'!A:D,4,FALSE)","v":433}]
["650-201-828-0",72,{"$f":"VLOOKUP(A1599,'Analyse S'!A:D,4,FALSE)","v":72}]
["650-201-829-0",16,{"$f":"VLOOKUP(A1600,'Analyse S'!A:D,4,FALSE)","v":16}]
["650-277-010-0",251,{"$f":"VLOOKUP(A1601,'Analyse S'!A:D,4,FALSE)","v":251}]
["650-291-170-0",42,{"$f":"VLOOKUP(A1602,'Analyse S'!A:D,4,FALSE)","v":42}]
["650-291-171-0",87,{"$f":"VLOOKUP(A1603,'Analyse S'!A:D,4,FALSE)","v":87}]
["650-291-202-0",86,{"$f":"VLOOKUP(A1604,'Analyse S'!A:D,4,FALSE)","v":86}]
["650-291-203-0",4916,{"$f":"VLOOKUP(A1605,'Analyse S'!A:D,4,FALSE)","v":4916}]
["650-301-701-0",12937,{"$f":"VLOOKUP(A1606,'Analyse S'!A:D,4,FALSE)","v":12937}]
["650-301-711-0",3210,{"$f":"VLOOKUP(A1607,'Analyse S'!A:D,4,FALSE)","v":3210}]
["650-301-712-0",100,{"$f":"VLOOKUP(A1608,'Analyse S'!A:D,4,FALSE)","v":100}]
["650-301-713-0",7506,{"$f":"VLOOKUP(A1609,'Analyse S'!A:D,4,FALSE)","v":7506}]
["650-301-811-0",4547,{"$f":"VLOOKUP(A1610,'Analyse S'!A:D,4,FALSE)","v":4547}]
["650-301-821-0",3823,{"$f":"VLOOKUP(A1611,'Analyse S'!A:D,4,FALSE)","v":3823}]
["650-302-603-0",71,{"$f":"VLOOKUP(A1612,'Analyse S'!A:D,4,FALSE)","v":71}]
["650-303-150-0",2957,{"$f":"VLOOKUP(A1613,'Analyse S'!A:D,4,FALSE)","v":2957}]
["650-303-152-0",454,{"$f":"VLOOKUP(A1614,'Analyse S'!A:D,4,FALSE)","v":454}]
["650-303-653-0",152,{"$f":"VLOOKUP(A1615,'Analyse S'!A:D,4,FALSE)","v":152}]
["650-303-821-0",1351,{"$f":"VLOOKUP(A1616,'Analyse S'!A:D,4,FALSE)","v":1351}]
["650-303-823-0",3495,{"$f":"VLOOKUP(A1617,'Analyse S'!A:D,4,FALSE)","v":3495}]
["650-303-825-0",988,{"$f":"VLOOKUP(A1618,'Analyse S'!A:D,4,FALSE)","v":988}]
["650-304-212-0",866,{"$f":"VLOOKUP(A1619,'Analyse S'!A:D,4,FALSE)","v":866}]
["650-304-221-0",601,{"$f":"VLOOKUP(A1620,'Analyse S'!A:D,4,FALSE)","v":601}]
["650-304-502-0",844,{"$f":"VLOOKUP(A1621,'Analyse S'!A:D,4,FALSE)","v":844}]
["650-304-503-0",334,{"$f":"VLOOKUP(A1622,'Analyse S'!A:D,4,FALSE)","v":334}]
["650-304-504-0",161,{"$f":"VLOOKUP(A1623,'Analyse S'!A:D,4,FALSE)","v":161}]
["650-304-510-0",346,{"$f":"VLOOKUP(A1624,'Analyse S'!A:D,4,FALSE)","v":346}]
["650-304-512-0",894,{"$f":"VLOOKUP(A1625,'Analyse S'!A:D,4,FALSE)","v":894}]
["650-304-513-0",36,{"$f":"VLOOKUP(A1626,'Analyse S'!A:D,4,FALSE)","v":36}]
["650-304-514-0",472,{"$f":"VLOOKUP(A1627,'Analyse S'!A:D,4,FALSE)","v":472}]
["650-305-016-0",4060,{"$f":"VLOOKUP(A1628,'Analyse S'!A:D,4,FALSE)","v":4060}]
["650-305-020-0",4942,{"$f":"VLOOKUP(A1629,'Analyse S'!A:D,4,FALSE)","v":4942}]
["650-305-055-0",82,{"$f":"VLOOKUP(A1630,'Analyse S'!A:D,4,FALSE)","v":82}]
["650-305-341-0",155,{"$f":"VLOOKUP(A1631,'Analyse S'!A:D,4,FALSE)","v":155}]
["650-305-342-0",259,{"$f":"VLOOKUP(A1632,'Analyse S'!A:D,4,FALSE)","v":259}]
["650-309-004-0",116,{"$f":"VLOOKUP(A1633,'Analyse S'!A:D,4,FALSE)","v":116}]
["650-337-013-0",66,{"$f":"VLOOKUP(A1634,'Analyse S'!A:D,4,FALSE)","v":66}]
["650-337-278-0",39,{"$f":"VLOOKUP(A1635,'Analyse S'!A:D,4,FALSE)","v":39}]
["650-341-012-0",2153,{"$f":"VLOOKUP(A1636,'Analyse S'!A:D,4,FALSE)","v":2153}]
["650-341-082-0",212,{"$f":"VLOOKUP(A1637,'Analyse S'!A:D,4,FALSE)","v":212}]
["650-341-120-0",763,{"$f":"VLOOKUP(A1638,'Analyse S'!A:D,4,FALSE)","v":763}]
["650-341-121-0",167,{"$f":"VLOOKUP(A1639,'Analyse S'!A:D,4,FALSE)","v":167}]
["650-341-122-0",233,{"$f":"VLOOKUP(A1640,'Analyse S'!A:D,4,FALSE)","v":233}]
["650-341-124-0",646,{"$f":"VLOOKUP(A1641,'Analyse S'!A:D,4,FALSE)","v":646}]
["650-341-125-0",486,{"$f":"VLOOKUP(A1642,'Analyse S'!A:D,4,FALSE)","v":486}]
["650-341-126-0",39,{"$f":"VLOOKUP(A1643,'Analyse S'!A:D,4,FALSE)","v":39}]
["650-341-151-0",729,{"$f":"VLOOKUP(A1644,'Analyse S'!A:D,4,FALSE)","v":729}]
["650-341-154-0",104,{"$f":"VLOOKUP(A1645,'Analyse S'!A:D,4,FALSE)","v":104}]
["650-342-005-0",298,{"$f":"VLOOKUP(A1646,'Analyse S'!A:D,4,FALSE)","v":298}]
["650-342-007-0",480,{"$f":"VLOOKUP(A1647,'Analyse S'!A:D,4,FALSE)","v":480}]
["650-342-012-0",264,{"$f":"VLOOKUP(A1648,'Analyse S'!A:D,4,FALSE)","v":264}]
["650-342-013-0",283,{"$f":"VLOOKUP(A1649,'Analyse S'!A:D,4,FALSE)","v":283}]
["650-342-014-0",105,{"$f":"VLOOKUP(A1650,'Analyse S'!A:D,4,FALSE)","v":105}]
["650-342-204-0",5884,{"$f":"VLOOKUP(A1651,'Analyse S'!A:D,4,FALSE)","v":5884}]
["650-342-220-0",835,{"$f":"VLOOKUP(A1652,'Analyse S'!A:D,4,FALSE)","v":835}]
["650-342-221-0",471,{"$f":"VLOOKUP(A1653,'Analyse S'!A:D,4,FALSE)","v":471}]
["650-342-222-0",238,{"$f":"VLOOKUP(A1654,'Analyse S'!A:D,4,FALSE)","v":238}]
["650-342-223-0",1090,{"$f":"VLOOKUP(A1655,'Analyse S'!A:D,4,FALSE)","v":1090}]
["650-342-224-0",724,{"$f":"VLOOKUP(A1656,'Analyse S'!A:D,4,FALSE)","v":724}]
["650-342-225-0",390,{"$f":"VLOOKUP(A1657,'Analyse S'!A:D,4,FALSE)","v":390}]
["650-343-001-0",122,{"$f":"VLOOKUP(A1658,'Analyse S'!A:D,4,FALSE)","v":122}]
["650-343-200-0",83,{"$f":"VLOOKUP(A1659,'Analyse S'!A:D,4,FALSE)","v":83}]
["650-351-161-0",100,{"$f":"VLOOKUP(A1660,'Analyse S'!A:D,4,FALSE)","v":100}]
["650-360-002-0",18,{"$f":"VLOOKUP(A1661,'Analyse S'!A:D,4,FALSE)","v":18}]
["650-360-050-0",52,{"$f":"VLOOKUP(A1662,'Analyse S'!A:D,4,FALSE)","v":52}]
["650-362-620-6",428,{"$f":"VLOOKUP(A1663,'Analyse S'!A:D,4,FALSE)","v":428}]
["650-362-621-6",1700,{"$f":"VLOOKUP(A1664,'Analyse S'!A:D,4,FALSE)","v":1700}]
["650-363-182-0",52,{"$f":"VLOOKUP(A1665,'Analyse S'!A:D,4,FALSE)","v":52}]
["650-363-435-0",76,{"$f":"VLOOKUP(A1666,'Analyse S'!A:D,4,FALSE)","v":76}]
["650-364-510-0",42,{"$f":"VLOOKUP(A1667,'Analyse S'!A:D,4,FALSE)","v":42}]
["650-365-011-0",27,{"$f":"VLOOKUP(A1668,'Analyse S'!A:D,4,FALSE)","v":27}]
["650-365-015-0",493,{"$f":"VLOOKUP(A1669,'Analyse S'!A:D,4,FALSE)","v":493}]
["650-365-021-0",217,{"$f":"VLOOKUP(A1670,'Analyse S'!A:D,4,FALSE)","v":217}]
["650-365-024-0",99,{"$f":"VLOOKUP(A1671,'Analyse S'!A:D,4,FALSE)","v":99}]
["650-365-026-0",57,{"$f":"VLOOKUP(A1672,'Analyse S'!A:D,4,FALSE)","v":57}]
["650-365-053-0",64,{"$f":"VLOOKUP(A1673,'Analyse S'!A:D,4,FALSE)","v":64}]
["650-365-062-0",78,{"$f":"VLOOKUP(A1674,'Analyse S'!A:D,4,FALSE)","v":78}]
["650-365-138-0",440,{"$f":"VLOOKUP(A1675,'Analyse S'!A:D,4,FALSE)","v":440}]
["650-366-520-0",49,{"$f":"VLOOKUP(A1676,'Analyse S'!A:D,4,FALSE)","v":49}]
["650-379-120-0",594,{"$f":"VLOOKUP(A1677,'Analyse S'!A:D,4,FALSE)","v":594}]
["650-389-031-0",122,{"$f":"VLOOKUP(A1678,'Analyse S'!A:D,4,FALSE)","v":122}]
["650-389-032-0",155,{"$f":"VLOOKUP(A1679,'Analyse S'!A:D,4,FALSE)","v":155}]
["650-389-033-0",90,{"$f":"VLOOKUP(A1680,'Analyse S'!A:D,4,FALSE)","v":90}]
["650-389-035-0",40,{"$f":"VLOOKUP(A1681,'Analyse S'!A:D,4,FALSE)","v":40}]
["650-389-036-0",84,{"$f":"VLOOKUP(A1682,'Analyse S'!A:D,4,FALSE)","v":84}]
["650-391-009-0",5879,{"$f":"VLOOKUP(A1683,'Analyse S'!A:D,4,FALSE)","v":5879}]
["650-391-010-0",73,{"$f":"VLOOKUP(A1684,'Analyse S'!A:D,4,FALSE)","v":73}]
["650-391-048-0",11187,{"$f":"VLOOKUP(A1685,'Analyse S'!A:D,4,FALSE)","v":11187}]
["650-392-041-0",317,{"$f":"VLOOKUP(A1686,'Analyse S'!A:D,4,FALSE)","v":317}]
["650-392-054-0",375,{"$f":"VLOOKUP(A1687,'Analyse S'!A:D,4,FALSE)","v":375}]
["650-392-055-0",633,{"$f":"VLOOKUP(A1688,'Analyse S'!A:D,4,FALSE)","v":633}]
["650-392-056-0",452,{"$f":"VLOOKUP(A1689,'Analyse S'!A:D,4,FALSE)","v":452}]
["650-392-063-0",572,{"$f":"VLOOKUP(A1690,'Analyse S'!A:D,4,FALSE)","v":572}]
["650-392-089-0",165,{"$f":"VLOOKUP(A1691,'Analyse S'!A:D,4,FALSE)","v":165}]
["650-392-101-0",319,{"$f":"VLOOKUP(A1692,'Analyse S'!A:D,4,FALSE)","v":319}]
["650-392-216-0",383,{"$f":"VLOOKUP(A1693,'Analyse S'!A:D,4,FALSE)","v":383}]
["650-392-249-0",679,{"$f":"VLOOKUP(A1694,'Analyse S'!A:D,4,FALSE)","v":679}]
["650-393-028-0",147,{"$f":"VLOOKUP(A1695,'Analyse S'!A:D,4,FALSE)","v":147}]
["650-393-057-0",29,{"$f":"VLOOKUP(A1696,'Analyse S'!A:D,4,FALSE)","v":29}]
["650-393-058-0",412,{"$f":"VLOOKUP(A1697,'Analyse S'!A:D,4,FALSE)","v":412}]
["650-393-061-0",629,{"$f":"VLOOKUP(A1698,'Analyse S'!A:D,4,FALSE)","v":629}]
["650-393-065-0",86,{"$f":"VLOOKUP(A1699,'Analyse S'!A:D,4,FALSE)","v":86}]
["650-393-071-0",1308,{"$f":"VLOOKUP(A1700,'Analyse S'!A:D,4,FALSE)","v":1308}]
["650-393-080-0",368,{"$f":"VLOOKUP(A1701,'Analyse S'!A:D,4,FALSE)","v":368}]
["650-393-081-0",142,{"$f":"VLOOKUP(A1702,'Analyse S'!A:D,4,FALSE)","v":142}]
["650-393-155-0",91,{"$f":"VLOOKUP(A1703,'Analyse S'!A:D,4,FALSE)","v":91}]
["650-393-171-0",99,{"$f":"VLOOKUP(A1704,'Analyse S'!A:D,4,FALSE)","v":99}]
["650-393-216-0",426,{"$f":"VLOOKUP(A1705,'Analyse S'!A:D,4,FALSE)","v":426}]
["650-393-236-0",116,{"$f":"VLOOKUP(A1706,'Analyse S'!A:D,4,FALSE)","v":116}]
["650-393-260-0",68,{"$f":"VLOOKUP(A1707,'Analyse S'!A:D,4,FALSE)","v":68}]
["650-393-268-0",202,{"$f":"VLOOKUP(A1708,'Analyse S'!A:D,4,FALSE)","v":202}]
["650-393-276-0",52,{"$f":"VLOOKUP(A1709,'Analyse S'!A:D,4,FALSE)","v":52}]
["650-393-329-0",72,{"$f":"VLOOKUP(A1710,'Analyse S'!A:D,4,FALSE)","v":72}]
["650-403-002-0",573,{"$f":"VLOOKUP(A1711,'Analyse S'!A:D,4,FALSE)","v":573}]
["650-403-003-0",71,{"$f":"VLOOKUP(A1712,'Analyse S'!A:D,4,FALSE)","v":71}]
["650-403-004-0",368,{"$f":"VLOOKUP(A1713,'Analyse S'!A:D,4,FALSE)","v":368}]
["650-403-005-0",101,{"$f":"VLOOKUP(A1714,'Analyse S'!A:D,4,FALSE)","v":101}]
["650-403-006-0",101,{"$f":"VLOOKUP(A1715,'Analyse S'!A:D,4,FALSE)","v":101}]
["650-403-007-0",112,{"$f":"VLOOKUP(A1716,'Analyse S'!A:D,4,FALSE)","v":112}]
["650-403-008-0",16,{"$f":"VLOOKUP(A1717,'Analyse S'!A:D,4,FALSE)","v":16}]
["650-403-022-0",296,{"$f":"VLOOKUP(A1718,'Analyse S'!A:D,4,FALSE)","v":296}]
["650-403-023-0",270,{"$f":"VLOOKUP(A1719,'Analyse S'!A:D,4,FALSE)","v":270}]
["650-403-024-0",171,{"$f":"VLOOKUP(A1720,'Analyse S'!A:D,4,FALSE)","v":171}]
["650-403-025-0",77,{"$f":"VLOOKUP(A1721,'Analyse S'!A:D,4,FALSE)","v":77}]
["650-403-026-0",204,{"$f":"VLOOKUP(A1722,'Analyse S'!A:D,4,FALSE)","v":204}]
["650-403-027-0",101,{"$f":"VLOOKUP(A1723,'Analyse S'!A:D,4,FALSE)","v":101}]
["650-403-028-0",83,{"$f":"VLOOKUP(A1724,'Analyse S'!A:D,4,FALSE)","v":83}]
["650-403-029-0",33,{"$f":"VLOOKUP(A1725,'Analyse S'!A:D,4,FALSE)","v":33}]
["650-403-030-0",105,{"$f":"VLOOKUP(A1726,'Analyse S'!A:D,4,FALSE)","v":105}]
["650-403-031-0",83,{"$f":"VLOOKUP(A1727,'Analyse S'!A:D,4,FALSE)","v":83}]
["650-403-042-0",492,{"$f":"VLOOKUP(A1728,'Analyse S'!A:D,4,FALSE)","v":492}]
["650-403-043-0",479,{"$f":"VLOOKUP(A1729,'Analyse S'!A:D,4,FALSE)","v":479}]
["650-403-044-0",117,{"$f":"VLOOKUP(A1730,'Analyse S'!A:D,4,FALSE)","v":117}]
["650-403-045-0",44,{"$f":"VLOOKUP(A1731,'Analyse S'!A:D,4,FALSE)","v":44}]
["650-403-046-0",75,{"$f":"VLOOKUP(A1732,'Analyse S'!A:D,4,FALSE)","v":75}]
["650-403-047-0",38,{"$f":"VLOOKUP(A1733,'Analyse S'!A:D,4,FALSE)","v":38}]
["650-403-048-0",91,{"$f":"VLOOKUP(A1734,'Analyse S'!A:D,4,FALSE)","v":91}]
["650-403-049-0",88,{"$f":"VLOOKUP(A1735,'Analyse S'!A:D,4,FALSE)","v":88}]
["650-403-050-0",42,{"$f":"VLOOKUP(A1736,'Analyse S'!A:D,4,FALSE)","v":42}]
["650-403-051-0",42,{"$f":"VLOOKUP(A1737,'Analyse S'!A:D,4,FALSE)","v":42}]
["650-403-062-0",203,{"$f":"VLOOKUP(A1738,'Analyse S'!A:D,4,FALSE)","v":203}]
["650-403-063-0",100,{"$f":"VLOOKUP(A1739,'Analyse S'!A:D,4,FALSE)","v":100}]
["650-403-064-0",181,{"$f":"VLOOKUP(A1740,'Analyse S'!A:D,4,FALSE)","v":181}]
["650-403-065-0",96,{"$f":"VLOOKUP(A1741,'Analyse S'!A:D,4,FALSE)","v":96}]
["650-403-066-0",129,{"$f":"VLOOKUP(A1742,'Analyse S'!A:D,4,FALSE)","v":129}]
["650-403-067-0",46,{"$f":"VLOOKUP(A1743,'Analyse S'!A:D,4,FALSE)","v":46}]
["650-403-068-0",69,{"$f":"VLOOKUP(A1744,'Analyse S'!A:D,4,FALSE)","v":69}]
["650-403-069-0",88,{"$f":"VLOOKUP(A1745,'Analyse S'!A:D,4,FALSE)","v":88}]
["650-403-070-0",58,{"$f":"VLOOKUP(A1746,'Analyse S'!A:D,4,FALSE)","v":58}]
["650-403-071-0",45,{"$f":"VLOOKUP(A1747,'Analyse S'!A:D,4,FALSE)","v":45}]
["650-404-051-0",165,{"$f":"VLOOKUP(A1748,'Analyse S'!A:D,4,FALSE)","v":165}]
["650-419-020-0",125,{"$f":"VLOOKUP(A1749,'Analyse S'!A:D,4,FALSE)","v":125}]
["650-461-002-0",359,{"$f":"VLOOKUP(A1750,'Analyse S'!A:D,4,FALSE)","v":359}]
["650-461-902-0",94,{"$f":"VLOOKUP(A1751,'Analyse S'!A:D,4,FALSE)","v":94}]
["650-462-501-0",59,{"$f":"VLOOKUP(A1752,'Analyse S'!A:D,4,FALSE)","v":59}]
["650-462-502-0",52,{"$f":"VLOOKUP(A1753,'Analyse S'!A:D,4,FALSE)","v":52}]
["650-462-503-0",36,{"$f":"VLOOKUP(A1754,'Analyse S'!A:D,4,FALSE)","v":36}]
["650-462-504-0",19,{"$f":"VLOOKUP(A1755,'Analyse S'!A:D,4,FALSE)","v":19}]
["650-462-505-0",79,{"$f":"VLOOKUP(A1756,'Analyse S'!A:D,4,FALSE)","v":79}]
["650-462-766-0",59,{"$f":"VLOOKUP(A1757,'Analyse S'!A:D,4,FALSE)","v":59}]
["650-462-781-0",25,{"$f":"VLOOKUP(A1758,'Analyse S'!A:D,4,FALSE)","v":25}]
["650-771-040-0",75,{"$f":"VLOOKUP(A1759,'Analyse S'!A:D,4,FALSE)","v":75}]
["650-772-022-0",750,{"$f":"VLOOKUP(A1760,'Analyse S'!A:D,4,FALSE)","v":750}]
["650-773-106-0",1216,{"$f":"VLOOKUP(A1761,'Analyse S'!A:D,4,FALSE)","v":1216}]
["650-773-107-0",325,{"$f":"VLOOKUP(A1762,'Analyse S'!A:D,4,FALSE)","v":325}]
["650-773-108-0",59,{"$f":"VLOOKUP(A1763,'Analyse S'!A:D,4,FALSE)","v":59}]
["650-773-112-0",49,{"$f":"VLOOKUP(A1764,'Analyse S'!A:D,4,FALSE)","v":49}]
["650-773-113-0",10,{"$f":"VLOOKUP(A1765,'Analyse S'!A:D,4,FALSE)","v":10}]
["650-773-121-0",4,{"$f":"VLOOKUP(A1766,'Analyse S'!A:D,4,FALSE)","v":4}]
["650-774-093-0",376,{"$f":"VLOOKUP(A1767,'Analyse S'!A:D,4,FALSE)","v":376}]
["650-774-096-0",332,{"$f":"VLOOKUP(A1768,'Analyse S'!A:D,4,FALSE)","v":332}]
["650-774-099-0",37,{"$f":"VLOOKUP(A1769,'Analyse S'!A:D,4,FALSE)","v":37}]
["650-774-111-0",152,{"$f":"VLOOKUP(A1770,'Analyse S'!A:D,4,FALSE)","v":152}]
["650-777-154-0",500,{"$f":"VLOOKUP(A1771,'Analyse S'!A:D,4,FALSE)","v":500}]
["650-777-162-0",484,{"$f":"VLOOKUP(A1772,'Analyse S'!A:D,4,FALSE)","v":484}]
["650-777-166-0",94,{"$f":"VLOOKUP(A1773,'Analyse S'!A:D,4,FALSE)","v":94}]
["650-779-047-0",212,{"$f":"VLOOKUP(A1774,'Analyse S'!A:D,4,FALSE)","v":212}]
["650-779-050-0",142,{"$f":"VLOOKUP(A1775,'Analyse S'!A:D,4,FALSE)","v":142}]
["650-779-051-0",287,{"$f":"VLOOKUP(A1776,'Analyse S'!A:D,4,FALSE)","v":287}]
["650-779-053-0",7,{"$f":"VLOOKUP(A1777,'Analyse S'!A:D,4,FALSE)","v":7}]
["650-779-054-0",60,{"$f":"VLOOKUP(A1778,'Analyse S'!A:D,4,FALSE)","v":60}]
["650-779-062-0",964,{"$f":"VLOOKUP(A1779,'Analyse S'!A:D,4,FALSE)","v":964}]
["650-779-063-0",2276,{"$f":"VLOOKUP(A1780,'Analyse S'!A:D,4,FALSE)","v":2276}]
["650-779-064-0",8765,{"$f":"VLOOKUP(A1781,'Analyse S'!A:D,4,FALSE)","v":8765}]
["650-781-079-0",513,{"$f":"VLOOKUP(A1782,'Analyse S'!A:D,4,FALSE)","v":513}]
["650-781-080-0",100,{"$f":"VLOOKUP(A1783,'Analyse S'!A:D,4,FALSE)","v":100}]
["650-781-085-0",100,{"$f":"VLOOKUP(A1784,'Analyse S'!A:D,4,FALSE)","v":100}]
["650-781-088-0",3,{"$f":"VLOOKUP(A1785,'Analyse S'!A:D,4,FALSE)","v":3}]
["650-781-101-0",96,{"$f":"VLOOKUP(A1786,'Analyse S'!A:D,4,FALSE)","v":96}]
["650-781-105-0",54,{"$f":"VLOOKUP(A1787,'Analyse S'!A:D,4,FALSE)","v":54}]
["650-781-108-0",362,{"$f":"VLOOKUP(A1788,'Analyse S'!A:D,4,FALSE)","v":362}]
["650-783-049-0",793,{"$f":"VLOOKUP(A1789,'Analyse S'!A:D,4,FALSE)","v":793}]
["650-783-058-0",76,{"$f":"VLOOKUP(A1790,'Analyse S'!A:D,4,FALSE)","v":76}]
["650-783-065-0",57,{"$f":"VLOOKUP(A1791,'Analyse S'!A:D,4,FALSE)","v":57}]
["650-783-066-0",66,{"$f":"VLOOKUP(A1792,'Analyse S'!A:D,4,FALSE)","v":66}]
["650-784-044-0",2709,{"$f":"VLOOKUP(A1793,'Analyse S'!A:D,4,FALSE)","v":2709}]
["650-784-070-0",915,{"$f":"VLOOKUP(A1794,'Analyse S'!A:D,4,FALSE)","v":915}]
["650-784-077-0",58,{"$f":"VLOOKUP(A1795,'Analyse S'!A:D,4,FALSE)","v":58}]
["650-785-003-0",7,{"$f":"VLOOKUP(A1796,'Analyse S'!A:D,4,FALSE)","v":7}]
["650-785-223-0",7,{"$f":"VLOOKUP(A1797,'Analyse S'!A:D,4,FALSE)","v":7}]
["650-786-021-0",569,{"$f":"VLOOKUP(A1798,'Analyse S'!A:D,4,FALSE)","v":569}]
["650-786-077-0",38,{"$f":"VLOOKUP(A1799,'Analyse S'!A:D,4,FALSE)","v":38}]
["650-786-138-0",78,{"$f":"VLOOKUP(A1800,'Analyse S'!A:D,4,FALSE)","v":78}]
["650-786-139-0",49,{"$f":"VLOOKUP(A1801,'Analyse S'!A:D,4,FALSE)","v":49}]
["650-786-141-0",48,{"$f":"VLOOKUP(A1802,'Analyse S'!A:D,4,FALSE)","v":48}]
["650-786-166-0",95,{"$f":"VLOOKUP(A1803,'Analyse S'!A:D,4,FALSE)","v":95}]
["650-788-131-0",70,{"$f":"VLOOKUP(A1804,'Analyse S'!A:D,4,FALSE)","v":70}]
["650-788-275-0",53,{"$f":"VLOOKUP(A1805,'Analyse S'!A:D,4,FALSE)","v":53}]
["650-788-276-0",54,{"$f":"VLOOKUP(A1806,'Analyse S'!A:D,4,FALSE)","v":54}]
["650-788-583-0",410,{"$f":"VLOOKUP(A1807,'Analyse S'!A:D,4,FALSE)","v":410}]
["650-788-584-0",26,{"$f":"VLOOKUP(A1808,'Analyse S'!A:D,4,FALSE)","v":26}]
["650-788-585-0",9,{"$f":"VLOOKUP(A1809,'Analyse S'!A:D,4,FALSE)","v":9}]
["650-788-586-0",483,{"$f":"VLOOKUP(A1810,'Analyse S'!A:D,4,FALSE)","v":483}]
["650-788-587-0",11,{"$f":"VLOOKUP(A1811,'Analyse S'!A:D,4,FALSE)","v":11}]
["650-791-093-0",19,{"$f":"VLOOKUP(A1812,'Analyse S'!A:D,4,FALSE)","v":19}]
["650-794-103-0",123,{"$f":"VLOOKUP(A1813,'Analyse S'!A:D,4,FALSE)","v":123}]
["650-794-106-0",113,{"$f":"VLOOKUP(A1814,'Analyse S'!A:D,4,FALSE)","v":113}]
["650-804-003-0",242,{"$f":"VLOOKUP(A1815,'Analyse S'!A:D,4,FALSE)","v":242}]
["650-805-023-0",111,{"$f":"VLOOKUP(A1816,'Analyse S'!A:D,4,FALSE)","v":111}]
["650-805-028-0",1644,{"$f":"VLOOKUP(A1817,'Analyse S'!A:D,4,FALSE)","v":1644}]
["650-805-029-0",1586,{"$f":"VLOOKUP(A1818,'Analyse S'!A:D,4,FALSE)","v":1586}]
["650-819-003-0",67,{"$f":"VLOOKUP(A1819,'Analyse S'!A:D,4,FALSE)","v":67}]
["650-819-004-0",9,{"$f":"VLOOKUP(A1820,'Analyse S'!A:D,4,FALSE)","v":9}]
["650-819-016-0",51,{"$f":"VLOOKUP(A1821,'Analyse S'!A:D,4,FALSE)","v":51}]
["650-819-017-0",96,{"$f":"VLOOKUP(A1822,'Analyse S'!A:D,4,FALSE)","v":96}]
["650-819-018-0",34,{"$f":"VLOOKUP(A1823,'Analyse S'!A:D,4,FALSE)","v":34}]
["650-972-010-0",914,{"$f":"VLOOKUP(A1824,'Analyse S'!A:D,4,FALSE)","v":914}]
["650-972-011-0",824,{"$f":"VLOOKUP(A1825,'Analyse S'!A:D,4,FALSE)","v":824}]
["650-972-012-0",885,{"$f":"VLOOKUP(A1826,'Analyse S'!A:D,4,FALSE)","v":885}]
["650-972-015-0",18,{"$f":"VLOOKUP(A1827,'Analyse S'!A:D,4,FALSE)","v":18}]
["650-972-020-0",685,{"$f":"VLOOKUP(A1828,'Analyse S'!A:D,4,FALSE)","v":685}]
["650-972-030-0",203,{"$f":"VLOOKUP(A1829,'Analyse S'!A:D,4,FALSE)","v":203}]
["650-972-045-0",423,{"$f":"VLOOKUP(A1830,'Analyse S'!A:D,4,FALSE)","v":423}]
["650-972-505-0",832,{"$f":"VLOOKUP(A1831,'Analyse S'!A:D,4,FALSE)","v":832}]
["650-972-506-0",1484,{"$f":"VLOOKUP(A1832,'Analyse S'!A:D,4,FALSE)","v":1484}]
["650-975-010-0",512,{"$f":"VLOOKUP(A1833,'Analyse S'!A:D,4,FALSE)","v":512}]
["650-975-015-0",66,{"$f":"VLOOKUP(A1834,'Analyse S'!A:D,4,FALSE)","v":66}]
["650-975-018-0",281,{"$f":"VLOOKUP(A1835,'Analyse S'!A:D,4,FALSE)","v":281}]
["650-975-019-0",331,{"$f":"VLOOKUP(A1836,'Analyse S'!A:D,4,FALSE)","v":331}]
["650-975-020-0",356,{"$f":"VLOOKUP(A1837,'Analyse S'!A:D,4,FALSE)","v":356}]
["650-975-021-0",458,{"$f":"VLOOKUP(A1838,'Analyse S'!A:D,4,FALSE)","v":458}]
["650-975-022-0",284,{"$f":"VLOOKUP(A1839,'Analyse S'!A:D,4,FALSE)","v":284}]
["650-975-024-0",720,{"$f":"VLOOKUP(A1840,'Analyse S'!A:D,4,FALSE)","v":720}]
["650-975-038-0",207,{"$f":"VLOOKUP(A1841,'Analyse S'!A:D,4,FALSE)","v":207}]
["650-976-012-0",1752,{"$f":"VLOOKUP(A1842,'Analyse S'!A:D,4,FALSE)","v":1752}]
["650-976-014-0",282,{"$f":"VLOOKUP(A1843,'Analyse S'!A:D,4,FALSE)","v":282}]
["650-976-019-0",754,{"$f":"VLOOKUP(A1844,'Analyse S'!A:D,4,FALSE)","v":754}]
["650-976-020-0",185,{"$f":"VLOOKUP(A1845,'Analyse S'!A:D,4,FALSE)","v":185}]
["650-976-021-0",649,{"$f":"VLOOKUP(A1846,'Analyse S'!A:D,4,FALSE)","v":649}]
["650-976-022-0",789,{"$f":"VLOOKUP(A1847,'Analyse S'!A:D,4,FALSE)","v":789}]
["650-976-023-0",387,{"$f":"VLOOKUP(A1848,'Analyse S'!A:D,4,FALSE)","v":387}]
["650-976-024-0",265,{"$f":"VLOOKUP(A1849,'Analyse S'!A:D,4,FALSE)","v":265}]
["650-976-038-0",282,{"$f":"VLOOKUP(A1850,'Analyse S'!A:D,4,FALSE)","v":282}]
["650-977-201-0",409,{"$f":"VLOOKUP(A1851,'Analyse S'!A:D,4,FALSE)","v":409}]
["650-977-202-0",239,{"$f":"VLOOKUP(A1852,'Analyse S'!A:D,4,FALSE)","v":239}]
["650-977-203-0",292,{"$f":"VLOOKUP(A1853,'Analyse S'!A:D,4,FALSE)","v":292}]
["650-977-205-0",389,{"$f":"VLOOKUP(A1854,'Analyse S'!A:D,4,FALSE)","v":389}]
["650-977-206-0",454,{"$f":"VLOOKUP(A1855,'Analyse S'!A:D,4,FALSE)","v":454}]
["650-977-208-0",445,{"$f":"VLOOKUP(A1856,'Analyse S'!A:D,4,FALSE)","v":445}]
["650-977-222-0",2846,{"$f":"VLOOKUP(A1857,'Analyse S'!A:D,4,FALSE)","v":2846}]
["650-977-223-0",263,{"$f":"VLOOKUP(A1858,'Analyse S'!A:D,4,FALSE)","v":263}]
["650-977-226-0",522,{"$f":"VLOOKUP(A1859,'Analyse S'!A:D,4,FALSE)","v":522}]
["650-977-227-0",375,{"$f":"VLOOKUP(A1860,'Analyse S'!A:D,4,FALSE)","v":375}]
["650-993-052-0",17,{"$f":"VLOOKUP(A1861,'Analyse S'!A:D,4,FALSE)","v":17}]
["650-993-102-0",16,{"$f":"VLOOKUP(A1862,'Analyse S'!A:D,4,FALSE)","v":16}]
["650-993-103-0",9,{"$f":"VLOOKUP(A1863,'Analyse S'!A:D,4,FALSE)","v":9}]
["650-993-104-0",19,{"$f":"VLOOKUP(A1864,'Analyse S'!A:D,4,FALSE)","v":19}]
["650-993-106-0",10,{"$f":"VLOOKUP(A1865,'Analyse S'!A:D,4,FALSE)","v":10}]
["650-993-151-0",47,{"$f":"VLOOKUP(A1866,'Analyse S'!A:D,4,FALSE)","v":47}]
["66241-08A",18,{"$f":"VLOOKUP(A1867,'Analyse S'!A:D,4,FALSE)","v":18}]
["66241-10A",3,{"$f":"VLOOKUP(A1868,'Analyse S'!A:D,4,FALSE)","v":3}]
["66241-12A",12,{"$f":"VLOOKUP(A1869,'Analyse S'!A:D,4,FALSE)","v":12}]
["66241-14A",4,{"$f":"VLOOKUP(A1870,'Analyse S'!A:D,4,FALSE)","v":4}]
["66241-16A",9,{"$f":"VLOOKUP(A1871,'Analyse S'!A:D,4,FALSE)","v":9}]
["66241-18A",7,{"$f":"VLOOKUP(A1872,'Analyse S'!A:D,4,FALSE)","v":7}]
["66241-20A",7,{"$f":"VLOOKUP(A1873,'Analyse S'!A:D,4,FALSE)","v":7}]
["6801-100",27,{"$f":"VLOOKUP(A1874,'Analyse S'!A:D,4,FALSE)","v":27}]
["689-502-273-0",1434,{"$f":"VLOOKUP(A1875,'Analyse S'!A:D,4,FALSE)","v":1434}]
["689-502-321-0",46,{"$f":"VLOOKUP(A1876,'Analyse S'!A:D,4,FALSE)","v":46}]
["689-503-250-0",249,{"$f":"VLOOKUP(A1877,'Analyse S'!A:D,4,FALSE)","v":249}]
["689-700-001-0",112,{"$f":"VLOOKUP(A1878,'Analyse S'!A:D,4,FALSE)","v":112}]
["689-980-029-0",25,{"$f":"VLOOKUP(A1879,'Analyse S'!A:D,4,FALSE)","v":25}]
["690A16-3",37,{"$f":"VLOOKUP(A1880,'Analyse S'!A:D,4,FALSE)","v":37}]
["70206",161,{"$f":"VLOOKUP(A1881,'Analyse S'!A:D,4,FALSE)","v":161}]
["70515",1,{"$f":"VLOOKUP(A1882,'Analyse S'!A:D,4,FALSE)","v":1}]
["70-841651-1",30,{"$f":"VLOOKUP(A1883,'Analyse S'!A:D,4,FALSE)","v":30}]
["7440905",63,{"$f":"VLOOKUP(A1884,'Analyse S'!A:D,4,FALSE)","v":63}]
["79-841651",13,{"$f":"VLOOKUP(A1885,'Analyse S'!A:D,4,FALSE)","v":13}]
["80246-1",98,{"$f":"VLOOKUP(A1886,'Analyse S'!A:D,4,FALSE)","v":98}]
["81-841651",11,{"$f":"VLOOKUP(A1887,'Analyse S'!A:D,4,FALSE)","v":11}]
["82-841651",13,{"$f":"VLOOKUP(A1888,'Analyse S'!A:D,4,FALSE)","v":13}]
["8500-5597",100,{"$f":"VLOOKUP(A1889,'Analyse S'!A:D,4,FALSE)","v":100}]
["851-36RA20-41S50",2,{"$f":"VLOOKUP(A1890,'Analyse S'!A:D,4,FALSE)","v":2}]
["8533-2Y12-03PN",66,{"$f":"VLOOKUP(A1891,'Analyse S'!A:D,4,FALSE)","v":66}]
["8533-4WS-18-31SN",2,{"$f":"VLOOKUP(A1892,'Analyse S'!A:D,4,FALSE)","v":2}]
["8533-4WS-20-39SN",1,{"$f":"VLOOKUP(A1893,'Analyse S'!A:D,4,FALSE)","v":1}]
["8533-4WS-20-41S6",2,{"$f":"VLOOKUP(A1894,'Analyse S'!A:D,4,FALSE)","v":2}]
["888-390-500-1",2,{"$f":"VLOOKUP(A1895,'Analyse S'!A:D,4,FALSE)","v":2}]
["889-404-653-0",1027,{"$f":"VLOOKUP(A1896,'Analyse S'!A:D,4,FALSE)","v":1027}]
["9201-107-0",6,{"$f":"VLOOKUP(A1897,'Analyse S'!A:D,4,FALSE)","v":6}]
["960342",1,{"$f":"VLOOKUP(A1898,'Analyse S'!A:D,4,FALSE)","v":1}]
["97500-2931",60,{"$f":"VLOOKUP(A1899,'Analyse S'!A:D,4,FALSE)","v":60}]
["97500-2944",60,{"$f":"VLOOKUP(A1900,'Analyse S'!A:D,4,FALSE)","v":60}]
["9794410112",20,{"$f":"VLOOKUP(A1901,'Analyse S'!A:D,4,FALSE)","v":20}]
["983-0S-08-03P6",4,{"$f":"VLOOKUP(A1902,'Analyse S'!A:D,4,FALSE)","v":4}]
["983-0S-08-03PN",4,{"$f":"VLOOKUP(A1903,'Analyse S'!A:D,4,FALSE)","v":4}]
["983-0S-10-06PN",4,{"$f":"VLOOKUP(A1904,'Analyse S'!A:D,4,FALSE)","v":4}]
["983-0S-12-03PN",3,{"$f":"VLOOKUP(A1905,'Analyse S'!A:D,4,FALSE)","v":3}]
["983-0WS-08-03PN",5,{"$f":"VLOOKUP(A1906,'Analyse S'!A:D,4,FALSE)","v":5}]
["983-0WS-12-03PN",5,{"$f":"VLOOKUP(A1907,'Analyse S'!A:D,4,FALSE)","v":5}]
["983-0WS-12-12PN",9,{"$f":"VLOOKUP(A1908,'Analyse S'!A:D,4,FALSE)","v":9}]
["983-0WS-14-15PN",4,{"$f":"VLOOKUP(A1909,'Analyse S'!A:D,4,FALSE)","v":4}]
["983-0WS-16-24PN",4,{"$f":"VLOOKUP(A1910,'Analyse S'!A:D,4,FALSE)","v":4}]
["983-0WS-18-31P6",4,{"$f":"VLOOKUP(A1911,'Analyse S'!A:D,4,FALSE)","v":4}]
["983-0WS-18-31PN",3,{"$f":"VLOOKUP(A1912,'Analyse S'!A:D,4,FALSE)","v":3}]
["983-0WS-20-41P6",4,{"$f":"VLOOKUP(A1913,'Analyse S'!A:D,4,FALSE)","v":4}]
["983-0WS-20-41PN",3,{"$f":"VLOOKUP(A1914,'Analyse S'!A:D,4,FALSE)","v":3}]
["983-3KE-C08",20,{"$f":"VLOOKUP(A1915,'Analyse S'!A:D,4,FALSE)","v":20}]
["983-3KE-C10",9,{"$f":"VLOOKUP(A1916,'Analyse S'!A:D,4,FALSE)","v":9}]
["983-3KE-C12",10,{"$f":"VLOOKUP(A1917,'Analyse S'!A:D,4,FALSE)","v":10}]
["983-3W-C08",3,{"$f":"VLOOKUP(A1918,'Analyse S'!A:D,4,FALSE)","v":3}]
["983-3W-C12",13,{"$f":"VLOOKUP(A1919,'Analyse S'!A:D,4,FALSE)","v":13}]
["983-3W-C14",9,{"$f":"VLOOKUP(A1920,'Analyse S'!A:D,4,FALSE)","v":9}]
["983-3W-C16",9,{"$f":"VLOOKUP(A1921,'Analyse S'!A:D,4,FALSE)","v":9}]
["983-3W-C18",7,{"$f":"VLOOKUP(A1922,'Analyse S'!A:D,4,FALSE)","v":7}]
["983-3W-C20",7,{"$f":"VLOOKUP(A1923,'Analyse S'!A:D,4,FALSE)","v":7}]
["983-4W-C10",9,{"$f":"VLOOKUP(A1924,'Analyse S'!A:D,4,FALSE)","v":9}]
["983-6WS-10-06SN",4,{"$f":"VLOOKUP(A1925,'Analyse S'!A:D,4,FALSE)","v":4}]
["A25400028-207",2,{"$f":"VLOOKUP(A1926,'Analyse S'!A:D,4,FALSE)","v":2}]
["A25400028-207A",2,{"$f":"VLOOKUP(A1927,'Analyse S'!A:D,4,FALSE)","v":2}]
["A46447-83",66,{"$f":"VLOOKUP(A1928,'Analyse S'!A:D,4,FALSE)","v":66}]
["A46702",444,{"$f":"VLOOKUP(A1929,'Analyse S'!A:D,4,FALSE)","v":444}]
["A46797",868,{"$f":"VLOOKUP(A1930,'Analyse S'!A:D,4,FALSE)","v":868}]
["A47400-3041",53,{"$f":"VLOOKUP(A1931,'Analyse S'!A:D,4,FALSE)","v":53}]
["A47646",37,{"$f":"VLOOKUP(A1932,'Analyse S'!A:D,4,FALSE)","v":37}]
["A73948",91,{"$f":"VLOOKUP(A1933,'Analyse S'!A:D,4,FALSE)","v":91}]
["A80246-1",197,{"$f":"VLOOKUP(A1934,'Analyse S'!A:D,4,FALSE)","v":197}]
["A80324-13",51,{"$f":"VLOOKUP(A1935,'Analyse S'!A:D,4,FALSE)","v":51}]
["A80904-1",15,{"$f":"VLOOKUP(A1936,'Analyse S'!A:D,4,FALSE)","v":15}]
["A80905-2",45,{"$f":"VLOOKUP(A1937,'Analyse S'!A:D,4,FALSE)","v":45}]
["A80907",49,{"$f":"VLOOKUP(A1938,'Analyse S'!A:D,4,FALSE)","v":49}]
["A80910-9",41,{"$f":"VLOOKUP(A1939,'Analyse S'!A:D,4,FALSE)","v":41}]
["A80912-1",61,{"$f":"VLOOKUP(A1940,'Analyse S'!A:D,4,FALSE)","v":61}]
["A80929-2",29,{"$f":"VLOOKUP(A1941,'Analyse S'!A:D,4,FALSE)","v":29}]
["A81278",25,{"$f":"VLOOKUP(A1942,'Analyse S'!A:D,4,FALSE)","v":25}]
["A81279-2",25,{"$f":"VLOOKUP(A1943,'Analyse S'!A:D,4,FALSE)","v":25}]
["A87565-2",99,{"$f":"VLOOKUP(A1944,'Analyse S'!A:D,4,FALSE)","v":99}]
["A87870",18,{"$f":"VLOOKUP(A1945,'Analyse S'!A:D,4,FALSE)","v":18}]
["A88132",36,{"$f":"VLOOKUP(A1946,'Analyse S'!A:D,4,FALSE)","v":36}]
["A88819",17,{"$f":"VLOOKUP(A1947,'Analyse S'!A:D,4,FALSE)","v":17}]
["A88820",25,{"$f":"VLOOKUP(A1948,'Analyse S'!A:D,4,FALSE)","v":25}]
["A88821",74,{"$f":"VLOOKUP(A1949,'Analyse S'!A:D,4,FALSE)","v":74}]
["A88823",15,{"$f":"VLOOKUP(A1950,'Analyse S'!A:D,4,FALSE)","v":15}]
["A88825",17,{"$f":"VLOOKUP(A1951,'Analyse S'!A:D,4,FALSE)","v":17}]
["A88826-1",37,{"$f":"VLOOKUP(A1952,'Analyse S'!A:D,4,FALSE)","v":37}]
["AA00164A",1472,{"$f":"VLOOKUP(A1953,'Analyse S'!A:D,4,FALSE)","v":1472}]
["AE43697BAA",394,{"$f":"VLOOKUP(A1954,'Analyse S'!A:D,4,FALSE)","v":394}]
["AE43698CAA",151,{"$f":"VLOOKUP(A1955,'Analyse S'!A:D,4,FALSE)","v":151}]
["AGF0507BLANC",824,{"$f":"VLOOKUP(A1956,'Analyse S'!A:D,4,FALSE)","v":824}]
["AGF0507BLS",735,{"$f":"VLOOKUP(A1957,'Analyse S'!A:D,4,FALSE)","v":735}]
["AIG2,5X9,8BR/G2-0-2",1000,{"$f":"VLOOKUP(A1958,'Analyse S'!A:D,4,FALSE)","v":1000}]
["AIG2X11,8BR/G2-0-2",1160,{"$f":"VLOOKUP(A1959,'Analyse S'!A:D,4,FALSE)","v":1160}]
["ATUM19/6-0",6,{"$f":"VLOOKUP(A1960,'Analyse S'!A:D,4,FALSE)","v":6}]
["AX50531",17,{"$f":"VLOOKUP(A1961,'Analyse S'!A:D,4,FALSE)","v":17}]
["BPZHA10004T01",166,{"$f":"VLOOKUP(A1962,'Analyse S'!A:D,4,FALSE)","v":166}]
["BSA6DF801A",46,{"$f":"VLOOKUP(A1963,'Analyse S'!A:D,4,FALSE)","v":46}]
["BT110-1",172,{"$f":"VLOOKUP(A1964,'Analyse S'!A:D,4,FALSE)","v":172}]
["BT90-1",184,{"$f":"VLOOKUP(A1965,'Analyse S'!A:D,4,FALSE)","v":184}]
["C58450-21",372,{"$f":"VLOOKUP(A1966,'Analyse S'!A:D,4,FALSE)","v":372}]
["C70968",56,{"$f":"VLOOKUP(A1967,'Analyse S'!A:D,4,FALSE)","v":56}]
["C70969",65,{"$f":"VLOOKUP(A1968,'Analyse S'!A:D,4,FALSE)","v":65}]
["C70970",17,{"$f":"VLOOKUP(A1969,'Analyse S'!A:D,4,FALSE)","v":17}]
["C71668",40,{"$f":"VLOOKUP(A1970,'Analyse S'!A:D,4,FALSE)","v":40}]
["C71684",35,{"$f":"VLOOKUP(A1971,'Analyse S'!A:D,4,FALSE)","v":35}]
["C71685",23,{"$f":"VLOOKUP(A1972,'Analyse S'!A:D,4,FALSE)","v":23}]
["C71686",16,{"$f":"VLOOKUP(A1973,'Analyse S'!A:D,4,FALSE)","v":16}]
["C71688",17,{"$f":"VLOOKUP(A1974,'Analyse S'!A:D,4,FALSE)","v":17}]
["C71695",7,{"$f":"VLOOKUP(A1975,'Analyse S'!A:D,4,FALSE)","v":7}]
["CA00149A",3,{"$f":"VLOOKUP(A1976,'Analyse S'!A:D,4,FALSE)","v":3}]
["CSNFB30/3-05RH3BA3040",9,{"$f":"VLOOKUP(A1977,'Analyse S'!A:D,4,FALSE)","v":9}]
["D142-51",336,{"$f":"VLOOKUP(A1978,'Analyse S'!A:D,4,FALSE)","v":336}]
["D142-52",85,{"$f":"VLOOKUP(A1979,'Analyse S'!A:D,4,FALSE)","v":85}]
["D-436-37",89,{"$f":"VLOOKUP(A1980,'Analyse S'!A:D,4,FALSE)","v":89}]
["D-436-38",9,{"$f":"VLOOKUP(A1981,'Analyse S'!A:D,4,FALSE)","v":9}]
["D92503-4",135,{"$f":"VLOOKUP(A1982,'Analyse S'!A:D,4,FALSE)","v":135}]
["DR-25-1/2-0-CS34034",14,{"$f":"VLOOKUP(A1983,'Analyse S'!A:D,4,FALSE)","v":14}]
["DR-25-1/4-0-CS34034",50,{"$f":"VLOOKUP(A1984,'Analyse S'!A:D,4,FALSE)","v":50}]
["DR-25-3/4-0-CS34034",1,{"$f":"VLOOKUP(A1985,'Analyse S'!A:D,4,FALSE)","v":1}]
["DR-25-3/8-0-CS115105",1,{"$f":"VLOOKUP(A1986,'Analyse S'!A:D,4,FALSE)","v":1}]
["DR-25-3/8-0-CS34034",5,{"$f":"VLOOKUP(A1987,'Analyse S'!A:D,4,FALSE)","v":5}]
["E27489E20-6HVT",496,{"$f":"VLOOKUP(A1988,'Analyse S'!A:D,4,FALSE)","v":496}]
["E27499-16-3HFT",753,{"$f":"VLOOKUP(A1989,'Analyse S'!A:D,4,FALSE)","v":753}]
["E27499-17-3FUT",400,{"$f":"VLOOKUP(A1990,'Analyse S'!A:D,4,FALSE)","v":400}]
["E27499-17-3HFT",4113,{"$f":"VLOOKUP(A1991,'Analyse S'!A:D,4,FALSE)","v":4113}]
["E27499-20-4HFTZ",664,{"$f":"VLOOKUP(A1992,'Analyse S'!A:D,4,FALSE)","v":664}]
["E27499-20-5HFTZ",534,{"$f":"VLOOKUP(A1993,'Analyse S'!A:D,4,FALSE)","v":534}]
["EM12SP21-A",88,{"$f":"VLOOKUP(A1994,'Analyse S'!A:D,4,FALSE)","v":88}]
["EN2907-050",994,{"$f":"VLOOKUP(A1995,'Analyse S'!A:D,4,FALSE)","v":994}]
["EN2929-060014",122,{"$f":"VLOOKUP(A1996,'Analyse S'!A:D,4,FALSE)","v":122}]
["EN2929-070024",658,{"$f":"VLOOKUP(A1997,'Analyse S'!A:D,4,FALSE)","v":658}]
["EN2939-030006",366,{"$f":"VLOOKUP(A1998,'Analyse S'!A:D,4,FALSE)","v":366}]
["EN2939-030008",103,{"$f":"VLOOKUP(A1999,'Analyse S'!A:D,4,FALSE)","v":103}]
["EN2939-040006",182,{"$f":"VLOOKUP(A2000,'Analyse S'!A:D,4,FALSE)","v":182}]
["EN2939-040008",91,{"$f":"VLOOKUP(A2001,'Analyse S'!A:D,4,FALSE)","v":91}]
["EN2939-040010",454,{"$f":"VLOOKUP(A2002,'Analyse S'!A:D,4,FALSE)","v":454}]
["EN2939-050014",123,{"$f":"VLOOKUP(A2003,'Analyse S'!A:D,4,FALSE)","v":123}]
["EN2940-030008",546,{"$f":"VLOOKUP(A2004,'Analyse S'!A:D,4,FALSE)","v":546}]
["EN2940-030012",624,{"$f":"VLOOKUP(A2005,'Analyse S'!A:D,4,FALSE)","v":624}]
["EN2940-040016",142,{"$f":"VLOOKUP(A2006,'Analyse S'!A:D,4,FALSE)","v":142}]
["EN2942-060090",100,{"$f":"VLOOKUP(A2007,'Analyse S'!A:D,4,FALSE)","v":100}]
["EN2997K60803B6",10,{"$f":"VLOOKUP(A2008,'Analyse S'!A:D,4,FALSE)","v":10}]
["EN2997K60803BN",32,{"$f":"VLOOKUP(A2009,'Analyse S'!A:D,4,FALSE)","v":32}]
["EN2997K61006BN",9,{"$f":"VLOOKUP(A2010,'Analyse S'!A:D,4,FALSE)","v":9}]
["EN2997K61203BN",10,{"$f":"VLOOKUP(A2011,'Analyse S'!A:D,4,FALSE)","v":10}]
["EN2997S60803BN",10,{"$f":"VLOOKUP(A2012,'Analyse S'!A:D,4,FALSE)","v":10}]
["EN2997W60803BN",8,{"$f":"VLOOKUP(A2013,'Analyse S'!A:D,4,FALSE)","v":8}]
["EN2997W61203BN",10,{"$f":"VLOOKUP(A2014,'Analyse S'!A:D,4,FALSE)","v":10}]
["EN2997W61212BN",13,{"$f":"VLOOKUP(A2015,'Analyse S'!A:D,4,FALSE)","v":13}]
["EN2997W61415BN",55,{"$f":"VLOOKUP(A2016,'Analyse S'!A:D,4,FALSE)","v":55}]
["EN2997W61624BN",10,{"$f":"VLOOKUP(A2017,'Analyse S'!A:D,4,FALSE)","v":10}]
["EN2997W61831B6",10,{"$f":"VLOOKUP(A2018,'Analyse S'!A:D,4,FALSE)","v":10}]
["EN2997W61831BN",10,{"$f":"VLOOKUP(A2019,'Analyse S'!A:D,4,FALSE)","v":10}]
["EN2997W62041B6",14,{"$f":"VLOOKUP(A2020,'Analyse S'!A:D,4,FALSE)","v":14}]
["EN2997W62041BN",14,{"$f":"VLOOKUP(A2021,'Analyse S'!A:D,4,FALSE)","v":14}]
["EN2997WS01006AN",20,{"$f":"VLOOKUP(A2022,'Analyse S'!A:D,4,FALSE)","v":20}]
["EN2997WS01415MN",5,{"$f":"VLOOKUP(A2023,'Analyse S'!A:D,4,FALSE)","v":5}]
["EN3049A0025",513,{"$f":"VLOOKUP(A2024,'Analyse S'!A:D,4,FALSE)","v":513}]
["EN3049A0031",360,{"$f":"VLOOKUP(A2025,'Analyse S'!A:D,4,FALSE)","v":360}]
["EN3049A0035",309,{"$f":"VLOOKUP(A2026,'Analyse S'!A:D,4,FALSE)","v":309}]
["EN3049A0040",803,{"$f":"VLOOKUP(A2027,'Analyse S'!A:D,4,FALSE)","v":803}]
["EN3049A0045",1966,{"$f":"VLOOKUP(A2028,'Analyse S'!A:D,4,FALSE)","v":1966}]
["EN3049A0050",937,{"$f":"VLOOKUP(A2029,'Analyse S'!A:D,4,FALSE)","v":937}]
["EN3049A0053",184,{"$f":"VLOOKUP(A2030,'Analyse S'!A:D,4,FALSE)","v":184}]
["EN3049A0056",193,{"$f":"VLOOKUP(A2031,'Analyse S'!A:D,4,FALSE)","v":193}]
["EN3049A0060",234,{"$f":"VLOOKUP(A2032,'Analyse S'!A:D,4,FALSE)","v":234}]
["EN3049A0063",1215,{"$f":"VLOOKUP(A2033,'Analyse S'!A:D,4,FALSE)","v":1215}]
["EN3049A0067",464,{"$f":"VLOOKUP(A2034,'Analyse S'!A:D,4,FALSE)","v":464}]
["EN3049A0071",355,{"$f":"VLOOKUP(A2035,'Analyse S'!A:D,4,FALSE)","v":355}]
["EN3049A0075",157,{"$f":"VLOOKUP(A2036,'Analyse S'!A:D,4,FALSE)","v":157}]
["EN3049A0080",488,{"$f":"VLOOKUP(A2037,'Analyse S'!A:D,4,FALSE)","v":488}]
["EN3049A0085",198,{"$f":"VLOOKUP(A2038,'Analyse S'!A:D,4,FALSE)","v":198}]
["EN3049A0087",809,{"$f":"VLOOKUP(A2039,'Analyse S'!A:D,4,FALSE)","v":809}]
["EN3049A0090",656,{"$f":"VLOOKUP(A2040,'Analyse S'!A:D,4,FALSE)","v":656}]
["EN3049A0095",1452,{"$f":"VLOOKUP(A2041,'Analyse S'!A:D,4,FALSE)","v":1452}]
["EN3049A0106",212,{"$f":"VLOOKUP(A2042,'Analyse S'!A:D,4,FALSE)","v":212}]
["EN3049A0112",876,{"$f":"VLOOKUP(A2043,'Analyse S'!A:D,4,FALSE)","v":876}]
["EN3049A0118",310,{"$f":"VLOOKUP(A2044,'Analyse S'!A:D,4,FALSE)","v":310}]
["EN3049A0125",217,{"$f":"VLOOKUP(A2045,'Analyse S'!A:D,4,FALSE)","v":217}]
["EN3049A0132",152,{"$f":"VLOOKUP(A2046,'Analyse S'!A:D,4,FALSE)","v":152}]
["EN3049A0140",133,{"$f":"VLOOKUP(A2047,'Analyse S'!A:D,4,FALSE)","v":133}]
["EN3049A0150",195,{"$f":"VLOOKUP(A2048,'Analyse S'!A:D,4,FALSE)","v":195}]
["EN3049A0160",594,{"$f":"VLOOKUP(A2049,'Analyse S'!A:D,4,FALSE)","v":594}]
["EN3049A0170",124,{"$f":"VLOOKUP(A2050,'Analyse S'!A:D,4,FALSE)","v":124}]
["EN3049A0180",4754,{"$f":"VLOOKUP(A2051,'Analyse S'!A:D,4,FALSE)","v":4754}]
["EN3049A0190",6581,{"$f":"VLOOKUP(A2052,'Analyse S'!A:D,4,FALSE)","v":6581}]
["EN3049A0200",89,{"$f":"VLOOKUP(A2053,'Analyse S'!A:D,4,FALSE)","v":89}]
["EN3049A0212",469,{"$f":"VLOOKUP(A2054,'Analyse S'!A:D,4,FALSE)","v":469}]
["EN3049A0224",814,{"$f":"VLOOKUP(A2055,'Analyse S'!A:D,4,FALSE)","v":814}]
["EN3049A0236",1356,{"$f":"VLOOKUP(A2056,'Analyse S'!A:D,4,FALSE)","v":1356}]
["EN3049A0250",1536,{"$f":"VLOOKUP(A2057,'Analyse S'!A:D,4,FALSE)","v":1536}]
["EN3049A0265",1103,{"$f":"VLOOKUP(A2058,'Analyse S'!A:D,4,FALSE)","v":1103}]
["EN3049A0280",1273,{"$f":"VLOOKUP(A2059,'Analyse S'!A:D,4,FALSE)","v":1273}]
["EN3049A0300",2089,{"$f":"VLOOKUP(A2060,'Analyse S'!A:D,4,FALSE)","v":2089}]
["EN3049A0315",1091,{"$f":"VLOOKUP(A2061,'Analyse S'!A:D,4,FALSE)","v":1091}]
["EN3049A0325",311,{"$f":"VLOOKUP(A2062,'Analyse S'!A:D,4,FALSE)","v":311}]
["EN3049A0335",767,{"$f":"VLOOKUP(A2063,'Analyse S'!A:D,4,FALSE)","v":767}]
["EN3049A0345",381,{"$f":"VLOOKUP(A2064,'Analyse S'!A:D,4,FALSE)","v":381}]
["EN3049A0355",1685,{"$f":"VLOOKUP(A2065,'Analyse S'!A:D,4,FALSE)","v":1685}]
["EN3049A0365",93,{"$f":"VLOOKUP(A2066,'Analyse S'!A:D,4,FALSE)","v":93}]
["EN3049A0375",186,{"$f":"VLOOKUP(A2067,'Analyse S'!A:D,4,FALSE)","v":186}]
["EN3049A0387",764,{"$f":"VLOOKUP(A2068,'Analyse S'!A:D,4,FALSE)","v":764}]
["EN3049A0437",133,{"$f":"VLOOKUP(A2069,'Analyse S'!A:D,4,FALSE)","v":133}]
["EN3049A0450",542,{"$f":"VLOOKUP(A2070,'Analyse S'!A:D,4,FALSE)","v":542}]
["EN3049A0475",376,{"$f":"VLOOKUP(A2071,'Analyse S'!A:D,4,FALSE)","v":376}]
["EN3049A0530",188,{"$f":"VLOOKUP(A2072,'Analyse S'!A:D,4,FALSE)","v":188}]
["EN3049A0560",643,{"$f":"VLOOKUP(A2073,'Analyse S'!A:D,4,FALSE)","v":643}]
["EN3049A0600",538,{"$f":"VLOOKUP(A2074,'Analyse S'!A:D,4,FALSE)","v":538}]
["EN3049A1000",197,{"$f":"VLOOKUP(A2075,'Analyse S'!A:D,4,FALSE)","v":197}]
["EN3049A1250",189,{"$f":"VLOOKUP(A2076,'Analyse S'!A:D,4,FALSE)","v":189}]
["EN3049B0045",283,{"$f":"VLOOKUP(A2077,'Analyse S'!A:D,4,FALSE)","v":283}]
["EN3049B0080",1504,{"$f":"VLOOKUP(A2078,'Analyse S'!A:D,4,FALSE)","v":1504}]
["EN3049B0100",781,{"$f":"VLOOKUP(A2079,'Analyse S'!A:D,4,FALSE)","v":781}]
["EN3049B0106",170,{"$f":"VLOOKUP(A2080,'Analyse S'!A:D,4,FALSE)","v":170}]
["EN3049B0125",486,{"$f":"VLOOKUP(A2081,'Analyse S'!A:D,4,FALSE)","v":486}]
["EN3049B0132",499,{"$f":"VLOOKUP(A2082,'Analyse S'!A:D,4,FALSE)","v":499}]
["EN3049B0140",29,{"$f":"VLOOKUP(A2083,'Analyse S'!A:D,4,FALSE)","v":29}]
["EN3049B0150",383,{"$f":"VLOOKUP(A2084,'Analyse S'!A:D,4,FALSE)","v":383}]
["EN3049B0160",31,{"$f":"VLOOKUP(A2085,'Analyse S'!A:D,4,FALSE)","v":31}]
["EN3049B0170",1014,{"$f":"VLOOKUP(A2086,'Analyse S'!A:D,4,FALSE)","v":1014}]
["EN3049B0190",218,{"$f":"VLOOKUP(A2087,'Analyse S'!A:D,4,FALSE)","v":218}]
["EN3049B0200",396,{"$f":"VLOOKUP(A2088,'Analyse S'!A:D,4,FALSE)","v":396}]
["EN3049B0212",189,{"$f":"VLOOKUP(A2089,'Analyse S'!A:D,4,FALSE)","v":189}]
["EN3049B0224",92,{"$f":"VLOOKUP(A2090,'Analyse S'!A:D,4,FALSE)","v":92}]
["EN3049B0236",463,{"$f":"VLOOKUP(A2091,'Analyse S'!A:D,4,FALSE)","v":463}]
["EN3049B0250",246,{"$f":"VLOOKUP(A2092,'Analyse S'!A:D,4,FALSE)","v":246}]
["EN3049B0265",237,{"$f":"VLOOKUP(A2093,'Analyse S'!A:D,4,FALSE)","v":237}]
["EN3049B0280",32,{"$f":"VLOOKUP(A2094,'Analyse S'!A:D,4,FALSE)","v":32}]
["EN3049B0315",222,{"$f":"VLOOKUP(A2095,'Analyse S'!A:D,4,FALSE)","v":222}]
["EN3049B0325",220,{"$f":"VLOOKUP(A2096,'Analyse S'!A:D,4,FALSE)","v":220}]
["EN3049B0335",241,{"$f":"VLOOKUP(A2097,'Analyse S'!A:D,4,FALSE)","v":241}]
["EN3049B0437",599,{"$f":"VLOOKUP(A2098,'Analyse S'!A:D,4,FALSE)","v":599}]
["EN3049B0475",74,{"$f":"VLOOKUP(A2099,'Analyse S'!A:D,4,FALSE)","v":74}]
["EN3049B0487",26,{"$f":"VLOOKUP(A2100,'Analyse S'!A:D,4,FALSE)","v":26}]
["EN3049B0545",117,{"$f":"VLOOKUP(A2101,'Analyse S'!A:D,4,FALSE)","v":117}]
["EN3049B0580",171,{"$f":"VLOOKUP(A2102,'Analyse S'!A:D,4,FALSE)","v":171}]
["EN3049B0600",107,{"$f":"VLOOKUP(A2103,'Analyse S'!A:D,4,FALSE)","v":107}]
["EN3049B0950",342,{"$f":"VLOOKUP(A2104,'Analyse S'!A:D,4,FALSE)","v":342}]
["EN3049B1250",104,{"$f":"VLOOKUP(A2105,'Analyse S'!A:D,4,FALSE)","v":104}]
["EN3049B1500",95,{"$f":"VLOOKUP(A2106,'Analyse S'!A:D,4,FALSE)","v":95}]
["EN3052-050007",56,{"$f":"VLOOKUP(A2107,'Analyse S'!A:D,4,FALSE)","v":56}]
["EN3052-070015",369,{"$f":"VLOOKUP(A2108,'Analyse S'!A:D,4,FALSE)","v":369}]
["EN3155-005F1616",150,{"$f":"VLOOKUP(A2109,'Analyse S'!A:D,4,FALSE)","v":150}]
["EN3155-005F2020",400,{"$f":"VLOOKUP(A2110,'Analyse S'!A:D,4,FALSE)","v":400}]
["EN3155-044M2022",110,{"$f":"VLOOKUP(A2111,'Analyse S'!A:D,4,FALSE)","v":110}]
["EN3155-045F2022",653,{"$f":"VLOOKUP(A2112,'Analyse S'!A:D,4,FALSE)","v":653}]
["EN3239-060",192,{"$f":"VLOOKUP(A2113,'Analyse S'!A:D,4,FALSE)","v":192}]
["EN3637-060",50,{"$f":"VLOOKUP(A2114,'Analyse S'!A:D,4,FALSE)","v":50}]
["EN3637-080",193,{"$f":"VLOOKUP(A2115,'Analyse S'!A:D,4,FALSE)","v":193}]
["EN3637-100",58,{"$f":"VLOOKUP(A2116,'Analyse S'!A:D,4,FALSE)","v":58}]
["EN3720-050",3045,{"$f":"VLOOKUP(A2117,'Analyse S'!A:D,4,FALSE)","v":3045}]
["EN3720-060",5443,{"$f":"VLOOKUP(A2118,'Analyse S'!A:D,4,FALSE)","v":5443}]
["EN3720-070",1756,{"$f":"VLOOKUP(A2119,'Analyse S'!A:D,4,FALSE)","v":1756}]
["EN3720-080",142,{"$f":"VLOOKUP(A2120,'Analyse S'!A:D,4,FALSE)","v":142}]
["EN3720-100",159,{"$f":"VLOOKUP(A2121,'Analyse S'!A:D,4,FALSE)","v":159}]
["EN3720-120",92,{"$f":"VLOOKUP(A2122,'Analyse S'!A:D,4,FALSE)","v":92}]
["EN3723-030",137,{"$f":"VLOOKUP(A2123,'Analyse S'!A:D,4,FALSE)","v":137}]
["EN3723-050",387,{"$f":"VLOOKUP(A2124,'Analyse S'!A:D,4,FALSE)","v":387}]
["EN3723-100",214,{"$f":"VLOOKUP(A2125,'Analyse S'!A:D,4,FALSE)","v":214}]
["EN3832-060014",120,{"$f":"VLOOKUP(A2126,'Analyse S'!A:D,4,FALSE)","v":120}]
["EN3832-060018",1876,{"$f":"VLOOKUP(A2127,'Analyse S'!A:D,4,FALSE)","v":1876}]
["EN3832-060020",208,{"$f":"VLOOKUP(A2128,'Analyse S'!A:D,4,FALSE)","v":208}]
["EN3832-060022",746,{"$f":"VLOOKUP(A2129,'Analyse S'!A:D,4,FALSE)","v":746}]
["EN3832-060024",236,{"$f":"VLOOKUP(A2130,'Analyse S'!A:D,4,FALSE)","v":236}]
["EN3832-060026",2421,{"$f":"VLOOKUP(A2131,'Analyse S'!A:D,4,FALSE)","v":2421}]
["EN3832-060034",223,{"$f":"VLOOKUP(A2132,'Analyse S'!A:D,4,FALSE)","v":223}]
["EN3832-070014",58,{"$f":"VLOOKUP(A2133,'Analyse S'!A:D,4,FALSE)","v":58}]
["EN3832-070022",154,{"$f":"VLOOKUP(A2134,'Analyse S'!A:D,4,FALSE)","v":154}]
["EN3832-070024",287,{"$f":"VLOOKUP(A2135,'Analyse S'!A:D,4,FALSE)","v":287}]
["EN3832-070032",1995,{"$f":"VLOOKUP(A2136,'Analyse S'!A:D,4,FALSE)","v":1995}]
["EN3832-080034",106,{"$f":"VLOOKUP(A2137,'Analyse S'!A:D,4,FALSE)","v":106}]
["EN3832-100040",362,{"$f":"VLOOKUP(A2138,'Analyse S'!A:D,4,FALSE)","v":362}]
["EN4011-070",234,{"$f":"VLOOKUP(A2139,'Analyse S'!A:D,4,FALSE)","v":234}]
["ENR03603",59,{"$f":"VLOOKUP(A2140,'Analyse S'!A:D,4,FALSE)","v":59}]
["EV5105-0-09",20,{"$f":"VLOOKUP(A2141,'Analyse S'!A:D,4,FALSE)","v":20}]
["EV5105-0-10",51,{"$f":"VLOOKUP(A2142,'Analyse S'!A:D,4,FALSE)","v":51}]
["EV5105-0-11",16,{"$f":"VLOOKUP(A2143,'Analyse S'!A:D,4,FALSE)","v":16}]
["FBR3518-32-6",139,{"$f":"VLOOKUP(A2144,'Analyse S'!A:D,4,FALSE)","v":139}]
["FI0134",176,{"$f":"VLOOKUP(A2145,'Analyse S'!A:D,4,FALSE)","v":176}]
["FSSA1700060A",262,{"$f":"VLOOKUP(A2146,'Analyse S'!A:D,4,FALSE)","v":262}]
["GA71163",20,{"$f":"VLOOKUP(A2147,'Analyse S'!A:D,4,FALSE)","v":20}]
["GA71164-2",46,{"$f":"VLOOKUP(A2148,'Analyse S'!A:D,4,FALSE)","v":46}]
["GA71165",81,{"$f":"VLOOKUP(A2149,'Analyse S'!A:D,4,FALSE)","v":81}]
["GA72139",15,{"$f":"VLOOKUP(A2150,'Analyse S'!A:D,4,FALSE)","v":15}]
["GA72143",15,{"$f":"VLOOKUP(A2151,'Analyse S'!A:D,4,FALSE)","v":15}]
["GA72145",69,{"$f":"VLOOKUP(A2152,'Analyse S'!A:D,4,FALSE)","v":69}]
["GA72168",14,{"$f":"VLOOKUP(A2153,'Analyse S'!A:D,4,FALSE)","v":14}]
["GA72417",189,{"$f":"VLOOKUP(A2154,'Analyse S'!A:D,4,FALSE)","v":189}]
["GPN620U13B",744,{"$f":"VLOOKUP(A2155,'Analyse S'!A:D,4,FALSE)","v":744}]
["GPN620U22B",409,{"$f":"VLOOKUP(A2156,'Analyse S'!A:D,4,FALSE)","v":409}]
["HE844",10,{"$f":"VLOOKUP(A2157,'Analyse S'!A:D,4,FALSE)","v":10}]
["HLM32-05-7",998,{"$f":"VLOOKUP(A2158,'Analyse S'!A:D,4,FALSE)","v":998}]
["HTNS-L/H04-5",350,{"$f":"VLOOKUP(A2159,'Analyse S'!A:D,4,FALSE)","v":350}]
["HTNS-L/H06-5",265,{"$f":"VLOOKUP(A2160,'Analyse S'!A:D,4,FALSE)","v":265}]
["IC2482-14-R",300,{"$f":"VLOOKUP(A2161,'Analyse S'!A:D,4,FALSE)","v":300}]
["IC504-18-23R",57,{"$f":"VLOOKUP(A2162,'Analyse S'!A:D,4,FALSE)","v":57}]
["IC504-24-29R",62,{"$f":"VLOOKUP(A2163,'Analyse S'!A:D,4,FALSE)","v":62}]
["IC504-30-37R",61,{"$f":"VLOOKUP(A2164,'Analyse S'!A:D,4,FALSE)","v":61}]
["IC504-38-45R",58,{"$f":"VLOOKUP(A2165,'Analyse S'!A:D,4,FALSE)","v":58}]
["IC704-14R",75,{"$f":"VLOOKUP(A2166,'Analyse S'!A:D,4,FALSE)","v":75}]
["J206P0500",84,{"$f":"VLOOKUP(A2167,'Analyse S'!A:D,4,FALSE)","v":84}]
["J206P0800",30,{"$f":"VLOOKUP(A2168,'Analyse S'!A:D,4,FALSE)","v":30}]
["JETA1872800L",18,{"$f":"VLOOKUP(A2169,'Analyse S'!A:D,4,FALSE)","v":18}]
["JGD54-1",105,{"$f":"VLOOKUP(A2170,'Analyse S'!A:D,4,FALSE)","v":105}]
["JSD47-6",165,{"$f":"VLOOKUP(A2171,'Analyse S'!A:D,4,FALSE)","v":165}]
["MS9388-013",231,{"$f":"VLOOKUP(A2172,'Analyse S'!A:D,4,FALSE)","v":231}]
["MS9388-014",95,{"$f":"VLOOKUP(A2173,'Analyse S'!A:D,4,FALSE)","v":95}]
["MS9388-020",200,{"$f":"VLOOKUP(A2174,'Analyse S'!A:D,4,FALSE)","v":200}]
["N100-111CL",1996,{"$f":"VLOOKUP(A2175,'Analyse S'!A:D,4,FALSE)","v":1996}]
["N100-1185",181,{"$f":"VLOOKUP(A2176,'Analyse S'!A:D,4,FALSE)","v":181}]
["N100-135",10,{"$f":"VLOOKUP(A2177,'Analyse S'!A:D,4,FALSE)","v":10}]
["N100-136CL",2984,{"$f":"VLOOKUP(A2178,'Analyse S'!A:D,4,FALSE)","v":2984}]
["N100-172",103,{"$f":"VLOOKUP(A2179,'Analyse S'!A:D,4,FALSE)","v":103}]
["N100-193CL",69,{"$f":"VLOOKUP(A2180,'Analyse S'!A:D,4,FALSE)","v":69}]
["N100-226CL",680,{"$f":"VLOOKUP(A2181,'Analyse S'!A:D,4,FALSE)","v":680}]
["NE46589",31,{"$f":"VLOOKUP(A2182,'Analyse S'!A:D,4,FALSE)","v":31}]
["NL105-04",10,{"$f":"VLOOKUP(A2183,'Analyse S'!A:D,4,FALSE)","v":10}]
["P3C0416410",40,{"$f":"VLOOKUP(A2184,'Analyse S'!A:D,4,FALSE)","v":40}]
["PA00145A",20,{"$f":"VLOOKUP(A2185,'Analyse S'!A:D,4,FALSE)","v":20}]
["PA00147A",55,{"$f":"VLOOKUP(A2186,'Analyse S'!A:D,4,FALSE)","v":55}]
["PA00148A",11,{"$f":"VLOOKUP(A2187,'Analyse S'!A:D,4,FALSE)","v":11}]
["PA00247B",50,{"$f":"VLOOKUP(A2188,'Analyse S'!A:D,4,FALSE)","v":50}]
["PLGA1561010",247,{"$f":"VLOOKUP(A2189,'Analyse S'!A:D,4,FALSE)","v":247}]
["PLGA2181010",255,{"$f":"VLOOKUP(A2190,'Analyse S'!A:D,4,FALSE)","v":255}]
["PLGA2810010",114,{"$f":"VLOOKUP(A2191,'Analyse S'!A:D,4,FALSE)","v":114}]
["PRRA2812300L",30,{"$f":"VLOOKUP(A2192,'Analyse S'!A:D,4,FALSE)","v":30}]
["PS0042001IX",398,{"$f":"VLOOKUP(A2193,'Analyse S'!A:D,4,FALSE)","v":398}]
["Q41-155A0",97,{"$f":"VLOOKUP(A2194,'Analyse S'!A:D,4,FALSE)","v":97}]
["Q4-1157A0",78,{"$f":"VLOOKUP(A2195,'Analyse S'!A:D,4,FALSE)","v":78}]
["Q42-156A0",3,{"$f":"VLOOKUP(A2196,'Analyse S'!A:D,4,FALSE)","v":3}]
["RP177-12",20,{"$f":"VLOOKUP(A2197,'Analyse S'!A:D,4,FALSE)","v":20}]
["RP217-03",181,{"$f":"VLOOKUP(A2198,'Analyse S'!A:D,4,FALSE)","v":181}]
["SC3850",37,{"$f":"VLOOKUP(A2199,'Analyse S'!A:D,4,FALSE)","v":37}]
["SC3861",44,{"$f":"VLOOKUP(A2200,'Analyse S'!A:D,4,FALSE)","v":44}]
["SF0367-2",32,{"$f":"VLOOKUP(A2201,'Analyse S'!A:D,4,FALSE)","v":32}]
["SF0368-2",13,{"$f":"VLOOKUP(A2202,'Analyse S'!A:D,4,FALSE)","v":13}]
["SF0369-1",32,{"$f":"VLOOKUP(A2203,'Analyse S'!A:D,4,FALSE)","v":32}]
["SF0370-1",20,{"$f":"VLOOKUP(A2204,'Analyse S'!A:D,4,FALSE)","v":20}]
["SRM0508BL",10,{"$f":"VLOOKUP(A2205,'Analyse S'!A:D,4,FALSE)","v":10}]
["SWM1000AU05",3160,{"$f":"VLOOKUP(A2206,'Analyse S'!A:D,4,FALSE)","v":3160}]
["TFE-R-5/64-X",73,{"$f":"VLOOKUP(A2207,'Analyse S'!A:D,4,FALSE)","v":73}]
["TP434-3",16,{"$f":"VLOOKUP(A2208,'Analyse S'!A:D,4,FALSE)","v":16}]
["TP434-4",43,{"$f":"VLOOKUP(A2209,'Analyse S'!A:D,4,FALSE)","v":43}]
["TP634-3",26,{"$f":"VLOOKUP(A2210,'Analyse S'!A:D,4,FALSE)","v":26}]
["TP634-4",48,{"$f":"VLOOKUP(A2211,'Analyse S'!A:D,4,FALSE)","v":48}]
["TR04AI",147,{"$f":"VLOOKUP(A2212,'Analyse S'!A:D,4,FALSE)","v":147}]
["TR06AI",237,{"$f":"VLOOKUP(A2213,'Analyse S'!A:D,4,FALSE)","v":237}]
["TR104-03",4,{"$f":"VLOOKUP(A2214,'Analyse S'!A:D,4,FALSE)","v":4}]
["TR10AI",298,{"$f":"VLOOKUP(A2215,'Analyse S'!A:D,4,FALSE)","v":298}]
["VDCA1845112H",44,{"$f":"VLOOKUP(A2216,'Analyse S'!A:D,4,FALSE)","v":44}]
["VIT1016",32,{"$f":"VLOOKUP(A2217,'Analyse S'!A:D,4,FALSE)","v":32}]
["WGLD5",177,{"$f":"VLOOKUP(A2218,'Analyse S'!A:D,4,FALSE)","v":177}]
[null,null,{"$f":"VLOOKUP(A2219,'Analyse S'!A:D,4,FALSE)","v":{"$error":"#N/A"}}]
[null,null,{"$f":"VLOOKUP(A2220,'Analyse S'!A:D,4,FALSE)","v":{"$error":"#N/A"}}]
[null,null,{"$f":"VLOOKUP(A2221,'Analyse S'!A:D,4,FALSE)","v":{"$error":"#N/A"}}]
[null,null,{"$f":"VLOOKUP(A2222,'Analyse S'!A:D,4,FALSE)","v":{"$error":"#N/A"}}]
[null,null,{"$f":"VLOOKUP(A2223,'Analyse S'!A:D,4,FALSE)","v":{"$error":"#N/A"}}]
[null,null,{"$f":"VLOOKUP(A2224,'Analyse S'!A:D,4,FALSE)","v":{"$error":"#N/A"}}]
[null,null,{"$f":"VLOOKUP(A2225,'Analyse S'!A:D,4,FALSE)","v":{"$error":"#N/A"}}]
[null,null,{"$f":"VLOOKUP(A2226,'Analyse S'!A:D,4,FALSE)","v":{"$error":"#N/A"}}]
[null,null,{"$f":"VLOOKUP(A2227,'Analyse S'!A:D,4,FALSE)","v":{"$error":"#N/A"}}]
[null,null,{"$f":"VLOOKUP(A2228,'Analyse S'!A:D,4,FALSE)","v":{"$error":"#N/A"}}]
[null,null,{"$f":"VLOOKUP(A2229,'Analyse S'!A:D,4,FALSE)","v":{"$error":"#N/A"}}]
[null,null,{"$f":"VLOOKUP(A2230,'Analyse S'!A:D,4,FALSE)","v":{"$error":"#N/A"}}]
[null,null,{"$f":"VLOOKUP(A2231,'Analyse S'!A:D,4,FALSE)","v":{"$error":"#N/A"}}]
[null,null,{"$f":"VLOOKUP(A2232,'Analyse S'!A:D,4,FALSE)","v":{"$error":"#N/A"}}]
[null,null,{"$f":"VLOOKUP(A2233,'Analyse S'!A:D,4,FALSE)","v":{"$error":"#N/A"}}]
[null,null,{"$f":"VLOOKUP(A2234,'Analyse S'!A:D,4,FALSE)","v":{"$error":"#N/A"}}]
[null,null,{"$f":"VLOOKUP(A2235,'Analyse S'!A:D,4,FALSE)","v":{"$error":"#N/A"}}]
[null,null,{"$f":"VLOOKUP(A2236,'Analyse S'!A:D,4,FALSE)","v":{"$error":"#N/A"}}]
[null,null,{"$f":"VLOOKUP(A2237,'Analyse S'!A:D,4,FALSE)","v":{"$error":"#N/A"}}]
[null,null,{"$f":"VLOOKUP(A2238,'Analyse S'!A:D,4,FALSE)","v":{"$error":"#N/A"}}]
[null,null,{"$f":"VLOOKUP(A2239,'Analyse S'!A:D,4,FALSE)","v":{"$error":"#N/A"}}]
[null,null,{"$f":"VLOOKUP(A2240,'Analyse S'!A:D,4,FALSE)","v":{"$error":"#N/A"}}]
[null,null,{"$f":"VLOOKUP(A2241,'Analyse S'!A:D,4,FALSE)","v":{"$error":"#N/A"}}]
[null,null,{"$f":"VLOOKUP(A2242,'Analyse S'!A:D,4,FALSE)","v":{"$error":"#N/A"}}]
[null,null,{"$f":"VLOOKUP(A2243,'Analyse S'!A:D,4,FALSE)","v":{"$error":"#N/A"}}]
[null,null,{"$f":"VLOOKUP(A2244,'Analyse S'!A:D,4,FALSE)","v":{"$error":"#N/A"}}]
[null,null,{"$f":"VLOOKUP(A2245,'Analyse S'!A:D,4,FALSE)","v":{"$error":"#N/A"}}]
[null,null,{"$f":"VLOOKUP(A2246,'Analyse S'!A:D,4,FALSE)","v":{"$error":"#N/A"}}]
[null,null,{"$f":"VLOOKUP(A2247,'Analyse S'!A:D,4,FALSE)","v":{"$error":"#N/A"}}]
[null,null,{"$f":"VLOOKUP(A2248,'Analyse S'!A:D,4,FALSE)","v":{"$error":"#N/A"}}]
[null,null,{"$f":"VLOOKUP(A2249,'Analyse S'!A:D,4,FALSE)","v":{"$error":"#N/A"}}]
[null,null,{"$f":"VLOOKUP(A2250,'Analyse S'!A:D,4,FALSE)","v":{"$error":"#N/A"}}]
[null,null,{"$f":"VLOOKUP(A2251,'Analyse S'!A:D,4,FALSE)","v":{"$error":"#N/A"}}]
[null,null,{"$f":"VLOOKUP(A2252,'Analyse S'!A:D,4,FALSE)","v":{"$error":"#N/A"}}]
[null,null,{"$f":"VLOOKUP(A2253,'Analyse S'!A:D,4,FALSE)","v":{"$error":"#N/A"}}]
[null,null,{"$f":"VLOOKUP(A2254,'Analyse S'!A:D,4,FALSE)","v":{"$error":"#N/A"}}]
[null,null,{"$f":"VLOOKUP(A2255,'Analyse S'!A:D,4,FALSE)","v":{"$error":"#N/A"}}]
[null,null,{"$f":"VLOOKUP(A2256,'Analyse S'!A:D,4,FALSE)","v":{"$error":"#N/A"}}]
[null,null,{"$f":"VLOOKUP(A2257,'Analyse S'!A:D,4,FALSE)","v":{"$error":"#N/A"}}]
[null,null,{"$f":"VLOOKUP(A2258,'Analyse S'!A:D,4,FALSE)","v":{"$error":"#N/A"}}]
[null,null,{"$f":"VLOOKUP(A2259,'Analyse S'!A:D,4,FALSE)","v":{"$error":"#N/A"}}]
[null,null,{"$f":"VLOOKUP(A2260,'Analyse S'!A:D,4,FALSE)","v":{"$error":"#N/A"}}]
[null,null,{"$f":"VLOOKUP(A2261,'Analyse S'!A:D,4,FALSE)","v":{"$error":"#N/A"}}]
[null,null,{"$f":"VLOOKUP(A2262,'Analyse S'!A:D,4,FALSE)","v":{"$error":"#N/A"}}]
[null,null,{"$f":"VLOOKUP(A2263,'Analyse S'!A:D,4,FALSE)","v":{"$error":"#N/A"}}]
[null,null,{"$f":"VLOOKUP(A2264,'Analyse S'!A:D,4,FALSE)","v":{"$error":"#N/A"}}]
[null,null,{"$f":"VLOOKUP(A2265,'Analyse S'!A:D,4,FALSE)","v":{"$error":"#N/A"}}]
[null,null,{"$f":"VLOOKUP(A2266,'Analyse S'!A:D,4,FALSE)","v":{"$error":"#N/A"}}]
[null,null,{"$f":"VLOOKUP(A2267,'Analyse S'!A:D,4,FALSE)","v":{"$error":"#N/A"}}]
[null,null,{"$f":"VLOOKUP(A2268,'Analyse S'!A:D,4,FALSE)","v":{"$error":"#N/A"}}]
[null,null,{"$f":"VLOOKUP(A2269,'Analyse S'!A:D,4,FALSE)","v":{"$error":"#N/A"}}]
[null,null,{"$f":"VLOOKUP(A2270,'Analyse S'!A:D,4,FALSE)","v":{"$error":"#N/A"}}]
[null,null,{"$f":"VLOOKUP(A2271,'Analyse S'!A:D,4,FALSE)","v":{"$error":"#N/A"}}]
[null,null,{"$f":"VLOOKUP(A2272,'Analyse S'!A:D,4,FALSE)","v":{"$error":"#N/A"}}]
[null,null,{"$f":"VLOOKUP(A2273,'Analyse S'!A:D,4,FALSE)","v":{"$error":"#N/A"}}]
[null,null,{"$f":"VLOOKUP(A2274,'Analyse S'!A:D,4,FALSE)","v":{"$error":"#N/A"}}]
[null,null,{"$f":"VLOOKUP(A2275,'Analyse S'!A:D,4,FALSE)","v":{"$error":"#N/A"}}]
[null,null,{"$f":"VLOOKUP(A2276,'Analyse S'!A:D,4,FALSE)","v":{"$error":"#N/A"}}]
[null,null,{"$f":"VLOOKUP(A2277,'Analyse S'!A:D,4,FALSE)","v":{"$error":"#N/A"}}]
[null,null,{"$f":"VLOOKUP(A2278,'Analyse S'!A:D,4,FALSE)","v":{"$error":"#N/A"}}]
[null,null,{"$f":"VLOOKUP(A2279,'Analyse S'!A:D,4,FALSE)","v":{"$error":"#N/A"}}]
[null,null,{"$f":"VLOOKUP(A2280,'Analyse S'!A:D,4,FALSE)","v":{"$error":"#N/A"}}]
[null,null,{"$f":"VLOOKUP(A2281,'Analyse S'!A:D,4,FALSE)","v":{"$error":"#N/A"}}]
[null,null,{"$f":"VLOOKUP(A2282,'Analyse S'!A:D,4,FALSE)","v":{"$error":"#N/A"}}]
[null,null,{"$f":"VLOOKUP(A2283,'Analyse S'!A:D,4,FALSE)","v":{"$error":"#N/A"}}]
[null,null,{"$f":"VLOOKUP(A2284,'Analyse S'!A:D,4,FALSE)","v":{"$error":"#N/A"}}]
[null,null,{"$f":"VLOOKUP(A2285,'Analyse S'!A:D,4,FALSE)","v":{"$error":"#N/A"}}]
[null,null,{"$f":"VLOOKUP(A2286,'Analyse S'!A:D,4,FALSE)","v":{"$error":"#N/A"}}]
[null,null,{"$f":"VLOOKUP(A2287,'Analyse S'!A:D,4,FALSE)","v":{"$error":"#N/A"}}]
[null,null,{"$f":"VLOOKUP(A2288,'Analyse S'!A:D,4,FALSE)","v":{"$error":"#N/A"}}]
[null,null,{"$f":"VLOOKUP(A2289,'Analyse S'!A:D,4,FALSE)","v":{"$error":"#N/A"}}]
[null,null,{"$f":"VLOOKUP(A2290,'Analyse S'!A:D,4,FALSE)","v":{"$error":"#N/A"}}]
[null,null,{"$f":"VLOOKUP(A2291,'Analyse S'!A:D,4,FALSE)","v":{"$error":"#N/A"}}]
[null,null,{"$f":"VLOOKUP(A2292,'Analyse S'!A:D,4,FALSE)","v":{"$error":"#N/A"}}]
[null,null,{"$f":"VLOOKUP(A2293,'Analyse S'!A:D,4,FALSE)","v":{"$error":"#N/A"}}]
[null,null,{"$f":"VLOOKUP(A2294,'Analyse S'!A:D,4,FALSE)","v":{"$error":"#N/A"}}]
[null,null,{"$f":"VLOOKUP(A2295,'Analyse S'!A:D,4,FALSE)","v":{"$error":"#N/A"}}]
[null,null,{"$f":"VLOOKUP(A2296,'Analyse S'!A:D,4,FALSE)","v":{"$error":"#N/A"}}]
[null,null,{"$f":"VLOOKUP(A2297,'Analyse S'!A:D,4,FALSE)","v":{"$error":"#N/A"}}]
[null,null,{"$f":"VLOOKUP(A2298,'Analyse S'!A:D,4,FALSE)","v":{"$error":"#N/A"}}]
[null,null,{"$f":"VLOOKUP(A2299,'Analyse S'!A:D,4,FALSE)","v":{"$error":"#N/A"}}]
[null,null,{"$f":"VLOOKUP(A2300,'Analyse S'!A:D,4,FALSE)","v":{"$error":"#N/A"}}]
[null,null,{"$f":"VLOOKUP(A2301,'Analyse S'!A:D,4,FALSE)","v":{"$error":"#N/A"}}]
[null,null,{"$f":"VLOOKUP(A2302,'Analyse S'!A:D,4,FALSE)","v":{"$error":"#N/A"}}]
[null,null,{"$f":"VLOOKUP(A2303,'Analyse S'!A:D,4,FALSE)","v":{"$error":"#N/A"}}]
[null,null,{"$f":"VLOOKUP(A2304,'Analyse S'!A:D,4,FALSE)","v":{"$error":"#N/A"}}]
[null,null,{"$f":"VLOOKUP(A2305,'Analyse S'!A:D,4,FALSE)","v":{"$error":"#N/A"}}]
[null,null,{"$f":"VLOOKUP(A2306,'Analyse S'!A:D,4,FALSE)","v":{"$error":"#N/A"}}]
[null,null,{"$f":"VLOOKUP(A2307,'Analyse S'!A:D,4,FALSE)","v":{"$error":"#N/A"}}]
[null,null,{"$f":"VLOOKUP(A2308,'Analyse S'!A:D,4,FALSE)","v":{"$error":"#N/A"}}]
[null,null,{"$f":"VLOOKUP(A2309,'Analyse S'!A:D,4,FALSE)","v":{"$error":"#N/A"}}]
[null,null,{"$f":"VLOOKUP(A2310,'Analyse S'!A:D,4,FALSE)","v":{"$error":"#N/A"}}]
[null,null,{"$f":"VLOOKUP(A2311,'Analyse S'!A:D,4,FALSE)","v":{"$error":"#N/A"}}]
[null,null,{"$f":"VLOOKUP(A2312,'Analyse S'!A:D,4,FALSE)","v":{"$error":"#N/A"}}]
[null,null,{"$f":"VLOOKUP(A2313,'Analyse S'!A:D,4,FALSE)","v":{"$error":"#N/A"}}]
[null,null,{"$f":"VLOOKUP(A2314,'Analyse S'!A:D,4,FALSE)","v":{"$error":"#N/A"}}]
[null,null,{"$f":"VLOOKUP(A2315,'Analyse S'!A:D,4,FALSE)","v":{"$error":"#N/A"}}]
[null,null,{"$f":"VLOOKUP(A2316,'Analyse S'!A:D,4,FALSE)","v":{"$error":"#N/A"}}]
[null,null,{"$f":"VLOOKUP(A2317,'Analyse S'!A:D,4,FALSE)","v":{"$error":"#N/A"}}]
[null,null,{"$f":"VLOOKUP(A2318,'Analyse S'!A:D,4,FALSE)","v":{"$error":"#N/A"}}]
[null,null,{"$f":"VLOOKUP(A2319,'Analyse S'!A:D,4,FALSE)","v":{"$error":"#N/A"}}]
[null,null,{"$f":"VLOOKUP(A2320,'Analyse S'!A:D,4,FALSE)","v":{"$error":"#N/A"}}]
[null,null,{"$f":"VLOOKUP(A2321,'Analyse S'!A:D,4,FALSE)","v":{"$error":"#N/A"}}]
[null,null,{"$f":"VLOOKUP(A2322,'Analyse S'!A:D,4,FALSE)","v":{"$error":"#N/A"}}]
[null,null,{"$f":"VLOOKUP(A2323,'Analyse S'!A:D,4,FALSE)","v":{"$error":"#N/A"}}]
[null,null,{"$f":"VLOOKUP(A2324,'Analyse S'!A:D,4,FALSE)","v":{"$error":"#N/A"}}]
[null,null,{"$f":"VLOOKUP(A2325,'Analyse S'!A:D,4,FALSE)","v":{"$error":"#N/A"}}]
[null,null,{"$f":"VLOOKUP(A2326,'Analyse S'!A:D,4,FALSE)","v":{"$error":"#N/A"}}]
[null,null,{"$f":"VLOOKUP(A2327,'Analyse S'!A:D,4,FALSE)","v":{"$error":"#N/A"}}]
[null,null,{"$f":"VLOOKUP(A2328,'Analyse S'!A:D,4,FALSE)","v":{"$error":"#N/A"}}]
[null,null,{"$f":"VLOOKUP(A2329,'Analyse S'!A:D,4,FALSE)","v":{"$error":"#N/A"}}]
[null,null,{"$f":"VLOOKUP(A2330,'Analyse S'!A:D,4,FALSE)","v":{"$error":"#N/A"}}]
[null,null,{"$f":"VLOOKUP(A2331,'Analyse S'!A:D,4,FALSE)","v":{"$error":"#N/A"}}]
[null,null,{"$f":"VLOOKUP(A2332,'Analyse S'!A:D,4,FALSE)","v":{"$error":"#N/A"}}]
[null,null,{"$f":"VLOOKUP(A2333,'Analyse S'!A:D,4,FALSE)","v":{"$error":"#N/A"}}]
[null,null,{"$f":"VLOOKUP(A2334,'Analyse S'!A:D,4,FALSE)","v":{"$error":"#N/A"}}]
[null,null,{"$f":"VLOOKUP(A2335,'Analyse S'!A:D,4,FALSE)","v":{"$error":"#N/A"}}]
[null,null,{"$f":"VLOOKUP(A2336,'Analyse S'!A:D,4,FALSE)","v":{"$error":"#N/A"}}]
[null,null,{"$f":"VLOOKUP(A2337,'Analyse S'!A:D,4,FALSE)","v":{"$error":"#N/A"}}]
[null,null,{"$f":"VLOOKUP(A2338,'Analyse S'!A:D,4,FALSE)","v":{"$error":"#N/A"}}]
[null,null,{"$f":"VLOOKUP(A2339,'Analyse S'!A:D,4,FALSE)","v":{"$error":"#N/A"}}]
[null,null,{"$f":"VLOOKUP(A2340,'Analyse S'!A:D,4,FALSE)","v":{"$error":"#N/A"}}]
[null,null,{"$f":"VLOOKUP(A2341,'Analyse S'!A:D,4,FALSE)","v":{"$error":"#N/A"}}]
[null,null,{"$f":"VLOOKUP(A2342,'Analyse S'!A:D,4,FALSE)","v":{"$error":"#N/A"}}]
[null,null,{"$f":"VLOOKUP(A2343,'Analyse S'!A:D,4,FALSE)","v":{"$error":"#N/A"}}]
[null,null,{"$f":"VLOOKUP(A2344,'Analyse S'!A:D,4,FALSE)","v":{"$error":"#N/A"}}]
[null,null,{"$f":"VLOOKUP(A2345,'Analyse S'!A:D,4,FALSE)","v":{"$error":"#N/A"}}]
[null,null,{"$f":"VLOOKUP(A2346,'Analyse S'!A:D,4,FALSE)","v":{"$error":"#N/A"}}]
[null,null,{"$f":"VLOOKUP(A2347,'Analyse S'!A:D,4,FALSE)","v":{"$error":"#N/A"}}]
[null,null,{"$f":"VLOOKUP(A2348,'Analyse S'!A:D,4,FALSE)","v":{"$error":"#N/A"}}]
[null,null,{"$f":"VLOOKUP(A2349,'Analyse S'!A:D,4,FALSE)","v":{"$error":"#N/A"}}]
[null,null,{"$f":"VLOOKUP(A2350,'Analyse S'!A:D,4,FALSE)","v":{"$error":"#N/A"}}]
[null,null,{"$f":"VLOOKUP(A2351,'Analyse S'!A:D,4,FALSE)","v":{"$error":"#N/A"}}]
[null,null,{"$f":"VLOOKUP(A2352,'Analyse S'!A:D,4,FALSE)","v":{"$error":"#N/A"}}]
[null,null,{"$f":"VLOOKUP(A2353,'Analyse S'!A:D,4,FALSE)","v":{"$error":"#N/A"}}]
[null,null,{"$f":"VLOOKUP(A2354,'Analyse S'!A:D,4,FALSE)","v":{"$error":"#N/A"}}]
[null,null,{"$f":"VLOOKUP(A2355,'Analyse S'!A:D,4,FALSE)","v":{"$error":"#N/A"}}]
[null,null,{"$f":"VLOOKUP(A2356,'Analyse S'!A:D,4,FALSE)","v":{"$error":"#N/A"}}]
[null,null,{"$f":"VLOOKUP(A2357,'Analyse S'!A:D,4,FALSE)","v":{"$error":"#N/A"}}]
[null,null,{"$f":"VLOOKUP(A2358,'Analyse S'!A:D,4,FALSE)","v":{"$error":"#N/A"}}]
[null,null,{"$f":"VLOOKUP(A2359,'Analyse S'!A:D,4,FALSE)","v":{"$error":"#N/A"}}]
[null,null,{"$f":"VLOOKUP(A2360,'Analyse S'!A:D,4,FALSE)","v":{"$error":"#N/A"}}]
[null,null,{"$f":"VLOOKUP(A2361,'Analyse S'!A:D,4,FALSE)","v":{"$error":"#N/A"}}]
[null,null,{"$f":"VLOOKUP(A2362,'Analyse S'!A:D,4,FALSE)","v":{"$error":"#N/A"}}]
[null,null,{"$f":"VLOOKUP(A2363,'Analyse S'!A:D,4,FALSE)","v":{"$error":"#N/A"}}]
[null,null,{"$f":"VLOOKUP(A2364,'Analyse S'!A:D,4,FALSE)","v":{"$error":"#N/A"}}]
[null,null,{"$f":"VLOOKUP(A2365,'Analyse S'!A:D,4,FALSE)","v":{"$error":"#N/A"}}]
[null,null,{"$f":"VLOOKUP(A2366,'Analyse S'!A:D,4,FALSE)","v":{"$error":"#N/A"}}]
[null,null,{"$f":"VLOOKUP(A2367,'Analyse S'!A:D,4,FALSE)","v":{"$error":"#N/A"}}]
[null,null,{"$f":"VLOOKUP(A2368,'Analyse S'!A:D,4,FALSE)","v":{"$error":"#N/A"}}]
[null,null,{"$f":"VLOOKUP(A2369,'Analyse S'!A:D,4,FALSE)","v":{"$error":"#N/A"}}]
[null,null,{"$f":"VLOOKUP(A2370,'Analyse S'!A:D,4,FALSE)","v":{"$error":"#N/A"}}]
[null,null,{"$f":"VLOOKUP(A2371,'Analyse S'!A:D,4,FALSE)","v":{"$error":"#N/A"}}]
[null,null,{"$f":"VLOOKUP(A2372,'Analyse S'!A:D,4,FALSE)","v":{"$error":"#N/A"}}]
[null,null,{"$f":"VLOOKUP(A2373,'Analyse S'!A:D,4,FALSE)","v":{"$error":"#N/A"}}]
[null,null,{"$f":"VLOOKUP(A2374,'Analyse S'!A:D,4,FALSE)","v":{"$error":"#N/A"}}]
[null,null,{"$f":"VLOOKUP(A2375,'Analyse S'!A:D,4,FALSE)","v":{"$error":"#N/A"}}]
[null,null,{"$f":"VLOOKUP(A2376,'Analyse S'!A:D,4,FALSE)","v":{"$error":"#N/A"}}]
[null,null,{"$f":"VLOOKUP(A2377,'Analyse S'!A:D,4,FALSE)","v":{"$error":"#N/A"}}]
[null,null,{"$f":"VLOOKUP(A2378,'Analyse S'!A:D,4,FALSE)","v":{"$error":"#N/A"}}]
[null,null,{"$f":"VLOOKUP(A2379,'Analyse S'!A:D,4,FALSE)","v":{"$error":"#N/A"}}]
[null,null,{"$f":"VLOOKUP(A2380,'Analyse S'!A:D,4,FALSE)","v":{"$error":"#N/A"}}]
[null,null,{"$f":"VLOOKUP(A2381,'Analyse S'!A:D,4,FALSE)","v":{"$error":"#N/A"}}]
[null,null,{"$f":"VLOOKUP(A2382,'Analyse S'!A:D,4,FALSE)","v":{"$error":"#N/A"}}]
[null,null,{"$f":"VLOOKUP(A2383,'Analyse S'!A:D,4,FALSE)","v":{"$error":"#N/A"}}]
[null,null,{"$f":"VLOOKUP(A2384,'Analyse S'!A:D,4,FALSE)","v":{"$error":"#N/A"}}]
[null,null,{"$f":"VLOOKUP(A2385,'Analyse S'!A:D,4,FALSE)","v":{"$error":"#N/A"}}]
[null,null,{"$f":"VLOOKUP(A2386,'Analyse S'!A:D,4,FALSE)","v":{"$error":"#N/A"}}]
[null,null,{"$f":"VLOOKUP(A2387,'Analyse S'!A:D,4,FALSE)","v":{"$error":"#N/A"}}]
[null,null,{"$f":"VLOOKUP(A2388,'Analyse S'!A:D,4,FALSE)","v":{"$error":"#N/A"}}]
[null,null,{"$f":"VLOOKUP(A2389,'Analyse S'!A:D,4,FALSE)","v":{"$error":"#N/A"}}]
[null,null,{"$f":"VLOOKUP(A2390,'Analyse S'!A:D,4,FALSE)","v":{"$error":"#N/A"}}]
[null,null,{"$f":"VLOOKUP(A2391,'Analyse S'!A:D,4,FALSE)","v":{"$error":"#N/A"}}]
[null,null,{"$f":"VLOOKUP(A2392,'Analyse S'!A:D,4,FALSE)","v":{"$error":"#N/A"}}]
[null,null,{"$f":"VLOOKUP(A2393,'Analyse S'!A:D,4,FALSE)","v":{"$error":"#N/A"}}]
[null,null,{"$f":"VLOOKUP(A2394,'Analyse S'!A:D,4,FALSE)","v":{"$error":"#N/A"}}]
[null,null,{"$f":"VLOOKUP(A2395,'Analyse S'!A:D,4,FALSE)","v":{"$error":"#N/A"}}]
[null,null,{"$f":"VLOOKUP(A2396,'Analyse S'!A:D,4,FALSE)","v":{"$error":"#N/A"}}]
[null,null,{"$f":"VLOOKUP(A2397,'Analyse S'!A:D,4,FALSE)","v":{"$error":"#N/A"}}]
[null,null,{"$f":"VLOOKUP(A2398,'Analyse S'!A:D,4,FALSE)","v":{"$error":"#N/A"}}]
[null,null,{"$f":"VLOOKUP(A2399,'Analyse S'!A:D,4,FALSE)","v":{"$error":"#N/A"}}]
[null,null,{"$f":"VLOOKUP(A2400,'Analyse S'!A:D,4,FALSE)","v":{"$error":"#N/A"}}]
[null,null,{"$f":"VLOOKUP(A2401,'Analyse S'!A:D,4,FALSE)","v":{"$error":"#N/A"}}]
[null,null,{"$f":"VLOOKUP(A2402,'Analyse S'!A:D,4,FALSE)","v":{"$error":"#N/A"}}]
[null,null,{"$f":"VLOOKUP(A2403,'Analyse S'!A:D,4,FALSE)","v":{"$error":"#N/A"}}]
[null,null,{"$f":"VLOOKUP(A2404,'Analyse S'!A:D,4,FALSE)","v":{"$error":"#N/A"}}]
[null,null,{"$f":"VLOOKUP(A2405,'Analyse S'!A:D,4,FALSE)","v":{"$error":"#N/A"}}]
[null,null,{"$f":"VLOOKUP(A2406,'Analyse S'!A:D,4,FALSE)","v":{"$error":"#N/A"}}]
[null,null,{"$f":"VLOOKUP(A2407,'Analyse S'!A:D,4,FALSE)","v":{"$error":"#N/A"}}]
[null,null,{"$f":"VLOOKUP(A2408,'Analyse S'!A:D,4,FALSE)","v":{"$error":"#N/A"}}]
[null,null,{"$f":"VLOOKUP(A2409,'Analyse S'!A:D,4,FALSE)","v":{"$error":"#N/A"}}]
[null,null,{"$f":"VLOOKUP(A2410,'Analyse S'!A:D,4,FALSE)","v":{"$error":"#N/A"}}]
[null,null,{"$f":"VLOOKUP(A2411,'Analyse S'!A:D,4,FALSE)","v":{"$error":"#N/A"}}]
[null,null,{"$f":"VLOOKUP(A2412,'Analyse S'!A:D,4,FALSE)","v":{"$error":"#N/A"}}]
[null,null,{"$f":"VLOOKUP(A2413,'Analyse S'!A:D,4,FALSE)","v":{"$error":"#N/A"}}]
[null,null,{"$f":"VLOOKUP(A2414,'Analyse S'!A:D,4,FALSE)","v":{"$error":"#N/A"}}]
[null,null,{"$f":"VLOOKUP(A2415,'Analyse S'!A:D,4,FALSE)","v":{"$error":"#N/A"}}]
[null,null,{"$f":"VLOOKUP(A2416,'Analyse S'!A:D,4,FALSE)","v":{"$error":"#N/A"}}]
[null,null,{"$f":"VLOOKUP(A2417,'Analyse S'!A:D,4,FALSE)","v":{"$error":"#N/A"}}]
[null,null,{"$f":"VLOOKUP(A2418,'Analyse S'!A:D,4,FALSE)","v":{"$error":"#N/A"}}]
[null,null,{"$f":"VLOOKUP(A2419,'Analyse S'!A:D,4,FALSE)","v":{"$error":"#N/A"}}]
[null,null,{"$f":"VLOOKUP(A2420,'Analyse S'!A:D,4,FALSE)","v":{"$error":"#N/A"}}]
[null,null,{"$f":"VLOOKUP(A2421,'Analyse S'!A:D,4,FALSE)","v":{"$error":"#N/A"}}]
[null,null,{"$f":"VLOOKUP(A2422,'Analyse S'!A:D,4,FALSE)","v":{"$error":"#N/A"}}]
[null,null,{"$f":"VLOOKUP(A2423,'Analyse S'!A:D,4,FALSE)","v":{"$error":"#N/A"}}]
[null,null,{"$f":"VLOOKUP(A2424,'Analyse S'!A:D,4,FALSE)","v":{"$error":"#N/A"}}]
[null,null,{"$f":"VLOOKUP(A2425,'Analyse S'!A:D,4,FALSE)","v":{"$error":"#N/A"}}]
[null,null,{"$f":"VLOOKUP(A2426,'Analyse S'!A:D,4,FALSE)","v":{"$error":"#N/A"}}]
[null,null,{"$f":"VLOOKUP(A2427,'Analyse S'!A:D,4,FALSE)","v":{"$error":"#N/A"}}]
[null,null,{"$f":"VLOOKUP(A2428,'Analyse S'!A:D,4,FALSE)","v":{"$error":"#N/A"}}]
[null,null,{"$f":"VLOOKUP(A2429,'Analyse S'!A:D,4,FALSE)","v":{"$error":"#N/A"}}]
[null,null,{"$f":"VLOOKUP(A2430,'Analyse S'!A:D,4,FALSE)","v":{"$error":"#N/A"}}]
[null,null,{"$f":"VLOOKUP(A2431,'Analyse S'!A:D,4,FALSE)","v":{"$error":"#N/A"}}]
[null,null,{"$f":"VLOOKUP(A2432,'Analyse S'!A:D,4,FALSE)","v":{"$error":"#N/A"}}]
[null,null,{"$f":"VLOOKUP(A2433,'Analyse S'!A:D,4,FALSE)","v":{"$error":"#N/A"}}]
[null,null,{"$f":"VLOOKUP(A2434,'Analyse S'!A:D,4,FALSE)","v":{"$error":"#N/A"}}]
[null,null,{"$f":"VLOOKUP(A2435,'Analyse S'!A:D,4,FALSE)","v":{"$error":"#N/A"}}]
[null,null,{"$f":"VLOOKUP(A2436,'Analyse S'!A:D,4,FALSE)","v":{"$error":"#N/A"}}]
[null,null,{"$f":"VLOOKUP(A2437,'Analyse S'!A:D,4,FALSE)","v":{"$error":"#N/A"}}]
[null,null,{"$f":"VLOOKUP(A2438,'Analyse S'!A:D,4,FALSE)","v":{"$error":"#N/A"}}]
[null,null,{"$f":"VLOOKUP(A2439,'Analyse S'!A:D,4,FALSE)","v":{"$error":"#N/A"}}]
[null,null,{"$f":"VLOOKUP(A2440,'Analyse S'!A:D,4,FALSE)","v":{"$error":"#N/A"}}]
[null,null,{"$f":"VLOOKUP(A2441,'Analyse S'!A:D,4,FALSE)","v":{"$error":"#N/A"}}]
[null,null,{"$f":"VLOOKUP(A2442,'Analyse S'!A:D,4,FALSE)","v":{"$error":"#N/A"}}]
[null,null,{"$f":"VLOOKUP(A2443,'Analyse S'!A:D,4,FALSE)","v":{"$error":"#N/A"}}]
[null,null,{"$f":"VLOOKUP(A2444,'Analyse S'!A:D,4,FALSE)","v":{"$error":"#N/A"}}]
[null,null,{"$f":"VLOOKUP(A2445,'Analyse S'!A:D,4,FALSE)","v":{"$error":"#N/A"}}]
[null,null,{"$f":"VLOOKUP(A2446,'Analyse S'!A:D,4,FALSE)","v":{"$error":"#N/A"}}]
[null,null,{"$f":"VLOOKUP(A2447,'Analyse S'!A:D,4,FALSE)","v":{"$error":"#N/A"}}]
[null,null,{"$f":"VLOOKUP(A2448,'Analyse S'!A:D,4,FALSE)","v":{"$error":"#N/A"}}]
[null,null,{"$f":"VLOOKUP(A2449,'Analyse S'!A:D,4,FALSE)","v":{"$error":"#N/A"}}]
[null,null,{"$f":"VLOOKUP(A2450,'Analyse S'!A:D,4,FALSE)","v":{"$error":"#N/A"}}]
[null,null,{"$f":"VLOOKUP(A2451,'Analyse S'!A:D,4,FALSE)","v":{"$error":"#N/A"}}]
[null,null,{"$f":"VLOOKUP(A2452,'Analyse S'!A:D,4,FALSE)","v":{"$error":"#N/A"}}]
[null,null,{"$f":"VLOOKUP(A2453,'Analyse S'!A:D,4,FALSE)","v":{"$error":"#N/A"}}]
[null,null,{"$f":"VLOOKUP(A2454,'Analyse S'!A:D,4,FALSE)","v":{"$error":"#N/A"}}]
[null,null,{"$f":"VLOOKUP(A2455,'Analyse S'!A:D,4,FALSE)","v":{"$error":"#N/A"}}]
[null,null,{"$f":"VLOOKUP(A2456,'Analyse S'!A:D,4,FALSE)","v":{"$error":"#N/A"}}]
[null,null,{"$f":"VLOOKUP(A2457,'Analyse S'!A:D,4,FALSE)","v":{"$error":"#N/A"}}]
[null,null,{"$f":"VLOOKUP(A2458,'Analyse S'!A:D,4,FALSE)","v":{"$error":"#N/A"}}]
[null,null,{"$f":"VLOOKUP(A2459,'Analyse S'!A:D,4,FALSE)","v":{"$error":"#N/A"}}]
[null,null,{"$f":"VLOOKUP(A2460,'Analyse S'!A:D,4,FALSE)","v":{"$error":"#N/A"}}]
[null,null,{"$f":"VLOOKUP(A2461,'Analyse S'!A:D,4,FALSE)","v":{"$error":"#N/A"}}]
[null,null,{"$f":"VLOOKUP(A2462,'Analyse S'!A:D,4,FALSE)","v":{"$error":"#N/A"}}]
[null,null,{"$f":"VLOOKUP(A2463,'Analyse S'!A:D,4,FALSE)","v":{"$error":"#N/A"}}]
[null,null,{"$f":"VLOOKUP(A2464,'Analyse S'!A:D,4,FALSE)","v":{"$error":"#N/A"}}]
[null,null,{"$f":"VLOOKUP(A2465,'Analyse S'!A:D,4,FALSE)","v":{"$error":"#N/A"}}]
[null,null,{"$f":"VLOOKUP(A2466,'Analyse S'!A:D,4,FALSE)","v":{"$error":"#N/A"}}]
[null,null,{"$f":"VLOOKUP(A2467,'Analyse S'!A:D,4,FALSE)","v":{"$error":"#N/A"}}]
[null,null,{"$f":"VLOOKUP(A2468,'Analyse S'!A:D,4,FALSE)","v":{"$error":"#N/A"}}]
[null,null,{"$f":"VLOOKUP(A2469,'Analyse S'!A:D,4,FALSE)","v":{"$error":"#N/A"}}]
[null,null,{"$f":"VLOOKUP(A2470,'Analyse S'!A:D,4,FALSE)","v":{"$error":"#N/A"}}]
[null,null,{"$f":"VLOOKUP(A2471,'Analyse S'!A:D,4,FALSE)","v":{"$error":"#N/A"}}]
[null,null,{"$f":"VLOOKUP(A2472,'Analyse S'!A:D,4,FALSE)","v":{"$error":"#N/A"}}]
[null,null,{"$f":"VLOOKUP(A2473,'Analyse S'!A:D,4,FALSE)","v":{"$error":"#N/A"}}]
[null,null,{"$f":"VLOOKUP(A2474,'Analyse S'!A:D,4,FALSE)","v":{"$error":"#N/A"}}]
[null,null,{"$f":"VLOOKUP(A2475,'Analyse S'!A:D,4,FALSE)","v":{"$error":"#N/A"}}]
[null,null,{"$f":"VLOOKUP(A2476,'Analyse S'!A:D,4,FALSE)","v":{"$error":"#N/A"}}]
[null,null,{"$f":"VLOOKUP(A2477,'Analyse S'!A:D,4,FALSE)","v":{"$error":"#N/A"}}]
[null,null,{"$f":"VLOOKUP(A2478,'Analyse S'!A:D,4,FALSE)","v":{"$error":"#N/A"}}]
[null,null,{"$f":"VLOOKUP(A2479,'Analyse S'!A:D,4,FALSE)","v":{"$error":"#N/A"}}]
[null,null,{"$f":"VLOOKUP(A2480,'Analyse S'!A:D,4,FALSE)","v":{"$error":"#N/A"}}]
[null,null,{"$f":"VLOOKUP(A2481,'Analyse S'!A:D,4,FALSE)","v":{"$error":"#N/A"}}]
[null,null,{"$f":"VLOOKUP(A2482,'Analyse S'!A:D,4,FALSE)","v":{"$error":"#N/A"}}]
[null,null,{"$f":"VLOOKUP(A2483,'Analyse S'!A:D,4,FALSE)","v":{"$error":"#N/A"}}]
[null,null,{"$f":"VLOOKUP(A2484,'Analyse S'!A:D,4,FALSE)","v":{"$error":"#N/A"}}]
[null,null,{"$f":"VLOOKUP(A2485,'Analyse S'!A:D,4,FALSE)","v":{"$error":"#N/A"}}]
[null,null,{"$f":"VLOOKUP(A2486,'Analyse S'!A:D,4,FALSE)","v":{"$error":"#N/A"}}]
[null,null,{"$f":"VLOOKUP(A2487,'Analyse S'!A:D,4,FALSE)","v":{"$error":"#N/A"}}]
[null,null,{"$f":"VLOOKUP(A2488,'Analyse S'!A:D,4,FALSE)","v":{"$error":"#N/A"}}]
[null,null,{"$f":"VLOOKUP(A2489,'Analyse S'!A:D,4,FALSE)","v":{"$error":"#N/A"}}]
[null,null,{"$f":"VLOOKUP(A2490,'Analyse S'!A:D,4,FALSE)","v":{"$error":"#N/A"}}]
[null,null,{"$f":"VLOOKUP(A2491,'Analyse S'!A:D,4,FALSE)","v":{"$error":"#N/A"}}]
[null,null,{"$f":"VLOOKUP(A2492,'Analyse S'!A:D,4,FALSE)","v":{"$error":"#N/A"}}]
[null,null,{"$f":"VLOOKUP(A2493,'Analyse S'!A:D,4,FALSE)","v":{"$error":"#N/A"}}]
[null,null,{"$f":"VLOOKUP(A2494,'Analyse S'!A:D,4,FALSE)","v":{"$error":"#N/A"}}]
[null,null,{"$f":"VLOOKUP(A2495,'Analyse S'!A:D,4,FALSE)","v":{"$error":"#N/A"}}]
[null,null,{"$f":"VLOOKUP(A2496,'Analyse S'!A:D,4,FALSE)","v":{"$error":"#N/A"}}]
[null,null,{"$f":"VLOOKUP(A2497,'Analyse S'!A:D,4,FALSE)","v":{"$error":"#N/A"}}]
[null,null,{"$f":"VLOOKUP(A2498,'Analyse S'!A:D,4,FALSE)","v":{"$error":"#N/A"}}]
[null,null,{"$f":"VLOOKUP(A2499,'Analyse S'!A:D,4,FALSE)","v":{"$error":"#N/A"}}]
[null,null,{"$f":"VLOOKUP(A2500,'Analyse S'!A:D,4,FALSE)","v":{"$error":"#N/A"}}]
[null,null,{"$f":"VLOOKUP(A2501,'Analyse S'!A:D,4,FALSE)","v":{"$error":"#N/A"}}]
[null,null,{"$f":"VLOOKUP(A2502,'Analyse S'!A:D,4,FALSE)","v":{"$error":"#N/A"}}]
[null,null,{"$f":"VLOOKUP(A2503,'Analyse S'!A:D,4,FALSE)","v":{"$error":"#N/A"}}]
[null,null,{"$f":"VLOOKUP(A2504,'Analyse S'!A:D,4,FALSE)","v":{"$error":"#N/A"}}]
[null,null,{"$f":"VLOOKUP(A2505,'Analyse S'!A:D,4,FALSE)","v":{"$error":"#N/A"}}]
[null,null,{"$f":"VLOOKUP(A2506,'Analyse S'!A:D,4,FALSE)","v":{"$error":"#N/A"}}]
[null,null,{"$f":"VLOOKUP(A2507,'Analyse S'!A:D,4,FALSE)","v":{"$error":"#N/A"}}]
[null,null,{"$f":"VLOOKUP(A2508,'Analyse S'!A:D,4,FALSE)","v":{"$error":"#N/A"}}]
[null,null,{"$f":"VLOOKUP(A2509,'Analyse S'!A:D,4,FALSE)","v":{"$error":"#N/A"}}]
[null,null,{"$f":"VLOOKUP(A2510,'Analyse S'!A:D,4,FALSE)","v":{"$error":"#N/A"}}]
[null,null,{"$f":"VLOOKUP(A2511,'Analyse S'!A:D,4,FALSE)","v":{"$error":"#N/A"}}]
[null,null,{"$f":"VLOOKUP(A2512,'Analyse S'!A:D,4,FALSE)","v":{"$error":"#N/A"}}]
[null,null,{"$f":"VLOOKUP(A2513,'Analyse S'!A:D,4,FALSE)","v":{"$error":"#N/A"}}]
[null,null,{"$f":"VLOOKUP(A2514,'Analyse S'!A:D,4,FALSE)","v":{"$error":"#N/A"}}]
[null,null,{"$f":"VLOOKUP(A2515,'Analyse S'!A:D,4,FALSE)","v":{"$error":"#N/A"}}]
[null,null,{"$f":"VLOOKUP(A2516,'Analyse S'!A:D,4,FALSE)","v":{"$error":"#N/A"}}]
[null,null,{"$f":"VLOOKUP(A2517,'Analyse S'!A:D,4,FALSE)","v":{"$error":"#N/A"}}]
[null,null,{"$f":"VLOOKUP(A2518,'Analyse S'!A:D,4,FALSE)","v":{"$error":"#N/A"}}]
[null,null,{"$f":"VLOOKUP(A2519,'Analyse S'!A:D,4,FALSE)","v":{"$error":"#N/A"}}]
[null,null,{"$f":"VLOOKUP(A2520,'Analyse S'!A:D,4,FALSE)","v":{"$error":"#N/A"}}]
[null,null,{"$f":"VLOOKUP(A2521,'Analyse S'!A:D,4,FALSE)","v":{"$error":"#N/A"}}]
[null,null,{"$f":"VLOOKUP(A2522,'Analyse S'!A:D,4,FALSE)","v":{"$error":"#N/A"}}]
[null,null,{"$f":"VLOOKUP(A2523,'Analyse S'!A:D,4,FALSE)","v":{"$error":"#N/A"}}]
[null,null,{"$f":"VLOOKUP(A2524,'Analyse S'!A:D,4,FALSE)","v":{"$error":"#N/A"}}]
[null,null,{"$f":"VLOOKUP(A2525,'Analyse S'!A:D,4,FALSE)","v":{"$error":"#N/A"}}]
[null,null,{"$f":"VLOOKUP(A2526,'Analyse S'!A:D,4,FALSE)","v":{"$error":"#N/A"}}]
[null,null,{"$f":"VLOOKUP(A2527,'Analyse S'!A:D,4,FALSE)","v":{"$error":"#N/A"}}]
[null,null,{"$f":"VLOOKUP(A2528,'Analyse S'!A:D,4,FALSE)","v":{"$error":"#N/A"}}]
[null,null,{"$f":"VLOOKUP(A2529,'Analyse S'!A:D,4,FALSE)","v":{"$error":"#N/A"}}]
[null,null,{"$f":"VLOOKUP(A2530,'Analyse S'!A:D,4,FALSE)","v":{"$error":"#N/A"}}]
[null,null,{"$f":"VLOOKUP(A2531,'Analyse S'!A:D,4,FALSE)","v":{"$error":"#N/A"}}]
[null,null,{"$f":"VLOOKUP(A2532,'Analyse S'!A:D,4,FALSE)","v":{"$error":"#N/A"}}]
[null,null,{"$f":"VLOOKUP(A2533,'Analyse S'!A:D,4,FALSE)","v":{"$error":"#N/A"}}]
[null,null,{"$f":"VLOOKUP(A2534,'Analyse S'!A:D,4,FALSE)","v":{"$error":"#N/A"}}]
[null,null,{"$f":"VLOOKUP(A2535,'Analyse S'!A:D,4,FALSE)","v":{"$error":"#N/A"}}]
[null,null,{"$f":"VLOOKUP(A2536,'Analyse S'!A:D,4,FALSE)","v":{"$error":"#N/A"}}]
[null,null,{"$f":"VLOOKUP(A2537,'Analyse S'!A:D,4,FALSE)","v":{"$error":"#N/A"}}]
[null,null,{"$f":"VLOOKUP(A2538,'Analyse S'!A:D,4,FALSE)","v":{"$error":"#N/A"}}]
[null,null,{"$f":"VLOOKUP(A2539,'Analyse S'!A:D,4,FALSE)","v":{"$error":"#N/A"}}]
[null,null,{"$f":"VLOOKUP(A2540,'Analyse S'!A:D,4,FALSE)","v":{"$error":"#N/A"}}]
[null,null,{"$f":"VLOOKUP(A2541,'Analyse S'!A:D,4,FALSE)","v":{"$error":"#N/A"}}]
[null,null,{"$f":"VLOOKUP(A2542,'Analyse S'!A:D,4,FALSE)","v":{"$error":"#N/A"}}]
[null,null,{"$f":"VLOOKUP(A2543,'Analyse S'!A:D,4,FALSE)","v":{"$error":"#N/A"}}]
[null,null,{"$f":"VLOOKUP(A2544,'Analyse S'!A:D,4,FALSE)","v":{"$error":"#N/A"}}]
[null,null,{"$f":"VLOOKUP(A2545,'Analyse S'!A:D,4,FALSE)","v":{"$error":"#N/A"}}]
[null,null,{"$f":"VLOOKUP(A2546,'Analyse S'!A:D,4,FALSE)","v":{"$error":"#N/A"}}]
[null,null,{"$f":"VLOOKUP(A2547,'Analyse S'!A:D,4,FALSE)","v":{"$error":"#N/A"}}]
[null,null,{"$f":"VLOOKUP(A2548,'Analyse S'!A:D,4,FALSE)","v":{"$error":"#N/A"}}]
[null,null,{"$f":"VLOOKUP(A2549,'Analyse S'!A:D,4,FALSE)","v":{"$error":"#N/A"}}]
[null,null,{"$f":"VLOOKUP(A2550,'Analyse S'!A:D,4,FALSE)","v":{"$error":"#N/A"}}]
[null,null,{"$f":"VLOOKUP(A2551,'Analyse S'!A:D,4,FALSE)","v":{"$error":"#N/A"}}]
[null,null,{"$f":"VLOOKUP(A2552,'Analyse S'!A:D,4,FALSE)","v":{"$error":"#N/A"}}]
[null,null,{"$f":"VLOOKUP(A2553,'Analyse S'!A:D,4,FALSE)","v":{"$error":"#N/A"}}]
[null,null,{"$f":"VLOOKUP(A2554,'Analyse S'!A:D,4,FALSE)","v":{"$error":"#N/A"}}]
[null,null,{"$f":"VLOOKUP(A2555,'Analyse S'!A:D,4,FALSE)","v":{"$error":"#N/A"}}]
[null,null,{"$f":"VLOOKUP(A2556,'Analyse S'!A:D,4,FALSE)","v":{"$error":"#N/A"}}]
[null,null,{"$f":"VLOOKUP(A2557,'Analyse S'!A:D,4,FALSE)","v":{"$error":"#N/A"}}]
[null,null,{"$f":"VLOOKUP(A2558,'Analyse S'!A:D,4,FALSE)","v":{"$error":"#N/A"}}]
[null,null,{"$f":"VLOOKUP(A2559,'Analyse S'!A:D,4,FALSE)","v":{"$error":"#N/A"}}]
[null,null,{"$f":"VLOOKUP(A2560,'Analyse S'!A:D,4,FALSE)","v":{"$error":"#N/A"}}]
[null,null,{"$f":"VLOOKUP(A2561,'Analyse S'!A:D,4,FALSE)","v":{"$error":"#N/A"}}]
[null,null,{"$f":"VLOOKUP(A2562,'Analyse S'!A:D,4,FALSE)","v":{"$error":"#N/A"}}]
[null,null,{"$f":"VLOOKUP(A2563,'Analyse S'!A:D,4,FALSE)","v":{"$error":"#N/A"}}]
[null,null,{"$f":"VLOOKUP(A2564,'Analyse S'!A:D,4,FALSE)","v":{"$error":"#N/A"}}]
[null,null,{"$f":"VLOOKUP(A2565,'Analyse S'!A:D,4,FALSE)","v":{"$error":"#N/A"}}]
[null,null,{"$f":"VLOOKUP(A2566,'Analyse S'!A:D,4,FALSE)","v":{"$error":"#N/A"}}]
[null,null,{"$f":"VLOOKUP(A2567,'Analyse S'!A:D,4,FALSE)","v":{"$error":"#N/A"}}]
[null,null,{"$f":"VLOOKUP(A2568,'Analyse S'!A:D,4,FALSE)","v":{"$error":"#N/A"}}]
[null,null,{"$f":"VLOOKUP(A2569,'Analyse S'!A:D,4,FALSE)","v":{"$error":"#N/A"}}]
[null,null,{"$f":"VLOOKUP(A2570,'Analyse S'!A:D,4,FALSE)","v":{"$error":"#N/A"}}]
[null,null,{"$f":"VLOOKUP(A2571,'Analyse S'!A:D,4,FALSE)","v":{"$error":"#N/A"}}]
[null,null,{"$f":"VLOOKUP(A2572,'Analyse S'!A:D,4,FALSE)","v":{"$error":"#N/A"}}]
[null,null,{"$f":"VLOOKUP(A2573,'Analyse S'!A:D,4,FALSE)","v":{"$error":"#N/A"}}]
[null,null,{"$f":"VLOOKUP(A2574,'Analyse S'!A:D,4,FALSE)","v":{"$error":"#N/A"}}]
[null,null,{"$f":"VLOOKUP(A2575,'Analyse S'!A:D,4,FALSE)","v":{"$error":"#N/A"}}]
[null,null,{"$f":"VLOOKUP(A2576,'Analyse S'!A:D,4,FALSE)","v":{"$error":"#N/A"}}]
[null,null,{"$f":"VLOOKUP(A2577,'Analyse S'!A:D,4,FALSE)","v":{"$error":"#N/A"}}]
[null,null,{"$f":"VLOOKUP(A2578,'Analyse S'!A:D,4,FALSE)","v":{"$error":"#N/A"}}]
[null,null,{"$f":"VLOOKUP(A2579,'Analyse S'!A:D,4,FALSE)","v":{"$error":"#N/A"}}]
[null,null,{"$f":"VLOOKUP(A2580,'Analyse S'!A:D,4,FALSE)","v":{"$error":"#N/A"}}]
[null,null,{"$f":"VLOOKUP(A2581,'Analyse S'!A:D,4,FALSE)","v":{"$error":"#N/A"}}]
[null,null,{"$f":"VLOOKUP(A2582,'Analyse S'!A:D,4,FALSE)","v":{"$error":"#N/A"}}]
[null,null,{"$f":"VLOOKUP(A2583,'Analyse S'!A:D,4,FALSE)","v":{"$error":"#N/A"}}]
[null,null,{"$f":"VLOOKUP(A2584,'Analyse S'!A:D,4,FALSE)","v":{"$error":"#N/A"}}]
[null,null,{"$f":"VLOOKUP(A2585,'Analyse S'!A:D,4,FALSE)","v":{"$error":"#N/A"}}]
[null,null,{"$f":"VLOOKUP(A2586,'Analyse S'!A:D,4,FALSE)","v":{"$error":"#N/A"}}]
[null,null,{"$f":"VLOOKUP(A2587,'Analyse S'!A:D,4,FALSE)","v":{"$error":"#N/A"}}]
[null,null,{"$f":"VLOOKUP(A2588,'Analyse S'!A:D,4,FALSE)","v":{"$error":"#N/A"}}]
[null,null,{"$f":"VLOOKUP(A2589,'Analyse S'!A:D,4,FALSE)","v":{"$error":"#N/A"}}]
[null,null,{"$f":"VLOOKUP(A2590,'Analyse S'!A:D,4,FALSE)","v":{"$error":"#N/A"}}]
[null,null,{"$f":"VLOOKUP(A2591,'Analyse S'!A:D,4,FALSE)","v":{"$error":"#N/A"}}]
[null,null,{"$f":"VLOOKUP(A2592,'Analyse S'!A:D,4,FALSE)","v":{"$error":"#N/A"}}]
[null,null,{"$f":"VLOOKUP(A2593,'Analyse S'!A:D,4,FALSE)","v":{"$error":"#N/A"}}]
[null,null,{"$f":"VLOOKUP(A2594,'Analyse S'!A:D,4,FALSE)","v":{"$error":"#N/A"}}]
[null,null,{"$f":"VLOOKUP(A2595,'Analyse S'!A:D,4,FALSE)","v":{"$error":"#N/A"}}]
[null,null,{"$f":"VLOOKUP(A2596,'Analyse S'!A:D,4,FALSE)","v":{"$error":"#N/A"}}]
[null,null,{"$f":"VLOOKUP(A2597,'Analyse S'!A:D,4,FALSE)","v":{"$error":"#N/A"}}]
[null,null,{"$f":"VLOOKUP(A2598,'Analyse S'!A:D,4,FALSE)","v":{"$error":"#N/A"}}]
[null,null,{"$f":"VLOOKUP(A2599,'Analyse S'!A:D,4,FALSE)","v":{"$error":"#N/A"}}]
[null,null,{"$f":"VLOOKUP(A2600,'Analyse S'!A:D,4,FALSE)","v":{"$error":"#N/A"}}]
[null,null,{"$f":"VLOOKUP(A2601,'Analyse S'!A:D,4,FALSE)","v":{"$error":"#N/A"}}]
[null,null,{"$f":"VLOOKUP(A2602,'Analyse S'!A:D,4,FALSE)","v":{"$error":"#N/A"}}]
[null,null,{"$f":"VLOOKUP(A2603,'Analyse S'!A:D,4,FALSE)","v":{"$error":"#N/A"}}]
[null,null,{"$f":"VLOOKUP(A2604,'Analyse S'!A:D,4,FALSE)","v":{"$error":"#N/A"}}]
[null,null,{"$f":"VLOOKUP(A2605,'Analyse S'!A:D,4,FALSE)","v":{"$error":"#N/A"}}]
[null,null,{"$f":"VLOOKUP(A2606,'Analyse S'!A:D,4,FALSE)","v":{"$error":"#N/A"}}]
[null,null,{"$f":"VLOOKUP(A2607,'Analyse S'!A:D,4,FALSE)","v":{"$error":"#N/A"}}]
[null,null,{"$f":"VLOOKUP(A2608,'Analyse S'!A:D,4,FALSE)","v":{"$error":"#N/A"}}]
[null,null,{"$f":"VLOOKUP(A2609,'Analyse S'!A:D,4,FALSE)","v":{"$error":"#N/A"}}]
[null,null,{"$f":"VLOOKUP(A2610,'Analyse S'!A:D,4,FALSE)","v":{"$error":"#N/A"}}]
[null,null,{"$f":"VLOOKUP(A2611,'Analyse S'!A:D,4,FALSE)","v":{"$error":"#N/A"}}]
[null,null,{"$f":"VLOOKUP(A2612,'Analyse S'!A:D,4,FALSE)","v":{"$error":"#N/A"}}]
[null,null,{"$f":"VLOOKUP(A2613,'Analyse S'!A:D,4,FALSE)","v":{"$error":"#N/A"}}]
[null,null,{"$f":"VLOOKUP(A2614,'Analyse S'!A:D,4,FALSE)","v":{"$error":"#N/A"}}]
[null,null,{"$f":"VLOOKUP(A2615,'Analyse S'!A:D,4,FALSE)","v":{"$error":"#N/A"}}]
[null,null,{"$f":"VLOOKUP(A2616,'Analyse S'!A:D,4,FALSE)","v":{"$error":"#N/A"}}]
[null,null,{"$f":"VLOOKUP(A2617,'Analyse S'!A:D,4,FALSE)","v":{"$error":"#N/A"}}]
[null,null,{"$f":"VLOOKUP(A2618,'Analyse S'!A:D,4,FALSE)","v":{"$error":"#N/A"}}]
[null,null,{"$f":"VLOOKUP(A2619,'Analyse S'!A:D,4,FALSE)","v":{"$error":"#N/A"}}]
[null,null,{"$f":"VLOOKUP(A2620,'Analyse S'!A:D,4,FALSE)","v":{"$error":"#N/A"}}]
[null,null,{"$f":"VLOOKUP(A2621,'Analyse S'!A:D,4,FALSE)","v":{"$error":"#N/A"}}]
[null,null,{"$f":"VLOOKUP(A2622,'Analyse S'!A:D,4,FALSE)","v":{"$error":"#N/A"}}]
[null,null,{"$f":"VLOOKUP(A2623,'Analyse S'!A:D,4,FALSE)","v":{"$error":"#N/A"}}]
[null,null,{"$f":"VLOOKUP(A2624,'Analyse S'!A:D,4,FALSE)","v":{"$error":"#N/A"}}]
[null,null,{"$f":"VLOOKUP(A2625,'Analyse S'!A:D,4,FALSE)","v":{"$error":"#N/A"}}]
[null,null,{"$f":"VLOOKUP(A2626,'Analyse S'!A:D,4,FALSE)","v":{"$error":"#N/A"}}]
[null,null,{"$f":"VLOOKUP(A2627,'Analyse S'!A:D,4,FALSE)","v":{"$error":"#N/A"}}]
[null,null,{"$f":"VLOOKUP(A2628,'Analyse S'!A:D,4,FALSE)","v":{"$error":"#N/A"}}]
[null,null,{"$f":"VLOOKUP(A2629,'Analyse S'!A:D,4,FALSE)","v":{"$error":"#N/A"}}]
[null,null,{"$f":"VLOOKUP(A2630,'Analyse S'!A:D,4,FALSE)","v":{"$error":"#N/A"}}]
[null,null,{"$f":"VLOOKUP(A2631,'Analyse S'!A:D,4,FALSE)","v":{"$error":"#N/A"}}]
[null,null,{"$f":"VLOOKUP(A2632,'Analyse S'!A:D,4,FALSE)","v":{"$error":"#N/A"}}]
[null,null,{"$f":"VLOOKUP(A2633,'Analyse S'!A:D,4,FALSE)","v":{"$error":"#N/A"}}]
[null,null,{"$f":"VLOOKUP(A2634,'Analyse S'!A:D,4,FALSE)","v":{"$error":"#N/A"}}]
[null,null,{"$f":"VLOOKUP(A2635,'Analyse S'!A:D,4,FALSE)","v":{"$error":"#N/A"}}]
[null,null,{"$f":"VLOOKUP(A2636,'Analyse S'!A:D,4,FALSE)","v":{"$error":"#N/A"}}]
[null,null,{"$f":"VLOOKUP(A2637,'Analyse S'!A:D,4,FALSE)","v":{"$error":"#N/A"}}]
[null,null,{"$f":"VLOOKUP(A2638,'Analyse S'!A:D,4,FALSE)","v":{"$error":"#N/A"}}]
[null,null,{"$f":"VLOOKUP(A2639,'Analyse S'!A:D,4,FALSE)","v":{"$error":"#N/A"}}]
[null,null,{"$f":"VLOOKUP(A2640,'Analyse S'!A:D,4,FALSE)","v":{"$error":"#N/A"}}]
[null,null,{"$f":"VLOOKUP(A2641,'Analyse S'!A:D,4,FALSE)","v":{"$error":"#N/A"}}]
[null,null,{"$f":"VLOOKUP(A2642,'Analyse S'!A:D,4,FALSE)","v":{"$error":"#N/A"}}]
[null,null,{"$f":"VLOOKUP(A2643,'Analyse S'!A:D,4,FALSE)","v":{"$error":"#N/A"}}]
[null,null,{"$f":"VLOOKUP(A2644,'Analyse S'!A:D,4,FALSE)","v":{"$error":"#N/A"}}]
[null,null,{"$f":"VLOOKUP(A2645,'Analyse S'!A:D,4,FALSE)","v":{"$error":"#N/A"}}]
[null,null,{"$f":"VLOOKUP(A2646,'Analyse S'!A:D,4,FALSE)","v":{"$error":"#N/A"}}]
[null,null,{"$f":"VLOOKUP(A2647,'Analyse S'!A:D,4,FALSE)","v":{"$error":"#N/A"}}]
[null,null,{"$f":"VLOOKUP(A2648,'Analyse S'!A:D,4,FALSE)","v":{"$error":"#N/A"}}]
[null,null,{"$f":"VLOOKUP(A2649,'Analyse S'!A:D,4,FALSE)","v":{"$error":"#N/A"}}]
[null,null,{"$f":"VLOOKUP(A2650,'Analyse S'!A:D,4,FALSE)","v":{"$error":"#N/A"}}]
[null,null,{"$f":"VLOOKUP(A2651,'Analyse S'!A:D,4,FALSE)","v":{"$error":"#N/A"}}]
[null,null,{"$f":"VLOOKUP(A2652,'Analyse S'!A:D,4,FALSE)","v":{"$error":"#N/A"}}]
[null,null,{"$f":"VLOOKUP(A2653,'Analyse S'!A:D,4,FALSE)","v":{"$error":"#N/A"}}]
[null,null,{"$f":"VLOOKUP(A2654,'Analyse S'!A:D,4,FALSE)","v":{"$error":"#N/A"}}]
[null,null,{"$f":"VLOOKUP(A2655,'Analyse S'!A:D,4,FALSE)","v":{"$error":"#N/A"}}]
[null,null,{"$f":"VLOOKUP(A2656,'Analyse S'!A:D,4,FALSE)","v":{"$error":"#N/A"}}]
[null,null,{"$f":"VLOOKUP(A2657,'Analyse S'!A:D,4,FALSE)","v":{"$error":"#N/A"}}]
[null,null,{"$f":"VLOOKUP(A2658,'Analyse S'!A:D,4,FALSE)","v":{"$error":"#N/A"}}]
[null,null,{"$f":"VLOOKUP(A2659,'Analyse S'!A:D,4,FALSE)","v":{"$error":"#N/A"}}]
[null,null,{"$f":"VLOOKUP(A2660,'Analyse S'!A:D,4,FALSE)","v":{"$error":"#N/A"}}]
[null,null,{"$f":"VLOOKUP(A2661,'Analyse S'!A:D,4,FALSE)","v":{"$error":"#N/A"}}]
[null,null,{"$f":"VLOOKUP(A2662,'Analyse S'!A:D,4,FALSE)","v":{"$error":"#N/A"}}]
[null,null,{"$f":"VLOOKUP(A2663,'Analyse S'!A:D,4,FALSE)","v":{"$error":"#N/A"}}]
[null,null,{"$f":"VLOOKUP(A2664,'Analyse S'!A:D,4,FALSE)","v":{"$error":"#N/A"}}]
[null,null,{"$f":"VLOOKUP(A2665,'Analyse S'!A:D,4,FALSE)","v":{"$error":"#N/A"}}]
[null,null,{"$f":"VLOOKUP(A2666,'Analyse S'!A:D,4,FALSE)","v":{"$error":"#N/A"}}]
[null,null,{"$f":"VLOOKUP(A2667,'Analyse S'!A:D,4,FALSE)","v":{"$error":"#N/A"}}]
[null,null,{"$f":"VLOOKUP(A2668,'Analyse S'!A:D,4,FALSE)","v":{"$error":"#N/A"}}]
[null,null,{"$f":"VLOOKUP(A2669,'Analyse S'!A:D,4,FALSE)","v":{"$error":"#N/A"}}]
[null,null,{"$f":"VLOOKUP(A2670,'Analyse S'!A:D,4,FALSE)","v":{"$error":"#N/A"}}]
[null,null,{"$f":"VLOOKUP(A2671,'Analyse S'!A:D,4,FALSE)","v":{"$error":"#N/A"}}]
[null,null,{"$f":"VLOOKUP(A2672,'Analyse S'!A:D,4,FALSE)","v":{"$error":"#N/A"}}]
[null,null,{"$f":"VLOOKUP(A2673,'Analyse S'!A:D,4,FALSE)","v":{"$error":"#N/A"}}]
[null,null,{"$f":"VLOOKUP(A2674,'Analyse S'!A:D,4,FALSE)","v":{"$error":"#N/A"}}]
[null,null,{"$f":"VLOOKUP(A2675,'Analyse S'!A:D,4,FALSE)","v":{"$error":"#N/A"}}]
[null,null,{"$f":"VLOOKUP(A2676,'Analyse S'!A:D,4,FALSE)","v":{"$error":"#N/A"}}]
[null,null,{"$f":"VLOOKUP(A2677,'Analyse S'!A:D,4,FALSE)","v":{"$error":"#N/A"}}]
[null,null,{"$f":"VLOOKUP(A2678,'Analyse S'!A:D,4,FALSE)","v":{"$error":"#N/A"}}]
[null,null,{"$f":"VLOOKUP(A2679,'Analyse S'!A:D,4,FALSE)","v":{"$error":"#N/A"}}]
[null,null,{"$f":"VLOOKUP(A2680,'Analyse S'!A:D,4,FALSE)","v":{"$error":"#N/A"}}]
[null,null,{"$f":"VLOOKUP(A2681,'Analyse S'!A:D,4,FALSE)","v":{"$error":"#N/A"}}]
[null,null,{"$f":"VLOOKUP(A2682,'Analyse S'!A:D,4,FALSE)","v":{"$error":"#N/A"}}]
[null,null,{"$f":"VLOOKUP(A2683,'Analyse S'!A:D,4,FALSE)","v":{"$error":"#N/A"}}]
[null,null,{"$f":"VLOOKUP(A2684,'Analyse S'!A:D,4,FALSE)","v":{"$error":"#N/A"}}]
[null,null,{"$f":"VLOOKUP(A2685,'Analyse S'!A:D,4,FALSE)","v":{"$error":"#N/A"}}]
[null,null,{"$f":"VLOOKUP(A2686,'Analyse S'!A:D,4,FALSE)","v":{"$error":"#N/A"}}]
[null,null,{"$f":"VLOOKUP(A2687,'Analyse S'!A:D,4,FALSE)","v":{"$error":"#N/A"}}]
[null,null,{"$f":"VLOOKUP(A2688,'Analyse S'!A:D,4,FALSE)","v":{"$error":"#N/A"}}]
[null,null,{"$f":"VLOOKUP(A2689,'Analyse S'!A:D,4,FALSE)","v":{"$error":"#N/A"}}]
[null,null,{"$f":"VLOOKUP(A2690,'Analyse S'!A:D,4,FALSE)","v":{"$error":"#N/A"}}]
[null,null,{"$f":"VLOOKUP(A2691,'Analyse S'!A:D,4,FALSE)","v":{"$error":"#N/A"}}]
[null,null,{"$f":"VLOOKUP(A2692,'Analyse S'!A:D,4,FALSE)","v":{"$error":"#N/A"}}]
[null,null,{"$f":"VLOOKUP(A2693,'Analyse S'!A:D,4,FALSE)","v":{"$error":"#N/A"}}]
[null,null,{"$f":"VLOOKUP(A2694,'Analyse S'!A:D,4,FALSE)","v":{"$error":"#N/A"}}]
[null,null,{"$f":"VLOOKUP(A2695,'Analyse S'!A:D,4,FALSE)","v":{"$error":"#N/A"}}]
[null,null,{"$f":"VLOOKUP(A2696,'Analyse S'!A:D,4,FALSE)","v":{"$error":"#N/A"}}]
[null,null,{"$f":"VLOOKUP(A2697,'Analyse S'!A:D,4,FALSE)","v":{"$error":"#N/A"}}]
[null,null,{"$f":"VLOOKUP(A2698,'Analyse S'!A:D,4,FALSE)","v":{"$error":"#N/A"}}]
[null,null,{"$f":"VLOOKUP(A2699,'Analyse S'!A:D,4,FALSE)","v":{"$error":"#N/A"}}]
[null,null,{"$f":"VLOOKUP(A2700,'Analyse S'!A:D,4,FALSE)","v":{"$error":"#N/A"}}]
[null,null,{"$f":"VLOOKUP(A2701,'Analyse S'!A:D,4,FALSE)","v":{"$error":"#N/A"}}]
[null,null,{"$f":"VLOOKUP(A2702,'Analyse S'!A:D,4,FALSE)","v":{"$error":"#N/A"}}]
[null,null,{"$f":"VLOOKUP(A2703,'Analyse S'!A:D,4,FALSE)","v":{"$error":"#N/A"}}]
[null,null,{"$f":"VLOOKUP(A2704,'Analyse S'!A:D,4,FALSE)","v":{"$error":"#N/A"}}]
[null,null,{"$f":"VLOOKUP(A2705,'Analyse S'!A:D,4,FALSE)","v":{"$error":"#N/A"}}]
[null,null,{"$f":"VLOOKUP(A2706,'Analyse S'!A:D,4,FALSE)","v":{"$error":"#N/A"}}]
[null,null,{"$f":"VLOOKUP(A2707,'Analyse S'!A:D,4,FALSE)","v":{"$error":"#N/A"}}]
[null,null,{"$f":"VLOOKUP(A2708,'Analyse S'!A:D,4,FALSE)","v":{"$error":"#N/A"}}]
[null,null,{"$f":"VLOOKUP(A2709,'Analyse S'!A:D,4,FALSE)","v":{"$error":"#N/A"}}]
[null,null,{"$f":"VLOOKUP(A2710,'Analyse S'!A:D,4,FALSE)","v":{"$error":"#N/A"}}]
[null,null,{"$f":"VLOOKUP(A2711,'Analyse S'!A:D,4,FALSE)","v":{"$error":"#N/A"}}]
[null,null,{"$f":"VLOOKUP(A2712,'Analyse S'!A:D,4,FALSE)","v":{"$error":"#N/A"}}]
[null,null,{"$f":"VLOOKUP(A2713,'Analyse S'!A:D,4,FALSE)","v":{"$error":"#N/A"}}]
[null,null,{"$f":"VLOOKUP(A2714,'Analyse S'!A:D,4,FALSE)","v":{"$error":"#N/A"}}]
[null,null,{"$f":"VLOOKUP(A2715,'Analyse S'!A:D,4,FALSE)","v":{"$error":"#N/A"}}]
[null,null,{"$f":"VLOOKUP(A2716,'Analyse S'!A:D,4,FALSE)","v":{"$error":"#N/A"}}]
[null,null,{"$f":"VLOOKUP(A2717,'Analyse S'!A:D,4,FALSE)","v":{"$error":"#N/A"}}]
[null,null,{"$f":"VLOOKUP(A2718,'Analyse S'!A:D,4,FALSE)","v":{"$error":"#N/A"}}]
[null,null,{"$f":"VLOOKUP(A2719,'Analyse S'!A:D,4,FALSE)","v":{"$error":"#N/A"}}]
[null,null,{"$f":"VLOOKUP(A2720,'Analyse S'!A:D,4,FALSE)","v":{"$error":"#N/A"}}]
[null,null,{"$f":"VLOOKUP(A2721,'Analyse S'!A:D,4,FALSE)","v":{"$error":"#N/A"}}]
[null,null,{"$f":"VLOOKUP(A2722,'Analyse S'!A:D,4,FALSE)","v":{"$error":"#N/A"}}]
[null,null,{"$f":"VLOOKUP(A2723,'Analyse S'!A:D,4,FALSE)","v":{"$error":"#N/A"}}]
[null,null,{"$f":"VLOOKUP(A2724,'Analyse S'!A:D,4,FALSE)","v":{"$error":"#N/A"}}]
[null,null,{"$f":"VLOOKUP(A2725,'Analyse S'!A:D,4,FALSE)","v":{"$error":"#N/A"}}]
[null,null,{"$f":"VLOOKUP(A2726,'Analyse S'!A:D,4,FALSE)","v":{"$error":"#N/A"}}]
[null,null,{"$f":"VLOOKUP(A2727,'Analyse S'!A:D,4,FALSE)","v":{"$error":"#N/A"}}]
[null,null,{"$f":"VLOOKUP(A2728,'Analyse S'!A:D,4,FALSE)","v":{"$error":"#N/A"}}]
[null,null,{"$f":"VLOOKUP(A2729,'Analyse S'!A:D,4,FALSE)","v":{"$error":"#N/A"}}]
[null,null,{"$f":"VLOOKUP(A2730,'Analyse S'!A:D,4,FALSE)","v":{"$error":"#N/A"}}]
[null,null,{"$f":"VLOOKUP(A2731,'Analyse S'!A:D,4,FALSE)","v":{"$error":"#N/A"}}]
[null,null,{"$f":"VLOOKUP(A2732,'Analyse S'!A:D,4,FALSE)","v":{"$error":"#N/A"}}]
[null,null,{"$f":"VLOOKUP(A2733,'Analyse S'!A:D,4,FALSE)","v":{"$error":"#N/A"}}]
[null,null,{"$f":"VLOOKUP(A2734,'Analyse S'!A:D,4,FALSE)","v":{"$error":"#N/A"}}]
[null,null,{"$f":"VLOOKUP(A2735,'Analyse S'!A:D,4,FALSE)","v":{"$error":"#N/A"}}]
[null,null,{"$f":"VLOOKUP(A2736,'Analyse S'!A:D,4,FALSE)","v":{"$error":"#N/A"}}]
[null,null,{"$f":"VLOOKUP(A2737,'Analyse S'!A:D,4,FALSE)","v":{"$error":"#N/A"}}]
[null,null,{"$f":"VLOOKUP(A2738,'Analyse S'!A:D,4,FALSE)","v":{"$error":"#N/A"}}]
[null,null,{"$f":"VLOOKUP(A2739,'Analyse S'!A:D,4,FALSE)","v":{"$error":"#N/A"}}]
[null,null,{"$f":"VLOOKUP(A2740,'Analyse S'!A:D,4,FALSE)","v":{"$error":"#N/A"}}]
[null,null,{"$f":"VLOOKUP(A2741,'Analyse S'!A:D,4,FALSE)","v":{"$error":"#N/A"}}]
[null,null,{"$f":"VLOOKUP(A2742,'Analyse S'!A:D,4,FALSE)","v":{"$error":"#N/A"}}]
[null,null,{"$f":"VLOOKUP(A2743,'Analyse S'!A:D,4,FALSE)","v":{"$error":"#N/A"}}]
[null,null,{"$f":"VLOOKUP(A2744,'Analyse S'!A:D,4,FALSE)","v":{"$error":"#N/A"}}]
[null,null,{"$f":"VLOOKUP(A2745,'Analyse S'!A:D,4,FALSE)","v":{"$error":"#N/A"}}]
[null,null,{"$f":"VLOOKUP(A2746,'Analyse S'!A:D,4,FALSE)","v":{"$error":"#N/A"}}]
[null,null,{"$f":"VLOOKUP(A2747,'Analyse S'!A:D,4,FALSE)","v":{"$error":"#N/A"}}]
[null,null,{"$f":"VLOOKUP(A2748,'Analyse S'!A:D,4,FALSE)","v":{"$error":"#N/A"}}]
[null,null,{"$f":"VLOOKUP(A2749,'Analyse S'!A:D,4,FALSE)","v":{"$error":"#N/A"}}]
[null,null,{"$f":"VLOOKUP(A2750,'Analyse S'!A:D,4,FALSE)","v":{"$error":"#N/A"}}]
[null,null,{"$f":"VLOOKUP(A2751,'Analyse S'!A:D,4,FALSE)","v":{"$error":"#N/A"}}]
[null,null,{"$f":"VLOOKUP(A2752,'Analyse S'!A:D,4,FALSE)","v":{"$error":"#N/A"}}]
[null,null,{"$f":"VLOOKUP(A2753,'Analyse S'!A:D,4,FALSE)","v":{"$error":"#N/A"}}]
[null,null,{"$f":"VLOOKUP(A2754,'Analyse S'!A:D,4,FALSE)","v":{"$error":"#N/A"}}]
[null,null,{"$f":"VLOOKUP(A2755,'Analyse S'!A:D,4,FALSE)","v":{"$error":"#N/A"}}]
[null,null,{"$f":"VLOOKUP(A2756,'Analyse S'!A:D,4,FALSE)","v":{"$error":"#N/A"}}]
[null,null,{"$f":"VLOOKUP(A2757,'Analyse S'!A:D,4,FALSE)","v":{"$error":"#N/A"}}]
[null,null,{"$f":"VLOOKUP(A2758,'Analyse S'!A:D,4,FALSE)","v":{"$error":"#N/A"}}]

{"sheet":"Entrées S1","index":4,"n_rows":2758,"n_cols":3,"rows_kept":2758}
["RACE","Quantité"," Vérification"]
["307-282-001-0",120,{"$f":"VLOOKUP(A2,'Analyse S'!A:D,2,FALSE)","v":120}]
["309-053-601-0",12,{"$f":"VLOOKUP(A3,'Analyse S'!A:D,2,FALSE)","v":12}]
["307-056-101-0",50,{"$f":"VLOOKUP(A4,'Analyse S'!A:D,2,FALSE)","v":50}]
["307-250-507-0",60,{"$f":"VLOOKUP(A5,'Analyse S'!A:D,2,FALSE)","v":60}]
["307-111-002-0",1,{"$f":"VLOOKUP(A6,'Analyse S'!A:D,2,FALSE)","v":1}]
["307-222-602-6",10,{"$f":"VLOOKUP(A7,'Analyse S'!A:D,2,FALSE)","v":10}]
["307-150-001-0",2,{"$f":"VLOOKUP(A8,'Analyse S'!A:D,2,FALSE)","v":2}]
["650-153-504-0",25,{"$f":"VLOOKUP(A9,'Analyse S'!A:D,2,FALSE)","v":25}]
["307-094-451-6",1,{"$f":"VLOOKUP(A10,'Analyse S'!A:D,2,FALSE)","v":1}]
["307-113-702-6",1,{"$f":"VLOOKUP(A11,'Analyse S'!A:D,2,FALSE)","v":1}]
["307-826-902-0",1,{"$f":"VLOOKUP(A12,'Analyse S'!A:D,2,FALSE)","v":1}]
["307-226-302-0",4,{"$f":"VLOOKUP(A13,'Analyse S'!A:D,2,FALSE)","v":4}]
["650-153-506-0",200,{"$f":"VLOOKUP(A14,'Analyse S'!A:D,2,FALSE)","v":200}]
["650-153-216-0",25,{"$f":"VLOOKUP(A15,'Analyse S'!A:D,2,FALSE)","v":25}]
["307-094-605-0",8,{"$f":"VLOOKUP(A16,'Analyse S'!A:D,2,FALSE)","v":8}]
["307-138-501-0",5,{"$f":"VLOOKUP(A17,'Analyse S'!A:D,2,FALSE)","v":5}]
["309-012-902-0",2,{"$f":"VLOOKUP(A18,'Analyse S'!A:D,2,FALSE)","v":2}]
["309-107-006-0",1,{"$f":"VLOOKUP(A19,'Analyse S'!A:D,2,FALSE)","v":1}]
["307-214-601-0",2,{"$f":"VLOOKUP(A20,'Analyse S'!A:D,2,FALSE)","v":2}]
["307-214-701-0",2,{"$f":"VLOOKUP(A21,'Analyse S'!A:D,2,FALSE)","v":2}]
["307-230-702-6",2,{"$f":"VLOOKUP(A22,'Analyse S'!A:D,2,FALSE)","v":2}]
["649-804-019-0",1,{"$f":"VLOOKUP(A23,'Analyse S'!A:D,2,FALSE)","v":1}]
["326-025-301-0",2,{"$f":"VLOOKUP(A24,'Analyse S'!A:D,2,FALSE)","v":2}]
["326-202-301-0",1,{"$f":"VLOOKUP(A25,'Analyse S'!A:D,2,FALSE)","v":1}]
["307-004-333-0",2,{"$f":"VLOOKUP(A26,'Analyse S'!A:D,2,FALSE)","v":2}]
["A80910-9",2,{"$f":"VLOOKUP(A27,'Analyse S'!A:D,2,FALSE)","v":2}]
["650-002-551-0",450,{"$f":"VLOOKUP(A28,'Analyse S'!A:D,2,FALSE)","v":450}]
["307-279-401-0",4,{"$f":"VLOOKUP(A29,'Analyse S'!A:D,2,FALSE)","v":4}]
["309-129-207-0",2,{"$f":"VLOOKUP(A30,'Analyse S'!A:D,2,FALSE)","v":2}]
["307-251-409-0",28,{"$f":"VLOOKUP(A31,'Analyse S'!A:D,2,FALSE)","v":28}]
["307-827-413-0",18,{"$f":"VLOOKUP(A32,'Analyse S'!A:D,2,FALSE)","v":18}]
["307-232-214-0",1,{"$f":"VLOOKUP(A33,'Analyse S'!A:D,2,FALSE)","v":1}]
["309-169-601-0",1,{"$f":"VLOOKUP(A34,'Analyse S'!A:D,2,FALSE)","v":1}]
["307-942-511-0",1,{"$f":"VLOOKUP(A35,'Analyse S'!A:D,2,FALSE)","v":1}]
["307-233-801-0",5000,{"$f":"VLOOKUP(A36,'Analyse S'!A:D,2,FALSE)","v":5000}]
["309-111-402-0",100,{"$f":"VLOOKUP(A37,'Analyse S'!A:D,2,FALSE)","v":100}]
["307-059-108-0",1,{"$f":"VLOOKUP(A38,'Analyse S'!A:D,2,FALSE)","v":1}]
["307-232-606-0",600,{"$f":"VLOOKUP(A39,'Analyse S'!A:D,2,FALSE)","v":600}]
["307-058-345-0",2,{"$f":"VLOOKUP(A40,'Analyse S'!A:D,2,FALSE)","v":2}]
["307-240-107-0",120,{"$f":"VLOOKUP(A41,'Analyse S'!A:D,2,FALSE)","v":120}]
["307-234-202-0",2,{"$f":"VLOOKUP(A42,'Analyse S'!A:D,2,FALSE)","v":2}]
["307-157-503-0",1,{"$f":"VLOOKUP(A43,'Analyse S'!A:D,2,FALSE)","v":1}]
["RP217-03",28,{"$f":"VLOOKUP(A44,'Analyse S'!A:D,2,FALSE)","v":28}]
["309-133-301-0",1,{"$f":"VLOOKUP(A45,'Analyse S'!A:D,2,FALSE)","v":1}]
["307-083-734-0",4,{"$f":"VLOOKUP(A46,'Analyse S'!A:D,2,FALSE)","v":4}]
["443-349-00-C",20,{"$f":"VLOOKUP(A47,'Analyse S'!A:D,2,FALSE)","v":20}]
["309-042-004-0",1,{"$f":"VLOOKUP(A48,'Analyse S'!A:D,2,FALSE)","v":1}]
["307-264-510-6",1,{"$f":"VLOOKUP(A49,'Analyse S'!A:D,2,FALSE)","v":1}]
["307-812-501-0",1,{"$f":"VLOOKUP(A50,'Analyse S'!A:D,2,FALSE)","v":1}]
["309-124-703-0",1,{"$f":"VLOOKUP(A51,'Analyse S'!A:D,2,FALSE)","v":1}]
["309-126-101-0",1,{"$f":"VLOOKUP(A52,'Analyse S'!A:D,2,FALSE)","v":1}]
["309-126-201-0",1,{"$f":"VLOOKUP(A53,'Analyse S'!A:D,2,FALSE)","v":1}]
["TP634-3",1,{"$f":"VLOOKUP(A54,'Analyse S'!A:D,2,FALSE)","v":1}]
[null,null,{"$f":"VLOOKUP(A55,'Analyse S'!A:D,2,FALSE)","v":{"$error":"#N/A"}}]
[null,null,{"$f":"VLOOKUP(A56,'Analyse S'!A:D,2,FALSE)","v":{"$error":"#N/A"}}]
[null,null,{"$f":"VLOOKUP(A57,'Analyse S'!A:D,2,FALSE)","v":{"$error":"#N/A"}}]
[null,null,{"$f":"VLOOKUP(A58,'Analyse S'!A:D,2,FALSE)","v":{"$error":"#N/A"}}]
[null,null,{"$f":"VLOOKUP(A59,'Analyse S'!A:D,2,FALSE)","v":{"$error":"#N/A"}}]
[null,null,{"$f":"VLOOKUP(A60,'Analyse S'!A:D,2,FALSE)","v":{"$error":"#N/A"}}]
[null,null,{"$f":"VLOOKUP(A61,'Analyse S'!A:D,2,FALSE)","v":{"$error":"#N/A"}}]
[null,null,{"$f":"VLOOKUP(A62,'Analyse S'!A:D,2,FALSE)","v":{"$error":"#N/A"}}]
[null,null,{"$f":"VLOOKUP(A63,'Analyse S'!A:D,2,FALSE)","v":{"$error":"#N/A"}}]
[null,null,{"$f":"VLOOKUP(A64,'Analyse S'!A:D,2,FALSE)","v":{"$error":"#N/A"}}]
[null,null,{"$f":"VLOOKUP(A65,'Analyse S'!A:D,2,FALSE)","v":{"$error":"#N/A"}}]
[null,null,{"$f":"VLOOKUP(A66,'Analyse S'!A:D,2,FALSE)","v":{"$error":"#N/A"}}]
[null,null,{"$f":"VLOOKUP(A67,'Analyse S'!A:D,2,FALSE)","v":{"$error":"#N/A"}}]
[null,null,{"$f":"VLOOKUP(A68,'Analyse S'!A:D,2,FALSE)","v":{"$error":"#N/A"}}]
[null,null,{"$f":"VLOOKUP(A69,'Analyse S'!A:D,2,FALSE)","v":{"$error":"#N/A"}}]
[null,null,{"$f":"VLOOKUP(A70,'Analyse S'!A:D,2,FALSE)","v":{"$error":"#N/A"}}]
[null,null,{"$f":"VLOOKUP(A71,'Analyse S'!A:D,2,FALSE)","v":{"$error":"#N/A"}}]
[null,null,{"$f":"VLOOKUP(A72,'Analyse S'!A:D,2,FALSE)","v":{"$error":"#N/A"}}]
[null,null,{"$f":"VLOOKUP(A73,'Analyse S'!A:D,2,FALSE)","v":{"$error":"#N/A"}}]
[null,null,{"$f":"VLOOKUP(A74,'Analyse S'!A:D,2,FALSE)","v":{"$error":"#N/A"}}]
[null,null,{"$f":"VLOOKUP(A75,'Analyse S'!A:D,2,FALSE)","v":{"$error":"#N/A"}}]
[null,null,{"$f":"VLOOKUP(A76,'Analyse S'!A:D,2,FALSE)","v":{"$error":"#N/A"}}]
[null,null,{"$f":"VLOOKUP(A77,'Analyse S'!A:D,2,FALSE)","v":{"$error":"#N/A"}}]
[null,null,{"$f":"VLOOKUP(A78,'Analyse S'!A:D,2,FALSE)","v":{"$error":"#N/A"}}]
[null,null,{"$f":"VLOOKUP(A79,'Analyse S'!A:D,2,FALSE)","v":{"$error":"#N/A"}}]
[null,null,{"$f":"VLOOKUP(A80,'Analyse S'!A:D,2,FALSE)","v":{"$error":"#N/A"}}]
[null,null,{"$f":"VLOOKUP(A81,'Analyse S'!A:D,2,FALSE)","v":{"$error":"#N/A"}}]
[null,null,{"$f":"VLOOKUP(A82,'Analyse S'!A:D,2,FALSE)","v":{"$error":"#N/A"}}]
[null,null,{"$f":"VLOOKUP(A83,'Analyse S'!A:D,2,FALSE)","v":{"$error":"#N/A"}}]
[null,null,{"$f":"VLOOKUP(A84,'Analyse S'!A:D,2,FALSE)","v":{"$error":"#N/A"}}]
[null,null,{"$f":"VLOOKUP(A85,'Analyse S'!A:D,2,FALSE)","v":{"$error":"#N/A"}}]
[null,null,{"$f":"VLOOKUP(A86,'Analyse S'!A:D,2,FALSE)","v":{"$error":"#N/A"}}]
[null,null,{"$f":"VLOOKUP(A87,'Analyse S'!A:D,2,FALSE)","v":{"$error":"#N/A"}}]
[null,null,{"$f":"VLOOKUP(A88,'Analyse S'!A:D,2,FALSE)","v":{"$error":"#N/A"}}]
[null,null,{"$f":"VLOOKUP(A89,'Analyse S'!A:D,2,FALSE)","v":{"$error":"#N/A"}}]
[null,null,{"$f":"VLOOKUP(A90,'Analyse S'!A:D,2,FALSE)","v":{"$error":"#N/A"}}]
[null,null,{"$f":"VLOOKUP(A91,'Analyse S'!A:D,2,FALSE)","v":{"$error":"#N/A"}}]
[null,null,{"$f":"VLOOKUP(A92,'Analyse S'!A:D,2,FALSE)","v":{"$error":"#N/A"}}]
[null,null,{"$f":"VLOOKUP(A93,'Analyse S'!A:D,2,FALSE)","v":{"$error":"#N/A"}}]
[null,null,{"$f":"VLOOKUP(A94,'Analyse S'!A:D,2,FALSE)","v":{"$error":"#N/A"}}]
[null,null,{"$f":"VLOOKUP(A95,'Analyse S'!A:D,2,FALSE)","v":{"$error":"#N/A"}}]
[null,null,{"$f":"VLOOKUP(A96,'Analyse S'!A:D,2,FALSE)","v":{"$error":"#N/A"}}]
[null,null,{"$f":"VLOOKUP(A97,'Analyse S'!A:D,2,FALSE)","v":{"$error":"#N/A"}}]
[null,null,{"$f":"VLOOKUP(A98,'Analyse S'!A:D,2,FALSE)","v":{"$error":"#N/A"}}]
[null,null,{"$f":"VLOOKUP(A99,'Analyse S'!A:D,2,FALSE)","v":{"$error":"#N/A"}}]
[null,null,{"$f":"VLOOKUP(A100,'Analyse S'!A:D,2,FALSE)","v":{"$error":"#N/A"}}]
[null,null,{"$f":"VLOOKUP(A101,'Analyse S'!A:D,2,FALSE)","v":{"$error":"#N/A"}}]
[null,null,{"$f":"VLOOKUP(A102,'Analyse S'!A:D,2,FALSE)","v":{"$error":"#N/A"}}]
[null,null,{"$f":"VLOOKUP(A103,'Analyse S'!A:D,2,FALSE)","v":{"$error":"#N/A"}}]
[null,null,{"$f":"VLOOKUP(A104,'Analyse S'!A:D,2,FALSE)","v":{"$error":"#N/A"}}]
[null,null,{"$f":"VLOOKUP(A105,'Analyse S'!A:D,2,FALSE)","v":{"$error":"#N/A"}}]
[null,null,{"$f":"VLOOKUP(A106,'Analyse S'!A:D,2,FALSE)","v":{"$error":"#N/A"}}]
[null,null,{"$f":"VLOOKUP(A107,'Analyse S'!A:D,2,FALSE)","v":{"$error":"#N/A"}}]
[null,null,{"$f":"VLOOKUP(A108,'Analyse S'!A:D,2,FALSE)","v":{"$error":"#N/A"}}]
[null,null,{"$f":"VLOOKUP(A109,'Analyse S'!A:D,2,FALSE)","v":{"$error":"#N/A"}}]
[null,null,{"$f":"VLOOKUP(A110,'Analyse S'!A:D,2,FALSE)","v":{"$error":"#N/A"}}]
[null,null,{"$f":"VLOOKUP(A111,'Analyse S'!A:D,2,FALSE)","v":{"$error":"#N/A"}}]
[null,null,{"$f":"VLOOKUP(A112,'Analyse S'!A:D,2,FALSE)","v":{"$error":"#N/A"}}]
[null,null,{"$f":"VLOOKUP(A113,'Analyse S'!A:D,2,FALSE)","v":{"$error":"#N/A"}}]
[null,null,{"$f":"VLOOKUP(A114,'Analyse S'!A:D,2,FALSE)","v":{"$error":"#N/A"}}]
[null,null,{"$f":"VLOOKUP(A115,'Analyse S'!A:D,2,FALSE)","v":{"$error":"#N/A"}}]
[null,null,{"$f":"VLOOKUP(A116,'Analyse S'!A:D,2,FALSE)","v":{"$error":"#N/A"}}]
[null,null,{"$f":"VLOOKUP(A117,'Analyse S'!A:D,2,FALSE)","v":{"$error":"#N/A"}}]
[null,null,{"$f":"VLOOKUP(A118,'Analyse S'!A:D,2,FALSE)","v":{"$error":"#N/A"}}]
[null,null,{"$f":"VLOOKUP(A119,'Analyse S'!A:D,2,FALSE)","v":{"$error":"#N/A"}}]
[null,null,{"$f":"VLOOKUP(A120,'Analyse S'!A:D,2,FALSE)","v":{"$error":"#N/A"}}]
[null,null,{"$f":"VLOOKUP(A121,'Analyse S'!A:D,2,FALSE)","v":{"$error":"#N/A"}}]
[null,null,{"$f":"VLOOKUP(A122,'Analyse S'!A:D,2,FALSE)","v":{"$error":"#N/A"}}]
[null,null,{"$f":"VLOOKUP(A123,'Analyse S'!A:D,2,FALSE)","v":{"$error":"#N/A"}}]
[null,null,{"$f":"VLOOKUP(A124,'Analyse S'!A:D,2,FALSE)","v":{"$error":"#N/A"}}]
[null,null,{"$f":"VLOOKUP(A125,'Analyse S'!A:D,2,FALSE)","v":{"$error":"#N/A"}}]
[null,null,{"$f":"VLOOKUP(A126,'Analyse S'!A:D,2,FALSE)","v":{"$error":"#N/A"}}]
[null,null,{"$f":"VLOOKUP(A127,'Analyse S'!A:D,2,FALSE)","v":{"$error":"#N/A"}}]
[null,null,{"$f":"VLOOKUP(A128,'Analyse S'!A:D,2,FALSE)","v":{"$error":"#N/A"}}]
[null,null,{"$f":"VLOOKUP(A129,'Analyse S'!A:D,2,FALSE)","v":{"$error":"#N/A"}}]
[null,null,{"$f":"VLOOKUP(A130,'Analyse S'!A:D,2,FALSE)","v":{"$error":"#N/A"}}]
[null,null,{"$f":"VLOOKUP(A131,'Analyse S'!A:D,2,FALSE)","v":{"$error":"#N/A"}}]
[null,null,{"$f":"VLOOKUP(A132,'Analyse S'!A:D,2,FALSE)","v":{"$error":"#N/A"}}]
[null,null,{"$f":"VLOOKUP(A133,'Analyse S'!A:D,2,FALSE)","v":{"$error":"#N/A"}}]
[null,null,{"$f":"VLOOKUP(A134,'Analyse S'!A:D,2,FALSE)","v":{"$error":"#N/A"}}]
[null,null,{"$f":"VLOOKUP(A135,'Analyse S'!A:D,2,FALSE)","v":{"$error":"#N/A"}}]
[null,null,{"$f":"VLOOKUP(A136,'Analyse S'!A:D,2,FALSE)","v":{"$error":"#N/A"}}]
[null,null,{"$f":"VLOOKUP(A137,'Analyse S'!A:D,2,FALSE)","v":{"$error":"#N/A"}}]
[null,null,{"$f":"VLOOKUP(A138,'Analyse S'!A:D,2,FALSE)","v":{"$error":"#N/A"}}]
[null,null,{"$f":"VLOOKUP(A139,'Analyse S'!A:D,2,FALSE)","v":{"$error":"#N/A"}}]
[null,null,{"$f":"VLOOKUP(A140,'Analyse S'!A:D,2,FALSE)","v":{"$error":"#N/A"}}]
[null,null,{"$f":"VLOOKUP(A141,'Analyse S'!A:D,2,FALSE)","v":{"$error":"#N/A"}}]
[null,null,{"$f":"VLOOKUP(A142,'Analyse S'!A:D,2,FALSE)","v":{"$error":"#N/A"}}]
[null,null,{"$f":"VLOOKUP(A143,'Analyse S'!A:D,2,FALSE)","v":{"$error":"#N/A"}}]
[null,null,{"$f":"VLOOKUP(A144,'Analyse S'!A:D,2,FALSE)","v":{"$error":"#N/A"}}]
[null,null,{"$f":"VLOOKUP(A145,'Analyse S'!A:D,2,FALSE)","v":{"$error":"#N/A"}}]
[null,null,{"$f":"VLOOKUP(A146,'Analyse S'!A:D,2,FALSE)","v":{"$error":"#N/A"}}]
[null,null,{"$f":"VLOOKUP(A147,'Analyse S'!A:D,2,FALSE)","v":{"$error":"#N/A"}}]
[null,null,{"$f":"VLOOKUP(A148,'Analyse S'!A:D,2,FALSE)","v":{"$error":"#N/A"}}]
[null,null,{"$f":"VLOOKUP(A149,'Analyse S'!A:D,2,FALSE)","v":{"$error":"#N/A"}}]
[null,null,{"$f":"VLOOKUP(A150,'Analyse S'!A:D,2,FALSE)","v":{"$error":"#N/A"}}]
[null,null,{"$f":"VLOOKUP(A151,'Analyse S'!A:D,2,FALSE)","v":{"$error":"#N/A"}}]
[null,null,{"$f":"VLOOKUP(A152,'Analyse S'!A:D,2,FALSE)","v":{"$error":"#N/A"}}]
[null,null,{"$f":"VLOOKUP(A153,'Analyse S'!A:D,2,FALSE)","v":{"$error":"#N/A"}}]
[null,null,{"$f":"VLOOKUP(A154,'Analyse S'!A:D,2,FALSE)","v":{"$error":"#N/A"}}]
[null,null,{"$f":"VLOOKUP(A155,'Analyse S'!A:D,2,FALSE)","v":{"$error":"#N/A"}}]
[null,null,{"$f":"VLOOKUP(A156,'Analyse S'!A:D,2,FALSE)","v":{"$error":"#N/A"}}]
[null,null,{"$f":"VLOOKUP(A157,'Analyse S'!A:D,2,FALSE)","v":{"$error":"#N/A"}}]
[null,null,{"$f":"VLOOKUP(A158,'Analyse S'!A:D,2,FALSE)","v":{"$error":"#N/A"}}]
[null,null,{"$f":"VLOOKUP(A159,'Analyse S'!A:D,2,FALSE)","v":{"$error":"#N/A"}}]
[null,null,{"$f":"VLOOKUP(A160,'Analyse S'!A:D,2,FALSE)","v":{"$error":"#N/A"}}]
[null,null,{"$f":"VLOOKUP(A161,'Analyse S'!A:D,2,FALSE)","v":{"$error":"#N/A"}}]
[null,null,{"$f":"VLOOKUP(A162,'Analyse S'!A:D,2,FALSE)","v":{"$error":"#N/A"}}]
[null,null,{"$f":"VLOOKUP(A163,'Analyse S'!A:D,2,FALSE)","v":{"$error":"#N/A"}}]
[null,null,{"$f":"VLOOKUP(A164,'Analyse S'!A:D,2,FALSE)","v":{"$error":"#N/A"}}]
[null,null,{"$f":"VLOOKUP(A165,'Analyse S'!A:D,2,FALSE)","v":{"$error":"#N/A"}}]
[null,null,{"$f":"VLOOKUP(A166,'Analyse S'!A:D,2,FALSE)","v":{"$error":"#N/A"}}]
[null,null,{"$f":"VLOOKUP(A167,'Analyse S'!A:D,2,FALSE)","v":{"$error":"#N/A"}}]
[null,null,{"$f":"VLOOKUP(A168,'Analyse S'!A:D,2,FALSE)","v":{"$error":"#N/A"}}]
[null,null,{"$f":"VLOOKUP(A169,'Analyse S'!A:D,2,FALSE)","v":{"$error":"#N/A"}}]
[null,null,{"$f":"VLOOKUP(A170,'Analyse S'!A:D,2,FALSE)","v":{"$error":"#N/A"}}]
[null,null,{"$f":"VLOOKUP(A171,'Analyse S'!A:D,2,FALSE)","v":{"$error":"#N/A"}}]
[null,null,{"$f":"VLOOKUP(A172,'Analyse S'!A:D,2,FALSE)","v":{"$error":"#N/A"}}]
[null,null,{"$f":"VLOOKUP(A173,'Analyse S'!A:D,2,FALSE)","v":{"$error":"#N/A"}}]
[null,null,{"$f":"VLOOKUP(A174,'Analyse S'!A:D,2,FALSE)","v":{"$error":"#N/A"}}]
[null,null,{"$f":"VLOOKUP(A175,'Analyse S'!A:D,2,FALSE)","v":{"$error":"#N/A"}}]
[null,null,{"$f":"VLOOKUP(A176,'Analyse S'!A:D,2,FALSE)","v":{"$error":"#N/A"}}]
[null,null,{"$f":"VLOOKUP(A177,'Analyse S'!A:D,2,FALSE)","v":{"$error":"#N/A"}}]
[null,null,{"$f":"VLOOKUP(A178,'Analyse S'!A:D,2,FALSE)","v":{"$error":"#N/A"}}]
[null,null,{"$f":"VLOOKUP(A179,'Analyse S'!A:D,2,FALSE)","v":{"$error":"#N/A"}}]
[null,null,{"$f":"VLOOKUP(A180,'Analyse S'!A:D,2,FALSE)","v":{"$error":"#N/A"}}]
[null,null,{"$f":"VLOOKUP(A181,'Analyse S'!A:D,2,FALSE)","v":{"$error":"#N/A"}}]
[null,null,{"$f":"VLOOKUP(A182,'Analyse S'!A:D,2,FALSE)","v":{"$error":"#N/A"}}]
[null,null,{"$f":"VLOOKUP(A183,'Analyse S'!A:D,2,FALSE)","v":{"$error":"#N/A"}}]
[null,null,{"$f":"VLOOKUP(A184,'Analyse S'!A:D,2,FALSE)","v":{"$error":"#N/A"}}]
[null,null,{"$f":"VLOOKUP(A185,'Analyse S'!A:D,2,FALSE)","v":{"$error":"#N/A"}}]
[null,null,{"$f":"VLOOKUP(A186,'Analyse S'!A:D,2,FALSE)","v":{"$error":"#N/A"}}]
[null,null,{"$f":"VLOOKUP(A187,'Analyse S'!A:D,2,FALSE)","v":{"$error":"#N/A"}}]
[null,null,{"$f":"VLOOKUP(A188,'Analyse S'!A:D,2,FALSE)","v":{"$error":"#N/A"}}]
[null,null,{"$f":"VLOOKUP(A189,'Analyse S'!A:D,2,FALSE)","v":{"$error":"#N/A"}}]
[null,null,{"$f":"VLOOKUP(A190,'Analyse S'!A:D,2,FALSE)","v":{"$error":"#N/A"}}]
[null,null,{"$f":"VLOOKUP(A191,'Analyse S'!A:D,2,FALSE)","v":{"$error":"#N/A"}}]
[null,null,{"$f":"VLOOKUP(A192,'Analyse S'!A:D,2,FALSE)","v":{"$error":"#N/A"}}]
[null,null,{"$f":"VLOOKUP(A193,'Analyse S'!A:D,2,FALSE)","v":{"$error":"#N/A"}}]
[null,null,{"$f":"VLOOKUP(A194,'Analyse S'!A:D,2,FALSE)","v":{"$error":"#N/A"}}]
[null,null,{"$f":"VLOOKUP(A195,'Analyse S'!A:D,2,FALSE)","v":{"$error":"#N/A"}}]
[null,null,{"$f":"VLOOKUP(A196,'Analyse S'!A:D,2,FALSE)","v":{"$error":"#N/A"}}]
[null,null,{"$f":"VLOOKUP(A197,'Analyse S'!A:D,2,FALSE)","v":{"$error":"#N/A"}}]
[null,null,{"$f":"VLOOKUP(A198,'Analyse S'!A:D,2,FALSE)","v":{"$error":"#N/A"}}]
[null,null,{"$f":"VLOOKUP(A199,'Analyse S'!A:D,2,FALSE)","v":{"$error":"#N/A"}}]
[null,null,{"$f":"VLOOKUP(A200,'Analyse S'!A:D,2,FALSE)","v":{"$error":"#N/A"}}]
[null,null,{"$f":"VLOOKUP(A201,'Analyse S'!A:D,2,FALSE)","v":{"$error":"#N/A"}}]
[null,null,{"$f":"VLOOKUP(A202,'Analyse S'!A:D,2,FALSE)","v":{"$error":"#N/A"}}]
[null,null,{"$f":"VLOOKUP(A203,'Analyse S'!A:D,2,FALSE)","v":{"$error":"#N/A"}}]
[null,null,{"$f":"VLOOKUP(A204,'Analyse S'!A:D,2,FALSE)","v":{"$error":"#N/A"}}]
[null,null,{"$f":"VLOOKUP(A205,'Analyse S'!A:D,2,FALSE)","v":{"$error":"#N/A"}}]
[null,null,{"$f":"VLOOKUP(A206,'Analyse S'!A:D,2,FALSE)","v":{"$error":"#N/A"}}]
[null,null,{"$f":"VLOOKUP(A207,'Analyse S'!A:D,2,FALSE)","v":{"$error":"#N/A"}}]
[null,null,{"$f":"VLOOKUP(A208,'Analyse S'!A:D,2,FALSE)","v":{"$error":"#N/A"}}]
[null,null,{"$f":"VLOOKUP(A209,'Analyse S'!A:D,2,FALSE)","v":{"$error":"#N/A"}}]
[null,null,{"$f":"VLOOKUP(A210,'Analyse S'!A:D,2,FALSE)","v":{"$error":"#N/A"}}]
[null,null,{"$f":"VLOOKUP(A211,'Analyse S'!A:D,2,FALSE)","v":{"$error":"#N/A"}}]
[null,null,{"$f":"VLOOKUP(A212,'Analyse S'!A:D,2,FALSE)","v":{"$error":"#N/A"}}]
[null,null,{"$f":"VLOOKUP(A213,'Analyse S'!A:D,2,FALSE)","v":{"$error":"#N/A"}}]
[null,null,{"$f":"VLOOKUP(A214,'Analyse S'!A:D,2,FALSE)","v":{"$error":"#N/A"}}]
[null,null,{"$f":"VLOOKUP(A215,'Analyse S'!A:D,2,FALSE)","v":{"$error":"#N/A"}}]
[null,null,{"$f":"VLOOKUP(A216,'Analyse S'!A:D,2,FALSE)","v":{"$error":"#N/A"}}]
[null,null,{"$f":"VLOOKUP(A217,'Analyse S'!A:D,2,FALSE)","v":{"$error":"#N/A"}}]
[null,null,{"$f":"VLOOKUP(A218,'Analyse S'!A:D,2,FALSE)","v":{"$error":"#N/A"}}]
[null,null,{"$f":"VLOOKUP(A219,'Analyse S'!A:D,2,FALSE)","v":{"$error":"#N/A"}}]
[null,null,{"$f":"VLOOKUP(A220,'Analyse S'!A:D,2,FALSE)","v":{"$error":"#N/A"}}]
[null,null,{"$f":"VLOOKUP(A221,'Analyse S'!A:D,2,FALSE)","v":{"$error":"#N/A"}}]
[null,null,{"$f":"VLOOKUP(A222,'Analyse S'!A:D,2,FALSE)","v":{"$error":"#N/A"}}]
[null,null,{"$f":"VLOOKUP(A223,'Analyse S'!A:D,2,FALSE)","v":{"$error":"#N/A"}}]
[null,null,{"$f":"VLOOKUP(A224,'Analyse S'!A:D,2,FALSE)","v":{"$error":"#N/A"}}]
[null,null,{"$f":"VLOOKUP(A225,'Analyse S'!A:D,2,FALSE)","v":{"$error":"#N/A"}}]
[null,null,{"$f":"VLOOKUP(A226,'Analyse S'!A:D,2,FALSE)","v":{"$error":"#N/A"}}]
[null,null,{"$f":"VLOOKUP(A227,'Analyse S'!A:D,2,FALSE)","v":{"$error":"#N/A"}}]
[null,null,{"$f":"VLOOKUP(A228,'Analyse S'!A:D,2,FALSE)","v":{"$error":"#N/A"}}]
[null,null,{"$f":"VLOOKUP(A229,'Analyse S'!A:D,2,FALSE)","v":{"$error":"#N/A"}}]
[null,null,{"$f":"VLOOKUP(A230,'Analyse S'!A:D,2,FALSE)","v":{"$error":"#N/A"}}]
[null,null,{"$f":"VLOOKUP(A231,'Analyse S'!A:D,2,FALSE)","v":{"$error":"#N/A"}}]
[null,null,{"$f":"VLOOKUP(A232,'Analyse S'!A:D,2,FALSE)","v":{"$error":"#N/A"}}]
[null,null,{"$f":"VLOOKUP(A233,'Analyse S'!A:D,2,FALSE)","v":{"$error":"#N/A"}}]
[null,null,{"$f":"VLOOKUP(A234,'Analyse S'!A:D,2,FALSE)","v":{"$error":"#N/A"}}]
[null,null,{"$f":"VLOOKUP(A235,'Analyse S'!A:D,2,FALSE)","v":{"$error":"#N/A"}}]
[null,null,{"$f":"VLOOKUP(A236,'Analyse S'!A:D,2,FALSE)","v":{"$error":"#N/A"}}]
[null,null,{"$f":"VLOOKUP(A237,'Analyse S'!A:D,2,FALSE)","v":{"$error":"#N/A"}}]
[null,null,{"$f":"VLOOKUP(A238,'Analyse S'!A:D,2,FALSE)","v":{"$error":"#N/A"}}]
[null,null,{"$f":"VLOOKUP(A239,'Analyse S'!A:D,2,FALSE)","v":{"$error":"#N/A"}}]
[null,null,{"$f":"VLOOKUP(A240,'Analyse S'!A:D,2,FALSE)","v":{"$error":"#N/A"}}]
[null,null,{"$f":"VLOOKUP(A241,'Analyse S'!A:D,2,FALSE)","v":{"$error":"#N/A"}}]
[null,null,{"$f":"VLOOKUP(A242,'Analyse S'!A:D,2,FALSE)","v":{"$error":"#N/A"}}]
[null,null,{"$f":"VLOOKUP(A243,'Analyse S'!A:D,2,FALSE)","v":{"$error":"#N/A"}}]
[null,null,{"$f":"VLOOKUP(A244,'Analyse S'!A:D,2,FALSE)","v":{"$error":"#N/A"}}]
[null,null,{"$f":"VLOOKUP(A245,'Analyse S'!A:D,2,FALSE)","v":{"$error":"#N/A"}}]
[null,null,{"$f":"VLOOKUP(A246,'Analyse S'!A:D,2,FALSE)","v":{"$error":"#N/A"}}]
[null,null,{"$f":"VLOOKUP(A247,'Analyse S'!A:D,2,FALSE)","v":{"$error":"#N/A"}}]
[null,null,{"$f":"VLOOKUP(A248,'Analyse S'!A:D,2,FALSE)","v":{"$error":"#N/A"}}]
[null,null,{"$f":"VLOOKUP(A249,'Analyse S'!A:D,2,FALSE)","v":{"$error":"#N/A"}}]
[null,null,{"$f":"VLOOKUP(A250,'Analyse S'!A:D,2,FALSE)","v":{"$error":"#N/A"}}]
[null,null,{"$f":"VLOOKUP(A251,'Analyse S'!A:D,2,FALSE)","v":{"$error":"#N/A"}}]
[null,null,{"$f":"VLOOKUP(A252,'Analyse S'!A:D,2,FALSE)","v":{"$error":"#N/A"}}]
[null,null,{"$f":"VLOOKUP(A253,'Analyse S'!A:D,2,FALSE)","v":{"$error":"#N/A"}}]
[null,null,{"$f":"VLOOKUP(A254,'Analyse S'!A:D,2,FALSE)","v":{"$error":"#N/A"}}]
[null,null,{"$f":"VLOOKUP(A255,'Analyse S'!A:D,2,FALSE)","v":{"$error":"#N/A"}}]
[null,null,{"$f":"VLOOKUP(A256,'Analyse S'!A:D,2,FALSE)","v":{"$error":"#N/A"}}]
[null,null,{"$f":"VLOOKUP(A257,'Analyse S'!A:D,2,FALSE)","v":{"$error":"#N/A"}}]
[null,null,{"$f":"VLOOKUP(A258,'Analyse S'!A:D,2,FALSE)","v":{"$error":"#N/A"}}]
[null,null,{"$f":"VLOOKUP(A259,'Analyse S'!A:D,2,FALSE)","v":{"$error":"#N/A"}}]
[null,null,{"$f":"VLOOKUP(A260,'Analyse S'!A:D,2,FALSE)","v":{"$error":"#N/A"}}]
[null,null,{"$f":"VLOOKUP(A261,'Analyse S'!A:D,2,FALSE)","v":{"$error":"#N/A"}}]
[null,null,{"$f":"VLOOKUP(A262,'Analyse S'!A:D,2,FALSE)","v":{"$error":"#N/A"}}]
[null,null,{"$f":"VLOOKUP(A263,'Analyse S'!A:D,2,FALSE)","v":{"$error":"#N/A"}}]
[null,null,{"$f":"VLOOKUP(A264,'Analyse S'!A:D,2,FALSE)","v":{"$error":"#N/A"}}]
[null,null,{"$f":"VLOOKUP(A265,'Analyse S'!A:D,2,FALSE)","v":{"$error":"#N/A"}}]
[null,null,{"$f":"VLOOKUP(A266,'Analyse S'!A:D,2,FALSE)","v":{"$error":"#N/A"}}]
[null,null,{"$f":"VLOOKUP(A267,'Analyse S'!A:D,2,FALSE)","v":{"$error":"#N/A"}}]
[null,null,{"$f":"VLOOKUP(A268,'Analyse S'!A:D,2,FALSE)","v":{"$error":"#N/A"}}]
[null,null,{"$f":"VLOOKUP(A269,'Analyse S'!A:D,2,FALSE)","v":{"$error":"#N/A"}}]
[null,null,{"$f":"VLOOKUP(A270,'Analyse S'!A:D,2,FALSE)","v":{"$error":"#N/A"}}]
[null,null,{"$f":"VLOOKUP(A271,'Analyse S'!A:D,2,FALSE)","v":{"$error":"#N/A"}}]
[null,null,{"$f":"VLOOKUP(A272,'Analyse S'!A:D,2,FALSE)","v":{"$error":"#N/A"}}]
[null,null,{"$f":"VLOOKUP(A273,'Analyse S'!A:D,2,FALSE)","v":{"$error":"#N/A"}}]
[null,null,{"$f":"VLOOKUP(A274,'Analyse S'!A:D,2,FALSE)","v":{"$error":"#N/A"}}]
[null,null,{"$f":"VLOOKUP(A275,'Analyse S'!A:D,2,FALSE)","v":{"$error":"#N/A"}}]
[null,null,{"$f":"VLOOKUP(A276,'Analyse S'!A:D,2,FALSE)","v":{"$error":"#N/A"}}]
[null,null,{"$f":"VLOOKUP(A277,'Analyse S'!A:D,2,FALSE)","v":{"$error":"#N/A"}}]
[null,null,{"$f":"VLOOKUP(A278,'Analyse S'!A:D,2,FALSE)","v":{"$error":"#N/A"}}]
[null,null,{"$f":"VLOOKUP(A279,'Analyse S'!A:D,2,FALSE)","v":{"$error":"#N/A"}}]
[null,null,{"$f":"VLOOKUP(A280,'Analyse S'!A:D,2,FALSE)","v":{"$error":"#N/A"}}]
[null,null,{"$f":"VLOOKUP(A281,'Analyse S'!A:D,2,FALSE)","v":{"$error":"#N/A"}}]
[null,null,{"$f":"VLOOKUP(A282,'Analyse S'!A:D,2,FALSE)","v":{"$error":"#N/A"}}]
[null,null,{"$f":"VLOOKUP(A283,'Analyse S'!A:D,2,FALSE)","v":{"$error":"#N/A"}}]
[null,null,{"$f":"VLOOKUP(A284,'Analyse S'!A:D,2,FALSE)","v":{"$error":"#N/A"}}]
[null,null,{"$f":"VLOOKUP(A285,'Analyse S'!A:D,2,FALSE)","v":{"$error":"#N/A"}}]
[null,null,{"$f":"VLOOKUP(A286,'Analyse S'!A:D,2,FALSE)","v":{"$error":"#N/A"}}]
[null,null,{"$f":"VLOOKUP(A287,'Analyse S'!A:D,2,FALSE)","v":{"$error":"#N/A"}}]
[null,null,{"$f":"VLOOKUP(A288,'Analyse S'!A:D,2,FALSE)","v":{"$error":"#N/A"}}]
[null,null,{"$f":"VLOOKUP(A289,'Analyse S'!A:D,2,FALSE)","v":{"$error":"#N/A"}}]
[null,null,{"$f":"VLOOKUP(A290,'Analyse S'!A:D,2,FALSE)","v":{"$error":"#N/A"}}]
[null,null,{"$f":"VLOOKUP(A291,'Analyse S'!A:D,2,FALSE)","v":{"$error":"#N/A"}}]
[null,null,{"$f":"VLOOKUP(A292,'Analyse S'!A:D,2,FALSE)","v":{"$error":"#N/A"}}]
[null,null,{"$f":"VLOOKUP(A293,'Analyse S'!A:D,2,FALSE)","v":{"$error":"#N/A"}}]
[null,null,{"$f":"VLOOKUP(A294,'Analyse S'!A:D,2,FALSE)","v":{"$error":"#N/A"}}]
[null,null,{"$f":"VLOOKUP(A295,'Analyse S'!A:D,2,FALSE)","v":{"$error":"#N/A"}}]
[null,null,{"$f":"VLOOKUP(A296,'Analyse S'!A:D,2,FALSE)","v":{"$error":"#N/A"}}]
[null,null,{"$f":"VLOOKUP(A297,'Analyse S'!A:D,2,FALSE)","v":{"$error":"#N/A"}}]
[null,null,{"$f":"VLOOKUP(A298,'Analyse S'!A:D,2,FALSE)","v":{"$error":"#N/A"}}]
[null,null,{"$f":"VLOOKUP(A299,'Analyse S'!A:D,2,FALSE)","v":{"$error":"#N/A"}}]
[null,null,{"$f":"VLOOKUP(A300,'Analyse S'!A:D,2,FALSE)","v":{"$error":"#N/A"}}]
[null,null,{"$f":"VLOOKUP(A301,'Analyse S'!A:D,2,FALSE)","v":{"$error":"#N/A"}}]
[null,null,{"$f":"VLOOKUP(A302,'Analyse S'!A:D,2,FALSE)","v":{"$error":"#N/A"}}]
[null,null,{"$f":"VLOOKUP(A303,'Analyse S'!A:D,2,FALSE)","v":{"$error":"#N/A"}}]
[null,null,{"$f":"VLOOKUP(A304,'Analyse S'!A:D,2,FALSE)","v":{"$error":"#N/A"}}]
[null,null,{"$f":"VLOOKUP(A305,'Analyse S'!A:D,2,FALSE)","v":{"$error":"#N/A"}}]
[null,null,{"$f":"VLOOKUP(A306,'Analyse S'!A:D,2,FALSE)","v":{"$error":"#N/A"}}]
[null,null,{"$f":"VLOOKUP(A307,'Analyse S'!A:D,2,FALSE)","v":{"$error":"#N/A"}}]
[null,null,{"$f":"VLOOKUP(A308,'Analyse S'!A:D,2,FALSE)","v":{"$error":"#N/A"}}]
[null,null,{"$f":"VLOOKUP(A309,'Analyse S'!A:D,2,FALSE)","v":{"$error":"#N/A"}}]
[null,null,{"$f":"VLOOKUP(A310,'Analyse S'!A:D,2,FALSE)","v":{"$error":"#N/A"}}]
[null,null,{"$f":"VLOOKUP(A311,'Analyse S'!A:D,2,FALSE)","v":{"$error":"#N/A"}}]
[null,null,{"$f":"VLOOKUP(A312,'Analyse S'!A:D,2,FALSE)","v":{"$error":"#N/A"}}]
[null,null,{"$f":"VLOOKUP(A313,'Analyse S'!A:D,2,FALSE)","v":{"$error":"#N/A"}}]
[null,null,{"$f":"VLOOKUP(A314,'Analyse S'!A:D,2,FALSE)","v":{"$error":"#N/A"}}]
[null,null,{"$f":"VLOOKUP(A315,'Analyse S'!A:D,2,FALSE)","v":{"$error":"#N/A"}}]
[null,null,{"$f":"VLOOKUP(A316,'Analyse S'!A:D,2,FALSE)","v":{"$error":"#N/A"}}]
[null,null,{"$f":"VLOOKUP(A317,'Analyse S'!A:D,2,FALSE)","v":{"$error":"#N/A"}}]
[null,null,{"$f":"VLOOKUP(A318,'Analyse S'!A:D,2,FALSE)","v":{"$error":"#N/A"}}]
[null,null,{"$f":"VLOOKUP(A319,'Analyse S'!A:D,2,FALSE)","v":{"$error":"#N/A"}}]
[null,null,{"$f":"VLOOKUP(A320,'Analyse S'!A:D,2,FALSE)","v":{"$error":"#N/A"}}]
[null,null,{"$f":"VLOOKUP(A321,'Analyse S'!A:D,2,FALSE)","v":{"$error":"#N/A"}}]
[null,null,{"$f":"VLOOKUP(A322,'Analyse S'!A:D,2,FALSE)","v":{"$error":"#N/A"}}]
[null,null,{"$f":"VLOOKUP(A323,'Analyse S'!A:D,2,FALSE)","v":{"$error":"#N/A"}}]
[null,null,{"$f":"VLOOKUP(A324,'Analyse S'!A:D,2,FALSE)","v":{"$error":"#N/A"}}]
[null,null,{"$f":"VLOOKUP(A325,'Analyse S'!A:D,2,FALSE)","v":{"$error":"#N/A"}}]
[null,null,{"$f":"VLOOKUP(A326,'Analyse S'!A:D,2,FALSE)","v":{"$error":"#N/A"}}]
[null,null,{"$f":"VLOOKUP(A327,'Analyse S'!A:D,2,FALSE)","v":{"$error":"#N/A"}}]
[null,null,{"$f":"VLOOKUP(A328,'Analyse S'!A:D,2,FALSE)","v":{"$error":"#N/A"}}]
[null,null,{"$f":"VLOOKUP(A329,'Analyse S'!A:D,2,FALSE)","v":{"$error":"#N/A"}}]
[null,null,{"$f":"VLOOKUP(A330,'Analyse S'!A:D,2,FALSE)","v":{"$error":"#N/A"}}]
[null,null,{"$f":"VLOOKUP(A331,'Analyse S'!A:D,2,FALSE)","v":{"$error":"#N/A"}}]
[null,null,{"$f":"VLOOKUP(A332,'Analyse S'!A:D,2,FALSE)","v":{"$error":"#N/A"}}]
[null,null,{"$f":"VLOOKUP(A333,'Analyse S'!A:D,2,FALSE)","v":{"$error":"#N/A"}}]
[null,null,{"$f":"VLOOKUP(A334,'Analyse S'!A:D,2,FALSE)","v":{"$error":"#N/A"}}]
[null,null,{"$f":"VLOOKUP(A335,'Analyse S'!A:D,2,FALSE)","v":{"$error":"#N/A"}}]
[null,null,{"$f":"VLOOKUP(A336,'Analyse S'!A:D,2,FALSE)","v":{"$error":"#N/A"}}]
[null,null,{"$f":"VLOOKUP(A337,'Analyse S'!A:D,2,FALSE)","v":{"$error":"#N/A"}}]
[null,null,{"$f":"VLOOKUP(A338,'Analyse S'!A:D,2,FALSE)","v":{"$error":"#N/A"}}]
[null,null,{"$f":"VLOOKUP(A339,'Analyse S'!A:D,2,FALSE)","v":{"$error":"#N/A"}}]
[null,null,{"$f":"VLOOKUP(A340,'Analyse S'!A:D,2,FALSE)","v":{"$error":"#N/A"}}]
[null,null,{"$f":"VLOOKUP(A341,'Analyse S'!A:D,2,FALSE)","v":{"$error":"#N/A"}}]
[null,null,{"$f":"VLOOKUP(A342,'Analyse S'!A:D,2,FALSE)","v":{"$error":"#N/A"}}]
[null,null,{"$f":"VLOOKUP(A343,'Analyse S'!A:D,2,FALSE)","v":{"$error":"#N/A"}}]
[null,null,{"$f":"VLOOKUP(A344,'Analyse S'!A:D,2,FALSE)","v":{"$error":"#N/A"}}]
[null,null,{"$f":"VLOOKUP(A345,'Analyse S'!A:D,2,FALSE)","v":{"$error":"#N/A"}}]
[null,null,{"$f":"VLOOKUP(A346,'Analyse S'!A:D,2,FALSE)","v":{"$error":"#N/A"}}]
[null,null,{"$f":"VLOOKUP(A347,'Analyse S'!A:D,2,FALSE)","v":{"$error":"#N/A"}}]
[null,null,{"$f":"VLOOKUP(A348,'Analyse S'!A:D,2,FALSE)","v":{"$error":"#N/A"}}]
[null,null,{"$f":"VLOOKUP(A349,'Analyse S'!A:D,2,FALSE)","v":{"$error":"#N/A"}}]
[null,null,{"$f":"VLOOKUP(A350,'Analyse S'!A:D,2,FALSE)","v":{"$error":"#N/A"}}]
[null,null,{"$f":"VLOOKUP(A351,'Analyse S'!A:D,2,FALSE)","v":{"$error":"#N/A"}}]
[null,null,{"$f":"VLOOKUP(A352,'Analyse S'!A:D,2,FALSE)","v":{"$error":"#N/A"}}]
[null,null,{"$f":"VLOOKUP(A353,'Analyse S'!A:D,2,FALSE)","v":{"$error":"#N/A"}}]
[null,null,{"$f":"VLOOKUP(A354,'Analyse S'!A:D,2,FALSE)","v":{"$error":"#N/A"}}]
[null,null,{"$f":"VLOOKUP(A355,'Analyse S'!A:D,2,FALSE)","v":{"$error":"#N/A"}}]
[null,null,{"$f":"VLOOKUP(A356,'Analyse S'!A:D,2,FALSE)","v":{"$error":"#N/A"}}]
[null,null,{"$f":"VLOOKUP(A357,'Analyse S'!A:D,2,FALSE)","v":{"$error":"#N/A"}}]
[null,null,{"$f":"VLOOKUP(A358,'Analyse S'!A:D,2,FALSE)","v":{"$error":"#N/A"}}]
[null,null,{"$f":"VLOOKUP(A359,'Analyse S'!A:D,2,FALSE)","v":{"$error":"#N/A"}}]
[null,null,{"$f":"VLOOKUP(A360,'Analyse S'!A:D,2,FALSE)","v":{"$error":"#N/A"}}]
[null,null,{"$f":"VLOOKUP(A361,'Analyse S'!A:D,2,FALSE)","v":{"$error":"#N/A"}}]
[null,null,{"$f":"VLOOKUP(A362,'Analyse S'!A:D,2,FALSE)","v":{"$error":"#N/A"}}]
[null,null,{"$f":"VLOOKUP(A363,'Analyse S'!A:D,2,FALSE)","v":{"$error":"#N/A"}}]
[null,null,{"$f":"VLOOKUP(A364,'Analyse S'!A:D,2,FALSE)","v":{"$error":"#N/A"}}]
[null,null,{"$f":"VLOOKUP(A365,'Analyse S'!A:D,2,FALSE)","v":{"$error":"#N/A"}}]
[null,null,{"$f":"VLOOKUP(A366,'Analyse S'!A:D,2,FALSE)","v":{"$error":"#N/A"}}]
[null,null,{"$f":"VLOOKUP(A367,'Analyse S'!A:D,2,FALSE)","v":{"$error":"#N/A"}}]
[null,null,{"$f":"VLOOKUP(A368,'Analyse S'!A:D,2,FALSE)","v":{"$error":"#N/A"}}]
[null,null,{"$f":"VLOOKUP(A369,'Analyse S'!A:D,2,FALSE)","v":{"$error":"#N/A"}}]
[null,null,{"$f":"VLOOKUP(A370,'Analyse S'!A:D,2,FALSE)","v":{"$error":"#N/A"}}]
[null,null,{"$f":"VLOOKUP(A371,'Analyse S'!A:D,2,FALSE)","v":{"$error":"#N/A"}}]
[null,null,{"$f":"VLOOKUP(A372,'Analyse S'!A:D,2,FALSE)","v":{"$error":"#N/A"}}]
[null,null,{"$f":"VLOOKUP(A373,'Analyse S'!A:D,2,FALSE)","v":{"$error":"#N/A"}}]
[null,null,{"$f":"VLOOKUP(A374,'Analyse S'!A:D,2,FALSE)","v":{"$error":"#N/A"}}]
[null,null,{"$f":"VLOOKUP(A375,'Analyse S'!A:D,2,FALSE)","v":{"$error":"#N/A"}}]
[null,null,{"$f":"VLOOKUP(A376,'Analyse S'!A:D,2,FALSE)","v":{"$error":"#N/A"}}]
[null,null,{"$f":"VLOOKUP(A377,'Analyse S'!A:D,2,FALSE)","v":{"$error":"#N/A"}}]
[null,null,{"$f":"VLOOKUP(A378,'Analyse S'!A:D,2,FALSE)","v":{"$error":"#N/A"}}]
[null,null,{"$f":"VLOOKUP(A379,'Analyse S'!A:D,2,FALSE)","v":{"$error":"#N/A"}}]
[null,null,{"$f":"VLOOKUP(A380,'Analyse S'!A:D,2,FALSE)","v":{"$error":"#N/A"}}]
[null,null,{"$f":"VLOOKUP(A381,'Analyse S'!A:D,2,FALSE)","v":{"$error":"#N/A"}}]
[null,null,{"$f":"VLOOKUP(A382,'Analyse S'!A:D,2,FALSE)","v":{"$error":"#N/A"}}]
[null,null,{"$f":"VLOOKUP(A383,'Analyse S'!A:D,2,FALSE)","v":{"$error":"#N/A"}}]
[null,null,{"$f":"VLOOKUP(A384,'Analyse S'!A:D,2,FALSE)","v":{"$error":"#N/A"}}]
[null,null,{"$f":"VLOOKUP(A385,'Analyse S'!A:D,2,FALSE)","v":{"$error":"#N/A"}}]
[null,null,{"$f":"VLOOKUP(A386,'Analyse S'!A:D,2,FALSE)","v":{"$error":"#N/A"}}]
[null,null,{"$f":"VLOOKUP(A387,'Analyse S'!A:D,2,FALSE)","v":{"$error":"#N/A"}}]
[null,null,{"$f":"VLOOKUP(A388,'Analyse S'!A:D,2,FALSE)","v":{"$error":"#N/A"}}]
[null,null,{"$f":"VLOOKUP(A389,'Analyse S'!A:D,2,FALSE)","v":{"$error":"#N/A"}}]
[null,null,{"$f":"VLOOKUP(A390,'Analyse S'!A:D,2,FALSE)","v":{"$error":"#N/A"}}]
[null,null,{"$f":"VLOOKUP(A391,'Analyse S'!A:D,2,FALSE)","v":{"$error":"#N/A"}}]
[null,null,{"$f":"VLOOKUP(A392,'Analyse S'!A:D,2,FALSE)","v":{"$error":"#N/A"}}]
[null,null,{"$f":"VLOOKUP(A393,'Analyse S'!A:D,2,FALSE)","v":{"$error":"#N/A"}}]
[null,null,{"$f":"VLOOKUP(A394,'Analyse S'!A:D,2,FALSE)","v":{"$error":"#N/A"}}]
[null,null,{"$f":"VLOOKUP(A395,'Analyse S'!A:D,2,FALSE)","v":{"$error":"#N/A"}}]
[null,null,{"$f":"VLOOKUP(A396,'Analyse S'!A:D,2,FALSE)","v":{"$error":"#N/A"}}]
[null,null,{"$f":"VLOOKUP(A397,'Analyse S'!A:D,2,FALSE)","v":{"$error":"#N/A"}}]
[null,null,{"$f":"VLOOKUP(A398,'Analyse S'!A:D,2,FALSE)","v":{"$error":"#N/A"}}]
[null,null,{"$f":"VLOOKUP(A399,'Analyse S'!A:D,2,FALSE)","v":{"$error":"#N/A"}}]
[null,null,{"$f":"VLOOKUP(A400,'Analyse S'!A:D,2,FALSE)","v":{"$error":"#N/A"}}]
[null,null,{"$f":"VLOOKUP(A401,'Analyse S'!A:D,2,FALSE)","v":{"$error":"#N/A"}}]
[null,null,{"$f":"VLOOKUP(A402,'Analyse S'!A:D,2,FALSE)","v":{"$error":"#N/A"}}]
[null,null,{"$f":"VLOOKUP(A403,'Analyse S'!A:D,2,FALSE)","v":{"$error":"#N/A"}}]
[null,null,{"$f":"VLOOKUP(A404,'Analyse S'!A:D,2,FALSE)","v":{"$error":"#N/A"}}]
[null,null,{"$f":"VLOOKUP(A405,'Analyse S'!A:D,2,FALSE)","v":{"$error":"#N/A"}}]
[null,null,{"$f":"VLOOKUP(A406,'Analyse S'!A:D,2,FALSE)","v":{"$error":"#N/A"}}]
[null,null,{"$f":"VLOOKUP(A407,'Analyse S'!A:D,2,FALSE)","v":{"$error":"#N/A"}}]
[null,null,{"$f":"VLOOKUP(A408,'Analyse S'!A:D,2,FALSE)","v":{"$error":"#N/A"}}]
[null,null,{"$f":"VLOOKUP(A409,'Analyse S'!A:D,2,FALSE)","v":{"$error":"#N/A"}}]
[null,null,{"$f":"VLOOKUP(A410,'Analyse S'!A:D,2,FALSE)","v":{"$error":"#N/A"}}]
[null,null,{"$f":"VLOOKUP(A411,'Analyse S'!A:D,2,FALSE)","v":{"$error":"#N/A"}}]
[null,null,{"$f":"VLOOKUP(A412,'Analyse S'!A:D,2,FALSE)","v":{"$error":"#N/A"}}]
[null,null,{"$f":"VLOOKUP(A413,'Analyse S'!A:D,2,FALSE)","v":{"$error":"#N/A"}}]
[null,null,{"$f":"VLOOKUP(A414,'Analyse S'!A:D,2,FALSE)","v":{"$error":"#N/A"}}]
[null,null,{"$f":"VLOOKUP(A415,'Analyse S'!A:D,2,FALSE)","v":{"$error":"#N/A"}}]
[null,null,{"$f":"VLOOKUP(A416,'Analyse S'!A:D,2,FALSE)","v":{"$error":"#N/A"}}]
[null,null,{"$f":"VLOOKUP(A417,'Analyse S'!A:D,2,FALSE)","v":{"$error":"#N/A"}}]
[null,null,{"$f":"VLOOKUP(A418,'Analyse S'!A:D,2,FALSE)","v":{"$error":"#N/A"}}]
[null,null,{"$f":"VLOOKUP(A419,'Analyse S'!A:D,2,FALSE)","v":{"$error":"#N/A"}}]
[null,null,{"$f":"VLOOKUP(A420,'Analyse S'!A:D,2,FALSE)","v":{"$error":"#N/A"}}]
[null,null,{"$f":"VLOOKUP(A421,'Analyse S'!A:D,2,FALSE)","v":{"$error":"#N/A"}}]
[null,null,{"$f":"VLOOKUP(A422,'Analyse S'!A:D,2,FALSE)","v":{"$error":"#N/A"}}]
[null,null,{"$f":"VLOOKUP(A423,'Analyse S'!A:D,2,FALSE)","v":{"$error":"#N/A"}}]
[null,null,{"$f":"VLOOKUP(A424,'Analyse S'!A:D,2,FALSE)","v":{"$error":"#N/A"}}]
[null,null,{"$f":"VLOOKUP(A425,'Analyse S'!A:D,2,FALSE)","v":{"$error":"#N/A"}}]
[null,null,{"$f":"VLOOKUP(A426,'Analyse S'!A:D,2,FALSE)","v":{"$error":"#N/A"}}]
[null,null,{"$f":"VLOOKUP(A427,'Analyse S'!A:D,2,FALSE)","v":{"$error":"#N/A"}}]
[null,null,{"$f":"VLOOKUP(A428,'Analyse S'!A:D,2,FALSE)","v":{"$error":"#N/A"}}]
[null,null,{"$f":"VLOOKUP(A429,'Analyse S'!A:D,2,FALSE)","v":{"$error":"#N/A"}}]
[null,null,{"$f":"VLOOKUP(A430,'Analyse S'!A:D,2,FALSE)","v":{"$error":"#N/A"}}]
[null,null,{"$f":"VLOOKUP(A431,'Analyse S'!A:D,2,FALSE)","v":{"$error":"#N/A"}}]
[null,null,{"$f":"VLOOKUP(A432,'Analyse S'!A:D,2,FALSE)","v":{"$error":"#N/A"}}]
[null,null,{"$f":"VLOOKUP(A433,'Analyse S'!A:D,2,FALSE)","v":{"$error":"#N/A"}}]
[null,null,{"$f":"VLOOKUP(A434,'Analyse S'!A:D,2,FALSE)","v":{"$error":"#N/A"}}]
[null,null,{"$f":"VLOOKUP(A435,'Analyse S'!A:D,2,FALSE)","v":{"$error":"#N/A"}}]
[null,null,{"$f":"VLOOKUP(A436,'Analyse S'!A:D,2,FALSE)","v":{"$error":"#N/A"}}]
[null,null,{"$f":"VLOOKUP(A437,'Analyse S'!A:D,2,FALSE)","v":{"$error":"#N/A"}}]
[null,null,{"$f":"VLOOKUP(A438,'Analyse S'!A:D,2,FALSE)","v":{"$error":"#N/A"}}]
[null,null,{"$f":"VLOOKUP(A439,'Analyse S'!A:D,2,FALSE)","v":{"$error":"#N/A"}}]
[null,null,{"$f":"VLOOKUP(A440,'Analyse S'!A:D,2,FALSE)","v":{"$error":"#N/A"}}]
[null,null,{"$f":"VLOOKUP(A441,'Analyse S'!A:D,2,FALSE)","v":{"$error":"#N/A"}}]
[null,null,{"$f":"VLOOKUP(A442,'Analyse S'!A:D,2,FALSE)","v":{"$error":"#N/A"}}]
[null,null,{"$f":"VLOOKUP(A443,'Analyse S'!A:D,2,FALSE)","v":{"$error":"#N/A"}}]
[null,null,{"$f":"VLOOKUP(A444,'Analyse S'!A:D,2,FALSE)","v":{"$error":"#N/A"}}]
[null,null,{"$f":"VLOOKUP(A445,'Analyse S'!A:D,2,FALSE)","v":{"$error":"#N/A"}}]
[null,null,{"$f":"VLOOKUP(A446,'Analyse S'!A:D,2,FALSE)","v":{"$error":"#N/A"}}]
[null,null,{"$f":"VLOOKUP(A447,'Analyse S'!A:D,2,FALSE)","v":{"$error":"#N/A"}}]
[null,null,{"$f":"VLOOKUP(A448,'Analyse S'!A:D,2,FALSE)","v":{"$error":"#N/A"}}]
[null,null,{"$f":"VLOOKUP(A449,'Analyse S'!A:D,2,FALSE)","v":{"$error":"#N/A"}}]
[null,null,{"$f":"VLOOKUP(A450,'Analyse S'!A:D,2,FALSE)","v":{"$error":"#N/A"}}]
[null,null,{"$f":"VLOOKUP(A451,'Analyse S'!A:D,2,FALSE)","v":{"$error":"#N/A"}}]
[null,null,{"$f":"VLOOKUP(A452,'Analyse S'!A:D,2,FALSE)","v":{"$error":"#N/A"}}]
[null,null,{"$f":"VLOOKUP(A453,'Analyse S'!A:D,2,FALSE)","v":{"$error":"#N/A"}}]
[null,null,{"$f":"VLOOKUP(A454,'Analyse S'!A:D,2,FALSE)","v":{"$error":"#N/A"}}]
[null,null,{"$f":"VLOOKUP(A455,'Analyse S'!A:D,2,FALSE)","v":{"$error":"#N/A"}}]
[null,null,{"$f":"VLOOKUP(A456,'Analyse S'!A:D,2,FALSE)","v":{"$error":"#N/A"}}]
[null,null,{"$f":"VLOOKUP(A457,'Analyse S'!A:D,2,FALSE)","v":{"$error":"#N/A"}}]
[null,null,{"$f":"VLOOKUP(A458,'Analyse S'!A:D,2,FALSE)","v":{"$error":"#N/A"}}]
[null,null,{"$f":"VLOOKUP(A459,'Analyse S'!A:D,2,FALSE)","v":{"$error":"#N/A"}}]
[null,null,{"$f":"VLOOKUP(A460,'Analyse S'!A:D,2,FALSE)","v":{"$error":"#N/A"}}]
[null,null,{"$f":"VLOOKUP(A461,'Analyse S'!A:D,2,FALSE)","v":{"$error":"#N/A"}}]
[null,null,{"$f":"VLOOKUP(A462,'Analyse S'!A:D,2,FALSE)","v":{"$error":"#N/A"}}]
[null,null,{"$f":"VLOOKUP(A463,'Analyse S'!A:D,2,FALSE)","v":{"$error":"#N/A"}}]
[null,null,{"$f":"VLOOKUP(A464,'Analyse S'!A:D,2,FALSE)","v":{"$error":"#N/A"}}]
[null,null,{"$f":"VLOOKUP(A465,'Analyse S'!A:D,2,FALSE)","v":{"$error":"#N/A"}}]
[null,null,{"$f":"VLOOKUP(A466,'Analyse S'!A:D,2,FALSE)","v":{"$error":"#N/A"}}]
[null,null,{"$f":"VLOOKUP(A467,'Analyse S'!A:D,2,FALSE)","v":{"$error":"#N/A"}}]
[null,null,{"$f":"VLOOKUP(A468,'Analyse S'!A:D,2,FALSE)","v":{"$error":"#N/A"}}]
[null,null,{"$f":"VLOOKUP(A469,'Analyse S'!A:D,2,FALSE)","v":{"$error":"#N/A"}}]
[null,null,{"$f":"VLOOKUP(A470,'Analyse S'!A:D,2,FALSE)","v":{"$error":"#N/A"}}]
[null,null,{"$f":"VLOOKUP(A471,'Analyse S'!A:D,2,FALSE)","v":{"$error":"#N/A"}}]
[null,null,{"$f":"VLOOKUP(A472,'Analyse S'!A:D,2,FALSE)","v":{"$error":"#N/A"}}]
[null,null,{"$f":"VLOOKUP(A473,'Analyse S'!A:D,2,FALSE)","v":{"$error":"#N/A"}}]
[null,null,{"$f":"VLOOKUP(A474,'Analyse S'!A:D,2,FALSE)","v":{"$error":"#N/A"}}]
[null,null,{"$f":"VLOOKUP(A475,'Analyse S'!A:D,2,FALSE)","v":{"$error":"#N/A"}}]
[null,null,{"$f":"VLOOKUP(A476,'Analyse S'!A:D,2,FALSE)","v":{"$error":"#N/A"}}]
[null,null,{"$f":"VLOOKUP(A477,'Analyse S'!A:D,2,FALSE)","v":{"$error":"#N/A"}}]
[null,null,{"$f":"VLOOKUP(A478,'Analyse S'!A:D,2,FALSE)","v":{"$error":"#N/A"}}]
[null,null,{"$f":"VLOOKUP(A479,'Analyse S'!A:D,2,FALSE)","v":{"$error":"#N/A"}}]
[null,null,{"$f":"VLOOKUP(A480,'Analyse S'!A:D,2,FALSE)","v":{"$error":"#N/A"}}]
[null,null,{"$f":"VLOOKUP(A481,'Analyse S'!A:D,2,FALSE)","v":{"$error":"#N/A"}}]
[null,null,{"$f":"VLOOKUP(A482,'Analyse S'!A:D,2,FALSE)","v":{"$error":"#N/A"}}]
[null,null,{"$f":"VLOOKUP(A483,'Analyse S'!A:D,2,FALSE)","v":{"$error":"#N/A"}}]
[null,null,{"$f":"VLOOKUP(A484,'Analyse S'!A:D,2,FALSE)","v":{"$error":"#N/A"}}]
[null,null,{"$f":"VLOOKUP(A485,'Analyse S'!A:D,2,FALSE)","v":{"$error":"#N/A"}}]
[null,null,{"$f":"VLOOKUP(A486,'Analyse S'!A:D,2,FALSE)","v":{"$error":"#N/A"}}]
[null,null,{"$f":"VLOOKUP(A487,'Analyse S'!A:D,2,FALSE)","v":{"$error":"#N/A"}}]
[null,null,{"$f":"VLOOKUP(A488,'Analyse S'!A:D,2,FALSE)","v":{"$error":"#N/A"}}]
[null,null,{"$f":"VLOOKUP(A489,'Analyse S'!A:D,2,FALSE)","v":{"$error":"#N/A"}}]
[null,null,{"$f":"VLOOKUP(A490,'Analyse S'!A:D,2,FALSE)","v":{"$error":"#N/A"}}]
[null,null,{"$f":"VLOOKUP(A491,'Analyse S'!A:D,2,FALSE)","v":{"$error":"#N/A"}}]
[null,null,{"$f":"VLOOKUP(A492,'Analyse S'!A:D,2,FALSE)","v":{"$error":"#N/A"}}]
[null,null,{"$f":"VLOOKUP(A493,'Analyse S'!A:D,2,FALSE)","v":{"$error":"#N/A"}}]
[null,null,{"$f":"VLOOKUP(A494,'Analyse S'!A:D,2,FALSE)","v":{"$error":"#N/A"}}]
[null,null,{"$f":"VLOOKUP(A495,'Analyse S'!A:D,2,FALSE)","v":{"$error":"#N/A"}}]
[null,null,{"$f":"VLOOKUP(A496,'Analyse S'!A:D,2,FALSE)","v":{"$error":"#N/A"}}]
[null,null,{"$f":"VLOOKUP(A497,'Analyse S'!A:D,2,FALSE)","v":{"$error":"#N/A"}}]
[null,null,{"$f":"VLOOKUP(A498,'Analyse S'!A:D,2,FALSE)","v":{"$error":"#N/A"}}]
[null,null,{"$f":"VLOOKUP(A499,'Analyse S'!A:D,2,FALSE)","v":{"$error":"#N/A"}}]
[null,null,{"$f":"VLOOKUP(A500,'Analyse S'!A:D,2,FALSE)","v":{"$error":"#N/A"}}]
[null,null,{"$f":"VLOOKUP(A501,'Analyse S'!A:D,2,FALSE)","v":{"$error":"#N/A"}}]
[null,null,{"$f":"VLOOKUP(A502,'Analyse S'!A:D,2,FALSE)","v":{"$error":"#N/A"}}]
[null,null,{"$f":"VLOOKUP(A503,'Analyse S'!A:D,2,FALSE)","v":{"$error":"#N/A"}}]
[null,null,{"$f":"VLOOKUP(A504,'Analyse S'!A:D,2,FALSE)","v":{"$error":"#N/A"}}]
[null,null,{"$f":"VLOOKUP(A505,'Analyse S'!A:D,2,FALSE)","v":{"$error":"#N/A"}}]
[null,null,{"$f":"VLOOKUP(A506,'Analyse S'!A:D,2,FALSE)","v":{"$error":"#N/A"}}]
[null,null,{"$f":"VLOOKUP(A507,'Analyse S'!A:D,2,FALSE)","v":{"$error":"#N/A"}}]
[null,null,{"$f":"VLOOKUP(A508,'Analyse S'!A:D,2,FALSE)","v":{"$error":"#N/A"}}]
[null,null,{"$f":"VLOOKUP(A509,'Analyse S'!A:D,2,FALSE)","v":{"$error":"#N/A"}}]
[null,null,{"$f":"VLOOKUP(A510,'Analyse S'!A:D,2,FALSE)","v":{"$error":"#N/A"}}]
[null,null,{"$f":"VLOOKUP(A511,'Analyse S'!A:D,2,FALSE)","v":{"$error":"#N/A"}}]
[null,null,{"$f":"VLOOKUP(A512,'Analyse S'!A:D,2,FALSE)","v":{"$error":"#N/A"}}]
[null,null,{"$f":"VLOOKUP(A513,'Analyse S'!A:D,2,FALSE)","v":{"$error":"#N/A"}}]
[null,null,{"$f":"VLOOKUP(A514,'Analyse S'!A:D,2,FALSE)","v":{"$error":"#N/A"}}]
[null,null,{"$f":"VLOOKUP(A515,'Analyse S'!A:D,2,FALSE)","v":{"$error":"#N/A"}}]
[null,null,{"$f":"VLOOKUP(A516,'Analyse S'!A:D,2,FALSE)","v":{"$error":"#N/A"}}]
[null,null,{"$f":"VLOOKUP(A517,'Analyse S'!A:D,2,FALSE)","v":{"$error":"#N/A"}}]
[null,null,{"$f":"VLOOKUP(A518,'Analyse S'!A:D,2,FALSE)","v":{"$error":"#N/A"}}]
[null,null,{"$f":"VLOOKUP(A519,'Analyse S'!A:D,2,FALSE)","v":{"$error":"#N/A"}}]
[null,null,{"$f":"VLOOKUP(A520,'Analyse S'!A:D,2,FALSE)","v":{"$error":"#N/A"}}]
[null,null,{"$f":"VLOOKUP(A521,'Analyse S'!A:D,2,FALSE)","v":{"$error":"#N/A"}}]
[null,null,{"$f":"VLOOKUP(A522,'Analyse S'!A:D,2,FALSE)","v":{"$error":"#N/A"}}]
[null,null,{"$f":"VLOOKUP(A523,'Analyse S'!A:D,2,FALSE)","v":{"$error":"#N/A"}}]
[null,null,{"$f":"VLOOKUP(A524,'Analyse S'!A:D,2,FALSE)","v":{"$error":"#N/A"}}]
[null,null,{"$f":"VLOOKUP(A525,'Analyse S'!A:D,2,FALSE)","v":{"$error":"#N/A"}}]
[null,null,{"$f":"VLOOKUP(A526,'Analyse S'!A:D,2,FALSE)","v":{"$error":"#N/A"}}]
[null,null,{"$f":"VLOOKUP(A527,'Analyse S'!A:D,2,FALSE)","v":{"$error":"#N/A"}}]
[null,null,{"$f":"VLOOKUP(A528,'Analyse S'!A:D,2,FALSE)","v":{"$error":"#N/A"}}]
[null,null,{"$f":"VLOOKUP(A529,'Analyse S'!A:D,2,FALSE)","v":{"$error":"#N/A"}}]
[null,null,{"$f":"VLOOKUP(A530,'Analyse S'!A:D,2,FALSE)","v":{"$error":"#N/A"}}]
[null,null,{"$f":"VLOOKUP(A531,'Analyse S'!A:D,2,FALSE)","v":{"$error":"#N/A"}}]
[null,null,{"$f":"VLOOKUP(A532,'Analyse S'!A:D,2,FALSE)","v":{"$error":"#N/A"}}]
[null,null,{"$f":"VLOOKUP(A533,'Analyse S'!A:D,2,FALSE)","v":{"$error":"#N/A"}}]
[null,null,{"$f":"VLOOKUP(A534,'Analyse S'!A:D,2,FALSE)","v":{"$error":"#N/A"}}]
[null,null,{"$f":"VLOOKUP(A535,'Analyse S'!A:D,2,FALSE)","v":{"$error":"#N/A"}}]
[null,null,{"$f":"VLOOKUP(A536,'Analyse S'!A:D,2,FALSE)","v":{"$error":"#N/A"}}]
[null,null,{"$f":"VLOOKUP(A537,'Analyse S'!A:D,2,FALSE)","v":{"$error":"#N/A"}}]
[null,null,{"$f":"VLOOKUP(A538,'Analyse S'!A:D,2,FALSE)","v":{"$error":"#N/A"}}]
[null,null,{"$f":"VLOOKUP(A539,'Analyse S'!A:D,2,FALSE)","v":{"$error":"#N/A"}}]
[null,null,{"$f":"VLOOKUP(A540,'Analyse S'!A:D,2,FALSE)","v":{"$error":"#N/A"}}]
[null,null,{"$f":"VLOOKUP(A541,'Analyse S'!A:D,2,FALSE)","v":{"$error":"#N/A"}}]
[null,null,{"$f":"VLOOKUP(A542,'Analyse S'!A:D,2,FALSE)","v":{"$error":"#N/A"}}]
[null,null,{"$f":"VLOOKUP(A543,'Analyse S'!A:D,2,FALSE)","v":{"$error":"#N/A"}}]
[null,null,{"$f":"VLOOKUP(A544,'Analyse S'!A:D,2,FALSE)","v":{"$error":"#N/A"}}]
[null,null,{"$f":"VLOOKUP(A545,'Analyse S'!A:D,2,FALSE)","v":{"$error":"#N/A"}}]
[null,null,{"$f":"VLOOKUP(A546,'Analyse S'!A:D,2,FALSE)","v":{"$error":"#N/A"}}]
[null,null,{"$f":"VLOOKUP(A547,'Analyse S'!A:D,2,FALSE)","v":{"$error":"#N/A"}}]
[null,null,{"$f":"VLOOKUP(A548,'Analyse S'!A:D,2,FALSE)","v":{"$error":"#N/A"}}]
[null,null,{"$f":"VLOOKUP(A549,'Analyse S'!A:D,2,FALSE)","v":{"$error":"#N/A"}}]
[null,null,{"$f":"VLOOKUP(A550,'Analyse S'!A:D,2,FALSE)","v":{"$error":"#N/A"}}]
[null,null,{"$f":"VLOOKUP(A551,'Analyse S'!A:D,2,FALSE)","v":{"$error":"#N/A"}}]
[null,null,{"$f":"VLOOKUP(A552,'Analyse S'!A:D,2,FALSE)","v":{"$error":"#N/A"}}]
[null,null,{"$f":"VLOOKUP(A553,'Analyse S'!A:D,2,FALSE)","v":{"$error":"#N/A"}}]
[null,null,{"$f":"VLOOKUP(A554,'Analyse S'!A:D,2,FALSE)","v":{"$error":"#N/A"}}]
[null,null,{"$f":"VLOOKUP(A555,'Analyse S'!A:D,2,FALSE)","v":{"$error":"#N/A"}}]
[null,null,{"$f":"VLOOKUP(A556,'Analyse S'!A:D,2,FALSE)","v":{"$error":"#N/A"}}]
[null,null,{"$f":"VLOOKUP(A557,'Analyse S'!A:D,2,FALSE)","v":{"$error":"#N/A"}}]
[null,null,{"$f":"VLOOKUP(A558,'Analyse S'!A:D,2,FALSE)","v":{"$error":"#N/A"}}]
[null,null,{"$f":"VLOOKUP(A559,'Analyse S'!A:D,2,FALSE)","v":{"$error":"#N/A"}}]
[null,null,{"$f":"VLOOKUP(A560,'Analyse S'!A:D,2,FALSE)","v":{"$error":"#N/A"}}]
[null,null,{"$f":"VLOOKUP(A561,'Analyse S'!A:D,2,FALSE)","v":{"$error":"#N/A"}}]
[null,null,{"$f":"VLOOKUP(A562,'Analyse S'!A:D,2,FALSE)","v":{"$error":"#N/A"}}]
[null,null,{"$f":"VLOOKUP(A563,'Analyse S'!A:D,2,FALSE)","v":{"$error":"#N/A"}}]
[null,null,{"$f":"VLOOKUP(A564,'Analyse S'!A:D,2,FALSE)","v":{"$error":"#N/A"}}]
[null,null,{"$f":"VLOOKUP(A565,'Analyse S'!A:D,2,FALSE)","v":{"$error":"#N/A"}}]
[null,null,{"$f":"VLOOKUP(A566,'Analyse S'!A:D,2,FALSE)","v":{"$error":"#N/A"}}]
[null,null,{"$f":"VLOOKUP(A567,'Analyse S'!A:D,2,FALSE)","v":{"$error":"#N/A"}}]
[null,null,{"$f":"VLOOKUP(A568,'Analyse S'!A:D,2,FALSE)","v":{"$error":"#N/A"}}]
[null,null,{"$f":"VLOOKUP(A569,'Analyse S'!A:D,2,FALSE)","v":{"$error":"#N/A"}}]
[null,null,{"$f":"VLOOKUP(A570,'Analyse S'!A:D,2,FALSE)","v":{"$error":"#N/A"}}]
[null,null,{"$f":"VLOOKUP(A571,'Analyse S'!A:D,2,FALSE)","v":{"$error":"#N/A"}}]
[null,null,{"$f":"VLOOKUP(A572,'Analyse S'!A:D,2,FALSE)","v":{"$error":"#N/A"}}]
[null,null,{"$f":"VLOOKUP(A573,'Analyse S'!A:D,2,FALSE)","v":{"$error":"#N/A"}}]
[null,null,{"$f":"VLOOKUP(A574,'Analyse S'!A:D,2,FALSE)","v":{"$error":"#N/A"}}]
[null,null,{"$f":"VLOOKUP(A575,'Analyse S'!A:D,2,FALSE)","v":{"$error":"#N/A"}}]
[null,null,{"$f":"VLOOKUP(A576,'Analyse S'!A:D,2,FALSE)","v":{"$error":"#N/A"}}]
[null,null,{"$f":"VLOOKUP(A577,'Analyse S'!A:D,2,FALSE)","v":{"$error":"#N/A"}}]
[null,null,{"$f":"VLOOKUP(A578,'Analyse S'!A:D,2,FALSE)","v":{"$error":"#N/A"}}]
[null,null,{"$f":"VLOOKUP(A579,'Analyse S'!A:D,2,FALSE)","v":{"$error":"#N/A"}}]
[null,null,{"$f":"VLOOKUP(A580,'Analyse S'!A:D,2,FALSE)","v":{"$error":"#N/A"}}]
[null,null,{"$f":"VLOOKUP(A581,'Analyse S'!A:D,2,FALSE)","v":{"$error":"#N/A"}}]
[null,null,{"$f":"VLOOKUP(A582,'Analyse S'!A:D,2,FALSE)","v":{"$error":"#N/A"}}]
[null,null,{"$f":"VLOOKUP(A583,'Analyse S'!A:D,2,FALSE)","v":{"$error":"#N/A"}}]
[null,null,{"$f":"VLOOKUP(A584,'Analyse S'!A:D,2,FALSE)","v":{"$error":"#N/A"}}]
[null,null,{"$f":"VLOOKUP(A585,'Analyse S'!A:D,2,FALSE)","v":{"$error":"#N/A"}}]
[null,null,{"$f":"VLOOKUP(A586,'Analyse S'!A:D,2,FALSE)","v":{"$error":"#N/A"}}]
[null,null,{"$f":"VLOOKUP(A587,'Analyse S'!A:D,2,FALSE)","v":{"$error":"#N/A"}}]
[null,null,{"$f":"VLOOKUP(A588,'Analyse S'!A:D,2,FALSE)","v":{"$error":"#N/A"}}]
[null,null,{"$f":"VLOOKUP(A589,'Analyse S'!A:D,2,FALSE)","v":{"$error":"#N/A"}}]
[null,null,{"$f":"VLOOKUP(A590,'Analyse S'!A:D,2,FALSE)","v":{"$error":"#N/A"}}]
[null,null,{"$f":"VLOOKUP(A591,'Analyse S'!A:D,2,FALSE)","v":{"$error":"#N/A"}}]
[null,null,{"$f":"VLOOKUP(A592,'Analyse S'!A:D,2,FALSE)","v":{"$error":"#N/A"}}]
[null,null,{"$f":"VLOOKUP(A593,'Analyse S'!A:D,2,FALSE)","v":{"$error":"#N/A"}}]
[null,null,{"$f":"VLOOKUP(A594,'Analyse S'!A:D,2,FALSE)","v":{"$error":"#N/A"}}]
[null,null,{"$f":"VLOOKUP(A595,'Analyse S'!A:D,2,FALSE)","v":{"$error":"#N/A"}}]
[null,null,{"$f":"VLOOKUP(A596,'Analyse S'!A:D,2,FALSE)","v":{"$error":"#N/A"}}]
[null,null,{"$f":"VLOOKUP(A597,'Analyse S'!A:D,2,FALSE)","v":{"$error":"#N/A"}}]
[null,null,{"$f":"VLOOKUP(A598,'Analyse S'!A:D,2,FALSE)","v":{"$error":"#N/A"}}]
[null,null,{"$f":"VLOOKUP(A599,'Analyse S'!A:D,2,FALSE)","v":{"$error":"#N/A"}}]
[null,null,{"$f":"VLOOKUP(A600,'Analyse S'!A:D,2,FALSE)","v":{"$error":"#N/A"}}]
[null,null,{"$f":"VLOOKUP(A601,'Analyse S'!A:D,2,FALSE)","v":{"$error":"#N/A"}}]
[null,null,{"$f":"VLOOKUP(A602,'Analyse S'!A:D,2,FALSE)","v":{"$error":"#N/A"}}]
[null,null,{"$f":"VLOOKUP(A603,'Analyse S'!A:D,2,FALSE)","v":{"$error":"#N/A"}}]
[null,null,{"$f":"VLOOKUP(A604,'Analyse S'!A:D,2,FALSE)","v":{"$error":"#N/A"}}]
[null,null,{"$f":"VLOOKUP(A605,'Analyse S'!A:D,2,FALSE)","v":{"$error":"#N/A"}}]
[null,null,{"$f":"VLOOKUP(A606,'Analyse S'!A:D,2,FALSE)","v":{"$error":"#N/A"}}]
[null,null,{"$f":"VLOOKUP(A607,'Analyse S'!A:D,2,FALSE)","v":{"$error":"#N/A"}}]
[null,null,{"$f":"VLOOKUP(A608,'Analyse S'!A:D,2,FALSE)","v":{"$error":"#N/A"}}]
[null,null,{"$f":"VLOOKUP(A609,'Analyse S'!A:D,2,FALSE)","v":{"$error":"#N/A"}}]
[null,null,{"$f":"VLOOKUP(A610,'Analyse S'!A:D,2,FALSE)","v":{"$error":"#N/A"}}]
[null,null,{"$f":"VLOOKUP(A611,'Analyse S'!A:D,2,FALSE)","v":{"$error":"#N/A"}}]
[null,null,{"$f":"VLOOKUP(A612,'Analyse S'!A:D,2,FALSE)","v":{"$error":"#N/A"}}]
[null,null,{"$f":"VLOOKUP(A613,'Analyse S'!A:D,2,FALSE)","v":{"$error":"#N/A"}}]
[null,null,{"$f":"VLOOKUP(A614,'Analyse S'!A:D,2,FALSE)","v":{"$error":"#N/A"}}]
[null,null,{"$f":"VLOOKUP(A615,'Analyse S'!A:D,2,FALSE)","v":{"$error":"#N/A"}}]
[null,null,{"$f":"VLOOKUP(A616,'Analyse S'!A:D,2,FALSE)","v":{"$error":"#N/A"}}]
[null,null,{"$f":"VLOOKUP(A617,'Analyse S'!A:D,2,FALSE)","v":{"$error":"#N/A"}}]
[null,null,{"$f":"VLOOKUP(A618,'Analyse S'!A:D,2,FALSE)","v":{"$error":"#N/A"}}]
[null,null,{"$f":"VLOOKUP(A619,'Analyse S'!A:D,2,FALSE)","v":{"$error":"#N/A"}}]
[null,null,{"$f":"VLOOKUP(A620,'Analyse S'!A:D,2,FALSE)","v":{"$error":"#N/A"}}]
[null,null,{"$f":"VLOOKUP(A621,'Analyse S'!A:D,2,FALSE)","v":{"$error":"#N/A"}}]
[null,null,{"$f":"VLOOKUP(A622,'Analyse S'!A:D,2,FALSE)","v":{"$error":"#N/A"}}]
[null,null,{"$f":"VLOOKUP(A623,'Analyse S'!A:D,2,FALSE)","v":{"$error":"#N/A"}}]
[null,null,{"$f":"VLOOKUP(A624,'Analyse S'!A:D,2,FALSE)","v":{"$error":"#N/A"}}]
[null,null,{"$f":"VLOOKUP(A625,'Analyse S'!A:D,2,FALSE)","v":{"$error":"#N/A"}}]
[null,null,{"$f":"VLOOKUP(A626,'Analyse S'!A:D,2,FALSE)","v":{"$error":"#N/A"}}]
[null,null,{"$f":"VLOOKUP(A627,'Analyse S'!A:D,2,FALSE)","v":{"$error":"#N/A"}}]
[null,null,{"$f":"VLOOKUP(A628,'Analyse S'!A:D,2,FALSE)","v":{"$error":"#N/A"}}]
[null,null,{"$f":"VLOOKUP(A629,'Analyse S'!A:D,2,FALSE)","v":{"$error":"#N/A"}}]
[null,null,{"$f":"VLOOKUP(A630,'Analyse S'!A:D,2,FALSE)","v":{"$error":"#N/A"}}]
[null,null,{"$f":"VLOOKUP(A631,'Analyse S'!A:D,2,FALSE)","v":{"$error":"#N/A"}}]
[null,null,{"$f":"VLOOKUP(A632,'Analyse S'!A:D,2,FALSE)","v":{"$error":"#N/A"}}]
[null,null,{"$f":"VLOOKUP(A633,'Analyse S'!A:D,2,FALSE)","v":{"$error":"#N/A"}}]
[null,null,{"$f":"VLOOKUP(A634,'Analyse S'!A:D,2,FALSE)","v":{"$error":"#N/A"}}]
[null,null,{"$f":"VLOOKUP(A635,'Analyse S'!A:D,2,FALSE)","v":{"$error":"#N/A"}}]
[null,null,{"$f":"VLOOKUP(A636,'Analyse S'!A:D,2,FALSE)","v":{"$error":"#N/A"}}]
[null,null,{"$f":"VLOOKUP(A637,'Analyse S'!A:D,2,FALSE)","v":{"$error":"#N/A"}}]
[null,null,{"$f":"VLOOKUP(A638,'Analyse S'!A:D,2,FALSE)","v":{"$error":"#N/A"}}]
[null,null,{"$f":"VLOOKUP(A639,'Analyse S'!A:D,2,FALSE)","v":{"$error":"#N/A"}}]
[null,null,{"$f":"VLOOKUP(A640,'Analyse S'!A:D,2,FALSE)","v":{"$error":"#N/A"}}]
[null,null,{"$f":"VLOOKUP(A641,'Analyse S'!A:D,2,FALSE)","v":{"$error":"#N/A"}}]
[null,null,{"$f":"VLOOKUP(A642,'Analyse S'!A:D,2,FALSE)","v":{"$error":"#N/A"}}]
[null,null,{"$f":"VLOOKUP(A643,'Analyse S'!A:D,2,FALSE)","v":{"$error":"#N/A"}}]
[null,null,{"$f":"VLOOKUP(A644,'Analyse S'!A:D,2,FALSE)","v":{"$error":"#N/A"}}]
[null,null,{"$f":"VLOOKUP(A645,'Analyse S'!A:D,2,FALSE)","v":{"$error":"#N/A"}}]
[null,null,{"$f":"VLOOKUP(A646,'Analyse S'!A:D,2,FALSE)","v":{"$error":"#N/A"}}]
[null,null,{"$f":"VLOOKUP(A647,'Analyse S'!A:D,2,FALSE)","v":{"$error":"#N/A"}}]
[null,null,{"$f":"VLOOKUP(A648,'Analyse S'!A:D,2,FALSE)","v":{"$error":"#N/A"}}]
[null,null,{"$f":"VLOOKUP(A649,'Analyse S'!A:D,2,FALSE)","v":{"$error":"#N/A"}}]
[null,null,{"$f":"VLOOKUP(A650,'Analyse S'!A:D,2,FALSE)","v":{"$error":"#N/A"}}]
[null,null,{"$f":"VLOOKUP(A651,'Analyse S'!A:D,2,FALSE)","v":{"$error":"#N/A"}}]
[null,null,{"$f":"VLOOKUP(A652,'Analyse S'!A:D,2,FALSE)","v":{"$error":"#N/A"}}]
[null,null,{"$f":"VLOOKUP(A653,'Analyse S'!A:D,2,FALSE)","v":{"$error":"#N/A"}}]
[null,null,{"$f":"VLOOKUP(A654,'Analyse S'!A:D,2,FALSE)","v":{"$error":"#N/A"}}]
[null,null,{"$f":"VLOOKUP(A655,'Analyse S'!A:D,2,FALSE)","v":{"$error":"#N/A"}}]
[null,null,{"$f":"VLOOKUP(A656,'Analyse S'!A:D,2,FALSE)","v":{"$error":"#N/A"}}]
[null,null,{"$f":"VLOOKUP(A657,'Analyse S'!A:D,2,FALSE)","v":{"$error":"#N/A"}}]
[null,null,{"$f":"VLOOKUP(A658,'Analyse S'!A:D,2,FALSE)","v":{"$error":"#N/A"}}]
[null,null,{"$f":"VLOOKUP(A659,'Analyse S'!A:D,2,FALSE)","v":{"$error":"#N/A"}}]
[null,null,{"$f":"VLOOKUP(A660,'Analyse S'!A:D,2,FALSE)","v":{"$error":"#N/A"}}]
[null,null,{"$f":"VLOOKUP(A661,'Analyse S'!A:D,2,FALSE)","v":{"$error":"#N/A"}}]
[null,null,{"$f":"VLOOKUP(A662,'Analyse S'!A:D,2,FALSE)","v":{"$error":"#N/A"}}]
[null,null,{"$f":"VLOOKUP(A663,'Analyse S'!A:D,2,FALSE)","v":{"$error":"#N/A"}}]
[null,null,{"$f":"VLOOKUP(A664,'Analyse S'!A:D,2,FALSE)","v":{"$error":"#N/A"}}]
[null,null,{"$f":"VLOOKUP(A665,'Analyse S'!A:D,2,FALSE)","v":{"$error":"#N/A"}}]
[null,null,{"$f":"VLOOKUP(A666,'Analyse S'!A:D,2,FALSE)","v":{"$error":"#N/A"}}]
[null,null,{"$f":"VLOOKUP(A667,'Analyse S'!A:D,2,FALSE)","v":{"$error":"#N/A"}}]
[null,null,{"$f":"VLOOKUP(A668,'Analyse S'!A:D,2,FALSE)","v":{"$error":"#N/A"}}]
[null,null,{"$f":"VLOOKUP(A669,'Analyse S'!A:D,2,FALSE)","v":{"$error":"#N/A"}}]
[null,null,{"$f":"VLOOKUP(A670,'Analyse S'!A:D,2,FALSE)","v":{"$error":"#N/A"}}]
[null,null,{"$f":"VLOOKUP(A671,'Analyse S'!A:D,2,FALSE)","v":{"$error":"#N/A"}}]
[null,null,{"$f":"VLOOKUP(A672,'Analyse S'!A:D,2,FALSE)","v":{"$error":"#N/A"}}]
[null,null,{"$f":"VLOOKUP(A673,'Analyse S'!A:D,2,FALSE)","v":{"$error":"#N/A"}}]
[null,null,{"$f":"VLOOKUP(A674,'Analyse S'!A:D,2,FALSE)","v":{"$error":"#N/A"}}]
[null,null,{"$f":"VLOOKUP(A675,'Analyse S'!A:D,2,FALSE)","v":{"$error":"#N/A"}}]
[null,null,{"$f":"VLOOKUP(A676,'Analyse S'!A:D,2,FALSE)","v":{"$error":"#N/A"}}]
[null,null,{"$f":"VLOOKUP(A677,'Analyse S'!A:D,2,FALSE)","v":{"$error":"#N/A"}}]
[null,null,{"$f":"VLOOKUP(A678,'Analyse S'!A:D,2,FALSE)","v":{"$error":"#N/A"}}]
[null,null,{"$f":"VLOOKUP(A679,'Analyse S'!A:D,2,FALSE)","v":{"$error":"#N/A"}}]
[null,null,{"$f":"VLOOKUP(A680,'Analyse S'!A:D,2,FALSE)","v":{"$error":"#N/A"}}]
[null,null,{"$f":"VLOOKUP(A681,'Analyse S'!A:D,2,FALSE)","v":{"$error":"#N/A"}}]
[null,null,{"$f":"VLOOKUP(A682,'Analyse S'!A:D,2,FALSE)","v":{"$error":"#N/A"}}]
[null,null,{"$f":"VLOOKUP(A683,'Analyse S'!A:D,2,FALSE)","v":{"$error":"#N/A"}}]
[null,null,{"$f":"VLOOKUP(A684,'Analyse S'!A:D,2,FALSE)","v":{"$error":"#N/A"}}]
[null,null,{"$f":"VLOOKUP(A685,'Analyse S'!A:D,2,FALSE)","v":{"$error":"#N/A"}}]
[null,null,{"$f":"VLOOKUP(A686,'Analyse S'!A:D,2,FALSE)","v":{"$error":"#N/A"}}]
[null,null,{"$f":"VLOOKUP(A687,'Analyse S'!A:D,2,FALSE)","v":{"$error":"#N/A"}}]
[null,null,{"$f":"VLOOKUP(A688,'Analyse S'!A:D,2,FALSE)","v":{"$error":"#N/A"}}]
[null,null,{"$f":"VLOOKUP(A689,'Analyse S'!A:D,2,FALSE)","v":{"$error":"#N/A"}}]
[null,null,{"$f":"VLOOKUP(A690,'Analyse S'!A:D,2,FALSE)","v":{"$error":"#N/A"}}]
[null,null,{"$f":"VLOOKUP(A691,'Analyse S'!A:D,2,FALSE)","v":{"$error":"#N/A"}}]
[null,null,{"$f":"VLOOKUP(A692,'Analyse S'!A:D,2,FALSE)","v":{"$error":"#N/A"}}]
[null,null,{"$f":"VLOOKUP(A693,'Analyse S'!A:D,2,FALSE)","v":{"$error":"#N/A"}}]
[null,null,{"$f":"VLOOKUP(A694,'Analyse S'!A:D,2,FALSE)","v":{"$error":"#N/A"}}]
[null,null,{"$f":"VLOOKUP(A695,'Analyse S'!A:D,2,FALSE)","v":{"$error":"#N/A"}}]
[null,null,{"$f":"VLOOKUP(A696,'Analyse S'!A:D,2,FALSE)","v":{"$error":"#N/A"}}]
[null,null,{"$f":"VLOOKUP(A697,'Analyse S'!A:D,2,FALSE)","v":{"$error":"#N/A"}}]
[null,null,{"$f":"VLOOKUP(A698,'Analyse S'!A:D,2,FALSE)","v":{"$error":"#N/A"}}]
[null,null,{"$f":"VLOOKUP(A699,'Analyse S'!A:D,2,FALSE)","v":{"$error":"#N/A"}}]
[null,null,{"$f":"VLOOKUP(A700,'Analyse S'!A:D,2,FALSE)","v":{"$error":"#N/A"}}]
[null,null,{"$f":"VLOOKUP(A701,'Analyse S'!A:D,2,FALSE)","v":{"$error":"#N/A"}}]
[null,null,{"$f":"VLOOKUP(A702,'Analyse S'!A:D,2,FALSE)","v":{"$error":"#N/A"}}]
[null,null,{"$f":"VLOOKUP(A703,'Analyse S'!A:D,2,FALSE)","v":{"$error":"#N/A"}}]
[null,null,{"$f":"VLOOKUP(A704,'Analyse S'!A:D,2,FALSE)","v":{"$error":"#N/A"}}]
[null,null,{"$f":"VLOOKUP(A705,'Analyse S'!A:D,2,FALSE)","v":{"$error":"#N/A"}}]
[null,null,{"$f":"VLOOKUP(A706,'Analyse S'!A:D,2,FALSE)","v":{"$error":"#N/A"}}]
[null,null,{"$f":"VLOOKUP(A707,'Analyse S'!A:D,2,FALSE)","v":{"$error":"#N/A"}}]
[null,null,{"$f":"VLOOKUP(A708,'Analyse S'!A:D,2,FALSE)","v":{"$error":"#N/A"}}]
[null,null,{"$f":"VLOOKUP(A709,'Analyse S'!A:D,2,FALSE)","v":{"$error":"#N/A"}}]
[null,null,{"$f":"VLOOKUP(A710,'Analyse S'!A:D,2,FALSE)","v":{"$error":"#N/A"}}]
[null,null,{"$f":"VLOOKUP(A711,'Analyse S'!A:D,2,FALSE)","v":{"$error":"#N/A"}}]
[null,null,{"$f":"VLOOKUP(A712,'Analyse S'!A:D,2,FALSE)","v":{"$error":"#N/A"}}]
[null,null,{"$f":"VLOOKUP(A713,'Analyse S'!A:D,2,FALSE)","v":{"$error":"#N/A"}}]
[null,null,{"$f":"VLOOKUP(A714,'Analyse S'!A:D,2,FALSE)","v":{"$error":"#N/A"}}]
[null,null,{"$f":"VLOOKUP(A715,'Analyse S'!A:D,2,FALSE)","v":{"$error":"#N/A"}}]
[null,null,{"$f":"VLOOKUP(A716,'Analyse S'!A:D,2,FALSE)","v":{"$error":"#N/A"}}]
[null,null,{"$f":"VLOOKUP(A717,'Analyse S'!A:D,2,FALSE)","v":{"$error":"#N/A"}}]
[null,null,{"$f":"VLOOKUP(A718,'Analyse S'!A:D,2,FALSE)","v":{"$error":"#N/A"}}]
[null,null,{"$f":"VLOOKUP(A719,'Analyse S'!A:D,2,FALSE)","v":{"$error":"#N/A"}}]
[null,null,{"$f":"VLOOKUP(A720,'Analyse S'!A:D,2,FALSE)","v":{"$error":"#N/A"}}]
[null,null,{"$f":"VLOOKUP(A721,'Analyse S'!A:D,2,FALSE)","v":{"$error":"#N/A"}}]
[null,null,{"$f":"VLOOKUP(A722,'Analyse S'!A:D,2,FALSE)","v":{"$error":"#N/A"}}]
[null,null,{"$f":"VLOOKUP(A723,'Analyse S'!A:D,2,FALSE)","v":{"$error":"#N/A"}}]
[null,null,{"$f":"VLOOKUP(A724,'Analyse S'!A:D,2,FALSE)","v":{"$error":"#N/A"}}]
[null,null,{"$f":"VLOOKUP(A725,'Analyse S'!A:D,2,FALSE)","v":{"$error":"#N/A"}}]
[null,null,{"$f":"VLOOKUP(A726,'Analyse S'!A:D,2,FALSE)","v":{"$error":"#N/A"}}]
[null,null,{"$f":"VLOOKUP(A727,'Analyse S'!A:D,2,FALSE)","v":{"$error":"#N/A"}}]
[null,null,{"$f":"VLOOKUP(A728,'Analyse S'!A:D,2,FALSE)","v":{"$error":"#N/A"}}]
[null,null,{"$f":"VLOOKUP(A729,'Analyse S'!A:D,2,FALSE)","v":{"$error":"#N/A"}}]
[null,null,{"$f":"VLOOKUP(A730,'Analyse S'!A:D,2,FALSE)","v":{"$error":"#N/A"}}]
[null,null,{"$f":"VLOOKUP(A731,'Analyse S'!A:D,2,FALSE)","v":{"$error":"#N/A"}}]
[null,null,{"$f":"VLOOKUP(A732,'Analyse S'!A:D,2,FALSE)","v":{"$error":"#N/A"}}]
[null,null,{"$f":"VLOOKUP(A733,'Analyse S'!A:D,2,FALSE)","v":{"$error":"#N/A"}}]
[null,null,{"$f":"VLOOKUP(A734,'Analyse S'!A:D,2,FALSE)","v":{"$error":"#N/A"}}]
[null,null,{"$f":"VLOOKUP(A735,'Analyse S'!A:D,2,FALSE)","v":{"$error":"#N/A"}}]
[null,null,{"$f":"VLOOKUP(A736,'Analyse S'!A:D,2,FALSE)","v":{"$error":"#N/A"}}]
[null,null,{"$f":"VLOOKUP(A737,'Analyse S'!A:D,2,FALSE)","v":{"$error":"#N/A"}}]
[null,null,{"$f":"VLOOKUP(A738,'Analyse S'!A:D,2,FALSE)","v":{"$error":"#N/A"}}]
[null,null,{"$f":"VLOOKUP(A739,'Analyse S'!A:D,2,FALSE)","v":{"$error":"#N/A"}}]
[null,null,{"$f":"VLOOKUP(A740,'Analyse S'!A:D,2,FALSE)","v":{"$error":"#N/A"}}]
[null,null,{"$f":"VLOOKUP(A741,'Analyse S'!A:D,2,FALSE)","v":{"$error":"#N/A"}}]
[null,null,{"$f":"VLOOKUP(A742,'Analyse S'!A:D,2,FALSE)","v":{"$error":"#N/A"}}]
[null,null,{"$f":"VLOOKUP(A743,'Analyse S'!A:D,2,FALSE)","v":{"$error":"#N/A"}}]
[null,null,{"$f":"VLOOKUP(A744,'Analyse S'!A:D,2,FALSE)","v":{"$error":"#N/A"}}]
[null,null,{"$f":"VLOOKUP(A745,'Analyse S'!A:D,2,FALSE)","v":{"$error":"#N/A"}}]
[null,null,{"$f":"VLOOKUP(A746,'Analyse S'!A:D,2,FALSE)","v":{"$error":"#N/A"}}]
[null,null,{"$f":"VLOOKUP(A747,'Analyse S'!A:D,2,FALSE)","v":{"$error":"#N/A"}}]
[null,null,{"$f":"VLOOKUP(A748,'Analyse S'!A:D,2,FALSE)","v":{"$error":"#N/A"}}]
[null,null,{"$f":"VLOOKUP(A749,'Analyse S'!A:D,2,FALSE)","v":{"$error":"#N/A"}}]
[null,null,{"$f":"VLOOKUP(A750,'Analyse S'!A:D,2,FALSE)","v":{"$error":"#N/A"}}]
[null,null,{"$f":"VLOOKUP(A751,'Analyse S'!A:D,2,FALSE)","v":{"$error":"#N/A"}}]
[null,null,{"$f":"VLOOKUP(A752,'Analyse S'!A:D,2,FALSE)","v":{"$error":"#N/A"}}]
[null,null,{"$f":"VLOOKUP(A753,'Analyse S'!A:D,2,FALSE)","v":{"$error":"#N/A"}}]
[null,null,{"$f":"VLOOKUP(A754,'Analyse S'!A:D,2,FALSE)","v":{"$error":"#N/A"}}]
[null,null,{"$f":"VLOOKUP(A755,'Analyse S'!A:D,2,FALSE)","v":{"$error":"#N/A"}}]
[null,null,{"$f":"VLOOKUP(A756,'Analyse S'!A:D,2,FALSE)","v":{"$error":"#N/A"}}]
[null,null,{"$f":"VLOOKUP(A757,'Analyse S'!A:D,2,FALSE)","v":{"$error":"#N/A"}}]
[null,null,{"$f":"VLOOKUP(A758,'Analyse S'!A:D,2,FALSE)","v":{"$error":"#N/A"}}]
[null,null,{"$f":"VLOOKUP(A759,'Analyse S'!A:D,2,FALSE)","v":{"$error":"#N/A"}}]
[null,null,{"$f":"VLOOKUP(A760,'Analyse S'!A:D,2,FALSE)","v":{"$error":"#N/A"}}]
[null,null,{"$f":"VLOOKUP(A761,'Analyse S'!A:D,2,FALSE)","v":{"$error":"#N/A"}}]
[null,null,{"$f":"VLOOKUP(A762,'Analyse S'!A:D,2,FALSE)","v":{"$error":"#N/A"}}]
[null,null,{"$f":"VLOOKUP(A763,'Analyse S'!A:D,2,FALSE)","v":{"$error":"#N/A"}}]
[null,null,{"$f":"VLOOKUP(A764,'Analyse S'!A:D,2,FALSE)","v":{"$error":"#N/A"}}]
[null,null,{"$f":"VLOOKUP(A765,'Analyse S'!A:D,2,FALSE)","v":{"$error":"#N/A"}}]
[null,null,{"$f":"VLOOKUP(A766,'Analyse S'!A:D,2,FALSE)","v":{"$error":"#N/A"}}]
[null,null,{"$f":"VLOOKUP(A767,'Analyse S'!A:D,2,FALSE)","v":{"$error":"#N/A"}}]
[null,null,{"$f":"VLOOKUP(A768,'Analyse S'!A:D,2,FALSE)","v":{"$error":"#N/A"}}]
[null,null,{"$f":"VLOOKUP(A769,'Analyse S'!A:D,2,FALSE)","v":{"$error":"#N/A"}}]
[null,null,{"$f":"VLOOKUP(A770,'Analyse S'!A:D,2,FALSE)","v":{"$error":"#N/A"}}]
[null,null,{"$f":"VLOOKUP(A771,'Analyse S'!A:D,2,FALSE)","v":{"$error":"#N/A"}}]
[null,null,{"$f":"VLOOKUP(A772,'Analyse S'!A:D,2,FALSE)","v":{"$error":"#N/A"}}]
[null,null,{"$f":"VLOOKUP(A773,'Analyse S'!A:D,2,FALSE)","v":{"$error":"#N/A"}}]
[null,null,{"$f":"VLOOKUP(A774,'Analyse S'!A:D,2,FALSE)","v":{"$error":"#N/A"}}]
[null,null,{"$f":"VLOOKUP(A775,'Analyse S'!A:D,2,FALSE)","v":{"$error":"#N/A"}}]
[null,null,{"$f":"VLOOKUP(A776,'Analyse S'!A:D,2,FALSE)","v":{"$error":"#N/A"}}]
[null,null,{"$f":"VLOOKUP(A777,'Analyse S'!A:D,2,FALSE)","v":{"$error":"#N/A"}}]
[null,null,{"$f":"VLOOKUP(A778,'Analyse S'!A:D,2,FALSE)","v":{"$error":"#N/A"}}]
[null,null,{"$f":"VLOOKUP(A779,'Analyse S'!A:D,2,FALSE)","v":{"$error":"#N/A"}}]
[null,null,{"$f":"VLOOKUP(A780,'Analyse S'!A:D,2,FALSE)","v":{"$error":"#N/A"}}]
[null,null,{"$f":"VLOOKUP(A781,'Analyse S'!A:D,2,FALSE)","v":{"$error":"#N/A"}}]
[null,null,{"$f":"VLOOKUP(A782,'Analyse S'!A:D,2,FALSE)","v":{"$error":"#N/A"}}]
[null,null,{"$f":"VLOOKUP(A783,'Analyse S'!A:D,2,FALSE)","v":{"$error":"#N/A"}}]
[null,null,{"$f":"VLOOKUP(A784,'Analyse S'!A:D,2,FALSE)","v":{"$error":"#N/A"}}]
[null,null,{"$f":"VLOOKUP(A785,'Analyse S'!A:D,2,FALSE)","v":{"$error":"#N/A"}}]
[null,null,{"$f":"VLOOKUP(A786,'Analyse S'!A:D,2,FALSE)","v":{"$error":"#N/A"}}]
[null,null,{"$f":"VLOOKUP(A787,'Analyse S'!A:D,2,FALSE)","v":{"$error":"#N/A"}}]
[null,null,{"$f":"VLOOKUP(A788,'Analyse S'!A:D,2,FALSE)","v":{"$error":"#N/A"}}]
[null,null,{"$f":"VLOOKUP(A789,'Analyse S'!A:D,2,FALSE)","v":{"$error":"#N/A"}}]
[null,null,{"$f":"VLOOKUP(A790,'Analyse S'!A:D,2,FALSE)","v":{"$error":"#N/A"}}]
[null,null,{"$f":"VLOOKUP(A791,'Analyse S'!A:D,2,FALSE)","v":{"$error":"#N/A"}}]
[null,null,{"$f":"VLOOKUP(A792,'Analyse S'!A:D,2,FALSE)","v":{"$error":"#N/A"}}]
[null,null,{"$f":"VLOOKUP(A793,'Analyse S'!A:D,2,FALSE)","v":{"$error":"#N/A"}}]
[null,null,{"$f":"VLOOKUP(A794,'Analyse S'!A:D,2,FALSE)","v":{"$error":"#N/A"}}]
[null,null,{"$f":"VLOOKUP(A795,'Analyse S'!A:D,2,FALSE)","v":{"$error":"#N/A"}}]
[null,null,{"$f":"VLOOKUP(A796,'Analyse S'!A:D,2,FALSE)","v":{"$error":"#N/A"}}]
[null,null,{"$f":"VLOOKUP(A797,'Analyse S'!A:D,2,FALSE)","v":{"$error":"#N/A"}}]
[null,null,{"$f":"VLOOKUP(A798,'Analyse S'!A:D,2,FALSE)","v":{"$error":"#N/A"}}]
[null,null,{"$f":"VLOOKUP(A799,'Analyse S'!A:D,2,FALSE)","v":{"$error":"#N/A"}}]
[null,null,{"$f":"VLOOKUP(A800,'Analyse S'!A:D,2,FALSE)","v":{"$error":"#N/A"}}]
[null,null,{"$f":"VLOOKUP(A801,'Analyse S'!A:D,2,FALSE)","v":{"$error":"#N/A"}}]
[null,null,{"$f":"VLOOKUP(A802,'Analyse S'!A:D,2,FALSE)","v":{"$error":"#N/A"}}]
[null,null,{"$f":"VLOOKUP(A803,'Analyse S'!A:D,2,FALSE)","v":{"$error":"#N/A"}}]
[null,null,{"$f":"VLOOKUP(A804,'Analyse S'!A:D,2,FALSE)","v":{"$error":"#N/A"}}]
[null,null,{"$f":"VLOOKUP(A805,'Analyse S'!A:D,2,FALSE)","v":{"$error":"#N/A"}}]
[null,null,{"$f":"VLOOKUP(A806,'Analyse S'!A:D,2,FALSE)","v":{"$error":"#N/A"}}]
[null,null,{"$f":"VLOOKUP(A807,'Analyse S'!A:D,2,FALSE)","v":{"$error":"#N/A"}}]
[null,null,{"$f":"VLOOKUP(A808,'Analyse S'!A:D,2,FALSE)","v":{"$error":"#N/A"}}]
[null,null,{"$f":"VLOOKUP(A809,'Analyse S'!A:D,2,FALSE)","v":{"$error":"#N/A"}}]
[null,null,{"$f":"VLOOKUP(A810,'Analyse S'!A:D,2,FALSE)","v":{"$error":"#N/A"}}]
[null,null,{"$f":"VLOOKUP(A811,'Analyse S'!A:D,2,FALSE)","v":{"$error":"#N/A"}}]
[null,null,{"$f":"VLOOKUP(A812,'Analyse S'!A:D,2,FALSE)","v":{"$error":"#N/A"}}]
[null,null,{"$f":"VLOOKUP(A813,'Analyse S'!A:D,2,FALSE)","v":{"$error":"#N/A"}}]
[null,null,{"$f":"VLOOKUP(A814,'Analyse S'!A:D,2,FALSE)","v":{"$error":"#N/A"}}]
[null,null,{"$f":"VLOOKUP(A815,'Analyse S'!A:D,2,FALSE)","v":{"$error":"#N/A"}}]
[null,null,{"$f":"VLOOKUP(A816,'Analyse S'!A:D,2,FALSE)","v":{"$error":"#N/A"}}]
[null,null,{"$f":"VLOOKUP(A817,'Analyse S'!A:D,2,FALSE)","v":{"$error":"#N/A"}}]
[null,null,{"$f":"VLOOKUP(A818,'Analyse S'!A:D,2,FALSE)","v":{"$error":"#N/A"}}]
[null,null,{"$f":"VLOOKUP(A819,'Analyse S'!A:D,2,FALSE)","v":{"$error":"#N/A"}}]
[null,null,{"$f":"VLOOKUP(A820,'Analyse S'!A:D,2,FALSE)","v":{"$error":"#N/A"}}]
[null,null,{"$f":"VLOOKUP(A821,'Analyse S'!A:D,2,FALSE)","v":{"$error":"#N/A"}}]
[null,null,{"$f":"VLOOKUP(A822,'Analyse S'!A:D,2,FALSE)","v":{"$error":"#N/A"}}]
[null,null,{"$f":"VLOOKUP(A823,'Analyse S'!A:D,2,FALSE)","v":{"$error":"#N/A"}}]
[null,null,{"$f":"VLOOKUP(A824,'Analyse S'!A:D,2,FALSE)","v":{"$error":"#N/A"}}]
[null,null,{"$f":"VLOOKUP(A825,'Analyse S'!A:D,2,FALSE)","v":{"$error":"#N/A"}}]
[null,null,{"$f":"VLOOKUP(A826,'Analyse S'!A:D,2,FALSE)","v":{"$error":"#N/A"}}]
[null,null,{"$f":"VLOOKUP(A827,'Analyse S'!A:D,2,FALSE)","v":{"$error":"#N/A"}}]
[null,null,{"$f":"VLOOKUP(A828,'Analyse S'!A:D,2,FALSE)","v":{"$error":"#N/A"}}]
[null,null,{"$f":"VLOOKUP(A829,'Analyse S'!A:D,2,FALSE)","v":{"$error":"#N/A"}}]
[null,null,{"$f":"VLOOKUP(A830,'Analyse S'!A:D,2,FALSE)","v":{"$error":"#N/A"}}]
[null,null,{"$f":"VLOOKUP(A831,'Analyse S'!A:D,2,FALSE)","v":{"$error":"#N/A"}}]
[null,null,{"$f":"VLOOKUP(A832,'Analyse S'!A:D,2,FALSE)","v":{"$error":"#N/A"}}]
[null,null,{"$f":"VLOOKUP(A833,'Analyse S'!A:D,2,FALSE)","v":{"$error":"#N/A"}}]
[null,null,{"$f":"VLOOKUP(A834,'Analyse S'!A:D,2,FALSE)","v":{"$error":"#N/A"}}]
[null,null,{"$f":"VLOOKUP(A835,'Analyse S'!A:D,2,FALSE)","v":{"$error":"#N/A"}}]
[null,null,{"$f":"VLOOKUP(A836,'Analyse S'!A:D,2,FALSE)","v":{"$error":"#N/A"}}]
[null,null,{"$f":"VLOOKUP(A837,'Analyse S'!A:D,2,FALSE)","v":{"$error":"#N/A"}}]
[null,null,{"$f":"VLOOKUP(A838,'Analyse S'!A:D,2,FALSE)","v":{"$error":"#N/A"}}]
[null,null,{"$f":"VLOOKUP(A839,'Analyse S'!A:D,2,FALSE)","v":{"$error":"#N/A"}}]
[null,null,{"$f":"VLOOKUP(A840,'Analyse S'!A:D,2,FALSE)","v":{"$error":"#N/A"}}]
[null,null,{"$f":"VLOOKUP(A841,'Analyse S'!A:D,2,FALSE)","v":{"$error":"#N/A"}}]
[null,null,{"$f":"VLOOKUP(A842,'Analyse S'!A:D,2,FALSE)","v":{"$error":"#N/A"}}]
[null,null,{"$f":"VLOOKUP(A843,'Analyse S'!A:D,2,FALSE)","v":{"$error":"#N/A"}}]
[null,null,{"$f":"VLOOKUP(A844,'Analyse S'!A:D,2,FALSE)","v":{"$error":"#N/A"}}]
[null,null,{"$f":"VLOOKUP(A845,'Analyse S'!A:D,2,FALSE)","v":{"$error":"#N/A"}}]
[null,null,{"$f":"VLOOKUP(A846,'Analyse S'!A:D,2,FALSE)","v":{"$error":"#N/A"}}]
[null,null,{"$f":"VLOOKUP(A847,'Analyse S'!A:D,2,FALSE)","v":{"$error":"#N/A"}}]
[null,null,{"$f":"VLOOKUP(A848,'Analyse S'!A:D,2,FALSE)","v":{"$error":"#N/A"}}]
[null,null,{"$f":"VLOOKUP(A849,'Analyse S'!A:D,2,FALSE)","v":{"$error":"#N/A"}}]
[null,null,{"$f":"VLOOKUP(A850,'Analyse S'!A:D,2,FALSE)","v":{"$error":"#N/A"}}]
[null,null,{"$f":"VLOOKUP(A851,'Analyse S'!A:D,2,FALSE)","v":{"$error":"#N/A"}}]
[null,null,{"$f":"VLOOKUP(A852,'Analyse S'!A:D,2,FALSE)","v":{"$error":"#N/A"}}]
[null,null,{"$f":"VLOOKUP(A853,'Analyse S'!A:D,2,FALSE)","v":{"$error":"#N/A"}}]
[null,null,{"$f":"VLOOKUP(A854,'Analyse S'!A:D,2,FALSE)","v":{"$error":"#N/A"}}]
[null,null,{"$f":"VLOOKUP(A855,'Analyse S'!A:D,2,FALSE)","v":{"$error":"#N/A"}}]
[null,null,{"$f":"VLOOKUP(A856,'Analyse S'!A:D,2,FALSE)","v":{"$error":"#N/A"}}]
[null,null,{"$f":"VLOOKUP(A857,'Analyse S'!A:D,2,FALSE)","v":{"$error":"#N/A"}}]
[null,null,{"$f":"VLOOKUP(A858,'Analyse S'!A:D,2,FALSE)","v":{"$error":"#N/A"}}]
[null,null,{"$f":"VLOOKUP(A859,'Analyse S'!A:D,2,FALSE)","v":{"$error":"#N/A"}}]
[null,null,{"$f":"VLOOKUP(A860,'Analyse S'!A:D,2,FALSE)","v":{"$error":"#N/A"}}]
[null,null,{"$f":"VLOOKUP(A861,'Analyse S'!A:D,2,FALSE)","v":{"$error":"#N/A"}}]
[null,null,{"$f":"VLOOKUP(A862,'Analyse S'!A:D,2,FALSE)","v":{"$error":"#N/A"}}]
[null,null,{"$f":"VLOOKUP(A863,'Analyse S'!A:D,2,FALSE)","v":{"$error":"#N/A"}}]
[null,null,{"$f":"VLOOKUP(A864,'Analyse S'!A:D,2,FALSE)","v":{"$error":"#N/A"}}]
[null,null,{"$f":"VLOOKUP(A865,'Analyse S'!A:D,2,FALSE)","v":{"$error":"#N/A"}}]
[null,null,{"$f":"VLOOKUP(A866,'Analyse S'!A:D,2,FALSE)","v":{"$error":"#N/A"}}]
[null,null,{"$f":"VLOOKUP(A867,'Analyse S'!A:D,2,FALSE)","v":{"$error":"#N/A"}}]
[null,null,{"$f":"VLOOKUP(A868,'Analyse S'!A:D,2,FALSE)","v":{"$error":"#N/A"}}]
[null,null,{"$f":"VLOOKUP(A869,'Analyse S'!A:D,2,FALSE)","v":{"$error":"#N/A"}}]
[null,null,{"$f":"VLOOKUP(A870,'Analyse S'!A:D,2,FALSE)","v":{"$error":"#N/A"}}]
[null,null,{"$f":"VLOOKUP(A871,'Analyse S'!A:D,2,FALSE)","v":{"$error":"#N/A"}}]
[null,null,{"$f":"VLOOKUP(A872,'Analyse S'!A:D,2,FALSE)","v":{"$error":"#N/A"}}]
[null,null,{"$f":"VLOOKUP(A873,'Analyse S'!A:D,2,FALSE)","v":{"$error":"#N/A"}}]
[null,null,{"$f":"VLOOKUP(A874,'Analyse S'!A:D,2,FALSE)","v":{"$error":"#N/A"}}]
[null,null,{"$f":"VLOOKUP(A875,'Analyse S'!A:D,2,FALSE)","v":{"$error":"#N/A"}}]
[null,null,{"$f":"VLOOKUP(A876,'Analyse S'!A:D,2,FALSE)","v":{"$error":"#N/A"}}]
[null,null,{"$f":"VLOOKUP(A877,'Analyse S'!A:D,2,FALSE)","v":{"$error":"#N/A"}}]
[null,null,{"$f":"VLOOKUP(A878,'Analyse S'!A:D,2,FALSE)","v":{"$error":"#N/A"}}]
[null,null,{"$f":"VLOOKUP(A879,'Analyse S'!A:D,2,FALSE)","v":{"$error":"#N/A"}}]
[null,null,{"$f":"VLOOKUP(A880,'Analyse S'!A:D,2,FALSE)","v":{"$error":"#N/A"}}]
[null,null,{"$f":"VLOOKUP(A881,'Analyse S'!A:D,2,FALSE)","v":{"$error":"#N/A"}}]
[null,null,{"$f":"VLOOKUP(A882,'Analyse S'!A:D,2,FALSE)","v":{"$error":"#N/A"}}]
[null,null,{"$f":"VLOOKUP(A883,'Analyse S'!A:D,2,FALSE)","v":{"$error":"#N/A"}}]
[null,null,{"$f":"VLOOKUP(A884,'Analyse S'!A:D,2,FALSE)","v":{"$error":"#N/A"}}]
[null,null,{"$f":"VLOOKUP(A885,'Analyse S'!A:D,2,FALSE)","v":{"$error":"#N/A"}}]
[null,null,{"$f":"VLOOKUP(A886,'Analyse S'!A:D,2,FALSE)","v":{"$error":"#N/A"}}]
[null,null,{"$f":"VLOOKUP(A887,'Analyse S'!A:D,2,FALSE)","v":{"$error":"#N/A"}}]
[null,null,{"$f":"VLOOKUP(A888,'Analyse S'!A:D,2,FALSE)","v":{"$error":"#N/A"}}]
[null,null,{"$f":"VLOOKUP(A889,'Analyse S'!A:D,2,FALSE)","v":{"$error":"#N/A"}}]
[null,null,{"$f":"VLOOKUP(A890,'Analyse S'!A:D,2,FALSE)","v":{"$error":"#N/A"}}]
[null,null,{"$f":"VLOOKUP(A891,'Analyse S'!A:D,2,FALSE)","v":{"$error":"#N/A"}}]
[null,null,{"$f":"VLOOKUP(A892,'Analyse S'!A:D,2,FALSE)","v":{"$error":"#N/A"}}]
[null,null,{"$f":"VLOOKUP(A893,'Analyse S'!A:D,2,FALSE)","v":{"$error":"#N/A"}}]
[null,null,{"$f":"VLOOKUP(A894,'Analyse S'!A:D,2,FALSE)","v":{"$error":"#N/A"}}]
[null,null,{"$f":"VLOOKUP(A895,'Analyse S'!A:D,2,FALSE)","v":{"$error":"#N/A"}}]
[null,null,{"$f":"VLOOKUP(A896,'Analyse S'!A:D,2,FALSE)","v":{"$error":"#N/A"}}]
[null,null,{"$f":"VLOOKUP(A897,'Analyse S'!A:D,2,FALSE)","v":{"$error":"#N/A"}}]
[null,null,{"$f":"VLOOKUP(A898,'Analyse S'!A:D,2,FALSE)","v":{"$error":"#N/A"}}]
[null,null,{"$f":"VLOOKUP(A899,'Analyse S'!A:D,2,FALSE)","v":{"$error":"#N/A"}}]
[null,null,{"$f":"VLOOKUP(A900,'Analyse S'!A:D,2,FALSE)","v":{"$error":"#N/A"}}]
[null,null,{"$f":"VLOOKUP(A901,'Analyse S'!A:D,2,FALSE)","v":{"$error":"#N/A"}}]
[null,null,{"$f":"VLOOKUP(A902,'Analyse S'!A:D,2,FALSE)","v":{"$error":"#N/A"}}]
[null,null,{"$f":"VLOOKUP(A903,'Analyse S'!A:D,2,FALSE)","v":{"$error":"#N/A"}}]
[null,null,{"$f":"VLOOKUP(A904,'Analyse S'!A:D,2,FALSE)","v":{"$error":"#N/A"}}]
[null,null,{"$f":"VLOOKUP(A905,'Analyse S'!A:D,2,FALSE)","v":{"$error":"#N/A"}}]
[null,null,{"$f":"VLOOKUP(A906,'Analyse S'!A:D,2,FALSE)","v":{"$error":"#N/A"}}]
[null,null,{"$f":"VLOOKUP(A907,'Analyse S'!A:D,2,FALSE)","v":{"$error":"#N/A"}}]
[null,null,{"$f":"VLOOKUP(A908,'Analyse S'!A:D,2,FALSE)","v":{"$error":"#N/A"}}]
[null,null,{"$f":"VLOOKUP(A909,'Analyse S'!A:D,2,FALSE)","v":{"$error":"#N/A"}}]
[null,null,{"$f":"VLOOKUP(A910,'Analyse S'!A:D,2,FALSE)","v":{"$error":"#N/A"}}]
[null,null,{"$f":"VLOOKUP(A911,'Analyse S'!A:D,2,FALSE)","v":{"$error":"#N/A"}}]
[null,null,{"$f":"VLOOKUP(A912,'Analyse S'!A:D,2,FALSE)","v":{"$error":"#N/A"}}]
[null,null,{"$f":"VLOOKUP(A913,'Analyse S'!A:D,2,FALSE)","v":{"$error":"#N/A"}}]
[null,null,{"$f":"VLOOKUP(A914,'Analyse S'!A:D,2,FALSE)","v":{"$error":"#N/A"}}]
[null,null,{"$f":"VLOOKUP(A915,'Analyse S'!A:D,2,FALSE)","v":{"$error":"#N/A"}}]
[null,null,{"$f":"VLOOKUP(A916,'Analyse S'!A:D,2,FALSE)","v":{"$error":"#N/A"}}]
[null,null,{"$f":"VLOOKUP(A917,'Analyse S'!A:D,2,FALSE)","v":{"$error":"#N/A"}}]
[null,null,{"$f":"VLOOKUP(A918,'Analyse S'!A:D,2,FALSE)","v":{"$error":"#N/A"}}]
[null,null,{"$f":"VLOOKUP(A919,'Analyse S'!A:D,2,FALSE)","v":{"$error":"#N/A"}}]
[null,null,{"$f":"VLOOKUP(A920,'Analyse S'!A:D,2,FALSE)","v":{"$error":"#N/A"}}]
[null,null,{"$f":"VLOOKUP(A921,'Analyse S'!A:D,2,FALSE)","v":{"$error":"#N/A"}}]
[null,null,{"$f":"VLOOKUP(A922,'Analyse S'!A:D,2,FALSE)","v":{"$error":"#N/A"}}]
[null,null,{"$f":"VLOOKUP(A923,'Analyse S'!A:D,2,FALSE)","v":{"$error":"#N/A"}}]
[null,null,{"$f":"VLOOKUP(A924,'Analyse S'!A:D,2,FALSE)","v":{"$error":"#N/A"}}]
[null,null,{"$f":"VLOOKUP(A925,'Analyse S'!A:D,2,FALSE)","v":{"$error":"#N/A"}}]
[null,null,{"$f":"VLOOKUP(A926,'Analyse S'!A:D,2,FALSE)","v":{"$error":"#N/A"}}]
[null,null,{"$f":"VLOOKUP(A927,'Analyse S'!A:D,2,FALSE)","v":{"$error":"#N/A"}}]
[null,null,{"$f":"VLOOKUP(A928,'Analyse S'!A:D,2,FALSE)","v":{"$error":"#N/A"}}]
[null,null,{"$f":"VLOOKUP(A929,'Analyse S'!A:D,2,FALSE)","v":{"$error":"#N/A"}}]
[null,null,{"$f":"VLOOKUP(A930,'Analyse S'!A:D,2,FALSE)","v":{"$error":"#N/A"}}]
[null,null,{"$f":"VLOOKUP(A931,'Analyse S'!A:D,2,FALSE)","v":{"$error":"#N/A"}}]
[null,null,{"$f":"VLOOKUP(A932,'Analyse S'!A:D,2,FALSE)","v":{"$error":"#N/A"}}]
[null,null,{"$f":"VLOOKUP(A933,'Analyse S'!A:D,2,FALSE)","v":{"$error":"#N/A"}}]
[null,null,{"$f":"VLOOKUP(A934,'Analyse S'!A:D,2,FALSE)","v":{"$error":"#N/A"}}]
[null,null,{"$f":"VLOOKUP(A935,'Analyse S'!A:D,2,FALSE)","v":{"$error":"#N/A"}}]
[null,null,{"$f":"VLOOKUP(A936,'Analyse S'!A:D,2,FALSE)","v":{"$error":"#N/A"}}]
[null,null,{"$f":"VLOOKUP(A937,'Analyse S'!A:D,2,FALSE)","v":{"$error":"#N/A"}}]
[null,null,{"$f":"VLOOKUP(A938,'Analyse S'!A:D,2,FALSE)","v":{"$error":"#N/A"}}]
[null,null,{"$f":"VLOOKUP(A939,'Analyse S'!A:D,2,FALSE)","v":{"$error":"#N/A"}}]
[null,null,{"$f":"VLOOKUP(A940,'Analyse S'!A:D,2,FALSE)","v":{"$error":"#N/A"}}]
[null,null,{"$f":"VLOOKUP(A941,'Analyse S'!A:D,2,FALSE)","v":{"$error":"#N/A"}}]
[null,null,{"$f":"VLOOKUP(A942,'Analyse S'!A:D,2,FALSE)","v":{"$error":"#N/A"}}]
[null,null,{"$f":"VLOOKUP(A943,'Analyse S'!A:D,2,FALSE)","v":{"$error":"#N/A"}}]
[null,null,{"$f":"VLOOKUP(A944,'Analyse S'!A:D,2,FALSE)","v":{"$error":"#N/A"}}]
[null,null,{"$f":"VLOOKUP(A945,'Analyse S'!A:D,2,FALSE)","v":{"$error":"#N/A"}}]
[null,null,{"$f":"VLOOKUP(A946,'Analyse S'!A:D,2,FALSE)","v":{"$error":"#N/A"}}]
[null,null,{"$f":"VLOOKUP(A947,'Analyse S'!A:D,2,FALSE)","v":{"$error":"#N/A"}}]
[null,null,{"$f":"VLOOKUP(A948,'Analyse S'!A:D,2,FALSE)","v":{"$error":"#N/A"}}]
[null,null,{"$f":"VLOOKUP(A949,'Analyse S'!A:D,2,FALSE)","v":{"$error":"#N/A"}}]
[null,null,{"$f":"VLOOKUP(A950,'Analyse S'!A:D,2,FALSE)","v":{"$error":"#N/A"}}]
[null,null,{"$f":"VLOOKUP(A951,'Analyse S'!A:D,2,FALSE)","v":{"$error":"#N/A"}}]
[null,null,{"$f":"VLOOKUP(A952,'Analyse S'!A:D,2,FALSE)","v":{"$error":"#N/A"}}]
[null,null,{"$f":"VLOOKUP(A953,'Analyse S'!A:D,2,FALSE)","v":{"$error":"#N/A"}}]
[null,null,{"$f":"VLOOKUP(A954,'Analyse S'!A:D,2,FALSE)","v":{"$error":"#N/A"}}]
[null,null,{"$f":"VLOOKUP(A955,'Analyse S'!A:D,2,FALSE)","v":{"$error":"#N/A"}}]
[null,null,{"$f":"VLOOKUP(A956,'Analyse S'!A:D,2,FALSE)","v":{"$error":"#N/A"}}]
[null,null,{"$f":"VLOOKUP(A957,'Analyse S'!A:D,2,FALSE)","v":{"$error":"#N/A"}}]
[null,null,{"$f":"VLOOKUP(A958,'Analyse S'!A:D,2,FALSE)","v":{"$error":"#N/A"}}]
[null,null,{"$f":"VLOOKUP(A959,'Analyse S'!A:D,2,FALSE)","v":{"$error":"#N/A"}}]
[null,null,{"$f":"VLOOKUP(A960,'Analyse S'!A:D,2,FALSE)","v":{"$error":"#N/A"}}]
[null,null,{"$f":"VLOOKUP(A961,'Analyse S'!A:D,2,FALSE)","v":{"$error":"#N/A"}}]
[null,null,{"$f":"VLOOKUP(A962,'Analyse S'!A:D,2,FALSE)","v":{"$error":"#N/A"}}]
[null,null,{"$f":"VLOOKUP(A963,'Analyse S'!A:D,2,FALSE)","v":{"$error":"#N/A"}}]
[null,null,{"$f":"VLOOKUP(A964,'Analyse S'!A:D,2,FALSE)","v":{"$error":"#N/A"}}]
[null,null,{"$f":"VLOOKUP(A965,'Analyse S'!A:D,2,FALSE)","v":{"$error":"#N/A"}}]
[null,null,{"$f":"VLOOKUP(A966,'Analyse S'!A:D,2,FALSE)","v":{"$error":"#N/A"}}]
[null,null,{"$f":"VLOOKUP(A967,'Analyse S'!A:D,2,FALSE)","v":{"$error":"#N/A"}}]
[null,null,{"$f":"VLOOKUP(A968,'Analyse S'!A:D,2,FALSE)","v":{"$error":"#N/A"}}]
[null,null,{"$f":"VLOOKUP(A969,'Analyse S'!A:D,2,FALSE)","v":{"$error":"#N/A"}}]
[null,null,{"$f":"VLOOKUP(A970,'Analyse S'!A:D,2,FALSE)","v":{"$error":"#N/A"}}]
[null,null,{"$f":"VLOOKUP(A971,'Analyse S'!A:D,2,FALSE)","v":{"$error":"#N/A"}}]
[null,null,{"$f":"VLOOKUP(A972,'Analyse S'!A:D,2,FALSE)","v":{"$error":"#N/A"}}]
[null,null,{"$f":"VLOOKUP(A973,'Analyse S'!A:D,2,FALSE)","v":{"$error":"#N/A"}}]
[null,null,{"$f":"VLOOKUP(A974,'Analyse S'!A:D,2,FALSE)","v":{"$error":"#N/A"}}]
[null,null,{"$f":"VLOOKUP(A975,'Analyse S'!A:D,2,FALSE)","v":{"$error":"#N/A"}}]
[null,null,{"$f":"VLOOKUP(A976,'Analyse S'!A:D,2,FALSE)","v":{"$error":"#N/A"}}]
[null,null,{"$f":"VLOOKUP(A977,'Analyse S'!A:D,2,FALSE)","v":{"$error":"#N/A"}}]
[null,null,{"$f":"VLOOKUP(A978,'Analyse S'!A:D,2,FALSE)","v":{"$error":"#N/A"}}]
[null,null,{"$f":"VLOOKUP(A979,'Analyse S'!A:D,2,FALSE)","v":{"$error":"#N/A"}}]
[null,null,{"$f":"VLOOKUP(A980,'Analyse S'!A:D,2,FALSE)","v":{"$error":"#N/A"}}]
[null,null,{"$f":"VLOOKUP(A981,'Analyse S'!A:D,2,FALSE)","v":{"$error":"#N/A"}}]
[null,null,{"$f":"VLOOKUP(A982,'Analyse S'!A:D,2,FALSE)","v":{"$error":"#N/A"}}]
[null,null,{"$f":"VLOOKUP(A983,'Analyse S'!A:D,2,FALSE)","v":{"$error":"#N/A"}}]
[null,null,{"$f":"VLOOKUP(A984,'Analyse S'!A:D,2,FALSE)","v":{"$error":"#N/A"}}]
[null,null,{"$f":"VLOOKUP(A985,'Analyse S'!A:D,2,FALSE)","v":{"$error":"#N/A"}}]
[null,null,{"$f":"VLOOKUP(A986,'Analyse S'!A:D,2,FALSE)","v":{"$error":"#N/A"}}]
[null,null,{"$f":"VLOOKUP(A987,'Analyse S'!A:D,2,FALSE)","v":{"$error":"#N/A"}}]
[null,null,{"$f":"VLOOKUP(A988,'Analyse S'!A:D,2,FALSE)","v":{"$error":"#N/A"}}]
[null,null,{"$f":"VLOOKUP(A989,'Analyse S'!A:D,2,FALSE)","v":{"$error":"#N/A"}}]
[null,null,{"$f":"VLOOKUP(A990,'Analyse S'!A:D,2,FALSE)","v":{"$error":"#N/A"}}]
[null,null,{"$f":"VLOOKUP(A991,'Analyse S'!A:D,2,FALSE)","v":{"$error":"#N/A"}}]
[null,null,{"$f":"VLOOKUP(A992,'Analyse S'!A:D,2,FALSE)","v":{"$error":"#N/A"}}]
[null,null,{"$f":"VLOOKUP(A993,'Analyse S'!A:D,2,FALSE)","v":{"$error":"#N/A"}}]
[null,null,{"$f":"VLOOKUP(A994,'Analyse S'!A:D,2,FALSE)","v":{"$error":"#N/A"}}]
[null,null,{"$f":"VLOOKUP(A995,'Analyse S'!A:D,2,FALSE)","v":{"$error":"#N/A"}}]
[null,null,{"$f":"VLOOKUP(A996,'Analyse S'!A:D,2,FALSE)","v":{"$error":"#N/A"}}]
[null,null,{"$f":"VLOOKUP(A997,'Analyse S'!A:D,2,FALSE)","v":{"$error":"#N/A"}}]
[null,null,{"$f":"VLOOKUP(A998,'Analyse S'!A:D,2,FALSE)","v":{"$error":"#N/A"}}]
[null,null,{"$f":"VLOOKUP(A999,'Analyse S'!A:D,2,FALSE)","v":{"$error":"#N/A"}}]
[null,null,{"$f":"VLOOKUP(A1000,'Analyse S'!A:D,2,FALSE)","v":{"$error":"#N/A"}}]
[null,null,{"$f":"VLOOKUP(A1001,'Analyse S'!A:D,2,FALSE)","v":{"$error":"#N/A"}}]
[null,null,{"$f":"VLOOKUP(A1002,'Analyse S'!A:D,2,FALSE)","v":{"$error":"#N/A"}}]
[null,null,{"$f":"VLOOKUP(A1003,'Analyse S'!A:D,2,FALSE)","v":{"$error":"#N/A"}}]
[null,null,{"$f":"VLOOKUP(A1004,'Analyse S'!A:D,2,FALSE)","v":{"$error":"#N/A"}}]
[null,null,{"$f":"VLOOKUP(A1005,'Analyse S'!A:D,2,FALSE)","v":{"$error":"#N/A"}}]
[null,null,{"$f":"VLOOKUP(A1006,'Analyse S'!A:D,2,FALSE)","v":{"$error":"#N/A"}}]
[null,null,{"$f":"VLOOKUP(A1007,'Analyse S'!A:D,2,FALSE)","v":{"$error":"#N/A"}}]
[null,null,{"$f":"VLOOKUP(A1008,'Analyse S'!A:D,2,FALSE)","v":{"$error":"#N/A"}}]
[null,null,{"$f":"VLOOKUP(A1009,'Analyse S'!A:D,2,FALSE)","v":{"$error":"#N/A"}}]
[null,null,{"$f":"VLOOKUP(A1010,'Analyse S'!A:D,2,FALSE)","v":{"$error":"#N/A"}}]
[null,null,{"$f":"VLOOKUP(A1011,'Analyse S'!A:D,2,FALSE)","v":{"$error":"#N/A"}}]
[null,null,{"$f":"VLOOKUP(A1012,'Analyse S'!A:D,2,FALSE)","v":{"$error":"#N/A"}}]
[null,null,{"$f":"VLOOKUP(A1013,'Analyse S'!A:D,2,FALSE)","v":{"$error":"#N/A"}}]
[null,null,{"$f":"VLOOKUP(A1014,'Analyse S'!A:D,2,FALSE)","v":{"$error":"#N/A"}}]
[null,null,{"$f":"VLOOKUP(A1015,'Analyse S'!A:D,2,FALSE)","v":{"$error":"#N/A"}}]
[null,null,{"$f":"VLOOKUP(A1016,'Analyse S'!A:D,2,FALSE)","v":{"$error":"#N/A"}}]
[null,null,{"$f":"VLOOKUP(A1017,'Analyse S'!A:D,2,FALSE)","v":{"$error":"#N/A"}}]
[null,null,{"$f":"VLOOKUP(A1018,'Analyse S'!A:D,2,FALSE)","v":{"$error":"#N/A"}}]
[null,null,{"$f":"VLOOKUP(A1019,'Analyse S'!A:D,2,FALSE)","v":{"$error":"#N/A"}}]
[null,null,{"$f":"VLOOKUP(A1020,'Analyse S'!A:D,2,FALSE)","v":{"$error":"#N/A"}}]
[null,null,{"$f":"VLOOKUP(A1021,'Analyse S'!A:D,2,FALSE)","v":{"$error":"#N/A"}}]
[null,null,{"$f":"VLOOKUP(A1022,'Analyse S'!A:D,2,FALSE)","v":{"$error":"#N/A"}}]
[null,null,{"$f":"VLOOKUP(A1023,'Analyse S'!A:D,2,FALSE)","v":{"$error":"#N/A"}}]
[null,null,{"$f":"VLOOKUP(A1024,'Analyse S'!A:D,2,FALSE)","v":{"$error":"#N/A"}}]
[null,null,{"$f":"VLOOKUP(A1025,'Analyse S'!A:D,2,FALSE)","v":{"$error":"#N/A"}}]
[null,null,{"$f":"VLOOKUP(A1026,'Analyse S'!A:D,2,FALSE)","v":{"$error":"#N/A"}}]
[null,null,{"$f":"VLOOKUP(A1027,'Analyse S'!A:D,2,FALSE)","v":{"$error":"#N/A"}}]
[null,null,{"$f":"VLOOKUP(A1028,'Analyse S'!A:D,2,FALSE)","v":{"$error":"#N/A"}}]
[null,null,{"$f":"VLOOKUP(A1029,'Analyse S'!A:D,2,FALSE)","v":{"$error":"#N/A"}}]
[null,null,{"$f":"VLOOKUP(A1030,'Analyse S'!A:D,2,FALSE)","v":{"$error":"#N/A"}}]
[null,null,{"$f":"VLOOKUP(A1031,'Analyse S'!A:D,2,FALSE)","v":{"$error":"#N/A"}}]
[null,null,{"$f":"VLOOKUP(A1032,'Analyse S'!A:D,2,FALSE)","v":{"$error":"#N/A"}}]
[null,null,{"$f":"VLOOKUP(A1033,'Analyse S'!A:D,2,FALSE)","v":{"$error":"#N/A"}}]
[null,null,{"$f":"VLOOKUP(A1034,'Analyse S'!A:D,2,FALSE)","v":{"$error":"#N/A"}}]
[null,null,{"$f":"VLOOKUP(A1035,'Analyse S'!A:D,2,FALSE)","v":{"$error":"#N/A"}}]
[null,null,{"$f":"VLOOKUP(A1036,'Analyse S'!A:D,2,FALSE)","v":{"$error":"#N/A"}}]
[null,null,{"$f":"VLOOKUP(A1037,'Analyse S'!A:D,2,FALSE)","v":{"$error":"#N/A"}}]
[null,null,{"$f":"VLOOKUP(A1038,'Analyse S'!A:D,2,FALSE)","v":{"$error":"#N/A"}}]
[null,null,{"$f":"VLOOKUP(A1039,'Analyse S'!A:D,2,FALSE)","v":{"$error":"#N/A"}}]
[null,null,{"$f":"VLOOKUP(A1040,'Analyse S'!A:D,2,FALSE)","v":{"$error":"#N/A"}}]
[null,null,{"$f":"VLOOKUP(A1041,'Analyse S'!A:D,2,FALSE)","v":{"$error":"#N/A"}}]
[null,null,{"$f":"VLOOKUP(A1042,'Analyse S'!A:D,2,FALSE)","v":{"$error":"#N/A"}}]
[null,null,{"$f":"VLOOKUP(A1043,'Analyse S'!A:D,2,FALSE)","v":{"$error":"#N/A"}}]
[null,null,{"$f":"VLOOKUP(A1044,'Analyse S'!A:D,2,FALSE)","v":{"$error":"#N/A"}}]
[null,null,{"$f":"VLOOKUP(A1045,'Analyse S'!A:D,2,FALSE)","v":{"$error":"#N/A"}}]
[null,null,{"$f":"VLOOKUP(A1046,'Analyse S'!A:D,2,FALSE)","v":{"$error":"#N/A"}}]
[null,null,{"$f":"VLOOKUP(A1047,'Analyse S'!A:D,2,FALSE)","v":{"$error":"#N/A"}}]
[null,null,{"$f":"VLOOKUP(A1048,'Analyse S'!A:D,2,FALSE)","v":{"$error":"#N/A"}}]
[null,null,{"$f":"VLOOKUP(A1049,'Analyse S'!A:D,2,FALSE)","v":{"$error":"#N/A"}}]
[null,null,{"$f":"VLOOKUP(A1050,'Analyse S'!A:D,2,FALSE)","v":{"$error":"#N/A"}}]
[null,null,{"$f":"VLOOKUP(A1051,'Analyse S'!A:D,2,FALSE)","v":{"$error":"#N/A"}}]
[null,null,{"$f":"VLOOKUP(A1052,'Analyse S'!A:D,2,FALSE)","v":{"$error":"#N/A"}}]
[null,null,{"$f":"VLOOKUP(A1053,'Analyse S'!A:D,2,FALSE)","v":{"$error":"#N/A"}}]
[null,null,{"$f":"VLOOKUP(A1054,'Analyse S'!A:D,2,FALSE)","v":{"$error":"#N/A"}}]
[null,null,{"$f":"VLOOKUP(A1055,'Analyse S'!A:D,2,FALSE)","v":{"$error":"#N/A"}}]
[null,null,{"$f":"VLOOKUP(A1056,'Analyse S'!A:D,2,FALSE)","v":{"$error":"#N/A"}}]
[null,null,{"$f":"VLOOKUP(A1057,'Analyse S'!A:D,2,FALSE)","v":{"$error":"#N/A"}}]
[null,null,{"$f":"VLOOKUP(A1058,'Analyse S'!A:D,2,FALSE)","v":{"$error":"#N/A"}}]
[null,null,{"$f":"VLOOKUP(A1059,'Analyse S'!A:D,2,FALSE)","v":{"$error":"#N/A"}}]
[null,null,{"$f":"VLOOKUP(A1060,'Analyse S'!A:D,2,FALSE)","v":{"$error":"#N/A"}}]
[null,null,{"$f":"VLOOKUP(A1061,'Analyse S'!A:D,2,FALSE)","v":{"$error":"#N/A"}}]
[null,null,{"$f":"VLOOKUP(A1062,'Analyse S'!A:D,2,FALSE)","v":{"$error":"#N/A"}}]
[null,null,{"$f":"VLOOKUP(A1063,'Analyse S'!A:D,2,FALSE)","v":{"$error":"#N/A"}}]
[null,null,{"$f":"VLOOKUP(A1064,'Analyse S'!A:D,2,FALSE)","v":{"$error":"#N/A"}}]
[null,null,{"$f":"VLOOKUP(A1065,'Analyse S'!A:D,2,FALSE)","v":{"$error":"#N/A"}}]
[null,null,{"$f":"VLOOKUP(A1066,'Analyse S'!A:D,2,FALSE)","v":{"$error":"#N/A"}}]
[null,null,{"$f":"VLOOKUP(A1067,'Analyse S'!A:D,2,FALSE)","v":{"$error":"#N/A"}}]
[null,null,{"$f":"VLOOKUP(A1068,'Analyse S'!A:D,2,FALSE)","v":{"$error":"#N/A"}}]
[null,null,{"$f":"VLOOKUP(A1069,'Analyse S'!A:D,2,FALSE)","v":{"$error":"#N/A"}}]
[null,null,{"$f":"VLOOKUP(A1070,'Analyse S'!A:D,2,FALSE)","v":{"$error":"#N/A"}}]
[null,null,{"$f":"VLOOKUP(A1071,'Analyse S'!A:D,2,FALSE)","v":{"$error":"#N/A"}}]
[null,null,{"$f":"VLOOKUP(A1072,'Analyse S'!A:D,2,FALSE)","v":{"$error":"#N/A"}}]
[null,null,{"$f":"VLOOKUP(A1073,'Analyse S'!A:D,2,FALSE)","v":{"$error":"#N/A"}}]
[null,null,{"$f":"VLOOKUP(A1074,'Analyse S'!A:D,2,FALSE)","v":{"$error":"#N/A"}}]
[null,null,{"$f":"VLOOKUP(A1075,'Analyse S'!A:D,2,FALSE)","v":{"$error":"#N/A"}}]
[null,null,{"$f":"VLOOKUP(A1076,'Analyse S'!A:D,2,FALSE)","v":{"$error":"#N/A"}}]
[null,null,{"$f":"VLOOKUP(A1077,'Analyse S'!A:D,2,FALSE)","v":{"$error":"#N/A"}}]
[null,null,{"$f":"VLOOKUP(A1078,'Analyse S'!A:D,2,FALSE)","v":{"$error":"#N/A"}}]
[null,null,{"$f":"VLOOKUP(A1079,'Analyse S'!A:D,2,FALSE)","v":{"$error":"#N/A"}}]
[null,null,{"$f":"VLOOKUP(A1080,'Analyse S'!A:D,2,FALSE)","v":{"$error":"#N/A"}}]
[null,null,{"$f":"VLOOKUP(A1081,'Analyse S'!A:D,2,FALSE)","v":{"$error":"#N/A"}}]
[null,null,{"$f":"VLOOKUP(A1082,'Analyse S'!A:D,2,FALSE)","v":{"$error":"#N/A"}}]
[null,null,{"$f":"VLOOKUP(A1083,'Analyse S'!A:D,2,FALSE)","v":{"$error":"#N/A"}}]
[null,null,{"$f":"VLOOKUP(A1084,'Analyse S'!A:D,2,FALSE)","v":{"$error":"#N/A"}}]
[null,null,{"$f":"VLOOKUP(A1085,'Analyse S'!A:D,2,FALSE)","v":{"$error":"#N/A"}}]
[null,null,{"$f":"VLOOKUP(A1086,'Analyse S'!A:D,2,FALSE)","v":{"$error":"#N/A"}}]
[null,null,{"$f":"VLOOKUP(A1087,'Analyse S'!A:D,2,FALSE)","v":{"$error":"#N/A"}}]
[null,null,{"$f":"VLOOKUP(A1088,'Analyse S'!A:D,2,FALSE)","v":{"$error":"#N/A"}}]
[null,null,{"$f":"VLOOKUP(A1089,'Analyse S'!A:D,2,FALSE)","v":{"$error":"#N/A"}}]
[null,null,{"$f":"VLOOKUP(A1090,'Analyse S'!A:D,2,FALSE)","v":{"$error":"#N/A"}}]
[null,null,{"$f":"VLOOKUP(A1091,'Analyse S'!A:D,2,FALSE)","v":{"$error":"#N/A"}}]
[null,null,{"$f":"VLOOKUP(A1092,'Analyse S'!A:D,2,FALSE)","v":{"$error":"#N/A"}}]
[null,null,{"$f":"VLOOKUP(A1093,'Analyse S'!A:D,2,FALSE)","v":{"$error":"#N/A"}}]
[null,null,{"$f":"VLOOKUP(A1094,'Analyse S'!A:D,2,FALSE)","v":{"$error":"#N/A"}}]
[null,null,{"$f":"VLOOKUP(A1095,'Analyse S'!A:D,2,FALSE)","v":{"$error":"#N/A"}}]
[null,null,{"$f":"VLOOKUP(A1096,'Analyse S'!A:D,2,FALSE)","v":{"$error":"#N/A"}}]
[null,null,{"$f":"VLOOKUP(A1097,'Analyse S'!A:D,2,FALSE)","v":{"$error":"#N/A"}}]
[null,null,{"$f":"VLOOKUP(A1098,'Analyse S'!A:D,2,FALSE)","v":{"$error":"#N/A"}}]
[null,null,{"$f":"VLOOKUP(A1099,'Analyse S'!A:D,2,FALSE)","v":{"$error":"#N/A"}}]
[null,null,{"$f":"VLOOKUP(A1100,'Analyse S'!A:D,2,FALSE)","v":{"$error":"#N/A"}}]
[null,null,{"$f":"VLOOKUP(A1101,'Analyse S'!A:D,2,FALSE)","v":{"$error":"#N/A"}}]
[null,null,{"$f":"VLOOKUP(A1102,'Analyse S'!A:D,2,FALSE)","v":{"$error":"#N/A"}}]
[null,null,{"$f":"VLOOKUP(A1103,'Analyse S'!A:D,2,FALSE)","v":{"$error":"#N/A"}}]
[null,null,{"$f":"VLOOKUP(A1104,'Analyse S'!A:D,2,FALSE)","v":{"$error":"#N/A"}}]
[null,null,{"$f":"VLOOKUP(A1105,'Analyse S'!A:D,2,FALSE)","v":{"$error":"#N/A"}}]
[null,null,{"$f":"VLOOKUP(A1106,'Analyse S'!A:D,2,FALSE)","v":{"$error":"#N/A"}}]
[null,null,{"$f":"VLOOKUP(A1107,'Analyse S'!A:D,2,FALSE)","v":{"$error":"#N/A"}}]
[null,null,{"$f":"VLOOKUP(A1108,'Analyse S'!A:D,2,FALSE)","v":{"$error":"#N/A"}}]
[null,null,{"$f":"VLOOKUP(A1109,'Analyse S'!A:D,2,FALSE)","v":{"$error":"#N/A"}}]
[null,null,{"$f":"VLOOKUP(A1110,'Analyse S'!A:D,2,FALSE)","v":{"$error":"#N/A"}}]
[null,null,{"$f":"VLOOKUP(A1111,'Analyse S'!A:D,2,FALSE)","v":{"$error":"#N/A"}}]
[null,null,{"$f":"VLOOKUP(A1112,'Analyse S'!A:D,2,FALSE)","v":{"$error":"#N/A"}}]
[null,null,{"$f":"VLOOKUP(A1113,'Analyse S'!A:D,2,FALSE)","v":{"$error":"#N/A"}}]
[null,null,{"$f":"VLOOKUP(A1114,'Analyse S'!A:D,2,FALSE)","v":{"$error":"#N/A"}}]
[null,null,{"$f":"VLOOKUP(A1115,'Analyse S'!A:D,2,FALSE)","v":{"$error":"#N/A"}}]
[null,null,{"$f":"VLOOKUP(A1116,'Analyse S'!A:D,2,FALSE)","v":{"$error":"#N/A"}}]
[null,null,{"$f":"VLOOKUP(A1117,'Analyse S'!A:D,2,FALSE)","v":{"$error":"#N/A"}}]
[null,null,{"$f":"VLOOKUP(A1118,'Analyse S'!A:D,2,FALSE)","v":{"$error":"#N/A"}}]
[null,null,{"$f":"VLOOKUP(A1119,'Analyse S'!A:D,2,FALSE)","v":{"$error":"#N/A"}}]
[null,null,{"$f":"VLOOKUP(A1120,'Analyse S'!A:D,2,FALSE)","v":{"$error":"#N/A"}}]
[null,null,{"$f":"VLOOKUP(A1121,'Analyse S'!A:D,2,FALSE)","v":{"$error":"#N/A"}}]
[null,null,{"$f":"VLOOKUP(A1122,'Analyse S'!A:D,2,FALSE)","v":{"$error":"#N/A"}}]
[null,null,{"$f":"VLOOKUP(A1123,'Analyse S'!A:D,2,FALSE)","v":{"$error":"#N/A"}}]
[null,null,{"$f":"VLOOKUP(A1124,'Analyse S'!A:D,2,FALSE)","v":{"$error":"#N/A"}}]
[null,null,{"$f":"VLOOKUP(A1125,'Analyse S'!A:D,2,FALSE)","v":{"$error":"#N/A"}}]
[null,null,{"$f":"VLOOKUP(A1126,'Analyse S'!A:D,2,FALSE)","v":{"$error":"#N/A"}}]
[null,null,{"$f":"VLOOKUP(A1127,'Analyse S'!A:D,2,FALSE)","v":{"$error":"#N/A"}}]
[null,null,{"$f":"VLOOKUP(A1128,'Analyse S'!A:D,2,FALSE)","v":{"$error":"#N/A"}}]
[null,null,{"$f":"VLOOKUP(A1129,'Analyse S'!A:D,2,FALSE)","v":{"$error":"#N/A"}}]
[null,null,{"$f":"VLOOKUP(A1130,'Analyse S'!A:D,2,FALSE)","v":{"$error":"#N/A"}}]
[null,null,{"$f":"VLOOKUP(A1131,'Analyse S'!A:D,2,FALSE)","v":{"$error":"#N/A"}}]
[null,null,{"$f":"VLOOKUP(A1132,'Analyse S'!A:D,2,FALSE)","v":{"$error":"#N/A"}}]
[null,null,{"$f":"VLOOKUP(A1133,'Analyse S'!A:D,2,FALSE)","v":{"$error":"#N/A"}}]
[null,null,{"$f":"VLOOKUP(A1134,'Analyse S'!A:D,2,FALSE)","v":{"$error":"#N/A"}}]
[null,null,{"$f":"VLOOKUP(A1135,'Analyse S'!A:D,2,FALSE)","v":{"$error":"#N/A"}}]
[null,null,{"$f":"VLOOKUP(A1136,'Analyse S'!A:D,2,FALSE)","v":{"$error":"#N/A"}}]
[null,null,{"$f":"VLOOKUP(A1137,'Analyse S'!A:D,2,FALSE)","v":{"$error":"#N/A"}}]
[null,null,{"$f":"VLOOKUP(A1138,'Analyse S'!A:D,2,FALSE)","v":{"$error":"#N/A"}}]
[null,null,{"$f":"VLOOKUP(A1139,'Analyse S'!A:D,2,FALSE)","v":{"$error":"#N/A"}}]
[null,null,{"$f":"VLOOKUP(A1140,'Analyse S'!A:D,2,FALSE)","v":{"$error":"#N/A"}}]
[null,null,{"$f":"VLOOKUP(A1141,'Analyse S'!A:D,2,FALSE)","v":{"$error":"#N/A"}}]
[null,null,{"$f":"VLOOKUP(A1142,'Analyse S'!A:D,2,FALSE)","v":{"$error":"#N/A"}}]
[null,null,{"$f":"VLOOKUP(A1143,'Analyse S'!A:D,2,FALSE)","v":{"$error":"#N/A"}}]
[null,null,{"$f":"VLOOKUP(A1144,'Analyse S'!A:D,2,FALSE)","v":{"$error":"#N/A"}}]
[null,null,{"$f":"VLOOKUP(A1145,'Analyse S'!A:D,2,FALSE)","v":{"$error":"#N/A"}}]
[null,null,{"$f":"VLOOKUP(A1146,'Analyse S'!A:D,2,FALSE)","v":{"$error":"#N/A"}}]
[null,null,{"$f":"VLOOKUP(A1147,'Analyse S'!A:D,2,FALSE)","v":{"$error":"#N/A"}}]
[null,null,{"$f":"VLOOKUP(A1148,'Analyse S'!A:D,2,FALSE)","v":{"$error":"#N/A"}}]
[null,null,{"$f":"VLOOKUP(A1149,'Analyse S'!A:D,2,FALSE)","v":{"$error":"#N/A"}}]
[null,null,{"$f":"VLOOKUP(A1150,'Analyse S'!A:D,2,FALSE)","v":{"$error":"#N/A"}}]
[null,null,{"$f":"VLOOKUP(A1151,'Analyse S'!A:D,2,FALSE)","v":{"$error":"#N/A"}}]
[null,null,{"$f":"VLOOKUP(A1152,'Analyse S'!A:D,2,FALSE)","v":{"$error":"#N/A"}}]
[null,null,{"$f":"VLOOKUP(A1153,'Analyse S'!A:D,2,FALSE)","v":{"$error":"#N/A"}}]
[null,null,{"$f":"VLOOKUP(A1154,'Analyse S'!A:D,2,FALSE)","v":{"$error":"#N/A"}}]
[null,null,{"$f":"VLOOKUP(A1155,'Analyse S'!A:D,2,FALSE)","v":{"$error":"#N/A"}}]
[null,null,{"$f":"VLOOKUP(A1156,'Analyse S'!A:D,2,FALSE)","v":{"$error":"#N/A"}}]
[null,null,{"$f":"VLOOKUP(A1157,'Analyse S'!A:D,2,FALSE)","v":{"$error":"#N/A"}}]
[null,null,{"$f":"VLOOKUP(A1158,'Analyse S'!A:D,2,FALSE)","v":{"$error":"#N/A"}}]
[null,null,{"$f":"VLOOKUP(A1159,'Analyse S'!A:D,2,FALSE)","v":{"$error":"#N/A"}}]
[null,null,{"$f":"VLOOKUP(A1160,'Analyse S'!A:D,2,FALSE)","v":{"$error":"#N/A"}}]
[null,null,{"$f":"VLOOKUP(A1161,'Analyse S'!A:D,2,FALSE)","v":{"$error":"#N/A"}}]
[null,null,{"$f":"VLOOKUP(A1162,'Analyse S'!A:D,2,FALSE)","v":{"$error":"#N/A"}}]
[null,null,{"$f":"VLOOKUP(A1163,'Analyse S'!A:D,2,FALSE)","v":{"$error":"#N/A"}}]
[null,null,{"$f":"VLOOKUP(A1164,'Analyse S'!A:D,2,FALSE)","v":{"$error":"#N/A"}}]
[null,null,{"$f":"VLOOKUP(A1165,'Analyse S'!A:D,2,FALSE)","v":{"$error":"#N/A"}}]
[null,null,{"$f":"VLOOKUP(A1166,'Analyse S'!A:D,2,FALSE)","v":{"$error":"#N/A"}}]
[null,null,{"$f":"VLOOKUP(A1167,'Analyse S'!A:D,2,FALSE)","v":{"$error":"#N/A"}}]
[null,null,{"$f":"VLOOKUP(A1168,'Analyse S'!A:D,2,FALSE)","v":{"$error":"#N/A"}}]
[null,null,{"$f":"VLOOKUP(A1169,'Analyse S'!A:D,2,FALSE)","v":{"$error":"#N/A"}}]
[null,null,{"$f":"VLOOKUP(A1170,'Analyse S'!A:D,2,FALSE)","v":{"$error":"#N/A"}}]
[null,null,{"$f":"VLOOKUP(A1171,'Analyse S'!A:D,2,FALSE)","v":{"$error":"#N/A"}}]
[null,null,{"$f":"VLOOKUP(A1172,'Analyse S'!A:D,2,FALSE)","v":{"$error":"#N/A"}}]
[null,null,{"$f":"VLOOKUP(A1173,'Analyse S'!A:D,2,FALSE)","v":{"$error":"#N/A"}}]
[null,null,{"$f":"VLOOKUP(A1174,'Analyse S'!A:D,2,FALSE)","v":{"$error":"#N/A"}}]
[null,null,{"$f":"VLOOKUP(A1175,'Analyse S'!A:D,2,FALSE)","v":{"$error":"#N/A"}}]
[null,null,{"$f":"VLOOKUP(A1176,'Analyse S'!A:D,2,FALSE)","v":{"$error":"#N/A"}}]
[null,null,{"$f":"VLOOKUP(A1177,'Analyse S'!A:D,2,FALSE)","v":{"$error":"#N/A"}}]
[null,null,{"$f":"VLOOKUP(A1178,'Analyse S'!A:D,2,FALSE)","v":{"$error":"#N/A"}}]
[null,null,{"$f":"VLOOKUP(A1179,'Analyse S'!A:D,2,FALSE)","v":{"$error":"#N/A"}}]
[null,null,{"$f":"VLOOKUP(A1180,'Analyse S'!A:D,2,FALSE)","v":{"$error":"#N/A"}}]
[null,null,{"$f":"VLOOKUP(A1181,'Analyse S'!A:D,2,FALSE)","v":{"$error":"#N/A"}}]
[null,null,{"$f":"VLOOKUP(A1182,'Analyse S'!A:D,2,FALSE)","v":{"$error":"#N/A"}}]
[null,null,{"$f":"VLOOKUP(A1183,'Analyse S'!A:D,2,FALSE)","v":{"$error":"#N/A"}}]
[null,null,{"$f":"VLOOKUP(A1184,'Analyse S'!A:D,2,FALSE)","v":{"$error":"#N/A"}}]
[null,null,{"$f":"VLOOKUP(A1185,'Analyse S'!A:D,2,FALSE)","v":{"$error":"#N/A"}}]
[null,null,{"$f":"VLOOKUP(A1186,'Analyse S'!A:D,2,FALSE)","v":{"$error":"#N/A"}}]
[null,null,{"$f":"VLOOKUP(A1187,'Analyse S'!A:D,2,FALSE)","v":{"$error":"#N/A"}}]
[null,null,{"$f":"VLOOKUP(A1188,'Analyse S'!A:D,2,FALSE)","v":{"$error":"#N/A"}}]
[null,null,{"$f":"VLOOKUP(A1189,'Analyse S'!A:D,2,FALSE)","v":{"$error":"#N/A"}}]
[null,null,{"$f":"VLOOKUP(A1190,'Analyse S'!A:D,2,FALSE)","v":{"$error":"#N/A"}}]
[null,null,{"$f":"VLOOKUP(A1191,'Analyse S'!A:D,2,FALSE)","v":{"$error":"#N/A"}}]
[null,null,{"$f":"VLOOKUP(A1192,'Analyse S'!A:D,2,FALSE)","v":{"$error":"#N/A"}}]
[null,null,{"$f":"VLOOKUP(A1193,'Analyse S'!A:D,2,FALSE)","v":{"$error":"#N/A"}}]
[null,null,{"$f":"VLOOKUP(A1194,'Analyse S'!A:D,2,FALSE)","v":{"$error":"#N/A"}}]
[null,null,{"$f":"VLOOKUP(A1195,'Analyse S'!A:D,2,FALSE)","v":{"$error":"#N/A"}}]
[null,null,{"$f":"VLOOKUP(A1196,'Analyse S'!A:D,2,FALSE)","v":{"$error":"#N/A"}}]
[null,null,{"$f":"VLOOKUP(A1197,'Analyse S'!A:D,2,FALSE)","v":{"$error":"#N/A"}}]
[null,null,{"$f":"VLOOKUP(A1198,'Analyse S'!A:D,2,FALSE)","v":{"$error":"#N/A"}}]
[null,null,{"$f":"VLOOKUP(A1199,'Analyse S'!A:D,2,FALSE)","v":{"$error":"#N/A"}}]
[null,null,{"$f":"VLOOKUP(A1200,'Analyse S'!A:D,2,FALSE)","v":{"$error":"#N/A"}}]
[null,null,{"$f":"VLOOKUP(A1201,'Analyse S'!A:D,2,FALSE)","v":{"$error":"#N/A"}}]
[null,null,{"$f":"VLOOKUP(A1202,'Analyse S'!A:D,2,FALSE)","v":{"$error":"#N/A"}}]
[null,null,{"$f":"VLOOKUP(A1203,'Analyse S'!A:D,2,FALSE)","v":{"$error":"#N/A"}}]
[null,null,{"$f":"VLOOKUP(A1204,'Analyse S'!A:D,2,FALSE)","v":{"$error":"#N/A"}}]
[null,null,{"$f":"VLOOKUP(A1205,'Analyse S'!A:D,2,FALSE)","v":{"$error":"#N/A"}}]
[null,null,{"$f":"VLOOKUP(A1206,'Analyse S'!A:D,2,FALSE)","v":{"$error":"#N/A"}}]
[null,null,{"$f":"VLOOKUP(A1207,'Analyse S'!A:D,2,FALSE)","v":{"$error":"#N/A"}}]
[null,null,{"$f":"VLOOKUP(A1208,'Analyse S'!A:D,2,FALSE)","v":{"$error":"#N/A"}}]
[null,null,{"$f":"VLOOKUP(A1209,'Analyse S'!A:D,2,FALSE)","v":{"$error":"#N/A"}}]
[null,null,{"$f":"VLOOKUP(A1210,'Analyse S'!A:D,2,FALSE)","v":{"$error":"#N/A"}}]
[null,null,{"$f":"VLOOKUP(A1211,'Analyse S'!A:D,2,FALSE)","v":{"$error":"#N/A"}}]
[null,null,{"$f":"VLOOKUP(A1212,'Analyse S'!A:D,2,FALSE)","v":{"$error":"#N/A"}}]
[null,null,{"$f":"VLOOKUP(A1213,'Analyse S'!A:D,2,FALSE)","v":{"$error":"#N/A"}}]
[null,null,{"$f":"VLOOKUP(A1214,'Analyse S'!A:D,2,FALSE)","v":{"$error":"#N/A"}}]
[null,null,{"$f":"VLOOKUP(A1215,'Analyse S'!A:D,2,FALSE)","v":{"$error":"#N/A"}}]
[null,null,{"$f":"VLOOKUP(A1216,'Analyse S'!A:D,2,FALSE)","v":{"$error":"#N/A"}}]
[null,null,{"$f":"VLOOKUP(A1217,'Analyse S'!A:D,2,FALSE)","v":{"$error":"#N/A"}}]
[null,null,{"$f":"VLOOKUP(A1218,'Analyse S'!A:D,2,FALSE)","v":{"$error":"#N/A"}}]
[null,null,{"$f":"VLOOKUP(A1219,'Analyse S'!A:D,2,FALSE)","v":{"$error":"#N/A"}}]
[null,null,{"$f":"VLOOKUP(A1220,'Analyse S'!A:D,2,FALSE)","v":{"$error":"#N/A"}}]
[null,null,{"$f":"VLOOKUP(A1221,'Analyse S'!A:D,2,FALSE)","v":{"$error":"#N/A"}}]
[null,null,{"$f":"VLOOKUP(A1222,'Analyse S'!A:D,2,FALSE)","v":{"$error":"#N/A"}}]
[null,null,{"$f":"VLOOKUP(A1223,'Analyse S'!A:D,2,FALSE)","v":{"$error":"#N/A"}}]
[null,null,{"$f":"VLOOKUP(A1224,'Analyse S'!A:D,2,FALSE)","v":{"$error":"#N/A"}}]
[null,null,{"$f":"VLOOKUP(A1225,'Analyse S'!A:D,2,FALSE)","v":{"$error":"#N/A"}}]
[null,null,{"$f":"VLOOKUP(A1226,'Analyse S'!A:D,2,FALSE)","v":{"$error":"#N/A"}}]
[null,null,{"$f":"VLOOKUP(A1227,'Analyse S'!A:D,2,FALSE)","v":{"$error":"#N/A"}}]
[null,null,{"$f":"VLOOKUP(A1228,'Analyse S'!A:D,2,FALSE)","v":{"$error":"#N/A"}}]
[null,null,{"$f":"VLOOKUP(A1229,'Analyse S'!A:D,2,FALSE)","v":{"$error":"#N/A"}}]
[null,null,{"$f":"VLOOKUP(A1230,'Analyse S'!A:D,2,FALSE)","v":{"$error":"#N/A"}}]
[null,null,{"$f":"VLOOKUP(A1231,'Analyse S'!A:D,2,FALSE)","v":{"$error":"#N/A"}}]
[null,null,{"$f":"VLOOKUP(A1232,'Analyse S'!A:D,2,FALSE)","v":{"$error":"#N/A"}}]
[null,null,{"$f":"VLOOKUP(A1233,'Analyse S'!A:D,2,FALSE)","v":{"$error":"#N/A"}}]
[null,null,{"$f":"VLOOKUP(A1234,'Analyse S'!A:D,2,FALSE)","v":{"$error":"#N/A"}}]
[null,null,{"$f":"VLOOKUP(A1235,'Analyse S'!A:D,2,FALSE)","v":{"$error":"#N/A"}}]
[null,null,{"$f":"VLOOKUP(A1236,'Analyse S'!A:D,2,FALSE)","v":{"$error":"#N/A"}}]
[null,null,{"$f":"VLOOKUP(A1237,'Analyse S'!A:D,2,FALSE)","v":{"$error":"#N/A"}}]
[null,null,{"$f":"VLOOKUP(A1238,'Analyse S'!A:D,2,FALSE)","v":{"$error":"#N/A"}}]
[null,null,{"$f":"VLOOKUP(A1239,'Analyse S'!A:D,2,FALSE)","v":{"$error":"#N/A"}}]
[null,null,{"$f":"VLOOKUP(A1240,'Analyse S'!A:D,2,FALSE)","v":{"$error":"#N/A"}}]
[null,null,{"$f":"VLOOKUP(A1241,'Analyse S'!A:D,2,FALSE)","v":{"$error":"#N/A"}}]
[null,null,{"$f":"VLOOKUP(A1242,'Analyse S'!A:D,2,FALSE)","v":{"$error":"#N/A"}}]
[null,null,{"$f":"VLOOKUP(A1243,'Analyse S'!A:D,2,FALSE)","v":{"$error":"#N/A"}}]
[null,null,{"$f":"VLOOKUP(A1244,'Analyse S'!A:D,2,FALSE)","v":{"$error":"#N/A"}}]
[null,null,{"$f":"VLOOKUP(A1245,'Analyse S'!A:D,2,FALSE)","v":{"$error":"#N/A"}}]
[null,null,{"$f":"VLOOKUP(A1246,'Analyse S'!A:D,2,FALSE)","v":{"$error":"#N/A"}}]
[null,null,{"$f":"VLOOKUP(A1247,'Analyse S'!A:D,2,FALSE)","v":{"$error":"#N/A"}}]
[null,null,{"$f":"VLOOKUP(A1248,'Analyse S'!A:D,2,FALSE)","v":{"$error":"#N/A"}}]
[null,null,{"$f":"VLOOKUP(A1249,'Analyse S'!A:D,2,FALSE)","v":{"$error":"#N/A"}}]
[null,null,{"$f":"VLOOKUP(A1250,'Analyse S'!A:D,2,FALSE)","v":{"$error":"#N/A"}}]
[null,null,{"$f":"VLOOKUP(A1251,'Analyse S'!A:D,2,FALSE)","v":{"$error":"#N/A"}}]
[null,null,{"$f":"VLOOKUP(A1252,'Analyse S'!A:D,2,FALSE)","v":{"$error":"#N/A"}}]
[null,null,{"$f":"VLOOKUP(A1253,'Analyse S'!A:D,2,FALSE)","v":{"$error":"#N/A"}}]
[null,null,{"$f":"VLOOKUP(A1254,'Analyse S'!A:D,2,FALSE)","v":{"$error":"#N/A"}}]
[null,null,{"$f":"VLOOKUP(A1255,'Analyse S'!A:D,2,FALSE)","v":{"$error":"#N/A"}}]
[null,null,{"$f":"VLOOKUP(A1256,'Analyse S'!A:D,2,FALSE)","v":{"$error":"#N/A"}}]
[null,null,{"$f":"VLOOKUP(A1257,'Analyse S'!A:D,2,FALSE)","v":{"$error":"#N/A"}}]
[null,null,{"$f":"VLOOKUP(A1258,'Analyse S'!A:D,2,FALSE)","v":{"$error":"#N/A"}}]
[null,null,{"$f":"VLOOKUP(A1259,'Analyse S'!A:D,2,FALSE)","v":{"$error":"#N/A"}}]
[null,null,{"$f":"VLOOKUP(A1260,'Analyse S'!A:D,2,FALSE)","v":{"$error":"#N/A"}}]
[null,null,{"$f":"VLOOKUP(A1261,'Analyse S'!A:D,2,FALSE)","v":{"$error":"#N/A"}}]
[null,null,{"$f":"VLOOKUP(A1262,'Analyse S'!A:D,2,FALSE)","v":{"$error":"#N/A"}}]
[null,null,{"$f":"VLOOKUP(A1263,'Analyse S'!A:D,2,FALSE)","v":{"$error":"#N/A"}}]
[null,null,{"$f":"VLOOKUP(A1264,'Analyse S'!A:D,2,FALSE)","v":{"$error":"#N/A"}}]
[null,null,{"$f":"VLOOKUP(A1265,'Analyse S'!A:D,2,FALSE)","v":{"$error":"#N/A"}}]
[null,null,{"$f":"VLOOKUP(A1266,'Analyse S'!A:D,2,FALSE)","v":{"$error":"#N/A"}}]
[null,null,{"$f":"VLOOKUP(A1267,'Analyse S'!A:D,2,FALSE)","v":{"$error":"#N/A"}}]
[null,null,{"$f":"VLOOKUP(A1268,'Analyse S'!A:D,2,FALSE)","v":{"$error":"#N/A"}}]
[null,null,{"$f":"VLOOKUP(A1269,'Analyse S'!A:D,2,FALSE)","v":{"$error":"#N/A"}}]
[null,null,{"$f":"VLOOKUP(A1270,'Analyse S'!A:D,2,FALSE)","v":{"$error":"#N/A"}}]
[null,null,{"$f":"VLOOKUP(A1271,'Analyse S'!A:D,2,FALSE)","v":{"$error":"#N/A"}}]
[null,null,{"$f":"VLOOKUP(A1272,'Analyse S'!A:D,2,FALSE)","v":{"$error":"#N/A"}}]
[null,null,{"$f":"VLOOKUP(A1273,'Analyse S'!A:D,2,FALSE)","v":{"$error":"#N/A"}}]
[null,null,{"$f":"VLOOKUP(A1274,'Analyse S'!A:D,2,FALSE)","v":{"$error":"#N/A"}}]
[null,null,{"$f":"VLOOKUP(A1275,'Analyse S'!A:D,2,FALSE)","v":{"$error":"#N/A"}}]
[null,null,{"$f":"VLOOKUP(A1276,'Analyse S'!A:D,2,FALSE)","v":{"$error":"#N/A"}}]
[null,null,{"$f":"VLOOKUP(A1277,'Analyse S'!A:D,2,FALSE)","v":{"$error":"#N/A"}}]
[null,null,{"$f":"VLOOKUP(A1278,'Analyse S'!A:D,2,FALSE)","v":{"$error":"#N/A"}}]
[null,null,{"$f":"VLOOKUP(A1279,'Analyse S'!A:D,2,FALSE)","v":{"$error":"#N/A"}}]
[null,null,{"$f":"VLOOKUP(A1280,'Analyse S'!A:D,2,FALSE)","v":{"$error":"#N/A"}}]
[null,null,{"$f":"VLOOKUP(A1281,'Analyse S'!A:D,2,FALSE)","v":{"$error":"#N/A"}}]
[null,null,{"$f":"VLOOKUP(A1282,'Analyse S'!A:D,2,FALSE)","v":{"$error":"#N/A"}}]
[null,null,{"$f":"VLOOKUP(A1283,'Analyse S'!A:D,2,FALSE)","v":{"$error":"#N/A"}}]
[null,null,{"$f":"VLOOKUP(A1284,'Analyse S'!A:D,2,FALSE)","v":{"$error":"#N/A"}}]
[null,null,{"$f":"VLOOKUP(A1285,'Analyse S'!A:D,2,FALSE)","v":{"$error":"#N/A"}}]
[null,null,{"$f":"VLOOKUP(A1286,'Analyse S'!A:D,2,FALSE)","v":{"$error":"#N/A"}}]
[null,null,{"$f":"VLOOKUP(A1287,'Analyse S'!A:D,2,FALSE)","v":{"$error":"#N/A"}}]
[null,null,{"$f":"VLOOKUP(A1288,'Analyse S'!A:D,2,FALSE)","v":{"$error":"#N/A"}}]
[null,null,{"$f":"VLOOKUP(A1289,'Analyse S'!A:D,2,FALSE)","v":{"$error":"#N/A"}}]
[null,null,{"$f":"VLOOKUP(A1290,'Analyse S'!A:D,2,FALSE)","v":{"$error":"#N/A"}}]
[null,null,{"$f":"VLOOKUP(A1291,'Analyse S'!A:D,2,FALSE)","v":{"$error":"#N/A"}}]
[null,null,{"$f":"VLOOKUP(A1292,'Analyse S'!A:D,2,FALSE)","v":{"$error":"#N/A"}}]
[null,null,{"$f":"VLOOKUP(A1293,'Analyse S'!A:D,2,FALSE)","v":{"$error":"#N/A"}}]
[null,null,{"$f":"VLOOKUP(A1294,'Analyse S'!A:D,2,FALSE)","v":{"$error":"#N/A"}}]
[null,null,{"$f":"VLOOKUP(A1295,'Analyse S'!A:D,2,FALSE)","v":{"$error":"#N/A"}}]
[null,null,{"$f":"VLOOKUP(A1296,'Analyse S'!A:D,2,FALSE)","v":{"$error":"#N/A"}}]
[null,null,{"$f":"VLOOKUP(A1297,'Analyse S'!A:D,2,FALSE)","v":{"$error":"#N/A"}}]
[null,null,{"$f":"VLOOKUP(A1298,'Analyse S'!A:D,2,FALSE)","v":{"$error":"#N/A"}}]
[null,null,{"$f":"VLOOKUP(A1299,'Analyse S'!A:D,2,FALSE)","v":{"$error":"#N/A"}}]
[null,null,{"$f":"VLOOKUP(A1300,'Analyse S'!A:D,2,FALSE)","v":{"$error":"#N/A"}}]
[null,null,{"$f":"VLOOKUP(A1301,'Analyse S'!A:D,2,FALSE)","v":{"$error":"#N/A"}}]
[null,null,{"$f":"VLOOKUP(A1302,'Analyse S'!A:D,2,FALSE)","v":{"$error":"#N/A"}}]
[null,null,{"$f":"VLOOKUP(A1303,'Analyse S'!A:D,2,FALSE)","v":{"$error":"#N/A"}}]
[null,null,{"$f":"VLOOKUP(A1304,'Analyse S'!A:D,2,FALSE)","v":{"$error":"#N/A"}}]
[null,null,{"$f":"VLOOKUP(A1305,'Analyse S'!A:D,2,FALSE)","v":{"$error":"#N/A"}}]
[null,null,{"$f":"VLOOKUP(A1306,'Analyse S'!A:D,2,FALSE)","v":{"$error":"#N/A"}}]
[null,null,{"$f":"VLOOKUP(A1307,'Analyse S'!A:D,2,FALSE)","v":{"$error":"#N/A"}}]
[null,null,{"$f":"VLOOKUP(A1308,'Analyse S'!A:D,2,FALSE)","v":{"$error":"#N/A"}}]
[null,null,{"$f":"VLOOKUP(A1309,'Analyse S'!A:D,2,FALSE)","v":{"$error":"#N/A"}}]
[null,null,{"$f":"VLOOKUP(A1310,'Analyse S'!A:D,2,FALSE)","v":{"$error":"#N/A"}}]
[null,null,{"$f":"VLOOKUP(A1311,'Analyse S'!A:D,2,FALSE)","v":{"$error":"#N/A"}}]
[null,null,{"$f":"VLOOKUP(A1312,'Analyse S'!A:D,2,FALSE)","v":{"$error":"#N/A"}}]
[null,null,{"$f":"VLOOKUP(A1313,'Analyse S'!A:D,2,FALSE)","v":{"$error":"#N/A"}}]
[null,null,{"$f":"VLOOKUP(A1314,'Analyse S'!A:D,2,FALSE)","v":{"$error":"#N/A"}}]
[null,null,{"$f":"VLOOKUP(A1315,'Analyse S'!A:D,2,FALSE)","v":{"$error":"#N/A"}}]
[null,null,{"$f":"VLOOKUP(A1316,'Analyse S'!A:D,2,FALSE)","v":{"$error":"#N/A"}}]
[null,null,{"$f":"VLOOKUP(A1317,'Analyse S'!A:D,2,FALSE)","v":{"$error":"#N/A"}}]
[null,null,{"$f":"VLOOKUP(A1318,'Analyse S'!A:D,2,FALSE)","v":{"$error":"#N/A"}}]
[null,null,{"$f":"VLOOKUP(A1319,'Analyse S'!A:D,2,FALSE)","v":{"$error":"#N/A"}}]
[null,null,{"$f":"VLOOKUP(A1320,'Analyse S'!A:D,2,FALSE)","v":{"$error":"#N/A"}}]
[null,null,{"$f":"VLOOKUP(A1321,'Analyse S'!A:D,2,FALSE)","v":{"$error":"#N/A"}}]
[null,null,{"$f":"VLOOKUP(A1322,'Analyse S'!A:D,2,FALSE)","v":{"$error":"#N/A"}}]
[null,null,{"$f":"VLOOKUP(A1323,'Analyse S'!A:D,2,FALSE)","v":{"$error":"#N/A"}}]
[null,null,{"$f":"VLOOKUP(A1324,'Analyse S'!A:D,2,FALSE)","v":{"$error":"#N/A"}}]
[null,null,{"$f":"VLOOKUP(A1325,'Analyse S'!A:D,2,FALSE)","v":{"$error":"#N/A"}}]
[null,null,{"$f":"VLOOKUP(A1326,'Analyse S'!A:D,2,FALSE)","v":{"$error":"#N/A"}}]
[null,null,{"$f":"VLOOKUP(A1327,'Analyse S'!A:D,2,FALSE)","v":{"$error":"#N/A"}}]
[null,null,{"$f":"VLOOKUP(A1328,'Analyse S'!A:D,2,FALSE)","v":{"$error":"#N/A"}}]
[null,null,{"$f":"VLOOKUP(A1329,'Analyse S'!A:D,2,FALSE)","v":{"$error":"#N/A"}}]
[null,null,{"$f":"VLOOKUP(A1330,'Analyse S'!A:D,2,FALSE)","v":{"$error":"#N/A"}}]
[null,null,{"$f":"VLOOKUP(A1331,'Analyse S'!A:D,2,FALSE)","v":{"$error":"#N/A"}}]
[null,null,{"$f":"VLOOKUP(A1332,'Analyse S'!A:D,2,FALSE)","v":{"$error":"#N/A"}}]
[null,null,{"$f":"VLOOKUP(A1333,'Analyse S'!A:D,2,FALSE)","v":{"$error":"#N/A"}}]
[null,null,{"$f":"VLOOKUP(A1334,'Analyse S'!A:D,2,FALSE)","v":{"$error":"#N/A"}}]
[null,null,{"$f":"VLOOKUP(A1335,'Analyse S'!A:D,2,FALSE)","v":{"$error":"#N/A"}}]
[null,null,{"$f":"VLOOKUP(A1336,'Analyse S'!A:D,2,FALSE)","v":{"$error":"#N/A"}}]
[null,null,{"$f":"VLOOKUP(A1337,'Analyse S'!A:D,2,FALSE)","v":{"$error":"#N/A"}}]
[null,null,{"$f":"VLOOKUP(A1338,'Analyse S'!A:D,2,FALSE)","v":{"$error":"#N/A"}}]
[null,null,{"$f":"VLOOKUP(A1339,'Analyse S'!A:D,2,FALSE)","v":{"$error":"#N/A"}}]
[null,null,{"$f":"VLOOKUP(A1340,'Analyse S'!A:D,2,FALSE)","v":{"$error":"#N/A"}}]
[null,null,{"$f":"VLOOKUP(A1341,'Analyse S'!A:D,2,FALSE)","v":{"$error":"#N/A"}}]
[null,null,{"$f":"VLOOKUP(A1342,'Analyse S'!A:D,2,FALSE)","v":{"$error":"#N/A"}}]
[null,null,{"$f":"VLOOKUP(A1343,'Analyse S'!A:D,2,FALSE)","v":{"$error":"#N/A"}}]
[null,null,{"$f":"VLOOKUP(A1344,'Analyse S'!A:D,2,FALSE)","v":{"$error":"#N/A"}}]
[null,null,{"$f":"VLOOKUP(A1345,'Analyse S'!A:D,2,FALSE)","v":{"$error":"#N/A"}}]
[null,null,{"$f":"VLOOKUP(A1346,'Analyse S'!A:D,2,FALSE)","v":{"$error":"#N/A"}}]
[null,null,{"$f":"VLOOKUP(A1347,'Analyse S'!A:D,2,FALSE)","v":{"$error":"#N/A"}}]
[null,null,{"$f":"VLOOKUP(A1348,'Analyse S'!A:D,2,FALSE)","v":{"$error":"#N/A"}}]
[null,null,{"$f":"VLOOKUP(A1349,'Analyse S'!A:D,2,FALSE)","v":{"$error":"#N/A"}}]
[null,null,{"$f":"VLOOKUP(A1350,'Analyse S'!A:D,2,FALSE)","v":{"$error":"#N/A"}}]
[null,null,{"$f":"VLOOKUP(A1351,'Analyse S'!A:D,2,FALSE)","v":{"$error":"#N/A"}}]
[null,null,{"$f":"VLOOKUP(A1352,'Analyse S'!A:D,2,FALSE)","v":{"$error":"#N/A"}}]
[null,null,{"$f":"VLOOKUP(A1353,'Analyse S'!A:D,2,FALSE)","v":{"$error":"#N/A"}}]
[null,null,{"$f":"VLOOKUP(A1354,'Analyse S'!A:D,2,FALSE)","v":{"$error":"#N/A"}}]
[null,null,{"$f":"VLOOKUP(A1355,'Analyse S'!A:D,2,FALSE)","v":{"$error":"#N/A"}}]
[null,null,{"$f":"VLOOKUP(A1356,'Analyse S'!A:D,2,FALSE)","v":{"$error":"#N/A"}}]
[null,null,{"$f":"VLOOKUP(A1357,'Analyse S'!A:D,2,FALSE)","v":{"$error":"#N/A"}}]
[null,null,{"$f":"VLOOKUP(A1358,'Analyse S'!A:D,2,FALSE)","v":{"$error":"#N/A"}}]
[null,null,{"$f":"VLOOKUP(A1359,'Analyse S'!A:D,2,FALSE)","v":{"$error":"#N/A"}}]
[null,null,{"$f":"VLOOKUP(A1360,'Analyse S'!A:D,2,FALSE)","v":{"$error":"#N/A"}}]
[null,null,{"$f":"VLOOKUP(A1361,'Analyse S'!A:D,2,FALSE)","v":{"$error":"#N/A"}}]
[null,null,{"$f":"VLOOKUP(A1362,'Analyse S'!A:D,2,FALSE)","v":{"$error":"#N/A"}}]
[null,null,{"$f":"VLOOKUP(A1363,'Analyse S'!A:D,2,FALSE)","v":{"$error":"#N/A"}}]
[null,null,{"$f":"VLOOKUP(A1364,'Analyse S'!A:D,2,FALSE)","v":{"$error":"#N/A"}}]
[null,null,{"$f":"VLOOKUP(A1365,'Analyse S'!A:D,2,FALSE)","v":{"$error":"#N/A"}}]
[null,null,{"$f":"VLOOKUP(A1366,'Analyse S'!A:D,2,FALSE)","v":{"$error":"#N/A"}}]
[null,null,{"$f":"VLOOKUP(A1367,'Analyse S'!A:D,2,FALSE)","v":{"$error":"#N/A"}}]
[null,null,{"$f":"VLOOKUP(A1368,'Analyse S'!A:D,2,FALSE)","v":{"$error":"#N/A"}}]
[null,null,{"$f":"VLOOKUP(A1369,'Analyse S'!A:D,2,FALSE)","v":{"$error":"#N/A"}}]
[null,null,{"$f":"VLOOKUP(A1370,'Analyse S'!A:D,2,FALSE)","v":{"$error":"#N/A"}}]
[null,null,{"$f":"VLOOKUP(A1371,'Analyse S'!A:D,2,FALSE)","v":{"$error":"#N/A"}}]
[null,null,{"$f":"VLOOKUP(A1372,'Analyse S'!A:D,2,FALSE)","v":{"$error":"#N/A"}}]
[null,null,{"$f":"VLOOKUP(A1373,'Analyse S'!A:D,2,FALSE)","v":{"$error":"#N/A"}}]
[null,null,{"$f":"VLOOKUP(A1374,'Analyse S'!A:D,2,FALSE)","v":{"$error":"#N/A"}}]
[null,null,{"$f":"VLOOKUP(A1375,'Analyse S'!A:D,2,FALSE)","v":{"$error":"#N/A"}}]
[null,null,{"$f":"VLOOKUP(A1376,'Analyse S'!A:D,2,FALSE)","v":{"$error":"#N/A"}}]
[null,null,{"$f":"VLOOKUP(A1377,'Analyse S'!A:D,2,FALSE)","v":{"$error":"#N/A"}}]
[null,null,{"$f":"VLOOKUP(A1378,'Analyse S'!A:D,2,FALSE)","v":{"$error":"#N/A"}}]
[null,null,{"$f":"VLOOKUP(A1379,'Analyse S'!A:D,2,FALSE)","v":{"$error":"#N/A"}}]
[null,null,{"$f":"VLOOKUP(A1380,'Analyse S'!A:D,2,FALSE)","v":{"$error":"#N/A"}}]
[null,null,{"$f":"VLOOKUP(A1381,'Analyse S'!A:D,2,FALSE)","v":{"$error":"#N/A"}}]
[null,null,{"$f":"VLOOKUP(A1382,'Analyse S'!A:D,2,FALSE)","v":{"$error":"#N/A"}}]
[null,null,{"$f":"VLOOKUP(A1383,'Analyse S'!A:D,2,FALSE)","v":{"$error":"#N/A"}}]
[null,null,{"$f":"VLOOKUP(A1384,'Analyse S'!A:D,2,FALSE)","v":{"$error":"#N/A"}}]
[null,null,{"$f":"VLOOKUP(A1385,'Analyse S'!A:D,2,FALSE)","v":{"$error":"#N/A"}}]
[null,null,{"$f":"VLOOKUP(A1386,'Analyse S'!A:D,2,FALSE)","v":{"$error":"#N/A"}}]
[null,null,{"$f":"VLOOKUP(A1387,'Analyse S'!A:D,2,FALSE)","v":{"$error":"#N/A"}}]
[null,null,{"$f":"VLOOKUP(A1388,'Analyse S'!A:D,2,FALSE)","v":{"$error":"#N/A"}}]
[null,null,{"$f":"VLOOKUP(A1389,'Analyse S'!A:D,2,FALSE)","v":{"$error":"#N/A"}}]
[null,null,{"$f":"VLOOKUP(A1390,'Analyse S'!A:D,2,FALSE)","v":{"$error":"#N/A"}}]
[null,null,{"$f":"VLOOKUP(A1391,'Analyse S'!A:D,2,FALSE)","v":{"$error":"#N/A"}}]
[null,null,{"$f":"VLOOKUP(A1392,'Analyse S'!A:D,2,FALSE)","v":{"$error":"#N/A"}}]
[null,null,{"$f":"VLOOKUP(A1393,'Analyse S'!A:D,2,FALSE)","v":{"$error":"#N/A"}}]
[null,null,{"$f":"VLOOKUP(A1394,'Analyse S'!A:D,2,FALSE)","v":{"$error":"#N/A"}}]
[null,null,{"$f":"VLOOKUP(A1395,'Analyse S'!A:D,2,FALSE)","v":{"$error":"#N/A"}}]
[null,null,{"$f":"VLOOKUP(A1396,'Analyse S'!A:D,2,FALSE)","v":{"$error":"#N/A"}}]
[null,null,{"$f":"VLOOKUP(A1397,'Analyse S'!A:D,2,FALSE)","v":{"$error":"#N/A"}}]
[null,null,{"$f":"VLOOKUP(A1398,'Analyse S'!A:D,2,FALSE)","v":{"$error":"#N/A"}}]
[null,null,{"$f":"VLOOKUP(A1399,'Analyse S'!A:D,2,FALSE)","v":{"$error":"#N/A"}}]
[null,null,{"$f":"VLOOKUP(A1400,'Analyse S'!A:D,2,FALSE)","v":{"$error":"#N/A"}}]
[null,null,{"$f":"VLOOKUP(A1401,'Analyse S'!A:D,2,FALSE)","v":{"$error":"#N/A"}}]
[null,null,{"$f":"VLOOKUP(A1402,'Analyse S'!A:D,2,FALSE)","v":{"$error":"#N/A"}}]
[null,null,{"$f":"VLOOKUP(A1403,'Analyse S'!A:D,2,FALSE)","v":{"$error":"#N/A"}}]
[null,null,{"$f":"VLOOKUP(A1404,'Analyse S'!A:D,2,FALSE)","v":{"$error":"#N/A"}}]
[null,null,{"$f":"VLOOKUP(A1405,'Analyse S'!A:D,2,FALSE)","v":{"$error":"#N/A"}}]
[null,null,{"$f":"VLOOKUP(A1406,'Analyse S'!A:D,2,FALSE)","v":{"$error":"#N/A"}}]
[null,null,{"$f":"VLOOKUP(A1407,'Analyse S'!A:D,2,FALSE)","v":{"$error":"#N/A"}}]
[null,null,{"$f":"VLOOKUP(A1408,'Analyse S'!A:D,2,FALSE)","v":{"$error":"#N/A"}}]
[null,null,{"$f":"VLOOKUP(A1409,'Analyse S'!A:D,2,FALSE)","v":{"$error":"#N/A"}}]
[null,null,{"$f":"VLOOKUP(A1410,'Analyse S'!A:D,2,FALSE)","v":{"$error":"#N/A"}}]
[null,null,{"$f":"VLOOKUP(A1411,'Analyse S'!A:D,2,FALSE)","v":{"$error":"#N/A"}}]
[null,null,{"$f":"VLOOKUP(A1412,'Analyse S'!A:D,2,FALSE)","v":{"$error":"#N/A"}}]
[null,null,{"$f":"VLOOKUP(A1413,'Analyse S'!A:D,2,FALSE)","v":{"$error":"#N/A"}}]
[null,null,{"$f":"VLOOKUP(A1414,'Analyse S'!A:D,2,FALSE)","v":{"$error":"#N/A"}}]
[null,null,{"$f":"VLOOKUP(A1415,'Analyse S'!A:D,2,FALSE)","v":{"$error":"#N/A"}}]
[null,null,{"$f":"VLOOKUP(A1416,'Analyse S'!A:D,2,FALSE)","v":{"$error":"#N/A"}}]
[null,null,{"$f":"VLOOKUP(A1417,'Analyse S'!A:D,2,FALSE)","v":{"$error":"#N/A"}}]
[null,null,{"$f":"VLOOKUP(A1418,'Analyse S'!A:D,2,FALSE)","v":{"$error":"#N/A"}}]
[null,null,{"$f":"VLOOKUP(A1419,'Analyse S'!A:D,2,FALSE)","v":{"$error":"#N/A"}}]
[null,null,{"$f":"VLOOKUP(A1420,'Analyse S'!A:D,2,FALSE)","v":{"$error":"#N/A"}}]
[null,null,{"$f":"VLOOKUP(A1421,'Analyse S'!A:D,2,FALSE)","v":{"$error":"#N/A"}}]
[null,null,{"$f":"VLOOKUP(A1422,'Analyse S'!A:D,2,FALSE)","v":{"$error":"#N/A"}}]
[null,null,{"$f":"VLOOKUP(A1423,'Analyse S'!A:D,2,FALSE)","v":{"$error":"#N/A"}}]
[null,null,{"$f":"VLOOKUP(A1424,'Analyse S'!A:D,2,FALSE)","v":{"$error":"#N/A"}}]
[null,null,{"$f":"VLOOKUP(A1425,'Analyse S'!A:D,2,FALSE)","v":{"$error":"#N/A"}}]
[null,null,{"$f":"VLOOKUP(A1426,'Analyse S'!A:D,2,FALSE)","v":{"$error":"#N/A"}}]
[null,null,{"$f":"VLOOKUP(A1427,'Analyse S'!A:D,2,FALSE)","v":{"$error":"#N/A"}}]
[null,null,{"$f":"VLOOKUP(A1428,'Analyse S'!A:D,2,FALSE)","v":{"$error":"#N/A"}}]
[null,null,{"$f":"VLOOKUP(A1429,'Analyse S'!A:D,2,FALSE)","v":{"$error":"#N/A"}}]
[null,null,{"$f":"VLOOKUP(A1430,'Analyse S'!A:D,2,FALSE)","v":{"$error":"#N/A"}}]
[null,null,{"$f":"VLOOKUP(A1431,'Analyse S'!A:D,2,FALSE)","v":{"$error":"#N/A"}}]
[null,null,{"$f":"VLOOKUP(A1432,'Analyse S'!A:D,2,FALSE)","v":{"$error":"#N/A"}}]
[null,null,{"$f":"VLOOKUP(A1433,'Analyse S'!A:D,2,FALSE)","v":{"$error":"#N/A"}}]
[null,null,{"$f":"VLOOKUP(A1434,'Analyse S'!A:D,2,FALSE)","v":{"$error":"#N/A"}}]
[null,null,{"$f":"VLOOKUP(A1435,'Analyse S'!A:D,2,FALSE)","v":{"$error":"#N/A"}}]
[null,null,{"$f":"VLOOKUP(A1436,'Analyse S'!A:D,2,FALSE)","v":{"$error":"#N/A"}}]
[null,null,{"$f":"VLOOKUP(A1437,'Analyse S'!A:D,2,FALSE)","v":{"$error":"#N/A"}}]
[null,null,{"$f":"VLOOKUP(A1438,'Analyse S'!A:D,2,FALSE)","v":{"$error":"#N/A"}}]
[null,null,{"$f":"VLOOKUP(A1439,'Analyse S'!A:D,2,FALSE)","v":{"$error":"#N/A"}}]
[null,null,{"$f":"VLOOKUP(A1440,'Analyse S'!A:D,2,FALSE)","v":{"$error":"#N/A"}}]
[null,null,{"$f":"VLOOKUP(A1441,'Analyse S'!A:D,2,FALSE)","v":{"$error":"#N/A"}}]
[null,null,{"$f":"VLOOKUP(A1442,'Analyse S'!A:D,2,FALSE)","v":{"$error":"#N/A"}}]
[null,null,{"$f":"VLOOKUP(A1443,'Analyse S'!A:D,2,FALSE)","v":{"$error":"#N/A"}}]
[null,null,{"$f":"VLOOKUP(A1444,'Analyse S'!A:D,2,FALSE)","v":{"$error":"#N/A"}}]
[null,null,{"$f":"VLOOKUP(A1445,'Analyse S'!A:D,2,FALSE)","v":{"$error":"#N/A"}}]
[null,null,{"$f":"VLOOKUP(A1446,'Analyse S'!A:D,2,FALSE)","v":{"$error":"#N/A"}}]
[null,null,{"$f":"VLOOKUP(A1447,'Analyse S'!A:D,2,FALSE)","v":{"$error":"#N/A"}}]
[null,null,{"$f":"VLOOKUP(A1448,'Analyse S'!A:D,2,FALSE)","v":{"$error":"#N/A"}}]
[null,null,{"$f":"VLOOKUP(A1449,'Analyse S'!A:D,2,FALSE)","v":{"$error":"#N/A"}}]
[null,null,{"$f":"VLOOKUP(A1450,'Analyse S'!A:D,2,FALSE)","v":{"$error":"#N/A"}}]
[null,null,{"$f":"VLOOKUP(A1451,'Analyse S'!A:D,2,FALSE)","v":{"$error":"#N/A"}}]
[null,null,{"$f":"VLOOKUP(A1452,'Analyse S'!A:D,2,FALSE)","v":{"$error":"#N/A"}}]
[null,null,{"$f":"VLOOKUP(A1453,'Analyse S'!A:D,2,FALSE)","v":{"$error":"#N/A"}}]
[null,null,{"$f":"VLOOKUP(A1454,'Analyse S'!A:D,2,FALSE)","v":{"$error":"#N/A"}}]
[null,null,{"$f":"VLOOKUP(A1455,'Analyse S'!A:D,2,FALSE)","v":{"$error":"#N/A"}}]
[null,null,{"$f":"VLOOKUP(A1456,'Analyse S'!A:D,2,FALSE)","v":{"$error":"#N/A"}}]
[null,null,{"$f":"VLOOKUP(A1457,'Analyse S'!A:D,2,FALSE)","v":{"$error":"#N/A"}}]
[null,null,{"$f":"VLOOKUP(A1458,'Analyse S'!A:D,2,FALSE)","v":{"$error":"#N/A"}}]
[null,null,{"$f":"VLOOKUP(A1459,'Analyse S'!A:D,2,FALSE)","v":{"$error":"#N/A"}}]
[null,null,{"$f":"VLOOKUP(A1460,'Analyse S'!A:D,2,FALSE)","v":{"$error":"#N/A"}}]
[null,null,{"$f":"VLOOKUP(A1461,'Analyse S'!A:D,2,FALSE)","v":{"$error":"#N/A"}}]
[null,null,{"$f":"VLOOKUP(A1462,'Analyse S'!A:D,2,FALSE)","v":{"$error":"#N/A"}}]
[null,null,{"$f":"VLOOKUP(A1463,'Analyse S'!A:D,2,FALSE)","v":{"$error":"#N/A"}}]
[null,null,{"$f":"VLOOKUP(A1464,'Analyse S'!A:D,2,FALSE)","v":{"$error":"#N/A"}}]
[null,null,{"$f":"VLOOKUP(A1465,'Analyse S'!A:D,2,FALSE)","v":{"$error":"#N/A"}}]
[null,null,{"$f":"VLOOKUP(A1466,'Analyse S'!A:D,2,FALSE)","v":{"$error":"#N/A"}}]
[null,null,{"$f":"VLOOKUP(A1467,'Analyse S'!A:D,2,FALSE)","v":{"$error":"#N/A"}}]
[null,null,{"$f":"VLOOKUP(A1468,'Analyse S'!A:D,2,FALSE)","v":{"$error":"#N/A"}}]
[null,null,{"$f":"VLOOKUP(A1469,'Analyse S'!A:D,2,FALSE)","v":{"$error":"#N/A"}}]
[null,null,{"$f":"VLOOKUP(A1470,'Analyse S'!A:D,2,FALSE)","v":{"$error":"#N/A"}}]
[null,null,{"$f":"VLOOKUP(A1471,'Analyse S'!A:D,2,FALSE)","v":{"$error":"#N/A"}}]
[null,null,{"$f":"VLOOKUP(A1472,'Analyse S'!A:D,2,FALSE)","v":{"$error":"#N/A"}}]
[null,null,{"$f":"VLOOKUP(A1473,'Analyse S'!A:D,2,FALSE)","v":{"$error":"#N/A"}}]
[null,null,{"$f":"VLOOKUP(A1474,'Analyse S'!A:D,2,FALSE)","v":{"$error":"#N/A"}}]
[null,null,{"$f":"VLOOKUP(A1475,'Analyse S'!A:D,2,FALSE)","v":{"$error":"#N/A"}}]
[null,null,{"$f":"VLOOKUP(A1476,'Analyse S'!A:D,2,FALSE)","v":{"$error":"#N/A"}}]
[null,null,{"$f":"VLOOKUP(A1477,'Analyse S'!A:D,2,FALSE)","v":{"$error":"#N/A"}}]
[null,null,{"$f":"VLOOKUP(A1478,'Analyse S'!A:D,2,FALSE)","v":{"$error":"#N/A"}}]
[null,null,{"$f":"VLOOKUP(A1479,'Analyse S'!A:D,2,FALSE)","v":{"$error":"#N/A"}}]
[null,null,{"$f":"VLOOKUP(A1480,'Analyse S'!A:D,2,FALSE)","v":{"$error":"#N/A"}}]
[null,null,{"$f":"VLOOKUP(A1481,'Analyse S'!A:D,2,FALSE)","v":{"$error":"#N/A"}}]
[null,null,{"$f":"VLOOKUP(A1482,'Analyse S'!A:D,2,FALSE)","v":{"$error":"#N/A"}}]
[null,null,{"$f":"VLOOKUP(A1483,'Analyse S'!A:D,2,FALSE)","v":{"$error":"#N/A"}}]
[null,null,{"$f":"VLOOKUP(A1484,'Analyse S'!A:D,2,FALSE)","v":{"$error":"#N/A"}}]
[null,null,{"$f":"VLOOKUP(A1485,'Analyse S'!A:D,2,FALSE)","v":{"$error":"#N/A"}}]
[null,null,{"$f":"VLOOKUP(A1486,'Analyse S'!A:D,2,FALSE)","v":{"$error":"#N/A"}}]
[null,null,{"$f":"VLOOKUP(A1487,'Analyse S'!A:D,2,FALSE)","v":{"$error":"#N/A"}}]
[null,null,{"$f":"VLOOKUP(A1488,'Analyse S'!A:D,2,FALSE)","v":{"$error":"#N/A"}}]
[null,null,{"$f":"VLOOKUP(A1489,'Analyse S'!A:D,2,FALSE)","v":{"$error":"#N/A"}}]
[null,null,{"$f":"VLOOKUP(A1490,'Analyse S'!A:D,2,FALSE)","v":{"$error":"#N/A"}}]
[null,null,{"$f":"VLOOKUP(A1491,'Analyse S'!A:D,2,FALSE)","v":{"$error":"#N/A"}}]
[null,null,{"$f":"VLOOKUP(A1492,'Analyse S'!A:D,2,FALSE)","v":{"$error":"#N/A"}}]
[null,null,{"$f":"VLOOKUP(A1493,'Analyse S'!A:D,2,FALSE)","v":{"$error":"#N/A"}}]
[null,null,{"$f":"VLOOKUP(A1494,'Analyse S'!A:D,2,FALSE)","v":{"$error":"#N/A"}}]
[null,null,{"$f":"VLOOKUP(A1495,'Analyse S'!A:D,2,FALSE)","v":{"$error":"#N/A"}}]
[null,null,{"$f":"VLOOKUP(A1496,'Analyse S'!A:D,2,FALSE)","v":{"$error":"#N/A"}}]
[null,null,{"$f":"VLOOKUP(A1497,'Analyse S'!A:D,2,FALSE)","v":{"$error":"#N/A"}}]
[null,null,{"$f":"VLOOKUP(A1498,'Analyse S'!A:D,2,FALSE)","v":{"$error":"#N/A"}}]
[null,null,{"$f":"VLOOKUP(A1499,'Analyse S'!A:D,2,FALSE)","v":{"$error":"#N/A"}}]
[null,null,{"$f":"VLOOKUP(A1500,'Analyse S'!A:D,2,FALSE)","v":{"$error":"#N/A"}}]
[null,null,{"$f":"VLOOKUP(A1501,'Analyse S'!A:D,2,FALSE)","v":{"$error":"#N/A"}}]
[null,null,{"$f":"VLOOKUP(A1502,'Analyse S'!A:D,2,FALSE)","v":{"$error":"#N/A"}}]
[null,null,{"$f":"VLOOKUP(A1503,'Analyse S'!A:D,2,FALSE)","v":{"$error":"#N/A"}}]
[null,null,{"$f":"VLOOKUP(A1504,'Analyse S'!A:D,2,FALSE)","v":{"$error":"#N/A"}}]
[null,null,{"$f":"VLOOKUP(A1505,'Analyse S'!A:D,2,FALSE)","v":{"$error":"#N/A"}}]
[null,null,{"$f":"VLOOKUP(A1506,'Analyse S'!A:D,2,FALSE)","v":{"$error":"#N/A"}}]
[null,null,{"$f":"VLOOKUP(A1507,'Analyse S'!A:D,2,FALSE)","v":{"$error":"#N/A"}}]
[null,null,{"$f":"VLOOKUP(A1508,'Analyse S'!A:D,2,FALSE)","v":{"$error":"#N/A"}}]
[null,null,{"$f":"VLOOKUP(A1509,'Analyse S'!A:D,2,FALSE)","v":{"$error":"#N/A"}}]
[null,null,{"$f":"VLOOKUP(A1510,'Analyse S'!A:D,2,FALSE)","v":{"$error":"#N/A"}}]
[null,null,{"$f":"VLOOKUP(A1511,'Analyse S'!A:D,2,FALSE)","v":{"$error":"#N/A"}}]
[null,null,{"$f":"VLOOKUP(A1512,'Analyse S'!A:D,2,FALSE)","v":{"$error":"#N/A"}}]
[null,null,{"$f":"VLOOKUP(A1513,'Analyse S'!A:D,2,FALSE)","v":{"$error":"#N/A"}}]
[null,null,{"$f":"VLOOKUP(A1514,'Analyse S'!A:D,2,FALSE)","v":{"$error":"#N/A"}}]
[null,null,{"$f":"VLOOKUP(A1515,'Analyse S'!A:D,2,FALSE)","v":{"$error":"#N/A"}}]
[null,null,{"$f":"VLOOKUP(A1516,'Analyse S'!A:D,2,FALSE)","v":{"$error":"#N/A"}}]
[null,null,{"$f":"VLOOKUP(A1517,'Analyse S'!A:D,2,FALSE)","v":{"$error":"#N/A"}}]
[null,null,{"$f":"VLOOKUP(A1518,'Analyse S'!A:D,2,FALSE)","v":{"$error":"#N/A"}}]
[null,null,{"$f":"VLOOKUP(A1519,'Analyse S'!A:D,2,FALSE)","v":{"$error":"#N/A"}}]
[null,null,{"$f":"VLOOKUP(A1520,'Analyse S'!A:D,2,FALSE)","v":{"$error":"#N/A"}}]
[null,null,{"$f":"VLOOKUP(A1521,'Analyse S'!A:D,2,FALSE)","v":{"$error":"#N/A"}}]
[null,null,{"$f":"VLOOKUP(A1522,'Analyse S'!A:D,2,FALSE)","v":{"$error":"#N/A"}}]
[null,null,{"$f":"VLOOKUP(A1523,'Analyse S'!A:D,2,FALSE)","v":{"$error":"#N/A"}}]
[null,null,{"$f":"VLOOKUP(A1524,'Analyse S'!A:D,2,FALSE)","v":{"$error":"#N/A"}}]
[null,null,{"$f":"VLOOKUP(A1525,'Analyse S'!A:D,2,FALSE)","v":{"$error":"#N/A"}}]
[null,null,{"$f":"VLOOKUP(A1526,'Analyse S'!A:D,2,FALSE)","v":{"$error":"#N/A"}}]
[null,null,{"$f":"VLOOKUP(A1527,'Analyse S'!A:D,2,FALSE)","v":{"$error":"#N/A"}}]
[null,null,{"$f":"VLOOKUP(A1528,'Analyse S'!A:D,2,FALSE)","v":{"$error":"#N/A"}}]
[null,null,{"$f":"VLOOKUP(A1529,'Analyse S'!A:D,2,FALSE)","v":{"$error":"#N/A"}}]
[null,null,{"$f":"VLOOKUP(A1530,'Analyse S'!A:D,2,FALSE)","v":{"$error":"#N/A"}}]
[null,null,{"$f":"VLOOKUP(A1531,'Analyse S'!A:D,2,FALSE)","v":{"$error":"#N/A"}}]
[null,null,{"$f":"VLOOKUP(A1532,'Analyse S'!A:D,2,FALSE)","v":{"$error":"#N/A"}}]
[null,null,{"$f":"VLOOKUP(A1533,'Analyse S'!A:D,2,FALSE)","v":{"$error":"#N/A"}}]
[null,null,{"$f":"VLOOKUP(A1534,'Analyse S'!A:D,2,FALSE)","v":{"$error":"#N/A"}}]
[null,null,{"$f":"VLOOKUP(A1535,'Analyse S'!A:D,2,FALSE)","v":{"$error":"#N/A"}}]
[null,null,{"$f":"VLOOKUP(A1536,'Analyse S'!A:D,2,FALSE)","v":{"$error":"#N/A"}}]
[null,null,{"$f":"VLOOKUP(A1537,'Analyse S'!A:D,2,FALSE)","v":{"$error":"#N/A"}}]
[null,null,{"$f":"VLOOKUP(A1538,'Analyse S'!A:D,2,FALSE)","v":{"$error":"#N/A"}}]
[null,null,{"$f":"VLOOKUP(A1539,'Analyse S'!A:D,2,FALSE)","v":{"$error":"#N/A"}}]
[null,null,{"$f":"VLOOKUP(A1540,'Analyse S'!A:D,2,FALSE)","v":{"$error":"#N/A"}}]
[null,null,{"$f":"VLOOKUP(A1541,'Analyse S'!A:D,2,FALSE)","v":{"$error":"#N/A"}}]
[null,null,{"$f":"VLOOKUP(A1542,'Analyse S'!A:D,2,FALSE)","v":{"$error":"#N/A"}}]
[null,null,{"$f":"VLOOKUP(A1543,'Analyse S'!A:D,2,FALSE)","v":{"$error":"#N/A"}}]
[null,null,{"$f":"VLOOKUP(A1544,'Analyse S'!A:D,2,FALSE)","v":{"$error":"#N/A"}}]
[null,null,{"$f":"VLOOKUP(A1545,'Analyse S'!A:D,2,FALSE)","v":{"$error":"#N/A"}}]
[null,null,{"$f":"VLOOKUP(A1546,'Analyse S'!A:D,2,FALSE)","v":{"$error":"#N/A"}}]
[null,null,{"$f":"VLOOKUP(A1547,'Analyse S'!A:D,2,FALSE)","v":{"$error":"#N/A"}}]
[null,null,{"$f":"VLOOKUP(A1548,'Analyse S'!A:D,2,FALSE)","v":{"$error":"#N/A"}}]
[null,null,{"$f":"VLOOKUP(A1549,'Analyse S'!A:D,2,FALSE)","v":{"$error":"#N/A"}}]
[null,null,{"$f":"VLOOKUP(A1550,'Analyse S'!A:D,2,FALSE)","v":{"$error":"#N/A"}}]
[null,null,{"$f":"VLOOKUP(A1551,'Analyse S'!A:D,2,FALSE)","v":{"$error":"#N/A"}}]
[null,null,{"$f":"VLOOKUP(A1552,'Analyse S'!A:D,2,FALSE)","v":{"$error":"#N/A"}}]
[null,null,{"$f":"VLOOKUP(A1553,'Analyse S'!A:D,2,FALSE)","v":{"$error":"#N/A"}}]
[null,null,{"$f":"VLOOKUP(A1554,'Analyse S'!A:D,2,FALSE)","v":{"$error":"#N/A"}}]
[null,null,{"$f":"VLOOKUP(A1555,'Analyse S'!A:D,2,FALSE)","v":{"$error":"#N/A"}}]
[null,null,{"$f":"VLOOKUP(A1556,'Analyse S'!A:D,2,FALSE)","v":{"$error":"#N/A"}}]
[null,null,{"$f":"VLOOKUP(A1557,'Analyse S'!A:D,2,FALSE)","v":{"$error":"#N/A"}}]
[null,null,{"$f":"VLOOKUP(A1558,'Analyse S'!A:D,2,FALSE)","v":{"$error":"#N/A"}}]
[null,null,{"$f":"VLOOKUP(A1559,'Analyse S'!A:D,2,FALSE)","v":{"$error":"#N/A"}}]
[null,null,{"$f":"VLOOKUP(A1560,'Analyse S'!A:D,2,FALSE)","v":{"$error":"#N/A"}}]
[null,null,{"$f":"VLOOKUP(A1561,'Analyse S'!A:D,2,FALSE)","v":{"$error":"#N/A"}}]
[null,null,{"$f":"VLOOKUP(A1562,'Analyse S'!A:D,2,FALSE)","v":{"$error":"#N/A"}}]
[null,null,{"$f":"VLOOKUP(A1563,'Analyse S'!A:D,2,FALSE)","v":{"$error":"#N/A"}}]
[null,null,{"$f":"VLOOKUP(A1564,'Analyse S'!A:D,2,FALSE)","v":{"$error":"#N/A"}}]
[null,null,{"$f":"VLOOKUP(A1565,'Analyse S'!A:D,2,FALSE)","v":{"$error":"#N/A"}}]
[null,null,{"$f":"VLOOKUP(A1566,'Analyse S'!A:D,2,FALSE)","v":{"$error":"#N/A"}}]
[null,null,{"$f":"VLOOKUP(A1567,'Analyse S'!A:D,2,FALSE)","v":{"$error":"#N/A"}}]
[null,null,{"$f":"VLOOKUP(A1568,'Analyse S'!A:D,2,FALSE)","v":{"$error":"#N/A"}}]
[null,null,{"$f":"VLOOKUP(A1569,'Analyse S'!A:D,2,FALSE)","v":{"$error":"#N/A"}}]
[null,null,{"$f":"VLOOKUP(A1570,'Analyse S'!A:D,2,FALSE)","v":{"$error":"#N/A"}}]
[null,null,{"$f":"VLOOKUP(A1571,'Analyse S'!A:D,2,FALSE)","v":{"$error":"#N/A"}}]
[null,null,{"$f":"VLOOKUP(A1572,'Analyse S'!A:D,2,FALSE)","v":{"$error":"#N/A"}}]
[null,null,{"$f":"VLOOKUP(A1573,'Analyse S'!A:D,2,FALSE)","v":{"$error":"#N/A"}}]
[null,null,{"$f":"VLOOKUP(A1574,'Analyse S'!A:D,2,FALSE)","v":{"$error":"#N/A"}}]
[null,null,{"$f":"VLOOKUP(A1575,'Analyse S'!A:D,2,FALSE)","v":{"$error":"#N/A"}}]
[null,null,{"$f":"VLOOKUP(A1576,'Analyse S'!A:D,2,FALSE)","v":{"$error":"#N/A"}}]
[null,null,{"$f":"VLOOKUP(A1577,'Analyse S'!A:D,2,FALSE)","v":{"$error":"#N/A"}}]
[null,null,{"$f":"VLOOKUP(A1578,'Analyse S'!A:D,2,FALSE)","v":{"$error":"#N/A"}}]
[null,null,{"$f":"VLOOKUP(A1579,'Analyse S'!A:D,2,FALSE)","v":{"$error":"#N/A"}}]
[null,null,{"$f":"VLOOKUP(A1580,'Analyse S'!A:D,2,FALSE)","v":{"$error":"#N/A"}}]
[null,null,{"$f":"VLOOKUP(A1581,'Analyse S'!A:D,2,FALSE)","v":{"$error":"#N/A"}}]
[null,null,{"$f":"VLOOKUP(A1582,'Analyse S'!A:D,2,FALSE)","v":{"$error":"#N/A"}}]
[null,null,{"$f":"VLOOKUP(A1583,'Analyse S'!A:D,2,FALSE)","v":{"$error":"#N/A"}}]
[null,null,{"$f":"VLOOKUP(A1584,'Analyse S'!A:D,2,FALSE)","v":{"$error":"#N/A"}}]
[null,null,{"$f":"VLOOKUP(A1585,'Analyse S'!A:D,2,FALSE)","v":{"$error":"#N/A"}}]
[null,null,{"$f":"VLOOKUP(A1586,'Analyse S'!A:D,2,FALSE)","v":{"$error":"#N/A"}}]
[null,null,{"$f":"VLOOKUP(A1587,'Analyse S'!A:D,2,FALSE)","v":{"$error":"#N/A"}}]
[null,null,{"$f":"VLOOKUP(A1588,'Analyse S'!A:D,2,FALSE)","v":{"$error":"#N/A"}}]
[null,null,{"$f":"VLOOKUP(A1589,'Analyse S'!A:D,2,FALSE)","v":{"$error":"#N/A"}}]
[null,null,{"$f":"VLOOKUP(A1590,'Analyse S'!A:D,2,FALSE)","v":{"$error":"#N/A"}}]
[null,null,{"$f":"VLOOKUP(A1591,'Analyse S'!A:D,2,FALSE)","v":{"$error":"#N/A"}}]
[null,null,{"$f":"VLOOKUP(A1592,'Analyse S'!A:D,2,FALSE)","v":{"$error":"#N/A"}}]
[null,null,{"$f":"VLOOKUP(A1593,'Analyse S'!A:D,2,FALSE)","v":{"$error":"#N/A"}}]
[null,null,{"$f":"VLOOKUP(A1594,'Analyse S'!A:D,2,FALSE)","v":{"$error":"#N/A"}}]
[null,null,{"$f":"VLOOKUP(A1595,'Analyse S'!A:D,2,FALSE)","v":{"$error":"#N/A"}}]
[null,null,{"$f":"VLOOKUP(A1596,'Analyse S'!A:D,2,FALSE)","v":{"$error":"#N/A"}}]
[null,null,{"$f":"VLOOKUP(A1597,'Analyse S'!A:D,2,FALSE)","v":{"$error":"#N/A"}}]
[null,null,{"$f":"VLOOKUP(A1598,'Analyse S'!A:D,2,FALSE)","v":{"$error":"#N/A"}}]
[null,null,{"$f":"VLOOKUP(A1599,'Analyse S'!A:D,2,FALSE)","v":{"$error":"#N/A"}}]
[null,null,{"$f":"VLOOKUP(A1600,'Analyse S'!A:D,2,FALSE)","v":{"$error":"#N/A"}}]
[null,null,{"$f":"VLOOKUP(A1601,'Analyse S'!A:D,2,FALSE)","v":{"$error":"#N/A"}}]
[null,null,{"$f":"VLOOKUP(A1602,'Analyse S'!A:D,2,FALSE)","v":{"$error":"#N/A"}}]
[null,null,{"$f":"VLOOKUP(A1603,'Analyse S'!A:D,2,FALSE)","v":{"$error":"#N/A"}}]
[null,null,{"$f":"VLOOKUP(A1604,'Analyse S'!A:D,2,FALSE)","v":{"$error":"#N/A"}}]
[null,null,{"$f":"VLOOKUP(A1605,'Analyse S'!A:D,2,FALSE)","v":{"$error":"#N/A"}}]
[null,null,{"$f":"VLOOKUP(A1606,'Analyse S'!A:D,2,FALSE)","v":{"$error":"#N/A"}}]
[null,null,{"$f":"VLOOKUP(A1607,'Analyse S'!A:D,2,FALSE)","v":{"$error":"#N/A"}}]
[null,null,{"$f":"VLOOKUP(A1608,'Analyse S'!A:D,2,FALSE)","v":{"$error":"#N/A"}}]
[null,null,{"$f":"VLOOKUP(A1609,'Analyse S'!A:D,2,FALSE)","v":{"$error":"#N/A"}}]
[null,null,{"$f":"VLOOKUP(A1610,'Analyse S'!A:D,2,FALSE)","v":{"$error":"#N/A"}}]
[null,null,{"$f":"VLOOKUP(A1611,'Analyse S'!A:D,2,FALSE)","v":{"$error":"#N/A"}}]
[null,null,{"$f":"VLOOKUP(A1612,'Analyse S'!A:D,2,FALSE)","v":{"$error":"#N/A"}}]
[null,null,{"$f":"VLOOKUP(A1613,'Analyse S'!A:D,2,FALSE)","v":{"$error":"#N/A"}}]
[null,null,{"$f":"VLOOKUP(A1614,'Analyse S'!A:D,2,FALSE)","v":{"$error":"#N/A"}}]
[null,null,{"$f":"VLOOKUP(A1615,'Analyse S'!A:D,2,FALSE)","v":{"$error":"#N/A"}}]
[null,null,{"$f":"VLOOKUP(A1616,'Analyse S'!A:D,2,FALSE)","v":{"$error":"#N/A"}}]
[null,null,{"$f":"VLOOKUP(A1617,'Analyse S'!A:D,2,FALSE)","v":{"$error":"#N/A"}}]
[null,null,{"$f":"VLOOKUP(A1618,'Analyse S'!A:D,2,FALSE)","v":{"$error":"#N/A"}}]
[null,null,{"$f":"VLOOKUP(A1619,'Analyse S'!A:D,2,FALSE)","v":{"$error":"#N/A"}}]
[null,null,{"$f":"VLOOKUP(A1620,'Analyse S'!A:D,2,FALSE)","v":{"$error":"#N/A"}}]
[null,null,{"$f":"VLOOKUP(A1621,'Analyse S'!A:D,2,FALSE)","v":{"$error":"#N/A"}}]
[null,null,{"$f":"VLOOKUP(A1622,'Analyse S'!A:D,2,FALSE)","v":{"$error":"#N/A"}}]
[null,null,{"$f":"VLOOKUP(A1623,'Analyse S'!A:D,2,FALSE)","v":{"$error":"#N/A"}}]
[null,null,{"$f":"VLOOKUP(A1624,'Analyse S'!A:D,2,FALSE)","v":{"$error":"#N/A"}}]
[null,null,{"$f":"VLOOKUP(A1625,'Analyse S'!A:D,2,FALSE)","v":{"$error":"#N/A"}}]
[null,null,{"$f":"VLOOKUP(A1626,'Analyse S'!A:D,2,FALSE)","v":{"$error":"#N/A"}}]
[null,null,{"$f":"VLOOKUP(A1627,'Analyse S'!A:D,2,FALSE)","v":{"$error":"#N/A"}}]
[null,null,{"$f":"VLOOKUP(A1628,'Analyse S'!A:D,2,FALSE)","v":{"$error":"#N/A"}}]
[null,null,{"$f":"VLOOKUP(A1629,'Analyse S'!A:D,2,FALSE)","v":{"$error":"#N/A"}}]
[null,null,{"$f":"VLOOKUP(A1630,'Analyse S'!A:D,2,FALSE)","v":{"$error":"#N/A"}}]
[null,null,{"$f":"VLOOKUP(A1631,'Analyse S'!A:D,2,FALSE)","v":{"$error":"#N/A"}}]
[null,null,{"$f":"VLOOKUP(A1632,'Analyse S'!A:D,2,FALSE)","v":{"$error":"#N/A"}}]
[null,null,{"$f":"VLOOKUP(A1633,'Analyse S'!A:D,2,FALSE)","v":{"$error":"#N/A"}}]
[null,null,{"$f":"VLOOKUP(A1634,'Analyse S'!A:D,2,FALSE)","v":{"$error":"#N/A"}}]
[null,null,{"$f":"VLOOKUP(A1635,'Analyse S'!A:D,2,FALSE)","v":{"$error":"#N/A"}}]
[null,null,{"$f":"VLOOKUP(A1636,'Analyse S'!A:D,2,FALSE)","v":{"$error":"#N/A"}}]
[null,null,{"$f":"VLOOKUP(A1637,'Analyse S'!A:D,2,FALSE)","v":{"$error":"#N/A"}}]
[null,null,{"$f":"VLOOKUP(A1638,'Analyse S'!A:D,2,FALSE)","v":{"$error":"#N/A"}}]
[null,null,{"$f":"VLOOKUP(A1639,'Analyse S'!A:D,2,FALSE)","v":{"$error":"#N/A"}}]
[null,null,{"$f":"VLOOKUP(A1640,'Analyse S'!A:D,2,FALSE)","v":{"$error":"#N/A"}}]
[null,null,{"$f":"VLOOKUP(A1641,'Analyse S'!A:D,2,FALSE)","v":{"$error":"#N/A"}}]
[null,null,{"$f":"VLOOKUP(A1642,'Analyse S'!A:D,2,FALSE)","v":{"$error":"#N/A"}}]
[null,null,{"$f":"VLOOKUP(A1643,'Analyse S'!A:D,2,FALSE)","v":{"$error":"#N/A"}}]
[null,null,{"$f":"VLOOKUP(A1644,'Analyse S'!A:D,2,FALSE)","v":{"$error":"#N/A"}}]
[null,null,{"$f":"VLOOKUP(A1645,'Analyse S'!A:D,2,FALSE)","v":{"$error":"#N/A"}}]
[null,null,{"$f":"VLOOKUP(A1646,'Analyse S'!A:D,2,FALSE)","v":{"$error":"#N/A"}}]
[null,null,{"$f":"VLOOKUP(A1647,'Analyse S'!A:D,2,FALSE)","v":{"$error":"#N/A"}}]
[null,null,{"$f":"VLOOKUP(A1648,'Analyse S'!A:D,2,FALSE)","v":{"$error":"#N/A"}}]
[null,null,{"$f":"VLOOKUP(A1649,'Analyse S'!A:D,2,FALSE)","v":{"$error":"#N/A"}}]
[null,null,{"$f":"VLOOKUP(A1650,'Analyse S'!A:D,2,FALSE)","v":{"$error":"#N/A"}}]
[null,null,{"$f":"VLOOKUP(A1651,'Analyse S'!A:D,2,FALSE)","v":{"$error":"#N/A"}}]
[null,null,{"$f":"VLOOKUP(A1652,'Analyse S'!A:D,2,FALSE)","v":{"$error":"#N/A"}}]
[null,null,{"$f":"VLOOKUP(A1653,'Analyse S'!A:D,2,FALSE)","v":{"$error":"#N/A"}}]
[null,null,{"$f":"VLOOKUP(A1654,'Analyse S'!A:D,2,FALSE)","v":{"$error":"#N/A"}}]
[null,null,{"$f":"VLOOKUP(A1655,'Analyse S'!A:D,2,FALSE)","v":{"$error":"#N/A"}}]
[null,null,{"$f":"VLOOKUP(A1656,'Analyse S'!A:D,2,FALSE)","v":{"$error":"#N/A"}}]
[null,null,{"$f":"VLOOKUP(A1657,'Analyse S'!A:D,2,FALSE)","v":{"$error":"#N/A"}}]
[null,null,{"$f":"VLOOKUP(A1658,'Analyse S'!A:D,2,FALSE)","v":{"$error":"#N/A"}}]
[null,null,{"$f":"VLOOKUP(A1659,'Analyse S'!A:D,2,FALSE)","v":{"$error":"#N/A"}}]
[null,null,{"$f":"VLOOKUP(A1660,'Analyse S'!A:D,2,FALSE)","v":{"$error":"#N/A"}}]
[null,null,{"$f":"VLOOKUP(A1661,'Analyse S'!A:D,2,FALSE)","v":{"$error":"#N/A"}}]
[null,null,{"$f":"VLOOKUP(A1662,'Analyse S'!A:D,2,FALSE)","v":{"$error":"#N/A"}}]
[null,null,{"$f":"VLOOKUP(A1663,'Analyse S'!A:D,2,FALSE)","v":{"$error":"#N/A"}}]
[null,null,{"$f":"VLOOKUP(A1664,'Analyse S'!A:D,2,FALSE)","v":{"$error":"#N/A"}}]
[null,null,{"$f":"VLOOKUP(A1665,'Analyse S'!A:D,2,FALSE)","v":{"$error":"#N/A"}}]
[null,null,{"$f":"VLOOKUP(A1666,'Analyse S'!A:D,2,FALSE)","v":{"$error":"#N/A"}}]
[null,null,{"$f":"VLOOKUP(A1667,'Analyse S'!A:D,2,FALSE)","v":{"$error":"#N/A"}}]
[null,null,{"$f":"VLOOKUP(A1668,'Analyse S'!A:D,2,FALSE)","v":{"$error":"#N/A"}}]
[null,null,{"$f":"VLOOKUP(A1669,'Analyse S'!A:D,2,FALSE)","v":{"$error":"#N/A"}}]
[null,null,{"$f":"VLOOKUP(A1670,'Analyse S'!A:D,2,FALSE)","v":{"$error":"#N/A"}}]
[null,null,{"$f":"VLOOKUP(A1671,'Analyse S'!A:D,2,FALSE)","v":{"$error":"#N/A"}}]
[null,null,{"$f":"VLOOKUP(A1672,'Analyse S'!A:D,2,FALSE)","v":{"$error":"#N/A"}}]
[null,null,{"$f":"VLOOKUP(A1673,'Analyse S'!A:D,2,FALSE)","v":{"$error":"#N/A"}}]
[null,null,{"$f":"VLOOKUP(A1674,'Analyse S'!A:D,2,FALSE)","v":{"$error":"#N/A"}}]
[null,null,{"$f":"VLOOKUP(A1675,'Analyse S'!A:D,2,FALSE)","v":{"$error":"#N/A"}}]
[null,null,{"$f":"VLOOKUP(A1676,'Analyse S'!A:D,2,FALSE)","v":{"$error":"#N/A"}}]
[null,null,{"$f":"VLOOKUP(A1677,'Analyse S'!A:D,2,FALSE)","v":{"$error":"#N/A"}}]
[null,null,{"$f":"VLOOKUP(A1678,'Analyse S'!A:D,2,FALSE)","v":{"$error":"#N/A"}}]
[null,null,{"$f":"VLOOKUP(A1679,'Analyse S'!A:D,2,FALSE)","v":{"$error":"#N/A"}}]
[null,null,{"$f":"VLOOKUP(A1680,'Analyse S'!A:D,2,FALSE)","v":{"$error":"#N/A"}}]
[null,null,{"$f":"VLOOKUP(A1681,'Analyse S'!A:D,2,FALSE)","v":{"$error":"#N/A"}}]
[null,null,{"$f":"VLOOKUP(A1682,'Analyse S'!A:D,2,FALSE)","v":{"$error":"#N/A"}}]
[null,null,{"$f":"VLOOKUP(A1683,'Analyse S'!A:D,2,FALSE)","v":{"$error":"#N/A"}}]
[null,null,{"$f":"VLOOKUP(A1684,'Analyse S'!A:D,2,FALSE)","v":{"$error":"#N/A"}}]
[null,null,{"$f":"VLOOKUP(A1685,'Analyse S'!A:D,2,FALSE)","v":{"$error":"#N/A"}}]
[null,null,{"$f":"VLOOKUP(A1686,'Analyse S'!A:D,2,FALSE)","v":{"$error":"#N/A"}}]
[null,null,{"$f":"VLOOKUP(A1687,'Analyse S'!A:D,2,FALSE)","v":{"$error":"#N/A"}}]
[null,null,{"$f":"VLOOKUP(A1688,'Analyse S'!A:D,2,FALSE)","v":{"$error":"#N/A"}}]
[null,null,{"$f":"VLOOKUP(A1689,'Analyse S'!A:D,2,FALSE)","v":{"$error":"#N/A"}}]
[null,null,{"$f":"VLOOKUP(A1690,'Analyse S'!A:D,2,FALSE)","v":{"$error":"#N/A"}}]
[null,null,{"$f":"VLOOKUP(A1691,'Analyse S'!A:D,2,FALSE)","v":{"$error":"#N/A"}}]
[null,null,{"$f":"VLOOKUP(A1692,'Analyse S'!A:D,2,FALSE)","v":{"$error":"#N/A"}}]
[null,null,{"$f":"VLOOKUP(A1693,'Analyse S'!A:D,2,FALSE)","v":{"$error":"#N/A"}}]
[null,null,{"$f":"VLOOKUP(A1694,'Analyse S'!A:D,2,FALSE)","v":{"$error":"#N/A"}}]
[null,null,{"$f":"VLOOKUP(A1695,'Analyse S'!A:D,2,FALSE)","v":{"$error":"#N/A"}}]
[null,null,{"$f":"VLOOKUP(A1696,'Analyse S'!A:D,2,FALSE)","v":{"$error":"#N/A"}}]
[null,null,{"$f":"VLOOKUP(A1697,'Analyse S'!A:D,2,FALSE)","v":{"$error":"#N/A"}}]
[null,null,{"$f":"VLOOKUP(A1698,'Analyse S'!A:D,2,FALSE)","v":{"$error":"#N/A"}}]
[null,null,{"$f":"VLOOKUP(A1699,'Analyse S'!A:D,2,FALSE)","v":{"$error":"#N/A"}}]
[null,null,{"$f":"VLOOKUP(A1700,'Analyse S'!A:D,2,FALSE)","v":{"$error":"#N/A"}}]
[null,null,{"$f":"VLOOKUP(A1701,'Analyse S'!A:D,2,FALSE)","v":{"$error":"#N/A"}}]
[null,null,{"$f":"VLOOKUP(A1702,'Analyse S'!A:D,2,FALSE)","v":{"$error":"#N/A"}}]
[null,null,{"$f":"VLOOKUP(A1703,'Analyse S'!A:D,2,FALSE)","v":{"$error":"#N/A"}}]
[null,null,{"$f":"VLOOKUP(A1704,'Analyse S'!A:D,2,FALSE)","v":{"$error":"#N/A"}}]
[null,null,{"$f":"VLOOKUP(A1705,'Analyse S'!A:D,2,FALSE)","v":{"$error":"#N/A"}}]
[null,null,{"$f":"VLOOKUP(A1706,'Analyse S'!A:D,2,FALSE)","v":{"$error":"#N/A"}}]
[null,null,{"$f":"VLOOKUP(A1707,'Analyse S'!A:D,2,FALSE)","v":{"$error":"#N/A"}}]
[null,null,{"$f":"VLOOKUP(A1708,'Analyse S'!A:D,2,FALSE)","v":{"$error":"#N/A"}}]
[null,null,{"$f":"VLOOKUP(A1709,'Analyse S'!A:D,2,FALSE)","v":{"$error":"#N/A"}}]
[null,null,{"$f":"VLOOKUP(A1710,'Analyse S'!A:D,2,FALSE)","v":{"$error":"#N/A"}}]
[null,null,{"$f":"VLOOKUP(A1711,'Analyse S'!A:D,2,FALSE)","v":{"$error":"#N/A"}}]
[null,null,{"$f":"VLOOKUP(A1712,'Analyse S'!A:D,2,FALSE)","v":{"$error":"#N/A"}}]
[null,null,{"$f":"VLOOKUP(A1713,'Analyse S'!A:D,2,FALSE)","v":{"$error":"#N/A"}}]
[null,null,{"$f":"VLOOKUP(A1714,'Analyse S'!A:D,2,FALSE)","v":{"$error":"#N/A"}}]
[null,null,{"$f":"VLOOKUP(A1715,'Analyse S'!A:D,2,FALSE)","v":{"$error":"#N/A"}}]
[null,null,{"$f":"VLOOKUP(A1716,'Analyse S'!A:D,2,FALSE)","v":{"$error":"#N/A"}}]
[null,null,{"$f":"VLOOKUP(A1717,'Analyse S'!A:D,2,FALSE)","v":{"$error":"#N/A"}}]
[null,null,{"$f":"VLOOKUP(A1718,'Analyse S'!A:D,2,FALSE)","v":{"$error":"#N/A"}}]
[null,null,{"$f":"VLOOKUP(A1719,'Analyse S'!A:D,2,FALSE)","v":{"$error":"#N/A"}}]
[null,null,{"$f":"VLOOKUP(A1720,'Analyse S'!A:D,2,FALSE)","v":{"$error":"#N/A"}}]
[null,null,{"$f":"VLOOKUP(A1721,'Analyse S'!A:D,2,FALSE)","v":{"$error":"#N/A"}}]
[null,null,{"$f":"VLOOKUP(A1722,'Analyse S'!A:D,2,FALSE)","v":{"$error":"#N/A"}}]
[null,null,{"$f":"VLOOKUP(A1723,'Analyse S'!A:D,2,FALSE)","v":{"$error":"#N/A"}}]
[null,null,{"$f":"VLOOKUP(A1724,'Analyse S'!A:D,2,FALSE)","v":{"$error":"#N/A"}}]
[null,null,{"$f":"VLOOKUP(A1725,'Analyse S'!A:D,2,FALSE)","v":{"$error":"#N/A"}}]
[null,null,{"$f":"VLOOKUP(A1726,'Analyse S'!A:D,2,FALSE)","v":{"$error":"#N/A"}}]
[null,null,{"$f":"VLOOKUP(A1727,'Analyse S'!A:D,2,FALSE)","v":{"$error":"#N/A"}}]
[null,null,{"$f":"VLOOKUP(A1728,'Analyse S'!A:D,2,FALSE)","v":{"$error":"#N/A"}}]
[null,null,{"$f":"VLOOKUP(A1729,'Analyse S'!A:D,2,FALSE)","v":{"$error":"#N/A"}}]
[null,null,{"$f":"VLOOKUP(A1730,'Analyse S'!A:D,2,FALSE)","v":{"$error":"#N/A"}}]
[null,null,{"$f":"VLOOKUP(A1731,'Analyse S'!A:D,2,FALSE)","v":{"$error":"#N/A"}}]
[null,null,{"$f":"VLOOKUP(A1732,'Analyse S'!A:D,2,FALSE)","v":{"$error":"#N/A"}}]
[null,null,{"$f":"VLOOKUP(A1733,'Analyse S'!A:D,2,FALSE)","v":{"$error":"#N/A"}}]
[null,null,{"$f":"VLOOKUP(A1734,'Analyse S'!A:D,2,FALSE)","v":{"$error":"#N/A"}}]
[null,null,{"$f":"VLOOKUP(A1735,'Analyse S'!A:D,2,FALSE)","v":{"$error":"#N/A"}}]
[null,null,{"$f":"VLOOKUP(A1736,'Analyse S'!A:D,2,FALSE)","v":{"$error":"#N/A"}}]
[null,null,{"$f":"VLOOKUP(A1737,'Analyse S'!A:D,2,FALSE)","v":{"$error":"#N/A"}}]
[null,null,{"$f":"VLOOKUP(A1738,'Analyse S'!A:D,2,FALSE)","v":{"$error":"#N/A"}}]
[null,null,{"$f":"VLOOKUP(A1739,'Analyse S'!A:D,2,FALSE)","v":{"$error":"#N/A"}}]
[null,null,{"$f":"VLOOKUP(A1740,'Analyse S'!A:D,2,FALSE)","v":{"$error":"#N/A"}}]
[null,null,{"$f":"VLOOKUP(A1741,'Analyse S'!A:D,2,FALSE)","v":{"$error":"#N/A"}}]
[null,null,{"$f":"VLOOKUP(A1742,'Analyse S'!A:D,2,FALSE)","v":{"$error":"#N/A"}}]
[null,null,{"$f":"VLOOKUP(A1743,'Analyse S'!A:D,2,FALSE)","v":{"$error":"#N/A"}}]
[null,null,{"$f":"VLOOKUP(A1744,'Analyse S'!A:D,2,FALSE)","v":{"$error":"#N/A"}}]
[null,null,{"$f":"VLOOKUP(A1745,'Analyse S'!A:D,2,FALSE)","v":{"$error":"#N/A"}}]
[null,null,{"$f":"VLOOKUP(A1746,'Analyse S'!A:D,2,FALSE)","v":{"$error":"#N/A"}}]
[null,null,{"$f":"VLOOKUP(A1747,'Analyse S'!A:D,2,FALSE)","v":{"$error":"#N/A"}}]
[null,null,{"$f":"VLOOKUP(A1748,'Analyse S'!A:D,2,FALSE)","v":{"$error":"#N/A"}}]
[null,null,{"$f":"VLOOKUP(A1749,'Analyse S'!A:D,2,FALSE)","v":{"$error":"#N/A"}}]
[null,null,{"$f":"VLOOKUP(A1750,'Analyse S'!A:D,2,FALSE)","v":{"$error":"#N/A"}}]
[null,null,{"$f":"VLOOKUP(A1751,'Analyse S'!A:D,2,FALSE)","v":{"$error":"#N/A"}}]
[null,null,{"$f":"VLOOKUP(A1752,'Analyse S'!A:D,2,FALSE)","v":{"$error":"#N/A"}}]
[null,null,{"$f":"VLOOKUP(A1753,'Analyse S'!A:D,2,FALSE)","v":{"$error":"#N/A"}}]
[null,null,{"$f":"VLOOKUP(A1754,'Analyse S'!A:D,2,FALSE)","v":{"$error":"#N/A"}}]
[null,null,{"$f":"VLOOKUP(A1755,'Analyse S'!A:D,2,FALSE)","v":{"$error":"#N/A"}}]
[null,null,{"$f":"VLOOKUP(A1756,'Analyse S'!A:D,2,FALSE)","v":{"$error":"#N/A"}}]
[null,null,{"$f":"VLOOKUP(A1757,'Analyse S'!A:D,2,FALSE)","v":{"$error":"#N/A"}}]
[null,null,{"$f":"VLOOKUP(A1758,'Analyse S'!A:D,2,FALSE)","v":{"$error":"#N/A"}}]
[null,null,{"$f":"VLOOKUP(A1759,'Analyse S'!A:D,2,FALSE)","v":{"$error":"#N/A"}}]
[null,null,{"$f":"VLOOKUP(A1760,'Analyse S'!A:D,2,FALSE)","v":{"$error":"#N/A"}}]
[null,null,{"$f":"VLOOKUP(A1761,'Analyse S'!A:D,2,FALSE)","v":{"$error":"#N/A"}}]
[null,null,{"$f":"VLOOKUP(A1762,'Analyse S'!A:D,2,FALSE)","v":{"$error":"#N/A"}}]
[null,null,{"$f":"VLOOKUP(A1763,'Analyse S'!A:D,2,FALSE)","v":{"$error":"#N/A"}}]
[null,null,{"$f":"VLOOKUP(A1764,'Analyse S'!A:D,2,FALSE)","v":{"$error":"#N/A"}}]
[null,null,{"$f":"VLOOKUP(A1765,'Analyse S'!A:D,2,FALSE)","v":{"$error":"#N/A"}}]
[null,null,{"$f":"VLOOKUP(A1766,'Analyse S'!A:D,2,FALSE)","v":{"$error":"#N/A"}}]
[null,null,{"$f":"VLOOKUP(A1767,'Analyse S'!A:D,2,FALSE)","v":{"$error":"#N/A"}}]
[null,null,{"$f":"VLOOKUP(A1768,'Analyse S'!A:D,2,FALSE)","v":{"$error":"#N/A"}}]
[null,null,{"$f":"VLOOKUP(A1769,'Analyse S'!A:D,2,FALSE)","v":{"$error":"#N/A"}}]
[null,null,{"$f":"VLOOKUP(A1770,'Analyse S'!A:D,2,FALSE)","v":{"$error":"#N/A"}}]
[null,null,{"$f":"VLOOKUP(A1771,'Analyse S'!A:D,2,FALSE)","v":{"$error":"#N/A"}}]
[null,null,{"$f":"VLOOKUP(A1772,'Analyse S'!A:D,2,FALSE)","v":{"$error":"#N/A"}}]
[null,null,{"$f":"VLOOKUP(A1773,'Analyse S'!A:D,2,FALSE)","v":{"$error":"#N/A"}}]
[null,null,{"$f":"VLOOKUP(A1774,'Analyse S'!A:D,2,FALSE)","v":{"$error":"#N/A"}}]
[null,null,{"$f":"VLOOKUP(A1775,'Analyse S'!A:D,2,FALSE)","v":{"$error":"#N/A"}}]
[null,null,{"$f":"VLOOKUP(A1776,'Analyse S'!A:D,2,FALSE)","v":{"$error":"#N/A"}}]
[null,null,{"$f":"VLOOKUP(A1777,'Analyse S'!A:D,2,FALSE)","v":{"$error":"#N/A"}}]
[null,null,{"$f":"VLOOKUP(A1778,'Analyse S'!A:D,2,FALSE)","v":{"$error":"#N/A"}}]
[null,null,{"$f":"VLOOKUP(A1779,'Analyse S'!A:D,2,FALSE)","v":{"$error":"#N/A"}}]
[null,null,{"$f":"VLOOKUP(A1780,'Analyse S'!A:D,2,FALSE)","v":{"$error":"#N/A"}}]
[null,null,{"$f":"VLOOKUP(A1781,'Analyse S'!A:D,2,FALSE)","v":{"$error":"#N/A"}}]
[null,null,{"$f":"VLOOKUP(A1782,'Analyse S'!A:D,2,FALSE)","v":{"$error":"#N/A"}}]
[null,null,{"$f":"VLOOKUP(A1783,'Analyse S'!A:D,2,FALSE)","v":{"$error":"#N/A"}}]
[null,null,{"$f":"VLOOKUP(A1784,'Analyse S'!A:D,2,FALSE)","v":{"$error":"#N/A"}}]
[null,null,{"$f":"VLOOKUP(A1785,'Analyse S'!A:D,2,FALSE)","v":{"$error":"#N/A"}}]
[null,null,{"$f":"VLOOKUP(A1786,'Analyse S'!A:D,2,FALSE)","v":{"$error":"#N/A"}}]
[null,null,{"$f":"VLOOKUP(A1787,'Analyse S'!A:D,2,FALSE)","v":{"$error":"#N/A"}}]
[null,null,{"$f":"VLOOKUP(A1788,'Analyse S'!A:D,2,FALSE)","v":{"$error":"#N/A"}}]
[null,null,{"$f":"VLOOKUP(A1789,'Analyse S'!A:D,2,FALSE)","v":{"$error":"#N/A"}}]
[null,null,{"$f":"VLOOKUP(A1790,'Analyse S'!A:D,2,FALSE)","v":{"$error":"#N/A"}}]
[null,null,{"$f":"VLOOKUP(A1791,'Analyse S'!A:D,2,FALSE)","v":{"$error":"#N/A"}}]
[null,null,{"$f":"VLOOKUP(A1792,'Analyse S'!A:D,2,FALSE)","v":{"$error":"#N/A"}}]
[null,null,{"$f":"VLOOKUP(A1793,'Analyse S'!A:D,2,FALSE)","v":{"$error":"#N/A"}}]
[null,null,{"$f":"VLOOKUP(A1794,'Analyse S'!A:D,2,FALSE)","v":{"$error":"#N/A"}}]
[null,null,{"$f":"VLOOKUP(A1795,'Analyse S'!A:D,2,FALSE)","v":{"$error":"#N/A"}}]
[null,null,{"$f":"VLOOKUP(A1796,'Analyse S'!A:D,2,FALSE)","v":{"$error":"#N/A"}}]
[null,null,{"$f":"VLOOKUP(A1797,'Analyse S'!A:D,2,FALSE)","v":{"$error":"#N/A"}}]
[null,null,{"$f":"VLOOKUP(A1798,'Analyse S'!A:D,2,FALSE)","v":{"$error":"#N/A"}}]
[null,null,{"$f":"VLOOKUP(A1799,'Analyse S'!A:D,2,FALSE)","v":{"$error":"#N/A"}}]
[null,null,{"$f":"VLOOKUP(A1800,'Analyse S'!A:D,2,FALSE)","v":{"$error":"#N/A"}}]
[null,null,{"$f":"VLOOKUP(A1801,'Analyse S'!A:D,2,FALSE)","v":{"$error":"#N/A"}}]
[null,null,{"$f":"VLOOKUP(A1802,'Analyse S'!A:D,2,FALSE)","v":{"$error":"#N/A"}}]
[null,null,{"$f":"VLOOKUP(A1803,'Analyse S'!A:D,2,FALSE)","v":{"$error":"#N/A"}}]
[null,null,{"$f":"VLOOKUP(A1804,'Analyse S'!A:D,2,FALSE)","v":{"$error":"#N/A"}}]
[null,null,{"$f":"VLOOKUP(A1805,'Analyse S'!A:D,2,FALSE)","v":{"$error":"#N/A"}}]
[null,null,{"$f":"VLOOKUP(A1806,'Analyse S'!A:D,2,FALSE)","v":{"$error":"#N/A"}}]
[null,null,{"$f":"VLOOKUP(A1807,'Analyse S'!A:D,2,FALSE)","v":{"$error":"#N/A"}}]
[null,null,{"$f":"VLOOKUP(A1808,'Analyse S'!A:D,2,FALSE)","v":{"$error":"#N/A"}}]
[null,null,{"$f":"VLOOKUP(A1809,'Analyse S'!A:D,2,FALSE)","v":{"$error":"#N/A"}}]
[null,null,{"$f":"VLOOKUP(A1810,'Analyse S'!A:D,2,FALSE)","v":{"$error":"#N/A"}}]
[null,null,{"$f":"VLOOKUP(A1811,'Analyse S'!A:D,2,FALSE)","v":{"$error":"#N/A"}}]
[null,null,{"$f":"VLOOKUP(A1812,'Analyse S'!A:D,2,FALSE)","v":{"$error":"#N/A"}}]
[null,null,{"$f":"VLOOKUP(A1813,'Analyse S'!A:D,2,FALSE)","v":{"$error":"#N/A"}}]
[null,null,{"$f":"VLOOKUP(A1814,'Analyse S'!A:D,2,FALSE)","v":{"$error":"#N/A"}}]
[null,null,{"$f":"VLOOKUP(A1815,'Analyse S'!A:D,2,FALSE)","v":{"$error":"#N/A"}}]
[null,null,{"$f":"VLOOKUP(A1816,'Analyse S'!A:D,2,FALSE)","v":{"$error":"#N/A"}}]
[null,null,{"$f":"VLOOKUP(A1817,'Analyse S'!A:D,2,FALSE)","v":{"$error":"#N/A"}}]
[null,null,{"$f":"VLOOKUP(A1818,'Analyse S'!A:D,2,FALSE)","v":{"$error":"#N/A"}}]
[null,null,{"$f":"VLOOKUP(A1819,'Analyse S'!A:D,2,FALSE)","v":{"$error":"#N/A"}}]
[null,null,{"$f":"VLOOKUP(A1820,'Analyse S'!A:D,2,FALSE)","v":{"$error":"#N/A"}}]
[null,null,{"$f":"VLOOKUP(A1821,'Analyse S'!A:D,2,FALSE)","v":{"$error":"#N/A"}}]
[null,null,{"$f":"VLOOKUP(A1822,'Analyse S'!A:D,2,FALSE)","v":{"$error":"#N/A"}}]
[null,null,{"$f":"VLOOKUP(A1823,'Analyse S'!A:D,2,FALSE)","v":{"$error":"#N/A"}}]
[null,null,{"$f":"VLOOKUP(A1824,'Analyse S'!A:D,2,FALSE)","v":{"$error":"#N/A"}}]
[null,null,{"$f":"VLOOKUP(A1825,'Analyse S'!A:D,2,FALSE)","v":{"$error":"#N/A"}}]
[null,null,{"$f":"VLOOKUP(A1826,'Analyse S'!A:D,2,FALSE)","v":{"$error":"#N/A"}}]
[null,null,{"$f":"VLOOKUP(A1827,'Analyse S'!A:D,2,FALSE)","v":{"$error":"#N/A"}}]
[null,null,{"$f":"VLOOKUP(A1828,'Analyse S'!A:D,2,FALSE)","v":{"$error":"#N/A"}}]
[null,null,{"$f":"VLOOKUP(A1829,'Analyse S'!A:D,2,FALSE)","v":{"$error":"#N/A"}}]
[null,null,{"$f":"VLOOKUP(A1830,'Analyse S'!A:D,2,FALSE)","v":{"$error":"#N/A"}}]
[null,null,{"$f":"VLOOKUP(A1831,'Analyse S'!A:D,2,FALSE)","v":{"$error":"#N/A"}}]
[null,null,{"$f":"VLOOKUP(A1832,'Analyse S'!A:D,2,FALSE)","v":{"$error":"#N/A"}}]
[null,null,{"$f":"VLOOKUP(A1833,'Analyse S'!A:D,2,FALSE)","v":{"$error":"#N/A"}}]
[null,null,{"$f":"VLOOKUP(A1834,'Analyse S'!A:D,2,FALSE)","v":{"$error":"#N/A"}}]
[null,null,{"$f":"VLOOKUP(A1835,'Analyse S'!A:D,2,FALSE)","v":{"$error":"#N/A"}}]
[null,null,{"$f":"VLOOKUP(A1836,'Analyse S'!A:D,2,FALSE)","v":{"$error":"#N/A"}}]
[null,null,{"$f":"VLOOKUP(A1837,'Analyse S'!A:D,2,FALSE)","v":{"$error":"#N/A"}}]
[null,null,{"$f":"VLOOKUP(A1838,'Analyse S'!A:D,2,FALSE)","v":{"$error":"#N/A"}}]
[null,null,{"$f":"VLOOKUP(A1839,'Analyse S'!A:D,2,FALSE)","v":{"$error":"#N/A"}}]
[null,null,{"$f":"VLOOKUP(A1840,'Analyse S'!A:D,2,FALSE)","v":{"$error":"#N/A"}}]
[null,null,{"$f":"VLOOKUP(A1841,'Analyse S'!A:D,2,FALSE)","v":{"$error":"#N/A"}}]
[null,null,{"$f":"VLOOKUP(A1842,'Analyse S'!A:D,2,FALSE)","v":{"$error":"#N/A"}}]
[null,null,{"$f":"VLOOKUP(A1843,'Analyse S'!A:D,2,FALSE)","v":{"$error":"#N/A"}}]
[null,null,{"$f":"VLOOKUP(A1844,'Analyse S'!A:D,2,FALSE)","v":{"$error":"#N/A"}}]
[null,null,{"$f":"VLOOKUP(A1845,'Analyse S'!A:D,2,FALSE)","v":{"$error":"#N/A"}}]
[null,null,{"$f":"VLOOKUP(A1846,'Analyse S'!A:D,2,FALSE)","v":{"$error":"#N/A"}}]
[null,null,{"$f":"VLOOKUP(A1847,'Analyse S'!A:D,2,FALSE)","v":{"$error":"#N/A"}}]
[null,null,{"$f":"VLOOKUP(A1848,'Analyse S'!A:D,2,FALSE)","v":{"$error":"#N/A"}}]
[null,null,{"$f":"VLOOKUP(A1849,'Analyse S'!A:D,2,FALSE)","v":{"$error":"#N/A"}}]
[null,null,{"$f":"VLOOKUP(A1850,'Analyse S'!A:D,2,FALSE)","v":{"$error":"#N/A"}}]
[null,null,{"$f":"VLOOKUP(A1851,'Analyse S'!A:D,2,FALSE)","v":{"$error":"#N/A"}}]
[null,null,{"$f":"VLOOKUP(A1852,'Analyse S'!A:D,2,FALSE)","v":{"$error":"#N/A"}}]
[null,null,{"$f":"VLOOKUP(A1853,'Analyse S'!A:D,2,FALSE)","v":{"$error":"#N/A"}}]
[null,null,{"$f":"VLOOKUP(A1854,'Analyse S'!A:D,2,FALSE)","v":{"$error":"#N/A"}}]
[null,null,{"$f":"VLOOKUP(A1855,'Analyse S'!A:D,2,FALSE)","v":{"$error":"#N/A"}}]
[null,null,{"$f":"VLOOKUP(A1856,'Analyse S'!A:D,2,FALSE)","v":{"$error":"#N/A"}}]
[null,null,{"$f":"VLOOKUP(A1857,'Analyse S'!A:D,2,FALSE)","v":{"$error":"#N/A"}}]
[null,null,{"$f":"VLOOKUP(A1858,'Analyse S'!A:D,2,FALSE)","v":{"$error":"#N/A"}}]
[null,null,{"$f":"VLOOKUP(A1859,'Analyse S'!A:D,2,FALSE)","v":{"$error":"#N/A"}}]
[null,null,{"$f":"VLOOKUP(A1860,'Analyse S'!A:D,2,FALSE)","v":{"$error":"#N/A"}}]
[null,null,{"$f":"VLOOKUP(A1861,'Analyse S'!A:D,2,FALSE)","v":{"$error":"#N/A"}}]
[null,null,{"$f":"VLOOKUP(A1862,'Analyse S'!A:D,2,FALSE)","v":{"$error":"#N/A"}}]
[null,null,{"$f":"VLOOKUP(A1863,'Analyse S'!A:D,2,FALSE)","v":{"$error":"#N/A"}}]
[null,null,{"$f":"VLOOKUP(A1864,'Analyse S'!A:D,2,FALSE)","v":{"$error":"#N/A"}}]
[null,null,{"$f":"VLOOKUP(A1865,'Analyse S'!A:D,2,FALSE)","v":{"$error":"#N/A"}}]
[null,null,{"$f":"VLOOKUP(A1866,'Analyse S'!A:D,2,FALSE)","v":{"$error":"#N/A"}}]
[null,null,{"$f":"VLOOKUP(A1867,'Analyse S'!A:D,2,FALSE)","v":{"$error":"#N/A"}}]
[null,null,{"$f":"VLOOKUP(A1868,'Analyse S'!A:D,2,FALSE)","v":{"$error":"#N/A"}}]
[null,null,{"$f":"VLOOKUP(A1869,'Analyse S'!A:D,2,FALSE)","v":{"$error":"#N/A"}}]
[null,null,{"$f":"VLOOKUP(A1870,'Analyse S'!A:D,2,FALSE)","v":{"$error":"#N/A"}}]
[null,null,{"$f":"VLOOKUP(A1871,'Analyse S'!A:D,2,FALSE)","v":{"$error":"#N/A"}}]
[null,null,{"$f":"VLOOKUP(A1872,'Analyse S'!A:D,2,FALSE)","v":{"$error":"#N/A"}}]
[null,null,{"$f":"VLOOKUP(A1873,'Analyse S'!A:D,2,FALSE)","v":{"$error":"#N/A"}}]
[null,null,{"$f":"VLOOKUP(A1874,'Analyse S'!A:D,2,FALSE)","v":{"$error":"#N/A"}}]
[null,null,{"$f":"VLOOKUP(A1875,'Analyse S'!A:D,2,FALSE)","v":{"$error":"#N/A"}}]
[null,null,{"$f":"VLOOKUP(A1876,'Analyse S'!A:D,2,FALSE)","v":{"$error":"#N/A"}}]
[null,null,{"$f":"VLOOKUP(A1877,'Analyse S'!A:D,2,FALSE)","v":{"$error":"#N/A"}}]
[null,null,{"$f":"VLOOKUP(A1878,'Analyse S'!A:D,2,FALSE)","v":{"$error":"#N/A"}}]
[null,null,{"$f":"VLOOKUP(A1879,'Analyse S'!A:D,2,FALSE)","v":{"$error":"#N/A"}}]
[null,null,{"$f":"VLOOKUP(A1880,'Analyse S'!A:D,2,FALSE)","v":{"$error":"#N/A"}}]
[null,null,{"$f":"VLOOKUP(A1881,'Analyse S'!A:D,2,FALSE)","v":{"$error":"#N/A"}}]
[null,null,{"$f":"VLOOKUP(A1882,'Analyse S'!A:D,2,FALSE)","v":{"$error":"#N/A"}}]
[null,null,{"$f":"VLOOKUP(A1883,'Analyse S'!A:D,2,FALSE)","v":{"$error":"#N/A"}}]
[null,null,{"$f":"VLOOKUP(A1884,'Analyse S'!A:D,2,FALSE)","v":{"$error":"#N/A"}}]
[null,null,{"$f":"VLOOKUP(A1885,'Analyse S'!A:D,2,FALSE)","v":{"$error":"#N/A"}}]
[null,null,{"$f":"VLOOKUP(A1886,'Analyse S'!A:D,2,FALSE)","v":{"$error":"#N/A"}}]
[null,null,{"$f":"VLOOKUP(A1887,'Analyse S'!A:D,2,FALSE)","v":{"$error":"#N/A"}}]
[null,null,{"$f":"VLOOKUP(A1888,'Analyse S'!A:D,2,FALSE)","v":{"$error":"#N/A"}}]
[null,null,{"$f":"VLOOKUP(A1889,'Analyse S'!A:D,2,FALSE)","v":{"$error":"#N/A"}}]
[null,null,{"$f":"VLOOKUP(A1890,'Analyse S'!A:D,2,FALSE)","v":{"$error":"#N/A"}}]
[null,null,{"$f":"VLOOKUP(A1891,'Analyse S'!A:D,2,FALSE)","v":{"$error":"#N/A"}}]
[null,null,{"$f":"VLOOKUP(A1892,'Analyse S'!A:D,2,FALSE)","v":{"$error":"#N/A"}}]
[null,null,{"$f":"VLOOKUP(A1893,'Analyse S'!A:D,2,FALSE)","v":{"$error":"#N/A"}}]
[null,null,{"$f":"VLOOKUP(A1894,'Analyse S'!A:D,2,FALSE)","v":{"$error":"#N/A"}}]
[null,null,{"$f":"VLOOKUP(A1895,'Analyse S'!A:D,2,FALSE)","v":{"$error":"#N/A"}}]
[null,null,{"$f":"VLOOKUP(A1896,'Analyse S'!A:D,2,FALSE)","v":{"$error":"#N/A"}}]
[null,null,{"$f":"VLOOKUP(A1897,'Analyse S'!A:D,2,FALSE)","v":{"$error":"#N/A"}}]
[null,null,{"$f":"VLOOKUP(A1898,'Analyse S'!A:D,2,FALSE)","v":{"$error":"#N/A"}}]
[null,null,{"$f":"VLOOKUP(A1899,'Analyse S'!A:D,2,FALSE)","v":{"$error":"#N/A"}}]
[null,null,{"$f":"VLOOKUP(A1900,'Analyse S'!A:D,2,FALSE)","v":{"$error":"#N/A"}}]
[null,null,{"$f":"VLOOKUP(A1901,'Analyse S'!A:D,2,FALSE)","v":{"$error":"#N/A"}}]
[null,null,{"$f":"VLOOKUP(A1902,'Analyse S'!A:D,2,FALSE)","v":{"$error":"#N/A"}}]
[null,null,{"$f":"VLOOKUP(A1903,'Analyse S'!A:D,2,FALSE)","v":{"$error":"#N/A"}}]
[null,null,{"$f":"VLOOKUP(A1904,'Analyse S'!A:D,2,FALSE)","v":{"$error":"#N/A"}}]
[null,null,{"$f":"VLOOKUP(A1905,'Analyse S'!A:D,2,FALSE)","v":{"$error":"#N/A"}}]
[null,null,{"$f":"VLOOKUP(A1906,'Analyse S'!A:D,2,FALSE)","v":{"$error":"#N/A"}}]
[null,null,{"$f":"VLOOKUP(A1907,'Analyse S'!A:D,2,FALSE)","v":{"$error":"#N/A"}}]
[null,null,{"$f":"VLOOKUP(A1908,'Analyse S'!A:D,2,FALSE)","v":{"$error":"#N/A"}}]
[null,null,{"$f":"VLOOKUP(A1909,'Analyse S'!A:D,2,FALSE)","v":{"$error":"#N/A"}}]
[null,null,{"$f":"VLOOKUP(A1910,'Analyse S'!A:D,2,FALSE)","v":{"$error":"#N/A"}}]
[null,null,{"$f":"VLOOKUP(A1911,'Analyse S'!A:D,2,FALSE)","v":{"$error":"#N/A"}}]
[null,null,{"$f":"VLOOKUP(A1912,'Analyse S'!A:D,2,FALSE)","v":{"$error":"#N/A"}}]
[null,null,{"$f":"VLOOKUP(A1913,'Analyse S'!A:D,2,FALSE)","v":{"$error":"#N/A"}}]
[null,null,{"$f":"VLOOKUP(A1914,'Analyse S'!A:D,2,FALSE)","v":{"$error":"#N/A"}}]
[null,null,{"$f":"VLOOKUP(A1915,'Analyse S'!A:D,2,FALSE)","v":{"$error":"#N/A"}}]
[null,null,{"$f":"VLOOKUP(A1916,'Analyse S'!A:D,2,FALSE)","v":{"$error":"#N/A"}}]
[null,null,{"$f":"VLOOKUP(A1917,'Analyse S'!A:D,2,FALSE)","v":{"$error":"#N/A"}}]
[null,null,{"$f":"VLOOKUP(A1918,'Analyse S'!A:D,2,FALSE)","v":{"$error":"#N/A"}}]
[null,null,{"$f":"VLOOKUP(A1919,'Analyse S'!A:D,2,FALSE)","v":{"$error":"#N/A"}}]
[null,null,{"$f":"VLOOKUP(A1920,'Analyse S'!A:D,2,FALSE)","v":{"$error":"#N/A"}}]
[null,null,{"$f":"VLOOKUP(A1921,'Analyse S'!A:D,2,FALSE)","v":{"$error":"#N/A"}}]
[null,null,{"$f":"VLOOKUP(A1922,'Analyse S'!A:D,2,FALSE)","v":{"$error":"#N/A"}}]
[null,null,{"$f":"VLOOKUP(A1923,'Analyse S'!A:D,2,FALSE)","v":{"$error":"#N/A"}}]
[null,null,{"$f":"VLOOKUP(A1924,'Analyse S'!A:D,2,FALSE)","v":{"$error":"#N/A"}}]
[null,null,{"$f":"VLOOKUP(A1925,'Analyse S'!A:D,2,FALSE)","v":{"$error":"#N/A"}}]
[null,null,{"$f":"VLOOKUP(A1926,'Analyse S'!A:D,2,FALSE)","v":{"$error":"#N/A"}}]
[null,null,{"$f":"VLOOKUP(A1927,'Analyse S'!A:D,2,FALSE)","v":{"$error":"#N/A"}}]
[null,null,{"$f":"VLOOKUP(A1928,'Analyse S'!A:D,2,FALSE)","v":{"$error":"#N/A"}}]
[null,null,{"$f":"VLOOKUP(A1929,'Analyse S'!A:D,2,FALSE)","v":{"$error":"#N/A"}}]
[null,null,{"$f":"VLOOKUP(A1930,'Analyse S'!A:D,2,FALSE)","v":{"$error":"#N/A"}}]
[null,null,{"$f":"VLOOKUP(A1931,'Analyse S'!A:D,2,FALSE)","v":{"$error":"#N/A"}}]
[null,null,{"$f":"VLOOKUP(A1932,'Analyse S'!A:D,2,FALSE)","v":{"$error":"#N/A"}}]
[null,null,{"$f":"VLOOKUP(A1933,'Analyse S'!A:D,2,FALSE)","v":{"$error":"#N/A"}}]
[null,null,{"$f":"VLOOKUP(A1934,'Analyse S'!A:D,2,FALSE)","v":{"$error":"#N/A"}}]
[null,null,{"$f":"VLOOKUP(A1935,'Analyse S'!A:D,2,FALSE)","v":{"$error":"#N/A"}}]
[null,null,{"$f":"VLOOKUP(A1936,'Analyse S'!A:D,2,FALSE)","v":{"$error":"#N/A"}}]
[null,null,{"$f":"VLOOKUP(A1937,'Analyse S'!A:D,2,FALSE)","v":{"$error":"#N/A"}}]
[null,null,{"$f":"VLOOKUP(A1938,'Analyse S'!A:D,2,FALSE)","v":{"$error":"#N/A"}}]
[null,null,{"$f":"VLOOKUP(A1939,'Analyse S'!A:D,2,FALSE)","v":{"$error":"#N/A"}}]
[null,null,{"$f":"VLOOKUP(A1940,'Analyse S'!A:D,2,FALSE)","v":{"$error":"#N/A"}}]
[null,null,{"$f":"VLOOKUP(A1941,'Analyse S'!A:D,2,FALSE)","v":{"$error":"#N/A"}}]
[null,null,{"$f":"VLOOKUP(A1942,'Analyse S'!A:D,2,FALSE)","v":{"$error":"#N/A"}}]
[null,null,{"$f":"VLOOKUP(A1943,'Analyse S'!A:D,2,FALSE)","v":{"$error":"#N/A"}}]
[null,null,{"$f":"VLOOKUP(A1944,'Analyse S'!A:D,2,FALSE)","v":{"$error":"#N/A"}}]
[null,null,{"$f":"VLOOKUP(A1945,'Analyse S'!A:D,2,FALSE)","v":{"$error":"#N/A"}}]
[null,null,{"$f":"VLOOKUP(A1946,'Analyse S'!A:D,2,FALSE)","v":{"$error":"#N/A"}}]
[null,null,{"$f":"VLOOKUP(A1947,'Analyse S'!A:D,2,FALSE)","v":{"$error":"#N/A"}}]
[null,null,{"$f":"VLOOKUP(A1948,'Analyse S'!A:D,2,FALSE)","v":{"$error":"#N/A"}}]
[null,null,{"$f":"VLOOKUP(A1949,'Analyse S'!A:D,2,FALSE)","v":{"$error":"#N/A"}}]
[null,null,{"$f":"VLOOKUP(A1950,'Analyse S'!A:D,2,FALSE)","v":{"$error":"#N/A"}}]
[null,null,{"$f":"VLOOKUP(A1951,'Analyse S'!A:D,2,FALSE)","v":{"$error":"#N/A"}}]
[null,null,{"$f":"VLOOKUP(A1952,'Analyse S'!A:D,2,FALSE)","v":{"$error":"#N/A"}}]
[null,null,{"$f":"VLOOKUP(A1953,'Analyse S'!A:D,2,FALSE)","v":{"$error":"#N/A"}}]
[null,null,{"$f":"VLOOKUP(A1954,'Analyse S'!A:D,2,FALSE)","v":{"$error":"#N/A"}}]
[null,null,{"$f":"VLOOKUP(A1955,'Analyse S'!A:D,2,FALSE)","v":{"$error":"#N/A"}}]
[null,null,{"$f":"VLOOKUP(A1956,'Analyse S'!A:D,2,FALSE)","v":{"$error":"#N/A"}}]
[null,null,{"$f":"VLOOKUP(A1957,'Analyse S'!A:D,2,FALSE)","v":{"$error":"#N/A"}}]
[null,null,{"$f":"VLOOKUP(A1958,'Analyse S'!A:D,2,FALSE)","v":{"$error":"#N/A"}}]
[null,null,{"$f":"VLOOKUP(A1959,'Analyse S'!A:D,2,FALSE)","v":{"$error":"#N/A"}}]
[null,null,{"$f":"VLOOKUP(A1960,'Analyse S'!A:D,2,FALSE)","v":{"$error":"#N/A"}}]
[null,null,{"$f":"VLOOKUP(A1961,'Analyse S'!A:D,2,FALSE)","v":{"$error":"#N/A"}}]
[null,null,{"$f":"VLOOKUP(A1962,'Analyse S'!A:D,2,FALSE)","v":{"$error":"#N/A"}}]
[null,null,{"$f":"VLOOKUP(A1963,'Analyse S'!A:D,2,FALSE)","v":{"$error":"#N/A"}}]
[null,null,{"$f":"VLOOKUP(A1964,'Analyse S'!A:D,2,FALSE)","v":{"$error":"#N/A"}}]
[null,null,{"$f":"VLOOKUP(A1965,'Analyse S'!A:D,2,FALSE)","v":{"$error":"#N/A"}}]
[null,null,{"$f":"VLOOKUP(A1966,'Analyse S'!A:D,2,FALSE)","v":{"$error":"#N/A"}}]
[null,null,{"$f":"VLOOKUP(A1967,'Analyse S'!A:D,2,FALSE)","v":{"$error":"#N/A"}}]
[null,null,{"$f":"VLOOKUP(A1968,'Analyse S'!A:D,2,FALSE)","v":{"$error":"#N/A"}}]
[null,null,{"$f":"VLOOKUP(A1969,'Analyse S'!A:D,2,FALSE)","v":{"$error":"#N/A"}}]
[null,null,{"$f":"VLOOKUP(A1970,'Analyse S'!A:D,2,FALSE)","v":{"$error":"#N/A"}}]
[null,null,{"$f":"VLOOKUP(A1971,'Analyse S'!A:D,2,FALSE)","v":{"$error":"#N/A"}}]
[null,null,{"$f":"VLOOKUP(A1972,'Analyse S'!A:D,2,FALSE)","v":{"$error":"#N/A"}}]
[null,null,{"$f":"VLOOKUP(A1973,'Analyse S'!A:D,2,FALSE)","v":{"$error":"#N/A"}}]
[null,null,{"$f":"VLOOKUP(A1974,'Analyse S'!A:D,2,FALSE)","v":{"$error":"#N/A"}}]
[null,null,{"$f":"VLOOKUP(A1975,'Analyse S'!A:D,2,FALSE)","v":{"$error":"#N/A"}}]
[null,null,{"$f":"VLOOKUP(A1976,'Analyse S'!A:D,2,FALSE)","v":{"$error":"#N/A"}}]
[null,null,{"$f":"VLOOKUP(A1977,'Analyse S'!A:D,2,FALSE)","v":{"$error":"#N/A"}}]
[null,null,{"$f":"VLOOKUP(A1978,'Analyse S'!A:D,2,FALSE)","v":{"$error":"#N/A"}}]
[null,null,{"$f":"VLOOKUP(A1979,'Analyse S'!A:D,2,FALSE)","v":{"$error":"#N/A"}}]
[null,null,{"$f":"VLOOKUP(A1980,'Analyse S'!A:D,2,FALSE)","v":{"$error":"#N/A"}}]
[null,null,{"$f":"VLOOKUP(A1981,'Analyse S'!A:D,2,FALSE)","v":{"$error":"#N/A"}}]
[null,null,{"$f":"VLOOKUP(A1982,'Analyse S'!A:D,2,FALSE)","v":{"$error":"#N/A"}}]
[null,null,{"$f":"VLOOKUP(A1983,'Analyse S'!A:D,2,FALSE)","v":{"$error":"#N/A"}}]
[null,null,{"$f":"VLOOKUP(A1984,'Analyse S'!A:D,2,FALSE)","v":{"$error":"#N/A"}}]
[null,null,{"$f":"VLOOKUP(A1985,'Analyse S'!A:D,2,FALSE)","v":{"$error":"#N/A"}}]
[null,null,{"$f":"VLOOKUP(A1986,'Analyse S'!A:D,2,FALSE)","v":{"$error":"#N/A"}}]
[null,null,{"$f":"VLOOKUP(A1987,'Analyse S'!A:D,2,FALSE)","v":{"$error":"#N/A"}}]
[null,null,{"$f":"VLOOKUP(A1988,'Analyse S'!A:D,2,FALSE)","v":{"$error":"#N/A"}}]
[null,null,{"$f":"VLOOKUP(A1989,'Analyse S'!A:D,2,FALSE)","v":{"$error":"#N/A"}}]
[null,null,{"$f":"VLOOKUP(A1990,'Analyse S'!A:D,2,FALSE)","v":{"$error":"#N/A"}}]
[null,null,{"$f":"VLOOKUP(A1991,'Analyse S'!A:D,2,FALSE)","v":{"$error":"#N/A"}}]
[null,null,{"$f":"VLOOKUP(A1992,'Analyse S'!A:D,2,FALSE)","v":{"$error":"#N/A"}}]
[null,null,{"$f":"VLOOKUP(A1993,'Analyse S'!A:D,2,FALSE)","v":{"$error":"#N/A"}}]
[null,null,{"$f":"VLOOKUP(A1994,'Analyse S'!A:D,2,FALSE)","v":{"$error":"#N/A"}}]
[null,null,{"$f":"VLOOKUP(A1995,'Analyse S'!A:D,2,FALSE)","v":{"$error":"#N/A"}}]
[null,null,{"$f":"VLOOKUP(A1996,'Analyse S'!A:D,2,FALSE)","v":{"$error":"#N/A"}}]
[null,null,{"$f":"VLOOKUP(A1997,'Analyse S'!A:D,2,FALSE)","v":{"$error":"#N/A"}}]
[null,null,{"$f":"VLOOKUP(A1998,'Analyse S'!A:D,2,FALSE)","v":{"$error":"#N/A"}}]
[null,null,{"$f":"VLOOKUP(A1999,'Analyse S'!A:D,2,FALSE)","v":{"$error":"#N/A"}}]
[null,null,{"$f":"VLOOKUP(A2000,'Analyse S'!A:D,2,FALSE)","v":{"$error":"#N/A"}}]
[null,null,{"$f":"VLOOKUP(A2001,'Analyse S'!A:D,2,FALSE)","v":{"$error":"#N/A"}}]
[null,null,{"$f":"VLOOKUP(A2002,'Analyse S'!A:D,2,FALSE)","v":{"$error":"#N/A"}}]
[null,null,{"$f":"VLOOKUP(A2003,'Analyse S'!A:D,2,FALSE)","v":{"$error":"#N/A"}}]
[null,null,{"$f":"VLOOKUP(A2004,'Analyse S'!A:D,2,FALSE)","v":{"$error":"#N/A"}}]
[null,null,{"$f":"VLOOKUP(A2005,'Analyse S'!A:D,2,FALSE)","v":{"$error":"#N/A"}}]
[null,null,{"$f":"VLOOKUP(A2006,'Analyse S'!A:D,2,FALSE)","v":{"$error":"#N/A"}}]
[null,null,{"$f":"VLOOKUP(A2007,'Analyse S'!A:D,2,FALSE)","v":{"$error":"#N/A"}}]
[null,null,{"$f":"VLOOKUP(A2008,'Analyse S'!A:D,2,FALSE)","v":{"$error":"#N/A"}}]
[null,null,{"$f":"VLOOKUP(A2009,'Analyse S'!A:D,2,FALSE)","v":{"$error":"#N/A"}}]
[null,null,{"$f":"VLOOKUP(A2010,'Analyse S'!A:D,2,FALSE)","v":{"$error":"#N/A"}}]
[null,null,{"$f":"VLOOKUP(A2011,'Analyse S'!A:D,2,FALSE)","v":{"$error":"#N/A"}}]
[null,null,{"$f":"VLOOKUP(A2012,'Analyse S'!A:D,2,FALSE)","v":{"$error":"#N/A"}}]
[null,null,{"$f":"VLOOKUP(A2013,'Analyse S'!A:D,2,FALSE)","v":{"$error":"#N/A"}}]
[null,null,{"$f":"VLOOKUP(A2014,'Analyse S'!A:D,2,FALSE)","v":{"$error":"#N/A"}}]
[null,null,{"$f":"VLOOKUP(A2015,'Analyse S'!A:D,2,FALSE)","v":{"$error":"#N/A"}}]
[null,null,{"$f":"VLOOKUP(A2016,'Analyse S'!A:D,2,FALSE)","v":{"$error":"#N/A"}}]
[null,null,{"$f":"VLOOKUP(A2017,'Analyse S'!A:D,2,FALSE)","v":{"$error":"#N/A"}}]
[null,null,{"$f":"VLOOKUP(A2018,'Analyse S'!A:D,2,FALSE)","v":{"$error":"#N/A"}}]
[null,null,{"$f":"VLOOKUP(A2019,'Analyse S'!A:D,2,FALSE)","v":{"$error":"#N/A"}}]
[null,null,{"$f":"VLOOKUP(A2020,'Analyse S'!A:D,2,FALSE)","v":{"$error":"#N/A"}}]
[null,null,{"$f":"VLOOKUP(A2021,'Analyse S'!A:D,2,FALSE)","v":{"$error":"#N/A"}}]
[null,null,{"$f":"VLOOKUP(A2022,'Analyse S'!A:D,2,FALSE)","v":{"$error":"#N/A"}}]
[null,null,{"$f":"VLOOKUP(A2023,'Analyse S'!A:D,2,FALSE)","v":{"$error":"#N/A"}}]
[null,null,{"$f":"VLOOKUP(A2024,'Analyse S'!A:D,2,FALSE)","v":{"$error":"#N/A"}}]
[null,null,{"$f":"VLOOKUP(A2025,'Analyse S'!A:D,2,FALSE)","v":{"$error":"#N/A"}}]
[null,null,{"$f":"VLOOKUP(A2026,'Analyse S'!A:D,2,FALSE)","v":{"$error":"#N/A"}}]
[null,null,{"$f":"VLOOKUP(A2027,'Analyse S'!A:D,2,FALSE)","v":{"$error":"#N/A"}}]
[null,null,{"$f":"VLOOKUP(A2028,'Analyse S'!A:D,2,FALSE)","v":{"$error":"#N/A"}}]
[null,null,{"$f":"VLOOKUP(A2029,'Analyse S'!A:D,2,FALSE)","v":{"$error":"#N/A"}}]
[null,null,{"$f":"VLOOKUP(A2030,'Analyse S'!A:D,2,FALSE)","v":{"$error":"#N/A"}}]
[null,null,{"$f":"VLOOKUP(A2031,'Analyse S'!A:D,2,FALSE)","v":{"$error":"#N/A"}}]
[null,null,{"$f":"VLOOKUP(A2032,'Analyse S'!A:D,2,FALSE)","v":{"$error":"#N/A"}}]
[null,null,{"$f":"VLOOKUP(A2033,'Analyse S'!A:D,2,FALSE)","v":{"$error":"#N/A"}}]
[null,null,{"$f":"VLOOKUP(A2034,'Analyse S'!A:D,2,FALSE)","v":{"$error":"#N/A"}}]
[null,null,{"$f":"VLOOKUP(A2035,'Analyse S'!A:D,2,FALSE)","v":{"$error":"#N/A"}}]
[null,null,{"$f":"VLOOKUP(A2036,'Analyse S'!A:D,2,FALSE)","v":{"$error":"#N/A"}}]
[null,null,{"$f":"VLOOKUP(A2037,'Analyse S'!A:D,2,FALSE)","v":{"$error":"#N/A"}}]
[null,null,{"$f":"VLOOKUP(A2038,'Analyse S'!A:D,2,FALSE)","v":{"$error":"#N/A"}}]
[null,null,{"$f":"VLOOKUP(A2039,'Analyse S'!A:D,2,FALSE)","v":{"$error":"#N/A"}}]
[null,null,{"$f":"VLOOKUP(A2040,'Analyse S'!A:D,2,FALSE)","v":{"$error":"#N/A"}}]
[null,null,{"$f":"VLOOKUP(A2041,'Analyse S'!A:D,2,FALSE)","v":{"$error":"#N/A"}}]
[null,null,{"$f":"VLOOKUP(A2042,'Analyse S'!A:D,2,FALSE)","v":{"$error":"#N/A"}}]
[null,null,{"$f":"VLOOKUP(A2043,'Analyse S'!A:D,2,FALSE)","v":{"$error":"#N/A"}}]
[null,null,{"$f":"VLOOKUP(A2044,'Analyse S'!A:D,2,FALSE)","v":{"$error":"#N/A"}}]
[null,null,{"$f":"VLOOKUP(A2045,'Analyse S'!A:D,2,FALSE)","v":{"$error":"#N/A"}}]
[null,null,{"$f":"VLOOKUP(A2046,'Analyse S'!A:D,2,FALSE)","v":{"$error":"#N/A"}}]
[null,null,{"$f":"VLOOKUP(A2047,'Analyse S'!A:D,2,FALSE)","v":{"$error":"#N/A"}}]
[null,null,{"$f":"VLOOKUP(A2048,'Analyse S'!A:D,2,FALSE)","v":{"$error":"#N/A"}}]
[null,null,{"$f":"VLOOKUP(A2049,'Analyse S'!A:D,2,FALSE)","v":{"$error":"#N/A"}}]
[null,null,{"$f":"VLOOKUP(A2050,'Analyse S'!A:D,2,FALSE)","v":{"$error":"#N/A"}}]
[null,null,{"$f":"VLOOKUP(A2051,'Analyse S'!A:D,2,FALSE)","v":{"$error":"#N/A"}}]
[null,null,{"$f":"VLOOKUP(A2052,'Analyse S'!A:D,2,FALSE)","v":{"$error":"#N/A"}}]
[null,null,{"$f":"VLOOKUP(A2053,'Analyse S'!A:D,2,FALSE)","v":{"$error":"#N/A"}}]
[null,null,{"$f":"VLOOKUP(A2054,'Analyse S'!A:D,2,FALSE)","v":{"$error":"#N/A"}}]
[null,null,{"$f":"VLOOKUP(A2055,'Analyse S'!A:D,2,FALSE)","v":{"$error":"#N/A"}}]
[null,null,{"$f":"VLOOKUP(A2056,'Analyse S'!A:D,2,FALSE)","v":{"$error":"#N/A"}}]
[null,null,{"$f":"VLOOKUP(A2057,'Analyse S'!A:D,2,FALSE)","v":{"$error":"#N/A"}}]
[null,null,{"$f":"VLOOKUP(A2058,'Analyse S'!A:D,2,FALSE)","v":{"$error":"#N/A"}}]
[null,null,{"$f":"VLOOKUP(A2059,'Analyse S'!A:D,2,FALSE)","v":{"$error":"#N/A"}}]
[null,null,{"$f":"VLOOKUP(A2060,'Analyse S'!A:D,2,FALSE)","v":{"$error":"#N/A"}}]
[null,null,{"$f":"VLOOKUP(A2061,'Analyse S'!A:D,2,FALSE)","v":{"$error":"#N/A"}}]
[null,null,{"$f":"VLOOKUP(A2062,'Analyse S'!A:D,2,FALSE)","v":{"$error":"#N/A"}}]
[null,null,{"$f":"VLOOKUP(A2063,'Analyse S'!A:D,2,FALSE)","v":{"$error":"#N/A"}}]
[null,null,{"$f":"VLOOKUP(A2064,'Analyse S'!A:D,2,FALSE)","v":{"$error":"#N/A"}}]
[null,null,{"$f":"VLOOKUP(A2065,'Analyse S'!A:D,2,FALSE)","v":{"$error":"#N/A"}}]
[null,null,{"$f":"VLOOKUP(A2066,'Analyse S'!A:D,2,FALSE)","v":{"$error":"#N/A"}}]
[null,null,{"$f":"VLOOKUP(A2067,'Analyse S'!A:D,2,FALSE)","v":{"$error":"#N/A"}}]
[null,null,{"$f":"VLOOKUP(A2068,'Analyse S'!A:D,2,FALSE)","v":{"$error":"#N/A"}}]
[null,null,{"$f":"VLOOKUP(A2069,'Analyse S'!A:D,2,FALSE)","v":{"$error":"#N/A"}}]
[null,null,{"$f":"VLOOKUP(A2070,'Analyse S'!A:D,2,FALSE)","v":{"$error":"#N/A"}}]
[null,null,{"$f":"VLOOKUP(A2071,'Analyse S'!A:D,2,FALSE)","v":{"$error":"#N/A"}}]
[null,null,{"$f":"VLOOKUP(A2072,'Analyse S'!A:D,2,FALSE)","v":{"$error":"#N/A"}}]
[null,null,{"$f":"VLOOKUP(A2073,'Analyse S'!A:D,2,FALSE)","v":{"$error":"#N/A"}}]
[null,null,{"$f":"VLOOKUP(A2074,'Analyse S'!A:D,2,FALSE)","v":{"$error":"#N/A"}}]
[null,null,{"$f":"VLOOKUP(A2075,'Analyse S'!A:D,2,FALSE)","v":{"$error":"#N/A"}}]
[null,null,{"$f":"VLOOKUP(A2076,'Analyse S'!A:D,2,FALSE)","v":{"$error":"#N/A"}}]
[null,null,{"$f":"VLOOKUP(A2077,'Analyse S'!A:D,2,FALSE)","v":{"$error":"#N/A"}}]
[null,null,{"$f":"VLOOKUP(A2078,'Analyse S'!A:D,2,FALSE)","v":{"$error":"#N/A"}}]
[null,null,{"$f":"VLOOKUP(A2079,'Analyse S'!A:D,2,FALSE)","v":{"$error":"#N/A"}}]
[null,null,{"$f":"VLOOKUP(A2080,'Analyse S'!A:D,2,FALSE)","v":{"$error":"#N/A"}}]
[null,null,{"$f":"VLOOKUP(A2081,'Analyse S'!A:D,2,FALSE)","v":{"$error":"#N/A"}}]
[null,null,{"$f":"VLOOKUP(A2082,'Analyse S'!A:D,2,FALSE)","v":{"$error":"#N/A"}}]
[null,null,{"$f":"VLOOKUP(A2083,'Analyse S'!A:D,2,FALSE)","v":{"$error":"#N/A"}}]
[null,null,{"$f":"VLOOKUP(A2084,'Analyse S'!A:D,2,FALSE)","v":{"$error":"#N/A"}}]
[null,null,{"$f":"VLOOKUP(A2085,'Analyse S'!A:D,2,FALSE)","v":{"$error":"#N/A"}}]
[null,null,{"$f":"VLOOKUP(A2086,'Analyse S'!A:D,2,FALSE)","v":{"$error":"#N/A"}}]
[null,null,{"$f":"VLOOKUP(A2087,'Analyse S'!A:D,2,FALSE)","v":{"$error":"#N/A"}}]
[null,null,{"$f":"VLOOKUP(A2088,'Analyse S'!A:D,2,FALSE)","v":{"$error":"#N/A"}}]
[null,null,{"$f":"VLOOKUP(A2089,'Analyse S'!A:D,2,FALSE)","v":{"$error":"#N/A"}}]
[null,null,{"$f":"VLOOKUP(A2090,'Analyse S'!A:D,2,FALSE)","v":{"$error":"#N/A"}}]
[null,null,{"$f":"VLOOKUP(A2091,'Analyse S'!A:D,2,FALSE)","v":{"$error":"#N/A"}}]
[null,null,{"$f":"VLOOKUP(A2092,'Analyse S'!A:D,2,FALSE)","v":{"$error":"#N/A"}}]
[null,null,{"$f":"VLOOKUP(A2093,'Analyse S'!A:D,2,FALSE)","v":{"$error":"#N/A"}}]
[null,null,{"$f":"VLOOKUP(A2094,'Analyse S'!A:D,2,FALSE)","v":{"$error":"#N/A"}}]
[null,null,{"$f":"VLOOKUP(A2095,'Analyse S'!A:D,2,FALSE)","v":{"$error":"#N/A"}}]
[null,null,{"$f":"VLOOKUP(A2096,'Analyse S'!A:D,2,FALSE)","v":{"$error":"#N/A"}}]
[null,null,{"$f":"VLOOKUP(A2097,'Analyse S'!A:D,2,FALSE)","v":{"$error":"#N/A"}}]
[null,null,{"$f":"VLOOKUP(A2098,'Analyse S'!A:D,2,FALSE)","v":{"$error":"#N/A"}}]
[null,null,{"$f":"VLOOKUP(A2099,'Analyse S'!A:D,2,FALSE)","v":{"$error":"#N/A"}}]
[null,null,{"$f":"VLOOKUP(A2100,'Analyse S'!A:D,2,FALSE)","v":{"$error":"#N/A"}}]
[null,null,{"$f":"VLOOKUP(A2101,'Analyse S'!A:D,2,FALSE)","v":{"$error":"#N/A"}}]
[null,null,{"$f":"VLOOKUP(A2102,'Analyse S'!A:D,2,FALSE)","v":{"$error":"#N/A"}}]
[null,null,{"$f":"VLOOKUP(A2103,'Analyse S'!A:D,2,FALSE)","v":{"$error":"#N/A"}}]
[null,null,{"$f":"VLOOKUP(A2104,'Analyse S'!A:D,2,FALSE)","v":{"$error":"#N/A"}}]
[null,null,{"$f":"VLOOKUP(A2105,'Analyse S'!A:D,2,FALSE)","v":{"$error":"#N/A"}}]
[null,null,{"$f":"VLOOKUP(A2106,'Analyse S'!A:D,2,FALSE)","v":{"$error":"#N/A"}}]
[null,null,{"$f":"VLOOKUP(A2107,'Analyse S'!A:D,2,FALSE)","v":{"$error":"#N/A"}}]
[null,null,{"$f":"VLOOKUP(A2108,'Analyse S'!A:D,2,FALSE)","v":{"$error":"#N/A"}}]
[null,null,{"$f":"VLOOKUP(A2109,'Analyse S'!A:D,2,FALSE)","v":{"$error":"#N/A"}}]
[null,null,{"$f":"VLOOKUP(A2110,'Analyse S'!A:D,2,FALSE)","v":{"$error":"#N/A"}}]
[null,null,{"$f":"VLOOKUP(A2111,'Analyse S'!A:D,2,FALSE)","v":{"$error":"#N/A"}}]
[null,null,{"$f":"VLOOKUP(A2112,'Analyse S'!A:D,2,FALSE)","v":{"$error":"#N/A"}}]
[null,null,{"$f":"VLOOKUP(A2113,'Analyse S'!A:D,2,FALSE)","v":{"$error":"#N/A"}}]
[null,null,{"$f":"VLOOKUP(A2114,'Analyse S'!A:D,2,FALSE)","v":{"$error":"#N/A"}}]
[null,null,{"$f":"VLOOKUP(A2115,'Analyse S'!A:D,2,FALSE)","v":{"$error":"#N/A"}}]
[null,null,{"$f":"VLOOKUP(A2116,'Analyse S'!A:D,2,FALSE)","v":{"$error":"#N/A"}}]
[null,null,{"$f":"VLOOKUP(A2117,'Analyse S'!A:D,2,FALSE)","v":{"$error":"#N/A"}}]
[null,null,{"$f":"VLOOKUP(A2118,'Analyse S'!A:D,2,FALSE)","v":{"$error":"#N/A"}}]
[null,null,{"$f":"VLOOKUP(A2119,'Analyse S'!A:D,2,FALSE)","v":{"$error":"#N/A"}}]
[null,null,{"$f":"VLOOKUP(A2120,'Analyse S'!A:D,2,FALSE)","v":{"$error":"#N/A"}}]
[null,null,{"$f":"VLOOKUP(A2121,'Analyse S'!A:D,2,FALSE)","v":{"$error":"#N/A"}}]
[null,null,{"$f":"VLOOKUP(A2122,'Analyse S'!A:D,2,FALSE)","v":{"$error":"#N/A"}}]
[null,null,{"$f":"VLOOKUP(A2123,'Analyse S'!A:D,2,FALSE)","v":{"$error":"#N/A"}}]
[null,null,{"$f":"VLOOKUP(A2124,'Analyse S'!A:D,2,FALSE)","v":{"$error":"#N/A"}}]
[null,null,{"$f":"VLOOKUP(A2125,'Analyse S'!A:D,2,FALSE)","v":{"$error":"#N/A"}}]
[null,null,{"$f":"VLOOKUP(A2126,'Analyse S'!A:D,2,FALSE)","v":{"$error":"#N/A"}}]
[null,null,{"$f":"VLOOKUP(A2127,'Analyse S'!A:D,2,FALSE)","v":{"$error":"#N/A"}}]
[null,null,{"$f":"VLOOKUP(A2128,'Analyse S'!A:D,2,FALSE)","v":{"$error":"#N/A"}}]
[null,null,{"$f":"VLOOKUP(A2129,'Analyse S'!A:D,2,FALSE)","v":{"$error":"#N/A"}}]
[null,null,{"$f":"VLOOKUP(A2130,'Analyse S'!A:D,2,FALSE)","v":{"$error":"#N/A"}}]
[null,null,{"$f":"VLOOKUP(A2131,'Analyse S'!A:D,2,FALSE)","v":{"$error":"#N/A"}}]
[null,null,{"$f":"VLOOKUP(A2132,'Analyse S'!A:D,2,FALSE)","v":{"$error":"#N/A"}}]
[null,null,{"$f":"VLOOKUP(A2133,'Analyse S'!A:D,2,FALSE)","v":{"$error":"#N/A"}}]
[null,null,{"$f":"VLOOKUP(A2134,'Analyse S'!A:D,2,FALSE)","v":{"$error":"#N/A"}}]
[null,null,{"$f":"VLOOKUP(A2135,'Analyse S'!A:D,2,FALSE)","v":{"$error":"#N/A"}}]
[null,null,{"$f":"VLOOKUP(A2136,'Analyse S'!A:D,2,FALSE)","v":{"$error":"#N/A"}}]
[null,null,{"$f":"VLOOKUP(A2137,'Analyse S'!A:D,2,FALSE)","v":{"$error":"#N/A"}}]
[null,null,{"$f":"VLOOKUP(A2138,'Analyse S'!A:D,2,FALSE)","v":{"$error":"#N/A"}}]
[null,null,{"$f":"VLOOKUP(A2139,'Analyse S'!A:D,2,FALSE)","v":{"$error":"#N/A"}}]
[null,null,{"$f":"VLOOKUP(A2140,'Analyse S'!A:D,2,FALSE)","v":{"$error":"#N/A"}}]
[null,null,{"$f":"VLOOKUP(A2141,'Analyse S'!A:D,2,FALSE)","v":{"$error":"#N/A"}}]
[null,null,{"$f":"VLOOKUP(A2142,'Analyse S'!A:D,2,FALSE)","v":{"$error":"#N/A"}}]
[null,null,{"$f":"VLOOKUP(A2143,'Analyse S'!A:D,2,FALSE)","v":{"$error":"#N/A"}}]
[null,null,{"$f":"VLOOKUP(A2144,'Analyse S'!A:D,2,FALSE)","v":{"$error":"#N/A"}}]
[null,null,{"$f":"VLOOKUP(A2145,'Analyse S'!A:D,2,FALSE)","v":{"$error":"#N/A"}}]
[null,null,{"$f":"VLOOKUP(A2146,'Analyse S'!A:D,2,FALSE)","v":{"$error":"#N/A"}}]
[null,null,{"$f":"VLOOKUP(A2147,'Analyse S'!A:D,2,FALSE)","v":{"$error":"#N/A"}}]
[null,null,{"$f":"VLOOKUP(A2148,'Analyse S'!A:D,2,FALSE)","v":{"$error":"#N/A"}}]
[null,null,{"$f":"VLOOKUP(A2149,'Analyse S'!A:D,2,FALSE)","v":{"$error":"#N/A"}}]
[null,null,{"$f":"VLOOKUP(A2150,'Analyse S'!A:D,2,FALSE)","v":{"$error":"#N/A"}}]
[null,null,{"$f":"VLOOKUP(A2151,'Analyse S'!A:D,2,FALSE)","v":{"$error":"#N/A"}}]
[null,null,{"$f":"VLOOKUP(A2152,'Analyse S'!A:D,2,FALSE)","v":{"$error":"#N/A"}}]
[null,null,{"$f":"VLOOKUP(A2153,'Analyse S'!A:D,2,FALSE)","v":{"$error":"#N/A"}}]
[null,null,{"$f":"VLOOKUP(A2154,'Analyse S'!A:D,2,FALSE)","v":{"$error":"#N/A"}}]
[null,null,{"$f":"VLOOKUP(A2155,'Analyse S'!A:D,2,FALSE)","v":{"$error":"#N/A"}}]
[null,null,{"$f":"VLOOKUP(A2156,'Analyse S'!A:D,2,FALSE)","v":{"$error":"#N/A"}}]
[null,null,{"$f":"VLOOKUP(A2157,'Analyse S'!A:D,2,FALSE)","v":{"$error":"#N/A"}}]
[null,null,{"$f":"VLOOKUP(A2158,'Analyse S'!A:D,2,FALSE)","v":{"$error":"#N/A"}}]
[null,null,{"$f":"VLOOKUP(A2159,'Analyse S'!A:D,2,FALSE)","v":{"$error":"#N/A"}}]
[null,null,{"$f":"VLOOKUP(A2160,'Analyse S'!A:D,2,FALSE)","v":{"$error":"#N/A"}}]
[null,null,{"$f":"VLOOKUP(A2161,'Analyse S'!A:D,2,FALSE)","v":{"$error":"#N/A"}}]
[null,null,{"$f":"VLOOKUP(A2162,'Analyse S'!A:D,2,FALSE)","v":{"$error":"#N/A"}}]
[null,null,{"$f":"VLOOKUP(A2163,'Analyse S'!A:D,2,FALSE)","v":{"$error":"#N/A"}}]
[null,null,{"$f":"VLOOKUP(A2164,'Analyse S'!A:D,2,FALSE)","v":{"$error":"#N/A"}}]
[null,null,{"$f":"VLOOKUP(A2165,'Analyse S'!A:D,2,FALSE)","v":{"$error":"#N/A"}}]
[null,null,{"$f":"VLOOKUP(A2166,'Analyse S'!A:D,2,FALSE)","v":{"$error":"#N/A"}}]
[null,null,{"$f":"VLOOKUP(A2167,'Analyse S'!A:D,2,FALSE)","v":{"$error":"#N/A"}}]
[null,null,{"$f":"VLOOKUP(A2168,'Analyse S'!A:D,2,FALSE)","v":{"$error":"#N/A"}}]
[null,null,{"$f":"VLOOKUP(A2169,'Analyse S'!A:D,2,FALSE)","v":{"$error":"#N/A"}}]
[null,null,{"$f":"VLOOKUP(A2170,'Analyse S'!A:D,2,FALSE)","v":{"$error":"#N/A"}}]
[null,null,{"$f":"VLOOKUP(A2171,'Analyse S'!A:D,2,FALSE)","v":{"$error":"#N/A"}}]
[null,null,{"$f":"VLOOKUP(A2172,'Analyse S'!A:D,2,FALSE)","v":{"$error":"#N/A"}}]
[null,null,{"$f":"VLOOKUP(A2173,'Analyse S'!A:D,2,FALSE)","v":{"$error":"#N/A"}}]
[null,null,{"$f":"VLOOKUP(A2174,'Analyse S'!A:D,2,FALSE)","v":{"$error":"#N/A"}}]
[null,null,{"$f":"VLOOKUP(A2175,'Analyse S'!A:D,2,FALSE)","v":{"$error":"#N/A"}}]
[null,null,{"$f":"VLOOKUP(A2176,'Analyse S'!A:D,2,FALSE)","v":{"$error":"#N/A"}}]
[null,null,{"$f":"VLOOKUP(A2177,'Analyse S'!A:D,2,FALSE)","v":{"$error":"#N/A"}}]
[null,null,{"$f":"VLOOKUP(A2178,'Analyse S'!A:D,2,FALSE)","v":{"$error":"#N/A"}}]
[null,null,{"$f":"VLOOKUP(A2179,'Analyse S'!A:D,2,FALSE)","v":{"$error":"#N/A"}}]
[null,null,{"$f":"VLOOKUP(A2180,'Analyse S'!A:D,2,FALSE)","v":{"$error":"#N/A"}}]
[null,null,{"$f":"VLOOKUP(A2181,'Analyse S'!A:D,2,FALSE)","v":{"$error":"#N/A"}}]
[null,null,{"$f":"VLOOKUP(A2182,'Analyse S'!A:D,2,FALSE)","v":{"$error":"#N/A"}}]
[null,null,{"$f":"VLOOKUP(A2183,'Analyse S'!A:D,2,FALSE)","v":{"$error":"#N/A"}}]
[null,null,{"$f":"VLOOKUP(A2184,'Analyse S'!A:D,2,FALSE)","v":{"$error":"#N/A"}}]
[null,null,{"$f":"VLOOKUP(A2185,'Analyse S'!A:D,2,FALSE)","v":{"$error":"#N/A"}}]
[null,null,{"$f":"VLOOKUP(A2186,'Analyse S'!A:D,2,FALSE)","v":{"$error":"#N/A"}}]
[null,null,{"$f":"VLOOKUP(A2187,'Analyse S'!A:D,2,FALSE)","v":{"$error":"#N/A"}}]
[null,null,{"$f":"VLOOKUP(A2188,'Analyse S'!A:D,2,FALSE)","v":{"$error":"#N/A"}}]
[null,null,{"$f":"VLOOKUP(A2189,'Analyse S'!A:D,2,FALSE)","v":{"$error":"#N/A"}}]
[null,null,{"$f":"VLOOKUP(A2190,'Analyse S'!A:D,2,FALSE)","v":{"$error":"#N/A"}}]
[null,null,{"$f":"VLOOKUP(A2191,'Analyse S'!A:D,2,FALSE)","v":{"$error":"#N/A"}}]
[null,null,{"$f":"VLOOKUP(A2192,'Analyse S'!A:D,2,FALSE)","v":{"$error":"#N/A"}}]
[null,null,{"$f":"VLOOKUP(A2193,'Analyse S'!A:D,2,FALSE)","v":{"$error":"#N/A"}}]
[null,null,{"$f":"VLOOKUP(A2194,'Analyse S'!A:D,2,FALSE)","v":{"$error":"#N/A"}}]
[null,null,{"$f":"VLOOKUP(A2195,'Analyse S'!A:D,2,FALSE)","v":{"$error":"#N/A"}}]
[null,null,{"$f":"VLOOKUP(A2196,'Analyse S'!A:D,2,FALSE)","v":{"$error":"#N/A"}}]
[null,null,{"$f":"VLOOKUP(A2197,'Analyse S'!A:D,2,FALSE)","v":{"$error":"#N/A"}}]
[null,null,{"$f":"VLOOKUP(A2198,'Analyse S'!A:D,2,FALSE)","v":{"$error":"#N/A"}}]
[null,null,{"$f":"VLOOKUP(A2199,'Analyse S'!A:D,2,FALSE)","v":{"$error":"#N/A"}}]
[null,null,{"$f":"VLOOKUP(A2200,'Analyse S'!A:D,2,FALSE)","v":{"$error":"#N/A"}}]
[null,null,{"$f":"VLOOKUP(A2201,'Analyse S'!A:D,2,FALSE)","v":{"$error":"#N/A"}}]
[null,null,{"$f":"VLOOKUP(A2202,'Analyse S'!A:D,2,FALSE)","v":{"$error":"#N/A"}}]
[null,null,{"$f":"VLOOKUP(A2203,'Analyse S'!A:D,2,FALSE)","v":{"$error":"#N/A"}}]
[null,null,{"$f":"VLOOKUP(A2204,'Analyse S'!A:D,2,FALSE)","v":{"$error":"#N/A"}}]
[null,null,{"$f":"VLOOKUP(A2205,'Analyse S'!A:D,2,FALSE)","v":{"$error":"#N/A"}}]
[null,null,{"$f":"VLOOKUP(A2206,'Analyse S'!A:D,2,FALSE)","v":{"$error":"#N/A"}}]
[null,null,{"$f":"VLOOKUP(A2207,'Analyse S'!A:D,2,FALSE)","v":{"$error":"#N/A"}}]
[null,null,{"$f":"VLOOKUP(A2208,'Analyse S'!A:D,2,FALSE)","v":{"$error":"#N/A"}}]
[null,null,{"$f":"VLOOKUP(A2209,'Analyse S'!A:D,2,FALSE)","v":{"$error":"#N/A"}}]
[null,null,{"$f":"VLOOKUP(A2210,'Analyse S'!A:D,2,FALSE)","v":{"$error":"#N/A"}}]
[null,null,{"$f":"VLOOKUP(A2211,'Analyse S'!A:D,2,FALSE)","v":{"$error":"#N/A"}}]
[null,null,{"$f":"VLOOKUP(A2212,'Analyse S'!A:D,2,FALSE)","v":{"$error":"#N/A"}}]
[null,null,{"$f":"VLOOKUP(A2213,'Analyse S'!A:D,2,FALSE)","v":{"$error":"#N/A"}}]
[null,null,{"$f":"VLOOKUP(A2214,'Analyse S'!A:D,2,FALSE)","v":{"$error":"#N/A"}}]
[null,null,{"$f":"VLOOKUP(A2215,'Analyse S'!A:D,2,FALSE)","v":{"$error":"#N/A"}}]
[null,null,{"$f":"VLOOKUP(A2216,'Analyse S'!A:D,2,FALSE)","v":{"$error":"#N/A"}}]
[null,null,{"$f":"VLOOKUP(A2217,'Analyse S'!A:D,2,FALSE)","v":{"$error":"#N/A"}}]
[null,null,{"$f":"VLOOKUP(A2218,'Analyse S'!A:D,2,FALSE)","v":{"$error":"#N/A"}}]
[null,null,{"$f":"VLOOKUP(A2219,'Analyse S'!A:D,2,FALSE)","v":{"$error":"#N/A"}}]
[null,null,{"$f":"VLOOKUP(A2220,'Analyse S'!A:D,2,FALSE)","v":{"$error":"#N/A"}}]
[null,null,{"$f":"VLOOKUP(A2221,'Analyse S'!A:D,2,FALSE)","v":{"$error":"#N/A"}}]
[null,null,{"$f":"VLOOKUP(A2222,'Analyse S'!A:D,2,FALSE)","v":{"$error":"#N/A"}}]
[null,null,{"$f":"VLOOKUP(A2223,'Analyse S'!A:D,2,FALSE)","v":{"$error":"#N/A"}}]
[null,null,{"$f":"VLOOKUP(A2224,'Analyse S'!A:D,2,FALSE)","v":{"$error":"#N/A"}}]
[null,null,{"$f":"VLOOKUP(A2225,'Analyse S'!A:D,2,FALSE)","v":{"$error":"#N/A"}}]
[null,null,{"$f":"VLOOKUP(A2226,'Analyse S'!A:D,2,FALSE)","v":{"$error":"#N/A"}}]
[null,null,{"$f":"VLOOKUP(A2227,'Analyse S'!A:D,2,FALSE)","v":{"$error":"#N/A"}}]
[null,null,{"$f":"VLOOKUP(A2228,'Analyse S'!A:D,2,FALSE)","v":{"$error":"#N/A"}}]
[null,null,{"$f":"VLOOKUP(A2229,'Analyse S'!A:D,2,FALSE)","v":{"$error":"#N/A"}}]
[null,null,{"$f":"VLOOKUP(A2230,'Analyse S'!A:D,2,FALSE)","v":{"$error":"#N/A"}}]
[null,null,{"$f":"VLOOKUP(A2231,'Analyse S'!A:D,2,FALSE)","v":{"$error":"#N/A"}}]
[null,null,{"$f":"VLOOKUP(A2232,'Analyse S'!A:D,2,FALSE)","v":{"$error":"#N/A"}}]
[null,null,{"$f":"VLOOKUP(A2233,'Analyse S'!A:D,2,FALSE)","v":{"$error":"#N/A"}}]
[null,null,{"$f":"VLOOKUP(A2234,'Analyse S'!A:D,2,FALSE)","v":{"$error":"#N/A"}}]
[null,null,{"$f":"VLOOKUP(A2235,'Analyse S'!A:D,2,FALSE)","v":{"$error":"#N/A"}}]
[null,null,{"$f":"VLOOKUP(A2236,'Analyse S'!A:D,2,FALSE)","v":{"$error":"#N/A"}}]
[null,null,{"$f":"VLOOKUP(A2237,'Analyse S'!A:D,2,FALSE)","v":{"$error":"#N/A"}}]
[null,null,{"$f":"VLOOKUP(A2238,'Analyse S'!A:D,2,FALSE)","v":{"$error":"#N/A"}}]
[null,null,{"$f":"VLOOKUP(A2239,'Analyse S'!A:D,2,FALSE)","v":{"$error":"#N/A"}}]
[null,null,{"$f":"VLOOKUP(A2240,'Analyse S'!A:D,2,FALSE)","v":{"$error":"#N/A"}}]
[null,null,{"$f":"VLOOKUP(A2241,'Analyse S'!A:D,2,FALSE)","v":{"$error":"#N/A"}}]
[null,null,{"$f":"VLOOKUP(A2242,'Analyse S'!A:D,2,FALSE)","v":{"$error":"#N/A"}}]
[null,null,{"$f":"VLOOKUP(A2243,'Analyse S'!A:D,2,FALSE)","v":{"$error":"#N/A"}}]
[null,null,{"$f":"VLOOKUP(A2244,'Analyse S'!A:D,2,FALSE)","v":{"$error":"#N/A"}}]
[null,null,{"$f":"VLOOKUP(A2245,'Analyse S'!A:D,2,FALSE)","v":{"$error":"#N/A"}}]
[null,null,{"$f":"VLOOKUP(A2246,'Analyse S'!A:D,2,FALSE)","v":{"$error":"#N/A"}}]
[null,null,{"$f":"VLOOKUP(A2247,'Analyse S'!A:D,2,FALSE)","v":{"$error":"#N/A"}}]
[null,null,{"$f":"VLOOKUP(A2248,'Analyse S'!A:D,2,FALSE)","v":{"$error":"#N/A"}}]
[null,null,{"$f":"VLOOKUP(A2249,'Analyse S'!A:D,2,FALSE)","v":{"$error":"#N/A"}}]
[null,null,{"$f":"VLOOKUP(A2250,'Analyse S'!A:D,2,FALSE)","v":{"$error":"#N/A"}}]
[null,null,{"$f":"VLOOKUP(A2251,'Analyse S'!A:D,2,FALSE)","v":{"$error":"#N/A"}}]
[null,null,{"$f":"VLOOKUP(A2252,'Analyse S'!A:D,2,FALSE)","v":{"$error":"#N/A"}}]
[null,null,{"$f":"VLOOKUP(A2253,'Analyse S'!A:D,2,FALSE)","v":{"$error":"#N/A"}}]
[null,null,{"$f":"VLOOKUP(A2254,'Analyse S'!A:D,2,FALSE)","v":{"$error":"#N/A"}}]
[null,null,{"$f":"VLOOKUP(A2255,'Analyse S'!A:D,2,FALSE)","v":{"$error":"#N/A"}}]
[null,null,{"$f":"VLOOKUP(A2256,'Analyse S'!A:D,2,FALSE)","v":{"$error":"#N/A"}}]
[null,null,{"$f":"VLOOKUP(A2257,'Analyse S'!A:D,2,FALSE)","v":{"$error":"#N/A"}}]
[null,null,{"$f":"VLOOKUP(A2258,'Analyse S'!A:D,2,FALSE)","v":{"$error":"#N/A"}}]
[null,null,{"$f":"VLOOKUP(A2259,'Analyse S'!A:D,2,FALSE)","v":{"$error":"#N/A"}}]
[null,null,{"$f":"VLOOKUP(A2260,'Analyse S'!A:D,2,FALSE)","v":{"$error":"#N/A"}}]
[null,null,{"$f":"VLOOKUP(A2261,'Analyse S'!A:D,2,FALSE)","v":{"$error":"#N/A"}}]
[null,null,{"$f":"VLOOKUP(A2262,'Analyse S'!A:D,2,FALSE)","v":{"$error":"#N/A"}}]
[null,null,{"$f":"VLOOKUP(A2263,'Analyse S'!A:D,2,FALSE)","v":{"$error":"#N/A"}}]
[null,null,{"$f":"VLOOKUP(A2264,'Analyse S'!A:D,2,FALSE)","v":{"$error":"#N/A"}}]
[null,null,{"$f":"VLOOKUP(A2265,'Analyse S'!A:D,2,FALSE)","v":{"$error":"#N/A"}}]
[null,null,{"$f":"VLOOKUP(A2266,'Analyse S'!A:D,2,FALSE)","v":{"$error":"#N/A"}}]
[null,null,{"$f":"VLOOKUP(A2267,'Analyse S'!A:D,2,FALSE)","v":{"$error":"#N/A"}}]
[null,null,{"$f":"VLOOKUP(A2268,'Analyse S'!A:D,2,FALSE)","v":{"$error":"#N/A"}}]
[null,null,{"$f":"VLOOKUP(A2269,'Analyse S'!A:D,2,FALSE)","v":{"$error":"#N/A"}}]
[null,null,{"$f":"VLOOKUP(A2270,'Analyse S'!A:D,2,FALSE)","v":{"$error":"#N/A"}}]
[null,null,{"$f":"VLOOKUP(A2271,'Analyse S'!A:D,2,FALSE)","v":{"$error":"#N/A"}}]
[null,null,{"$f":"VLOOKUP(A2272,'Analyse S'!A:D,2,FALSE)","v":{"$error":"#N/A"}}]
[null,null,{"$f":"VLOOKUP(A2273,'Analyse S'!A:D,2,FALSE)","v":{"$error":"#N/A"}}]
[null,null,{"$f":"VLOOKUP(A2274,'Analyse S'!A:D,2,FALSE)","v":{"$error":"#N/A"}}]
[null,null,{"$f":"VLOOKUP(A2275,'Analyse S'!A:D,2,FALSE)","v":{"$error":"#N/A"}}]
[null,null,{"$f":"VLOOKUP(A2276,'Analyse S'!A:D,2,FALSE)","v":{"$error":"#N/A"}}]
[null,null,{"$f":"VLOOKUP(A2277,'Analyse S'!A:D,2,FALSE)","v":{"$error":"#N/A"}}]
[null,null,{"$f":"VLOOKUP(A2278,'Analyse S'!A:D,2,FALSE)","v":{"$error":"#N/A"}}]
[null,null,{"$f":"VLOOKUP(A2279,'Analyse S'!A:D,2,FALSE)","v":{"$error":"#N/A"}}]
[null,null,{"$f":"VLOOKUP(A2280,'Analyse S'!A:D,2,FALSE)","v":{"$error":"#N/A"}}]
[null,null,{"$f":"VLOOKUP(A2281,'Analyse S'!A:D,2,FALSE)","v":{"$error":"#N/A"}}]
[null,null,{"$f":"VLOOKUP(A2282,'Analyse S'!A:D,2,FALSE)","v":{"$error":"#N/A"}}]
[null,null,{"$f":"VLOOKUP(A2283,'Analyse S'!A:D,2,FALSE)","v":{"$error":"#N/A"}}]
[null,null,{"$f":"VLOOKUP(A2284,'Analyse S'!A:D,2,FALSE)","v":{"$error":"#N/A"}}]
[null,null,{"$f":"VLOOKUP(A2285,'Analyse S'!A:D,2,FALSE)","v":{"$error":"#N/A"}}]
[null,null,{"$f":"VLOOKUP(A2286,'Analyse S'!A:D,2,FALSE)","v":{"$error":"#N/A"}}]
[null,null,{"$f":"VLOOKUP(A2287,'Analyse S'!A:D,2,FALSE)","v":{"$error":"#N/A"}}]
[null,null,{"$f":"VLOOKUP(A2288,'Analyse S'!A:D,2,FALSE)","v":{"$error":"#N/A"}}]
[null,null,{"$f":"VLOOKUP(A2289,'Analyse S'!A:D,2,FALSE)","v":{"$error":"#N/A"}}]
[null,null,{"$f":"VLOOKUP(A2290,'Analyse S'!A:D,2,FALSE)","v":{"$error":"#N/A"}}]
[null,null,{"$f":"VLOOKUP(A2291,'Analyse S'!A:D,2,FALSE)","v":{"$error":"#N/A"}}]
[null,null,{"$f":"VLOOKUP(A2292,'Analyse S'!A:D,2,FALSE)","v":{"$error":"#N/A"}}]
[null,null,{"$f":"VLOOKUP(A2293,'Analyse S'!A:D,2,FALSE)","v":{"$error":"#N/A"}}]
[null,null,{"$f":"VLOOKUP(A2294,'Analyse S'!A:D,2,FALSE)","v":{"$error":"#N/A"}}]
[null,null,{"$f":"VLOOKUP(A2295,'Analyse S'!A:D,2,FALSE)","v":{"$error":"#N/A"}}]
[null,null,{"$f":"VLOOKUP(A2296,'Analyse S'!A:D,2,FALSE)","v":{"$error":"#N/A"}}]
[null,null,{"$f":"VLOOKUP(A2297,'Analyse S'!A:D,2,FALSE)","v":{"$error":"#N/A"}}]
[null,null,{"$f":"VLOOKUP(A2298,'Analyse S'!A:D,2,FALSE)","v":{"$error":"#N/A"}}]
[null,null,{"$f":"VLOOKUP(A2299,'Analyse S'!A:D,2,FALSE)","v":{"$error":"#N/A"}}]
[null,null,{"$f":"VLOOKUP(A2300,'Analyse S'!A:D,2,FALSE)","v":{"$error":"#N/A"}}]
[null,null,{"$f":"VLOOKUP(A2301,'Analyse S'!A:D,2,FALSE)","v":{"$error":"#N/A"}}]
[null,null,{"$f":"VLOOKUP(A2302,'Analyse S'!A:D,2,FALSE)","v":{"$error":"#N/A"}}]
[null,null,{"$f":"VLOOKUP(A2303,'Analyse S'!A:D,2,FALSE)","v":{"$error":"#N/A"}}]
[null,null,{"$f":"VLOOKUP(A2304,'Analyse S'!A:D,2,FALSE)","v":{"$error":"#N/A"}}]
[null,null,{"$f":"VLOOKUP(A2305,'Analyse S'!A:D,2,FALSE)","v":{"$error":"#N/A"}}]
[null,null,{"$f":"VLOOKUP(A2306,'Analyse S'!A:D,2,FALSE)","v":{"$error":"#N/A"}}]
[null,null,{"$f":"VLOOKUP(A2307,'Analyse S'!A:D,2,FALSE)","v":{"$error":"#N/A"}}]
[null,null,{"$f":"VLOOKUP(A2308,'Analyse S'!A:D,2,FALSE)","v":{"$error":"#N/A"}}]
[null,null,{"$f":"VLOOKUP(A2309,'Analyse S'!A:D,2,FALSE)","v":{"$error":"#N/A"}}]
[null,null,{"$f":"VLOOKUP(A2310,'Analyse S'!A:D,2,FALSE)","v":{"$error":"#N/A"}}]
[null,null,{"$f":"VLOOKUP(A2311,'Analyse S'!A:D,2,FALSE)","v":{"$error":"#N/A"}}]
[null,null,{"$f":"VLOOKUP(A2312,'Analyse S'!A:D,2,FALSE)","v":{"$error":"#N/A"}}]
[null,null,{"$f":"VLOOKUP(A2313,'Analyse S'!A:D,2,FALSE)","v":{"$error":"#N/A"}}]
[null,null,{"$f":"VLOOKUP(A2314,'Analyse S'!A:D,2,FALSE)","v":{"$error":"#N/A"}}]
[null,null,{"$f":"VLOOKUP(A2315,'Analyse S'!A:D,2,FALSE)","v":{"$error":"#N/A"}}]
[null,null,{"$f":"VLOOKUP(A2316,'Analyse S'!A:D,2,FALSE)","v":{"$error":"#N/A"}}]
[null,null,{"$f":"VLOOKUP(A2317,'Analyse S'!A:D,2,FALSE)","v":{"$error":"#N/A"}}]
[null,null,{"$f":"VLOOKUP(A2318,'Analyse S'!A:D,2,FALSE)","v":{"$error":"#N/A"}}]
[null,null,{"$f":"VLOOKUP(A2319,'Analyse S'!A:D,2,FALSE)","v":{"$error":"#N/A"}}]
[null,null,{"$f":"VLOOKUP(A2320,'Analyse S'!A:D,2,FALSE)","v":{"$error":"#N/A"}}]
[null,null,{"$f":"VLOOKUP(A2321,'Analyse S'!A:D,2,FALSE)","v":{"$error":"#N/A"}}]
[null,null,{"$f":"VLOOKUP(A2322,'Analyse S'!A:D,2,FALSE)","v":{"$error":"#N/A"}}]
[null,null,{"$f":"VLOOKUP(A2323,'Analyse S'!A:D,2,FALSE)","v":{"$error":"#N/A"}}]
[null,null,{"$f":"VLOOKUP(A2324,'Analyse S'!A:D,2,FALSE)","v":{"$error":"#N/A"}}]
[null,null,{"$f":"VLOOKUP(A2325,'Analyse S'!A:D,2,FALSE)","v":{"$error":"#N/A"}}]
[null,null,{"$f":"VLOOKUP(A2326,'Analyse S'!A:D,2,FALSE)","v":{"$error":"#N/A"}}]
[null,null,{"$f":"VLOOKUP(A2327,'Analyse S'!A:D,2,FALSE)","v":{"$error":"#N/A"}}]
[null,null,{"$f":"VLOOKUP(A2328,'Analyse S'!A:D,2,FALSE)","v":{"$error":"#N/A"}}]
[null,null,{"$f":"VLOOKUP(A2329,'Analyse S'!A:D,2,FALSE)","v":{"$error":"#N/A"}}]
[null,null,{"$f":"VLOOKUP(A2330,'Analyse S'!A:D,2,FALSE)","v":{"$error":"#N/A"}}]
[null,null,{"$f":"VLOOKUP(A2331,'Analyse S'!A:D,2,FALSE)","v":{"$error":"#N/A"}}]
[null,null,{"$f":"VLOOKUP(A2332,'Analyse S'!A:D,2,FALSE)","v":{"$error":"#N/A"}}]
[null,null,{"$f":"VLOOKUP(A2333,'Analyse S'!A:D,2,FALSE)","v":{"$error":"#N/A"}}]
[null,null,{"$f":"VLOOKUP(A2334,'Analyse S'!A:D,2,FALSE)","v":{"$error":"#N/A"}}]
[null,null,{"$f":"VLOOKUP(A2335,'Analyse S'!A:D,2,FALSE)","v":{"$error":"#N/A"}}]
[null,null,{"$f":"VLOOKUP(A2336,'Analyse S'!A:D,2,FALSE)","v":{"$error":"#N/A"}}]
[null,null,{"$f":"VLOOKUP(A2337,'Analyse S'!A:D,2,FALSE)","v":{"$error":"#N/A"}}]
[null,null,{"$f":"VLOOKUP(A2338,'Analyse S'!A:D,2,FALSE)","v":{"$error":"#N/A"}}]
[null,null,{"$f":"VLOOKUP(A2339,'Analyse S'!A:D,2,FALSE)","v":{"$error":"#N/A"}}]
[null,null,{"$f":"VLOOKUP(A2340,'Analyse S'!A:D,2,FALSE)","v":{"$error":"#N/A"}}]
[null,null,{"$f":"VLOOKUP(A2341,'Analyse S'!A:D,2,FALSE)","v":{"$error":"#N/A"}}]
[null,null,{"$f":"VLOOKUP(A2342,'Analyse S'!A:D,2,FALSE)","v":{"$error":"#N/A"}}]
[null,null,{"$f":"VLOOKUP(A2343,'Analyse S'!A:D,2,FALSE)","v":{"$error":"#N/A"}}]
[null,null,{"$f":"VLOOKUP(A2344,'Analyse S'!A:D,2,FALSE)","v":{"$error":"#N/A"}}]
[null,null,{"$f":"VLOOKUP(A2345,'Analyse S'!A:D,2,FALSE)","v":{"$error":"#N/A"}}]
[null,null,{"$f":"VLOOKUP(A2346,'Analyse S'!A:D,2,FALSE)","v":{"$error":"#N/A"}}]
[null,null,{"$f":"VLOOKUP(A2347,'Analyse S'!A:D,2,FALSE)","v":{"$error":"#N/A"}}]
[null,null,{"$f":"VLOOKUP(A2348,'Analyse S'!A:D,2,FALSE)","v":{"$error":"#N/A"}}]
[null,null,{"$f":"VLOOKUP(A2349,'Analyse S'!A:D,2,FALSE)","v":{"$error":"#N/A"}}]
[null,null,{"$f":"VLOOKUP(A2350,'Analyse S'!A:D,2,FALSE)","v":{"$error":"#N/A"}}]
[null,null,{"$f":"VLOOKUP(A2351,'Analyse S'!A:D,2,FALSE)","v":{"$error":"#N/A"}}]
[null,null,{"$f":"VLOOKUP(A2352,'Analyse S'!A:D,2,FALSE)","v":{"$error":"#N/A"}}]
[null,null,{"$f":"VLOOKUP(A2353,'Analyse S'!A:D,2,FALSE)","v":{"$error":"#N/A"}}]
[null,null,{"$f":"VLOOKUP(A2354,'Analyse S'!A:D,2,FALSE)","v":{"$error":"#N/A"}}]
[null,null,{"$f":"VLOOKUP(A2355,'Analyse S'!A:D,2,FALSE)","v":{"$error":"#N/A"}}]
[null,null,{"$f":"VLOOKUP(A2356,'Analyse S'!A:D,2,FALSE)","v":{"$error":"#N/A"}}]
[null,null,{"$f":"VLOOKUP(A2357,'Analyse S'!A:D,2,FALSE)","v":{"$error":"#N/A"}}]
[null,null,{"$f":"VLOOKUP(A2358,'Analyse S'!A:D,2,FALSE)","v":{"$error":"#N/A"}}]
[null,null,{"$f":"VLOOKUP(A2359,'Analyse S'!A:D,2,FALSE)","v":{"$error":"#N/A"}}]
[null,null,{"$f":"VLOOKUP(A2360,'Analyse S'!A:D,2,FALSE)","v":{"$error":"#N/A"}}]
[null,null,{"$f":"VLOOKUP(A2361,'Analyse S'!A:D,2,FALSE)","v":{"$error":"#N/A"}}]
[null,null,{"$f":"VLOOKUP(A2362,'Analyse S'!A:D,2,FALSE)","v":{"$error":"#N/A"}}]
[null,null,{"$f":"VLOOKUP(A2363,'Analyse S'!A:D,2,FALSE)","v":{"$error":"#N/A"}}]
[null,null,{"$f":"VLOOKUP(A2364,'Analyse S'!A:D,2,FALSE)","v":{"$error":"#N/A"}}]
[null,null,{"$f":"VLOOKUP(A2365,'Analyse S'!A:D,2,FALSE)","v":{"$error":"#N/A"}}]
[null,null,{"$f":"VLOOKUP(A2366,'Analyse S'!A:D,2,FALSE)","v":{"$error":"#N/A"}}]
[null,null,{"$f":"VLOOKUP(A2367,'Analyse S'!A:D,2,FALSE)","v":{"$error":"#N/A"}}]
[null,null,{"$f":"VLOOKUP(A2368,'Analyse S'!A:D,2,FALSE)","v":{"$error":"#N/A"}}]
[null,null,{"$f":"VLOOKUP(A2369,'Analyse S'!A:D,2,FALSE)","v":{"$error":"#N/A"}}]
[null,null,{"$f":"VLOOKUP(A2370,'Analyse S'!A:D,2,FALSE)","v":{"$error":"#N/A"}}]
[null,null,{"$f":"VLOOKUP(A2371,'Analyse S'!A:D,2,FALSE)","v":{"$error":"#N/A"}}]
[null,null,{"$f":"VLOOKUP(A2372,'Analyse S'!A:D,2,FALSE)","v":{"$error":"#N/A"}}]
[null,null,{"$f":"VLOOKUP(A2373,'Analyse S'!A:D,2,FALSE)","v":{"$error":"#N/A"}}]
[null,null,{"$f":"VLOOKUP(A2374,'Analyse S'!A:D,2,FALSE)","v":{"$error":"#N/A"}}]
[null,null,{"$f":"VLOOKUP(A2375,'Analyse S'!A:D,2,FALSE)","v":{"$error":"#N/A"}}]
[null,null,{"$f":"VLOOKUP(A2376,'Analyse S'!A:D,2,FALSE)","v":{"$error":"#N/A"}}]
[null,null,{"$f":"VLOOKUP(A2377,'Analyse S'!A:D,2,FALSE)","v":{"$error":"#N/A"}}]
[null,null,{"$f":"VLOOKUP(A2378,'Analyse S'!A:D,2,FALSE)","v":{"$error":"#N/A"}}]
[null,null,{"$f":"VLOOKUP(A2379,'Analyse S'!A:D,2,FALSE)","v":{"$error":"#N/A"}}]
[null,null,{"$f":"VLOOKUP(A2380,'Analyse S'!A:D,2,FALSE)","v":{"$error":"#N/A"}}]
[null,null,{"$f":"VLOOKUP(A2381,'Analyse S'!A:D,2,FALSE)","v":{"$error":"#N/A"}}]
[null,null,{"$f":"VLOOKUP(A2382,'Analyse S'!A:D,2,FALSE)","v":{"$error":"#N/A"}}]
[null,null,{"$f":"VLOOKUP(A2383,'Analyse S'!A:D,2,FALSE)","v":{"$error":"#N/A"}}]
[null,null,{"$f":"VLOOKUP(A2384,'Analyse S'!A:D,2,FALSE)","v":{"$error":"#N/A"}}]
[null,null,{"$f":"VLOOKUP(A2385,'Analyse S'!A:D,2,FALSE)","v":{"$error":"#N/A"}}]
[null,null,{"$f":"VLOOKUP(A2386,'Analyse S'!A:D,2,FALSE)","v":{"$error":"#N/A"}}]
[null,null,{"$f":"VLOOKUP(A2387,'Analyse S'!A:D,2,FALSE)","v":{"$error":"#N/A"}}]
[null,null,{"$f":"VLOOKUP(A2388,'Analyse S'!A:D,2,FALSE)","v":{"$error":"#N/A"}}]
[null,null,{"$f":"VLOOKUP(A2389,'Analyse S'!A:D,2,FALSE)","v":{"$error":"#N/A"}}]
[null,null,{"$f":"VLOOKUP(A2390,'Analyse S'!A:D,2,FALSE)","v":{"$error":"#N/A"}}]
[null,null,{"$f":"VLOOKUP(A2391,'Analyse S'!A:D,2,FALSE)","v":{"$error":"#N/A"}}]
[null,null,{"$f":"VLOOKUP(A2392,'Analyse S'!A:D,2,FALSE)","v":{"$error":"#N/A"}}]
[null,null,{"$f":"VLOOKUP(A2393,'Analyse S'!A:D,2,FALSE)","v":{"$error":"#N/A"}}]
[null,null,{"$f":"VLOOKUP(A2394,'Analyse S'!A:D,2,FALSE)","v":{"$error":"#N/A"}}]
[null,null,{"$f":"VLOOKUP(A2395,'Analyse S'!A:D,2,FALSE)","v":{"$error":"#N/A"}}]
[null,null,{"$f":"VLOOKUP(A2396,'Analyse S'!A:D,2,FALSE)","v":{"$error":"#N/A"}}]
[null,null,{"$f":"VLOOKUP(A2397,'Analyse S'!A:D,2,FALSE)","v":{"$error":"#N/A"}}]
[null,null,{"$f":"VLOOKUP(A2398,'Analyse S'!A:D,2,FALSE)","v":{"$error":"#N/A"}}]
[null,null,{"$f":"VLOOKUP(A2399,'Analyse S'!A:D,2,FALSE)","v":{"$error":"#N/A"}}]
[null,null,{"$f":"VLOOKUP(A2400,'Analyse S'!A:D,2,FALSE)","v":{"$error":"#N/A"}}]
[null,null,{"$f":"VLOOKUP(A2401,'Analyse S'!A:D,2,FALSE)","v":{"$error":"#N/A"}}]
[null,null,{"$f":"VLOOKUP(A2402,'Analyse S'!A:D,2,FALSE)","v":{"$error":"#N/A"}}]
[null,null,{"$f":"VLOOKUP(A2403,'Analyse S'!A:D,2,FALSE)","v":{"$error":"#N/A"}}]
[null,null,{"$f":"VLOOKUP(A2404,'Analyse S'!A:D,2,FALSE)","v":{"$error":"#N/A"}}]
[null,null,{"$f":"VLOOKUP(A2405,'Analyse S'!A:D,2,FALSE)","v":{"$error":"#N/A"}}]
[null,null,{"$f":"VLOOKUP(A2406,'Analyse S'!A:D,2,FALSE)","v":{"$error":"#N/A"}}]
[null,null,{"$f":"VLOOKUP(A2407,'Analyse S'!A:D,2,FALSE)","v":{"$error":"#N/A"}}]
[null,null,{"$f":"VLOOKUP(A2408,'Analyse S'!A:D,2,FALSE)","v":{"$error":"#N/A"}}]
[null,null,{"$f":"VLOOKUP(A2409,'Analyse S'!A:D,2,FALSE)","v":{"$error":"#N/A"}}]
[null,null,{"$f":"VLOOKUP(A2410,'Analyse S'!A:D,2,FALSE)","v":{"$error":"#N/A"}}]
[null,null,{"$f":"VLOOKUP(A2411,'Analyse S'!A:D,2,FALSE)","v":{"$error":"#N/A"}}]
[null,null,{"$f":"VLOOKUP(A2412,'Analyse S'!A:D,2,FALSE)","v":{"$error":"#N/A"}}]
[null,null,{"$f":"VLOOKUP(A2413,'Analyse S'!A:D,2,FALSE)","v":{"$error":"#N/A"}}]
[null,null,{"$f":"VLOOKUP(A2414,'Analyse S'!A:D,2,FALSE)","v":{"$error":"#N/A"}}]
[null,null,{"$f":"VLOOKUP(A2415,'Analyse S'!A:D,2,FALSE)","v":{"$error":"#N/A"}}]
[null,null,{"$f":"VLOOKUP(A2416,'Analyse S'!A:D,2,FALSE)","v":{"$error":"#N/A"}}]
[null,null,{"$f":"VLOOKUP(A2417,'Analyse S'!A:D,2,FALSE)","v":{"$error":"#N/A"}}]
[null,null,{"$f":"VLOOKUP(A2418,'Analyse S'!A:D,2,FALSE)","v":{"$error":"#N/A"}}]
[null,null,{"$f":"VLOOKUP(A2419,'Analyse S'!A:D,2,FALSE)","v":{"$error":"#N/A"}}]
[null,null,{"$f":"VLOOKUP(A2420,'Analyse S'!A:D,2,FALSE)","v":{"$error":"#N/A"}}]
[null,null,{"$f":"VLOOKUP(A2421,'Analyse S'!A:D,2,FALSE)","v":{"$error":"#N/A"}}]
[null,null,{"$f":"VLOOKUP(A2422,'Analyse S'!A:D,2,FALSE)","v":{"$error":"#N/A"}}]
[null,null,{"$f":"VLOOKUP(A2423,'Analyse S'!A:D,2,FALSE)","v":{"$error":"#N/A"}}]
[null,null,{"$f":"VLOOKUP(A2424,'Analyse S'!A:D,2,FALSE)","v":{"$error":"#N/A"}}]
[null,null,{"$f":"VLOOKUP(A2425,'Analyse S'!A:D,2,FALSE)","v":{"$error":"#N/A"}}]
[null,null,{"$f":"VLOOKUP(A2426,'Analyse S'!A:D,2,FALSE)","v":{"$error":"#N/A"}}]
[null,null,{"$f":"VLOOKUP(A2427,'Analyse S'!A:D,2,FALSE)","v":{"$error":"#N/A"}}]
[null,null,{"$f":"VLOOKUP(A2428,'Analyse S'!A:D,2,FALSE)","v":{"$error":"#N/A"}}]
[null,null,{"$f":"VLOOKUP(A2429,'Analyse S'!A:D,2,FALSE)","v":{"$error":"#N/A"}}]
[null,null,{"$f":"VLOOKUP(A2430,'Analyse S'!A:D,2,FALSE)","v":{"$error":"#N/A"}}]
[null,null,{"$f":"VLOOKUP(A2431,'Analyse S'!A:D,2,FALSE)","v":{"$error":"#N/A"}}]
[null,null,{"$f":"VLOOKUP(A2432,'Analyse S'!A:D,2,FALSE)","v":{"$error":"#N/A"}}]
[null,null,{"$f":"VLOOKUP(A2433,'Analyse S'!A:D,2,FALSE)","v":{"$error":"#N/A"}}]
[null,null,{"$f":"VLOOKUP(A2434,'Analyse S'!A:D,2,FALSE)","v":{"$error":"#N/A"}}]
[null,null,{"$f":"VLOOKUP(A2435,'Analyse S'!A:D,2,FALSE)","v":{"$error":"#N/A"}}]
[null,null,{"$f":"VLOOKUP(A2436,'Analyse S'!A:D,2,FALSE)","v":{"$error":"#N/A"}}]
[null,null,{"$f":"VLOOKUP(A2437,'Analyse S'!A:D,2,FALSE)","v":{"$error":"#N/A"}}]
[null,null,{"$f":"VLOOKUP(A2438,'Analyse S'!A:D,2,FALSE)","v":{"$error":"#N/A"}}]
[null,null,{"$f":"VLOOKUP(A2439,'Analyse S'!A:D,2,FALSE)","v":{"$error":"#N/A"}}]
[null,null,{"$f":"VLOOKUP(A2440,'Analyse S'!A:D,2,FALSE)","v":{"$error":"#N/A"}}]
[null,null,{"$f":"VLOOKUP(A2441,'Analyse S'!A:D,2,FALSE)","v":{"$error":"#N/A"}}]
[null,null,{"$f":"VLOOKUP(A2442,'Analyse S'!A:D,2,FALSE)","v":{"$error":"#N/A"}}]
[null,null,{"$f":"VLOOKUP(A2443,'Analyse S'!A:D,2,FALSE)","v":{"$error":"#N/A"}}]
[null,null,{"$f":"VLOOKUP(A2444,'Analyse S'!A:D,2,FALSE)","v":{"$error":"#N/A"}}]
[null,null,{"$f":"VLOOKUP(A2445,'Analyse S'!A:D,2,FALSE)","v":{"$error":"#N/A"}}]
[null,null,{"$f":"VLOOKUP(A2446,'Analyse S'!A:D,2,FALSE)","v":{"$error":"#N/A"}}]
[null,null,{"$f":"VLOOKUP(A2447,'Analyse S'!A:D,2,FALSE)","v":{"$error":"#N/A"}}]
[null,null,{"$f":"VLOOKUP(A2448,'Analyse S'!A:D,2,FALSE)","v":{"$error":"#N/A"}}]
[null,null,{"$f":"VLOOKUP(A2449,'Analyse S'!A:D,2,FALSE)","v":{"$error":"#N/A"}}]
[null,null,{"$f":"VLOOKUP(A2450,'Analyse S'!A:D,2,FALSE)","v":{"$error":"#N/A"}}]
[null,null,{"$f":"VLOOKUP(A2451,'Analyse S'!A:D,2,FALSE)","v":{"$error":"#N/A"}}]
[null,null,{"$f":"VLOOKUP(A2452,'Analyse S'!A:D,2,FALSE)","v":{"$error":"#N/A"}}]
[null,null,{"$f":"VLOOKUP(A2453,'Analyse S'!A:D,2,FALSE)","v":{"$error":"#N/A"}}]
[null,null,{"$f":"VLOOKUP(A2454,'Analyse S'!A:D,2,FALSE)","v":{"$error":"#N/A"}}]
[null,null,{"$f":"VLOOKUP(A2455,'Analyse S'!A:D,2,FALSE)","v":{"$error":"#N/A"}}]
[null,null,{"$f":"VLOOKUP(A2456,'Analyse S'!A:D,2,FALSE)","v":{"$error":"#N/A"}}]
[null,null,{"$f":"VLOOKUP(A2457,'Analyse S'!A:D,2,FALSE)","v":{"$error":"#N/A"}}]
[null,null,{"$f":"VLOOKUP(A2458,'Analyse S'!A:D,2,FALSE)","v":{"$error":"#N/A"}}]
[null,null,{"$f":"VLOOKUP(A2459,'Analyse S'!A:D,2,FALSE)","v":{"$error":"#N/A"}}]
[null,null,{"$f":"VLOOKUP(A2460,'Analyse S'!A:D,2,FALSE)","v":{"$error":"#N/A"}}]
[null,null,{"$f":"VLOOKUP(A2461,'Analyse S'!A:D,2,FALSE)","v":{"$error":"#N/A"}}]
[null,null,{"$f":"VLOOKUP(A2462,'Analyse S'!A:D,2,FALSE)","v":{"$error":"#N/A"}}]
[null,null,{"$f":"VLOOKUP(A2463,'Analyse S'!A:D,2,FALSE)","v":{"$error":"#N/A"}}]
[null,null,{"$f":"VLOOKUP(A2464,'Analyse S'!A:D,2,FALSE)","v":{"$error":"#N/A"}}]
[null,null,{"$f":"VLOOKUP(A2465,'Analyse S'!A:D,2,FALSE)","v":{"$error":"#N/A"}}]
[null,null,{"$f":"VLOOKUP(A2466,'Analyse S'!A:D,2,FALSE)","v":{"$error":"#N/A"}}]
[null,null,{"$f":"VLOOKUP(A2467,'Analyse S'!A:D,2,FALSE)","v":{"$error":"#N/A"}}]
[null,null,{"$f":"VLOOKUP(A2468,'Analyse S'!A:D,2,FALSE)","v":{"$error":"#N/A"}}]
[null,null,{"$f":"VLOOKUP(A2469,'Analyse S'!A:D,2,FALSE)","v":{"$error":"#N/A"}}]
[null,null,{"$f":"VLOOKUP(A2470,'Analyse S'!A:D,2,FALSE)","v":{"$error":"#N/A"}}]
[null,null,{"$f":"VLOOKUP(A2471,'Analyse S'!A:D,2,FALSE)","v":{"$error":"#N/A"}}]
[null,null,{"$f":"VLOOKUP(A2472,'Analyse S'!A:D,2,FALSE)","v":{"$error":"#N/A"}}]
[null,null,{"$f":"VLOOKUP(A2473,'Analyse S'!A:D,2,FALSE)","v":{"$error":"#N/A"}}]
[null,null,{"$f":"VLOOKUP(A2474,'Analyse S'!A:D,2,FALSE)","v":{"$error":"#N/A"}}]
[null,null,{"$f":"VLOOKUP(A2475,'Analyse S'!A:D,2,FALSE)","v":{"$error":"#N/A"}}]
[null,null,{"$f":"VLOOKUP(A2476,'Analyse S'!A:D,2,FALSE)","v":{"$error":"#N/A"}}]
[null,null,{"$f":"VLOOKUP(A2477,'Analyse S'!A:D,2,FALSE)","v":{"$error":"#N/A"}}]
[null,null,{"$f":"VLOOKUP(A2478,'Analyse S'!A:D,2,FALSE)","v":{"$error":"#N/A"}}]
[null,null,{"$f":"VLOOKUP(A2479,'Analyse S'!A:D,2,FALSE)","v":{"$error":"#N/A"}}]
[null,null,{"$f":"VLOOKUP(A2480,'Analyse S'!A:D,2,FALSE)","v":{"$error":"#N/A"}}]
[null,null,{"$f":"VLOOKUP(A2481,'Analyse S'!A:D,2,FALSE)","v":{"$error":"#N/A"}}]
[null,null,{"$f":"VLOOKUP(A2482,'Analyse S'!A:D,2,FALSE)","v":{"$error":"#N/A"}}]
[null,null,{"$f":"VLOOKUP(A2483,'Analyse S'!A:D,2,FALSE)","v":{"$error":"#N/A"}}]
[null,null,{"$f":"VLOOKUP(A2484,'Analyse S'!A:D,2,FALSE)","v":{"$error":"#N/A"}}]
[null,null,{"$f":"VLOOKUP(A2485,'Analyse S'!A:D,2,FALSE)","v":{"$error":"#N/A"}}]
[null,null,{"$f":"VLOOKUP(A2486,'Analyse S'!A:D,2,FALSE)","v":{"$error":"#N/A"}}]
[null,null,{"$f":"VLOOKUP(A2487,'Analyse S'!A:D,2,FALSE)","v":{"$error":"#N/A"}}]
[null,null,{"$f":"VLOOKUP(A2488,'Analyse S'!A:D,2,FALSE)","v":{"$error":"#N/A"}}]
[null,null,{"$f":"VLOOKUP(A2489,'Analyse S'!A:D,2,FALSE)","v":{"$error":"#N/A"}}]
[null,null,{"$f":"VLOOKUP(A2490,'Analyse S'!A:D,2,FALSE)","v":{"$error":"#N/A"}}]
[null,null,{"$f":"VLOOKUP(A2491,'Analyse S'!A:D,2,FALSE)","v":{"$error":"#N/A"}}]
[null,null,{"$f":"VLOOKUP(A2492,'Analyse S'!A:D,2,FALSE)","v":{"$error":"#N/A"}}]
[null,null,{"$f":"VLOOKUP(A2493,'Analyse S'!A:D,2,FALSE)","v":{"$error":"#N/A"}}]
[null,null,{"$f":"VLOOKUP(A2494,'Analyse S'!A:D,2,FALSE)","v":{"$error":"#N/A"}}]
[null,null,{"$f":"VLOOKUP(A2495,'Analyse S'!A:D,2,FALSE)","v":{"$error":"#N/A"}}]
[null,null,{"$f":"VLOOKUP(A2496,'Analyse S'!A:D,2,FALSE)","v":{"$error":"#N/A"}}]
[null,null,{"$f":"VLOOKUP(A2497,'Analyse S'!A:D,2,FALSE)","v":{"$error":"#N/A"}}]
[null,null,{"$f":"VLOOKUP(A2498,'Analyse S'!A:D,2,FALSE)","v":{"$error":"#N/A"}}]
[null,null,{"$f":"VLOOKUP(A2499,'Analyse S'!A:D,2,FALSE)","v":{"$error":"#N/A"}}]
[null,null,{"$f":"VLOOKUP(A2500,'Analyse S'!A:D,2,FALSE)","v":{"$error":"#N/A"}}]
[null,null,{"$f":"VLOOKUP(A2501,'Analyse S'!A:D,2,FALSE)","v":{"$error":"#N/A"}}]
[null,null,{"$f":"VLOOKUP(A2502,'Analyse S'!A:D,2,FALSE)","v":{"$error":"#N/A"}}]
[null,null,{"$f":"VLOOKUP(A2503,'Analyse S'!A:D,2,FALSE)","v":{"$error":"#N/A"}}]
[null,null,{"$f":"VLOOKUP(A2504,'Analyse S'!A:D,2,FALSE)","v":{"$error":"#N/A"}}]
[null,null,{"$f":"VLOOKUP(A2505,'Analyse S'!A:D,2,FALSE)","v":{"$error":"#N/A"}}]
[null,null,{"$f":"VLOOKUP(A2506,'Analyse S'!A:D,2,FALSE)","v":{"$error":"#N/A"}}]
[null,null,{"$f":"VLOOKUP(A2507,'Analyse S'!A:D,2,FALSE)","v":{"$error":"#N/A"}}]
[null,null,{"$f":"VLOOKUP(A2508,'Analyse S'!A:D,2,FALSE)","v":{"$error":"#N/A"}}]
[null,null,{"$f":"VLOOKUP(A2509,'Analyse S'!A:D,2,FALSE)","v":{"$error":"#N/A"}}]
[null,null,{"$f":"VLOOKUP(A2510,'Analyse S'!A:D,2,FALSE)","v":{"$error":"#N/A"}}]
[null,null,{"$f":"VLOOKUP(A2511,'Analyse S'!A:D,2,FALSE)","v":{"$error":"#N/A"}}]
[null,null,{"$f":"VLOOKUP(A2512,'Analyse S'!A:D,2,FALSE)","v":{"$error":"#N/A"}}]
[null,null,{"$f":"VLOOKUP(A2513,'Analyse S'!A:D,2,FALSE)","v":{"$error":"#N/A"}}]
[null,null,{"$f":"VLOOKUP(A2514,'Analyse S'!A:D,2,FALSE)","v":{"$error":"#N/A"}}]
[null,null,{"$f":"VLOOKUP(A2515,'Analyse S'!A:D,2,FALSE)","v":{"$error":"#N/A"}}]
[null,null,{"$f":"VLOOKUP(A2516,'Analyse S'!A:D,2,FALSE)","v":{"$error":"#N/A"}}]
[null,null,{"$f":"VLOOKUP(A2517,'Analyse S'!A:D,2,FALSE)","v":{"$error":"#N/A"}}]
[null,null,{"$f":"VLOOKUP(A2518,'Analyse S'!A:D,2,FALSE)","v":{"$error":"#N/A"}}]
[null,null,{"$f":"VLOOKUP(A2519,'Analyse S'!A:D,2,FALSE)","v":{"$error":"#N/A"}}]
[null,null,{"$f":"VLOOKUP(A2520,'Analyse S'!A:D,2,FALSE)","v":{"$error":"#N/A"}}]
[null,null,{"$f":"VLOOKUP(A2521,'Analyse S'!A:D,2,FALSE)","v":{"$error":"#N/A"}}]
[null,null,{"$f":"VLOOKUP(A2522,'Analyse S'!A:D,2,FALSE)","v":{"$error":"#N/A"}}]
[null,null,{"$f":"VLOOKUP(A2523,'Analyse S'!A:D,2,FALSE)","v":{"$error":"#N/A"}}]
[null,null,{"$f":"VLOOKUP(A2524,'Analyse S'!A:D,2,FALSE)","v":{"$error":"#N/A"}}]
[null,null,{"$f":"VLOOKUP(A2525,'Analyse S'!A:D,2,FALSE)","v":{"$error":"#N/A"}}]
[null,null,{"$f":"VLOOKUP(A2526,'Analyse S'!A:D,2,FALSE)","v":{"$error":"#N/A"}}]
[null,null,{"$f":"VLOOKUP(A2527,'Analyse S'!A:D,2,FALSE)","v":{"$error":"#N/A"}}]
[null,null,{"$f":"VLOOKUP(A2528,'Analyse S'!A:D,2,FALSE)","v":{"$error":"#N/A"}}]
[null,null,{"$f":"VLOOKUP(A2529,'Analyse S'!A:D,2,FALSE)","v":{"$error":"#N/A"}}]
[null,null,{"$f":"VLOOKUP(A2530,'Analyse S'!A:D,2,FALSE)","v":{"$error":"#N/A"}}]
[null,null,{"$f":"VLOOKUP(A2531,'Analyse S'!A:D,2,FALSE)","v":{"$error":"#N/A"}}]
[null,null,{"$f":"VLOOKUP(A2532,'Analyse S'!A:D,2,FALSE)","v":{"$error":"#N/A"}}]
[null,null,{"$f":"VLOOKUP(A2533,'Analyse S'!A:D,2,FALSE)","v":{"$error":"#N/A"}}]
[null,null,{"$f":"VLOOKUP(A2534,'Analyse S'!A:D,2,FALSE)","v":{"$error":"#N/A"}}]
[null,null,{"$f":"VLOOKUP(A2535,'Analyse S'!A:D,2,FALSE)","v":{"$error":"#N/A"}}]
[null,null,{"$f":"VLOOKUP(A2536,'Analyse S'!A:D,2,FALSE)","v":{"$error":"#N/A"}}]
[null,null,{"$f":"VLOOKUP(A2537,'Analyse S'!A:D,2,FALSE)","v":{"$error":"#N/A"}}]
[null,null,{"$f":"VLOOKUP(A2538,'Analyse S'!A:D,2,FALSE)","v":{"$error":"#N/A"}}]
[null,null,{"$f":"VLOOKUP(A2539,'Analyse S'!A:D,2,FALSE)","v":{"$error":"#N/A"}}]
[null,null,{"$f":"VLOOKUP(A2540,'Analyse S'!A:D,2,FALSE)","v":{"$error":"#N/A"}}]
[null,null,{"$f":"VLOOKUP(A2541,'Analyse S'!A:D,2,FALSE)","v":{"$error":"#N/A"}}]
[null,null,{"$f":"VLOOKUP(A2542,'Analyse S'!A:D,2,FALSE)","v":{"$error":"#N/A"}}]
[null,null,{"$f":"VLOOKUP(A2543,'Analyse S'!A:D,2,FALSE)","v":{"$error":"#N/A"}}]
[null,null,{"$f":"VLOOKUP(A2544,'Analyse S'!A:D,2,FALSE)","v":{"$error":"#N/A"}}]
[null,null,{"$f":"VLOOKUP(A2545,'Analyse S'!A:D,2,FALSE)","v":{"$error":"#N/A"}}]
[null,null,{"$f":"VLOOKUP(A2546,'Analyse S'!A:D,2,FALSE)","v":{"$error":"#N/A"}}]
[null,null,{"$f":"VLOOKUP(A2547,'Analyse S'!A:D,2,FALSE)","v":{"$error":"#N/A"}}]
[null,null,{"$f":"VLOOKUP(A2548,'Analyse S'!A:D,2,FALSE)","v":{"$error":"#N/A"}}]
[null,null,{"$f":"VLOOKUP(A2549,'Analyse S'!A:D,2,FALSE)","v":{"$error":"#N/A"}}]
[null,null,{"$f":"VLOOKUP(A2550,'Analyse S'!A:D,2,FALSE)","v":{"$error":"#N/A"}}]
[null,null,{"$f":"VLOOKUP(A2551,'Analyse S'!A:D,2,FALSE)","v":{"$error":"#N/A"}}]
[null,null,{"$f":"VLOOKUP(A2552,'Analyse S'!A:D,2,FALSE)","v":{"$error":"#N/A"}}]
[null,null,{"$f":"VLOOKUP(A2553,'Analyse S'!A:D,2,FALSE)","v":{"$error":"#N/A"}}]
[null,null,{"$f":"VLOOKUP(A2554,'Analyse S'!A:D,2,FALSE)","v":{"$error":"#N/A"}}]
[null,null,{"$f":"VLOOKUP(A2555,'Analyse S'!A:D,2,FALSE)","v":{"$error":"#N/A"}}]
[null,null,{"$f":"VLOOKUP(A2556,'Analyse S'!A:D,2,FALSE)","v":{"$error":"#N/A"}}]
[null,null,{"$f":"VLOOKUP(A2557,'Analyse S'!A:D,2,FALSE)","v":{"$error":"#N/A"}}]
[null,null,{"$f":"VLOOKUP(A2558,'Analyse S'!A:D,2,FALSE)","v":{"$error":"#N/A"}}]
[null,null,{"$f":"VLOOKUP(A2559,'Analyse S'!A:D,2,FALSE)","v":{"$error":"#N/A"}}]
[null,null,{"$f":"VLOOKUP(A2560,'Analyse S'!A:D,2,FALSE)","v":{"$error":"#N/A"}}]
[null,null,{"$f":"VLOOKUP(A2561,'Analyse S'!A:D,2,FALSE)","v":{"$error":"#N/A"}}]
[null,null,{"$f":"VLOOKUP(A2562,'Analyse S'!A:D,2,FALSE)","v":{"$error":"#N/A"}}]
[null,null,{"$f":"VLOOKUP(A2563,'Analyse S'!A:D,2,FALSE)","v":{"$error":"#N/A"}}]
[null,null,{"$f":"VLOOKUP(A2564,'Analyse S'!A:D,2,FALSE)","v":{"$error":"#N/A"}}]
[null,null,{"$f":"VLOOKUP(A2565,'Analyse S'!A:D,2,FALSE)","v":{"$error":"#N/A"}}]
[null,null,{"$f":"VLOOKUP(A2566,'Analyse S'!A:D,2,FALSE)","v":{"$error":"#N/A"}}]
[null,null,{"$f":"VLOOKUP(A2567,'Analyse S'!A:D,2,FALSE)","v":{"$error":"#N/A"}}]
[null,null,{"$f":"VLOOKUP(A2568,'Analyse S'!A:D,2,FALSE)","v":{"$error":"#N/A"}}]
[null,null,{"$f":"VLOOKUP(A2569,'Analyse S'!A:D,2,FALSE)","v":{"$error":"#N/A"}}]
[null,null,{"$f":"VLOOKUP(A2570,'Analyse S'!A:D,2,FALSE)","v":{"$error":"#N/A"}}]
[null,null,{"$f":"VLOOKUP(A2571,'Analyse S'!A:D,2,FALSE)","v":{"$error":"#N/A"}}]
[null,null,{"$f":"VLOOKUP(A2572,'Analyse S'!A:D,2,FALSE)","v":{"$error":"#N/A"}}]
[null,null,{"$f":"VLOOKUP(A2573,'Analyse S'!A:D,2,FALSE)","v":{"$error":"#N/A"}}]
[null,null,{"$f":"VLOOKUP(A2574,'Analyse S'!A:D,2,FALSE)","v":{"$error":"#N/A"}}]
[null,null,{"$f":"VLOOKUP(A2575,'Analyse S'!A:D,2,FALSE)","v":{"$error":"#N/A"}}]
[null,null,{"$f":"VLOOKUP(A2576,'Analyse S'!A:D,2,FALSE)","v":{"$error":"#N/A"}}]
[null,null,{"$f":"VLOOKUP(A2577,'Analyse S'!A:D,2,FALSE)","v":{"$error":"#N/A"}}]
[null,null,{"$f":"VLOOKUP(A2578,'Analyse S'!A:D,2,FALSE)","v":{"$error":"#N/A"}}]
[null,null,{"$f":"VLOOKUP(A2579,'Analyse S'!A:D,2,FALSE)","v":{"$error":"#N/A"}}]
[null,null,{"$f":"VLOOKUP(A2580,'Analyse S'!A:D,2,FALSE)","v":{"$error":"#N/A"}}]
[null,null,{"$f":"VLOOKUP(A2581,'Analyse S'!A:D,2,FALSE)","v":{"$error":"#N/A"}}]
[null,null,{"$f":"VLOOKUP(A2582,'Analyse S'!A:D,2,FALSE)","v":{"$error":"#N/A"}}]
[null,null,{"$f":"VLOOKUP(A2583,'Analyse S'!A:D,2,FALSE)","v":{"$error":"#N/A"}}]
[null,null,{"$f":"VLOOKUP(A2584,'Analyse S'!A:D,2,FALSE)","v":{"$error":"#N/A"}}]
[null,null,{"$f":"VLOOKUP(A2585,'Analyse S'!A:D,2,FALSE)","v":{"$error":"#N/A"}}]
[null,null,{"$f":"VLOOKUP(A2586,'Analyse S'!A:D,2,FALSE)","v":{"$error":"#N/A"}}]
[null,null,{"$f":"VLOOKUP(A2587,'Analyse S'!A:D,2,FALSE)","v":{"$error":"#N/A"}}]
[null,null,{"$f":"VLOOKUP(A2588,'Analyse S'!A:D,2,FALSE)","v":{"$error":"#N/A"}}]
[null,null,{"$f":"VLOOKUP(A2589,'Analyse S'!A:D,2,FALSE)","v":{"$error":"#N/A"}}]
[null,null,{"$f":"VLOOKUP(A2590,'Analyse S'!A:D,2,FALSE)","v":{"$error":"#N/A"}}]
[null,null,{"$f":"VLOOKUP(A2591,'Analyse S'!A:D,2,FALSE)","v":{"$error":"#N/A"}}]
[null,null,{"$f":"VLOOKUP(A2592,'Analyse S'!A:D,2,FALSE)","v":{"$error":"#N/A"}}]
[null,null,{"$f":"VLOOKUP(A2593,'Analyse S'!A:D,2,FALSE)","v":{"$error":"#N/A"}}]
[null,null,{"$f":"VLOOKUP(A2594,'Analyse S'!A:D,2,FALSE)","v":{"$error":"#N/A"}}]
[null,null,{"$f":"VLOOKUP(A2595,'Analyse S'!A:D,2,FALSE)","v":{"$error":"#N/A"}}]
[null,null,{"$f":"VLOOKUP(A2596,'Analyse S'!A:D,2,FALSE)","v":{"$error":"#N/A"}}]
[null,null,{"$f":"VLOOKUP(A2597,'Analyse S'!A:D,2,FALSE)","v":{"$error":"#N/A"}}]
[null,null,{"$f":"VLOOKUP(A2598,'Analyse S'!A:D,2,FALSE)","v":{"$error":"#N/A"}}]
[null,null,{"$f":"VLOOKUP(A2599,'Analyse S'!A:D,2,FALSE)","v":{"$error":"#N/A"}}]
[null,null,{"$f":"VLOOKUP(A2600,'Analyse S'!A:D,2,FALSE)","v":{"$error":"#N/A"}}]
[null,null,{"$f":"VLOOKUP(A2601,'Analyse S'!A:D,2,FALSE)","v":{"$error":"#N/A"}}]
[null,null,{"$f":"VLOOKUP(A2602,'Analyse S'!A:D,2,FALSE)","v":{"$error":"#N/A"}}]
[null,null,{"$f":"VLOOKUP(A2603,'Analyse S'!A:D,2,FALSE)","v":{"$error":"#N/A"}}]
[null,null,{"$f":"VLOOKUP(A2604,'Analyse S'!A:D,2,FALSE)","v":{"$error":"#N/A"}}]
[null,null,{"$f":"VLOOKUP(A2605,'Analyse S'!A:D,2,FALSE)","v":{"$error":"#N/A"}}]
[null,null,{"$f":"VLOOKUP(A2606,'Analyse S'!A:D,2,FALSE)","v":{"$error":"#N/A"}}]
[null,null,{"$f":"VLOOKUP(A2607,'Analyse S'!A:D,2,FALSE)","v":{"$error":"#N/A"}}]
[null,null,{"$f":"VLOOKUP(A2608,'Analyse S'!A:D,2,FALSE)","v":{"$error":"#N/A"}}]
[null,null,{"$f":"VLOOKUP(A2609,'Analyse S'!A:D,2,FALSE)","v":{"$error":"#N/A"}}]
[null,null,{"$f":"VLOOKUP(A2610,'Analyse S'!A:D,2,FALSE)","v":{"$error":"#N/A"}}]
[null,null,{"$f":"VLOOKUP(A2611,'Analyse S'!A:D,2,FALSE)","v":{"$error":"#N/A"}}]
[null,null,{"$f":"VLOOKUP(A2612,'Analyse S'!A:D,2,FALSE)","v":{"$error":"#N/A"}}]
[null,null,{"$f":"VLOOKUP(A2613,'Analyse S'!A:D,2,FALSE)","v":{"$error":"#N/A"}}]
[null,null,{"$f":"VLOOKUP(A2614,'Analyse S'!A:D,2,FALSE)","v":{"$error":"#N/A"}}]
[null,null,{"$f":"VLOOKUP(A2615,'Analyse S'!A:D,2,FALSE)","v":{"$error":"#N/A"}}]
[null,null,{"$f":"VLOOKUP(A2616,'Analyse S'!A:D,2,FALSE)","v":{"$error":"#N/A"}}]
[null,null,{"$f":"VLOOKUP(A2617,'Analyse S'!A:D,2,FALSE)","v":{"$error":"#N/A"}}]
[null,null,{"$f":"VLOOKUP(A2618,'Analyse S'!A:D,2,FALSE)","v":{"$error":"#N/A"}}]
[null,null,{"$f":"VLOOKUP(A2619,'Analyse S'!A:D,2,FALSE)","v":{"$error":"#N/A"}}]
[null,null,{"$f":"VLOOKUP(A2620,'Analyse S'!A:D,2,FALSE)","v":{"$error":"#N/A"}}]
[null,null,{"$f":"VLOOKUP(A2621,'Analyse S'!A:D,2,FALSE)","v":{"$error":"#N/A"}}]
[null,null,{"$f":"VLOOKUP(A2622,'Analyse S'!A:D,2,FALSE)","v":{"$error":"#N/A"}}]
[null,null,{"$f":"VLOOKUP(A2623,'Analyse S'!A:D,2,FALSE)","v":{"$error":"#N/A"}}]
[null,null,{"$f":"VLOOKUP(A2624,'Analyse S'!A:D,2,FALSE)","v":{"$error":"#N/A"}}]
[null,null,{"$f":"VLOOKUP(A2625,'Analyse S'!A:D,2,FALSE)","v":{"$error":"#N/A"}}]
[null,null,{"$f":"VLOOKUP(A2626,'Analyse S'!A:D,2,FALSE)","v":{"$error":"#N/A"}}]
[null,null,{"$f":"VLOOKUP(A2627,'Analyse S'!A:D,2,FALSE)","v":{"$error":"#N/A"}}]
[null,null,{"$f":"VLOOKUP(A2628,'Analyse S'!A:D,2,FALSE)","v":{"$error":"#N/A"}}]
[null,null,{"$f":"VLOOKUP(A2629,'Analyse S'!A:D,2,FALSE)","v":{"$error":"#N/A"}}]
[null,null,{"$f":"VLOOKUP(A2630,'Analyse S'!A:D,2,FALSE)","v":{"$error":"#N/A"}}]
[null,null,{"$f":"VLOOKUP(A2631,'Analyse S'!A:D,2,FALSE)","v":{"$error":"#N/A"}}]
[null,null,{"$f":"VLOOKUP(A2632,'Analyse S'!A:D,2,FALSE)","v":{"$error":"#N/A"}}]
[null,null,{"$f":"VLOOKUP(A2633,'Analyse S'!A:D,2,FALSE)","v":{"$error":"#N/A"}}]
[null,null,{"$f":"VLOOKUP(A2634,'Analyse S'!A:D,2,FALSE)","v":{"$error":"#N/A"}}]
[null,null,{"$f":"VLOOKUP(A2635,'Analyse S'!A:D,2,FALSE)","v":{"$error":"#N/A"}}]
[null,null,{"$f":"VLOOKUP(A2636,'Analyse S'!A:D,2,FALSE)","v":{"$error":"#N/A"}}]
[null,null,{"$f":"VLOOKUP(A2637,'Analyse S'!A:D,2,FALSE)","v":{"$error":"#N/A"}}]
[null,null,{"$f":"VLOOKUP(A2638,'Analyse S'!A:D,2,FALSE)","v":{"$error":"#N/A"}}]
[null,null,{"$f":"VLOOKUP(A2639,'Analyse S'!A:D,2,FALSE)","v":{"$error":"#N/A"}}]
[null,null,{"$f":"VLOOKUP(A2640,'Analyse S'!A:D,2,FALSE)","v":{"$error":"#N/A"}}]
[null,null,{"$f":"VLOOKUP(A2641,'Analyse S'!A:D,2,FALSE)","v":{"$error":"#N/A"}}]
[null,null,{"$f":"VLOOKUP(A2642,'Analyse S'!A:D,2,FALSE)","v":{"$error":"#N/A"}}]
[null,null,{"$f":"VLOOKUP(A2643,'Analyse S'!A:D,2,FALSE)","v":{"$error":"#N/A"}}]
[null,null,{"$f":"VLOOKUP(A2644,'Analyse S'!A:D,2,FALSE)","v":{"$error":"#N/A"}}]
[null,null,{"$f":"VLOOKUP(A2645,'Analyse S'!A:D,2,FALSE)","v":{"$error":"#N/A"}}]
[null,null,{"$f":"VLOOKUP(A2646,'Analyse S'!A:D,2,FALSE)","v":{"$error":"#N/A"}}]
[null,null,{"$f":"VLOOKUP(A2647,'Analyse S'!A:D,2,FALSE)","v":{"$error":"#N/A"}}]
[null,null,{"$f":"VLOOKUP(A2648,'Analyse S'!A:D,2,FALSE)","v":{"$error":"#N/A"}}]
[null,null,{"$f":"VLOOKUP(A2649,'Analyse S'!A:D,2,FALSE)","v":{"$error":"#N/A"}}]
[null,null,{"$f":"VLOOKUP(A2650,'Analyse S'!A:D,2,FALSE)","v":{"$error":"#N/A"}}]
[null,null,{"$f":"VLOOKUP(A2651,'Analyse S'!A:D,2,FALSE)","v":{"$error":"#N/A"}}]
[null,null,{"$f":"VLOOKUP(A2652,'Analyse S'!A:D,2,FALSE)","v":{"$error":"#N/A"}}]
[null,null,{"$f":"VLOOKUP(A2653,'Analyse S'!A:D,2,FALSE)","v":{"$error":"#N/A"}}]
[null,null,{"$f":"VLOOKUP(A2654,'Analyse S'!A:D,2,FALSE)","v":{"$error":"#N/A"}}]
[null,null,{"$f":"VLOOKUP(A2655,'Analyse S'!A:D,2,FALSE)","v":{"$error":"#N/A"}}]
[null,null,{"$f":"VLOOKUP(A2656,'Analyse S'!A:D,2,FALSE)","v":{"$error":"#N/A"}}]
[null,null,{"$f":"VLOOKUP(A2657,'Analyse S'!A:D,2,FALSE)","v":{"$error":"#N/A"}}]
[null,null,{"$f":"VLOOKUP(A2658,'Analyse S'!A:D,2,FALSE)","v":{"$error":"#N/A"}}]
[null,null,{"$f":"VLOOKUP(A2659,'Analyse S'!A:D,2,FALSE)","v":{"$error":"#N/A"}}]
[null,null,{"$f":"VLOOKUP(A2660,'Analyse S'!A:D,2,FALSE)","v":{"$error":"#N/A"}}]
[null,null,{"$f":"VLOOKUP(A2661,'Analyse S'!A:D,2,FALSE)","v":{"$error":"#N/A"}}]
[null,null,{"$f":"VLOOKUP(A2662,'Analyse S'!A:D,2,FALSE)","v":{"$error":"#N/A"}}]
[null,null,{"$f":"VLOOKUP(A2663,'Analyse S'!A:D,2,FALSE)","v":{"$error":"#N/A"}}]
[null,null,{"$f":"VLOOKUP(A2664,'Analyse S'!A:D,2,FALSE)","v":{"$error":"#N/A"}}]
[null,null,{"$f":"VLOOKUP(A2665,'Analyse S'!A:D,2,FALSE)","v":{"$error":"#N/A"}}]
[null,null,{"$f":"VLOOKUP(A2666,'Analyse S'!A:D,2,FALSE)","v":{"$error":"#N/A"}}]
[null,null,{"$f":"VLOOKUP(A2667,'Analyse S'!A:D,2,FALSE)","v":{"$error":"#N/A"}}]
[null,null,{"$f":"VLOOKUP(A2668,'Analyse S'!A:D,2,FALSE)","v":{"$error":"#N/A"}}]
[null,null,{"$f":"VLOOKUP(A2669,'Analyse S'!A:D,2,FALSE)","v":{"$error":"#N/A"}}]
[null,null,{"$f":"VLOOKUP(A2670,'Analyse S'!A:D,2,FALSE)","v":{"$error":"#N/A"}}]
[null,null,{"$f":"VLOOKUP(A2671,'Analyse S'!A:D,2,FALSE)","v":{"$error":"#N/A"}}]
[null,null,{"$f":"VLOOKUP(A2672,'Analyse S'!A:D,2,FALSE)","v":{"$error":"#N/A"}}]
[null,null,{"$f":"VLOOKUP(A2673,'Analyse S'!A:D,2,FALSE)","v":{"$error":"#N/A"}}]
[null,null,{"$f":"VLOOKUP(A2674,'Analyse S'!A:D,2,FALSE)","v":{"$error":"#N/A"}}]
[null,null,{"$f":"VLOOKUP(A2675,'Analyse S'!A:D,2,FALSE)","v":{"$error":"#N/A"}}]
[null,null,{"$f":"VLOOKUP(A2676,'Analyse S'!A:D,2,FALSE)","v":{"$error":"#N/A"}}]
[null,null,{"$f":"VLOOKUP(A2677,'Analyse S'!A:D,2,FALSE)","v":{"$error":"#N/A"}}]
[null,null,{"$f":"VLOOKUP(A2678,'Analyse S'!A:D,2,FALSE)","v":{"$error":"#N/A"}}]
[null,null,{"$f":"VLOOKUP(A2679,'Analyse S'!A:D,2,FALSE)","v":{"$error":"#N/A"}}]
[null,null,{"$f":"VLOOKUP(A2680,'Analyse S'!A:D,2,FALSE)","v":{"$error":"#N/A"}}]
[null,null,{"$f":"VLOOKUP(A2681,'Analyse S'!A:D,2,FALSE)","v":{"$error":"#N/A"}}]
[null,null,{"$f":"VLOOKUP(A2682,'Analyse S'!A:D,2,FALSE)","v":{"$error":"#N/A"}}]
[null,null,{"$f":"VLOOKUP(A2683,'Analyse S'!A:D,2,FALSE)","v":{"$error":"#N/A"}}]
[null,null,{"$f":"VLOOKUP(A2684,'Analyse S'!A:D,2,FALSE)","v":{"$error":"#N/A"}}]
[null,null,{"$f":"VLOOKUP(A2685,'Analyse S'!A:D,2,FALSE)","v":{"$error":"#N/A"}}]
[null,null,{"$f":"VLOOKUP(A2686,'Analyse S'!A:D,2,FALSE)","v":{"$error":"#N/A"}}]
[null,null,{"$f":"VLOOKUP(A2687,'Analyse S'!A:D,2,FALSE)","v":{"$error":"#N/A"}}]
[null,null,{"$f":"VLOOKUP(A2688,'Analyse S'!A:D,2,FALSE)","v":{"$error":"#N/A"}}]
[null,null,{"$f":"VLOOKUP(A2689,'Analyse S'!A:D,2,FALSE)","v":{"$error":"#N/A"}}]
[null,null,{"$f":"VLOOKUP(A2690,'Analyse S'!A:D,2,FALSE)","v":{"$error":"#N/A"}}]
[null,null,{"$f":"VLOOKUP(A2691,'Analyse S'!A:D,2,FALSE)","v":{"$error":"#N/A"}}]
[null,null,{"$f":"VLOOKUP(A2692,'Analyse S'!A:D,2,FALSE)","v":{"$error":"#N/A"}}]
[null,null,{"$f":"VLOOKUP(A2693,'Analyse S'!A:D,2,FALSE)","v":{"$error":"#N/A"}}]
[null,null,{"$f":"VLOOKUP(A2694,'Analyse S'!A:D,2,FALSE)","v":{"$error":"#N/A"}}]
[null,null,{"$f":"VLOOKUP(A2695,'Analyse S'!A:D,2,FALSE)","v":{"$error":"#N/A"}}]
[null,null,{"$f":"VLOOKUP(A2696,'Analyse S'!A:D,2,FALSE)","v":{"$error":"#N/A"}}]
[null,null,{"$f":"VLOOKUP(A2697,'Analyse S'!A:D,2,FALSE)","v":{"$error":"#N/A"}}]
[null,null,{"$f":"VLOOKUP(A2698,'Analyse S'!A:D,2,FALSE)","v":{"$error":"#N/A"}}]
[null,null,{"$f":"VLOOKUP(A2699,'Analyse S'!A:D,2,FALSE)","v":{"$error":"#N/A"}}]
[null,null,{"$f":"VLOOKUP(A2700,'Analyse S'!A:D,2,FALSE)","v":{"$error":"#N/A"}}]
[null,null,{"$f":"VLOOKUP(A2701,'Analyse S'!A:D,2,FALSE)","v":{"$error":"#N/A"}}]
[null,null,{"$f":"VLOOKUP(A2702,'Analyse S'!A:D,2,FALSE)","v":{"$error":"#N/A"}}]
[null,null,{"$f":"VLOOKUP(A2703,'Analyse S'!A:D,2,FALSE)","v":{"$error":"#N/A"}}]
[null,null,{"$f":"VLOOKUP(A2704,'Analyse S'!A:D,2,FALSE)","v":{"$error":"#N/A"}}]
[null,null,{"$f":"VLOOKUP(A2705,'Analyse S'!A:D,2,FALSE)","v":{"$error":"#N/A"}}]
[null,null,{"$f":"VLOOKUP(A2706,'Analyse S'!A:D,2,FALSE)","v":{"$error":"#N/A"}}]
[null,null,{"$f":"VLOOKUP(A2707,'Analyse S'!A:D,2,FALSE)","v":{"$error":"#N/A"}}]
[null,null,{"$f":"VLOOKUP(A2708,'Analyse S'!A:D,2,FALSE)","v":{"$error":"#N/A"}}]
[null,null,{"$f":"VLOOKUP(A2709,'Analyse S'!A:D,2,FALSE)","v":{"$error":"#N/A"}}]
[null,null,{"$f":"VLOOKUP(A2710,'Analyse S'!A:D,2,FALSE)","v":{"$error":"#N/A"}}]
[null,null,{"$f":"VLOOKUP(A2711,'Analyse S'!A:D,2,FALSE)","v":{"$error":"#N/A"}}]
[null,null,{"$f":"VLOOKUP(A2712,'Analyse S'!A:D,2,FALSE)","v":{"$error":"#N/A"}}]
[null,null,{"$f":"VLOOKUP(A2713,'Analyse S'!A:D,2,FALSE)","v":{"$error":"#N/A"}}]
[null,null,{"$f":"VLOOKUP(A2714,'Analyse S'!A:D,2,FALSE)","v":{"$error":"#N/A"}}]
[null,null,{"$f":"VLOOKUP(A2715,'Analyse S'!A:D,2,FALSE)","v":{"$error":"#N/A"}}]
[null,null,{"$f":"VLOOKUP(A2716,'Analyse S'!A:D,2,FALSE)","v":{"$error":"#N/A"}}]
[null,null,{"$f":"VLOOKUP(A2717,'Analyse S'!A:D,2,FALSE)","v":{"$error":"#N/A"}}]
[null,null,{"$f":"VLOOKUP(A2718,'Analyse S'!A:D,2,FALSE)","v":{"$error":"#N/A"}}]
[null,null,{"$f":"VLOOKUP(A2719,'Analyse S'!A:D,2,FALSE)","v":{"$error":"#N/A"}}]
[null,null,{"$f":"VLOOKUP(A2720,'Analyse S'!A:D,2,FALSE)","v":{"$error":"#N/A"}}]
[null,null,{"$f":"VLOOKUP(A2721,'Analyse S'!A:D,2,FALSE)","v":{"$error":"#N/A"}}]
[null,null,{"$f":"VLOOKUP(A2722,'Analyse S'!A:D,2,FALSE)","v":{"$error":"#N/A"}}]
[null,null,{"$f":"VLOOKUP(A2723,'Analyse S'!A:D,2,FALSE)","v":{"$error":"#N/A"}}]
[null,null,{"$f":"VLOOKUP(A2724,'Analyse S'!A:D,2,FALSE)","v":{"$error":"#N/A"}}]
[null,null,{"$f":"VLOOKUP(A2725,'Analyse S'!A:D,2,FALSE)","v":{"$error":"#N/A"}}]
[null,null,{"$f":"VLOOKUP(A2726,'Analyse S'!A:D,2,FALSE)","v":{"$error":"#N/A"}}]
[null,null,{"$f":"VLOOKUP(A2727,'Analyse S'!A:D,2,FALSE)","v":{"$error":"#N/A"}}]
[null,null,{"$f":"VLOOKUP(A2728,'Analyse S'!A:D,2,FALSE)","v":{"$error":"#N/A"}}]
[null,null,{"$f":"VLOOKUP(A2729,'Analyse S'!A:D,2,FALSE)","v":{"$error":"#N/A"}}]
[null,null,{"$f":"VLOOKUP(A2730,'Analyse S'!A:D,2,FALSE)","v":{"$error":"#N/A"}}]
[null,null,{"$f":"VLOOKUP(A2731,'Analyse S'!A:D,2,FALSE)","v":{"$error":"#N/A"}}]
[null,null,{"$f":"VLOOKUP(A2732,'Analyse S'!A:D,2,FALSE)","v":{"$error":"#N/A"}}]
[null,null,{"$f":"VLOOKUP(A2733,'Analyse S'!A:D,2,FALSE)","v":{"$error":"#N/A"}}]
[null,null,{"$f":"VLOOKUP(A2734,'Analyse S'!A:D,2,FALSE)","v":{"$error":"#N/A"}}]
[null,null,{"$f":"VLOOKUP(A2735,'Analyse S'!A:D,2,FALSE)","v":{"$error":"#N/A"}}]
[null,null,{"$f":"VLOOKUP(A2736,'Analyse S'!A:D,2,FALSE)","v":{"$error":"#N/A"}}]
[null,null,{"$f":"VLOOKUP(A2737,'Analyse S'!A:D,2,FALSE)","v":{"$error":"#N/A"}}]
[null,null,{"$f":"VLOOKUP(A2738,'Analyse S'!A:D,2,FALSE)","v":{"$error":"#N/A"}}]
[null,null,{"$f":"VLOOKUP(A2739,'Analyse S'!A:D,2,FALSE)","v":{"$error":"#N/A"}}]
[null,null,{"$f":"VLOOKUP(A2740,'Analyse S'!A:D,2,FALSE)","v":{"$error":"#N/A"}}]
[null,null,{"$f":"VLOOKUP(A2741,'Analyse S'!A:D,2,FALSE)","v":{"$error":"#N/A"}}]
[null,null,{"$f":"VLOOKUP(A2742,'Analyse S'!A:D,2,FALSE)","v":{"$error":"#N/A"}}]
[null,null,{"$f":"VLOOKUP(A2743,'Analyse S'!A:D,2,FALSE)","v":{"$error":"#N/A"}}]
[null,null,{"$f":"VLOOKUP(A2744,'Analyse S'!A:D,2,FALSE)","v":{"$error":"#N/A"}}]
[null,null,{"$f":"VLOOKUP(A2745,'Analyse S'!A:D,2,FALSE)","v":{"$error":"#N/A"}}]
[null,null,{"$f":"VLOOKUP(A2746,'Analyse S'!A:D,2,FALSE)","v":{"$error":"#N/A"}}]
[null,null,{"$f":"VLOOKUP(A2747,'Analyse S'!A:D,2,FALSE)","v":{"$error":"#N/A"}}]
[null,null,{"$f":"VLOOKUP(A2748,'Analyse S'!A:D,2,FALSE)","v":{"$error":"#N/A"}}]
[null,null,{"$f":"VLOOKUP(A2749,'Analyse S'!A:D,2,FALSE)","v":{"$error":"#N/A"}}]
[null,null,{"$f":"VLOOKUP(A2750,'Analyse S'!A:D,2,FALSE)","v":{"$error":"#N/A"}}]
[null,null,{"$f":"VLOOKUP(A2751,'Analyse S'!A:D,2,FALSE)","v":{"$error":"#N/A"}}]
[null,null,{"$f":"VLOOKUP(A2752,'Analyse S'!A:D,2,FALSE)","v":{"$error":"#N/A"}}]
[null,null,{"$f":"VLOOKUP(A2753,'Analyse S'!A:D,2,FALSE)","v":{"$error":"#N/A"}}]
[null,null,{"$f":"VLOOKUP(A2754,'Analyse S'!A:D,2,FALSE)","v":{"$error":"#N/A"}}]
[null,null,{"$f":"VLOOKUP(A2755,'Analyse S'!A:D,2,FALSE)","v":{"$error":"#N/A"}}]
[null,null,{"$f":"VLOOKUP(A2756,'Analyse S'!A:D,2,FALSE)","v":{"$error":"#N/A"}}]
[null,null,{"$f":"VLOOKUP(A2757,'Analyse S'!A:D,2,FALSE)","v":{"$error":"#N/A"}}]
[null,null,{"$f":"VLOOKUP(A2758,'Analyse S'!A:D,2,FALSE)","v":{"$error":"#N/A"}}]

{"sheet":"Sorties S1","index":5,"n_rows":2758,"n_cols":3,"rows_kept":2758}
["Étiquettes de lignes","Somme de Qté réelle prenant"," Vérification"]
["006-0937-20",12,{"$f":"VLOOKUP(A2,'Analyse S'!A:D,3,FALSE)","v":12}]
["058-004-001-6",2,{"$f":"VLOOKUP(A3,'Analyse S'!A:D,3,FALSE)","v":2}]
["058-004-201-6",2,{"$f":"VLOOKUP(A4,'Analyse S'!A:D,3,FALSE)","v":2}]
["058-004-301-6",2,{"$f":"VLOOKUP(A5,'Analyse S'!A:D,3,FALSE)","v":2}]
["058-004-601-6",2,{"$f":"VLOOKUP(A6,'Analyse S'!A:D,3,FALSE)","v":2}]
["135D14C001",2,{"$f":"VLOOKUP(A7,'Analyse S'!A:D,3,FALSE)","v":2}]
["1567100-04",1,{"$f":"VLOOKUP(A8,'Analyse S'!A:D,3,FALSE)","v":1}]
["23310CA010010",1,{"$f":"VLOOKUP(A9,'Analyse S'!A:D,3,FALSE)","v":1}]
["307-003-005-6",1,{"$f":"VLOOKUP(A10,'Analyse S'!A:D,3,FALSE)","v":1}]
["307-016-501-0",1,{"$f":"VLOOKUP(A11,'Analyse S'!A:D,3,FALSE)","v":1}]
["307-017-701-0",1,{"$f":"VLOOKUP(A12,'Analyse S'!A:D,3,FALSE)","v":1}]
["307-018-502-0",1,{"$f":"VLOOKUP(A13,'Analyse S'!A:D,3,FALSE)","v":1}]
["307-020-701-0",1,{"$f":"VLOOKUP(A14,'Analyse S'!A:D,3,FALSE)","v":1}]
["307-020-801-0",1,{"$f":"VLOOKUP(A15,'Analyse S'!A:D,3,FALSE)","v":1}]
["307-021-001-0",1,{"$f":"VLOOKUP(A16,'Analyse S'!A:D,3,FALSE)","v":1}]
["307-028-801-0",1,{"$f":"VLOOKUP(A17,'Analyse S'!A:D,3,FALSE)","v":1}]
["307-035-601-0",2,{"$f":"VLOOKUP(A18,'Analyse S'!A:D,3,FALSE)","v":2}]
["307-035-702-0",2,{"$f":"VLOOKUP(A19,'Analyse S'!A:D,3,FALSE)","v":2}]
["307-035-802-0",2,{"$f":"VLOOKUP(A20,'Analyse S'!A:D,3,FALSE)","v":2}]
["307-038-110-0",4,{"$f":"VLOOKUP(A21,'Analyse S'!A:D,3,FALSE)","v":4}]
["307-038-210-0",4,{"$f":"VLOOKUP(A22,'Analyse S'!A:D,3,FALSE)","v":4}]
["307-050-106-0",15,{"$f":"VLOOKUP(A23,'Analyse S'!A:D,3,FALSE)","v":15}]
["307-055-606-0",16,{"$f":"VLOOKUP(A24,'Analyse S'!A:D,3,FALSE)","v":16}]
["307-056-101-0",21,{"$f":"VLOOKUP(A25,'Analyse S'!A:D,3,FALSE)","v":21}]
["307-056-603-0",20,{"$f":"VLOOKUP(A26,'Analyse S'!A:D,3,FALSE)","v":20}]
["307-057-003-0",20,{"$f":"VLOOKUP(A27,'Analyse S'!A:D,3,FALSE)","v":20}]
["307-057-721-0",5,{"$f":"VLOOKUP(A28,'Analyse S'!A:D,3,FALSE)","v":5}]
["307-057-817-0",5,{"$f":"VLOOKUP(A29,'Analyse S'!A:D,3,FALSE)","v":5}]
["307-057-907-0",8,{"$f":"VLOOKUP(A30,'Analyse S'!A:D,3,FALSE)","v":8}]
["307-058-007-0",14,{"$f":"VLOOKUP(A31,'Analyse S'!A:D,3,FALSE)","v":14}]
["307-058-801-0",20,{"$f":"VLOOKUP(A32,'Analyse S'!A:D,3,FALSE)","v":20}]
["307-058-903-0",11,{"$f":"VLOOKUP(A33,'Analyse S'!A:D,3,FALSE)","v":11}]
["307-059-011-0",2,{"$f":"VLOOKUP(A34,'Analyse S'!A:D,3,FALSE)","v":2}]
["307-080-303-6",2,{"$f":"VLOOKUP(A35,'Analyse S'!A:D,3,FALSE)","v":2}]
["307-080-703-6",2,{"$f":"VLOOKUP(A36,'Analyse S'!A:D,3,FALSE)","v":2}]
["307-081-903-0",8,{"$f":"VLOOKUP(A37,'Analyse S'!A:D,3,FALSE)","v":8}]
["307-087-603-0",4,{"$f":"VLOOKUP(A38,'Analyse S'!A:D,3,FALSE)","v":4}]
["307-087-702-0",1,{"$f":"VLOOKUP(A39,'Analyse S'!A:D,3,FALSE)","v":1}]
["307-089-601-0",4,{"$f":"VLOOKUP(A40,'Analyse S'!A:D,3,FALSE)","v":4}]
["307-102-903-6",36,{"$f":"VLOOKUP(A41,'Analyse S'!A:D,3,FALSE)","v":36}]
["307-114-301-0",1,{"$f":"VLOOKUP(A42,'Analyse S'!A:D,3,FALSE)","v":1}]
["307-117-401-0",1,{"$f":"VLOOKUP(A43,'Analyse S'!A:D,3,FALSE)","v":1}]
["307-134-501-0",1,{"$f":"VLOOKUP(A44,'Analyse S'!A:D,3,FALSE)","v":1}]
["307-137-912-0",2,{"$f":"VLOOKUP(A45,'Analyse S'!A:D,3,FALSE)","v":2}]
["307-137-962-0",3,{"$f":"VLOOKUP(A46,'Analyse S'!A:D,3,FALSE)","v":3}]
["307-148-109-0",2,{"$f":"VLOOKUP(A47,'Analyse S'!A:D,3,FALSE)","v":2}]
["307-156-101-0",3,{"$f":"VLOOKUP(A48,'Analyse S'!A:D,3,FALSE)","v":3}]
["307-185-704-6",25,{"$f":"VLOOKUP(A49,'Analyse S'!A:D,3,FALSE)","v":25}]
["307-186-601-0",1,{"$f":"VLOOKUP(A50,'Analyse S'!A:D,3,FALSE)","v":1}]
["307-186-701-0",1,{"$f":"VLOOKUP(A51,'Analyse S'!A:D,3,FALSE)","v":1}]
["307-187-801-6",1,{"$f":"VLOOKUP(A52,'Analyse S'!A:D,3,FALSE)","v":1}]
["307-190-401-0",1,{"$f":"VLOOKUP(A53,'Analyse S'!A:D,3,FALSE)","v":1}]
["307-193-401-0",1,{"$f":"VLOOKUP(A54,'Analyse S'!A:D,3,FALSE)","v":1}]
["307-194-202-0",1,{"$f":"VLOOKUP(A55,'Analyse S'!A:D,3,FALSE)","v":1}]
["307-209-702-0",3,{"$f":"VLOOKUP(A56,'Analyse S'!A:D,3,FALSE)","v":3}]
["307-230-602-6",64,{"$f":"VLOOKUP(A57,'Analyse S'!A:D,3,FALSE)","v":64}]
["307-230-702-6",2,{"$f":"VLOOKUP(A58,'Analyse S'!A:D,3,FALSE)","v":2}]
["307-230-802-6",6,{"$f":"VLOOKUP(A59,'Analyse S'!A:D,3,FALSE)","v":6}]
["307-230-902-6",19,{"$f":"VLOOKUP(A60,'Analyse S'!A:D,3,FALSE)","v":19}]
["307-231-003-6",248,{"$f":"VLOOKUP(A61,'Analyse S'!A:D,3,FALSE)","v":248}]
["307-231-103-6",1,{"$f":"VLOOKUP(A62,'Analyse S'!A:D,3,FALSE)","v":1}]
["307-231-203-6",2,{"$f":"VLOOKUP(A63,'Analyse S'!A:D,3,FALSE)","v":2}]
["307-231-303-6",57,{"$f":"VLOOKUP(A64,'Analyse S'!A:D,3,FALSE)","v":57}]
["307-231-403-6",113,{"$f":"VLOOKUP(A65,'Analyse S'!A:D,3,FALSE)","v":113}]
["307-231-503-6",1,{"$f":"VLOOKUP(A66,'Analyse S'!A:D,3,FALSE)","v":1}]
["307-231-603-6",2,{"$f":"VLOOKUP(A67,'Analyse S'!A:D,3,FALSE)","v":2}]
["307-231-703-6",17,{"$f":"VLOOKUP(A68,'Analyse S'!A:D,3,FALSE)","v":17}]
["307-231-803-6",140,{"$f":"VLOOKUP(A69,'Analyse S'!A:D,3,FALSE)","v":140}]
["307-231-903-6",6,{"$f":"VLOOKUP(A70,'Analyse S'!A:D,3,FALSE)","v":6}]
["307-232-003-6",3,{"$f":"VLOOKUP(A71,'Analyse S'!A:D,3,FALSE)","v":3}]
["307-232-103-6",53,{"$f":"VLOOKUP(A72,'Analyse S'!A:D,3,FALSE)","v":53}]
["307-232-302-0",45,{"$f":"VLOOKUP(A73,'Analyse S'!A:D,3,FALSE)","v":45}]
["307-232-401-0",440,{"$f":"VLOOKUP(A74,'Analyse S'!A:D,3,FALSE)","v":440}]
["307-232-606-0",124,{"$f":"VLOOKUP(A75,'Analyse S'!A:D,3,FALSE)","v":124}]
["307-232-901-0",205,{"$f":"VLOOKUP(A76,'Analyse S'!A:D,3,FALSE)","v":205}]
["307-233-801-0",368,{"$f":"VLOOKUP(A77,'Analyse S'!A:D,3,FALSE)","v":368}]
["307-250-507-0",3,{"$f":"VLOOKUP(A78,'Analyse S'!A:D,3,FALSE)","v":3}]
["307-250-605-6",4,{"$f":"VLOOKUP(A79,'Analyse S'!A:D,3,FALSE)","v":4}]
["307-250-903-0",4,{"$f":"VLOOKUP(A80,'Analyse S'!A:D,3,FALSE)","v":4}]
["307-251-305-0",2,{"$f":"VLOOKUP(A81,'Analyse S'!A:D,3,FALSE)","v":2}]
["307-251-409-0",3,{"$f":"VLOOKUP(A82,'Analyse S'!A:D,3,FALSE)","v":3}]
["307-251-505-0",4,{"$f":"VLOOKUP(A83,'Analyse S'!A:D,3,FALSE)","v":4}]
["307-251-601-0",36,{"$f":"VLOOKUP(A84,'Analyse S'!A:D,3,FALSE)","v":36}]
["307-251-705-0",2,{"$f":"VLOOKUP(A85,'Analyse S'!A:D,3,FALSE)","v":2}]
["307-254-301-0",24,{"$f":"VLOOKUP(A86,'Analyse S'!A:D,3,FALSE)","v":24}]
["307-254-702-6",6,{"$f":"VLOOKUP(A87,'Analyse S'!A:D,3,FALSE)","v":6}]
["307-264-510-6",3,{"$f":"VLOOKUP(A88,'Analyse S'!A:D,3,FALSE)","v":3}]
["307-265-003-6",6,{"$f":"VLOOKUP(A89,'Analyse S'!A:D,3,FALSE)","v":6}]
["307-266-702-0",2,{"$f":"VLOOKUP(A90,'Analyse S'!A:D,3,FALSE)","v":2}]
["307-267-103-0",4,{"$f":"VLOOKUP(A91,'Analyse S'!A:D,3,FALSE)","v":4}]
["307-267-202-6",4,{"$f":"VLOOKUP(A92,'Analyse S'!A:D,3,FALSE)","v":4}]
["307-268-602-0",1,{"$f":"VLOOKUP(A93,'Analyse S'!A:D,3,FALSE)","v":1}]
["307-268-802-0",4,{"$f":"VLOOKUP(A94,'Analyse S'!A:D,3,FALSE)","v":4}]
["307-269-902-0",4,{"$f":"VLOOKUP(A95,'Analyse S'!A:D,3,FALSE)","v":4}]
["307-270-001-0",2,{"$f":"VLOOKUP(A96,'Analyse S'!A:D,3,FALSE)","v":2}]
["307-270-601-0",6,{"$f":"VLOOKUP(A97,'Analyse S'!A:D,3,FALSE)","v":6}]
["307-270-801-0",16,{"$f":"VLOOKUP(A98,'Analyse S'!A:D,3,FALSE)","v":16}]
["307-270-901-0",12,{"$f":"VLOOKUP(A99,'Analyse S'!A:D,3,FALSE)","v":12}]
["307-273-301-0",2,{"$f":"VLOOKUP(A100,'Analyse S'!A:D,3,FALSE)","v":2}]
["307-274-302-0",4,{"$f":"VLOOKUP(A101,'Analyse S'!A:D,3,FALSE)","v":4}]
["307-279-502-6",4,{"$f":"VLOOKUP(A102,'Analyse S'!A:D,3,FALSE)","v":4}]
["307-279-602-6",20,{"$f":"VLOOKUP(A103,'Analyse S'!A:D,3,FALSE)","v":20}]
["307-279-702-6",4,{"$f":"VLOOKUP(A104,'Analyse S'!A:D,3,FALSE)","v":4}]
["307-281-202-6",4,{"$f":"VLOOKUP(A105,'Analyse S'!A:D,3,FALSE)","v":4}]
["307-281-302-6",12,{"$f":"VLOOKUP(A106,'Analyse S'!A:D,3,FALSE)","v":12}]
["307-281-402-6",4,{"$f":"VLOOKUP(A107,'Analyse S'!A:D,3,FALSE)","v":4}]
["307-281-601-6",12,{"$f":"VLOOKUP(A108,'Analyse S'!A:D,3,FALSE)","v":12}]
["307-281-701-6",5,{"$f":"VLOOKUP(A109,'Analyse S'!A:D,3,FALSE)","v":5}]
["307-282-001-0",84,{"$f":"VLOOKUP(A110,'Analyse S'!A:D,3,FALSE)","v":84}]
["307-282-101-0",60,{"$f":"VLOOKUP(A111,'Analyse S'!A:D,3,FALSE)","v":60}]
["307-282-201-0",1,{"$f":"VLOOKUP(A112,'Analyse S'!A:D,3,FALSE)","v":1}]
["307-801-805-0",1,{"$f":"VLOOKUP(A113,'Analyse S'!A:D,3,FALSE)","v":1}]
["307-812-501-0",1,{"$f":"VLOOKUP(A114,'Analyse S'!A:D,3,FALSE)","v":1}]
["307-813-302-0",8,{"$f":"VLOOKUP(A115,'Analyse S'!A:D,3,FALSE)","v":8}]
["307-835-704-0",1,{"$f":"VLOOKUP(A116,'Analyse S'!A:D,3,FALSE)","v":1}]
["307-836-903-0",1,{"$f":"VLOOKUP(A117,'Analyse S'!A:D,3,FALSE)","v":1}]
["307-902-107-0",2,{"$f":"VLOOKUP(A118,'Analyse S'!A:D,3,FALSE)","v":2}]
["307-902-206-0",2,{"$f":"VLOOKUP(A119,'Analyse S'!A:D,3,FALSE)","v":2}]
["307-902-602-0",8,{"$f":"VLOOKUP(A120,'Analyse S'!A:D,3,FALSE)","v":8}]
["307-903-002-0",2,{"$f":"VLOOKUP(A121,'Analyse S'!A:D,3,FALSE)","v":2}]
["307-908-705-0",1,{"$f":"VLOOKUP(A122,'Analyse S'!A:D,3,FALSE)","v":1}]
["307-930-802-0",9,{"$f":"VLOOKUP(A123,'Analyse S'!A:D,3,FALSE)","v":9}]
["307-943-406-0",1,{"$f":"VLOOKUP(A124,'Analyse S'!A:D,3,FALSE)","v":1}]
["307-943-906-0",1,{"$f":"VLOOKUP(A125,'Analyse S'!A:D,3,FALSE)","v":1}]
["309-042-004-0",1,{"$f":"VLOOKUP(A126,'Analyse S'!A:D,3,FALSE)","v":1}]
["309-059-503-0",1,{"$f":"VLOOKUP(A127,'Analyse S'!A:D,3,FALSE)","v":1}]
["309-101-802-0",16,{"$f":"VLOOKUP(A128,'Analyse S'!A:D,3,FALSE)","v":16}]
["309-141-001-0",1,{"$f":"VLOOKUP(A129,'Analyse S'!A:D,3,FALSE)","v":1}]
["309-165-201-0",1,{"$f":"VLOOKUP(A130,'Analyse S'!A:D,3,FALSE)","v":1}]
["394-178-301-0",1,{"$f":"VLOOKUP(A131,'Analyse S'!A:D,3,FALSE)","v":1}]
["394-179-301-0",1,{"$f":"VLOOKUP(A132,'Analyse S'!A:D,3,FALSE)","v":1}]
["416B16-3",1,{"$f":"VLOOKUP(A133,'Analyse S'!A:D,3,FALSE)","v":1}]
["416B20-3",1,{"$f":"VLOOKUP(A134,'Analyse S'!A:D,3,FALSE)","v":1}]
["443-349-00-C",21,{"$f":"VLOOKUP(A135,'Analyse S'!A:D,3,FALSE)","v":21}]
["443-600-0",1,{"$f":"VLOOKUP(A136,'Analyse S'!A:D,3,FALSE)","v":1}]
["551-806-008-0",1,{"$f":"VLOOKUP(A137,'Analyse S'!A:D,3,FALSE)","v":1}]
["551-810-910-0",1,{"$f":"VLOOKUP(A138,'Analyse S'!A:D,3,FALSE)","v":1}]
["602991",2,{"$f":"VLOOKUP(A139,'Analyse S'!A:D,3,FALSE)","v":2}]
["649-392-351-0",32,{"$f":"VLOOKUP(A140,'Analyse S'!A:D,3,FALSE)","v":32}]
["649-972-052-0",1,{"$f":"VLOOKUP(A141,'Analyse S'!A:D,3,FALSE)","v":1}]
["649-972-058-0",6,{"$f":"VLOOKUP(A142,'Analyse S'!A:D,3,FALSE)","v":6}]
["650-002-551-0",440,{"$f":"VLOOKUP(A143,'Analyse S'!A:D,3,FALSE)","v":440}]
["650-151-500-0",2,{"$f":"VLOOKUP(A144,'Analyse S'!A:D,3,FALSE)","v":2}]
["650-151-505-0",6,{"$f":"VLOOKUP(A145,'Analyse S'!A:D,3,FALSE)","v":6}]
["650-151-508-0",49,{"$f":"VLOOKUP(A146,'Analyse S'!A:D,3,FALSE)","v":49}]
["650-151-538-0",8,{"$f":"VLOOKUP(A147,'Analyse S'!A:D,3,FALSE)","v":8}]
["650-151-922-0",2,{"$f":"VLOOKUP(A148,'Analyse S'!A:D,3,FALSE)","v":2}]
["650-152-854-0",2,{"$f":"VLOOKUP(A149,'Analyse S'!A:D,3,FALSE)","v":2}]
["650-152-855-0",3,{"$f":"VLOOKUP(A150,'Analyse S'!A:D,3,FALSE)","v":3}]
["650-153-212-0",2,{"$f":"VLOOKUP(A151,'Analyse S'!A:D,3,FALSE)","v":2}]
["650-153-213-0",5,{"$f":"VLOOKUP(A152,'Analyse S'!A:D,3,FALSE)","v":5}]
["650-153-216-0",34,{"$f":"VLOOKUP(A153,'Analyse S'!A:D,3,FALSE)","v":34}]
["650-153-220-0",1,{"$f":"VLOOKUP(A154,'Analyse S'!A:D,3,FALSE)","v":1}]
["650-153-231-0",14,{"$f":"VLOOKUP(A155,'Analyse S'!A:D,3,FALSE)","v":14}]
["650-153-352-0",2,{"$f":"VLOOKUP(A156,'Analyse S'!A:D,3,FALSE)","v":2}]
["650-153-353-0",16,{"$f":"VLOOKUP(A157,'Analyse S'!A:D,3,FALSE)","v":16}]
["650-153-354-0",6,{"$f":"VLOOKUP(A158,'Analyse S'!A:D,3,FALSE)","v":6}]
["650-153-502-0",5,{"$f":"VLOOKUP(A159,'Analyse S'!A:D,3,FALSE)","v":5}]
["650-153-504-0",33,{"$f":"VLOOKUP(A160,'Analyse S'!A:D,3,FALSE)","v":33}]
["650-153-506-0",15,{"$f":"VLOOKUP(A161,'Analyse S'!A:D,3,FALSE)","v":15}]
["650-153-525-0",4,{"$f":"VLOOKUP(A162,'Analyse S'!A:D,3,FALSE)","v":4}]
["650-192-657-0",1,{"$f":"VLOOKUP(A163,'Analyse S'!A:D,3,FALSE)","v":1}]
["650-192-665-0",1,{"$f":"VLOOKUP(A164,'Analyse S'!A:D,3,FALSE)","v":1}]
["650-192-677-0",1,{"$f":"VLOOKUP(A165,'Analyse S'!A:D,3,FALSE)","v":1}]
["650-192-706-0",6,{"$f":"VLOOKUP(A166,'Analyse S'!A:D,3,FALSE)","v":6}]
["650-192-708-0",1,{"$f":"VLOOKUP(A167,'Analyse S'!A:D,3,FALSE)","v":1}]
["650-201-641-0",12,{"$f":"VLOOKUP(A168,'Analyse S'!A:D,3,FALSE)","v":12}]
["650-301-811-0",16,{"$f":"VLOOKUP(A169,'Analyse S'!A:D,3,FALSE)","v":16}]
["650-305-341-0",2,{"$f":"VLOOKUP(A170,'Analyse S'!A:D,3,FALSE)","v":2}]
["650-309-004-0",18,{"$f":"VLOOKUP(A171,'Analyse S'!A:D,3,FALSE)","v":18}]
["650-341-122-0",5,{"$f":"VLOOKUP(A172,'Analyse S'!A:D,3,FALSE)","v":5}]
["650-341-124-0",1,{"$f":"VLOOKUP(A173,'Analyse S'!A:D,3,FALSE)","v":1}]
["650-342-220-0",1,{"$f":"VLOOKUP(A174,'Analyse S'!A:D,3,FALSE)","v":1}]
["650-362-621-6",20,{"$f":"VLOOKUP(A175,'Analyse S'!A:D,3,FALSE)","v":20}]
["650-365-011-0",1,{"$f":"VLOOKUP(A176,'Analyse S'!A:D,3,FALSE)","v":1}]
["650-365-021-0",1,{"$f":"VLOOKUP(A177,'Analyse S'!A:D,3,FALSE)","v":1}]
["650-365-026-0",2,{"$f":"VLOOKUP(A178,'Analyse S'!A:D,3,FALSE)","v":2}]
["650-366-520-0",1,{"$f":"VLOOKUP(A179,'Analyse S'!A:D,3,FALSE)","v":1}]
["650-389-036-0",1,{"$f":"VLOOKUP(A180,'Analyse S'!A:D,3,FALSE)","v":1}]
["650-391-009-0",1,{"$f":"VLOOKUP(A181,'Analyse S'!A:D,3,FALSE)","v":1}]
["650-391-048-0",2,{"$f":"VLOOKUP(A182,'Analyse S'!A:D,3,FALSE)","v":2}]
["650-393-057-0",2,{"$f":"VLOOKUP(A183,'Analyse S'!A:D,3,FALSE)","v":2}]
["650-393-065-0",2,{"$f":"VLOOKUP(A184,'Analyse S'!A:D,3,FALSE)","v":2}]
["650-393-080-0",1,{"$f":"VLOOKUP(A185,'Analyse S'!A:D,3,FALSE)","v":1}]
["650-393-081-0",1,{"$f":"VLOOKUP(A186,'Analyse S'!A:D,3,FALSE)","v":1}]
["650-393-236-0",3,{"$f":"VLOOKUP(A187,'Analyse S'!A:D,3,FALSE)","v":3}]
["650-393-260-0",1,{"$f":"VLOOKUP(A188,'Analyse S'!A:D,3,FALSE)","v":1}]
["650-393-268-0",2,{"$f":"VLOOKUP(A189,'Analyse S'!A:D,3,FALSE)","v":2}]
["650-403-003-0",1,{"$f":"VLOOKUP(A190,'Analyse S'!A:D,3,FALSE)","v":1}]
["650-403-022-0",1,{"$f":"VLOOKUP(A191,'Analyse S'!A:D,3,FALSE)","v":1}]
["650-403-042-0",1,{"$f":"VLOOKUP(A192,'Analyse S'!A:D,3,FALSE)","v":1}]
["650-403-062-0",1,{"$f":"VLOOKUP(A193,'Analyse S'!A:D,3,FALSE)","v":1}]
["650-773-106-0",80,{"$f":"VLOOKUP(A194,'Analyse S'!A:D,3,FALSE)","v":80}]
["650-773-112-0",4,{"$f":"VLOOKUP(A195,'Analyse S'!A:D,3,FALSE)","v":4}]
["650-779-053-0",2,{"$f":"VLOOKUP(A196,'Analyse S'!A:D,3,FALSE)","v":2}]
["650-779-063-0",30,{"$f":"VLOOKUP(A197,'Analyse S'!A:D,3,FALSE)","v":30}]
["650-781-105-0",23,{"$f":"VLOOKUP(A198,'Analyse S'!A:D,3,FALSE)","v":23}]
["650-781-108-0",12,{"$f":"VLOOKUP(A199,'Analyse S'!A:D,3,FALSE)","v":12}]
["650-783-049-0",66,{"$f":"VLOOKUP(A200,'Analyse S'!A:D,3,FALSE)","v":66}]
["650-784-044-0",120,{"$f":"VLOOKUP(A201,'Analyse S'!A:D,3,FALSE)","v":120}]
["650-788-131-0",1,{"$f":"VLOOKUP(A202,'Analyse S'!A:D,3,FALSE)","v":1}]
["650-788-276-0",3,{"$f":"VLOOKUP(A203,'Analyse S'!A:D,3,FALSE)","v":3}]
["650-788-583-0",1,{"$f":"VLOOKUP(A204,'Analyse S'!A:D,3,FALSE)","v":1}]
["650-788-584-0",1,{"$f":"VLOOKUP(A205,'Analyse S'!A:D,3,FALSE)","v":1}]
["650-788-586-0",1,{"$f":"VLOOKUP(A206,'Analyse S'!A:D,3,FALSE)","v":1}]
["650-805-028-0",1,{"$f":"VLOOKUP(A207,'Analyse S'!A:D,3,FALSE)","v":1}]
["650-805-029-0",2,{"$f":"VLOOKUP(A208,'Analyse S'!A:D,3,FALSE)","v":2}]
["650-972-010-0",17,{"$f":"VLOOKUP(A209,'Analyse S'!A:D,3,FALSE)","v":17}]
["650-993-103-0",1,{"$f":"VLOOKUP(A210,'Analyse S'!A:D,3,FALSE)","v":1}]
["AE43698CAA",2,{"$f":"VLOOKUP(A211,'Analyse S'!A:D,3,FALSE)","v":2}]
["AX50531",1,{"$f":"VLOOKUP(A212,'Analyse S'!A:D,3,FALSE)","v":1}]
["CA00149A",1,{"$f":"VLOOKUP(A213,'Analyse S'!A:D,3,FALSE)","v":1}]
["E27499-20-4HFTZ",4,{"$f":"VLOOKUP(A214,'Analyse S'!A:D,3,FALSE)","v":4}]
["E27499-20-5HFTZ",4,{"$f":"VLOOKUP(A215,'Analyse S'!A:D,3,FALSE)","v":4}]
["EN2929-060014",2,{"$f":"VLOOKUP(A216,'Analyse S'!A:D,3,FALSE)","v":2}]
["EN2997WS01415MN",1,{"$f":"VLOOKUP(A217,'Analyse S'!A:D,3,FALSE)","v":1}]
["EN3049A0025",1,{"$f":"VLOOKUP(A218,'Analyse S'!A:D,3,FALSE)","v":1}]
["EN3049A0040",1,{"$f":"VLOOKUP(A219,'Analyse S'!A:D,3,FALSE)","v":1}]
["EN3049A0045",6,{"$f":"VLOOKUP(A220,'Analyse S'!A:D,3,FALSE)","v":6}]
["EN3049A0063",1,{"$f":"VLOOKUP(A221,'Analyse S'!A:D,3,FALSE)","v":1}]
["EN3049A0067",1,{"$f":"VLOOKUP(A222,'Analyse S'!A:D,3,FALSE)","v":1}]
["EN3049A0075",4,{"$f":"VLOOKUP(A223,'Analyse S'!A:D,3,FALSE)","v":4}]
["EN3049A0080",1,{"$f":"VLOOKUP(A224,'Analyse S'!A:D,3,FALSE)","v":1}]
["EN3049A0085",4,{"$f":"VLOOKUP(A225,'Analyse S'!A:D,3,FALSE)","v":4}]
["EN3049A0106",3,{"$f":"VLOOKUP(A226,'Analyse S'!A:D,3,FALSE)","v":3}]
["EN3049A0118",2,{"$f":"VLOOKUP(A227,'Analyse S'!A:D,3,FALSE)","v":2}]
["EN3049A0132",1,{"$f":"VLOOKUP(A228,'Analyse S'!A:D,3,FALSE)","v":1}]
["EN3049A0160",1,{"$f":"VLOOKUP(A229,'Analyse S'!A:D,3,FALSE)","v":1}]
["EN3049A0190",1,{"$f":"VLOOKUP(A230,'Analyse S'!A:D,3,FALSE)","v":1}]
["EN3049A0200",2,{"$f":"VLOOKUP(A231,'Analyse S'!A:D,3,FALSE)","v":2}]
["EN3049A0212",1,{"$f":"VLOOKUP(A232,'Analyse S'!A:D,3,FALSE)","v":1}]
["EN3049A0224",1,{"$f":"VLOOKUP(A233,'Analyse S'!A:D,3,FALSE)","v":1}]
["EN3049A0236",3,{"$f":"VLOOKUP(A234,'Analyse S'!A:D,3,FALSE)","v":3}]
["EN3049A0250",4,{"$f":"VLOOKUP(A235,'Analyse S'!A:D,3,FALSE)","v":4}]
["EN3049A0265",1,{"$f":"VLOOKUP(A236,'Analyse S'!A:D,3,FALSE)","v":1}]
["EN3049A0280",6,{"$f":"VLOOKUP(A237,'Analyse S'!A:D,3,FALSE)","v":6}]
["EN3049A0300",5,{"$f":"VLOOKUP(A238,'Analyse S'!A:D,3,FALSE)","v":5}]
["EN3049A0315",8,{"$f":"VLOOKUP(A239,'Analyse S'!A:D,3,FALSE)","v":8}]
["EN3049A0335",2,{"$f":"VLOOKUP(A240,'Analyse S'!A:D,3,FALSE)","v":2}]
["EN3049A0345",1,{"$f":"VLOOKUP(A241,'Analyse S'!A:D,3,FALSE)","v":1}]
["EN3049A0355",5,{"$f":"VLOOKUP(A242,'Analyse S'!A:D,3,FALSE)","v":5}]
["EN3049A0365",1,{"$f":"VLOOKUP(A243,'Analyse S'!A:D,3,FALSE)","v":1}]
["EN3049A0437",8,{"$f":"VLOOKUP(A244,'Analyse S'!A:D,3,FALSE)","v":8}]
["EN3049A1000",1,{"$f":"VLOOKUP(A245,'Analyse S'!A:D,3,FALSE)","v":1}]
["EN3049B0080",4,{"$f":"VLOOKUP(A246,'Analyse S'!A:D,3,FALSE)","v":4}]
["EN3049B0100",2,{"$f":"VLOOKUP(A247,'Analyse S'!A:D,3,FALSE)","v":2}]
["EN3049B0106",10,{"$f":"VLOOKUP(A248,'Analyse S'!A:D,3,FALSE)","v":10}]
["EN3049B0132",2,{"$f":"VLOOKUP(A249,'Analyse S'!A:D,3,FALSE)","v":2}]
["EN3049B0150",2,{"$f":"VLOOKUP(A250,'Analyse S'!A:D,3,FALSE)","v":2}]
["EN3049B0224",1,{"$f":"VLOOKUP(A251,'Analyse S'!A:D,3,FALSE)","v":1}]
["EN3049B0236",7,{"$f":"VLOOKUP(A252,'Analyse S'!A:D,3,FALSE)","v":7}]
["EN3049B0250",1,{"$f":"VLOOKUP(A253,'Analyse S'!A:D,3,FALSE)","v":1}]
["EN3049B0265",8,{"$f":"VLOOKUP(A254,'Analyse S'!A:D,3,FALSE)","v":8}]
["EN3049B0280",8,{"$f":"VLOOKUP(A255,'Analyse S'!A:D,3,FALSE)","v":8}]
["EN3049B0315",1,{"$f":"VLOOKUP(A256,'Analyse S'!A:D,3,FALSE)","v":1}]
["EN3049B0437",4,{"$f":"VLOOKUP(A257,'Analyse S'!A:D,3,FALSE)","v":4}]
["EN3049B0475",1,{"$f":"VLOOKUP(A258,'Analyse S'!A:D,3,FALSE)","v":1}]
["EN3049B0487",1,{"$f":"VLOOKUP(A259,'Analyse S'!A:D,3,FALSE)","v":1}]
["EN3049B0580",5,{"$f":"VLOOKUP(A260,'Analyse S'!A:D,3,FALSE)","v":5}]
["EN3049B0600",5,{"$f":"VLOOKUP(A261,'Analyse S'!A:D,3,FALSE)","v":5}]
["EN3049B0950",1,{"$f":"VLOOKUP(A262,'Analyse S'!A:D,3,FALSE)","v":1}]
["EN3049B1500",1,{"$f":"VLOOKUP(A263,'Analyse S'!A:D,3,FALSE)","v":1}]
["EN3637-100",30,{"$f":"VLOOKUP(A264,'Analyse S'!A:D,3,FALSE)","v":30}]
["EN3720-050",444,{"$f":"VLOOKUP(A265,'Analyse S'!A:D,3,FALSE)","v":444}]
["EN3720-060",13,{"$f":"VLOOKUP(A266,'Analyse S'!A:D,3,FALSE)","v":13}]
["EN3720-070",1,{"$f":"VLOOKUP(A267,'Analyse S'!A:D,3,FALSE)","v":1}]
["EN3720-080",12,{"$f":"VLOOKUP(A268,'Analyse S'!A:D,3,FALSE)","v":12}]
["EN3832-060020",19,{"$f":"VLOOKUP(A269,'Analyse S'!A:D,3,FALSE)","v":19}]
["EN3832-070024",8,{"$f":"VLOOKUP(A270,'Analyse S'!A:D,3,FALSE)","v":8}]
["ENR03603",2,{"$f":"VLOOKUP(A271,'Analyse S'!A:D,3,FALSE)","v":2}]
["EV5105-0-10",2,{"$f":"VLOOKUP(A272,'Analyse S'!A:D,3,FALSE)","v":2}]
["GPN620U22B",1,{"$f":"VLOOKUP(A273,'Analyse S'!A:D,3,FALSE)","v":1}]
["TFE-R-5/64-X",2,{"$f":"VLOOKUP(A274,'Analyse S'!A:D,3,FALSE)","v":2}]
["307-163-303-0",4,{"$f":"VLOOKUP(A275,'Analyse S'!A:D,3,FALSE)","v":4}]
["650-066-551-0",100,{"$f":"VLOOKUP(A276,'Analyse S'!A:D,3,FALSE)","v":100}]
["307-058-345-0",1,{"$f":"VLOOKUP(A277,'Analyse S'!A:D,3,FALSE)","v":1}]
[null,null,{"$f":"VLOOKUP(A278,'Analyse S'!A:D,3,FALSE)","v":{"$error":"#N/A"}}]
[null,null,{"$f":"VLOOKUP(A279,'Analyse S'!A:D,3,FALSE)","v":{"$error":"#N/A"}}]
[null,null,{"$f":"VLOOKUP(A280,'Analyse S'!A:D,3,FALSE)","v":{"$error":"#N/A"}}]
[null,null,{"$f":"VLOOKUP(A281,'Analyse S'!A:D,3,FALSE)","v":{"$error":"#N/A"}}]
[null,null,{"$f":"VLOOKUP(A282,'Analyse S'!A:D,3,FALSE)","v":{"$error":"#N/A"}}]
[null,null,{"$f":"VLOOKUP(A283,'Analyse S'!A:D,3,FALSE)","v":{"$error":"#N/A"}}]
[null,null,{"$f":"VLOOKUP(A284,'Analyse S'!A:D,3,FALSE)","v":{"$error":"#N/A"}}]
[null,null,{"$f":"VLOOKUP(A285,'Analyse S'!A:D,3,FALSE)","v":{"$error":"#N/A"}}]
[null,null,{"$f":"VLOOKUP(A286,'Analyse S'!A:D,3,FALSE)","v":{"$error":"#N/A"}}]
[null,null,{"$f":"VLOOKUP(A287,'Analyse S'!A:D,3,FALSE)","v":{"$error":"#N/A"}}]
[null,null,{"$f":"VLOOKUP(A288,'Analyse S'!A:D,3,FALSE)","v":{"$error":"#N/A"}}]
[null,null,{"$f":"VLOOKUP(A289,'Analyse S'!A:D,3,FALSE)","v":{"$error":"#N/A"}}]
[null,null,{"$f":"VLOOKUP(A290,'Analyse S'!A:D,3,FALSE)","v":{"$error":"#N/A"}}]
[null,null,{"$f":"VLOOKUP(A291,'Analyse S'!A:D,3,FALSE)","v":{"$error":"#N/A"}}]
[null,null,{"$f":"VLOOKUP(A292,'Analyse S'!A:D,3,FALSE)","v":{"$error":"#N/A"}}]
[null,null,{"$f":"VLOOKUP(A293,'Analyse S'!A:D,3,FALSE)","v":{"$error":"#N/A"}}]
[null,null,{"$f":"VLOOKUP(A294,'Analyse S'!A:D,3,FALSE)","v":{"$error":"#N/A"}}]
[null,null,{"$f":"VLOOKUP(A295,'Analyse S'!A:D,3,FALSE)","v":{"$error":"#N/A"}}]
[null,null,{"$f":"VLOOKUP(A296,'Analyse S'!A:D,3,FALSE)","v":{"$error":"#N/A"}}]
[null,null,{"$f":"VLOOKUP(A297,'Analyse S'!A:D,3,FALSE)","v":{"$error":"#N/A"}}]
[null,null,{"$f":"VLOOKUP(A298,'Analyse S'!A:D,3,FALSE)","v":{"$error":"#N/A"}}]
[null,null,{"$f":"VLOOKUP(A299,'Analyse S'!A:D,3,FALSE)","v":{"$error":"#N/A"}}]
[null,null,{"$f":"VLOOKUP(A300,'Analyse S'!A:D,3,FALSE)","v":{"$error":"#N/A"}}]
[null,null,{"$f":"VLOOKUP(A301,'Analyse S'!A:D,3,FALSE)","v":{"$error":"#N/A"}}]
[null,null,{"$f":"VLOOKUP(A302,'Analyse S'!A:D,3,FALSE)","v":{"$error":"#N/A"}}]
[null,null,{"$f":"VLOOKUP(A303,'Analyse S'!A:D,3,FALSE)","v":{"$error":"#N/A"}}]
[null,null,{"$f":"VLOOKUP(A304,'Analyse S'!A:D,3,FALSE)","v":{"$error":"#N/A"}}]
[null,null,{"$f":"VLOOKUP(A305,'Analyse S'!A:D,3,FALSE)","v":{"$error":"#N/A"}}]
[null,null,{"$f":"VLOOKUP(A306,'Analyse S'!A:D,3,FALSE)","v":{"$error":"#N/A"}}]
[null,null,{"$f":"VLOOKUP(A307,'Analyse S'!A:D,3,FALSE)","v":{"$error":"#N/A"}}]
[null,null,{"$f":"VLOOKUP(A308,'Analyse S'!A:D,3,FALSE)","v":{"$error":"#N/A"}}]
[null,null,{"$f":"VLOOKUP(A309,'Analyse S'!A:D,3,FALSE)","v":{"$error":"#N/A"}}]
[null,null,{"$f":"VLOOKUP(A310,'Analyse S'!A:D,3,FALSE)","v":{"$error":"#N/A"}}]
[null,null,{"$f":"VLOOKUP(A311,'Analyse S'!A:D,3,FALSE)","v":{"$error":"#N/A"}}]
[null,null,{"$f":"VLOOKUP(A312,'Analyse S'!A:D,3,FALSE)","v":{"$error":"#N/A"}}]
[null,null,{"$f":"VLOOKUP(A313,'Analyse S'!A:D,3,FALSE)","v":{"$error":"#N/A"}}]
[null,null,{"$f":"VLOOKUP(A314,'Analyse S'!A:D,3,FALSE)","v":{"$error":"#N/A"}}]
[null,null,{"$f":"VLOOKUP(A315,'Analyse S'!A:D,3,FALSE)","v":{"$error":"#N/A"}}]
[null,null,{"$f":"VLOOKUP(A316,'Analyse S'!A:D,3,FALSE)","v":{"$error":"#N/A"}}]
[null,null,{"$f":"VLOOKUP(A317,'Analyse S'!A:D,3,FALSE)","v":{"$error":"#N/A"}}]
[null,null,{"$f":"VLOOKUP(A318,'Analyse S'!A:D,3,FALSE)","v":{"$error":"#N/A"}}]
[null,null,{"$f":"VLOOKUP(A319,'Analyse S'!A:D,3,FALSE)","v":{"$error":"#N/A"}}]
[null,null,{"$f":"VLOOKUP(A320,'Analyse S'!A:D,3,FALSE)","v":{"$error":"#N/A"}}]
[null,null,{"$f":"VLOOKUP(A321,'Analyse S'!A:D,3,FALSE)","v":{"$error":"#N/A"}}]
[null,null,{"$f":"VLOOKUP(A322,'Analyse S'!A:D,3,FALSE)","v":{"$error":"#N/A"}}]
[null,null,{"$f":"VLOOKUP(A323,'Analyse S'!A:D,3,FALSE)","v":{"$error":"#N/A"}}]
[null,null,{"$f":"VLOOKUP(A324,'Analyse S'!A:D,3,FALSE)","v":{"$error":"#N/A"}}]
[null,null,{"$f":"VLOOKUP(A325,'Analyse S'!A:D,3,FALSE)","v":{"$error":"#N/A"}}]
[null,null,{"$f":"VLOOKUP(A326,'Analyse S'!A:D,3,FALSE)","v":{"$error":"#N/A"}}]
[null,null,{"$f":"VLOOKUP(A327,'Analyse S'!A:D,3,FALSE)","v":{"$error":"#N/A"}}]
[null,null,{"$f":"VLOOKUP(A328,'Analyse S'!A:D,3,FALSE)","v":{"$error":"#N/A"}}]
[null,null,{"$f":"VLOOKUP(A329,'Analyse S'!A:D,3,FALSE)","v":{"$error":"#N/A"}}]
[null,null,{"$f":"VLOOKUP(A330,'Analyse S'!A:D,3,FALSE)","v":{"$error":"#N/A"}}]
[null,null,{"$f":"VLOOKUP(A331,'Analyse S'!A:D,3,FALSE)","v":{"$error":"#N/A"}}]
[null,null,{"$f":"VLOOKUP(A332,'Analyse S'!A:D,3,FALSE)","v":{"$error":"#N/A"}}]
[null,null,{"$f":"VLOOKUP(A333,'Analyse S'!A:D,3,FALSE)","v":{"$error":"#N/A"}}]
[null,null,{"$f":"VLOOKUP(A334,'Analyse S'!A:D,3,FALSE)","v":{"$error":"#N/A"}}]
[null,null,{"$f":"VLOOKUP(A335,'Analyse S'!A:D,3,FALSE)","v":{"$error":"#N/A"}}]
[null,null,{"$f":"VLOOKUP(A336,'Analyse S'!A:D,3,FALSE)","v":{"$error":"#N/A"}}]
[null,null,{"$f":"VLOOKUP(A337,'Analyse S'!A:D,3,FALSE)","v":{"$error":"#N/A"}}]
[null,null,{"$f":"VLOOKUP(A338,'Analyse S'!A:D,3,FALSE)","v":{"$error":"#N/A"}}]
[null,null,{"$f":"VLOOKUP(A339,'Analyse S'!A:D,3,FALSE)","v":{"$error":"#N/A"}}]
[null,null,{"$f":"VLOOKUP(A340,'Analyse S'!A:D,3,FALSE)","v":{"$error":"#N/A"}}]
[null,null,{"$f":"VLOOKUP(A341,'Analyse S'!A:D,3,FALSE)","v":{"$error":"#N/A"}}]
[null,null,{"$f":"VLOOKUP(A342,'Analyse S'!A:D,3,FALSE)","v":{"$error":"#N/A"}}]
[null,null,{"$f":"VLOOKUP(A343,'Analyse S'!A:D,3,FALSE)","v":{"$error":"#N/A"}}]
[null,null,{"$f":"VLOOKUP(A344,'Analyse S'!A:D,3,FALSE)","v":{"$error":"#N/A"}}]
[null,null,{"$f":"VLOOKUP(A345,'Analyse S'!A:D,3,FALSE)","v":{"$error":"#N/A"}}]
[null,null,{"$f":"VLOOKUP(A346,'Analyse S'!A:D,3,FALSE)","v":{"$error":"#N/A"}}]
[null,null,{"$f":"VLOOKUP(A347,'Analyse S'!A:D,3,FALSE)","v":{"$error":"#N/A"}}]
[null,null,{"$f":"VLOOKUP(A348,'Analyse S'!A:D,3,FALSE)","v":{"$error":"#N/A"}}]
[null,null,{"$f":"VLOOKUP(A349,'Analyse S'!A:D,3,FALSE)","v":{"$error":"#N/A"}}]
[null,null,{"$f":"VLOOKUP(A350,'Analyse S'!A:D,3,FALSE)","v":{"$error":"#N/A"}}]
[null,null,{"$f":"VLOOKUP(A351,'Analyse S'!A:D,3,FALSE)","v":{"$error":"#N/A"}}]
[null,null,{"$f":"VLOOKUP(A352,'Analyse S'!A:D,3,FALSE)","v":{"$error":"#N/A"}}]
[null,null,{"$f":"VLOOKUP(A353,'Analyse S'!A:D,3,FALSE)","v":{"$error":"#N/A"}}]
[null,null,{"$f":"VLOOKUP(A354,'Analyse S'!A:D,3,FALSE)","v":{"$error":"#N/A"}}]
[null,null,{"$f":"VLOOKUP(A355,'Analyse S'!A:D,3,FALSE)","v":{"$error":"#N/A"}}]
[null,null,{"$f":"VLOOKUP(A356,'Analyse S'!A:D,3,FALSE)","v":{"$error":"#N/A"}}]
[null,null,{"$f":"VLOOKUP(A357,'Analyse S'!A:D,3,FALSE)","v":{"$error":"#N/A"}}]
[null,null,{"$f":"VLOOKUP(A358,'Analyse S'!A:D,3,FALSE)","v":{"$error":"#N/A"}}]
[null,null,{"$f":"VLOOKUP(A359,'Analyse S'!A:D,3,FALSE)","v":{"$error":"#N/A"}}]
[null,null,{"$f":"VLOOKUP(A360,'Analyse S'!A:D,3,FALSE)","v":{"$error":"#N/A"}}]
[null,null,{"$f":"VLOOKUP(A361,'Analyse S'!A:D,3,FALSE)","v":{"$error":"#N/A"}}]
[null,null,{"$f":"VLOOKUP(A362,'Analyse S'!A:D,3,FALSE)","v":{"$error":"#N/A"}}]
[null,null,{"$f":"VLOOKUP(A363,'Analyse S'!A:D,3,FALSE)","v":{"$error":"#N/A"}}]
[null,null,{"$f":"VLOOKUP(A364,'Analyse S'!A:D,3,FALSE)","v":{"$error":"#N/A"}}]
[null,null,{"$f":"VLOOKUP(A365,'Analyse S'!A:D,3,FALSE)","v":{"$error":"#N/A"}}]
[null,null,{"$f":"VLOOKUP(A366,'Analyse S'!A:D,3,FALSE)","v":{"$error":"#N/A"}}]
[null,null,{"$f":"VLOOKUP(A367,'Analyse S'!A:D,3,FALSE)","v":{"$error":"#N/A"}}]
[null,null,{"$f":"VLOOKUP(A368,'Analyse S'!A:D,3,FALSE)","v":{"$error":"#N/A"}}]
[null,null,{"$f":"VLOOKUP(A369,'Analyse S'!A:D,3,FALSE)","v":{"$error":"#N/A"}}]
[null,null,{"$f":"VLOOKUP(A370,'Analyse S'!A:D,3,FALSE)","v":{"$error":"#N/A"}}]
[null,null,{"$f":"VLOOKUP(A371,'Analyse S'!A:D,3,FALSE)","v":{"$error":"#N/A"}}]
[null,null,{"$f":"VLOOKUP(A372,'Analyse S'!A:D,3,FALSE)","v":{"$error":"#N/A"}}]
[null,null,{"$f":"VLOOKUP(A373,'Analyse S'!A:D,3,FALSE)","v":{"$error":"#N/A"}}]
[null,null,{"$f":"VLOOKUP(A374,'Analyse S'!A:D,3,FALSE)","v":{"$error":"#N/A"}}]
[null,null,{"$f":"VLOOKUP(A375,'Analyse S'!A:D,3,FALSE)","v":{"$error":"#N/A"}}]
[null,null,{"$f":"VLOOKUP(A376,'Analyse S'!A:D,3,FALSE)","v":{"$error":"#N/A"}}]
[null,null,{"$f":"VLOOKUP(A377,'Analyse S'!A:D,3,FALSE)","v":{"$error":"#N/A"}}]
[null,null,{"$f":"VLOOKUP(A378,'Analyse S'!A:D,3,FALSE)","v":{"$error":"#N/A"}}]
[null,null,{"$f":"VLOOKUP(A379,'Analyse S'!A:D,3,FALSE)","v":{"$error":"#N/A"}}]
[null,null,{"$f":"VLOOKUP(A380,'Analyse S'!A:D,3,FALSE)","v":{"$error":"#N/A"}}]
[null,null,{"$f":"VLOOKUP(A381,'Analyse S'!A:D,3,FALSE)","v":{"$error":"#N/A"}}]
[null,null,{"$f":"VLOOKUP(A382,'Analyse S'!A:D,3,FALSE)","v":{"$error":"#N/A"}}]
[null,null,{"$f":"VLOOKUP(A383,'Analyse S'!A:D,3,FALSE)","v":{"$error":"#N/A"}}]
[null,null,{"$f":"VLOOKUP(A384,'Analyse S'!A:D,3,FALSE)","v":{"$error":"#N/A"}}]
[null,null,{"$f":"VLOOKUP(A385,'Analyse S'!A:D,3,FALSE)","v":{"$error":"#N/A"}}]
[null,null,{"$f":"VLOOKUP(A386,'Analyse S'!A:D,3,FALSE)","v":{"$error":"#N/A"}}]
[null,null,{"$f":"VLOOKUP(A387,'Analyse S'!A:D,3,FALSE)","v":{"$error":"#N/A"}}]
[null,null,{"$f":"VLOOKUP(A388,'Analyse S'!A:D,3,FALSE)","v":{"$error":"#N/A"}}]
[null,null,{"$f":"VLOOKUP(A389,'Analyse S'!A:D,3,FALSE)","v":{"$error":"#N/A"}}]
[null,null,{"$f":"VLOOKUP(A390,'Analyse S'!A:D,3,FALSE)","v":{"$error":"#N/A"}}]
[null,null,{"$f":"VLOOKUP(A391,'Analyse S'!A:D,3,FALSE)","v":{"$error":"#N/A"}}]
[null,null,{"$f":"VLOOKUP(A392,'Analyse S'!A:D,3,FALSE)","v":{"$error":"#N/A"}}]
[null,null,{"$f":"VLOOKUP(A393,'Analyse S'!A:D,3,FALSE)","v":{"$error":"#N/A"}}]
[null,null,{"$f":"VLOOKUP(A394,'Analyse S'!A:D,3,FALSE)","v":{"$error":"#N/A"}}]
[null,null,{"$f":"VLOOKUP(A395,'Analyse S'!A:D,3,FALSE)","v":{"$error":"#N/A"}}]
[null,null,{"$f":"VLOOKUP(A396,'Analyse S'!A:D,3,FALSE)","v":{"$error":"#N/A"}}]
[null,null,{"$f":"VLOOKUP(A397,'Analyse S'!A:D,3,FALSE)","v":{"$error":"#N/A"}}]
[null,null,{"$f":"VLOOKUP(A398,'Analyse S'!A:D,3,FALSE)","v":{"$error":"#N/A"}}]
[null,null,{"$f":"VLOOKUP(A399,'Analyse S'!A:D,3,FALSE)","v":{"$error":"#N/A"}}]
[null,null,{"$f":"VLOOKUP(A400,'Analyse S'!A:D,3,FALSE)","v":{"$error":"#N/A"}}]
[null,null,{"$f":"VLOOKUP(A401,'Analyse S'!A:D,3,FALSE)","v":{"$error":"#N/A"}}]
[null,null,{"$f":"VLOOKUP(A402,'Analyse S'!A:D,3,FALSE)","v":{"$error":"#N/A"}}]
[null,null,{"$f":"VLOOKUP(A403,'Analyse S'!A:D,3,FALSE)","v":{"$error":"#N/A"}}]
[null,null,{"$f":"VLOOKUP(A404,'Analyse S'!A:D,3,FALSE)","v":{"$error":"#N/A"}}]
[null,null,{"$f":"VLOOKUP(A405,'Analyse S'!A:D,3,FALSE)","v":{"$error":"#N/A"}}]
[null,null,{"$f":"VLOOKUP(A406,'Analyse S'!A:D,3,FALSE)","v":{"$error":"#N/A"}}]
[null,null,{"$f":"VLOOKUP(A407,'Analyse S'!A:D,3,FALSE)","v":{"$error":"#N/A"}}]
[null,null,{"$f":"VLOOKUP(A408,'Analyse S'!A:D,3,FALSE)","v":{"$error":"#N/A"}}]
[null,null,{"$f":"VLOOKUP(A409,'Analyse S'!A:D,3,FALSE)","v":{"$error":"#N/A"}}]
[null,null,{"$f":"VLOOKUP(A410,'Analyse S'!A:D,3,FALSE)","v":{"$error":"#N/A"}}]
[null,null,{"$f":"VLOOKUP(A411,'Analyse S'!A:D,3,FALSE)","v":{"$error":"#N/A"}}]
[null,null,{"$f":"VLOOKUP(A412,'Analyse S'!A:D,3,FALSE)","v":{"$error":"#N/A"}}]
[null,null,{"$f":"VLOOKUP(A413,'Analyse S'!A:D,3,FALSE)","v":{"$error":"#N/A"}}]
[null,null,{"$f":"VLOOKUP(A414,'Analyse S'!A:D,3,FALSE)","v":{"$error":"#N/A"}}]
[null,null,{"$f":"VLOOKUP(A415,'Analyse S'!A:D,3,FALSE)","v":{"$error":"#N/A"}}]
[null,null,{"$f":"VLOOKUP(A416,'Analyse S'!A:D,3,FALSE)","v":{"$error":"#N/A"}}]
[null,null,{"$f":"VLOOKUP(A417,'Analyse S'!A:D,3,FALSE)","v":{"$error":"#N/A"}}]
[null,null,{"$f":"VLOOKUP(A418,'Analyse S'!A:D,3,FALSE)","v":{"$error":"#N/A"}}]
[null,null,{"$f":"VLOOKUP(A419,'Analyse S'!A:D,3,FALSE)","v":{"$error":"#N/A"}}]
[null,null,{"$f":"VLOOKUP(A420,'Analyse S'!A:D,3,FALSE)","v":{"$error":"#N/A"}}]
[null,null,{"$f":"VLOOKUP(A421,'Analyse S'!A:D,3,FALSE)","v":{"$error":"#N/A"}}]
[null,null,{"$f":"VLOOKUP(A422,'Analyse S'!A:D,3,FALSE)","v":{"$error":"#N/A"}}]
[null,null,{"$f":"VLOOKUP(A423,'Analyse S'!A:D,3,FALSE)","v":{"$error":"#N/A"}}]
[null,null,{"$f":"VLOOKUP(A424,'Analyse S'!A:D,3,FALSE)","v":{"$error":"#N/A"}}]
[null,null,{"$f":"VLOOKUP(A425,'Analyse S'!A:D,3,FALSE)","v":{"$error":"#N/A"}}]
[null,null,{"$f":"VLOOKUP(A426,'Analyse S'!A:D,3,FALSE)","v":{"$error":"#N/A"}}]
[null,null,{"$f":"VLOOKUP(A427,'Analyse S'!A:D,3,FALSE)","v":{"$error":"#N/A"}}]
[null,null,{"$f":"VLOOKUP(A428,'Analyse S'!A:D,3,FALSE)","v":{"$error":"#N/A"}}]
[null,null,{"$f":"VLOOKUP(A429,'Analyse S'!A:D,3,FALSE)","v":{"$error":"#N/A"}}]
[null,null,{"$f":"VLOOKUP(A430,'Analyse S'!A:D,3,FALSE)","v":{"$error":"#N/A"}}]
[null,null,{"$f":"VLOOKUP(A431,'Analyse S'!A:D,3,FALSE)","v":{"$error":"#N/A"}}]
[null,null,{"$f":"VLOOKUP(A432,'Analyse S'!A:D,3,FALSE)","v":{"$error":"#N/A"}}]
[null,null,{"$f":"VLOOKUP(A433,'Analyse S'!A:D,3,FALSE)","v":{"$error":"#N/A"}}]
[null,null,{"$f":"VLOOKUP(A434,'Analyse S'!A:D,3,FALSE)","v":{"$error":"#N/A"}}]
[null,null,{"$f":"VLOOKUP(A435,'Analyse S'!A:D,3,FALSE)","v":{"$error":"#N/A"}}]
[null,null,{"$f":"VLOOKUP(A436,'Analyse S'!A:D,3,FALSE)","v":{"$error":"#N/A"}}]
[null,null,{"$f":"VLOOKUP(A437,'Analyse S'!A:D,3,FALSE)","v":{"$error":"#N/A"}}]
[null,null,{"$f":"VLOOKUP(A438,'Analyse S'!A:D,3,FALSE)","v":{"$error":"#N/A"}}]
[null,null,{"$f":"VLOOKUP(A439,'Analyse S'!A:D,3,FALSE)","v":{"$error":"#N/A"}}]
[null,null,{"$f":"VLOOKUP(A440,'Analyse S'!A:D,3,FALSE)","v":{"$error":"#N/A"}}]
[null,null,{"$f":"VLOOKUP(A441,'Analyse S'!A:D,3,FALSE)","v":{"$error":"#N/A"}}]
[null,null,{"$f":"VLOOKUP(A442,'Analyse S'!A:D,3,FALSE)","v":{"$error":"#N/A"}}]
[null,null,{"$f":"VLOOKUP(A443,'Analyse S'!A:D,3,FALSE)","v":{"$error":"#N/A"}}]
[null,null,{"$f":"VLOOKUP(A444,'Analyse S'!A:D,3,FALSE)","v":{"$error":"#N/A"}}]
[null,null,{"$f":"VLOOKUP(A445,'Analyse S'!A:D,3,FALSE)","v":{"$error":"#N/A"}}]
[null,null,{"$f":"VLOOKUP(A446,'Analyse S'!A:D,3,FALSE)","v":{"$error":"#N/A"}}]
[null,null,{"$f":"VLOOKUP(A447,'Analyse S'!A:D,3,FALSE)","v":{"$error":"#N/A"}}]
[null,null,{"$f":"VLOOKUP(A448,'Analyse S'!A:D,3,FALSE)","v":{"$error":"#N/A"}}]
[null,null,{"$f":"VLOOKUP(A449,'Analyse S'!A:D,3,FALSE)","v":{"$error":"#N/A"}}]
[null,null,{"$f":"VLOOKUP(A450,'Analyse S'!A:D,3,FALSE)","v":{"$error":"#N/A"}}]
[null,null,{"$f":"VLOOKUP(A451,'Analyse S'!A:D,3,FALSE)","v":{"$error":"#N/A"}}]
[null,null,{"$f":"VLOOKUP(A452,'Analyse S'!A:D,3,FALSE)","v":{"$error":"#N/A"}}]
[null,null,{"$f":"VLOOKUP(A453,'Analyse S'!A:D,3,FALSE)","v":{"$error":"#N/A"}}]
[null,null,{"$f":"VLOOKUP(A454,'Analyse S'!A:D,3,FALSE)","v":{"$error":"#N/A"}}]
[null,null,{"$f":"VLOOKUP(A455,'Analyse S'!A:D,3,FALSE)","v":{"$error":"#N/A"}}]
[null,null,{"$f":"VLOOKUP(A456,'Analyse S'!A:D,3,FALSE)","v":{"$error":"#N/A"}}]
[null,null,{"$f":"VLOOKUP(A457,'Analyse S'!A:D,3,FALSE)","v":{"$error":"#N/A"}}]
[null,null,{"$f":"VLOOKUP(A458,'Analyse S'!A:D,3,FALSE)","v":{"$error":"#N/A"}}]
[null,null,{"$f":"VLOOKUP(A459,'Analyse S'!A:D,3,FALSE)","v":{"$error":"#N/A"}}]
[null,null,{"$f":"VLOOKUP(A460,'Analyse S'!A:D,3,FALSE)","v":{"$error":"#N/A"}}]
[null,null,{"$f":"VLOOKUP(A461,'Analyse S'!A:D,3,FALSE)","v":{"$error":"#N/A"}}]
[null,null,{"$f":"VLOOKUP(A462,'Analyse S'!A:D,3,FALSE)","v":{"$error":"#N/A"}}]
[null,null,{"$f":"VLOOKUP(A463,'Analyse S'!A:D,3,FALSE)","v":{"$error":"#N/A"}}]
[null,null,{"$f":"VLOOKUP(A464,'Analyse S'!A:D,3,FALSE)","v":{"$error":"#N/A"}}]
[null,null,{"$f":"VLOOKUP(A465,'Analyse S'!A:D,3,FALSE)","v":{"$error":"#N/A"}}]
[null,null,{"$f":"VLOOKUP(A466,'Analyse S'!A:D,3,FALSE)","v":{"$error":"#N/A"}}]
[null,null,{"$f":"VLOOKUP(A467,'Analyse S'!A:D,3,FALSE)","v":{"$error":"#N/A"}}]
[null,null,{"$f":"VLOOKUP(A468,'Analyse S'!A:D,3,FALSE)","v":{"$error":"#N/A"}}]
[null,null,{"$f":"VLOOKUP(A469,'Analyse S'!A:D,3,FALSE)","v":{"$error":"#N/A"}}]
[null,null,{"$f":"VLOOKUP(A470,'Analyse S'!A:D,3,FALSE)","v":{"$error":"#N/A"}}]
[null,null,{"$f":"VLOOKUP(A471,'Analyse S'!A:D,3,FALSE)","v":{"$error":"#N/A"}}]
[null,null,{"$f":"VLOOKUP(A472,'Analyse S'!A:D,3,FALSE)","v":{"$error":"#N/A"}}]
[null,null,{"$f":"VLOOKUP(A473,'Analyse S'!A:D,3,FALSE)","v":{"$error":"#N/A"}}]
[null,null,{"$f":"VLOOKUP(A474,'Analyse S'!A:D,3,FALSE)","v":{"$error":"#N/A"}}]
[null,null,{"$f":"VLOOKUP(A475,'Analyse S'!A:D,3,FALSE)","v":{"$error":"#N/A"}}]
[null,null,{"$f":"VLOOKUP(A476,'Analyse S'!A:D,3,FALSE)","v":{"$error":"#N/A"}}]
[null,null,{"$f":"VLOOKUP(A477,'Analyse S'!A:D,3,FALSE)","v":{"$error":"#N/A"}}]
[null,null,{"$f":"VLOOKUP(A478,'Analyse S'!A:D,3,FALSE)","v":{"$error":"#N/A"}}]
[null,null,{"$f":"VLOOKUP(A479,'Analyse S'!A:D,3,FALSE)","v":{"$error":"#N/A"}}]
[null,null,{"$f":"VLOOKUP(A480,'Analyse S'!A:D,3,FALSE)","v":{"$error":"#N/A"}}]
[null,null,{"$f":"VLOOKUP(A481,'Analyse S'!A:D,3,FALSE)","v":{"$error":"#N/A"}}]
[null,null,{"$f":"VLOOKUP(A482,'Analyse S'!A:D,3,FALSE)","v":{"$error":"#N/A"}}]
[null,null,{"$f":"VLOOKUP(A483,'Analyse S'!A:D,3,FALSE)","v":{"$error":"#N/A"}}]
[null,null,{"$f":"VLOOKUP(A484,'Analyse S'!A:D,3,FALSE)","v":{"$error":"#N/A"}}]
[null,null,{"$f":"VLOOKUP(A485,'Analyse S'!A:D,3,FALSE)","v":{"$error":"#N/A"}}]
[null,null,{"$f":"VLOOKUP(A486,'Analyse S'!A:D,3,FALSE)","v":{"$error":"#N/A"}}]
[null,null,{"$f":"VLOOKUP(A487,'Analyse S'!A:D,3,FALSE)","v":{"$error":"#N/A"}}]
[null,null,{"$f":"VLOOKUP(A488,'Analyse S'!A:D,3,FALSE)","v":{"$error":"#N/A"}}]
[null,null,{"$f":"VLOOKUP(A489,'Analyse S'!A:D,3,FALSE)","v":{"$error":"#N/A"}}]
[null,null,{"$f":"VLOOKUP(A490,'Analyse S'!A:D,3,FALSE)","v":{"$error":"#N/A"}}]
[null,null,{"$f":"VLOOKUP(A491,'Analyse S'!A:D,3,FALSE)","v":{"$error":"#N/A"}}]
[null,null,{"$f":"VLOOKUP(A492,'Analyse S'!A:D,3,FALSE)","v":{"$error":"#N/A"}}]
[null,null,{"$f":"VLOOKUP(A493,'Analyse S'!A:D,3,FALSE)","v":{"$error":"#N/A"}}]
[null,null,{"$f":"VLOOKUP(A494,'Analyse S'!A:D,3,FALSE)","v":{"$error":"#N/A"}}]
[null,null,{"$f":"VLOOKUP(A495,'Analyse S'!A:D,3,FALSE)","v":{"$error":"#N/A"}}]
[null,null,{"$f":"VLOOKUP(A496,'Analyse S'!A:D,3,FALSE)","v":{"$error":"#N/A"}}]
[null,null,{"$f":"VLOOKUP(A497,'Analyse S'!A:D,3,FALSE)","v":{"$error":"#N/A"}}]
[null,null,{"$f":"VLOOKUP(A498,'Analyse S'!A:D,3,FALSE)","v":{"$error":"#N/A"}}]
[null,null,{"$f":"VLOOKUP(A499,'Analyse S'!A:D,3,FALSE)","v":{"$error":"#N/A"}}]
[null,null,{"$f":"VLOOKUP(A500,'Analyse S'!A:D,3,FALSE)","v":{"$error":"#N/A"}}]
[null,null,{"$f":"VLOOKUP(A501,'Analyse S'!A:D,3,FALSE)","v":{"$error":"#N/A"}}]
[null,null,{"$f":"VLOOKUP(A502,'Analyse S'!A:D,3,FALSE)","v":{"$error":"#N/A"}}]
[null,null,{"$f":"VLOOKUP(A503,'Analyse S'!A:D,3,FALSE)","v":{"$error":"#N/A"}}]
[null,null,{"$f":"VLOOKUP(A504,'Analyse S'!A:D,3,FALSE)","v":{"$error":"#N/A"}}]
[null,null,{"$f":"VLOOKUP(A505,'Analyse S'!A:D,3,FALSE)","v":{"$error":"#N/A"}}]
[null,null,{"$f":"VLOOKUP(A506,'Analyse S'!A:D,3,FALSE)","v":{"$error":"#N/A"}}]
[null,null,{"$f":"VLOOKUP(A507,'Analyse S'!A:D,3,FALSE)","v":{"$error":"#N/A"}}]
[null,null,{"$f":"VLOOKUP(A508,'Analyse S'!A:D,3,FALSE)","v":{"$error":"#N/A"}}]
[null,null,{"$f":"VLOOKUP(A509,'Analyse S'!A:D,3,FALSE)","v":{"$error":"#N/A"}}]
[null,null,{"$f":"VLOOKUP(A510,'Analyse S'!A:D,3,FALSE)","v":{"$error":"#N/A"}}]
[null,null,{"$f":"VLOOKUP(A511,'Analyse S'!A:D,3,FALSE)","v":{"$error":"#N/A"}}]
[null,null,{"$f":"VLOOKUP(A512,'Analyse S'!A:D,3,FALSE)","v":{"$error":"#N/A"}}]
[null,null,{"$f":"VLOOKUP(A513,'Analyse S'!A:D,3,FALSE)","v":{"$error":"#N/A"}}]
[null,null,{"$f":"VLOOKUP(A514,'Analyse S'!A:D,3,FALSE)","v":{"$error":"#N/A"}}]
[null,null,{"$f":"VLOOKUP(A515,'Analyse S'!A:D,3,FALSE)","v":{"$error":"#N/A"}}]
[null,null,{"$f":"VLOOKUP(A516,'Analyse S'!A:D,3,FALSE)","v":{"$error":"#N/A"}}]
[null,null,{"$f":"VLOOKUP(A517,'Analyse S'!A:D,3,FALSE)","v":{"$error":"#N/A"}}]
[null,null,{"$f":"VLOOKUP(A518,'Analyse S'!A:D,3,FALSE)","v":{"$error":"#N/A"}}]
[null,null,{"$f":"VLOOKUP(A519,'Analyse S'!A:D,3,FALSE)","v":{"$error":"#N/A"}}]
[null,null,{"$f":"VLOOKUP(A520,'Analyse S'!A:D,3,FALSE)","v":{"$error":"#N/A"}}]
[null,null,{"$f":"VLOOKUP(A521,'Analyse S'!A:D,3,FALSE)","v":{"$error":"#N/A"}}]
[null,null,{"$f":"VLOOKUP(A522,'Analyse S'!A:D,3,FALSE)","v":{"$error":"#N/A"}}]
[null,null,{"$f":"VLOOKUP(A523,'Analyse S'!A:D,3,FALSE)","v":{"$error":"#N/A"}}]
[null,null,{"$f":"VLOOKUP(A524,'Analyse S'!A:D,3,FALSE)","v":{"$error":"#N/A"}}]
[null,null,{"$f":"VLOOKUP(A525,'Analyse S'!A:D,3,FALSE)","v":{"$error":"#N/A"}}]
[null,null,{"$f":"VLOOKUP(A526,'Analyse S'!A:D,3,FALSE)","v":{"$error":"#N/A"}}]
[null,null,{"$f":"VLOOKUP(A527,'Analyse S'!A:D,3,FALSE)","v":{"$error":"#N/A"}}]
[null,null,{"$f":"VLOOKUP(A528,'Analyse S'!A:D,3,FALSE)","v":{"$error":"#N/A"}}]
[null,null,{"$f":"VLOOKUP(A529,'Analyse S'!A:D,3,FALSE)","v":{"$error":"#N/A"}}]
[null,null,{"$f":"VLOOKUP(A530,'Analyse S'!A:D,3,FALSE)","v":{"$error":"#N/A"}}]
[null,null,{"$f":"VLOOKUP(A531,'Analyse S'!A:D,3,FALSE)","v":{"$error":"#N/A"}}]
[null,null,{"$f":"VLOOKUP(A532,'Analyse S'!A:D,3,FALSE)","v":{"$error":"#N/A"}}]
[null,null,{"$f":"VLOOKUP(A533,'Analyse S'!A:D,3,FALSE)","v":{"$error":"#N/A"}}]
[null,null,{"$f":"VLOOKUP(A534,'Analyse S'!A:D,3,FALSE)","v":{"$error":"#N/A"}}]
[null,null,{"$f":"VLOOKUP(A535,'Analyse S'!A:D,3,FALSE)","v":{"$error":"#N/A"}}]
[null,null,{"$f":"VLOOKUP(A536,'Analyse S'!A:D,3,FALSE)","v":{"$error":"#N/A"}}]
[null,null,{"$f":"VLOOKUP(A537,'Analyse S'!A:D,3,FALSE)","v":{"$error":"#N/A"}}]
[null,null,{"$f":"VLOOKUP(A538,'Analyse S'!A:D,3,FALSE)","v":{"$error":"#N/A"}}]
[null,null,{"$f":"VLOOKUP(A539,'Analyse S'!A:D,3,FALSE)","v":{"$error":"#N/A"}}]
[null,null,{"$f":"VLOOKUP(A540,'Analyse S'!A:D,3,FALSE)","v":{"$error":"#N/A"}}]
[null,null,{"$f":"VLOOKUP(A541,'Analyse S'!A:D,3,FALSE)","v":{"$error":"#N/A"}}]
[null,null,{"$f":"VLOOKUP(A542,'Analyse S'!A:D,3,FALSE)","v":{"$error":"#N/A"}}]
[null,null,{"$f":"VLOOKUP(A543,'Analyse S'!A:D,3,FALSE)","v":{"$error":"#N/A"}}]
[null,null,{"$f":"VLOOKUP(A544,'Analyse S'!A:D,3,FALSE)","v":{"$error":"#N/A"}}]
[null,null,{"$f":"VLOOKUP(A545,'Analyse S'!A:D,3,FALSE)","v":{"$error":"#N/A"}}]
[null,null,{"$f":"VLOOKUP(A546,'Analyse S'!A:D,3,FALSE)","v":{"$error":"#N/A"}}]
[null,null,{"$f":"VLOOKUP(A547,'Analyse S'!A:D,3,FALSE)","v":{"$error":"#N/A"}}]
[null,null,{"$f":"VLOOKUP(A548,'Analyse S'!A:D,3,FALSE)","v":{"$error":"#N/A"}}]
[null,null,{"$f":"VLOOKUP(A549,'Analyse S'!A:D,3,FALSE)","v":{"$error":"#N/A"}}]
[null,null,{"$f":"VLOOKUP(A550,'Analyse S'!A:D,3,FALSE)","v":{"$error":"#N/A"}}]
[null,null,{"$f":"VLOOKUP(A551,'Analyse S'!A:D,3,FALSE)","v":{"$error":"#N/A"}}]
[null,null,{"$f":"VLOOKUP(A552,'Analyse S'!A:D,3,FALSE)","v":{"$error":"#N/A"}}]
[null,null,{"$f":"VLOOKUP(A553,'Analyse S'!A:D,3,FALSE)","v":{"$error":"#N/A"}}]
[null,null,{"$f":"VLOOKUP(A554,'Analyse S'!A:D,3,FALSE)","v":{"$error":"#N/A"}}]
[null,null,{"$f":"VLOOKUP(A555,'Analyse S'!A:D,3,FALSE)","v":{"$error":"#N/A"}}]
[null,null,{"$f":"VLOOKUP(A556,'Analyse S'!A:D,3,FALSE)","v":{"$error":"#N/A"}}]
[null,null,{"$f":"VLOOKUP(A557,'Analyse S'!A:D,3,FALSE)","v":{"$error":"#N/A"}}]
[null,null,{"$f":"VLOOKUP(A558,'Analyse S'!A:D,3,FALSE)","v":{"$error":"#N/A"}}]
[null,null,{"$f":"VLOOKUP(A559,'Analyse S'!A:D,3,FALSE)","v":{"$error":"#N/A"}}]
[null,null,{"$f":"VLOOKUP(A560,'Analyse S'!A:D,3,FALSE)","v":{"$error":"#N/A"}}]
[null,null,{"$f":"VLOOKUP(A561,'Analyse S'!A:D,3,FALSE)","v":{"$error":"#N/A"}}]
[null,null,{"$f":"VLOOKUP(A562,'Analyse S'!A:D,3,FALSE)","v":{"$error":"#N/A"}}]
[null,null,{"$f":"VLOOKUP(A563,'Analyse S'!A:D,3,FALSE)","v":{"$error":"#N/A"}}]
[null,null,{"$f":"VLOOKUP(A564,'Analyse S'!A:D,3,FALSE)","v":{"$error":"#N/A"}}]
[null,null,{"$f":"VLOOKUP(A565,'Analyse S'!A:D,3,FALSE)","v":{"$error":"#N/A"}}]
[null,null,{"$f":"VLOOKUP(A566,'Analyse S'!A:D,3,FALSE)","v":{"$error":"#N/A"}}]
[null,null,{"$f":"VLOOKUP(A567,'Analyse S'!A:D,3,FALSE)","v":{"$error":"#N/A"}}]
[null,null,{"$f":"VLOOKUP(A568,'Analyse S'!A:D,3,FALSE)","v":{"$error":"#N/A"}}]
[null,null,{"$f":"VLOOKUP(A569,'Analyse S'!A:D,3,FALSE)","v":{"$error":"#N/A"}}]
[null,null,{"$f":"VLOOKUP(A570,'Analyse S'!A:D,3,FALSE)","v":{"$error":"#N/A"}}]
[null,null,{"$f":"VLOOKUP(A571,'Analyse S'!A:D,3,FALSE)","v":{"$error":"#N/A"}}]
[null,null,{"$f":"VLOOKUP(A572,'Analyse S'!A:D,3,FALSE)","v":{"$error":"#N/A"}}]
[null,null,{"$f":"VLOOKUP(A573,'Analyse S'!A:D,3,FALSE)","v":{"$error":"#N/A"}}]
[null,null,{"$f":"VLOOKUP(A574,'Analyse S'!A:D,3,FALSE)","v":{"$error":"#N/A"}}]
[null,null,{"$f":"VLOOKUP(A575,'Analyse S'!A:D,3,FALSE)","v":{"$error":"#N/A"}}]
[null,null,{"$f":"VLOOKUP(A576,'Analyse S'!A:D,3,FALSE)","v":{"$error":"#N/A"}}]
[null,null,{"$f":"VLOOKUP(A577,'Analyse S'!A:D,3,FALSE)","v":{"$error":"#N/A"}}]
[null,null,{"$f":"VLOOKUP(A578,'Analyse S'!A:D,3,FALSE)","v":{"$error":"#N/A"}}]
[null,null,{"$f":"VLOOKUP(A579,'Analyse S'!A:D,3,FALSE)","v":{"$error":"#N/A"}}]
[null,null,{"$f":"VLOOKUP(A580,'Analyse S'!A:D,3,FALSE)","v":{"$error":"#N/A"}}]
[null,null,{"$f":"VLOOKUP(A581,'Analyse S'!A:D,3,FALSE)","v":{"$error":"#N/A"}}]
[null,null,{"$f":"VLOOKUP(A582,'Analyse S'!A:D,3,FALSE)","v":{"$error":"#N/A"}}]
[null,null,{"$f":"VLOOKUP(A583,'Analyse S'!A:D,3,FALSE)","v":{"$error":"#N/A"}}]
[null,null,{"$f":"VLOOKUP(A584,'Analyse S'!A:D,3,FALSE)","v":{"$error":"#N/A"}}]
[null,null,{"$f":"VLOOKUP(A585,'Analyse S'!A:D,3,FALSE)","v":{"$error":"#N/A"}}]
[null,null,{"$f":"VLOOKUP(A586,'Analyse S'!A:D,3,FALSE)","v":{"$error":"#N/A"}}]
[null,null,{"$f":"VLOOKUP(A587,'Analyse S'!A:D,3,FALSE)","v":{"$error":"#N/A"}}]
[null,null,{"$f":"VLOOKUP(A588,'Analyse S'!A:D,3,FALSE)","v":{"$error":"#N/A"}}]
[null,null,{"$f":"VLOOKUP(A589,'Analyse S'!A:D,3,FALSE)","v":{"$error":"#N/A"}}]
[null,null,{"$f":"VLOOKUP(A590,'Analyse S'!A:D,3,FALSE)","v":{"$error":"#N/A"}}]
[null,null,{"$f":"VLOOKUP(A591,'Analyse S'!A:D,3,FALSE)","v":{"$error":"#N/A"}}]
[null,null,{"$f":"VLOOKUP(A592,'Analyse S'!A:D,3,FALSE)","v":{"$error":"#N/A"}}]
[null,null,{"$f":"VLOOKUP(A593,'Analyse S'!A:D,3,FALSE)","v":{"$error":"#N/A"}}]
[null,null,{"$f":"VLOOKUP(A594,'Analyse S'!A:D,3,FALSE)","v":{"$error":"#N/A"}}]
[null,null,{"$f":"VLOOKUP(A595,'Analyse S'!A:D,3,FALSE)","v":{"$error":"#N/A"}}]
[null,null,{"$f":"VLOOKUP(A596,'Analyse S'!A:D,3,FALSE)","v":{"$error":"#N/A"}}]
[null,null,{"$f":"VLOOKUP(A597,'Analyse S'!A:D,3,FALSE)","v":{"$error":"#N/A"}}]
[null,null,{"$f":"VLOOKUP(A598,'Analyse S'!A:D,3,FALSE)","v":{"$error":"#N/A"}}]
[null,null,{"$f":"VLOOKUP(A599,'Analyse S'!A:D,3,FALSE)","v":{"$error":"#N/A"}}]
[null,null,{"$f":"VLOOKUP(A600,'Analyse S'!A:D,3,FALSE)","v":{"$error":"#N/A"}}]
[null,null,{"$f":"VLOOKUP(A601,'Analyse S'!A:D,3,FALSE)","v":{"$error":"#N/A"}}]
[null,null,{"$f":"VLOOKUP(A602,'Analyse S'!A:D,3,FALSE)","v":{"$error":"#N/A"}}]
[null,null,{"$f":"VLOOKUP(A603,'Analyse S'!A:D,3,FALSE)","v":{"$error":"#N/A"}}]
[null,null,{"$f":"VLOOKUP(A604,'Analyse S'!A:D,3,FALSE)","v":{"$error":"#N/A"}}]
[null,null,{"$f":"VLOOKUP(A605,'Analyse S'!A:D,3,FALSE)","v":{"$error":"#N/A"}}]
[null,null,{"$f":"VLOOKUP(A606,'Analyse S'!A:D,3,FALSE)","v":{"$error":"#N/A"}}]
[null,null,{"$f":"VLOOKUP(A607,'Analyse S'!A:D,3,FALSE)","v":{"$error":"#N/A"}}]
[null,null,{"$f":"VLOOKUP(A608,'Analyse S'!A:D,3,FALSE)","v":{"$error":"#N/A"}}]
[null,null,{"$f":"VLOOKUP(A609,'Analyse S'!A:D,3,FALSE)","v":{"$error":"#N/A"}}]
[null,null,{"$f":"VLOOKUP(A610,'Analyse S'!A:D,3,FALSE)","v":{"$error":"#N/A"}}]
[null,null,{"$f":"VLOOKUP(A611,'Analyse S'!A:D,3,FALSE)","v":{"$error":"#N/A"}}]
[null,null,{"$f":"VLOOKUP(A612,'Analyse S'!A:D,3,FALSE)","v":{"$error":"#N/A"}}]
[null,null,{"$f":"VLOOKUP(A613,'Analyse S'!A:D,3,FALSE)","v":{"$error":"#N/A"}}]
[null,null,{"$f":"VLOOKUP(A614,'Analyse S'!A:D,3,FALSE)","v":{"$error":"#N/A"}}]
[null,null,{"$f":"VLOOKUP(A615,'Analyse S'!A:D,3,FALSE)","v":{"$error":"#N/A"}}]
[null,null,{"$f":"VLOOKUP(A616,'Analyse S'!A:D,3,FALSE)","v":{"$error":"#N/A"}}]
[null,null,{"$f":"VLOOKUP(A617,'Analyse S'!A:D,3,FALSE)","v":{"$error":"#N/A"}}]
[null,null,{"$f":"VLOOKUP(A618,'Analyse S'!A:D,3,FALSE)","v":{"$error":"#N/A"}}]
[null,null,{"$f":"VLOOKUP(A619,'Analyse S'!A:D,3,FALSE)","v":{"$error":"#N/A"}}]
[null,null,{"$f":"VLOOKUP(A620,'Analyse S'!A:D,3,FALSE)","v":{"$error":"#N/A"}}]
[null,null,{"$f":"VLOOKUP(A621,'Analyse S'!A:D,3,FALSE)","v":{"$error":"#N/A"}}]
[null,null,{"$f":"VLOOKUP(A622,'Analyse S'!A:D,3,FALSE)","v":{"$error":"#N/A"}}]
[null,null,{"$f":"VLOOKUP(A623,'Analyse S'!A:D,3,FALSE)","v":{"$error":"#N/A"}}]
[null,null,{"$f":"VLOOKUP(A624,'Analyse S'!A:D,3,FALSE)","v":{"$error":"#N/A"}}]
[null,null,{"$f":"VLOOKUP(A625,'Analyse S'!A:D,3,FALSE)","v":{"$error":"#N/A"}}]
[null,null,{"$f":"VLOOKUP(A626,'Analyse S'!A:D,3,FALSE)","v":{"$error":"#N/A"}}]
[null,null,{"$f":"VLOOKUP(A627,'Analyse S'!A:D,3,FALSE)","v":{"$error":"#N/A"}}]
[null,null,{"$f":"VLOOKUP(A628,'Analyse S'!A:D,3,FALSE)","v":{"$error":"#N/A"}}]
[null,null,{"$f":"VLOOKUP(A629,'Analyse S'!A:D,3,FALSE)","v":{"$error":"#N/A"}}]
[null,null,{"$f":"VLOOKUP(A630,'Analyse S'!A:D,3,FALSE)","v":{"$error":"#N/A"}}]
[null,null,{"$f":"VLOOKUP(A631,'Analyse S'!A:D,3,FALSE)","v":{"$error":"#N/A"}}]
[null,null,{"$f":"VLOOKUP(A632,'Analyse S'!A:D,3,FALSE)","v":{"$error":"#N/A"}}]
[null,null,{"$f":"VLOOKUP(A633,'Analyse S'!A:D,3,FALSE)","v":{"$error":"#N/A"}}]
[null,null,{"$f":"VLOOKUP(A634,'Analyse S'!A:D,3,FALSE)","v":{"$error":"#N/A"}}]
[null,null,{"$f":"VLOOKUP(A635,'Analyse S'!A:D,3,FALSE)","v":{"$error":"#N/A"}}]
[null,null,{"$f":"VLOOKUP(A636,'Analyse S'!A:D,3,FALSE)","v":{"$error":"#N/A"}}]
[null,null,{"$f":"VLOOKUP(A637,'Analyse S'!A:D,3,FALSE)","v":{"$error":"#N/A"}}]
[null,null,{"$f":"VLOOKUP(A638,'Analyse S'!A:D,3,FALSE)","v":{"$error":"#N/A"}}]
[null,null,{"$f":"VLOOKUP(A639,'Analyse S'!A:D,3,FALSE)","v":{"$error":"#N/A"}}]
[null,null,{"$f":"VLOOKUP(A640,'Analyse S'!A:D,3,FALSE)","v":{"$error":"#N/A"}}]
[null,null,{"$f":"VLOOKUP(A641,'Analyse S'!A:D,3,FALSE)","v":{"$error":"#N/A"}}]
[null,null,{"$f":"VLOOKUP(A642,'Analyse S'!A:D,3,FALSE)","v":{"$error":"#N/A"}}]
[null,null,{"$f":"VLOOKUP(A643,'Analyse S'!A:D,3,FALSE)","v":{"$error":"#N/A"}}]
[null,null,{"$f":"VLOOKUP(A644,'Analyse S'!A:D,3,FALSE)","v":{"$error":"#N/A"}}]
[null,null,{"$f":"VLOOKUP(A645,'Analyse S'!A:D,3,FALSE)","v":{"$error":"#N/A"}}]
[null,null,{"$f":"VLOOKUP(A646,'Analyse S'!A:D,3,FALSE)","v":{"$error":"#N/A"}}]
[null,null,{"$f":"VLOOKUP(A647,'Analyse S'!A:D,3,FALSE)","v":{"$error":"#N/A"}}]
[null,null,{"$f":"VLOOKUP(A648,'Analyse S'!A:D,3,FALSE)","v":{"$error":"#N/A"}}]
[null,null,{"$f":"VLOOKUP(A649,'Analyse S'!A:D,3,FALSE)","v":{"$error":"#N/A"}}]
[null,null,{"$f":"VLOOKUP(A650,'Analyse S'!A:D,3,FALSE)","v":{"$error":"#N/A"}}]
[null,null,{"$f":"VLOOKUP(A651,'Analyse S'!A:D,3,FALSE)","v":{"$error":"#N/A"}}]
[null,null,{"$f":"VLOOKUP(A652,'Analyse S'!A:D,3,FALSE)","v":{"$error":"#N/A"}}]
[null,null,{"$f":"VLOOKUP(A653,'Analyse S'!A:D,3,FALSE)","v":{"$error":"#N/A"}}]
[null,null,{"$f":"VLOOKUP(A654,'Analyse S'!A:D,3,FALSE)","v":{"$error":"#N/A"}}]
[null,null,{"$f":"VLOOKUP(A655,'Analyse S'!A:D,3,FALSE)","v":{"$error":"#N/A"}}]
[null,null,{"$f":"VLOOKUP(A656,'Analyse S'!A:D,3,FALSE)","v":{"$error":"#N/A"}}]
[null,null,{"$f":"VLOOKUP(A657,'Analyse S'!A:D,3,FALSE)","v":{"$error":"#N/A"}}]
[null,null,{"$f":"VLOOKUP(A658,'Analyse S'!A:D,3,FALSE)","v":{"$error":"#N/A"}}]
[null,null,{"$f":"VLOOKUP(A659,'Analyse S'!A:D,3,FALSE)","v":{"$error":"#N/A"}}]
[null,null,{"$f":"VLOOKUP(A660,'Analyse S'!A:D,3,FALSE)","v":{"$error":"#N/A"}}]
[null,null,{"$f":"VLOOKUP(A661,'Analyse S'!A:D,3,FALSE)","v":{"$error":"#N/A"}}]
[null,null,{"$f":"VLOOKUP(A662,'Analyse S'!A:D,3,FALSE)","v":{"$error":"#N/A"}}]
[null,null,{"$f":"VLOOKUP(A663,'Analyse S'!A:D,3,FALSE)","v":{"$error":"#N/A"}}]
[null,null,{"$f":"VLOOKUP(A664,'Analyse S'!A:D,3,FALSE)","v":{"$error":"#N/A"}}]
[null,null,{"$f":"VLOOKUP(A665,'Analyse S'!A:D,3,FALSE)","v":{"$error":"#N/A"}}]
[null,null,{"$f":"VLOOKUP(A666,'Analyse S'!A:D,3,FALSE)","v":{"$error":"#N/A"}}]
[null,null,{"$f":"VLOOKUP(A667,'Analyse S'!A:D,3,FALSE)","v":{"$error":"#N/A"}}]
[null,null,{"$f":"VLOOKUP(A668,'Analyse S'!A:D,3,FALSE)","v":{"$error":"#N/A"}}]
[null,null,{"$f":"VLOOKUP(A669,'Analyse S'!A:D,3,FALSE)","v":{"$error":"#N/A"}}]
[null,null,{"$f":"VLOOKUP(A670,'Analyse S'!A:D,3,FALSE)","v":{"$error":"#N/A"}}]
[null,null,{"$f":"VLOOKUP(A671,'Analyse S'!A:D,3,FALSE)","v":{"$error":"#N/A"}}]
[null,null,{"$f":"VLOOKUP(A672,'Analyse S'!A:D,3,FALSE)","v":{"$error":"#N/A"}}]
[null,null,{"$f":"VLOOKUP(A673,'Analyse S'!A:D,3,FALSE)","v":{"$error":"#N/A"}}]
[null,null,{"$f":"VLOOKUP(A674,'Analyse S'!A:D,3,FALSE)","v":{"$error":"#N/A"}}]
[null,null,{"$f":"VLOOKUP(A675,'Analyse S'!A:D,3,FALSE)","v":{"$error":"#N/A"}}]
[null,null,{"$f":"VLOOKUP(A676,'Analyse S'!A:D,3,FALSE)","v":{"$error":"#N/A"}}]
[null,null,{"$f":"VLOOKUP(A677,'Analyse S'!A:D,3,FALSE)","v":{"$error":"#N/A"}}]
[null,null,{"$f":"VLOOKUP(A678,'Analyse S'!A:D,3,FALSE)","v":{"$error":"#N/A"}}]
[null,null,{"$f":"VLOOKUP(A679,'Analyse S'!A:D,3,FALSE)","v":{"$error":"#N/A"}}]
[null,null,{"$f":"VLOOKUP(A680,'Analyse S'!A:D,3,FALSE)","v":{"$error":"#N/A"}}]
[null,null,{"$f":"VLOOKUP(A681,'Analyse S'!A:D,3,FALSE)","v":{"$error":"#N/A"}}]
[null,null,{"$f":"VLOOKUP(A682,'Analyse S'!A:D,3,FALSE)","v":{"$error":"#N/A"}}]
[null,null,{"$f":"VLOOKUP(A683,'Analyse S'!A:D,3,FALSE)","v":{"$error":"#N/A"}}]
[null,null,{"$f":"VLOOKUP(A684,'Analyse S'!A:D,3,FALSE)","v":{"$error":"#N/A"}}]
[null,null,{"$f":"VLOOKUP(A685,'Analyse S'!A:D,3,FALSE)","v":{"$error":"#N/A"}}]
[null,null,{"$f":"VLOOKUP(A686,'Analyse S'!A:D,3,FALSE)","v":{"$error":"#N/A"}}]
[null,null,{"$f":"VLOOKUP(A687,'Analyse S'!A:D,3,FALSE)","v":{"$error":"#N/A"}}]
[null,null,{"$f":"VLOOKUP(A688,'Analyse S'!A:D,3,FALSE)","v":{"$error":"#N/A"}}]
[null,null,{"$f":"VLOOKUP(A689,'Analyse S'!A:D,3,FALSE)","v":{"$error":"#N/A"}}]
[null,null,{"$f":"VLOOKUP(A690,'Analyse S'!A:D,3,FALSE)","v":{"$error":"#N/A"}}]
[null,null,{"$f":"VLOOKUP(A691,'Analyse S'!A:D,3,FALSE)","v":{"$error":"#N/A"}}]
[null,null,{"$f":"VLOOKUP(A692,'Analyse S'!A:D,3,FALSE)","v":{"$error":"#N/A"}}]
[null,null,{"$f":"VLOOKUP(A693,'Analyse S'!A:D,3,FALSE)","v":{"$error":"#N/A"}}]
[null,null,{"$f":"VLOOKUP(A694,'Analyse S'!A:D,3,FALSE)","v":{"$error":"#N/A"}}]
[null,null,{"$f":"VLOOKUP(A695,'Analyse S'!A:D,3,FALSE)","v":{"$error":"#N/A"}}]
[null,null,{"$f":"VLOOKUP(A696,'Analyse S'!A:D,3,FALSE)","v":{"$error":"#N/A"}}]
[null,null,{"$f":"VLOOKUP(A697,'Analyse S'!A:D,3,FALSE)","v":{"$error":"#N/A"}}]
[null,null,{"$f":"VLOOKUP(A698,'Analyse S'!A:D,3,FALSE)","v":{"$error":"#N/A"}}]
[null,null,{"$f":"VLOOKUP(A699,'Analyse S'!A:D,3,FALSE)","v":{"$error":"#N/A"}}]
[null,null,{"$f":"VLOOKUP(A700,'Analyse S'!A:D,3,FALSE)","v":{"$error":"#N/A"}}]
[null,null,{"$f":"VLOOKUP(A701,'Analyse S'!A:D,3,FALSE)","v":{"$error":"#N/A"}}]
[null,null,{"$f":"VLOOKUP(A702,'Analyse S'!A:D,3,FALSE)","v":{"$error":"#N/A"}}]
[null,null,{"$f":"VLOOKUP(A703,'Analyse S'!A:D,3,FALSE)","v":{"$error":"#N/A"}}]
[null,null,{"$f":"VLOOKUP(A704,'Analyse S'!A:D,3,FALSE)","v":{"$error":"#N/A"}}]
[null,null,{"$f":"VLOOKUP(A705,'Analyse S'!A:D,3,FALSE)","v":{"$error":"#N/A"}}]
[null,null,{"$f":"VLOOKUP(A706,'Analyse S'!A:D,3,FALSE)","v":{"$error":"#N/A"}}]
[null,null,{"$f":"VLOOKUP(A707,'Analyse S'!A:D,3,FALSE)","v":{"$error":"#N/A"}}]
[null,null,{"$f":"VLOOKUP(A708,'Analyse S'!A:D,3,FALSE)","v":{"$error":"#N/A"}}]
[null,null,{"$f":"VLOOKUP(A709,'Analyse S'!A:D,3,FALSE)","v":{"$error":"#N/A"}}]
[null,null,{"$f":"VLOOKUP(A710,'Analyse S'!A:D,3,FALSE)","v":{"$error":"#N/A"}}]
[null,null,{"$f":"VLOOKUP(A711,'Analyse S'!A:D,3,FALSE)","v":{"$error":"#N/A"}}]
[null,null,{"$f":"VLOOKUP(A712,'Analyse S'!A:D,3,FALSE)","v":{"$error":"#N/A"}}]
[null,null,{"$f":"VLOOKUP(A713,'Analyse S'!A:D,3,FALSE)","v":{"$error":"#N/A"}}]
[null,null,{"$f":"VLOOKUP(A714,'Analyse S'!A:D,3,FALSE)","v":{"$error":"#N/A"}}]
[null,null,{"$f":"VLOOKUP(A715,'Analyse S'!A:D,3,FALSE)","v":{"$error":"#N/A"}}]
[null,null,{"$f":"VLOOKUP(A716,'Analyse S'!A:D,3,FALSE)","v":{"$error":"#N/A"}}]
[null,null,{"$f":"VLOOKUP(A717,'Analyse S'!A:D,3,FALSE)","v":{"$error":"#N/A"}}]
[null,null,{"$f":"VLOOKUP(A718,'Analyse S'!A:D,3,FALSE)","v":{"$error":"#N/A"}}]
[null,null,{"$f":"VLOOKUP(A719,'Analyse S'!A:D,3,FALSE)","v":{"$error":"#N/A"}}]
[null,null,{"$f":"VLOOKUP(A720,'Analyse S'!A:D,3,FALSE)","v":{"$error":"#N/A"}}]
[null,null,{"$f":"VLOOKUP(A721,'Analyse S'!A:D,3,FALSE)","v":{"$error":"#N/A"}}]
[null,null,{"$f":"VLOOKUP(A722,'Analyse S'!A:D,3,FALSE)","v":{"$error":"#N/A"}}]
[null,null,{"$f":"VLOOKUP(A723,'Analyse S'!A:D,3,FALSE)","v":{"$error":"#N/A"}}]
[null,null,{"$f":"VLOOKUP(A724,'Analyse S'!A:D,3,FALSE)","v":{"$error":"#N/A"}}]
[null,null,{"$f":"VLOOKUP(A725,'Analyse S'!A:D,3,FALSE)","v":{"$error":"#N/A"}}]
[null,null,{"$f":"VLOOKUP(A726,'Analyse S'!A:D,3,FALSE)","v":{"$error":"#N/A"}}]
[null,null,{"$f":"VLOOKUP(A727,'Analyse S'!A:D,3,FALSE)","v":{"$error":"#N/A"}}]
[null,null,{"$f":"VLOOKUP(A728,'Analyse S'!A:D,3,FALSE)","v":{"$error":"#N/A"}}]
[null,null,{"$f":"VLOOKUP(A729,'Analyse S'!A:D,3,FALSE)","v":{"$error":"#N/A"}}]
[null,null,{"$f":"VLOOKUP(A730,'Analyse S'!A:D,3,FALSE)","v":{"$error":"#N/A"}}]
[null,null,{"$f":"VLOOKUP(A731,'Analyse S'!A:D,3,FALSE)","v":{"$error":"#N/A"}}]
[null,null,{"$f":"VLOOKUP(A732,'Analyse S'!A:D,3,FALSE)","v":{"$error":"#N/A"}}]
[null,null,{"$f":"VLOOKUP(A733,'Analyse S'!A:D,3,FALSE)","v":{"$error":"#N/A"}}]
[null,null,{"$f":"VLOOKUP(A734,'Analyse S'!A:D,3,FALSE)","v":{"$error":"#N/A"}}]
[null,null,{"$f":"VLOOKUP(A735,'Analyse S'!A:D,3,FALSE)","v":{"$error":"#N/A"}}]
[null,null,{"$f":"VLOOKUP(A736,'Analyse S'!A:D,3,FALSE)","v":{"$error":"#N/A"}}]
[null,null,{"$f":"VLOOKUP(A737,'Analyse S'!A:D,3,FALSE)","v":{"$error":"#N/A"}}]
[null,null,{"$f":"VLOOKUP(A738,'Analyse S'!A:D,3,FALSE)","v":{"$error":"#N/A"}}]
[null,null,{"$f":"VLOOKUP(A739,'Analyse S'!A:D,3,FALSE)","v":{"$error":"#N/A"}}]
[null,null,{"$f":"VLOOKUP(A740,'Analyse S'!A:D,3,FALSE)","v":{"$error":"#N/A"}}]
[null,null,{"$f":"VLOOKUP(A741,'Analyse S'!A:D,3,FALSE)","v":{"$error":"#N/A"}}]
[null,null,{"$f":"VLOOKUP(A742,'Analyse S'!A:D,3,FALSE)","v":{"$error":"#N/A"}}]
[null,null,{"$f":"VLOOKUP(A743,'Analyse S'!A:D,3,FALSE)","v":{"$error":"#N/A"}}]
[null,null,{"$f":"VLOOKUP(A744,'Analyse S'!A:D,3,FALSE)","v":{"$error":"#N/A"}}]
[null,null,{"$f":"VLOOKUP(A745,'Analyse S'!A:D,3,FALSE)","v":{"$error":"#N/A"}}]
[null,null,{"$f":"VLOOKUP(A746,'Analyse S'!A:D,3,FALSE)","v":{"$error":"#N/A"}}]
[null,null,{"$f":"VLOOKUP(A747,'Analyse S'!A:D,3,FALSE)","v":{"$error":"#N/A"}}]
[null,null,{"$f":"VLOOKUP(A748,'Analyse S'!A:D,3,FALSE)","v":{"$error":"#N/A"}}]
[null,null,{"$f":"VLOOKUP(A749,'Analyse S'!A:D,3,FALSE)","v":{"$error":"#N/A"}}]
[null,null,{"$f":"VLOOKUP(A750,'Analyse S'!A:D,3,FALSE)","v":{"$error":"#N/A"}}]
[null,null,{"$f":"VLOOKUP(A751,'Analyse S'!A:D,3,FALSE)","v":{"$error":"#N/A"}}]
[null,null,{"$f":"VLOOKUP(A752,'Analyse S'!A:D,3,FALSE)","v":{"$error":"#N/A"}}]
[null,null,{"$f":"VLOOKUP(A753,'Analyse S'!A:D,3,FALSE)","v":{"$error":"#N/A"}}]
[null,null,{"$f":"VLOOKUP(A754,'Analyse S'!A:D,3,FALSE)","v":{"$error":"#N/A"}}]
[null,null,{"$f":"VLOOKUP(A755,'Analyse S'!A:D,3,FALSE)","v":{"$error":"#N/A"}}]
[null,null,{"$f":"VLOOKUP(A756,'Analyse S'!A:D,3,FALSE)","v":{"$error":"#N/A"}}]
[null,null,{"$f":"VLOOKUP(A757,'Analyse S'!A:D,3,FALSE)","v":{"$error":"#N/A"}}]
[null,null,{"$f":"VLOOKUP(A758,'Analyse S'!A:D,3,FALSE)","v":{"$error":"#N/A"}}]
[null,null,{"$f":"VLOOKUP(A759,'Analyse S'!A:D,3,FALSE)","v":{"$error":"#N/A"}}]
[null,null,{"$f":"VLOOKUP(A760,'Analyse S'!A:D,3,FALSE)","v":{"$error":"#N/A"}}]
[null,null,{"$f":"VLOOKUP(A761,'Analyse S'!A:D,3,FALSE)","v":{"$error":"#N/A"}}]
[null,null,{"$f":"VLOOKUP(A762,'Analyse S'!A:D,3,FALSE)","v":{"$error":"#N/A"}}]
[null,null,{"$f":"VLOOKUP(A763,'Analyse S'!A:D,3,FALSE)","v":{"$error":"#N/A"}}]
[null,null,{"$f":"VLOOKUP(A764,'Analyse S'!A:D,3,FALSE)","v":{"$error":"#N/A"}}]
[null,null,{"$f":"VLOOKUP(A765,'Analyse S'!A:D,3,FALSE)","v":{"$error":"#N/A"}}]
[null,null,{"$f":"VLOOKUP(A766,'Analyse S'!A:D,3,FALSE)","v":{"$error":"#N/A"}}]
[null,null,{"$f":"VLOOKUP(A767,'Analyse S'!A:D,3,FALSE)","v":{"$error":"#N/A"}}]
[null,null,{"$f":"VLOOKUP(A768,'Analyse S'!A:D,3,FALSE)","v":{"$error":"#N/A"}}]
[null,null,{"$f":"VLOOKUP(A769,'Analyse S'!A:D,3,FALSE)","v":{"$error":"#N/A"}}]
[null,null,{"$f":"VLOOKUP(A770,'Analyse S'!A:D,3,FALSE)","v":{"$error":"#N/A"}}]
[null,null,{"$f":"VLOOKUP(A771,'Analyse S'!A:D,3,FALSE)","v":{"$error":"#N/A"}}]
[null,null,{"$f":"VLOOKUP(A772,'Analyse S'!A:D,3,FALSE)","v":{"$error":"#N/A"}}]
[null,null,{"$f":"VLOOKUP(A773,'Analyse S'!A:D,3,FALSE)","v":{"$error":"#N/A"}}]
[null,null,{"$f":"VLOOKUP(A774,'Analyse S'!A:D,3,FALSE)","v":{"$error":"#N/A"}}]
[null,null,{"$f":"VLOOKUP(A775,'Analyse S'!A:D,3,FALSE)","v":{"$error":"#N/A"}}]
[null,null,{"$f":"VLOOKUP(A776,'Analyse S'!A:D,3,FALSE)","v":{"$error":"#N/A"}}]
[null,null,{"$f":"VLOOKUP(A777,'Analyse S'!A:D,3,FALSE)","v":{"$error":"#N/A"}}]
[null,null,{"$f":"VLOOKUP(A778,'Analyse S'!A:D,3,FALSE)","v":{"$error":"#N/A"}}]
[null,null,{"$f":"VLOOKUP(A779,'Analyse S'!A:D,3,FALSE)","v":{"$error":"#N/A"}}]
[null,null,{"$f":"VLOOKUP(A780,'Analyse S'!A:D,3,FALSE)","v":{"$error":"#N/A"}}]
[null,null,{"$f":"VLOOKUP(A781,'Analyse S'!A:D,3,FALSE)","v":{"$error":"#N/A"}}]
[null,null,{"$f":"VLOOKUP(A782,'Analyse S'!A:D,3,FALSE)","v":{"$error":"#N/A"}}]
[null,null,{"$f":"VLOOKUP(A783,'Analyse S'!A:D,3,FALSE)","v":{"$error":"#N/A"}}]
[null,null,{"$f":"VLOOKUP(A784,'Analyse S'!A:D,3,FALSE)","v":{"$error":"#N/A"}}]
[null,null,{"$f":"VLOOKUP(A785,'Analyse S'!A:D,3,FALSE)","v":{"$error":"#N/A"}}]
[null,null,{"$f":"VLOOKUP(A786,'Analyse S'!A:D,3,FALSE)","v":{"$error":"#N/A"}}]
[null,null,{"$f":"VLOOKUP(A787,'Analyse S'!A:D,3,FALSE)","v":{"$error":"#N/A"}}]
[null,null,{"$f":"VLOOKUP(A788,'Analyse S'!A:D,3,FALSE)","v":{"$error":"#N/A"}}]
[null,null,{"$f":"VLOOKUP(A789,'Analyse S'!A:D,3,FALSE)","v":{"$error":"#N/A"}}]
[null,null,{"$f":"VLOOKUP(A790,'Analyse S'!A:D,3,FALSE)","v":{"$error":"#N/A"}}]
[null,null,{"$f":"VLOOKUP(A791,'Analyse S'!A:D,3,FALSE)","v":{"$error":"#N/A"}}]
[null,null,{"$f":"VLOOKUP(A792,'Analyse S'!A:D,3,FALSE)","v":{"$error":"#N/A"}}]
[null,null,{"$f":"VLOOKUP(A793,'Analyse S'!A:D,3,FALSE)","v":{"$error":"#N/A"}}]
[null,null,{"$f":"VLOOKUP(A794,'Analyse S'!A:D,3,FALSE)","v":{"$error":"#N/A"}}]
[null,null,{"$f":"VLOOKUP(A795,'Analyse S'!A:D,3,FALSE)","v":{"$error":"#N/A"}}]
[null,null,{"$f":"VLOOKUP(A796,'Analyse S'!A:D,3,FALSE)","v":{"$error":"#N/A"}}]
[null,null,{"$f":"VLOOKUP(A797,'Analyse S'!A:D,3,FALSE)","v":{"$error":"#N/A"}}]
[null,null,{"$f":"VLOOKUP(A798,'Analyse S'!A:D,3,FALSE)","v":{"$error":"#N/A"}}]
[null,null,{"$f":"VLOOKUP(A799,'Analyse S'!A:D,3,FALSE)","v":{"$error":"#N/A"}}]
[null,null,{"$f":"VLOOKUP(A800,'Analyse S'!A:D,3,FALSE)","v":{"$error":"#N/A"}}]
[null,null,{"$f":"VLOOKUP(A801,'Analyse S'!A:D,3,FALSE)","v":{"$error":"#N/A"}}]
[null,null,{"$f":"VLOOKUP(A802,'Analyse S'!A:D,3,FALSE)","v":{"$error":"#N/A"}}]
[null,null,{"$f":"VLOOKUP(A803,'Analyse S'!A:D,3,FALSE)","v":{"$error":"#N/A"}}]
[null,null,{"$f":"VLOOKUP(A804,'Analyse S'!A:D,3,FALSE)","v":{"$error":"#N/A"}}]
[null,null,{"$f":"VLOOKUP(A805,'Analyse S'!A:D,3,FALSE)","v":{"$error":"#N/A"}}]
[null,null,{"$f":"VLOOKUP(A806,'Analyse S'!A:D,3,FALSE)","v":{"$error":"#N/A"}}]
[null,null,{"$f":"VLOOKUP(A807,'Analyse S'!A:D,3,FALSE)","v":{"$error":"#N/A"}}]
[null,null,{"$f":"VLOOKUP(A808,'Analyse S'!A:D,3,FALSE)","v":{"$error":"#N/A"}}]
[null,null,{"$f":"VLOOKUP(A809,'Analyse S'!A:D,3,FALSE)","v":{"$error":"#N/A"}}]
[null,null,{"$f":"VLOOKUP(A810,'Analyse S'!A:D,3,FALSE)","v":{"$error":"#N/A"}}]
[null,null,{"$f":"VLOOKUP(A811,'Analyse S'!A:D,3,FALSE)","v":{"$error":"#N/A"}}]
[null,null,{"$f":"VLOOKUP(A812,'Analyse S'!A:D,3,FALSE)","v":{"$error":"#N/A"}}]
[null,null,{"$f":"VLOOKUP(A813,'Analyse S'!A:D,3,FALSE)","v":{"$error":"#N/A"}}]
[null,null,{"$f":"VLOOKUP(A814,'Analyse S'!A:D,3,FALSE)","v":{"$error":"#N/A"}}]
[null,null,{"$f":"VLOOKUP(A815,'Analyse S'!A:D,3,FALSE)","v":{"$error":"#N/A"}}]
[null,null,{"$f":"VLOOKUP(A816,'Analyse S'!A:D,3,FALSE)","v":{"$error":"#N/A"}}]
[null,null,{"$f":"VLOOKUP(A817,'Analyse S'!A:D,3,FALSE)","v":{"$error":"#N/A"}}]
[null,null,{"$f":"VLOOKUP(A818,'Analyse S'!A:D,3,FALSE)","v":{"$error":"#N/A"}}]
[null,null,{"$f":"VLOOKUP(A819,'Analyse S'!A:D,3,FALSE)","v":{"$error":"#N/A"}}]
[null,null,{"$f":"VLOOKUP(A820,'Analyse S'!A:D,3,FALSE)","v":{"$error":"#N/A"}}]
[null,null,{"$f":"VLOOKUP(A821,'Analyse S'!A:D,3,FALSE)","v":{"$error":"#N/A"}}]
[null,null,{"$f":"VLOOKUP(A822,'Analyse S'!A:D,3,FALSE)","v":{"$error":"#N/A"}}]
[null,null,{"$f":"VLOOKUP(A823,'Analyse S'!A:D,3,FALSE)","v":{"$error":"#N/A"}}]
[null,null,{"$f":"VLOOKUP(A824,'Analyse S'!A:D,3,FALSE)","v":{"$error":"#N/A"}}]
[null,null,{"$f":"VLOOKUP(A825,'Analyse S'!A:D,3,FALSE)","v":{"$error":"#N/A"}}]
[null,null,{"$f":"VLOOKUP(A826,'Analyse S'!A:D,3,FALSE)","v":{"$error":"#N/A"}}]
[null,null,{"$f":"VLOOKUP(A827,'Analyse S'!A:D,3,FALSE)","v":{"$error":"#N/A"}}]
[null,null,{"$f":"VLOOKUP(A828,'Analyse S'!A:D,3,FALSE)","v":{"$error":"#N/A"}}]
[null,null,{"$f":"VLOOKUP(A829,'Analyse S'!A:D,3,FALSE)","v":{"$error":"#N/A"}}]
[null,null,{"$f":"VLOOKUP(A830,'Analyse S'!A:D,3,FALSE)","v":{"$error":"#N/A"}}]
[null,null,{"$f":"VLOOKUP(A831,'Analyse S'!A:D,3,FALSE)","v":{"$error":"#N/A"}}]
[null,null,{"$f":"VLOOKUP(A832,'Analyse S'!A:D,3,FALSE)","v":{"$error":"#N/A"}}]
[null,null,{"$f":"VLOOKUP(A833,'Analyse S'!A:D,3,FALSE)","v":{"$error":"#N/A"}}]
[null,null,{"$f":"VLOOKUP(A834,'Analyse S'!A:D,3,FALSE)","v":{"$error":"#N/A"}}]
[null,null,{"$f":"VLOOKUP(A835,'Analyse S'!A:D,3,FALSE)","v":{"$error":"#N/A"}}]
[null,null,{"$f":"VLOOKUP(A836,'Analyse S'!A:D,3,FALSE)","v":{"$error":"#N/A"}}]
[null,null,{"$f":"VLOOKUP(A837,'Analyse S'!A:D,3,FALSE)","v":{"$error":"#N/A"}}]
[null,null,{"$f":"VLOOKUP(A838,'Analyse S'!A:D,3,FALSE)","v":{"$error":"#N/A"}}]
[null,null,{"$f":"VLOOKUP(A839,'Analyse S'!A:D,3,FALSE)","v":{"$error":"#N/A"}}]
[null,null,{"$f":"VLOOKUP(A840,'Analyse S'!A:D,3,FALSE)","v":{"$error":"#N/A"}}]
[null,null,{"$f":"VLOOKUP(A841,'Analyse S'!A:D,3,FALSE)","v":{"$error":"#N/A"}}]
[null,null,{"$f":"VLOOKUP(A842,'Analyse S'!A:D,3,FALSE)","v":{"$error":"#N/A"}}]
[null,null,{"$f":"VLOOKUP(A843,'Analyse S'!A:D,3,FALSE)","v":{"$error":"#N/A"}}]
[null,null,{"$f":"VLOOKUP(A844,'Analyse S'!A:D,3,FALSE)","v":{"$error":"#N/A"}}]
[null,null,{"$f":"VLOOKUP(A845,'Analyse S'!A:D,3,FALSE)","v":{"$error":"#N/A"}}]
[null,null,{"$f":"VLOOKUP(A846,'Analyse S'!A:D,3,FALSE)","v":{"$error":"#N/A"}}]
[null,null,{"$f":"VLOOKUP(A847,'Analyse S'!A:D,3,FALSE)","v":{"$error":"#N/A"}}]
[null,null,{"$f":"VLOOKUP(A848,'Analyse S'!A:D,3,FALSE)","v":{"$error":"#N/A"}}]
[null,null,{"$f":"VLOOKUP(A849,'Analyse S'!A:D,3,FALSE)","v":{"$error":"#N/A"}}]
[null,null,{"$f":"VLOOKUP(A850,'Analyse S'!A:D,3,FALSE)","v":{"$error":"#N/A"}}]
[null,null,{"$f":"VLOOKUP(A851,'Analyse S'!A:D,3,FALSE)","v":{"$error":"#N/A"}}]
[null,null,{"$f":"VLOOKUP(A852,'Analyse S'!A:D,3,FALSE)","v":{"$error":"#N/A"}}]
[null,null,{"$f":"VLOOKUP(A853,'Analyse S'!A:D,3,FALSE)","v":{"$error":"#N/A"}}]
[null,null,{"$f":"VLOOKUP(A854,'Analyse S'!A:D,3,FALSE)","v":{"$error":"#N/A"}}]
[null,null,{"$f":"VLOOKUP(A855,'Analyse S'!A:D,3,FALSE)","v":{"$error":"#N/A"}}]
[null,null,{"$f":"VLOOKUP(A856,'Analyse S'!A:D,3,FALSE)","v":{"$error":"#N/A"}}]
[null,null,{"$f":"VLOOKUP(A857,'Analyse S'!A:D,3,FALSE)","v":{"$error":"#N/A"}}]
[null,null,{"$f":"VLOOKUP(A858,'Analyse S'!A:D,3,FALSE)","v":{"$error":"#N/A"}}]
[null,null,{"$f":"VLOOKUP(A859,'Analyse S'!A:D,3,FALSE)","v":{"$error":"#N/A"}}]
[null,null,{"$f":"VLOOKUP(A860,'Analyse S'!A:D,3,FALSE)","v":{"$error":"#N/A"}}]
[null,null,{"$f":"VLOOKUP(A861,'Analyse S'!A:D,3,FALSE)","v":{"$error":"#N/A"}}]
[null,null,{"$f":"VLOOKUP(A862,'Analyse S'!A:D,3,FALSE)","v":{"$error":"#N/A"}}]
[null,null,{"$f":"VLOOKUP(A863,'Analyse S'!A:D,3,FALSE)","v":{"$error":"#N/A"}}]
[null,null,{"$f":"VLOOKUP(A864,'Analyse S'!A:D,3,FALSE)","v":{"$error":"#N/A"}}]
[null,null,{"$f":"VLOOKUP(A865,'Analyse S'!A:D,3,FALSE)","v":{"$error":"#N/A"}}]
[null,null,{"$f":"VLOOKUP(A866,'Analyse S'!A:D,3,FALSE)","v":{"$error":"#N/A"}}]
[null,null,{"$f":"VLOOKUP(A867,'Analyse S'!A:D,3,FALSE)","v":{"$error":"#N/A"}}]
[null,null,{"$f":"VLOOKUP(A868,'Analyse S'!A:D,3,FALSE)","v":{"$error":"#N/A"}}]
[null,null,{"$f":"VLOOKUP(A869,'Analyse S'!A:D,3,FALSE)","v":{"$error":"#N/A"}}]
[null,null,{"$f":"VLOOKUP(A870,'Analyse S'!A:D,3,FALSE)","v":{"$error":"#N/A"}}]
[null,null,{"$f":"VLOOKUP(A871,'Analyse S'!A:D,3,FALSE)","v":{"$error":"#N/A"}}]
[null,null,{"$f":"VLOOKUP(A872,'Analyse S'!A:D,3,FALSE)","v":{"$error":"#N/A"}}]
[null,null,{"$f":"VLOOKUP(A873,'Analyse S'!A:D,3,FALSE)","v":{"$error":"#N/A"}}]
[null,null,{"$f":"VLOOKUP(A874,'Analyse S'!A:D,3,FALSE)","v":{"$error":"#N/A"}}]
[null,null,{"$f":"VLOOKUP(A875,'Analyse S'!A:D,3,FALSE)","v":{"$error":"#N/A"}}]
[null,null,{"$f":"VLOOKUP(A876,'Analyse S'!A:D,3,FALSE)","v":{"$error":"#N/A"}}]
[null,null,{"$f":"VLOOKUP(A877,'Analyse S'!A:D,3,FALSE)","v":{"$error":"#N/A"}}]
[null,null,{"$f":"VLOOKUP(A878,'Analyse S'!A:D,3,FALSE)","v":{"$error":"#N/A"}}]
[null,null,{"$f":"VLOOKUP(A879,'Analyse S'!A:D,3,FALSE)","v":{"$error":"#N/A"}}]
[null,null,{"$f":"VLOOKUP(A880,'Analyse S'!A:D,3,FALSE)","v":{"$error":"#N/A"}}]
[null,null,{"$f":"VLOOKUP(A881,'Analyse S'!A:D,3,FALSE)","v":{"$error":"#N/A"}}]
[null,null,{"$f":"VLOOKUP(A882,'Analyse S'!A:D,3,FALSE)","v":{"$error":"#N/A"}}]
[null,null,{"$f":"VLOOKUP(A883,'Analyse S'!A:D,3,FALSE)","v":{"$error":"#N/A"}}]
[null,null,{"$f":"VLOOKUP(A884,'Analyse S'!A:D,3,FALSE)","v":{"$error":"#N/A"}}]
[null,null,{"$f":"VLOOKUP(A885,'Analyse S'!A:D,3,FALSE)","v":{"$error":"#N/A"}}]
[null,null,{"$f":"VLOOKUP(A886,'Analyse S'!A:D,3,FALSE)","v":{"$error":"#N/A"}}]
[null,null,{"$f":"VLOOKUP(A887,'Analyse S'!A:D,3,FALSE)","v":{"$error":"#N/A"}}]
[null,null,{"$f":"VLOOKUP(A888,'Analyse S'!A:D,3,FALSE)","v":{"$error":"#N/A"}}]
[null,null,{"$f":"VLOOKUP(A889,'Analyse S'!A:D,3,FALSE)","v":{"$error":"#N/A"}}]
[null,null,{"$f":"VLOOKUP(A890,'Analyse S'!A:D,3,FALSE)","v":{"$error":"#N/A"}}]
[null,null,{"$f":"VLOOKUP(A891,'Analyse S'!A:D,3,FALSE)","v":{"$error":"#N/A"}}]
[null,null,{"$f":"VLOOKUP(A892,'Analyse S'!A:D,3,FALSE)","v":{"$error":"#N/A"}}]
[null,null,{"$f":"VLOOKUP(A893,'Analyse S'!A:D,3,FALSE)","v":{"$error":"#N/A"}}]
[null,null,{"$f":"VLOOKUP(A894,'Analyse S'!A:D,3,FALSE)","v":{"$error":"#N/A"}}]
[null,null,{"$f":"VLOOKUP(A895,'Analyse S'!A:D,3,FALSE)","v":{"$error":"#N/A"}}]
[null,null,{"$f":"VLOOKUP(A896,'Analyse S'!A:D,3,FALSE)","v":{"$error":"#N/A"}}]
[null,null,{"$f":"VLOOKUP(A897,'Analyse S'!A:D,3,FALSE)","v":{"$error":"#N/A"}}]
[null,null,{"$f":"VLOOKUP(A898,'Analyse S'!A:D,3,FALSE)","v":{"$error":"#N/A"}}]
[null,null,{"$f":"VLOOKUP(A899,'Analyse S'!A:D,3,FALSE)","v":{"$error":"#N/A"}}]
[null,null,{"$f":"VLOOKUP(A900,'Analyse S'!A:D,3,FALSE)","v":{"$error":"#N/A"}}]
[null,null,{"$f":"VLOOKUP(A901,'Analyse S'!A:D,3,FALSE)","v":{"$error":"#N/A"}}]
[null,null,{"$f":"VLOOKUP(A902,'Analyse S'!A:D,3,FALSE)","v":{"$error":"#N/A"}}]
[null,null,{"$f":"VLOOKUP(A903,'Analyse S'!A:D,3,FALSE)","v":{"$error":"#N/A"}}]
[null,null,{"$f":"VLOOKUP(A904,'Analyse S'!A:D,3,FALSE)","v":{"$error":"#N/A"}}]
[null,null,{"$f":"VLOOKUP(A905,'Analyse S'!A:D,3,FALSE)","v":{"$error":"#N/A"}}]
[null,null,{"$f":"VLOOKUP(A906,'Analyse S'!A:D,3,FALSE)","v":{"$error":"#N/A"}}]
[null,null,{"$f":"VLOOKUP(A907,'Analyse S'!A:D,3,FALSE)","v":{"$error":"#N/A"}}]
[null,null,{"$f":"VLOOKUP(A908,'Analyse S'!A:D,3,FALSE)","v":{"$error":"#N/A"}}]
[null,null,{"$f":"VLOOKUP(A909,'Analyse S'!A:D,3,FALSE)","v":{"$error":"#N/A"}}]
[null,null,{"$f":"VLOOKUP(A910,'Analyse S'!A:D,3,FALSE)","v":{"$error":"#N/A"}}]
[null,null,{"$f":"VLOOKUP(A911,'Analyse S'!A:D,3,FALSE)","v":{"$error":"#N/A"}}]
[null,null,{"$f":"VLOOKUP(A912,'Analyse S'!A:D,3,FALSE)","v":{"$error":"#N/A"}}]
[null,null,{"$f":"VLOOKUP(A913,'Analyse S'!A:D,3,FALSE)","v":{"$error":"#N/A"}}]
[null,null,{"$f":"VLOOKUP(A914,'Analyse S'!A:D,3,FALSE)","v":{"$error":"#N/A"}}]
[null,null,{"$f":"VLOOKUP(A915,'Analyse S'!A:D,3,FALSE)","v":{"$error":"#N/A"}}]
[null,null,{"$f":"VLOOKUP(A916,'Analyse S'!A:D,3,FALSE)","v":{"$error":"#N/A"}}]
[null,null,{"$f":"VLOOKUP(A917,'Analyse S'!A:D,3,FALSE)","v":{"$error":"#N/A"}}]
[null,null,{"$f":"VLOOKUP(A918,'Analyse S'!A:D,3,FALSE)","v":{"$error":"#N/A"}}]
[null,null,{"$f":"VLOOKUP(A919,'Analyse S'!A:D,3,FALSE)","v":{"$error":"#N/A"}}]
[null,null,{"$f":"VLOOKUP(A920,'Analyse S'!A:D,3,FALSE)","v":{"$error":"#N/A"}}]
[null,null,{"$f":"VLOOKUP(A921,'Analyse S'!A:D,3,FALSE)","v":{"$error":"#N/A"}}]
[null,null,{"$f":"VLOOKUP(A922,'Analyse S'!A:D,3,FALSE)","v":{"$error":"#N/A"}}]
[null,null,{"$f":"VLOOKUP(A923,'Analyse S'!A:D,3,FALSE)","v":{"$error":"#N/A"}}]
[null,null,{"$f":"VLOOKUP(A924,'Analyse S'!A:D,3,FALSE)","v":{"$error":"#N/A"}}]
[null,null,{"$f":"VLOOKUP(A925,'Analyse S'!A:D,3,FALSE)","v":{"$error":"#N/A"}}]
[null,null,{"$f":"VLOOKUP(A926,'Analyse S'!A:D,3,FALSE)","v":{"$error":"#N/A"}}]
[null,null,{"$f":"VLOOKUP(A927,'Analyse S'!A:D,3,FALSE)","v":{"$error":"#N/A"}}]
[null,null,{"$f":"VLOOKUP(A928,'Analyse S'!A:D,3,FALSE)","v":{"$error":"#N/A"}}]
[null,null,{"$f":"VLOOKUP(A929,'Analyse S'!A:D,3,FALSE)","v":{"$error":"#N/A"}}]
[null,null,{"$f":"VLOOKUP(A930,'Analyse S'!A:D,3,FALSE)","v":{"$error":"#N/A"}}]
[null,null,{"$f":"VLOOKUP(A931,'Analyse S'!A:D,3,FALSE)","v":{"$error":"#N/A"}}]
[null,null,{"$f":"VLOOKUP(A932,'Analyse S'!A:D,3,FALSE)","v":{"$error":"#N/A"}}]
[null,null,{"$f":"VLOOKUP(A933,'Analyse S'!A:D,3,FALSE)","v":{"$error":"#N/A"}}]
[null,null,{"$f":"VLOOKUP(A934,'Analyse S'!A:D,3,FALSE)","v":{"$error":"#N/A"}}]
[null,null,{"$f":"VLOOKUP(A935,'Analyse S'!A:D,3,FALSE)","v":{"$error":"#N/A"}}]
[null,null,{"$f":"VLOOKUP(A936,'Analyse S'!A:D,3,FALSE)","v":{"$error":"#N/A"}}]
[null,null,{"$f":"VLOOKUP(A937,'Analyse S'!A:D,3,FALSE)","v":{"$error":"#N/A"}}]
[null,null,{"$f":"VLOOKUP(A938,'Analyse S'!A:D,3,FALSE)","v":{"$error":"#N/A"}}]
[null,null,{"$f":"VLOOKUP(A939,'Analyse S'!A:D,3,FALSE)","v":{"$error":"#N/A"}}]
[null,null,{"$f":"VLOOKUP(A940,'Analyse S'!A:D,3,FALSE)","v":{"$error":"#N/A"}}]
[null,null,{"$f":"VLOOKUP(A941,'Analyse S'!A:D,3,FALSE)","v":{"$error":"#N/A"}}]
[null,null,{"$f":"VLOOKUP(A942,'Analyse S'!A:D,3,FALSE)","v":{"$error":"#N/A"}}]
[null,null,{"$f":"VLOOKUP(A943,'Analyse S'!A:D,3,FALSE)","v":{"$error":"#N/A"}}]
[null,null,{"$f":"VLOOKUP(A944,'Analyse S'!A:D,3,FALSE)","v":{"$error":"#N/A"}}]
[null,null,{"$f":"VLOOKUP(A945,'Analyse S'!A:D,3,FALSE)","v":{"$error":"#N/A"}}]
[null,null,{"$f":"VLOOKUP(A946,'Analyse S'!A:D,3,FALSE)","v":{"$error":"#N/A"}}]
[null,null,{"$f":"VLOOKUP(A947,'Analyse S'!A:D,3,FALSE)","v":{"$error":"#N/A"}}]
[null,null,{"$f":"VLOOKUP(A948,'Analyse S'!A:D,3,FALSE)","v":{"$error":"#N/A"}}]
[null,null,{"$f":"VLOOKUP(A949,'Analyse S'!A:D,3,FALSE)","v":{"$error":"#N/A"}}]
[null,null,{"$f":"VLOOKUP(A950,'Analyse S'!A:D,3,FALSE)","v":{"$error":"#N/A"}}]
[null,null,{"$f":"VLOOKUP(A951,'Analyse S'!A:D,3,FALSE)","v":{"$error":"#N/A"}}]
[null,null,{"$f":"VLOOKUP(A952,'Analyse S'!A:D,3,FALSE)","v":{"$error":"#N/A"}}]
[null,null,{"$f":"VLOOKUP(A953,'Analyse S'!A:D,3,FALSE)","v":{"$error":"#N/A"}}]
[null,null,{"$f":"VLOOKUP(A954,'Analyse S'!A:D,3,FALSE)","v":{"$error":"#N/A"}}]
[null,null,{"$f":"VLOOKUP(A955,'Analyse S'!A:D,3,FALSE)","v":{"$error":"#N/A"}}]
[null,null,{"$f":"VLOOKUP(A956,'Analyse S'!A:D,3,FALSE)","v":{"$error":"#N/A"}}]
[null,null,{"$f":"VLOOKUP(A957,'Analyse S'!A:D,3,FALSE)","v":{"$error":"#N/A"}}]
[null,null,{"$f":"VLOOKUP(A958,'Analyse S'!A:D,3,FALSE)","v":{"$error":"#N/A"}}]
[null,null,{"$f":"VLOOKUP(A959,'Analyse S'!A:D,3,FALSE)","v":{"$error":"#N/A"}}]
[null,null,{"$f":"VLOOKUP(A960,'Analyse S'!A:D,3,FALSE)","v":{"$error":"#N/A"}}]
[null,null,{"$f":"VLOOKUP(A961,'Analyse S'!A:D,3,FALSE)","v":{"$error":"#N/A"}}]
[null,null,{"$f":"VLOOKUP(A962,'Analyse S'!A:D,3,FALSE)","v":{"$error":"#N/A"}}]
[null,null,{"$f":"VLOOKUP(A963,'Analyse S'!A:D,3,FALSE)","v":{"$error":"#N/A"}}]
[null,null,{"$f":"VLOOKUP(A964,'Analyse S'!A:D,3,FALSE)","v":{"$error":"#N/A"}}]
[null,null,{"$f":"VLOOKUP(A965,'Analyse S'!A:D,3,FALSE)","v":{"$error":"#N/A"}}]
[null,null,{"$f":"VLOOKUP(A966,'Analyse S'!A:D,3,FALSE)","v":{"$error":"#N/A"}}]
[null,null,{"$f":"VLOOKUP(A967,'Analyse S'!A:D,3,FALSE)","v":{"$error":"#N/A"}}]
[null,null,{"$f":"VLOOKUP(A968,'Analyse S'!A:D,3,FALSE)","v":{"$error":"#N/A"}}]
[null,null,{"$f":"VLOOKUP(A969,'Analyse S'!A:D,3,FALSE)","v":{"$error":"#N/A"}}]
[null,null,{"$f":"VLOOKUP(A970,'Analyse S'!A:D,3,FALSE)","v":{"$error":"#N/A"}}]
[null,null,{"$f":"VLOOKUP(A971,'Analyse S'!A:D,3,FALSE)","v":{"$error":"#N/A"}}]
[null,null,{"$f":"VLOOKUP(A972,'Analyse S'!A:D,3,FALSE)","v":{"$error":"#N/A"}}]
[null,null,{"$f":"VLOOKUP(A973,'Analyse S'!A:D,3,FALSE)","v":{"$error":"#N/A"}}]
[null,null,{"$f":"VLOOKUP(A974,'Analyse S'!A:D,3,FALSE)","v":{"$error":"#N/A"}}]
[null,null,{"$f":"VLOOKUP(A975,'Analyse S'!A:D,3,FALSE)","v":{"$error":"#N/A"}}]
[null,null,{"$f":"VLOOKUP(A976,'Analyse S'!A:D,3,FALSE)","v":{"$error":"#N/A"}}]
[null,null,{"$f":"VLOOKUP(A977,'Analyse S'!A:D,3,FALSE)","v":{"$error":"#N/A"}}]
[null,null,{"$f":"VLOOKUP(A978,'Analyse S'!A:D,3,FALSE)","v":{"$error":"#N/A"}}]
[null,null,{"$f":"VLOOKUP(A979,'Analyse S'!A:D,3,FALSE)","v":{"$error":"#N/A"}}]
[null,null,{"$f":"VLOOKUP(A980,'Analyse S'!A:D,3,FALSE)","v":{"$error":"#N/A"}}]
[null,null,{"$f":"VLOOKUP(A981,'Analyse S'!A:D,3,FALSE)","v":{"$error":"#N/A"}}]
[null,null,{"$f":"VLOOKUP(A982,'Analyse S'!A:D,3,FALSE)","v":{"$error":"#N/A"}}]
[null,null,{"$f":"VLOOKUP(A983,'Analyse S'!A:D,3,FALSE)","v":{"$error":"#N/A"}}]
[null,null,{"$f":"VLOOKUP(A984,'Analyse S'!A:D,3,FALSE)","v":{"$error":"#N/A"}}]
[null,null,{"$f":"VLOOKUP(A985,'Analyse S'!A:D,3,FALSE)","v":{"$error":"#N/A"}}]
[null,null,{"$f":"VLOOKUP(A986,'Analyse S'!A:D,3,FALSE)","v":{"$error":"#N/A"}}]
[null,null,{"$f":"VLOOKUP(A987,'Analyse S'!A:D,3,FALSE)","v":{"$error":"#N/A"}}]
[null,null,{"$f":"VLOOKUP(A988,'Analyse S'!A:D,3,FALSE)","v":{"$error":"#N/A"}}]
[null,null,{"$f":"VLOOKUP(A989,'Analyse S'!A:D,3,FALSE)","v":{"$error":"#N/A"}}]
[null,null,{"$f":"VLOOKUP(A990,'Analyse S'!A:D,3,FALSE)","v":{"$error":"#N/A"}}]
[null,null,{"$f":"VLOOKUP(A991,'Analyse S'!A:D,3,FALSE)","v":{"$error":"#N/A"}}]
[null,null,{"$f":"VLOOKUP(A992,'Analyse S'!A:D,3,FALSE)","v":{"$error":"#N/A"}}]
[null,null,{"$f":"VLOOKUP(A993,'Analyse S'!A:D,3,FALSE)","v":{"$error":"#N/A"}}]
[null,null,{"$f":"VLOOKUP(A994,'Analyse S'!A:D,3,FALSE)","v":{"$error":"#N/A"}}]
[null,null,{"$f":"VLOOKUP(A995,'Analyse S'!A:D,3,FALSE)","v":{"$error":"#N/A"}}]
[null,null,{"$f":"VLOOKUP(A996,'Analyse S'!A:D,3,FALSE)","v":{"$error":"#N/A"}}]
[null,null,{"$f":"VLOOKUP(A997,'Analyse S'!A:D,3,FALSE)","v":{"$error":"#N/A"}}]
[null,null,{"$f":"VLOOKUP(A998,'Analyse S'!A:D,3,FALSE)","v":{"$error":"#N/A"}}]
[null,null,{"$f":"VLOOKUP(A999,'Analyse S'!A:D,3,FALSE)","v":{"$error":"#N/A"}}]
[null,null,{"$f":"VLOOKUP(A1000,'Analyse S'!A:D,3,FALSE)","v":{"$error":"#N/A"}}]
[null,null,{"$f":"VLOOKUP(A1001,'Analyse S'!A:D,3,FALSE)","v":{"$error":"#N/A"}}]
[null,null,{"$f":"VLOOKUP(A1002,'Analyse S'!A:D,3,FALSE)","v":{"$error":"#N/A"}}]
[null,null,{"$f":"VLOOKUP(A1003,'Analyse S'!A:D,3,FALSE)","v":{"$error":"#N/A"}}]
[null,null,{"$f":"VLOOKUP(A1004,'Analyse S'!A:D,3,FALSE)","v":{"$error":"#N/A"}}]
[null,null,{"$f":"VLOOKUP(A1005,'Analyse S'!A:D,3,FALSE)","v":{"$error":"#N/A"}}]
[null,null,{"$f":"VLOOKUP(A1006,'Analyse S'!A:D,3,FALSE)","v":{"$error":"#N/A"}}]
[null,null,{"$f":"VLOOKUP(A1007,'Analyse S'!A:D,3,FALSE)","v":{"$error":"#N/A"}}]
[null,null,{"$f":"VLOOKUP(A1008,'Analyse S'!A:D,3,FALSE)","v":{"$error":"#N/A"}}]
[null,null,{"$f":"VLOOKUP(A1009,'Analyse S'!A:D,3,FALSE)","v":{"$error":"#N/A"}}]
[null,null,{"$f":"VLOOKUP(A1010,'Analyse S'!A:D,3,FALSE)","v":{"$error":"#N/A"}}]
[null,null,{"$f":"VLOOKUP(A1011,'Analyse S'!A:D,3,FALSE)","v":{"$error":"#N/A"}}]
[null,null,{"$f":"VLOOKUP(A1012,'Analyse S'!A:D,3,FALSE)","v":{"$error":"#N/A"}}]
[null,null,{"$f":"VLOOKUP(A1013,'Analyse S'!A:D,3,FALSE)","v":{"$error":"#N/A"}}]
[null,null,{"$f":"VLOOKUP(A1014,'Analyse S'!A:D,3,FALSE)","v":{"$error":"#N/A"}}]
[null,null,{"$f":"VLOOKUP(A1015,'Analyse S'!A:D,3,FALSE)","v":{"$error":"#N/A"}}]
[null,null,{"$f":"VLOOKUP(A1016,'Analyse S'!A:D,3,FALSE)","v":{"$error":"#N/A"}}]
[null,null,{"$f":"VLOOKUP(A1017,'Analyse S'!A:D,3,FALSE)","v":{"$error":"#N/A"}}]
[null,null,{"$f":"VLOOKUP(A1018,'Analyse S'!A:D,3,FALSE)","v":{"$error":"#N/A"}}]
[null,null,{"$f":"VLOOKUP(A1019,'Analyse S'!A:D,3,FALSE)","v":{"$error":"#N/A"}}]
[null,null,{"$f":"VLOOKUP(A1020,'Analyse S'!A:D,3,FALSE)","v":{"$error":"#N/A"}}]
[null,null,{"$f":"VLOOKUP(A1021,'Analyse S'!A:D,3,FALSE)","v":{"$error":"#N/A"}}]
[null,null,{"$f":"VLOOKUP(A1022,'Analyse S'!A:D,3,FALSE)","v":{"$error":"#N/A"}}]
[null,null,{"$f":"VLOOKUP(A1023,'Analyse S'!A:D,3,FALSE)","v":{"$error":"#N/A"}}]
[null,null,{"$f":"VLOOKUP(A1024,'Analyse S'!A:D,3,FALSE)","v":{"$error":"#N/A"}}]
[null,null,{"$f":"VLOOKUP(A1025,'Analyse S'!A:D,3,FALSE)","v":{"$error":"#N/A"}}]
[null,null,{"$f":"VLOOKUP(A1026,'Analyse S'!A:D,3,FALSE)","v":{"$error":"#N/A"}}]
[null,null,{"$f":"VLOOKUP(A1027,'Analyse S'!A:D,3,FALSE)","v":{"$error":"#N/A"}}]
[null,null,{"$f":"VLOOKUP(A1028,'Analyse S'!A:D,3,FALSE)","v":{"$error":"#N/A"}}]
[null,null,{"$f":"VLOOKUP(A1029,'Analyse S'!A:D,3,FALSE)","v":{"$error":"#N/A"}}]
[null,null,{"$f":"VLOOKUP(A1030,'Analyse S'!A:D,3,FALSE)","v":{"$error":"#N/A"}}]
[null,null,{"$f":"VLOOKUP(A1031,'Analyse S'!A:D,3,FALSE)","v":{"$error":"#N/A"}}]
[null,null,{"$f":"VLOOKUP(A1032,'Analyse S'!A:D,3,FALSE)","v":{"$error":"#N/A"}}]
[null,null,{"$f":"VLOOKUP(A1033,'Analyse S'!A:D,3,FALSE)","v":{"$error":"#N/A"}}]
[null,null,{"$f":"VLOOKUP(A1034,'Analyse S'!A:D,3,FALSE)","v":{"$error":"#N/A"}}]
[null,null,{"$f":"VLOOKUP(A1035,'Analyse S'!A:D,3,FALSE)","v":{"$error":"#N/A"}}]
[null,null,{"$f":"VLOOKUP(A1036,'Analyse S'!A:D,3,FALSE)","v":{"$error":"#N/A"}}]
[null,null,{"$f":"VLOOKUP(A1037,'Analyse S'!A:D,3,FALSE)","v":{"$error":"#N/A"}}]
[null,null,{"$f":"VLOOKUP(A1038,'Analyse S'!A:D,3,FALSE)","v":{"$error":"#N/A"}}]
[null,null,{"$f":"VLOOKUP(A1039,'Analyse S'!A:D,3,FALSE)","v":{"$error":"#N/A"}}]
[null,null,{"$f":"VLOOKUP(A1040,'Analyse S'!A:D,3,FALSE)","v":{"$error":"#N/A"}}]
[null,null,{"$f":"VLOOKUP(A1041,'Analyse S'!A:D,3,FALSE)","v":{"$error":"#N/A"}}]
[null,null,{"$f":"VLOOKUP(A1042,'Analyse S'!A:D,3,FALSE)","v":{"$error":"#N/A"}}]
[null,null,{"$f":"VLOOKUP(A1043,'Analyse S'!A:D,3,FALSE)","v":{"$error":"#N/A"}}]
[null,null,{"$f":"VLOOKUP(A1044,'Analyse S'!A:D,3,FALSE)","v":{"$error":"#N/A"}}]
[null,null,{"$f":"VLOOKUP(A1045,'Analyse S'!A:D,3,FALSE)","v":{"$error":"#N/A"}}]
[null,null,{"$f":"VLOOKUP(A1046,'Analyse S'!A:D,3,FALSE)","v":{"$error":"#N/A"}}]
[null,null,{"$f":"VLOOKUP(A1047,'Analyse S'!A:D,3,FALSE)","v":{"$error":"#N/A"}}]
[null,null,{"$f":"VLOOKUP(A1048,'Analyse S'!A:D,3,FALSE)","v":{"$error":"#N/A"}}]
[null,null,{"$f":"VLOOKUP(A1049,'Analyse S'!A:D,3,FALSE)","v":{"$error":"#N/A"}}]
[null,null,{"$f":"VLOOKUP(A1050,'Analyse S'!A:D,3,FALSE)","v":{"$error":"#N/A"}}]
[null,null,{"$f":"VLOOKUP(A1051,'Analyse S'!A:D,3,FALSE)","v":{"$error":"#N/A"}}]
[null,null,{"$f":"VLOOKUP(A1052,'Analyse S'!A:D,3,FALSE)","v":{"$error":"#N/A"}}]
[null,null,{"$f":"VLOOKUP(A1053,'Analyse S'!A:D,3,FALSE)","v":{"$error":"#N/A"}}]
[null,null,{"$f":"VLOOKUP(A1054,'Analyse S'!A:D,3,FALSE)","v":{"$error":"#N/A"}}]
[null,null,{"$f":"VLOOKUP(A1055,'Analyse S'!A:D,3,FALSE)","v":{"$error":"#N/A"}}]
[null,null,{"$f":"VLOOKUP(A1056,'Analyse S'!A:D,3,FALSE)","v":{"$error":"#N/A"}}]
[null,null,{"$f":"VLOOKUP(A1057,'Analyse S'!A:D,3,FALSE)","v":{"$error":"#N/A"}}]
[null,null,{"$f":"VLOOKUP(A1058,'Analyse S'!A:D,3,FALSE)","v":{"$error":"#N/A"}}]
[null,null,{"$f":"VLOOKUP(A1059,'Analyse S'!A:D,3,FALSE)","v":{"$error":"#N/A"}}]
[null,null,{"$f":"VLOOKUP(A1060,'Analyse S'!A:D,3,FALSE)","v":{"$error":"#N/A"}}]
[null,null,{"$f":"VLOOKUP(A1061,'Analyse S'!A:D,3,FALSE)","v":{"$error":"#N/A"}}]
[null,null,{"$f":"VLOOKUP(A1062,'Analyse S'!A:D,3,FALSE)","v":{"$error":"#N/A"}}]
[null,null,{"$f":"VLOOKUP(A1063,'Analyse S'!A:D,3,FALSE)","v":{"$error":"#N/A"}}]
[null,null,{"$f":"VLOOKUP(A1064,'Analyse S'!A:D,3,FALSE)","v":{"$error":"#N/A"}}]
[null,null,{"$f":"VLOOKUP(A1065,'Analyse S'!A:D,3,FALSE)","v":{"$error":"#N/A"}}]
[null,null,{"$f":"VLOOKUP(A1066,'Analyse S'!A:D,3,FALSE)","v":{"$error":"#N/A"}}]
[null,null,{"$f":"VLOOKUP(A1067,'Analyse S'!A:D,3,FALSE)","v":{"$error":"#N/A"}}]
[null,null,{"$f":"VLOOKUP(A1068,'Analyse S'!A:D,3,FALSE)","v":{"$error":"#N/A"}}]
[null,null,{"$f":"VLOOKUP(A1069,'Analyse S'!A:D,3,FALSE)","v":{"$error":"#N/A"}}]
[null,null,{"$f":"VLOOKUP(A1070,'Analyse S'!A:D,3,FALSE)","v":{"$error":"#N/A"}}]
[null,null,{"$f":"VLOOKUP(A1071,'Analyse S'!A:D,3,FALSE)","v":{"$error":"#N/A"}}]
[null,null,{"$f":"VLOOKUP(A1072,'Analyse S'!A:D,3,FALSE)","v":{"$error":"#N/A"}}]
[null,null,{"$f":"VLOOKUP(A1073,'Analyse S'!A:D,3,FALSE)","v":{"$error":"#N/A"}}]
[null,null,{"$f":"VLOOKUP(A1074,'Analyse S'!A:D,3,FALSE)","v":{"$error":"#N/A"}}]
[null,null,{"$f":"VLOOKUP(A1075,'Analyse S'!A:D,3,FALSE)","v":{"$error":"#N/A"}}]
[null,null,{"$f":"VLOOKUP(A1076,'Analyse S'!A:D,3,FALSE)","v":{"$error":"#N/A"}}]
[null,null,{"$f":"VLOOKUP(A1077,'Analyse S'!A:D,3,FALSE)","v":{"$error":"#N/A"}}]
[null,null,{"$f":"VLOOKUP(A1078,'Analyse S'!A:D,3,FALSE)","v":{"$error":"#N/A"}}]
[null,null,{"$f":"VLOOKUP(A1079,'Analyse S'!A:D,3,FALSE)","v":{"$error":"#N/A"}}]
[null,null,{"$f":"VLOOKUP(A1080,'Analyse S'!A:D,3,FALSE)","v":{"$error":"#N/A"}}]
[null,null,{"$f":"VLOOKUP(A1081,'Analyse S'!A:D,3,FALSE)","v":{"$error":"#N/A"}}]
[null,null,{"$f":"VLOOKUP(A1082,'Analyse S'!A:D,3,FALSE)","v":{"$error":"#N/A"}}]
[null,null,{"$f":"VLOOKUP(A1083,'Analyse S'!A:D,3,FALSE)","v":{"$error":"#N/A"}}]
[null,null,{"$f":"VLOOKUP(A1084,'Analyse S'!A:D,3,FALSE)","v":{"$error":"#N/A"}}]
[null,null,{"$f":"VLOOKUP(A1085,'Analyse S'!A:D,3,FALSE)","v":{"$error":"#N/A"}}]
[null,null,{"$f":"VLOOKUP(A1086,'Analyse S'!A:D,3,FALSE)","v":{"$error":"#N/A"}}]
[null,null,{"$f":"VLOOKUP(A1087,'Analyse S'!A:D,3,FALSE)","v":{"$error":"#N/A"}}]
[null,null,{"$f":"VLOOKUP(A1088,'Analyse S'!A:D,3,FALSE)","v":{"$error":"#N/A"}}]
[null,null,{"$f":"VLOOKUP(A1089,'Analyse S'!A:D,3,FALSE)","v":{"$error":"#N/A"}}]
[null,null,{"$f":"VLOOKUP(A1090,'Analyse S'!A:D,3,FALSE)","v":{"$error":"#N/A"}}]
[null,null,{"$f":"VLOOKUP(A1091,'Analyse S'!A:D,3,FALSE)","v":{"$error":"#N/A"}}]
[null,null,{"$f":"VLOOKUP(A1092,'Analyse S'!A:D,3,FALSE)","v":{"$error":"#N/A"}}]
[null,null,{"$f":"VLOOKUP(A1093,'Analyse S'!A:D,3,FALSE)","v":{"$error":"#N/A"}}]
[null,null,{"$f":"VLOOKUP(A1094,'Analyse S'!A:D,3,FALSE)","v":{"$error":"#N/A"}}]
[null,null,{"$f":"VLOOKUP(A1095,'Analyse S'!A:D,3,FALSE)","v":{"$error":"#N/A"}}]
[null,null,{"$f":"VLOOKUP(A1096,'Analyse S'!A:D,3,FALSE)","v":{"$error":"#N/A"}}]
[null,null,{"$f":"VLOOKUP(A1097,'Analyse S'!A:D,3,FALSE)","v":{"$error":"#N/A"}}]
[null,null,{"$f":"VLOOKUP(A1098,'Analyse S'!A:D,3,FALSE)","v":{"$error":"#N/A"}}]
[null,null,{"$f":"VLOOKUP(A1099,'Analyse S'!A:D,3,FALSE)","v":{"$error":"#N/A"}}]
[null,null,{"$f":"VLOOKUP(A1100,'Analyse S'!A:D,3,FALSE)","v":{"$error":"#N/A"}}]
[null,null,{"$f":"VLOOKUP(A1101,'Analyse S'!A:D,3,FALSE)","v":{"$error":"#N/A"}}]
[null,null,{"$f":"VLOOKUP(A1102,'Analyse S'!A:D,3,FALSE)","v":{"$error":"#N/A"}}]
[null,null,{"$f":"VLOOKUP(A1103,'Analyse S'!A:D,3,FALSE)","v":{"$error":"#N/A"}}]
[null,null,{"$f":"VLOOKUP(A1104,'Analyse S'!A:D,3,FALSE)","v":{"$error":"#N/A"}}]
[null,null,{"$f":"VLOOKUP(A1105,'Analyse S'!A:D,3,FALSE)","v":{"$error":"#N/A"}}]
[null,null,{"$f":"VLOOKUP(A1106,'Analyse S'!A:D,3,FALSE)","v":{"$error":"#N/A"}}]
[null,null,{"$f":"VLOOKUP(A1107,'Analyse S'!A:D,3,FALSE)","v":{"$error":"#N/A"}}]
[null,null,{"$f":"VLOOKUP(A1108,'Analyse S'!A:D,3,FALSE)","v":{"$error":"#N/A"}}]
[null,null,{"$f":"VLOOKUP(A1109,'Analyse S'!A:D,3,FALSE)","v":{"$error":"#N/A"}}]
[null,null,{"$f":"VLOOKUP(A1110,'Analyse S'!A:D,3,FALSE)","v":{"$error":"#N/A"}}]
[null,null,{"$f":"VLOOKUP(A1111,'Analyse S'!A:D,3,FALSE)","v":{"$error":"#N/A"}}]
[null,null,{"$f":"VLOOKUP(A1112,'Analyse S'!A:D,3,FALSE)","v":{"$error":"#N/A"}}]
[null,null,{"$f":"VLOOKUP(A1113,'Analyse S'!A:D,3,FALSE)","v":{"$error":"#N/A"}}]
[null,null,{"$f":"VLOOKUP(A1114,'Analyse S'!A:D,3,FALSE)","v":{"$error":"#N/A"}}]
[null,null,{"$f":"VLOOKUP(A1115,'Analyse S'!A:D,3,FALSE)","v":{"$error":"#N/A"}}]
[null,null,{"$f":"VLOOKUP(A1116,'Analyse S'!A:D,3,FALSE)","v":{"$error":"#N/A"}}]
[null,null,{"$f":"VLOOKUP(A1117,'Analyse S'!A:D,3,FALSE)","v":{"$error":"#N/A"}}]
[null,null,{"$f":"VLOOKUP(A1118,'Analyse S'!A:D,3,FALSE)","v":{"$error":"#N/A"}}]
[null,null,{"$f":"VLOOKUP(A1119,'Analyse S'!A:D,3,FALSE)","v":{"$error":"#N/A"}}]
[null,null,{"$f":"VLOOKUP(A1120,'Analyse S'!A:D,3,FALSE)","v":{"$error":"#N/A"}}]
[null,null,{"$f":"VLOOKUP(A1121,'Analyse S'!A:D,3,FALSE)","v":{"$error":"#N/A"}}]
[null,null,{"$f":"VLOOKUP(A1122,'Analyse S'!A:D,3,FALSE)","v":{"$error":"#N/A"}}]
[null,null,{"$f":"VLOOKUP(A1123,'Analyse S'!A:D,3,FALSE)","v":{"$error":"#N/A"}}]
[null,null,{"$f":"VLOOKUP(A1124,'Analyse S'!A:D,3,FALSE)","v":{"$error":"#N/A"}}]
[null,null,{"$f":"VLOOKUP(A1125,'Analyse S'!A:D,3,FALSE)","v":{"$error":"#N/A"}}]
[null,null,{"$f":"VLOOKUP(A1126,'Analyse S'!A:D,3,FALSE)","v":{"$error":"#N/A"}}]
[null,null,{"$f":"VLOOKUP(A1127,'Analyse S'!A:D,3,FALSE)","v":{"$error":"#N/A"}}]
[null,null,{"$f":"VLOOKUP(A1128,'Analyse S'!A:D,3,FALSE)","v":{"$error":"#N/A"}}]
[null,null,{"$f":"VLOOKUP(A1129,'Analyse S'!A:D,3,FALSE)","v":{"$error":"#N/A"}}]
[null,null,{"$f":"VLOOKUP(A1130,'Analyse S'!A:D,3,FALSE)","v":{"$error":"#N/A"}}]
[null,null,{"$f":"VLOOKUP(A1131,'Analyse S'!A:D,3,FALSE)","v":{"$error":"#N/A"}}]
[null,null,{"$f":"VLOOKUP(A1132,'Analyse S'!A:D,3,FALSE)","v":{"$error":"#N/A"}}]
[null,null,{"$f":"VLOOKUP(A1133,'Analyse S'!A:D,3,FALSE)","v":{"$error":"#N/A"}}]
[null,null,{"$f":"VLOOKUP(A1134,'Analyse S'!A:D,3,FALSE)","v":{"$error":"#N/A"}}]
[null,null,{"$f":"VLOOKUP(A1135,'Analyse S'!A:D,3,FALSE)","v":{"$error":"#N/A"}}]
[null,null,{"$f":"VLOOKUP(A1136,'Analyse S'!A:D,3,FALSE)","v":{"$error":"#N/A"}}]
[null,null,{"$f":"VLOOKUP(A1137,'Analyse S'!A:D,3,FALSE)","v":{"$error":"#N/A"}}]
[null,null,{"$f":"VLOOKUP(A1138,'Analyse S'!A:D,3,FALSE)","v":{"$error":"#N/A"}}]
[null,null,{"$f":"VLOOKUP(A1139,'Analyse S'!A:D,3,FALSE)","v":{"$error":"#N/A"}}]
[null,null,{"$f":"VLOOKUP(A1140,'Analyse S'!A:D,3,FALSE)","v":{"$error":"#N/A"}}]
[null,null,{"$f":"VLOOKUP(A1141,'Analyse S'!A:D,3,FALSE)","v":{"$error":"#N/A"}}]
[null,null,{"$f":"VLOOKUP(A1142,'Analyse S'!A:D,3,FALSE)","v":{"$error":"#N/A"}}]
[null,null,{"$f":"VLOOKUP(A1143,'Analyse S'!A:D,3,FALSE)","v":{"$error":"#N/A"}}]
[null,null,{"$f":"VLOOKUP(A1144,'Analyse S'!A:D,3,FALSE)","v":{"$error":"#N/A"}}]
[null,null,{"$f":"VLOOKUP(A1145,'Analyse S'!A:D,3,FALSE)","v":{"$error":"#N/A"}}]
[null,null,{"$f":"VLOOKUP(A1146,'Analyse S'!A:D,3,FALSE)","v":{"$error":"#N/A"}}]
[null,null,{"$f":"VLOOKUP(A1147,'Analyse S'!A:D,3,FALSE)","v":{"$error":"#N/A"}}]
[null,null,{"$f":"VLOOKUP(A1148,'Analyse S'!A:D,3,FALSE)","v":{"$error":"#N/A"}}]
[null,null,{"$f":"VLOOKUP(A1149,'Analyse S'!A:D,3,FALSE)","v":{"$error":"#N/A"}}]
[null,null,{"$f":"VLOOKUP(A1150,'Analyse S'!A:D,3,FALSE)","v":{"$error":"#N/A"}}]
[null,null,{"$f":"VLOOKUP(A1151,'Analyse S'!A:D,3,FALSE)","v":{"$error":"#N/A"}}]
[null,null,{"$f":"VLOOKUP(A1152,'Analyse S'!A:D,3,FALSE)","v":{"$error":"#N/A"}}]
[null,null,{"$f":"VLOOKUP(A1153,'Analyse S'!A:D,3,FALSE)","v":{"$error":"#N/A"}}]
[null,null,{"$f":"VLOOKUP(A1154,'Analyse S'!A:D,3,FALSE)","v":{"$error":"#N/A"}}]
[null,null,{"$f":"VLOOKUP(A1155,'Analyse S'!A:D,3,FALSE)","v":{"$error":"#N/A"}}]
[null,null,{"$f":"VLOOKUP(A1156,'Analyse S'!A:D,3,FALSE)","v":{"$error":"#N/A"}}]
[null,null,{"$f":"VLOOKUP(A1157,'Analyse S'!A:D,3,FALSE)","v":{"$error":"#N/A"}}]
[null,null,{"$f":"VLOOKUP(A1158,'Analyse S'!A:D,3,FALSE)","v":{"$error":"#N/A"}}]
[null,null,{"$f":"VLOOKUP(A1159,'Analyse S'!A:D,3,FALSE)","v":{"$error":"#N/A"}}]
[null,null,{"$f":"VLOOKUP(A1160,'Analyse S'!A:D,3,FALSE)","v":{"$error":"#N/A"}}]
[null,null,{"$f":"VLOOKUP(A1161,'Analyse S'!A:D,3,FALSE)","v":{"$error":"#N/A"}}]
[null,null,{"$f":"VLOOKUP(A1162,'Analyse S'!A:D,3,FALSE)","v":{"$error":"#N/A"}}]
[null,null,{"$f":"VLOOKUP(A1163,'Analyse S'!A:D,3,FALSE)","v":{"$error":"#N/A"}}]
[null,null,{"$f":"VLOOKUP(A1164,'Analyse S'!A:D,3,FALSE)","v":{"$error":"#N/A"}}]
[null,null,{"$f":"VLOOKUP(A1165,'Analyse S'!A:D,3,FALSE)","v":{"$error":"#N/A"}}]
[null,null,{"$f":"VLOOKUP(A1166,'Analyse S'!A:D,3,FALSE)","v":{"$error":"#N/A"}}]
[null,null,{"$f":"VLOOKUP(A1167,'Analyse S'!A:D,3,FALSE)","v":{"$error":"#N/A"}}]
[null,null,{"$f":"VLOOKUP(A1168,'Analyse S'!A:D,3,FALSE)","v":{"$error":"#N/A"}}]
[null,null,{"$f":"VLOOKUP(A1169,'Analyse S'!A:D,3,FALSE)","v":{"$error":"#N/A"}}]
[null,null,{"$f":"VLOOKUP(A1170,'Analyse S'!A:D,3,FALSE)","v":{"$error":"#N/A"}}]
[null,null,{"$f":"VLOOKUP(A1171,'Analyse S'!A:D,3,FALSE)","v":{"$error":"#N/A"}}]
[null,null,{"$f":"VLOOKUP(A1172,'Analyse S'!A:D,3,FALSE)","v":{"$error":"#N/A"}}]
[null,null,{"$f":"VLOOKUP(A1173,'Analyse S'!A:D,3,FALSE)","v":{"$error":"#N/A"}}]
[null,null,{"$f":"VLOOKUP(A1174,'Analyse S'!A:D,3,FALSE)","v":{"$error":"#N/A"}}]
[null,null,{"$f":"VLOOKUP(A1175,'Analyse S'!A:D,3,FALSE)","v":{"$error":"#N/A"}}]
[null,null,{"$f":"VLOOKUP(A1176,'Analyse S'!A:D,3,FALSE)","v":{"$error":"#N/A"}}]
[null,null,{"$f":"VLOOKUP(A1177,'Analyse S'!A:D,3,FALSE)","v":{"$error":"#N/A"}}]
[null,null,{"$f":"VLOOKUP(A1178,'Analyse S'!A:D,3,FALSE)","v":{"$error":"#N/A"}}]
[null,null,{"$f":"VLOOKUP(A1179,'Analyse S'!A:D,3,FALSE)","v":{"$error":"#N/A"}}]
[null,null,{"$f":"VLOOKUP(A1180,'Analyse S'!A:D,3,FALSE)","v":{"$error":"#N/A"}}]
[null,null,{"$f":"VLOOKUP(A1181,'Analyse S'!A:D,3,FALSE)","v":{"$error":"#N/A"}}]
[null,null,{"$f":"VLOOKUP(A1182,'Analyse S'!A:D,3,FALSE)","v":{"$error":"#N/A"}}]
[null,null,{"$f":"VLOOKUP(A1183,'Analyse S'!A:D,3,FALSE)","v":{"$error":"#N/A"}}]
[null,null,{"$f":"VLOOKUP(A1184,'Analyse S'!A:D,3,FALSE)","v":{"$error":"#N/A"}}]
[null,null,{"$f":"VLOOKUP(A1185,'Analyse S'!A:D,3,FALSE)","v":{"$error":"#N/A"}}]
[null,null,{"$f":"VLOOKUP(A1186,'Analyse S'!A:D,3,FALSE)","v":{"$error":"#N/A"}}]
[null,null,{"$f":"VLOOKUP(A1187,'Analyse S'!A:D,3,FALSE)","v":{"$error":"#N/A"}}]
[null,null,{"$f":"VLOOKUP(A1188,'Analyse S'!A:D,3,FALSE)","v":{"$error":"#N/A"}}]
[null,null,{"$f":"VLOOKUP(A1189,'Analyse S'!A:D,3,FALSE)","v":{"$error":"#N/A"}}]
[null,null,{"$f":"VLOOKUP(A1190,'Analyse S'!A:D,3,FALSE)","v":{"$error":"#N/A"}}]
[null,null,{"$f":"VLOOKUP(A1191,'Analyse S'!A:D,3,FALSE)","v":{"$error":"#N/A"}}]
[null,null,{"$f":"VLOOKUP(A1192,'Analyse S'!A:D,3,FALSE)","v":{"$error":"#N/A"}}]
[null,null,{"$f":"VLOOKUP(A1193,'Analyse S'!A:D,3,FALSE)","v":{"$error":"#N/A"}}]
[null,null,{"$f":"VLOOKUP(A1194,'Analyse S'!A:D,3,FALSE)","v":{"$error":"#N/A"}}]
[null,null,{"$f":"VLOOKUP(A1195,'Analyse S'!A:D,3,FALSE)","v":{"$error":"#N/A"}}]
[null,null,{"$f":"VLOOKUP(A1196,'Analyse S'!A:D,3,FALSE)","v":{"$error":"#N/A"}}]
[null,null,{"$f":"VLOOKUP(A1197,'Analyse S'!A:D,3,FALSE)","v":{"$error":"#N/A"}}]
[null,null,{"$f":"VLOOKUP(A1198,'Analyse S'!A:D,3,FALSE)","v":{"$error":"#N/A"}}]
[null,null,{"$f":"VLOOKUP(A1199,'Analyse S'!A:D,3,FALSE)","v":{"$error":"#N/A"}}]
[null,null,{"$f":"VLOOKUP(A1200,'Analyse S'!A:D,3,FALSE)","v":{"$error":"#N/A"}}]
[null,null,{"$f":"VLOOKUP(A1201,'Analyse S'!A:D,3,FALSE)","v":{"$error":"#N/A"}}]
[null,null,{"$f":"VLOOKUP(A1202,'Analyse S'!A:D,3,FALSE)","v":{"$error":"#N/A"}}]
[null,null,{"$f":"VLOOKUP(A1203,'Analyse S'!A:D,3,FALSE)","v":{"$error":"#N/A"}}]
[null,null,{"$f":"VLOOKUP(A1204,'Analyse S'!A:D,3,FALSE)","v":{"$error":"#N/A"}}]
[null,null,{"$f":"VLOOKUP(A1205,'Analyse S'!A:D,3,FALSE)","v":{"$error":"#N/A"}}]
[null,null,{"$f":"VLOOKUP(A1206,'Analyse S'!A:D,3,FALSE)","v":{"$error":"#N/A"}}]
[null,null,{"$f":"VLOOKUP(A1207,'Analyse S'!A:D,3,FALSE)","v":{"$error":"#N/A"}}]
[null,null,{"$f":"VLOOKUP(A1208,'Analyse S'!A:D,3,FALSE)","v":{"$error":"#N/A"}}]
[null,null,{"$f":"VLOOKUP(A1209,'Analyse S'!A:D,3,FALSE)","v":{"$error":"#N/A"}}]
[null,null,{"$f":"VLOOKUP(A1210,'Analyse S'!A:D,3,FALSE)","v":{"$error":"#N/A"}}]
[null,null,{"$f":"VLOOKUP(A1211,'Analyse S'!A:D,3,FALSE)","v":{"$error":"#N/A"}}]
[null,null,{"$f":"VLOOKUP(A1212,'Analyse S'!A:D,3,FALSE)","v":{"$error":"#N/A"}}]
[null,null,{"$f":"VLOOKUP(A1213,'Analyse S'!A:D,3,FALSE)","v":{"$error":"#N/A"}}]
[null,null,{"$f":"VLOOKUP(A1214,'Analyse S'!A:D,3,FALSE)","v":{"$error":"#N/A"}}]
[null,null,{"$f":"VLOOKUP(A1215,'Analyse S'!A:D,3,FALSE)","v":{"$error":"#N/A"}}]
[null,null,{"$f":"VLOOKUP(A1216,'Analyse S'!A:D,3,FALSE)","v":{"$error":"#N/A"}}]
[null,null,{"$f":"VLOOKUP(A1217,'Analyse S'!A:D,3,FALSE)","v":{"$error":"#N/A"}}]
[null,null,{"$f":"VLOOKUP(A1218,'Analyse S'!A:D,3,FALSE)","v":{"$error":"#N/A"}}]
[null,null,{"$f":"VLOOKUP(A1219,'Analyse S'!A:D,3,FALSE)","v":{"$error":"#N/A"}}]
[null,null,{"$f":"VLOOKUP(A1220,'Analyse S'!A:D,3,FALSE)","v":{"$error":"#N/A"}}]
[null,null,{"$f":"VLOOKUP(A1221,'Analyse S'!A:D,3,FALSE)","v":{"$error":"#N/A"}}]
[null,null,{"$f":"VLOOKUP(A1222,'Analyse S'!A:D,3,FALSE)","v":{"$error":"#N/A"}}]
[null,null,{"$f":"VLOOKUP(A1223,'Analyse S'!A:D,3,FALSE)","v":{"$error":"#N/A"}}]
[null,null,{"$f":"VLOOKUP(A1224,'Analyse S'!A:D,3,FALSE)","v":{"$error":"#N/A"}}]
[null,null,{"$f":"VLOOKUP(A1225,'Analyse S'!A:D,3,FALSE)","v":{"$error":"#N/A"}}]
[null,null,{"$f":"VLOOKUP(A1226,'Analyse S'!A:D,3,FALSE)","v":{"$error":"#N/A"}}]
[null,null,{"$f":"VLOOKUP(A1227,'Analyse S'!A:D,3,FALSE)","v":{"$error":"#N/A"}}]
[null,null,{"$f":"VLOOKUP(A1228,'Analyse S'!A:D,3,FALSE)","v":{"$error":"#N/A"}}]
[null,null,{"$f":"VLOOKUP(A1229,'Analyse S'!A:D,3,FALSE)","v":{"$error":"#N/A"}}]
[null,null,{"$f":"VLOOKUP(A1230,'Analyse S'!A:D,3,FALSE)","v":{"$error":"#N/A"}}]
[null,null,{"$f":"VLOOKUP(A1231,'Analyse S'!A:D,3,FALSE)","v":{"$error":"#N/A"}}]
[null,null,{"$f":"VLOOKUP(A1232,'Analyse S'!A:D,3,FALSE)","v":{"$error":"#N/A"}}]
[null,null,{"$f":"VLOOKUP(A1233,'Analyse S'!A:D,3,FALSE)","v":{"$error":"#N/A"}}]
[null,null,{"$f":"VLOOKUP(A1234,'Analyse S'!A:D,3,FALSE)","v":{"$error":"#N/A"}}]
[null,null,{"$f":"VLOOKUP(A1235,'Analyse S'!A:D,3,FALSE)","v":{"$error":"#N/A"}}]
[null,null,{"$f":"VLOOKUP(A1236,'Analyse S'!A:D,3,FALSE)","v":{"$error":"#N/A"}}]
[null,null,{"$f":"VLOOKUP(A1237,'Analyse S'!A:D,3,FALSE)","v":{"$error":"#N/A"}}]
[null,null,{"$f":"VLOOKUP(A1238,'Analyse S'!A:D,3,FALSE)","v":{"$error":"#N/A"}}]
[null,null,{"$f":"VLOOKUP(A1239,'Analyse S'!A:D,3,FALSE)","v":{"$error":"#N/A"}}]
[null,null,{"$f":"VLOOKUP(A1240,'Analyse S'!A:D,3,FALSE)","v":{"$error":"#N/A"}}]
[null,null,{"$f":"VLOOKUP(A1241,'Analyse S'!A:D,3,FALSE)","v":{"$error":"#N/A"}}]
[null,null,{"$f":"VLOOKUP(A1242,'Analyse S'!A:D,3,FALSE)","v":{"$error":"#N/A"}}]
[null,null,{"$f":"VLOOKUP(A1243,'Analyse S'!A:D,3,FALSE)","v":{"$error":"#N/A"}}]
[null,null,{"$f":"VLOOKUP(A1244,'Analyse S'!A:D,3,FALSE)","v":{"$error":"#N/A"}}]
[null,null,{"$f":"VLOOKUP(A1245,'Analyse S'!A:D,3,FALSE)","v":{"$error":"#N/A"}}]
[null,null,{"$f":"VLOOKUP(A1246,'Analyse S'!A:D,3,FALSE)","v":{"$error":"#N/A"}}]
[null,null,{"$f":"VLOOKUP(A1247,'Analyse S'!A:D,3,FALSE)","v":{"$error":"#N/A"}}]
[null,null,{"$f":"VLOOKUP(A1248,'Analyse S'!A:D,3,FALSE)","v":{"$error":"#N/A"}}]
[null,null,{"$f":"VLOOKUP(A1249,'Analyse S'!A:D,3,FALSE)","v":{"$error":"#N/A"}}]
[null,null,{"$f":"VLOOKUP(A1250,'Analyse S'!A:D,3,FALSE)","v":{"$error":"#N/A"}}]
[null,null,{"$f":"VLOOKUP(A1251,'Analyse S'!A:D,3,FALSE)","v":{"$error":"#N/A"}}]
[null,null,{"$f":"VLOOKUP(A1252,'Analyse S'!A:D,3,FALSE)","v":{"$error":"#N/A"}}]
[null,null,{"$f":"VLOOKUP(A1253,'Analyse S'!A:D,3,FALSE)","v":{"$error":"#N/A"}}]
[null,null,{"$f":"VLOOKUP(A1254,'Analyse S'!A:D,3,FALSE)","v":{"$error":"#N/A"}}]
[null,null,{"$f":"VLOOKUP(A1255,'Analyse S'!A:D,3,FALSE)","v":{"$error":"#N/A"}}]
[null,null,{"$f":"VLOOKUP(A1256,'Analyse S'!A:D,3,FALSE)","v":{"$error":"#N/A"}}]
[null,null,{"$f":"VLOOKUP(A1257,'Analyse S'!A:D,3,FALSE)","v":{"$error":"#N/A"}}]
[null,null,{"$f":"VLOOKUP(A1258,'Analyse S'!A:D,3,FALSE)","v":{"$error":"#N/A"}}]
[null,null,{"$f":"VLOOKUP(A1259,'Analyse S'!A:D,3,FALSE)","v":{"$error":"#N/A"}}]
[null,null,{"$f":"VLOOKUP(A1260,'Analyse S'!A:D,3,FALSE)","v":{"$error":"#N/A"}}]
[null,null,{"$f":"VLOOKUP(A1261,'Analyse S'!A:D,3,FALSE)","v":{"$error":"#N/A"}}]
[null,null,{"$f":"VLOOKUP(A1262,'Analyse S'!A:D,3,FALSE)","v":{"$error":"#N/A"}}]
[null,null,{"$f":"VLOOKUP(A1263,'Analyse S'!A:D,3,FALSE)","v":{"$error":"#N/A"}}]
[null,null,{"$f":"VLOOKUP(A1264,'Analyse S'!A:D,3,FALSE)","v":{"$error":"#N/A"}}]
[null,null,{"$f":"VLOOKUP(A1265,'Analyse S'!A:D,3,FALSE)","v":{"$error":"#N/A"}}]
[null,null,{"$f":"VLOOKUP(A1266,'Analyse S'!A:D,3,FALSE)","v":{"$error":"#N/A"}}]
[null,null,{"$f":"VLOOKUP(A1267,'Analyse S'!A:D,3,FALSE)","v":{"$error":"#N/A"}}]
[null,null,{"$f":"VLOOKUP(A1268,'Analyse S'!A:D,3,FALSE)","v":{"$error":"#N/A"}}]
[null,null,{"$f":"VLOOKUP(A1269,'Analyse S'!A:D,3,FALSE)","v":{"$error":"#N/A"}}]
[null,null,{"$f":"VLOOKUP(A1270,'Analyse S'!A:D,3,FALSE)","v":{"$error":"#N/A"}}]
[null,null,{"$f":"VLOOKUP(A1271,'Analyse S'!A:D,3,FALSE)","v":{"$error":"#N/A"}}]
[null,null,{"$f":"VLOOKUP(A1272,'Analyse S'!A:D,3,FALSE)","v":{"$error":"#N/A"}}]
[null,null,{"$f":"VLOOKUP(A1273,'Analyse S'!A:D,3,FALSE)","v":{"$error":"#N/A"}}]
[null,null,{"$f":"VLOOKUP(A1274,'Analyse S'!A:D,3,FALSE)","v":{"$error":"#N/A"}}]
[null,null,{"$f":"VLOOKUP(A1275,'Analyse S'!A:D,3,FALSE)","v":{"$error":"#N/A"}}]
[null,null,{"$f":"VLOOKUP(A1276,'Analyse S'!A:D,3,FALSE)","v":{"$error":"#N/A"}}]
[null,null,{"$f":"VLOOKUP(A1277,'Analyse S'!A:D,3,FALSE)","v":{"$error":"#N/A"}}]
[null,null,{"$f":"VLOOKUP(A1278,'Analyse S'!A:D,3,FALSE)","v":{"$error":"#N/A"}}]
[null,null,{"$f":"VLOOKUP(A1279,'Analyse S'!A:D,3,FALSE)","v":{"$error":"#N/A"}}]
[null,null,{"$f":"VLOOKUP(A1280,'Analyse S'!A:D,3,FALSE)","v":{"$error":"#N/A"}}]
[null,null,{"$f":"VLOOKUP(A1281,'Analyse S'!A:D,3,FALSE)","v":{"$error":"#N/A"}}]
[null,null,{"$f":"VLOOKUP(A1282,'Analyse S'!A:D,3,FALSE)","v":{"$error":"#N/A"}}]
[null,null,{"$f":"VLOOKUP(A1283,'Analyse S'!A:D,3,FALSE)","v":{"$error":"#N/A"}}]
[null,null,{"$f":"VLOOKUP(A1284,'Analyse S'!A:D,3,FALSE)","v":{"$error":"#N/A"}}]
[null,null,{"$f":"VLOOKUP(A1285,'Analyse S'!A:D,3,FALSE)","v":{"$error":"#N/A"}}]
[null,null,{"$f":"VLOOKUP(A1286,'Analyse S'!A:D,3,FALSE)","v":{"$error":"#N/A"}}]
[null,null,{"$f":"VLOOKUP(A1287,'Analyse S'!A:D,3,FALSE)","v":{"$error":"#N/A"}}]
[null,null,{"$f":"VLOOKUP(A1288,'Analyse S'!A:D,3,FALSE)","v":{"$error":"#N/A"}}]
[null,null,{"$f":"VLOOKUP(A1289,'Analyse S'!A:D,3,FALSE)","v":{"$error":"#N/A"}}]
[null,null,{"$f":"VLOOKUP(A1290,'Analyse S'!A:D,3,FALSE)","v":{"$error":"#N/A"}}]
[null,null,{"$f":"VLOOKUP(A1291,'Analyse S'!A:D,3,FALSE)","v":{"$error":"#N/A"}}]
[null,null,{"$f":"VLOOKUP(A1292,'Analyse S'!A:D,3,FALSE)","v":{"$error":"#N/A"}}]
[null,null,{"$f":"VLOOKUP(A1293,'Analyse S'!A:D,3,FALSE)","v":{"$error":"#N/A"}}]
[null,null,{"$f":"VLOOKUP(A1294,'Analyse S'!A:D,3,FALSE)","v":{"$error":"#N/A"}}]
[null,null,{"$f":"VLOOKUP(A1295,'Analyse S'!A:D,3,FALSE)","v":{"$error":"#N/A"}}]
[null,null,{"$f":"VLOOKUP(A1296,'Analyse S'!A:D,3,FALSE)","v":{"$error":"#N/A"}}]
[null,null,{"$f":"VLOOKUP(A1297,'Analyse S'!A:D,3,FALSE)","v":{"$error":"#N/A"}}]
[null,null,{"$f":"VLOOKUP(A1298,'Analyse S'!A:D,3,FALSE)","v":{"$error":"#N/A"}}]
[null,null,{"$f":"VLOOKUP(A1299,'Analyse S'!A:D,3,FALSE)","v":{"$error":"#N/A"}}]
[null,null,{"$f":"VLOOKUP(A1300,'Analyse S'!A:D,3,FALSE)","v":{"$error":"#N/A"}}]
[null,null,{"$f":"VLOOKUP(A1301,'Analyse S'!A:D,3,FALSE)","v":{"$error":"#N/A"}}]
[null,null,{"$f":"VLOOKUP(A1302,'Analyse S'!A:D,3,FALSE)","v":{"$error":"#N/A"}}]
[null,null,{"$f":"VLOOKUP(A1303,'Analyse S'!A:D,3,FALSE)","v":{"$error":"#N/A"}}]
[null,null,{"$f":"VLOOKUP(A1304,'Analyse S'!A:D,3,FALSE)","v":{"$error":"#N/A"}}]
[null,null,{"$f":"VLOOKUP(A1305,'Analyse S'!A:D,3,FALSE)","v":{"$error":"#N/A"}}]
[null,null,{"$f":"VLOOKUP(A1306,'Analyse S'!A:D,3,FALSE)","v":{"$error":"#N/A"}}]
[null,null,{"$f":"VLOOKUP(A1307,'Analyse S'!A:D,3,FALSE)","v":{"$error":"#N/A"}}]
[null,null,{"$f":"VLOOKUP(A1308,'Analyse S'!A:D,3,FALSE)","v":{"$error":"#N/A"}}]
[null,null,{"$f":"VLOOKUP(A1309,'Analyse S'!A:D,3,FALSE)","v":{"$error":"#N/A"}}]
[null,null,{"$f":"VLOOKUP(A1310,'Analyse S'!A:D,3,FALSE)","v":{"$error":"#N/A"}}]
[null,null,{"$f":"VLOOKUP(A1311,'Analyse S'!A:D,3,FALSE)","v":{"$error":"#N/A"}}]
[null,null,{"$f":"VLOOKUP(A1312,'Analyse S'!A:D,3,FALSE)","v":{"$error":"#N/A"}}]
[null,null,{"$f":"VLOOKUP(A1313,'Analyse S'!A:D,3,FALSE)","v":{"$error":"#N/A"}}]
[null,null,{"$f":"VLOOKUP(A1314,'Analyse S'!A:D,3,FALSE)","v":{"$error":"#N/A"}}]
[null,null,{"$f":"VLOOKUP(A1315,'Analyse S'!A:D,3,FALSE)","v":{"$error":"#N/A"}}]
[null,null,{"$f":"VLOOKUP(A1316,'Analyse S'!A:D,3,FALSE)","v":{"$error":"#N/A"}}]
[null,null,{"$f":"VLOOKUP(A1317,'Analyse S'!A:D,3,FALSE)","v":{"$error":"#N/A"}}]
[null,null,{"$f":"VLOOKUP(A1318,'Analyse S'!A:D,3,FALSE)","v":{"$error":"#N/A"}}]
[null,null,{"$f":"VLOOKUP(A1319,'Analyse S'!A:D,3,FALSE)","v":{"$error":"#N/A"}}]
[null,null,{"$f":"VLOOKUP(A1320,'Analyse S'!A:D,3,FALSE)","v":{"$error":"#N/A"}}]
[null,null,{"$f":"VLOOKUP(A1321,'Analyse S'!A:D,3,FALSE)","v":{"$error":"#N/A"}}]
[null,null,{"$f":"VLOOKUP(A1322,'Analyse S'!A:D,3,FALSE)","v":{"$error":"#N/A"}}]
[null,null,{"$f":"VLOOKUP(A1323,'Analyse S'!A:D,3,FALSE)","v":{"$error":"#N/A"}}]
[null,null,{"$f":"VLOOKUP(A1324,'Analyse S'!A:D,3,FALSE)","v":{"$error":"#N/A"}}]
[null,null,{"$f":"VLOOKUP(A1325,'Analyse S'!A:D,3,FALSE)","v":{"$error":"#N/A"}}]
[null,null,{"$f":"VLOOKUP(A1326,'Analyse S'!A:D,3,FALSE)","v":{"$error":"#N/A"}}]
[null,null,{"$f":"VLOOKUP(A1327,'Analyse S'!A:D,3,FALSE)","v":{"$error":"#N/A"}}]
[null,null,{"$f":"VLOOKUP(A1328,'Analyse S'!A:D,3,FALSE)","v":{"$error":"#N/A"}}]
[null,null,{"$f":"VLOOKUP(A1329,'Analyse S'!A:D,3,FALSE)","v":{"$error":"#N/A"}}]
[null,null,{"$f":"VLOOKUP(A1330,'Analyse S'!A:D,3,FALSE)","v":{"$error":"#N/A"}}]
[null,null,{"$f":"VLOOKUP(A1331,'Analyse S'!A:D,3,FALSE)","v":{"$error":"#N/A"}}]
[null,null,{"$f":"VLOOKUP(A1332,'Analyse S'!A:D,3,FALSE)","v":{"$error":"#N/A"}}]
[null,null,{"$f":"VLOOKUP(A1333,'Analyse S'!A:D,3,FALSE)","v":{"$error":"#N/A"}}]
[null,null,{"$f":"VLOOKUP(A1334,'Analyse S'!A:D,3,FALSE)","v":{"$error":"#N/A"}}]
[null,null,{"$f":"VLOOKUP(A1335,'Analyse S'!A:D,3,FALSE)","v":{"$error":"#N/A"}}]
[null,null,{"$f":"VLOOKUP(A1336,'Analyse S'!A:D,3,FALSE)","v":{"$error":"#N/A"}}]
[null,null,{"$f":"VLOOKUP(A1337,'Analyse S'!A:D,3,FALSE)","v":{"$error":"#N/A"}}]
[null,null,{"$f":"VLOOKUP(A1338,'Analyse S'!A:D,3,FALSE)","v":{"$error":"#N/A"}}]
[null,null,{"$f":"VLOOKUP(A1339,'Analyse S'!A:D,3,FALSE)","v":{"$error":"#N/A"}}]
[null,null,{"$f":"VLOOKUP(A1340,'Analyse S'!A:D,3,FALSE)","v":{"$error":"#N/A"}}]
[null,null,{"$f":"VLOOKUP(A1341,'Analyse S'!A:D,3,FALSE)","v":{"$error":"#N/A"}}]
[null,null,{"$f":"VLOOKUP(A1342,'Analyse S'!A:D,3,FALSE)","v":{"$error":"#N/A"}}]
[null,null,{"$f":"VLOOKUP(A1343,'Analyse S'!A:D,3,FALSE)","v":{"$error":"#N/A"}}]
[null,null,{"$f":"VLOOKUP(A1344,'Analyse S'!A:D,3,FALSE)","v":{"$error":"#N/A"}}]
[null,null,{"$f":"VLOOKUP(A1345,'Analyse S'!A:D,3,FALSE)","v":{"$error":"#N/A"}}]
[null,null,{"$f":"VLOOKUP(A1346,'Analyse S'!A:D,3,FALSE)","v":{"$error":"#N/A"}}]
[null,null,{"$f":"VLOOKUP(A1347,'Analyse S'!A:D,3,FALSE)","v":{"$error":"#N/A"}}]
[null,null,{"$f":"VLOOKUP(A1348,'Analyse S'!A:D,3,FALSE)","v":{"$error":"#N/A"}}]
[null,null,{"$f":"VLOOKUP(A1349,'Analyse S'!A:D,3,FALSE)","v":{"$error":"#N/A"}}]
[null,null,{"$f":"VLOOKUP(A1350,'Analyse S'!A:D,3,FALSE)","v":{"$error":"#N/A"}}]
[null,null,{"$f":"VLOOKUP(A1351,'Analyse S'!A:D,3,FALSE)","v":{"$error":"#N/A"}}]
[null,null,{"$f":"VLOOKUP(A1352,'Analyse S'!A:D,3,FALSE)","v":{"$error":"#N/A"}}]
[null,null,{"$f":"VLOOKUP(A1353,'Analyse S'!A:D,3,FALSE)","v":{"$error":"#N/A"}}]
[null,null,{"$f":"VLOOKUP(A1354,'Analyse S'!A:D,3,FALSE)","v":{"$error":"#N/A"}}]
[null,null,{"$f":"VLOOKUP(A1355,'Analyse S'!A:D,3,FALSE)","v":{"$error":"#N/A"}}]
[null,null,{"$f":"VLOOKUP(A1356,'Analyse S'!A:D,3,FALSE)","v":{"$error":"#N/A"}}]
[null,null,{"$f":"VLOOKUP(A1357,'Analyse S'!A:D,3,FALSE)","v":{"$error":"#N/A"}}]
[null,null,{"$f":"VLOOKUP(A1358,'Analyse S'!A:D,3,FALSE)","v":{"$error":"#N/A"}}]
[null,null,{"$f":"VLOOKUP(A1359,'Analyse S'!A:D,3,FALSE)","v":{"$error":"#N/A"}}]
[null,null,{"$f":"VLOOKUP(A1360,'Analyse S'!A:D,3,FALSE)","v":{"$error":"#N/A"}}]
[null,null,{"$f":"VLOOKUP(A1361,'Analyse S'!A:D,3,FALSE)","v":{"$error":"#N/A"}}]
[null,null,{"$f":"VLOOKUP(A1362,'Analyse S'!A:D,3,FALSE)","v":{"$error":"#N/A"}}]
[null,null,{"$f":"VLOOKUP(A1363,'Analyse S'!A:D,3,FALSE)","v":{"$error":"#N/A"}}]
[null,null,{"$f":"VLOOKUP(A1364,'Analyse S'!A:D,3,FALSE)","v":{"$error":"#N/A"}}]
[null,null,{"$f":"VLOOKUP(A1365,'Analyse S'!A:D,3,FALSE)","v":{"$error":"#N/A"}}]
[null,null,{"$f":"VLOOKUP(A1366,'Analyse S'!A:D,3,FALSE)","v":{"$error":"#N/A"}}]
[null,null,{"$f":"VLOOKUP(A1367,'Analyse S'!A:D,3,FALSE)","v":{"$error":"#N/A"}}]
[null,null,{"$f":"VLOOKUP(A1368,'Analyse S'!A:D,3,FALSE)","v":{"$error":"#N/A"}}]
[null,null,{"$f":"VLOOKUP(A1369,'Analyse S'!A:D,3,FALSE)","v":{"$error":"#N/A"}}]
[null,null,{"$f":"VLOOKUP(A1370,'Analyse S'!A:D,3,FALSE)","v":{"$error":"#N/A"}}]
[null,null,{"$f":"VLOOKUP(A1371,'Analyse S'!A:D,3,FALSE)","v":{"$error":"#N/A"}}]
[null,null,{"$f":"VLOOKUP(A1372,'Analyse S'!A:D,3,FALSE)","v":{"$error":"#N/A"}}]
[null,null,{"$f":"VLOOKUP(A1373,'Analyse S'!A:D,3,FALSE)","v":{"$error":"#N/A"}}]
[null,null,{"$f":"VLOOKUP(A1374,'Analyse S'!A:D,3,FALSE)","v":{"$error":"#N/A"}}]
[null,null,{"$f":"VLOOKUP(A1375,'Analyse S'!A:D,3,FALSE)","v":{"$error":"#N/A"}}]
[null,null,{"$f":"VLOOKUP(A1376,'Analyse S'!A:D,3,FALSE)","v":{"$error":"#N/A"}}]
[null,null,{"$f":"VLOOKUP(A1377,'Analyse S'!A:D,3,FALSE)","v":{"$error":"#N/A"}}]
[null,null,{"$f":"VLOOKUP(A1378,'Analyse S'!A:D,3,FALSE)","v":{"$error":"#N/A"}}]
[null,null,{"$f":"VLOOKUP(A1379,'Analyse S'!A:D,3,FALSE)","v":{"$error":"#N/A"}}]
[null,null,{"$f":"VLOOKUP(A1380,'Analyse S'!A:D,3,FALSE)","v":{"$error":"#N/A"}}]
[null,null,{"$f":"VLOOKUP(A1381,'Analyse S'!A:D,3,FALSE)","v":{"$error":"#N/A"}}]
[null,null,{"$f":"VLOOKUP(A1382,'Analyse S'!A:D,3,FALSE)","v":{"$error":"#N/A"}}]
[null,null,{"$f":"VLOOKUP(A1383,'Analyse S'!A:D,3,FALSE)","v":{"$error":"#N/A"}}]
[null,null,{"$f":"VLOOKUP(A1384,'Analyse S'!A:D,3,FALSE)","v":{"$error":"#N/A"}}]
[null,null,{"$f":"VLOOKUP(A1385,'Analyse S'!A:D,3,FALSE)","v":{"$error":"#N/A"}}]
[null,null,{"$f":"VLOOKUP(A1386,'Analyse S'!A:D,3,FALSE)","v":{"$error":"#N/A"}}]
[null,null,{"$f":"VLOOKUP(A1387,'Analyse S'!A:D,3,FALSE)","v":{"$error":"#N/A"}}]
[null,null,{"$f":"VLOOKUP(A1388,'Analyse S'!A:D,3,FALSE)","v":{"$error":"#N/A"}}]
[null,null,{"$f":"VLOOKUP(A1389,'Analyse S'!A:D,3,FALSE)","v":{"$error":"#N/A"}}]
[null,null,{"$f":"VLOOKUP(A1390,'Analyse S'!A:D,3,FALSE)","v":{"$error":"#N/A"}}]
[null,null,{"$f":"VLOOKUP(A1391,'Analyse S'!A:D,3,FALSE)","v":{"$error":"#N/A"}}]
[null,null,{"$f":"VLOOKUP(A1392,'Analyse S'!A:D,3,FALSE)","v":{"$error":"#N/A"}}]
[null,null,{"$f":"VLOOKUP(A1393,'Analyse S'!A:D,3,FALSE)","v":{"$error":"#N/A"}}]
[null,null,{"$f":"VLOOKUP(A1394,'Analyse S'!A:D,3,FALSE)","v":{"$error":"#N/A"}}]
[null,null,{"$f":"VLOOKUP(A1395,'Analyse S'!A:D,3,FALSE)","v":{"$error":"#N/A"}}]
[null,null,{"$f":"VLOOKUP(A1396,'Analyse S'!A:D,3,FALSE)","v":{"$error":"#N/A"}}]
[null,null,{"$f":"VLOOKUP(A1397,'Analyse S'!A:D,3,FALSE)","v":{"$error":"#N/A"}}]
[null,null,{"$f":"VLOOKUP(A1398,'Analyse S'!A:D,3,FALSE)","v":{"$error":"#N/A"}}]
[null,null,{"$f":"VLOOKUP(A1399,'Analyse S'!A:D,3,FALSE)","v":{"$error":"#N/A"}}]
[null,null,{"$f":"VLOOKUP(A1400,'Analyse S'!A:D,3,FALSE)","v":{"$error":"#N/A"}}]
[null,null,{"$f":"VLOOKUP(A1401,'Analyse S'!A:D,3,FALSE)","v":{"$error":"#N/A"}}]
[null,null,{"$f":"VLOOKUP(A1402,'Analyse S'!A:D,3,FALSE)","v":{"$error":"#N/A"}}]
[null,null,{"$f":"VLOOKUP(A1403,'Analyse S'!A:D,3,FALSE)","v":{"$error":"#N/A"}}]
[null,null,{"$f":"VLOOKUP(A1404,'Analyse S'!A:D,3,FALSE)","v":{"$error":"#N/A"}}]
[null,null,{"$f":"VLOOKUP(A1405,'Analyse S'!A:D,3,FALSE)","v":{"$error":"#N/A"}}]
[null,null,{"$f":"VLOOKUP(A1406,'Analyse S'!A:D,3,FALSE)","v":{"$error":"#N/A"}}]
[null,null,{"$f":"VLOOKUP(A1407,'Analyse S'!A:D,3,FALSE)","v":{"$error":"#N/A"}}]
[null,null,{"$f":"VLOOKUP(A1408,'Analyse S'!A:D,3,FALSE)","v":{"$error":"#N/A"}}]
[null,null,{"$f":"VLOOKUP(A1409,'Analyse S'!A:D,3,FALSE)","v":{"$error":"#N/A"}}]
[null,null,{"$f":"VLOOKUP(A1410,'Analyse S'!A:D,3,FALSE)","v":{"$error":"#N/A"}}]
[null,null,{"$f":"VLOOKUP(A1411,'Analyse S'!A:D,3,FALSE)","v":{"$error":"#N/A"}}]
[null,null,{"$f":"VLOOKUP(A1412,'Analyse S'!A:D,3,FALSE)","v":{"$error":"#N/A"}}]
[null,null,{"$f":"VLOOKUP(A1413,'Analyse S'!A:D,3,FALSE)","v":{"$error":"#N/A"}}]
[null,null,{"$f":"VLOOKUP(A1414,'Analyse S'!A:D,3,FALSE)","v":{"$error":"#N/A"}}]
[null,null,{"$f":"VLOOKUP(A1415,'Analyse S'!A:D,3,FALSE)","v":{"$error":"#N/A"}}]
[null,null,{"$f":"VLOOKUP(A1416,'Analyse S'!A:D,3,FALSE)","v":{"$error":"#N/A"}}]
[null,null,{"$f":"VLOOKUP(A1417,'Analyse S'!A:D,3,FALSE)","v":{"$error":"#N/A"}}]
[null,null,{"$f":"VLOOKUP(A1418,'Analyse S'!A:D,3,FALSE)","v":{"$error":"#N/A"}}]
[null,null,{"$f":"VLOOKUP(A1419,'Analyse S'!A:D,3,FALSE)","v":{"$error":"#N/A"}}]
[null,null,{"$f":"VLOOKUP(A1420,'Analyse S'!A:D,3,FALSE)","v":{"$error":"#N/A"}}]
[null,null,{"$f":"VLOOKUP(A1421,'Analyse S'!A:D,3,FALSE)","v":{"$error":"#N/A"}}]
[null,null,{"$f":"VLOOKUP(A1422,'Analyse S'!A:D,3,FALSE)","v":{"$error":"#N/A"}}]
[null,null,{"$f":"VLOOKUP(A1423,'Analyse S'!A:D,3,FALSE)","v":{"$error":"#N/A"}}]
[null,null,{"$f":"VLOOKUP(A1424,'Analyse S'!A:D,3,FALSE)","v":{"$error":"#N/A"}}]
[null,null,{"$f":"VLOOKUP(A1425,'Analyse S'!A:D,3,FALSE)","v":{"$error":"#N/A"}}]
[null,null,{"$f":"VLOOKUP(A1426,'Analyse S'!A:D,3,FALSE)","v":{"$error":"#N/A"}}]
[null,null,{"$f":"VLOOKUP(A1427,'Analyse S'!A:D,3,FALSE)","v":{"$error":"#N/A"}}]
[null,null,{"$f":"VLOOKUP(A1428,'Analyse S'!A:D,3,FALSE)","v":{"$error":"#N/A"}}]
[null,null,{"$f":"VLOOKUP(A1429,'Analyse S'!A:D,3,FALSE)","v":{"$error":"#N/A"}}]
[null,null,{"$f":"VLOOKUP(A1430,'Analyse S'!A:D,3,FALSE)","v":{"$error":"#N/A"}}]
[null,null,{"$f":"VLOOKUP(A1431,'Analyse S'!A:D,3,FALSE)","v":{"$error":"#N/A"}}]
[null,null,{"$f":"VLOOKUP(A1432,'Analyse S'!A:D,3,FALSE)","v":{"$error":"#N/A"}}]
[null,null,{"$f":"VLOOKUP(A1433,'Analyse S'!A:D,3,FALSE)","v":{"$error":"#N/A"}}]
[null,null,{"$f":"VLOOKUP(A1434,'Analyse S'!A:D,3,FALSE)","v":{"$error":"#N/A"}}]
[null,null,{"$f":"VLOOKUP(A1435,'Analyse S'!A:D,3,FALSE)","v":{"$error":"#N/A"}}]
[null,null,{"$f":"VLOOKUP(A1436,'Analyse S'!A:D,3,FALSE)","v":{"$error":"#N/A"}}]
[null,null,{"$f":"VLOOKUP(A1437,'Analyse S'!A:D,3,FALSE)","v":{"$error":"#N/A"}}]
[null,null,{"$f":"VLOOKUP(A1438,'Analyse S'!A:D,3,FALSE)","v":{"$error":"#N/A"}}]
[null,null,{"$f":"VLOOKUP(A1439,'Analyse S'!A:D,3,FALSE)","v":{"$error":"#N/A"}}]
[null,null,{"$f":"VLOOKUP(A1440,'Analyse S'!A:D,3,FALSE)","v":{"$error":"#N/A"}}]
[null,null,{"$f":"VLOOKUP(A1441,'Analyse S'!A:D,3,FALSE)","v":{"$error":"#N/A"}}]
[null,null,{"$f":"VLOOKUP(A1442,'Analyse S'!A:D,3,FALSE)","v":{"$error":"#N/A"}}]
[null,null,{"$f":"VLOOKUP(A1443,'Analyse S'!A:D,3,FALSE)","v":{"$error":"#N/A"}}]
[null,null,{"$f":"VLOOKUP(A1444,'Analyse S'!A:D,3,FALSE)","v":{"$error":"#N/A"}}]
[null,null,{"$f":"VLOOKUP(A1445,'Analyse S'!A:D,3,FALSE)","v":{"$error":"#N/A"}}]
[null,null,{"$f":"VLOOKUP(A1446,'Analyse S'!A:D,3,FALSE)","v":{"$error":"#N/A"}}]
[null,null,{"$f":"VLOOKUP(A1447,'Analyse S'!A:D,3,FALSE)","v":{"$error":"#N/A"}}]
[null,null,{"$f":"VLOOKUP(A1448,'Analyse S'!A:D,3,FALSE)","v":{"$error":"#N/A"}}]
[null,null,{"$f":"VLOOKUP(A1449,'Analyse S'!A:D,3,FALSE)","v":{"$error":"#N/A"}}]
[null,null,{"$f":"VLOOKUP(A1450,'Analyse S'!A:D,3,FALSE)","v":{"$error":"#N/A"}}]
[null,null,{"$f":"VLOOKUP(A1451,'Analyse S'!A:D,3,FALSE)","v":{"$error":"#N/A"}}]
[null,null,{"$f":"VLOOKUP(A1452,'Analyse S'!A:D,3,FALSE)","v":{"$error":"#N/A"}}]
[null,null,{"$f":"VLOOKUP(A1453,'Analyse S'!A:D,3,FALSE)","v":{"$error":"#N/A"}}]
[null,null,{"$f":"VLOOKUP(A1454,'Analyse S'!A:D,3,FALSE)","v":{"$error":"#N/A"}}]
[null,null,{"$f":"VLOOKUP(A1455,'Analyse S'!A:D,3,FALSE)","v":{"$error":"#N/A"}}]
[null,null,{"$f":"VLOOKUP(A1456,'Analyse S'!A:D,3,FALSE)","v":{"$error":"#N/A"}}]
[null,null,{"$f":"VLOOKUP(A1457,'Analyse S'!A:D,3,FALSE)","v":{"$error":"#N/A"}}]
[null,null,{"$f":"VLOOKUP(A1458,'Analyse S'!A:D,3,FALSE)","v":{"$error":"#N/A"}}]
[null,null,{"$f":"VLOOKUP(A1459,'Analyse S'!A:D,3,FALSE)","v":{"$error":"#N/A"}}]
[null,null,{"$f":"VLOOKUP(A1460,'Analyse S'!A:D,3,FALSE)","v":{"$error":"#N/A"}}]
[null,null,{"$f":"VLOOKUP(A1461,'Analyse S'!A:D,3,FALSE)","v":{"$error":"#N/A"}}]
[null,null,{"$f":"VLOOKUP(A1462,'Analyse S'!A:D,3,FALSE)","v":{"$error":"#N/A"}}]
[null,null,{"$f":"VLOOKUP(A1463,'Analyse S'!A:D,3,FALSE)","v":{"$error":"#N/A"}}]
[null,null,{"$f":"VLOOKUP(A1464,'Analyse S'!A:D,3,FALSE)","v":{"$error":"#N/A"}}]
[null,null,{"$f":"VLOOKUP(A1465,'Analyse S'!A:D,3,FALSE)","v":{"$error":"#N/A"}}]
[null,null,{"$f":"VLOOKUP(A1466,'Analyse S'!A:D,3,FALSE)","v":{"$error":"#N/A"}}]
[null,null,{"$f":"VLOOKUP(A1467,'Analyse S'!A:D,3,FALSE)","v":{"$error":"#N/A"}}]
[null,null,{"$f":"VLOOKUP(A1468,'Analyse S'!A:D,3,FALSE)","v":{"$error":"#N/A"}}]
[null,null,{"$f":"VLOOKUP(A1469,'Analyse S'!A:D,3,FALSE)","v":{"$error":"#N/A"}}]
[null,null,{"$f":"VLOOKUP(A1470,'Analyse S'!A:D,3,FALSE)","v":{"$error":"#N/A"}}]
[null,null,{"$f":"VLOOKUP(A1471,'Analyse S'!A:D,3,FALSE)","v":{"$error":"#N/A"}}]
[null,null,{"$f":"VLOOKUP(A1472,'Analyse S'!A:D,3,FALSE)","v":{"$error":"#N/A"}}]
[null,null,{"$f":"VLOOKUP(A1473,'Analyse S'!A:D,3,FALSE)","v":{"$error":"#N/A"}}]
[null,null,{"$f":"VLOOKUP(A1474,'Analyse S'!A:D,3,FALSE)","v":{"$error":"#N/A"}}]
[null,null,{"$f":"VLOOKUP(A1475,'Analyse S'!A:D,3,FALSE)","v":{"$error":"#N/A"}}]
[null,null,{"$f":"VLOOKUP(A1476,'Analyse S'!A:D,3,FALSE)","v":{"$error":"#N/A"}}]
[null,null,{"$f":"VLOOKUP(A1477,'Analyse S'!A:D,3,FALSE)","v":{"$error":"#N/A"}}]
[null,null,{"$f":"VLOOKUP(A1478,'Analyse S'!A:D,3,FALSE)","v":{"$error":"#N/A"}}]
[null,null,{"$f":"VLOOKUP(A1479,'Analyse S'!A:D,3,FALSE)","v":{"$error":"#N/A"}}]
[null,null,{"$f":"VLOOKUP(A1480,'Analyse S'!A:D,3,FALSE)","v":{"$error":"#N/A"}}]
[null,null,{"$f":"VLOOKUP(A1481,'Analyse S'!A:D,3,FALSE)","v":{"$error":"#N/A"}}]
[null,null,{"$f":"VLOOKUP(A1482,'Analyse S'!A:D,3,FALSE)","v":{"$error":"#N/A"}}]
[null,null,{"$f":"VLOOKUP(A1483,'Analyse S'!A:D,3,FALSE)","v":{"$error":"#N/A"}}]
[null,null,{"$f":"VLOOKUP(A1484,'Analyse S'!A:D,3,FALSE)","v":{"$error":"#N/A"}}]
[null,null,{"$f":"VLOOKUP(A1485,'Analyse S'!A:D,3,FALSE)","v":{"$error":"#N/A"}}]
[null,null,{"$f":"VLOOKUP(A1486,'Analyse S'!A:D,3,FALSE)","v":{"$error":"#N/A"}}]
[null,null,{"$f":"VLOOKUP(A1487,'Analyse S'!A:D,3,FALSE)","v":{"$error":"#N/A"}}]
[null,null,{"$f":"VLOOKUP(A1488,'Analyse S'!A:D,3,FALSE)","v":{"$error":"#N/A"}}]
[null,null,{"$f":"VLOOKUP(A1489,'Analyse S'!A:D,3,FALSE)","v":{"$error":"#N/A"}}]
[null,null,{"$f":"VLOOKUP(A1490,'Analyse S'!A:D,3,FALSE)","v":{"$error":"#N/A"}}]
[null,null,{"$f":"VLOOKUP(A1491,'Analyse S'!A:D,3,FALSE)","v":{"$error":"#N/A"}}]
[null,null,{"$f":"VLOOKUP(A1492,'Analyse S'!A:D,3,FALSE)","v":{"$error":"#N/A"}}]
[null,null,{"$f":"VLOOKUP(A1493,'Analyse S'!A:D,3,FALSE)","v":{"$error":"#N/A"}}]
[null,null,{"$f":"VLOOKUP(A1494,'Analyse S'!A:D,3,FALSE)","v":{"$error":"#N/A"}}]
[null,null,{"$f":"VLOOKUP(A1495,'Analyse S'!A:D,3,FALSE)","v":{"$error":"#N/A"}}]
[null,null,{"$f":"VLOOKUP(A1496,'Analyse S'!A:D,3,FALSE)","v":{"$error":"#N/A"}}]
[null,null,{"$f":"VLOOKUP(A1497,'Analyse S'!A:D,3,FALSE)","v":{"$error":"#N/A"}}]
[null,null,{"$f":"VLOOKUP(A1498,'Analyse S'!A:D,3,FALSE)","v":{"$error":"#N/A"}}]
[null,null,{"$f":"VLOOKUP(A1499,'Analyse S'!A:D,3,FALSE)","v":{"$error":"#N/A"}}]
[null,null,{"$f":"VLOOKUP(A1500,'Analyse S'!A:D,3,FALSE)","v":{"$error":"#N/A"}}]
[null,null,{"$f":"VLOOKUP(A1501,'Analyse S'!A:D,3,FALSE)","v":{"$error":"#N/A"}}]
[null,null,{"$f":"VLOOKUP(A1502,'Analyse S'!A:D,3,FALSE)","v":{"$error":"#N/A"}}]
[null,null,{"$f":"VLOOKUP(A1503,'Analyse S'!A:D,3,FALSE)","v":{"$error":"#N/A"}}]
[null,null,{"$f":"VLOOKUP(A1504,'Analyse S'!A:D,3,FALSE)","v":{"$error":"#N/A"}}]
[null,null,{"$f":"VLOOKUP(A1505,'Analyse S'!A:D,3,FALSE)","v":{"$error":"#N/A"}}]
[null,null,{"$f":"VLOOKUP(A1506,'Analyse S'!A:D,3,FALSE)","v":{"$error":"#N/A"}}]
[null,null,{"$f":"VLOOKUP(A1507,'Analyse S'!A:D,3,FALSE)","v":{"$error":"#N/A"}}]
[null,null,{"$f":"VLOOKUP(A1508,'Analyse S'!A:D,3,FALSE)","v":{"$error":"#N/A"}}]
[null,null,{"$f":"VLOOKUP(A1509,'Analyse S'!A:D,3,FALSE)","v":{"$error":"#N/A"}}]
[null,null,{"$f":"VLOOKUP(A1510,'Analyse S'!A:D,3,FALSE)","v":{"$error":"#N/A"}}]
[null,null,{"$f":"VLOOKUP(A1511,'Analyse S'!A:D,3,FALSE)","v":{"$error":"#N/A"}}]
[null,null,{"$f":"VLOOKUP(A1512,'Analyse S'!A:D,3,FALSE)","v":{"$error":"#N/A"}}]
[null,null,{"$f":"VLOOKUP(A1513,'Analyse S'!A:D,3,FALSE)","v":{"$error":"#N/A"}}]
[null,null,{"$f":"VLOOKUP(A1514,'Analyse S'!A:D,3,FALSE)","v":{"$error":"#N/A"}}]
[null,null,{"$f":"VLOOKUP(A1515,'Analyse S'!A:D,3,FALSE)","v":{"$error":"#N/A"}}]
[null,null,{"$f":"VLOOKUP(A1516,'Analyse S'!A:D,3,FALSE)","v":{"$error":"#N/A"}}]
[null,null,{"$f":"VLOOKUP(A1517,'Analyse S'!A:D,3,FALSE)","v":{"$error":"#N/A"}}]
[null,null,{"$f":"VLOOKUP(A1518,'Analyse S'!A:D,3,FALSE)","v":{"$error":"#N/A"}}]
[null,null,{"$f":"VLOOKUP(A1519,'Analyse S'!A:D,3,FALSE)","v":{"$error":"#N/A"}}]
[null,null,{"$f":"VLOOKUP(A1520,'Analyse S'!A:D,3,FALSE)","v":{"$error":"#N/A"}}]
[null,null,{"$f":"VLOOKUP(A1521,'Analyse S'!A:D,3,FALSE)","v":{"$error":"#N/A"}}]
[null,null,{"$f":"VLOOKUP(A1522,'Analyse S'!A:D,3,FALSE)","v":{"$error":"#N/A"}}]
[null,null,{"$f":"VLOOKUP(A1523,'Analyse S'!A:D,3,FALSE)","v":{"$error":"#N/A"}}]
[null,null,{"$f":"VLOOKUP(A1524,'Analyse S'!A:D,3,FALSE)","v":{"$error":"#N/A"}}]
[null,null,{"$f":"VLOOKUP(A1525,'Analyse S'!A:D,3,FALSE)","v":{"$error":"#N/A"}}]
[null,null,{"$f":"VLOOKUP(A1526,'Analyse S'!A:D,3,FALSE)","v":{"$error":"#N/A"}}]
[null,null,{"$f":"VLOOKUP(A1527,'Analyse S'!A:D,3,FALSE)","v":{"$error":"#N/A"}}]
[null,null,{"$f":"VLOOKUP(A1528,'Analyse S'!A:D,3,FALSE)","v":{"$error":"#N/A"}}]
[null,null,{"$f":"VLOOKUP(A1529,'Analyse S'!A:D,3,FALSE)","v":{"$error":"#N/A"}}]
[null,null,{"$f":"VLOOKUP(A1530,'Analyse S'!A:D,3,FALSE)","v":{"$error":"#N/A"}}]
[null,null,{"$f":"VLOOKUP(A1531,'Analyse S'!A:D,3,FALSE)","v":{"$error":"#N/A"}}]
[null,null,{"$f":"VLOOKUP(A1532,'Analyse S'!A:D,3,FALSE)","v":{"$error":"#N/A"}}]
[null,null,{"$f":"VLOOKUP(A1533,'Analyse S'!A:D,3,FALSE)","v":{"$error":"#N/A"}}]
[null,null,{"$f":"VLOOKUP(A1534,'Analyse S'!A:D,3,FALSE)","v":{"$error":"#N/A"}}]
[null,null,{"$f":"VLOOKUP(A1535,'Analyse S'!A:D,3,FALSE)","v":{"$error":"#N/A"}}]
[null,null,{"$f":"VLOOKUP(A1536,'Analyse S'!A:D,3,FALSE)","v":{"$error":"#N/A"}}]
[null,null,{"$f":"VLOOKUP(A1537,'Analyse S'!A:D,3,FALSE)","v":{"$error":"#N/A"}}]
[null,null,{"$f":"VLOOKUP(A1538,'Analyse S'!A:D,3,FALSE)","v":{"$error":"#N/A"}}]
[null,null,{"$f":"VLOOKUP(A1539,'Analyse S'!A:D,3,FALSE)","v":{"$error":"#N/A"}}]
[null,null,{"$f":"VLOOKUP(A1540,'Analyse S'!A:D,3,FALSE)","v":{"$error":"#N/A"}}]
[null,null,{"$f":"VLOOKUP(A1541,'Analyse S'!A:D,3,FALSE)","v":{"$error":"#N/A"}}]
[null,null,{"$f":"VLOOKUP(A1542,'Analyse S'!A:D,3,FALSE)","v":{"$error":"#N/A"}}]
[null,null,{"$f":"VLOOKUP(A1543,'Analyse S'!A:D,3,FALSE)","v":{"$error":"#N/A"}}]
[null,null,{"$f":"VLOOKUP(A1544,'Analyse S'!A:D,3,FALSE)","v":{"$error":"#N/A"}}]
[null,null,{"$f":"VLOOKUP(A1545,'Analyse S'!A:D,3,FALSE)","v":{"$error":"#N/A"}}]
[null,null,{"$f":"VLOOKUP(A1546,'Analyse S'!A:D,3,FALSE)","v":{"$error":"#N/A"}}]
[null,null,{"$f":"VLOOKUP(A1547,'Analyse S'!A:D,3,FALSE)","v":{"$error":"#N/A"}}]
[null,null,{"$f":"VLOOKUP(A1548,'Analyse S'!A:D,3,FALSE)","v":{"$error":"#N/A"}}]
[null,null,{"$f":"VLOOKUP(A1549,'Analyse S'!A:D,3,FALSE)","v":{"$error":"#N/A"}}]
[null,null,{"$f":"VLOOKUP(A1550,'Analyse S'!A:D,3,FALSE)","v":{"$error":"#N/A"}}]
[null,null,{"$f":"VLOOKUP(A1551,'Analyse S'!A:D,3,FALSE)","v":{"$error":"#N/A"}}]
[null,null,{"$f":"VLOOKUP(A1552,'Analyse S'!A:D,3,FALSE)","v":{"$error":"#N/A"}}]
[null,null,{"$f":"VLOOKUP(A1553,'Analyse S'!A:D,3,FALSE)","v":{"$error":"#N/A"}}]
[null,null,{"$f":"VLOOKUP(A1554,'Analyse S'!A:D,3,FALSE)","v":{"$error":"#N/A"}}]
[null,null,{"$f":"VLOOKUP(A1555,'Analyse S'!A:D,3,FALSE)","v":{"$error":"#N/A"}}]
[null,null,{"$f":"VLOOKUP(A1556,'Analyse S'!A:D,3,FALSE)","v":{"$error":"#N/A"}}]
[null,null,{"$f":"VLOOKUP(A1557,'Analyse S'!A:D,3,FALSE)","v":{"$error":"#N/A"}}]
[null,null,{"$f":"VLOOKUP(A1558,'Analyse S'!A:D,3,FALSE)","v":{"$error":"#N/A"}}]
[null,null,{"$f":"VLOOKUP(A1559,'Analyse S'!A:D,3,FALSE)","v":{"$error":"#N/A"}}]
[null,null,{"$f":"VLOOKUP(A1560,'Analyse S'!A:D,3,FALSE)","v":{"$error":"#N/A"}}]
[null,null,{"$f":"VLOOKUP(A1561,'Analyse S'!A:D,3,FALSE)","v":{"$error":"#N/A"}}]
[null,null,{"$f":"VLOOKUP(A1562,'Analyse S'!A:D,3,FALSE)","v":{"$error":"#N/A"}}]
[null,null,{"$f":"VLOOKUP(A1563,'Analyse S'!A:D,3,FALSE)","v":{"$error":"#N/A"}}]
[null,null,{"$f":"VLOOKUP(A1564,'Analyse S'!A:D,3,FALSE)","v":{"$error":"#N/A"}}]
[null,null,{"$f":"VLOOKUP(A1565,'Analyse S'!A:D,3,FALSE)","v":{"$error":"#N/A"}}]
[null,null,{"$f":"VLOOKUP(A1566,'Analyse S'!A:D,3,FALSE)","v":{"$error":"#N/A"}}]
[null,null,{"$f":"VLOOKUP(A1567,'Analyse S'!A:D,3,FALSE)","v":{"$error":"#N/A"}}]
[null,null,{"$f":"VLOOKUP(A1568,'Analyse S'!A:D,3,FALSE)","v":{"$error":"#N/A"}}]
[null,null,{"$f":"VLOOKUP(A1569,'Analyse S'!A:D,3,FALSE)","v":{"$error":"#N/A"}}]
[null,null,{"$f":"VLOOKUP(A1570,'Analyse S'!A:D,3,FALSE)","v":{"$error":"#N/A"}}]
[null,null,{"$f":"VLOOKUP(A1571,'Analyse S'!A:D,3,FALSE)","v":{"$error":"#N/A"}}]
[null,null,{"$f":"VLOOKUP(A1572,'Analyse S'!A:D,3,FALSE)","v":{"$error":"#N/A"}}]
[null,null,{"$f":"VLOOKUP(A1573,'Analyse S'!A:D,3,FALSE)","v":{"$error":"#N/A"}}]
[null,null,{"$f":"VLOOKUP(A1574,'Analyse S'!A:D,3,FALSE)","v":{"$error":"#N/A"}}]
[null,null,{"$f":"VLOOKUP(A1575,'Analyse S'!A:D,3,FALSE)","v":{"$error":"#N/A"}}]
[null,null,{"$f":"VLOOKUP(A1576,'Analyse S'!A:D,3,FALSE)","v":{"$error":"#N/A"}}]
[null,null,{"$f":"VLOOKUP(A1577,'Analyse S'!A:D,3,FALSE)","v":{"$error":"#N/A"}}]
[null,null,{"$f":"VLOOKUP(A1578,'Analyse S'!A:D,3,FALSE)","v":{"$error":"#N/A"}}]
[null,null,{"$f":"VLOOKUP(A1579,'Analyse S'!A:D,3,FALSE)","v":{"$error":"#N/A"}}]
[null,null,{"$f":"VLOOKUP(A1580,'Analyse S'!A:D,3,FALSE)","v":{"$error":"#N/A"}}]
[null,null,{"$f":"VLOOKUP(A1581,'Analyse S'!A:D,3,FALSE)","v":{"$error":"#N/A"}}]
[null,null,{"$f":"VLOOKUP(A1582,'Analyse S'!A:D,3,FALSE)","v":{"$error":"#N/A"}}]
[null,null,{"$f":"VLOOKUP(A1583,'Analyse S'!A:D,3,FALSE)","v":{"$error":"#N/A"}}]
[null,null,{"$f":"VLOOKUP(A1584,'Analyse S'!A:D,3,FALSE)","v":{"$error":"#N/A"}}]
[null,null,{"$f":"VLOOKUP(A1585,'Analyse S'!A:D,3,FALSE)","v":{"$error":"#N/A"}}]
[null,null,{"$f":"VLOOKUP(A1586,'Analyse S'!A:D,3,FALSE)","v":{"$error":"#N/A"}}]
[null,null,{"$f":"VLOOKUP(A1587,'Analyse S'!A:D,3,FALSE)","v":{"$error":"#N/A"}}]
[null,null,{"$f":"VLOOKUP(A1588,'Analyse S'!A:D,3,FALSE)","v":{"$error":"#N/A"}}]
[null,null,{"$f":"VLOOKUP(A1589,'Analyse S'!A:D,3,FALSE)","v":{"$error":"#N/A"}}]
[null,null,{"$f":"VLOOKUP(A1590,'Analyse S'!A:D,3,FALSE)","v":{"$error":"#N/A"}}]
[null,null,{"$f":"VLOOKUP(A1591,'Analyse S'!A:D,3,FALSE)","v":{"$error":"#N/A"}}]
[null,null,{"$f":"VLOOKUP(A1592,'Analyse S'!A:D,3,FALSE)","v":{"$error":"#N/A"}}]
[null,null,{"$f":"VLOOKUP(A1593,'Analyse S'!A:D,3,FALSE)","v":{"$error":"#N/A"}}]
[null,null,{"$f":"VLOOKUP(A1594,'Analyse S'!A:D,3,FALSE)","v":{"$error":"#N/A"}}]
[null,null,{"$f":"VLOOKUP(A1595,'Analyse S'!A:D,3,FALSE)","v":{"$error":"#N/A"}}]
[null,null,{"$f":"VLOOKUP(A1596,'Analyse S'!A:D,3,FALSE)","v":{"$error":"#N/A"}}]
[null,null,{"$f":"VLOOKUP(A1597,'Analyse S'!A:D,3,FALSE)","v":{"$error":"#N/A"}}]
[null,null,{"$f":"VLOOKUP(A1598,'Analyse S'!A:D,3,FALSE)","v":{"$error":"#N/A"}}]
[null,null,{"$f":"VLOOKUP(A1599,'Analyse S'!A:D,3,FALSE)","v":{"$error":"#N/A"}}]
[null,null,{"$f":"VLOOKUP(A1600,'Analyse S'!A:D,3,FALSE)","v":{"$error":"#N/A"}}]
[null,null,{"$f":"VLOOKUP(A1601,'Analyse S'!A:D,3,FALSE)","v":{"$error":"#N/A"}}]
[null,null,{"$f":"VLOOKUP(A1602,'Analyse S'!A:D,3,FALSE)","v":{"$error":"#N/A"}}]
[null,null,{"$f":"VLOOKUP(A1603,'Analyse S'!A:D,3,FALSE)","v":{"$error":"#N/A"}}]
[null,null,{"$f":"VLOOKUP(A1604,'Analyse S'!A:D,3,FALSE)","v":{"$error":"#N/A"}}]
[null,null,{"$f":"VLOOKUP(A1605,'Analyse S'!A:D,3,FALSE)","v":{"$error":"#N/A"}}]
[null,null,{"$f":"VLOOKUP(A1606,'Analyse S'!A:D,3,FALSE)","v":{"$error":"#N/A"}}]
[null,null,{"$f":"VLOOKUP(A1607,'Analyse S'!A:D,3,FALSE)","v":{"$error":"#N/A"}}]
[null,null,{"$f":"VLOOKUP(A1608,'Analyse S'!A:D,3,FALSE)","v":{"$error":"#N/A"}}]
[null,null,{"$f":"VLOOKUP(A1609,'Analyse S'!A:D,3,FALSE)","v":{"$error":"#N/A"}}]
[null,null,{"$f":"VLOOKUP(A1610,'Analyse S'!A:D,3,FALSE)","v":{"$error":"#N/A"}}]
[null,null,{"$f":"VLOOKUP(A1611,'Analyse S'!A:D,3,FALSE)","v":{"$error":"#N/A"}}]
[null,null,{"$f":"VLOOKUP(A1612,'Analyse S'!A:D,3,FALSE)","v":{"$error":"#N/A"}}]
[null,null,{"$f":"VLOOKUP(A1613,'Analyse S'!A:D,3,FALSE)","v":{"$error":"#N/A"}}]
[null,null,{"$f":"VLOOKUP(A1614,'Analyse S'!A:D,3,FALSE)","v":{"$error":"#N/A"}}]
[null,null,{"$f":"VLOOKUP(A1615,'Analyse S'!A:D,3,FALSE)","v":{"$error":"#N/A"}}]
[null,null,{"$f":"VLOOKUP(A1616,'Analyse S'!A:D,3,FALSE)","v":{"$error":"#N/A"}}]
[null,null,{"$f":"VLOOKUP(A1617,'Analyse S'!A:D,3,FALSE)","v":{"$error":"#N/A"}}]
[null,null,{"$f":"VLOOKUP(A1618,'Analyse S'!A:D,3,FALSE)","v":{"$error":"#N/A"}}]
[null,null,{"$f":"VLOOKUP(A1619,'Analyse S'!A:D,3,FALSE)","v":{"$error":"#N/A"}}]
[null,null,{"$f":"VLOOKUP(A1620,'Analyse S'!A:D,3,FALSE)","v":{"$error":"#N/A"}}]
[null,null,{"$f":"VLOOKUP(A1621,'Analyse S'!A:D,3,FALSE)","v":{"$error":"#N/A"}}]
[null,null,{"$f":"VLOOKUP(A1622,'Analyse S'!A:D,3,FALSE)","v":{"$error":"#N/A"}}]
[null,null,{"$f":"VLOOKUP(A1623,'Analyse S'!A:D,3,FALSE)","v":{"$error":"#N/A"}}]
[null,null,{"$f":"VLOOKUP(A1624,'Analyse S'!A:D,3,FALSE)","v":{"$error":"#N/A"}}]
[null,null,{"$f":"VLOOKUP(A1625,'Analyse S'!A:D,3,FALSE)","v":{"$error":"#N/A"}}]
[null,null,{"$f":"VLOOKUP(A1626,'Analyse S'!A:D,3,FALSE)","v":{"$error":"#N/A"}}]
[null,null,{"$f":"VLOOKUP(A1627,'Analyse S'!A:D,3,FALSE)","v":{"$error":"#N/A"}}]
[null,null,{"$f":"VLOOKUP(A1628,'Analyse S'!A:D,3,FALSE)","v":{"$error":"#N/A"}}]
[null,null,{"$f":"VLOOKUP(A1629,'Analyse S'!A:D,3,FALSE)","v":{"$error":"#N/A"}}]
[null,null,{"$f":"VLOOKUP(A1630,'Analyse S'!A:D,3,FALSE)","v":{"$error":"#N/A"}}]
[null,null,{"$f":"VLOOKUP(A1631,'Analyse S'!A:D,3,FALSE)","v":{"$error":"#N/A"}}]
[null,null,{"$f":"VLOOKUP(A1632,'Analyse S'!A:D,3,FALSE)","v":{"$error":"#N/A"}}]
[null,null,{"$f":"VLOOKUP(A1633,'Analyse S'!A:D,3,FALSE)","v":{"$error":"#N/A"}}]
[null,null,{"$f":"VLOOKUP(A1634,'Analyse S'!A:D,3,FALSE)","v":{"$error":"#N/A"}}]
[null,null,{"$f":"VLOOKUP(A1635,'Analyse S'!A:D,3,FALSE)","v":{"$error":"#N/A"}}]
[null,null,{"$f":"VLOOKUP(A1636,'Analyse S'!A:D,3,FALSE)","v":{"$error":"#N/A"}}]
[null,null,{"$f":"VLOOKUP(A1637,'Analyse S'!A:D,3,FALSE)","v":{"$error":"#N/A"}}]
[null,null,{"$f":"VLOOKUP(A1638,'Analyse S'!A:D,3,FALSE)","v":{"$error":"#N/A"}}]
[null,null,{"$f":"VLOOKUP(A1639,'Analyse S'!A:D,3,FALSE)","v":{"$error":"#N/A"}}]
[null,null,{"$f":"VLOOKUP(A1640,'Analyse S'!A:D,3,FALSE)","v":{"$error":"#N/A"}}]
[null,null,{"$f":"VLOOKUP(A1641,'Analyse S'!A:D,3,FALSE)","v":{"$error":"#N/A"}}]
[null,null,{"$f":"VLOOKUP(A1642,'Analyse S'!A:D,3,FALSE)","v":{"$error":"#N/A"}}]
[null,null,{"$f":"VLOOKUP(A1643,'Analyse S'!A:D,3,FALSE)","v":{"$error":"#N/A"}}]
[null,null,{"$f":"VLOOKUP(A1644,'Analyse S'!A:D,3,FALSE)","v":{"$error":"#N/A"}}]
[null,null,{"$f":"VLOOKUP(A1645,'Analyse S'!A:D,3,FALSE)","v":{"$error":"#N/A"}}]
[null,null,{"$f":"VLOOKUP(A1646,'Analyse S'!A:D,3,FALSE)","v":{"$error":"#N/A"}}]
[null,null,{"$f":"VLOOKUP(A1647,'Analyse S'!A:D,3,FALSE)","v":{"$error":"#N/A"}}]
[null,null,{"$f":"VLOOKUP(A1648,'Analyse S'!A:D,3,FALSE)","v":{"$error":"#N/A"}}]
[null,null,{"$f":"VLOOKUP(A1649,'Analyse S'!A:D,3,FALSE)","v":{"$error":"#N/A"}}]
[null,null,{"$f":"VLOOKUP(A1650,'Analyse S'!A:D,3,FALSE)","v":{"$error":"#N/A"}}]
[null,null,{"$f":"VLOOKUP(A1651,'Analyse S'!A:D,3,FALSE)","v":{"$error":"#N/A"}}]
[null,null,{"$f":"VLOOKUP(A1652,'Analyse S'!A:D,3,FALSE)","v":{"$error":"#N/A"}}]
[null,null,{"$f":"VLOOKUP(A1653,'Analyse S'!A:D,3,FALSE)","v":{"$error":"#N/A"}}]
[null,null,{"$f":"VLOOKUP(A1654,'Analyse S'!A:D,3,FALSE)","v":{"$error":"#N/A"}}]
[null,null,{"$f":"VLOOKUP(A1655,'Analyse S'!A:D,3,FALSE)","v":{"$error":"#N/A"}}]
[null,null,{"$f":"VLOOKUP(A1656,'Analyse S'!A:D,3,FALSE)","v":{"$error":"#N/A"}}]
[null,null,{"$f":"VLOOKUP(A1657,'Analyse S'!A:D,3,FALSE)","v":{"$error":"#N/A"}}]
[null,null,{"$f":"VLOOKUP(A1658,'Analyse S'!A:D,3,FALSE)","v":{"$error":"#N/A"}}]
[null,null,{"$f":"VLOOKUP(A1659,'Analyse S'!A:D,3,FALSE)","v":{"$error":"#N/A"}}]
[null,null,{"$f":"VLOOKUP(A1660,'Analyse S'!A:D,3,FALSE)","v":{"$error":"#N/A"}}]
[null,null,{"$f":"VLOOKUP(A1661,'Analyse S'!A:D,3,FALSE)","v":{"$error":"#N/A"}}]
[null,null,{"$f":"VLOOKUP(A1662,'Analyse S'!A:D,3,FALSE)","v":{"$error":"#N/A"}}]
[null,null,{"$f":"VLOOKUP(A1663,'Analyse S'!A:D,3,FALSE)","v":{"$error":"#N/A"}}]
[null,null,{"$f":"VLOOKUP(A1664,'Analyse S'!A:D,3,FALSE)","v":{"$error":"#N/A"}}]
[null,null,{"$f":"VLOOKUP(A1665,'Analyse S'!A:D,3,FALSE)","v":{"$error":"#N/A"}}]
[null,null,{"$f":"VLOOKUP(A1666,'Analyse S'!A:D,3,FALSE)","v":{"$error":"#N/A"}}]
[null,null,{"$f":"VLOOKUP(A1667,'Analyse S'!A:D,3,FALSE)","v":{"$error":"#N/A"}}]
[null,null,{"$f":"VLOOKUP(A1668,'Analyse S'!A:D,3,FALSE)","v":{"$error":"#N/A"}}]
[null,null,{"$f":"VLOOKUP(A1669,'Analyse S'!A:D,3,FALSE)","v":{"$error":"#N/A"}}]
[null,null,{"$f":"VLOOKUP(A1670,'Analyse S'!A:D,3,FALSE)","v":{"$error":"#N/A"}}]
[null,null,{"$f":"VLOOKUP(A1671,'Analyse S'!A:D,3,FALSE)","v":{"$error":"#N/A"}}]
[null,null,{"$f":"VLOOKUP(A1672,'Analyse S'!A:D,3,FALSE)","v":{"$error":"#N/A"}}]
[null,null,{"$f":"VLOOKUP(A1673,'Analyse S'!A:D,3,FALSE)","v":{"$error":"#N/A"}}]
[null,null,{"$f":"VLOOKUP(A1674,'Analyse S'!A:D,3,FALSE)","v":{"$error":"#N/A"}}]
[null,null,{"$f":"VLOOKUP(A1675,'Analyse S'!A:D,3,FALSE)","v":{"$error":"#N/A"}}]
[null,null,{"$f":"VLOOKUP(A1676,'Analyse S'!A:D,3,FALSE)","v":{"$error":"#N/A"}}]
[null,null,{"$f":"VLOOKUP(A1677,'Analyse S'!A:D,3,FALSE)","v":{"$error":"#N/A"}}]
[null,null,{"$f":"VLOOKUP(A1678,'Analyse S'!A:D,3,FALSE)","v":{"$error":"#N/A"}}]
[null,null,{"$f":"VLOOKUP(A1679,'Analyse S'!A:D,3,FALSE)","v":{"$error":"#N/A"}}]
[null,null,{"$f":"VLOOKUP(A1680,'Analyse S'!A:D,3,FALSE)","v":{"$error":"#N/A"}}]
[null,null,{"$f":"VLOOKUP(A1681,'Analyse S'!A:D,3,FALSE)","v":{"$error":"#N/A"}}]
[null,null,{"$f":"VLOOKUP(A1682,'Analyse S'!A:D,3,FALSE)","v":{"$error":"#N/A"}}]
[null,null,{"$f":"VLOOKUP(A1683,'Analyse S'!A:D,3,FALSE)","v":{"$error":"#N/A"}}]
[null,null,{"$f":"VLOOKUP(A1684,'Analyse S'!A:D,3,FALSE)","v":{"$error":"#N/A"}}]
[null,null,{"$f":"VLOOKUP(A1685,'Analyse S'!A:D,3,FALSE)","v":{"$error":"#N/A"}}]
[null,null,{"$f":"VLOOKUP(A1686,'Analyse S'!A:D,3,FALSE)","v":{"$error":"#N/A"}}]
[null,null,{"$f":"VLOOKUP(A1687,'Analyse S'!A:D,3,FALSE)","v":{"$error":"#N/A"}}]
[null,null,{"$f":"VLOOKUP(A1688,'Analyse S'!A:D,3,FALSE)","v":{"$error":"#N/A"}}]
[null,null,{"$f":"VLOOKUP(A1689,'Analyse S'!A:D,3,FALSE)","v":{"$error":"#N/A"}}]
[null,null,{"$f":"VLOOKUP(A1690,'Analyse S'!A:D,3,FALSE)","v":{"$error":"#N/A"}}]
[null,null,{"$f":"VLOOKUP(A1691,'Analyse S'!A:D,3,FALSE)","v":{"$error":"#N/A"}}]
[null,null,{"$f":"VLOOKUP(A1692,'Analyse S'!A:D,3,FALSE)","v":{"$error":"#N/A"}}]
[null,null,{"$f":"VLOOKUP(A1693,'Analyse S'!A:D,3,FALSE)","v":{"$error":"#N/A"}}]
[null,null,{"$f":"VLOOKUP(A1694,'Analyse S'!A:D,3,FALSE)","v":{"$error":"#N/A"}}]
[null,null,{"$f":"VLOOKUP(A1695,'Analyse S'!A:D,3,FALSE)","v":{"$error":"#N/A"}}]
[null,null,{"$f":"VLOOKUP(A1696,'Analyse S'!A:D,3,FALSE)","v":{"$error":"#N/A"}}]
[null,null,{"$f":"VLOOKUP(A1697,'Analyse S'!A:D,3,FALSE)","v":{"$error":"#N/A"}}]
[null,null,{"$f":"VLOOKUP(A1698,'Analyse S'!A:D,3,FALSE)","v":{"$error":"#N/A"}}]
[null,null,{"$f":"VLOOKUP(A1699,'Analyse S'!A:D,3,FALSE)","v":{"$error":"#N/A"}}]
[null,null,{"$f":"VLOOKUP(A1700,'Analyse S'!A:D,3,FALSE)","v":{"$error":"#N/A"}}]
[null,null,{"$f":"VLOOKUP(A1701,'Analyse S'!A:D,3,FALSE)","v":{"$error":"#N/A"}}]
[null,null,{"$f":"VLOOKUP(A1702,'Analyse S'!A:D,3,FALSE)","v":{"$error":"#N/A"}}]
[null,null,{"$f":"VLOOKUP(A1703,'Analyse S'!A:D,3,FALSE)","v":{"$error":"#N/A"}}]
[null,null,{"$f":"VLOOKUP(A1704,'Analyse S'!A:D,3,FALSE)","v":{"$error":"#N/A"}}]
[null,null,{"$f":"VLOOKUP(A1705,'Analyse S'!A:D,3,FALSE)","v":{"$error":"#N/A"}}]
[null,null,{"$f":"VLOOKUP(A1706,'Analyse S'!A:D,3,FALSE)","v":{"$error":"#N/A"}}]
[null,null,{"$f":"VLOOKUP(A1707,'Analyse S'!A:D,3,FALSE)","v":{"$error":"#N/A"}}]
[null,null,{"$f":"VLOOKUP(A1708,'Analyse S'!A:D,3,FALSE)","v":{"$error":"#N/A"}}]
[null,null,{"$f":"VLOOKUP(A1709,'Analyse S'!A:D,3,FALSE)","v":{"$error":"#N/A"}}]
[null,null,{"$f":"VLOOKUP(A1710,'Analyse S'!A:D,3,FALSE)","v":{"$error":"#N/A"}}]
[null,null,{"$f":"VLOOKUP(A1711,'Analyse S'!A:D,3,FALSE)","v":{"$error":"#N/A"}}]
[null,null,{"$f":"VLOOKUP(A1712,'Analyse S'!A:D,3,FALSE)","v":{"$error":"#N/A"}}]
[null,null,{"$f":"VLOOKUP(A1713,'Analyse S'!A:D,3,FALSE)","v":{"$error":"#N/A"}}]
[null,null,{"$f":"VLOOKUP(A1714,'Analyse S'!A:D,3,FALSE)","v":{"$error":"#N/A"}}]
[null,null,{"$f":"VLOOKUP(A1715,'Analyse S'!A:D,3,FALSE)","v":{"$error":"#N/A"}}]
[null,null,{"$f":"VLOOKUP(A1716,'Analyse S'!A:D,3,FALSE)","v":{"$error":"#N/A"}}]
[null,null,{"$f":"VLOOKUP(A1717,'Analyse S'!A:D,3,FALSE)","v":{"$error":"#N/A"}}]
[null,null,{"$f":"VLOOKUP(A1718,'Analyse S'!A:D,3,FALSE)","v":{"$error":"#N/A"}}]
[null,null,{"$f":"VLOOKUP(A1719,'Analyse S'!A:D,3,FALSE)","v":{"$error":"#N/A"}}]
[null,null,{"$f":"VLOOKUP(A1720,'Analyse S'!A:D,3,FALSE)","v":{"$error":"#N/A"}}]
[null,null,{"$f":"VLOOKUP(A1721,'Analyse S'!A:D,3,FALSE)","v":{"$error":"#N/A"}}]
[null,null,{"$f":"VLOOKUP(A1722,'Analyse S'!A:D,3,FALSE)","v":{"$error":"#N/A"}}]
[null,null,{"$f":"VLOOKUP(A1723,'Analyse S'!A:D,3,FALSE)","v":{"$error":"#N/A"}}]
[null,null,{"$f":"VLOOKUP(A1724,'Analyse S'!A:D,3,FALSE)","v":{"$error":"#N/A"}}]
[null,null,{"$f":"VLOOKUP(A1725,'Analyse S'!A:D,3,FALSE)","v":{"$error":"#N/A"}}]
[null,null,{"$f":"VLOOKUP(A1726,'Analyse S'!A:D,3,FALSE)","v":{"$error":"#N/A"}}]
[null,null,{"$f":"VLOOKUP(A1727,'Analyse S'!A:D,3,FALSE)","v":{"$error":"#N/A"}}]
[null,null,{"$f":"VLOOKUP(A1728,'Analyse S'!A:D,3,FALSE)","v":{"$error":"#N/A"}}]
[null,null,{"$f":"VLOOKUP(A1729,'Analyse S'!A:D,3,FALSE)","v":{"$error":"#N/A"}}]
[null,null,{"$f":"VLOOKUP(A1730,'Analyse S'!A:D,3,FALSE)","v":{"$error":"#N/A"}}]
[null,null,{"$f":"VLOOKUP(A1731,'Analyse S'!A:D,3,FALSE)","v":{"$error":"#N/A"}}]
[null,null,{"$f":"VLOOKUP(A1732,'Analyse S'!A:D,3,FALSE)","v":{"$error":"#N/A"}}]
[null,null,{"$f":"VLOOKUP(A1733,'Analyse S'!A:D,3,FALSE)","v":{"$error":"#N/A"}}]
[null,null,{"$f":"VLOOKUP(A1734,'Analyse S'!A:D,3,FALSE)","v":{"$error":"#N/A"}}]
[null,null,{"$f":"VLOOKUP(A1735,'Analyse S'!A:D,3,FALSE)","v":{"$error":"#N/A"}}]
[null,null,{"$f":"VLOOKUP(A1736,'Analyse S'!A:D,3,FALSE)","v":{"$error":"#N/A"}}]
[null,null,{"$f":"VLOOKUP(A1737,'Analyse S'!A:D,3,FALSE)","v":{"$error":"#N/A"}}]
[null,null,{"$f":"VLOOKUP(A1738,'Analyse S'!A:D,3,FALSE)","v":{"$error":"#N/A"}}]
[null,null,{"$f":"VLOOKUP(A1739,'Analyse S'!A:D,3,FALSE)","v":{"$error":"#N/A"}}]
[null,null,{"$f":"VLOOKUP(A1740,'Analyse S'!A:D,3,FALSE)","v":{"$error":"#N/A"}}]
[null,null,{"$f":"VLOOKUP(A1741,'Analyse S'!A:D,3,FALSE)","v":{"$error":"#N/A"}}]
[null,null,{"$f":"VLOOKUP(A1742,'Analyse S'!A:D,3,FALSE)","v":{"$error":"#N/A"}}]
[null,null,{"$f":"VLOOKUP(A1743,'Analyse S'!A:D,3,FALSE)","v":{"$error":"#N/A"}}]
[null,null,{"$f":"VLOOKUP(A1744,'Analyse S'!A:D,3,FALSE)","v":{"$error":"#N/A"}}]
[null,null,{"$f":"VLOOKUP(A1745,'Analyse S'!A:D,3,FALSE)","v":{"$error":"#N/A"}}]
[null,null,{"$f":"VLOOKUP(A1746,'Analyse S'!A:D,3,FALSE)","v":{"$error":"#N/A"}}]
[null,null,{"$f":"VLOOKUP(A1747,'Analyse S'!A:D,3,FALSE)","v":{"$error":"#N/A"}}]
[null,null,{"$f":"VLOOKUP(A1748,'Analyse S'!A:D,3,FALSE)","v":{"$error":"#N/A"}}]
[null,null,{"$f":"VLOOKUP(A1749,'Analyse S'!A:D,3,FALSE)","v":{"$error":"#N/A"}}]
[null,null,{"$f":"VLOOKUP(A1750,'Analyse S'!A:D,3,FALSE)","v":{"$error":"#N/A"}}]
[null,null,{"$f":"VLOOKUP(A1751,'Analyse S'!A:D,3,FALSE)","v":{"$error":"#N/A"}}]
[null,null,{"$f":"VLOOKUP(A1752,'Analyse S'!A:D,3,FALSE)","v":{"$error":"#N/A"}}]
[null,null,{"$f":"VLOOKUP(A1753,'Analyse S'!A:D,3,FALSE)","v":{"$error":"#N/A"}}]
[null,null,{"$f":"VLOOKUP(A1754,'Analyse S'!A:D,3,FALSE)","v":{"$error":"#N/A"}}]
[null,null,{"$f":"VLOOKUP(A1755,'Analyse S'!A:D,3,FALSE)","v":{"$error":"#N/A"}}]
[null,null,{"$f":"VLOOKUP(A1756,'Analyse S'!A:D,3,FALSE)","v":{"$error":"#N/A"}}]
[null,null,{"$f":"VLOOKUP(A1757,'Analyse S'!A:D,3,FALSE)","v":{"$error":"#N/A"}}]
[null,null,{"$f":"VLOOKUP(A1758,'Analyse S'!A:D,3,FALSE)","v":{"$error":"#N/A"}}]
[null,null,{"$f":"VLOOKUP(A1759,'Analyse S'!A:D,3,FALSE)","v":{"$error":"#N/A"}}]
[null,null,{"$f":"VLOOKUP(A1760,'Analyse S'!A:D,3,FALSE)","v":{"$error":"#N/A"}}]
[null,null,{"$f":"VLOOKUP(A1761,'Analyse S'!A:D,3,FALSE)","v":{"$error":"#N/A"}}]
[null,null,{"$f":"VLOOKUP(A1762,'Analyse S'!A:D,3,FALSE)","v":{"$error":"#N/A"}}]
[null,null,{"$f":"VLOOKUP(A1763,'Analyse S'!A:D,3,FALSE)","v":{"$error":"#N/A"}}]
[null,null,{"$f":"VLOOKUP(A1764,'Analyse S'!A:D,3,FALSE)","v":{"$error":"#N/A"}}]
[null,null,{"$f":"VLOOKUP(A1765,'Analyse S'!A:D,3,FALSE)","v":{"$error":"#N/A"}}]
[null,null,{"$f":"VLOOKUP(A1766,'Analyse S'!A:D,3,FALSE)","v":{"$error":"#N/A"}}]
[null,null,{"$f":"VLOOKUP(A1767,'Analyse S'!A:D,3,FALSE)","v":{"$error":"#N/A"}}]
[null,null,{"$f":"VLOOKUP(A1768,'Analyse S'!A:D,3,FALSE)","v":{"$error":"#N/A"}}]
[null,null,{"$f":"VLOOKUP(A1769,'Analyse S'!A:D,3,FALSE)","v":{"$error":"#N/A"}}]
[null,null,{"$f":"VLOOKUP(A1770,'Analyse S'!A:D,3,FALSE)","v":{"$error":"#N/A"}}]
[null,null,{"$f":"VLOOKUP(A1771,'Analyse S'!A:D,3,FALSE)","v":{"$error":"#N/A"}}]
[null,null,{"$f":"VLOOKUP(A1772,'Analyse S'!A:D,3,FALSE)","v":{"$error":"#N/A"}}]
[null,null,{"$f":"VLOOKUP(A1773,'Analyse S'!A:D,3,FALSE)","v":{"$error":"#N/A"}}]
[null,null,{"$f":"VLOOKUP(A1774,'Analyse S'!A:D,3,FALSE)","v":{"$error":"#N/A"}}]
[null,null,{"$f":"VLOOKUP(A1775,'Analyse S'!A:D,3,FALSE)","v":{"$error":"#N/A"}}]
[null,null,{"$f":"VLOOKUP(A1776,'Analyse S'!A:D,3,FALSE)","v":{"$error":"#N/A"}}]
[null,null,{"$f":"VLOOKUP(A1777,'Analyse S'!A:D,3,FALSE)","v":{"$error":"#N/A"}}]
[null,null,{"$f":"VLOOKUP(A1778,'Analyse S'!A:D,3,FALSE)","v":{"$error":"#N/A"}}]
[null,null,{"$f":"VLOOKUP(A1779,'Analyse S'!A:D,3,FALSE)","v":{"$error":"#N/A"}}]
[null,null,{"$f":"VLOOKUP(A1780,'Analyse S'!A:D,3,FALSE)","v":{"$error":"#N/A"}}]
[null,null,{"$f":"VLOOKUP(A1781,'Analyse S'!A:D,3,FALSE)","v":{"$error":"#N/A"}}]
[null,null,{"$f":"VLOOKUP(A1782,'Analyse S'!A:D,3,FALSE)","v":{"$error":"#N/A"}}]
[null,null,{"$f":"VLOOKUP(A1783,'Analyse S'!A:D,3,FALSE)","v":{"$error":"#N/A"}}]
[null,null,{"$f":"VLOOKUP(A1784,'Analyse S'!A:D,3,FALSE)","v":{"$error":"#N/A"}}]
[null,null,{"$f":"VLOOKUP(A1785,'Analyse S'!A:D,3,FALSE)","v":{"$error":"#N/A"}}]
[null,null,{"$f":"VLOOKUP(A1786,'Analyse S'!A:D,3,FALSE)","v":{"$error":"#N/A"}}]
[null,null,{"$f":"VLOOKUP(A1787,'Analyse S'!A:D,3,FALSE)","v":{"$error":"#N/A"}}]
[null,null,{"$f":"VLOOKUP(A1788,'Analyse S'!A:D,3,FALSE)","v":{"$error":"#N/A"}}]
[null,null,{"$f":"VLOOKUP(A1789,'Analyse S'!A:D,3,FALSE)","v":{"$error":"#N/A"}}]
[null,null,{"$f":"VLOOKUP(A1790,'Analyse S'!A:D,3,FALSE)","v":{"$error":"#N/A"}}]
[null,null,{"$f":"VLOOKUP(A1791,'Analyse S'!A:D,3,FALSE)","v":{"$error":"#N/A"}}]
[null,null,{"$f":"VLOOKUP(A1792,'Analyse S'!A:D,3,FALSE)","v":{"$error":"#N/A"}}]
[null,null,{"$f":"VLOOKUP(A1793,'Analyse S'!A:D,3,FALSE)","v":{"$error":"#N/A"}}]
[null,null,{"$f":"VLOOKUP(A1794,'Analyse S'!A:D,3,FALSE)","v":{"$error":"#N/A"}}]
[null,null,{"$f":"VLOOKUP(A1795,'Analyse S'!A:D,3,FALSE)","v":{"$error":"#N/A"}}]
[null,null,{"$f":"VLOOKUP(A1796,'Analyse S'!A:D,3,FALSE)","v":{"$error":"#N/A"}}]
[null,null,{"$f":"VLOOKUP(A1797,'Analyse S'!A:D,3,FALSE)","v":{"$error":"#N/A"}}]
[null,null,{"$f":"VLOOKUP(A1798,'Analyse S'!A:D,3,FALSE)","v":{"$error":"#N/A"}}]
[null,null,{"$f":"VLOOKUP(A1799,'Analyse S'!A:D,3,FALSE)","v":{"$error":"#N/A"}}]
[null,null,{"$f":"VLOOKUP(A1800,'Analyse S'!A:D,3,FALSE)","v":{"$error":"#N/A"}}]
[null,null,{"$f":"VLOOKUP(A1801,'Analyse S'!A:D,3,FALSE)","v":{"$error":"#N/A"}}]
[null,null,{"$f":"VLOOKUP(A1802,'Analyse S'!A:D,3,FALSE)","v":{"$error":"#N/A"}}]
[null,null,{"$f":"VLOOKUP(A1803,'Analyse S'!A:D,3,FALSE)","v":{"$error":"#N/A"}}]
[null,null,{"$f":"VLOOKUP(A1804,'Analyse S'!A:D,3,FALSE)","v":{"$error":"#N/A"}}]
[null,null,{"$f":"VLOOKUP(A1805,'Analyse S'!A:D,3,FALSE)","v":{"$error":"#N/A"}}]
[null,null,{"$f":"VLOOKUP(A1806,'Analyse S'!A:D,3,FALSE)","v":{"$error":"#N/A"}}]
[null,null,{"$f":"VLOOKUP(A1807,'Analyse S'!A:D,3,FALSE)","v":{"$error":"#N/A"}}]
[null,null,{"$f":"VLOOKUP(A1808,'Analyse S'!A:D,3,FALSE)","v":{"$error":"#N/A"}}]
[null,null,{"$f":"VLOOKUP(A1809,'Analyse S'!A:D,3,FALSE)","v":{"$error":"#N/A"}}]
[null,null,{"$f":"VLOOKUP(A1810,'Analyse S'!A:D,3,FALSE)","v":{"$error":"#N/A"}}]
[null,null,{"$f":"VLOOKUP(A1811,'Analyse S'!A:D,3,FALSE)","v":{"$error":"#N/A"}}]
[null,null,{"$f":"VLOOKUP(A1812,'Analyse S'!A:D,3,FALSE)","v":{"$error":"#N/A"}}]
[null,null,{"$f":"VLOOKUP(A1813,'Analyse S'!A:D,3,FALSE)","v":{"$error":"#N/A"}}]
[null,null,{"$f":"VLOOKUP(A1814,'Analyse S'!A:D,3,FALSE)","v":{"$error":"#N/A"}}]
[null,null,{"$f":"VLOOKUP(A1815,'Analyse S'!A:D,3,FALSE)","v":{"$error":"#N/A"}}]
[null,null,{"$f":"VLOOKUP(A1816,'Analyse S'!A:D,3,FALSE)","v":{"$error":"#N/A"}}]
[null,null,{"$f":"VLOOKUP(A1817,'Analyse S'!A:D,3,FALSE)","v":{"$error":"#N/A"}}]
[null,null,{"$f":"VLOOKUP(A1818,'Analyse S'!A:D,3,FALSE)","v":{"$error":"#N/A"}}]
[null,null,{"$f":"VLOOKUP(A1819,'Analyse S'!A:D,3,FALSE)","v":{"$error":"#N/A"}}]
[null,null,{"$f":"VLOOKUP(A1820,'Analyse S'!A:D,3,FALSE)","v":{"$error":"#N/A"}}]
[null,null,{"$f":"VLOOKUP(A1821,'Analyse S'!A:D,3,FALSE)","v":{"$error":"#N/A"}}]
[null,null,{"$f":"VLOOKUP(A1822,'Analyse S'!A:D,3,FALSE)","v":{"$error":"#N/A"}}]
[null,null,{"$f":"VLOOKUP(A1823,'Analyse S'!A:D,3,FALSE)","v":{"$error":"#N/A"}}]
[null,null,{"$f":"VLOOKUP(A1824,'Analyse S'!A:D,3,FALSE)","v":{"$error":"#N/A"}}]
[null,null,{"$f":"VLOOKUP(A1825,'Analyse S'!A:D,3,FALSE)","v":{"$error":"#N/A"}}]
[null,null,{"$f":"VLOOKUP(A1826,'Analyse S'!A:D,3,FALSE)","v":{"$error":"#N/A"}}]
[null,null,{"$f":"VLOOKUP(A1827,'Analyse S'!A:D,3,FALSE)","v":{"$error":"#N/A"}}]
[null,null,{"$f":"VLOOKUP(A1828,'Analyse S'!A:D,3,FALSE)","v":{"$error":"#N/A"}}]
[null,null,{"$f":"VLOOKUP(A1829,'Analyse S'!A:D,3,FALSE)","v":{"$error":"#N/A"}}]
[null,null,{"$f":"VLOOKUP(A1830,'Analyse S'!A:D,3,FALSE)","v":{"$error":"#N/A"}}]
[null,null,{"$f":"VLOOKUP(A1831,'Analyse S'!A:D,3,FALSE)","v":{"$error":"#N/A"}}]
[null,null,{"$f":"VLOOKUP(A1832,'Analyse S'!A:D,3,FALSE)","v":{"$error":"#N/A"}}]
[null,null,{"$f":"VLOOKUP(A1833,'Analyse S'!A:D,3,FALSE)","v":{"$error":"#N/A"}}]
[null,null,{"$f":"VLOOKUP(A1834,'Analyse S'!A:D,3,FALSE)","v":{"$error":"#N/A"}}]
[null,null,{"$f":"VLOOKUP(A1835,'Analyse S'!A:D,3,FALSE)","v":{"$error":"#N/A"}}]
[null,null,{"$f":"VLOOKUP(A1836,'Analyse S'!A:D,3,FALSE)","v":{"$error":"#N/A"}}]
[null,null,{"$f":"VLOOKUP(A1837,'Analyse S'!A:D,3,FALSE)","v":{"$error":"#N/A"}}]
[null,null,{"$f":"VLOOKUP(A1838,'Analyse S'!A:D,3,FALSE)","v":{"$error":"#N/A"}}]
[null,null,{"$f":"VLOOKUP(A1839,'Analyse S'!A:D,3,FALSE)","v":{"$error":"#N/A"}}]
[null,null,{"$f":"VLOOKUP(A1840,'Analyse S'!A:D,3,FALSE)","v":{"$error":"#N/A"}}]
[null,null,{"$f":"VLOOKUP(A1841,'Analyse S'!A:D,3,FALSE)","v":{"$error":"#N/A"}}]
[null,null,{"$f":"VLOOKUP(A1842,'Analyse S'!A:D,3,FALSE)","v":{"$error":"#N/A"}}]
[null,null,{"$f":"VLOOKUP(A1843,'Analyse S'!A:D,3,FALSE)","v":{"$error":"#N/A"}}]
[null,null,{"$f":"VLOOKUP(A1844,'Analyse S'!A:D,3,FALSE)","v":{"$error":"#N/A"}}]
[null,null,{"$f":"VLOOKUP(A1845,'Analyse S'!A:D,3,FALSE)","v":{"$error":"#N/A"}}]
[null,null,{"$f":"VLOOKUP(A1846,'Analyse S'!A:D,3,FALSE)","v":{"$error":"#N/A"}}]
[null,null,{"$f":"VLOOKUP(A1847,'Analyse S'!A:D,3,FALSE)","v":{"$error":"#N/A"}}]
[null,null,{"$f":"VLOOKUP(A1848,'Analyse S'!A:D,3,FALSE)","v":{"$error":"#N/A"}}]
[null,null,{"$f":"VLOOKUP(A1849,'Analyse S'!A:D,3,FALSE)","v":{"$error":"#N/A"}}]
[null,null,{"$f":"VLOOKUP(A1850,'Analyse S'!A:D,3,FALSE)","v":{"$error":"#N/A"}}]
[null,null,{"$f":"VLOOKUP(A1851,'Analyse S'!A:D,3,FALSE)","v":{"$error":"#N/A"}}]
[null,null,{"$f":"VLOOKUP(A1852,'Analyse S'!A:D,3,FALSE)","v":{"$error":"#N/A"}}]
[null,null,{"$f":"VLOOKUP(A1853,'Analyse S'!A:D,3,FALSE)","v":{"$error":"#N/A"}}]
[null,null,{"$f":"VLOOKUP(A1854,'Analyse S'!A:D,3,FALSE)","v":{"$error":"#N/A"}}]
[null,null,{"$f":"VLOOKUP(A1855,'Analyse S'!A:D,3,FALSE)","v":{"$error":"#N/A"}}]
[null,null,{"$f":"VLOOKUP(A1856,'Analyse S'!A:D,3,FALSE)","v":{"$error":"#N/A"}}]
[null,null,{"$f":"VLOOKUP(A1857,'Analyse S'!A:D,3,FALSE)","v":{"$error":"#N/A"}}]
[null,null,{"$f":"VLOOKUP(A1858,'Analyse S'!A:D,3,FALSE)","v":{"$error":"#N/A"}}]
[null,null,{"$f":"VLOOKUP(A1859,'Analyse S'!A:D,3,FALSE)","v":{"$error":"#N/A"}}]
[null,null,{"$f":"VLOOKUP(A1860,'Analyse S'!A:D,3,FALSE)","v":{"$error":"#N/A"}}]
[null,null,{"$f":"VLOOKUP(A1861,'Analyse S'!A:D,3,FALSE)","v":{"$error":"#N/A"}}]
[null,null,{"$f":"VLOOKUP(A1862,'Analyse S'!A:D,3,FALSE)","v":{"$error":"#N/A"}}]
[null,null,{"$f":"VLOOKUP(A1863,'Analyse S'!A:D,3,FALSE)","v":{"$error":"#N/A"}}]
[null,null,{"$f":"VLOOKUP(A1864,'Analyse S'!A:D,3,FALSE)","v":{"$error":"#N/A"}}]
[null,null,{"$f":"VLOOKUP(A1865,'Analyse S'!A:D,3,FALSE)","v":{"$error":"#N/A"}}]
[null,null,{"$f":"VLOOKUP(A1866,'Analyse S'!A:D,3,FALSE)","v":{"$error":"#N/A"}}]
[null,null,{"$f":"VLOOKUP(A1867,'Analyse S'!A:D,3,FALSE)","v":{"$error":"#N/A"}}]
[null,null,{"$f":"VLOOKUP(A1868,'Analyse S'!A:D,3,FALSE)","v":{"$error":"#N/A"}}]
[null,null,{"$f":"VLOOKUP(A1869,'Analyse S'!A:D,3,FALSE)","v":{"$error":"#N/A"}}]
[null,null,{"$f":"VLOOKUP(A1870,'Analyse S'!A:D,3,FALSE)","v":{"$error":"#N/A"}}]
[null,null,{"$f":"VLOOKUP(A1871,'Analyse S'!A:D,3,FALSE)","v":{"$error":"#N/A"}}]
[null,null,{"$f":"VLOOKUP(A1872,'Analyse S'!A:D,3,FALSE)","v":{"$error":"#N/A"}}]
[null,null,{"$f":"VLOOKUP(A1873,'Analyse S'!A:D,3,FALSE)","v":{"$error":"#N/A"}}]
[null,null,{"$f":"VLOOKUP(A1874,'Analyse S'!A:D,3,FALSE)","v":{"$error":"#N/A"}}]
[null,null,{"$f":"VLOOKUP(A1875,'Analyse S'!A:D,3,FALSE)","v":{"$error":"#N/A"}}]
[null,null,{"$f":"VLOOKUP(A1876,'Analyse S'!A:D,3,FALSE)","v":{"$error":"#N/A"}}]
[null,null,{"$f":"VLOOKUP(A1877,'Analyse S'!A:D,3,FALSE)","v":{"$error":"#N/A"}}]
[null,null,{"$f":"VLOOKUP(A1878,'Analyse S'!A:D,3,FALSE)","v":{"$error":"#N/A"}}]
[null,null,{"$f":"VLOOKUP(A1879,'Analyse S'!A:D,3,FALSE)","v":{"$error":"#N/A"}}]
[null,null,{"$f":"VLOOKUP(A1880,'Analyse S'!A:D,3,FALSE)","v":{"$error":"#N/A"}}]
[null,null,{"$f":"VLOOKUP(A1881,'Analyse S'!A:D,3,FALSE)","v":{"$error":"#N/A"}}]
[null,null,{"$f":"VLOOKUP(A1882,'Analyse S'!A:D,3,FALSE)","v":{"$error":"#N/A"}}]
[null,null,{"$f":"VLOOKUP(A1883,'Analyse S'!A:D,3,FALSE)","v":{"$error":"#N/A"}}]
[null,null,{"$f":"VLOOKUP(A1884,'Analyse S'!A:D,3,FALSE)","v":{"$error":"#N/A"}}]
[null,null,{"$f":"VLOOKUP(A1885,'Analyse S'!A:D,3,FALSE)","v":{"$error":"#N/A"}}]
[null,null,{"$f":"VLOOKUP(A1886,'Analyse S'!A:D,3,FALSE)","v":{"$error":"#N/A"}}]
[null,null,{"$f":"VLOOKUP(A1887,'Analyse S'!A:D,3,FALSE)","v":{"$error":"#N/A"}}]
[null,null,{"$f":"VLOOKUP(A1888,'Analyse S'!A:D,3,FALSE)","v":{"$error":"#N/A"}}]
[null,null,{"$f":"VLOOKUP(A1889,'Analyse S'!A:D,3,FALSE)","v":{"$error":"#N/A"}}]
[null,null,{"$f":"VLOOKUP(A1890,'Analyse S'!A:D,3,FALSE)","v":{"$error":"#N/A"}}]
[null,null,{"$f":"VLOOKUP(A1891,'Analyse S'!A:D,3,FALSE)","v":{"$error":"#N/A"}}]
[null,null,{"$f":"VLOOKUP(A1892,'Analyse S'!A:D,3,FALSE)","v":{"$error":"#N/A"}}]
[null,null,{"$f":"VLOOKUP(A1893,'Analyse S'!A:D,3,FALSE)","v":{"$error":"#N/A"}}]
[null,null,{"$f":"VLOOKUP(A1894,'Analyse S'!A:D,3,FALSE)","v":{"$error":"#N/A"}}]
[null,null,{"$f":"VLOOKUP(A1895,'Analyse S'!A:D,3,FALSE)","v":{"$error":"#N/A"}}]
[null,null,{"$f":"VLOOKUP(A1896,'Analyse S'!A:D,3,FALSE)","v":{"$error":"#N/A"}}]
[null,null,{"$f":"VLOOKUP(A1897,'Analyse S'!A:D,3,FALSE)","v":{"$error":"#N/A"}}]
[null,null,{"$f":"VLOOKUP(A1898,'Analyse S'!A:D,3,FALSE)","v":{"$error":"#N/A"}}]
[null,null,{"$f":"VLOOKUP(A1899,'Analyse S'!A:D,3,FALSE)","v":{"$error":"#N/A"}}]
[null,null,{"$f":"VLOOKUP(A1900,'Analyse S'!A:D,3,FALSE)","v":{"$error":"#N/A"}}]
[null,null,{"$f":"VLOOKUP(A1901,'Analyse S'!A:D,3,FALSE)","v":{"$error":"#N/A"}}]
[null,null,{"$f":"VLOOKUP(A1902,'Analyse S'!A:D,3,FALSE)","v":{"$error":"#N/A"}}]
[null,null,{"$f":"VLOOKUP(A1903,'Analyse S'!A:D,3,FALSE)","v":{"$error":"#N/A"}}]
[null,null,{"$f":"VLOOKUP(A1904,'Analyse S'!A:D,3,FALSE)","v":{"$error":"#N/A"}}]
[null,null,{"$f":"VLOOKUP(A1905,'Analyse S'!A:D,3,FALSE)","v":{"$error":"#N/A"}}]
[null,null,{"$f":"VLOOKUP(A1906,'Analyse S'!A:D,3,FALSE)","v":{"$error":"#N/A"}}]
[null,null,{"$f":"VLOOKUP(A1907,'Analyse S'!A:D,3,FALSE)","v":{"$error":"#N/A"}}]
[null,null,{"$f":"VLOOKUP(A1908,'Analyse S'!A:D,3,FALSE)","v":{"$error":"#N/A"}}]
[null,null,{"$f":"VLOOKUP(A1909,'Analyse S'!A:D,3,FALSE)","v":{"$error":"#N/A"}}]
[null,null,{"$f":"VLOOKUP(A1910,'Analyse S'!A:D,3,FALSE)","v":{"$error":"#N/A"}}]
[null,null,{"$f":"VLOOKUP(A1911,'Analyse S'!A:D,3,FALSE)","v":{"$error":"#N/A"}}]
[null,null,{"$f":"VLOOKUP(A1912,'Analyse S'!A:D,3,FALSE)","v":{"$error":"#N/A"}}]
[null,null,{"$f":"VLOOKUP(A1913,'Analyse S'!A:D,3,FALSE)","v":{"$error":"#N/A"}}]
[null,null,{"$f":"VLOOKUP(A1914,'Analyse S'!A:D,3,FALSE)","v":{"$error":"#N/A"}}]
[null,null,{"$f":"VLOOKUP(A1915,'Analyse S'!A:D,3,FALSE)","v":{"$error":"#N/A"}}]
[null,null,{"$f":"VLOOKUP(A1916,'Analyse S'!A:D,3,FALSE)","v":{"$error":"#N/A"}}]
[null,null,{"$f":"VLOOKUP(A1917,'Analyse S'!A:D,3,FALSE)","v":{"$error":"#N/A"}}]
[null,null,{"$f":"VLOOKUP(A1918,'Analyse S'!A:D,3,FALSE)","v":{"$error":"#N/A"}}]
[null,null,{"$f":"VLOOKUP(A1919,'Analyse S'!A:D,3,FALSE)","v":{"$error":"#N/A"}}]
[null,null,{"$f":"VLOOKUP(A1920,'Analyse S'!A:D,3,FALSE)","v":{"$error":"#N/A"}}]
[null,null,{"$f":"VLOOKUP(A1921,'Analyse S'!A:D,3,FALSE)","v":{"$error":"#N/A"}}]
[null,null,{"$f":"VLOOKUP(A1922,'Analyse S'!A:D,3,FALSE)","v":{"$error":"#N/A"}}]
[null,null,{"$f":"VLOOKUP(A1923,'Analyse S'!A:D,3,FALSE)","v":{"$error":"#N/A"}}]
[null,null,{"$f":"VLOOKUP(A1924,'Analyse S'!A:D,3,FALSE)","v":{"$error":"#N/A"}}]
[null,null,{"$f":"VLOOKUP(A1925,'Analyse S'!A:D,3,FALSE)","v":{"$error":"#N/A"}}]
[null,null,{"$f":"VLOOKUP(A1926,'Analyse S'!A:D,3,FALSE)","v":{"$error":"#N/A"}}]
[null,null,{"$f":"VLOOKUP(A1927,'Analyse S'!A:D,3,FALSE)","v":{"$error":"#N/A"}}]
[null,null,{"$f":"VLOOKUP(A1928,'Analyse S'!A:D,3,FALSE)","v":{"$error":"#N/A"}}]
[null,null,{"$f":"VLOOKUP(A1929,'Analyse S'!A:D,3,FALSE)","v":{"$error":"#N/A"}}]
[null,null,{"$f":"VLOOKUP(A1930,'Analyse S'!A:D,3,FALSE)","v":{"$error":"#N/A"}}]
[null,null,{"$f":"VLOOKUP(A1931,'Analyse S'!A:D,3,FALSE)","v":{"$error":"#N/A"}}]
[null,null,{"$f":"VLOOKUP(A1932,'Analyse S'!A:D,3,FALSE)","v":{"$error":"#N/A"}}]
[null,null,{"$f":"VLOOKUP(A1933,'Analyse S'!A:D,3,FALSE)","v":{"$error":"#N/A"}}]
[null,null,{"$f":"VLOOKUP(A1934,'Analyse S'!A:D,3,FALSE)","v":{"$error":"#N/A"}}]
[null,null,{"$f":"VLOOKUP(A1935,'Analyse S'!A:D,3,FALSE)","v":{"$error":"#N/A"}}]
[null,null,{"$f":"VLOOKUP(A1936,'Analyse S'!A:D,3,FALSE)","v":{"$error":"#N/A"}}]
[null,null,{"$f":"VLOOKUP(A1937,'Analyse S'!A:D,3,FALSE)","v":{"$error":"#N/A"}}]
[null,null,{"$f":"VLOOKUP(A1938,'Analyse S'!A:D,3,FALSE)","v":{"$error":"#N/A"}}]
[null,null,{"$f":"VLOOKUP(A1939,'Analyse S'!A:D,3,FALSE)","v":{"$error":"#N/A"}}]
[null,null,{"$f":"VLOOKUP(A1940,'Analyse S'!A:D,3,FALSE)","v":{"$error":"#N/A"}}]
[null,null,{"$f":"VLOOKUP(A1941,'Analyse S'!A:D,3,FALSE)","v":{"$error":"#N/A"}}]
[null,null,{"$f":"VLOOKUP(A1942,'Analyse S'!A:D,3,FALSE)","v":{"$error":"#N/A"}}]
[null,null,{"$f":"VLOOKUP(A1943,'Analyse S'!A:D,3,FALSE)","v":{"$error":"#N/A"}}]
[null,null,{"$f":"VLOOKUP(A1944,'Analyse S'!A:D,3,FALSE)","v":{"$error":"#N/A"}}]
[null,null,{"$f":"VLOOKUP(A1945,'Analyse S'!A:D,3,FALSE)","v":{"$error":"#N/A"}}]
[null,null,{"$f":"VLOOKUP(A1946,'Analyse S'!A:D,3,FALSE)","v":{"$error":"#N/A"}}]
[null,null,{"$f":"VLOOKUP(A1947,'Analyse S'!A:D,3,FALSE)","v":{"$error":"#N/A"}}]
[null,null,{"$f":"VLOOKUP(A1948,'Analyse S'!A:D,3,FALSE)","v":{"$error":"#N/A"}}]
[null,null,{"$f":"VLOOKUP(A1949,'Analyse S'!A:D,3,FALSE)","v":{"$error":"#N/A"}}]
[null,null,{"$f":"VLOOKUP(A1950,'Analyse S'!A:D,3,FALSE)","v":{"$error":"#N/A"}}]
[null,null,{"$f":"VLOOKUP(A1951,'Analyse S'!A:D,3,FALSE)","v":{"$error":"#N/A"}}]
[null,null,{"$f":"VLOOKUP(A1952,'Analyse S'!A:D,3,FALSE)","v":{"$error":"#N/A"}}]
[null,null,{"$f":"VLOOKUP(A1953,'Analyse S'!A:D,3,FALSE)","v":{"$error":"#N/A"}}]
[null,null,{"$f":"VLOOKUP(A1954,'Analyse S'!A:D,3,FALSE)","v":{"$error":"#N/A"}}]
[null,null,{"$f":"VLOOKUP(A1955,'Analyse S'!A:D,3,FALSE)","v":{"$error":"#N/A"}}]
[null,null,{"$f":"VLOOKUP(A1956,'Analyse S'!A:D,3,FALSE)","v":{"$error":"#N/A"}}]
[null,null,{"$f":"VLOOKUP(A1957,'Analyse S'!A:D,3,FALSE)","v":{"$error":"#N/A"}}]
[null,null,{"$f":"VLOOKUP(A1958,'Analyse S'!A:D,3,FALSE)","v":{"$error":"#N/A"}}]
[null,null,{"$f":"VLOOKUP(A1959,'Analyse S'!A:D,3,FALSE)","v":{"$error":"#N/A"}}]
[null,null,{"$f":"VLOOKUP(A1960,'Analyse S'!A:D,3,FALSE)","v":{"$error":"#N/A"}}]
[null,null,{"$f":"VLOOKUP(A1961,'Analyse S'!A:D,3,FALSE)","v":{"$error":"#N/A"}}]
[null,null,{"$f":"VLOOKUP(A1962,'Analyse S'!A:D,3,FALSE)","v":{"$error":"#N/A"}}]
[null,null,{"$f":"VLOOKUP(A1963,'Analyse S'!A:D,3,FALSE)","v":{"$error":"#N/A"}}]
[null,null,{"$f":"VLOOKUP(A1964,'Analyse S'!A:D,3,FALSE)","v":{"$error":"#N/A"}}]
[null,null,{"$f":"VLOOKUP(A1965,'Analyse S'!A:D,3,FALSE)","v":{"$error":"#N/A"}}]
[null,null,{"$f":"VLOOKUP(A1966,'Analyse S'!A:D,3,FALSE)","v":{"$error":"#N/A"}}]
[null,null,{"$f":"VLOOKUP(A1967,'Analyse S'!A:D,3,FALSE)","v":{"$error":"#N/A"}}]
[null,null,{"$f":"VLOOKUP(A1968,'Analyse S'!A:D,3,FALSE)","v":{"$error":"#N/A"}}]
[null,null,{"$f":"VLOOKUP(A1969,'Analyse S'!A:D,3,FALSE)","v":{"$error":"#N/A"}}]
[null,null,{"$f":"VLOOKUP(A1970,'Analyse S'!A:D,3,FALSE)","v":{"$error":"#N/A"}}]
[null,null,{"$f":"VLOOKUP(A1971,'Analyse S'!A:D,3,FALSE)","v":{"$error":"#N/A"}}]
[null,null,{"$f":"VLOOKUP(A1972,'Analyse S'!A:D,3,FALSE)","v":{"$error":"#N/A"}}]
[null,null,{"$f":"VLOOKUP(A1973,'Analyse S'!A:D,3,FALSE)","v":{"$error":"#N/A"}}]
[null,null,{"$f":"VLOOKUP(A1974,'Analyse S'!A:D,3,FALSE)","v":{"$error":"#N/A"}}]
[null,null,{"$f":"VLOOKUP(A1975,'Analyse S'!A:D,3,FALSE)","v":{"$error":"#N/A"}}]
[null,null,{"$f":"VLOOKUP(A1976,'Analyse S'!A:D,3,FALSE)","v":{"$error":"#N/A"}}]
[null,null,{"$f":"VLOOKUP(A1977,'Analyse S'!A:D,3,FALSE)","v":{"$error":"#N/A"}}]
[null,null,{"$f":"VLOOKUP(A1978,'Analyse S'!A:D,3,FALSE)","v":{"$error":"#N/A"}}]
[null,null,{"$f":"VLOOKUP(A1979,'Analyse S'!A:D,3,FALSE)","v":{"$error":"#N/A"}}]
[null,null,{"$f":"VLOOKUP(A1980,'Analyse S'!A:D,3,FALSE)","v":{"$error":"#N/A"}}]
[null,null,{"$f":"VLOOKUP(A1981,'Analyse S'!A:D,3,FALSE)","v":{"$error":"#N/A"}}]
[null,null,{"$f":"VLOOKUP(A1982,'Analyse S'!A:D,3,FALSE)","v":{"$error":"#N/A"}}]
[null,null,{"$f":"VLOOKUP(A1983,'Analyse S'!A:D,3,FALSE)","v":{"$error":"#N/A"}}]
[null,null,{"$f":"VLOOKUP(A1984,'Analyse S'!A:D,3,FALSE)","v":{"$error":"#N/A"}}]
[null,null,{"$f":"VLOOKUP(A1985,'Analyse S'!A:D,3,FALSE)","v":{"$error":"#N/A"}}]
[null,null,{"$f":"VLOOKUP(A1986,'Analyse S'!A:D,3,FALSE)","v":{"$error":"#N/A"}}]
[null,null,{"$f":"VLOOKUP(A1987,'Analyse S'!A:D,3,FALSE)","v":{"$error":"#N/A"}}]
[null,null,{"$f":"VLOOKUP(A1988,'Analyse S'!A:D,3,FALSE)","v":{"$error":"#N/A"}}]
[null,null,{"$f":"VLOOKUP(A1989,'Analyse S'!A:D,3,FALSE)","v":{"$error":"#N/A"}}]
[null,null,{"$f":"VLOOKUP(A1990,'Analyse S'!A:D,3,FALSE)","v":{"$error":"#N/A"}}]
[null,null,{"$f":"VLOOKUP(A1991,'Analyse S'!A:D,3,FALSE)","v":{"$error":"#N/A"}}]
[null,null,{"$f":"VLOOKUP(A1992,'Analyse S'!A:D,3,FALSE)","v":{"$error":"#N/A"}}]
[null,null,{"$f":"VLOOKUP(A1993,'Analyse S'!A:D,3,FALSE)","v":{"$error":"#N/A"}}]
[null,null,{"$f":"VLOOKUP(A1994,'Analyse S'!A:D,3,FALSE)","v":{"$error":"#N/A"}}]
[null,null,{"$f":"VLOOKUP(A1995,'Analyse S'!A:D,3,FALSE)","v":{"$error":"#N/A"}}]
[null,null,{"$f":"VLOOKUP(A1996,'Analyse S'!A:D,3,FALSE)","v":{"$error":"#N/A"}}]
[null,null,{"$f":"VLOOKUP(A1997,'Analyse S'!A:D,3,FALSE)","v":{"$error":"#N/A"}}]
[null,null,{"$f":"VLOOKUP(A1998,'Analyse S'!A:D,3,FALSE)","v":{"$error":"#N/A"}}]
[null,null,{"$f":"VLOOKUP(A1999,'Analyse S'!A:D,3,FALSE)","v":{"$error":"#N/A"}}]
[null,null,{"$f":"VLOOKUP(A2000,'Analyse S'!A:D,3,FALSE)","v":{"$error":"#N/A"}}]
[null,null,{"$f":"VLOOKUP(A2001,'Analyse S'!A:D,3,FALSE)","v":{"$error":"#N/A"}}]
[null,null,{"$f":"VLOOKUP(A2002,'Analyse S'!A:D,3,FALSE)","v":{"$error":"#N/A"}}]
[null,null,{"$f":"VLOOKUP(A2003,'Analyse S'!A:D,3,FALSE)","v":{"$error":"#N/A"}}]
[null,null,{"$f":"VLOOKUP(A2004,'Analyse S'!A:D,3,FALSE)","v":{"$error":"#N/A"}}]
[null,null,{"$f":"VLOOKUP(A2005,'Analyse S'!A:D,3,FALSE)","v":{"$error":"#N/A"}}]
[null,null,{"$f":"VLOOKUP(A2006,'Analyse S'!A:D,3,FALSE)","v":{"$error":"#N/A"}}]
[null,null,{"$f":"VLOOKUP(A2007,'Analyse S'!A:D,3,FALSE)","v":{"$error":"#N/A"}}]
[null,null,{"$f":"VLOOKUP(A2008,'Analyse S'!A:D,3,FALSE)","v":{"$error":"#N/A"}}]
[null,null,{"$f":"VLOOKUP(A2009,'Analyse S'!A:D,3,FALSE)","v":{"$error":"#N/A"}}]
[null,null,{"$f":"VLOOKUP(A2010,'Analyse S'!A:D,3,FALSE)","v":{"$error":"#N/A"}}]
[null,null,{"$f":"VLOOKUP(A2011,'Analyse S'!A:D,3,FALSE)","v":{"$error":"#N/A"}}]
[null,null,{"$f":"VLOOKUP(A2012,'Analyse S'!A:D,3,FALSE)","v":{"$error":"#N/A"}}]
[null,null,{"$f":"VLOOKUP(A2013,'Analyse S'!A:D,3,FALSE)","v":{"$error":"#N/A"}}]
[null,null,{"$f":"VLOOKUP(A2014,'Analyse S'!A:D,3,FALSE)","v":{"$error":"#N/A"}}]
[null,null,{"$f":"VLOOKUP(A2015,'Analyse S'!A:D,3,FALSE)","v":{"$error":"#N/A"}}]
[null,null,{"$f":"VLOOKUP(A2016,'Analyse S'!A:D,3,FALSE)","v":{"$error":"#N/A"}}]
[null,null,{"$f":"VLOOKUP(A2017,'Analyse S'!A:D,3,FALSE)","v":{"$error":"#N/A"}}]
[null,null,{"$f":"VLOOKUP(A2018,'Analyse S'!A:D,3,FALSE)","v":{"$error":"#N/A"}}]
[null,null,{"$f":"VLOOKUP(A2019,'Analyse S'!A:D,3,FALSE)","v":{"$error":"#N/A"}}]
[null,null,{"$f":"VLOOKUP(A2020,'Analyse S'!A:D,3,FALSE)","v":{"$error":"#N/A"}}]
[null,null,{"$f":"VLOOKUP(A2021,'Analyse S'!A:D,3,FALSE)","v":{"$error":"#N/A"}}]
[null,null,{"$f":"VLOOKUP(A2022,'Analyse S'!A:D,3,FALSE)","v":{"$error":"#N/A"}}]
[null,null,{"$f":"VLOOKUP(A2023,'Analyse S'!A:D,3,FALSE)","v":{"$error":"#N/A"}}]
[null,null,{"$f":"VLOOKUP(A2024,'Analyse S'!A:D,3,FALSE)","v":{"$error":"#N/A"}}]
[null,null,{"$f":"VLOOKUP(A2025,'Analyse S'!A:D,3,FALSE)","v":{"$error":"#N/A"}}]
[null,null,{"$f":"VLOOKUP(A2026,'Analyse S'!A:D,3,FALSE)","v":{"$error":"#N/A"}}]
[null,null,{"$f":"VLOOKUP(A2027,'Analyse S'!A:D,3,FALSE)","v":{"$error":"#N/A"}}]
[null,null,{"$f":"VLOOKUP(A2028,'Analyse S'!A:D,3,FALSE)","v":{"$error":"#N/A"}}]
[null,null,{"$f":"VLOOKUP(A2029,'Analyse S'!A:D,3,FALSE)","v":{"$error":"#N/A"}}]
[null,null,{"$f":"VLOOKUP(A2030,'Analyse S'!A:D,3,FALSE)","v":{"$error":"#N/A"}}]
[null,null,{"$f":"VLOOKUP(A2031,'Analyse S'!A:D,3,FALSE)","v":{"$error":"#N/A"}}]
[null,null,{"$f":"VLOOKUP(A2032,'Analyse S'!A:D,3,FALSE)","v":{"$error":"#N/A"}}]
[null,null,{"$f":"VLOOKUP(A2033,'Analyse S'!A:D,3,FALSE)","v":{"$error":"#N/A"}}]
[null,null,{"$f":"VLOOKUP(A2034,'Analyse S'!A:D,3,FALSE)","v":{"$error":"#N/A"}}]
[null,null,{"$f":"VLOOKUP(A2035,'Analyse S'!A:D,3,FALSE)","v":{"$error":"#N/A"}}]
[null,null,{"$f":"VLOOKUP(A2036,'Analyse S'!A:D,3,FALSE)","v":{"$error":"#N/A"}}]
[null,null,{"$f":"VLOOKUP(A2037,'Analyse S'!A:D,3,FALSE)","v":{"$error":"#N/A"}}]
[null,null,{"$f":"VLOOKUP(A2038,'Analyse S'!A:D,3,FALSE)","v":{"$error":"#N/A"}}]
[null,null,{"$f":"VLOOKUP(A2039,'Analyse S'!A:D,3,FALSE)","v":{"$error":"#N/A"}}]
[null,null,{"$f":"VLOOKUP(A2040,'Analyse S'!A:D,3,FALSE)","v":{"$error":"#N/A"}}]
[null,null,{"$f":"VLOOKUP(A2041,'Analyse S'!A:D,3,FALSE)","v":{"$error":"#N/A"}}]
[null,null,{"$f":"VLOOKUP(A2042,'Analyse S'!A:D,3,FALSE)","v":{"$error":"#N/A"}}]
[null,null,{"$f":"VLOOKUP(A2043,'Analyse S'!A:D,3,FALSE)","v":{"$error":"#N/A"}}]
[null,null,{"$f":"VLOOKUP(A2044,'Analyse S'!A:D,3,FALSE)","v":{"$error":"#N/A"}}]
[null,null,{"$f":"VLOOKUP(A2045,'Analyse S'!A:D,3,FALSE)","v":{"$error":"#N/A"}}]
[null,null,{"$f":"VLOOKUP(A2046,'Analyse S'!A:D,3,FALSE)","v":{"$error":"#N/A"}}]
[null,null,{"$f":"VLOOKUP(A2047,'Analyse S'!A:D,3,FALSE)","v":{"$error":"#N/A"}}]
[null,null,{"$f":"VLOOKUP(A2048,'Analyse S'!A:D,3,FALSE)","v":{"$error":"#N/A"}}]
[null,null,{"$f":"VLOOKUP(A2049,'Analyse S'!A:D,3,FALSE)","v":{"$error":"#N/A"}}]
[null,null,{"$f":"VLOOKUP(A2050,'Analyse S'!A:D,3,FALSE)","v":{"$error":"#N/A"}}]
[null,null,{"$f":"VLOOKUP(A2051,'Analyse S'!A:D,3,FALSE)","v":{"$error":"#N/A"}}]
[null,null,{"$f":"VLOOKUP(A2052,'Analyse S'!A:D,3,FALSE)","v":{"$error":"#N/A"}}]
[null,null,{"$f":"VLOOKUP(A2053,'Analyse S'!A:D,3,FALSE)","v":{"$error":"#N/A"}}]
[null,null,{"$f":"VLOOKUP(A2054,'Analyse S'!A:D,3,FALSE)","v":{"$error":"#N/A"}}]
[null,null,{"$f":"VLOOKUP(A2055,'Analyse S'!A:D,3,FALSE)","v":{"$error":"#N/A"}}]
[null,null,{"$f":"VLOOKUP(A2056,'Analyse S'!A:D,3,FALSE)","v":{"$error":"#N/A"}}]
[null,null,{"$f":"VLOOKUP(A2057,'Analyse S'!A:D,3,FALSE)","v":{"$error":"#N/A"}}]
[null,null,{"$f":"VLOOKUP(A2058,'Analyse S'!A:D,3,FALSE)","v":{"$error":"#N/A"}}]
[null,null,{"$f":"VLOOKUP(A2059,'Analyse S'!A:D,3,FALSE)","v":{"$error":"#N/A"}}]
[null,null,{"$f":"VLOOKUP(A2060,'Analyse S'!A:D,3,FALSE)","v":{"$error":"#N/A"}}]
[null,null,{"$f":"VLOOKUP(A2061,'Analyse S'!A:D,3,FALSE)","v":{"$error":"#N/A"}}]
[null,null,{"$f":"VLOOKUP(A2062,'Analyse S'!A:D,3,FALSE)","v":{"$error":"#N/A"}}]
[null,null,{"$f":"VLOOKUP(A2063,'Analyse S'!A:D,3,FALSE)","v":{"$error":"#N/A"}}]
[null,null,{"$f":"VLOOKUP(A2064,'Analyse S'!A:D,3,FALSE)","v":{"$error":"#N/A"}}]
[null,null,{"$f":"VLOOKUP(A2065,'Analyse S'!A:D,3,FALSE)","v":{"$error":"#N/A"}}]
[null,null,{"$f":"VLOOKUP(A2066,'Analyse S'!A:D,3,FALSE)","v":{"$error":"#N/A"}}]
[null,null,{"$f":"VLOOKUP(A2067,'Analyse S'!A:D,3,FALSE)","v":{"$error":"#N/A"}}]
[null,null,{"$f":"VLOOKUP(A2068,'Analyse S'!A:D,3,FALSE)","v":{"$error":"#N/A"}}]
[null,null,{"$f":"VLOOKUP(A2069,'Analyse S'!A:D,3,FALSE)","v":{"$error":"#N/A"}}]
[null,null,{"$f":"VLOOKUP(A2070,'Analyse S'!A:D,3,FALSE)","v":{"$error":"#N/A"}}]
[null,null,{"$f":"VLOOKUP(A2071,'Analyse S'!A:D,3,FALSE)","v":{"$error":"#N/A"}}]
[null,null,{"$f":"VLOOKUP(A2072,'Analyse S'!A:D,3,FALSE)","v":{"$error":"#N/A"}}]
[null,null,{"$f":"VLOOKUP(A2073,'Analyse S'!A:D,3,FALSE)","v":{"$error":"#N/A"}}]
[null,null,{"$f":"VLOOKUP(A2074,'Analyse S'!A:D,3,FALSE)","v":{"$error":"#N/A"}}]
[null,null,{"$f":"VLOOKUP(A2075,'Analyse S'!A:D,3,FALSE)","v":{"$error":"#N/A"}}]
[null,null,{"$f":"VLOOKUP(A2076,'Analyse S'!A:D,3,FALSE)","v":{"$error":"#N/A"}}]
[null,null,{"$f":"VLOOKUP(A2077,'Analyse S'!A:D,3,FALSE)","v":{"$error":"#N/A"}}]
[null,null,{"$f":"VLOOKUP(A2078,'Analyse S'!A:D,3,FALSE)","v":{"$error":"#N/A"}}]
[null,null,{"$f":"VLOOKUP(A2079,'Analyse S'!A:D,3,FALSE)","v":{"$error":"#N/A"}}]
[null,null,{"$f":"VLOOKUP(A2080,'Analyse S'!A:D,3,FALSE)","v":{"$error":"#N/A"}}]
[null,null,{"$f":"VLOOKUP(A2081,'Analyse S'!A:D,3,FALSE)","v":{"$error":"#N/A"}}]
[null,null,{"$f":"VLOOKUP(A2082,'Analyse S'!A:D,3,FALSE)","v":{"$error":"#N/A"}}]
[null,null,{"$f":"VLOOKUP(A2083,'Analyse S'!A:D,3,FALSE)","v":{"$error":"#N/A"}}]
[null,null,{"$f":"VLOOKUP(A2084,'Analyse S'!A:D,3,FALSE)","v":{"$error":"#N/A"}}]
[null,null,{"$f":"VLOOKUP(A2085,'Analyse S'!A:D,3,FALSE)","v":{"$error":"#N/A"}}]
[null,null,{"$f":"VLOOKUP(A2086,'Analyse S'!A:D,3,FALSE)","v":{"$error":"#N/A"}}]
[null,null,{"$f":"VLOOKUP(A2087,'Analyse S'!A:D,3,FALSE)","v":{"$error":"#N/A"}}]
[null,null,{"$f":"VLOOKUP(A2088,'Analyse S'!A:D,3,FALSE)","v":{"$error":"#N/A"}}]
[null,null,{"$f":"VLOOKUP(A2089,'Analyse S'!A:D,3,FALSE)","v":{"$error":"#N/A"}}]
[null,null,{"$f":"VLOOKUP(A2090,'Analyse S'!A:D,3,FALSE)","v":{"$error":"#N/A"}}]
[null,null,{"$f":"VLOOKUP(A2091,'Analyse S'!A:D,3,FALSE)","v":{"$error":"#N/A"}}]
[null,null,{"$f":"VLOOKUP(A2092,'Analyse S'!A:D,3,FALSE)","v":{"$error":"#N/A"}}]
[null,null,{"$f":"VLOOKUP(A2093,'Analyse S'!A:D,3,FALSE)","v":{"$error":"#N/A"}}]
[null,null,{"$f":"VLOOKUP(A2094,'Analyse S'!A:D,3,FALSE)","v":{"$error":"#N/A"}}]
[null,null,{"$f":"VLOOKUP(A2095,'Analyse S'!A:D,3,FALSE)","v":{"$error":"#N/A"}}]
[null,null,{"$f":"VLOOKUP(A2096,'Analyse S'!A:D,3,FALSE)","v":{"$error":"#N/A"}}]
[null,null,{"$f":"VLOOKUP(A2097,'Analyse S'!A:D,3,FALSE)","v":{"$error":"#N/A"}}]
[null,null,{"$f":"VLOOKUP(A2098,'Analyse S'!A:D,3,FALSE)","v":{"$error":"#N/A"}}]
[null,null,{"$f":"VLOOKUP(A2099,'Analyse S'!A:D,3,FALSE)","v":{"$error":"#N/A"}}]
[null,null,{"$f":"VLOOKUP(A2100,'Analyse S'!A:D,3,FALSE)","v":{"$error":"#N/A"}}]
[null,null,{"$f":"VLOOKUP(A2101,'Analyse S'!A:D,3,FALSE)","v":{"$error":"#N/A"}}]
[null,null,{"$f":"VLOOKUP(A2102,'Analyse S'!A:D,3,FALSE)","v":{"$error":"#N/A"}}]
[null,null,{"$f":"VLOOKUP(A2103,'Analyse S'!A:D,3,FALSE)","v":{"$error":"#N/A"}}]
[null,null,{"$f":"VLOOKUP(A2104,'Analyse S'!A:D,3,FALSE)","v":{"$error":"#N/A"}}]
[null,null,{"$f":"VLOOKUP(A2105,'Analyse S'!A:D,3,FALSE)","v":{"$error":"#N/A"}}]
[null,null,{"$f":"VLOOKUP(A2106,'Analyse S'!A:D,3,FALSE)","v":{"$error":"#N/A"}}]
[null,null,{"$f":"VLOOKUP(A2107,'Analyse S'!A:D,3,FALSE)","v":{"$error":"#N/A"}}]
[null,null,{"$f":"VLOOKUP(A2108,'Analyse S'!A:D,3,FALSE)","v":{"$error":"#N/A"}}]
[null,null,{"$f":"VLOOKUP(A2109,'Analyse S'!A:D,3,FALSE)","v":{"$error":"#N/A"}}]
[null,null,{"$f":"VLOOKUP(A2110,'Analyse S'!A:D,3,FALSE)","v":{"$error":"#N/A"}}]
[null,null,{"$f":"VLOOKUP(A2111,'Analyse S'!A:D,3,FALSE)","v":{"$error":"#N/A"}}]
[null,null,{"$f":"VLOOKUP(A2112,'Analyse S'!A:D,3,FALSE)","v":{"$error":"#N/A"}}]
[null,null,{"$f":"VLOOKUP(A2113,'Analyse S'!A:D,3,FALSE)","v":{"$error":"#N/A"}}]
[null,null,{"$f":"VLOOKUP(A2114,'Analyse S'!A:D,3,FALSE)","v":{"$error":"#N/A"}}]
[null,null,{"$f":"VLOOKUP(A2115,'Analyse S'!A:D,3,FALSE)","v":{"$error":"#N/A"}}]
[null,null,{"$f":"VLOOKUP(A2116,'Analyse S'!A:D,3,FALSE)","v":{"$error":"#N/A"}}]
[null,null,{"$f":"VLOOKUP(A2117,'Analyse S'!A:D,3,FALSE)","v":{"$error":"#N/A"}}]
[null,null,{"$f":"VLOOKUP(A2118,'Analyse S'!A:D,3,FALSE)","v":{"$error":"#N/A"}}]
[null,null,{"$f":"VLOOKUP(A2119,'Analyse S'!A:D,3,FALSE)","v":{"$error":"#N/A"}}]
[null,null,{"$f":"VLOOKUP(A2120,'Analyse S'!A:D,3,FALSE)","v":{"$error":"#N/A"}}]
[null,null,{"$f":"VLOOKUP(A2121,'Analyse S'!A:D,3,FALSE)","v":{"$error":"#N/A"}}]
[null,null,{"$f":"VLOOKUP(A2122,'Analyse S'!A:D,3,FALSE)","v":{"$error":"#N/A"}}]
[null,null,{"$f":"VLOOKUP(A2123,'Analyse S'!A:D,3,FALSE)","v":{"$error":"#N/A"}}]
[null,null,{"$f":"VLOOKUP(A2124,'Analyse S'!A:D,3,FALSE)","v":{"$error":"#N/A"}}]
[null,null,{"$f":"VLOOKUP(A2125,'Analyse S'!A:D,3,FALSE)","v":{"$error":"#N/A"}}]
[null,null,{"$f":"VLOOKUP(A2126,'Analyse S'!A:D,3,FALSE)","v":{"$error":"#N/A"}}]
[null,null,{"$f":"VLOOKUP(A2127,'Analyse S'!A:D,3,FALSE)","v":{"$error":"#N/A"}}]
[null,null,{"$f":"VLOOKUP(A2128,'Analyse S'!A:D,3,FALSE)","v":{"$error":"#N/A"}}]
[null,null,{"$f":"VLOOKUP(A2129,'Analyse S'!A:D,3,FALSE)","v":{"$error":"#N/A"}}]
[null,null,{"$f":"VLOOKUP(A2130,'Analyse S'!A:D,3,FALSE)","v":{"$error":"#N/A"}}]
[null,null,{"$f":"VLOOKUP(A2131,'Analyse S'!A:D,3,FALSE)","v":{"$error":"#N/A"}}]
[null,null,{"$f":"VLOOKUP(A2132,'Analyse S'!A:D,3,FALSE)","v":{"$error":"#N/A"}}]
[null,null,{"$f":"VLOOKUP(A2133,'Analyse S'!A:D,3,FALSE)","v":{"$error":"#N/A"}}]
[null,null,{"$f":"VLOOKUP(A2134,'Analyse S'!A:D,3,FALSE)","v":{"$error":"#N/A"}}]
[null,null,{"$f":"VLOOKUP(A2135,'Analyse S'!A:D,3,FALSE)","v":{"$error":"#N/A"}}]
[null,null,{"$f":"VLOOKUP(A2136,'Analyse S'!A:D,3,FALSE)","v":{"$error":"#N/A"}}]
[null,null,{"$f":"VLOOKUP(A2137,'Analyse S'!A:D,3,FALSE)","v":{"$error":"#N/A"}}]
[null,null,{"$f":"VLOOKUP(A2138,'Analyse S'!A:D,3,FALSE)","v":{"$error":"#N/A"}}]
[null,null,{"$f":"VLOOKUP(A2139,'Analyse S'!A:D,3,FALSE)","v":{"$error":"#N/A"}}]
[null,null,{"$f":"VLOOKUP(A2140,'Analyse S'!A:D,3,FALSE)","v":{"$error":"#N/A"}}]
[null,null,{"$f":"VLOOKUP(A2141,'Analyse S'!A:D,3,FALSE)","v":{"$error":"#N/A"}}]
[null,null,{"$f":"VLOOKUP(A2142,'Analyse S'!A:D,3,FALSE)","v":{"$error":"#N/A"}}]
[null,null,{"$f":"VLOOKUP(A2143,'Analyse S'!A:D,3,FALSE)","v":{"$error":"#N/A"}}]
[null,null,{"$f":"VLOOKUP(A2144,'Analyse S'!A:D,3,FALSE)","v":{"$error":"#N/A"}}]
[null,null,{"$f":"VLOOKUP(A2145,'Analyse S'!A:D,3,FALSE)","v":{"$error":"#N/A"}}]
[null,null,{"$f":"VLOOKUP(A2146,'Analyse S'!A:D,3,FALSE)","v":{"$error":"#N/A"}}]
[null,null,{"$f":"VLOOKUP(A2147,'Analyse S'!A:D,3,FALSE)","v":{"$error":"#N/A"}}]
[null,null,{"$f":"VLOOKUP(A2148,'Analyse S'!A:D,3,FALSE)","v":{"$error":"#N/A"}}]
[null,null,{"$f":"VLOOKUP(A2149,'Analyse S'!A:D,3,FALSE)","v":{"$error":"#N/A"}}]
[null,null,{"$f":"VLOOKUP(A2150,'Analyse S'!A:D,3,FALSE)","v":{"$error":"#N/A"}}]
[null,null,{"$f":"VLOOKUP(A2151,'Analyse S'!A:D,3,FALSE)","v":{"$error":"#N/A"}}]
[null,null,{"$f":"VLOOKUP(A2152,'Analyse S'!A:D,3,FALSE)","v":{"$error":"#N/A"}}]
[null,null,{"$f":"VLOOKUP(A2153,'Analyse S'!A:D,3,FALSE)","v":{"$error":"#N/A"}}]
[null,null,{"$f":"VLOOKUP(A2154,'Analyse S'!A:D,3,FALSE)","v":{"$error":"#N/A"}}]
[null,null,{"$f":"VLOOKUP(A2155,'Analyse S'!A:D,3,FALSE)","v":{"$error":"#N/A"}}]
[null,null,{"$f":"VLOOKUP(A2156,'Analyse S'!A:D,3,FALSE)","v":{"$error":"#N/A"}}]
[null,null,{"$f":"VLOOKUP(A2157,'Analyse S'!A:D,3,FALSE)","v":{"$error":"#N/A"}}]
[null,null,{"$f":"VLOOKUP(A2158,'Analyse S'!A:D,3,FALSE)","v":{"$error":"#N/A"}}]
[null,null,{"$f":"VLOOKUP(A2159,'Analyse S'!A:D,3,FALSE)","v":{"$error":"#N/A"}}]
[null,null,{"$f":"VLOOKUP(A2160,'Analyse S'!A:D,3,FALSE)","v":{"$error":"#N/A"}}]
[null,null,{"$f":"VLOOKUP(A2161,'Analyse S'!A:D,3,FALSE)","v":{"$error":"#N/A"}}]
[null,null,{"$f":"VLOOKUP(A2162,'Analyse S'!A:D,3,FALSE)","v":{"$error":"#N/A"}}]
[null,null,{"$f":"VLOOKUP(A2163,'Analyse S'!A:D,3,FALSE)","v":{"$error":"#N/A"}}]
[null,null,{"$f":"VLOOKUP(A2164,'Analyse S'!A:D,3,FALSE)","v":{"$error":"#N/A"}}]
[null,null,{"$f":"VLOOKUP(A2165,'Analyse S'!A:D,3,FALSE)","v":{"$error":"#N/A"}}]
[null,null,{"$f":"VLOOKUP(A2166,'Analyse S'!A:D,3,FALSE)","v":{"$error":"#N/A"}}]
[null,null,{"$f":"VLOOKUP(A2167,'Analyse S'!A:D,3,FALSE)","v":{"$error":"#N/A"}}]
[null,null,{"$f":"VLOOKUP(A2168,'Analyse S'!A:D,3,FALSE)","v":{"$error":"#N/A"}}]
[null,null,{"$f":"VLOOKUP(A2169,'Analyse S'!A:D,3,FALSE)","v":{"$error":"#N/A"}}]
[null,null,{"$f":"VLOOKUP(A2170,'Analyse S'!A:D,3,FALSE)","v":{"$error":"#N/A"}}]
[null,null,{"$f":"VLOOKUP(A2171,'Analyse S'!A:D,3,FALSE)","v":{"$error":"#N/A"}}]
[null,null,{"$f":"VLOOKUP(A2172,'Analyse S'!A:D,3,FALSE)","v":{"$error":"#N/A"}}]
[null,null,{"$f":"VLOOKUP(A2173,'Analyse S'!A:D,3,FALSE)","v":{"$error":"#N/A"}}]
[null,null,{"$f":"VLOOKUP(A2174,'Analyse S'!A:D,3,FALSE)","v":{"$error":"#N/A"}}]
[null,null,{"$f":"VLOOKUP(A2175,'Analyse S'!A:D,3,FALSE)","v":{"$error":"#N/A"}}]
[null,null,{"$f":"VLOOKUP(A2176,'Analyse S'!A:D,3,FALSE)","v":{"$error":"#N/A"}}]
[null,null,{"$f":"VLOOKUP(A2177,'Analyse S'!A:D,3,FALSE)","v":{"$error":"#N/A"}}]
[null,null,{"$f":"VLOOKUP(A2178,'Analyse S'!A:D,3,FALSE)","v":{"$error":"#N/A"}}]
[null,null,{"$f":"VLOOKUP(A2179,'Analyse S'!A:D,3,FALSE)","v":{"$error":"#N/A"}}]
[null,null,{"$f":"VLOOKUP(A2180,'Analyse S'!A:D,3,FALSE)","v":{"$error":"#N/A"}}]
[null,null,{"$f":"VLOOKUP(A2181,'Analyse S'!A:D,3,FALSE)","v":{"$error":"#N/A"}}]
[null,null,{"$f":"VLOOKUP(A2182,'Analyse S'!A:D,3,FALSE)","v":{"$error":"#N/A"}}]
[null,null,{"$f":"VLOOKUP(A2183,'Analyse S'!A:D,3,FALSE)","v":{"$error":"#N/A"}}]
[null,null,{"$f":"VLOOKUP(A2184,'Analyse S'!A:D,3,FALSE)","v":{"$error":"#N/A"}}]
[null,null,{"$f":"VLOOKUP(A2185,'Analyse S'!A:D,3,FALSE)","v":{"$error":"#N/A"}}]
[null,null,{"$f":"VLOOKUP(A2186,'Analyse S'!A:D,3,FALSE)","v":{"$error":"#N/A"}}]
[null,null,{"$f":"VLOOKUP(A2187,'Analyse S'!A:D,3,FALSE)","v":{"$error":"#N/A"}}]
[null,null,{"$f":"VLOOKUP(A2188,'Analyse S'!A:D,3,FALSE)","v":{"$error":"#N/A"}}]
[null,null,{"$f":"VLOOKUP(A2189,'Analyse S'!A:D,3,FALSE)","v":{"$error":"#N/A"}}]
[null,null,{"$f":"VLOOKUP(A2190,'Analyse S'!A:D,3,FALSE)","v":{"$error":"#N/A"}}]
[null,null,{"$f":"VLOOKUP(A2191,'Analyse S'!A:D,3,FALSE)","v":{"$error":"#N/A"}}]
[null,null,{"$f":"VLOOKUP(A2192,'Analyse S'!A:D,3,FALSE)","v":{"$error":"#N/A"}}]
[null,null,{"$f":"VLOOKUP(A2193,'Analyse S'!A:D,3,FALSE)","v":{"$error":"#N/A"}}]
[null,null,{"$f":"VLOOKUP(A2194,'Analyse S'!A:D,3,FALSE)","v":{"$error":"#N/A"}}]
[null,null,{"$f":"VLOOKUP(A2195,'Analyse S'!A:D,3,FALSE)","v":{"$error":"#N/A"}}]
[null,null,{"$f":"VLOOKUP(A2196,'Analyse S'!A:D,3,FALSE)","v":{"$error":"#N/A"}}]
[null,null,{"$f":"VLOOKUP(A2197,'Analyse S'!A:D,3,FALSE)","v":{"$error":"#N/A"}}]
[null,null,{"$f":"VLOOKUP(A2198,'Analyse S'!A:D,3,FALSE)","v":{"$error":"#N/A"}}]
[null,null,{"$f":"VLOOKUP(A2199,'Analyse S'!A:D,3,FALSE)","v":{"$error":"#N/A"}}]
[null,null,{"$f":"VLOOKUP(A2200,'Analyse S'!A:D,3,FALSE)","v":{"$error":"#N/A"}}]
[null,null,{"$f":"VLOOKUP(A2201,'Analyse S'!A:D,3,FALSE)","v":{"$error":"#N/A"}}]
[null,null,{"$f":"VLOOKUP(A2202,'Analyse S'!A:D,3,FALSE)","v":{"$error":"#N/A"}}]
[null,null,{"$f":"VLOOKUP(A2203,'Analyse S'!A:D,3,FALSE)","v":{"$error":"#N/A"}}]
[null,null,{"$f":"VLOOKUP(A2204,'Analyse S'!A:D,3,FALSE)","v":{"$error":"#N/A"}}]
[null,null,{"$f":"VLOOKUP(A2205,'Analyse S'!A:D,3,FALSE)","v":{"$error":"#N/A"}}]
[null,null,{"$f":"VLOOKUP(A2206,'Analyse S'!A:D,3,FALSE)","v":{"$error":"#N/A"}}]
[null,null,{"$f":"VLOOKUP(A2207,'Analyse S'!A:D,3,FALSE)","v":{"$error":"#N/A"}}]
[null,null,{"$f":"VLOOKUP(A2208,'Analyse S'!A:D,3,FALSE)","v":{"$error":"#N/A"}}]
[null,null,{"$f":"VLOOKUP(A2209,'Analyse S'!A:D,3,FALSE)","v":{"$error":"#N/A"}}]
[null,null,{"$f":"VLOOKUP(A2210,'Analyse S'!A:D,3,FALSE)","v":{"$error":"#N/A"}}]
[null,null,{"$f":"VLOOKUP(A2211,'Analyse S'!A:D,3,FALSE)","v":{"$error":"#N/A"}}]
[null,null,{"$f":"VLOOKUP(A2212,'Analyse S'!A:D,3,FALSE)","v":{"$error":"#N/A"}}]
[null,null,{"$f":"VLOOKUP(A2213,'Analyse S'!A:D,3,FALSE)","v":{"$error":"#N/A"}}]
[null,null,{"$f":"VLOOKUP(A2214,'Analyse S'!A:D,3,FALSE)","v":{"$error":"#N/A"}}]
[null,null,{"$f":"VLOOKUP(A2215,'Analyse S'!A:D,3,FALSE)","v":{"$error":"#N/A"}}]
[null,null,{"$f":"VLOOKUP(A2216,'Analyse S'!A:D,3,FALSE)","v":{"$error":"#N/A"}}]
[null,null,{"$f":"VLOOKUP(A2217,'Analyse S'!A:D,3,FALSE)","v":{"$error":"#N/A"}}]
[null,null,{"$f":"VLOOKUP(A2218,'Analyse S'!A:D,3,FALSE)","v":{"$error":"#N/A"}}]
[null,null,{"$f":"VLOOKUP(A2219,'Analyse S'!A:D,3,FALSE)","v":{"$error":"#N/A"}}]
[null,null,{"$f":"VLOOKUP(A2220,'Analyse S'!A:D,3,FALSE)","v":{"$error":"#N/A"}}]
[null,null,{"$f":"VLOOKUP(A2221,'Analyse S'!A:D,3,FALSE)","v":{"$error":"#N/A"}}]
[null,null,{"$f":"VLOOKUP(A2222,'Analyse S'!A:D,3,FALSE)","v":{"$error":"#N/A"}}]
[null,null,{"$f":"VLOOKUP(A2223,'Analyse S'!A:D,3,FALSE)","v":{"$error":"#N/A"}}]
[null,null,{"$f":"VLOOKUP(A2224,'Analyse S'!A:D,3,FALSE)","v":{"$error":"#N/A"}}]
[null,null,{"$f":"VLOOKUP(A2225,'Analyse S'!A:D,3,FALSE)","v":{"$error":"#N/A"}}]
[null,null,{"$f":"VLOOKUP(A2226,'Analyse S'!A:D,3,FALSE)","v":{"$error":"#N/A"}}]
[null,null,{"$f":"VLOOKUP(A2227,'Analyse S'!A:D,3,FALSE)","v":{"$error":"#N/A"}}]
[null,null,{"$f":"VLOOKUP(A2228,'Analyse S'!A:D,3,FALSE)","v":{"$error":"#N/A"}}]
[null,null,{"$f":"VLOOKUP(A2229,'Analyse S'!A:D,3,FALSE)","v":{"$error":"#N/A"}}]
[null,null,{"$f":"VLOOKUP(A2230,'Analyse S'!A:D,3,FALSE)","v":{"$error":"#N/A"}}]
[null,null,{"$f":"VLOOKUP(A2231,'Analyse S'!A:D,3,FALSE)","v":{"$error":"#N/A"}}]
[null,null,{"$f":"VLOOKUP(A2232,'Analyse S'!A:D,3,FALSE)","v":{"$error":"#N/A"}}]
[null,null,{"$f":"VLOOKUP(A2233,'Analyse S'!A:D,3,FALSE)","v":{"$error":"#N/A"}}]
[null,null,{"$f":"VLOOKUP(A2234,'Analyse S'!A:D,3,FALSE)","v":{"$error":"#N/A"}}]
[null,null,{"$f":"VLOOKUP(A2235,'Analyse S'!A:D,3,FALSE)","v":{"$error":"#N/A"}}]
[null,null,{"$f":"VLOOKUP(A2236,'Analyse S'!A:D,3,FALSE)","v":{"$error":"#N/A"}}]
[null,null,{"$f":"VLOOKUP(A2237,'Analyse S'!A:D,3,FALSE)","v":{"$error":"#N/A"}}]
[null,null,{"$f":"VLOOKUP(A2238,'Analyse S'!A:D,3,FALSE)","v":{"$error":"#N/A"}}]
[null,null,{"$f":"VLOOKUP(A2239,'Analyse S'!A:D,3,FALSE)","v":{"$error":"#N/A"}}]
[null,null,{"$f":"VLOOKUP(A2240,'Analyse S'!A:D,3,FALSE)","v":{"$error":"#N/A"}}]
[null,null,{"$f":"VLOOKUP(A2241,'Analyse S'!A:D,3,FALSE)","v":{"$error":"#N/A"}}]
[null,null,{"$f":"VLOOKUP(A2242,'Analyse S'!A:D,3,FALSE)","v":{"$error":"#N/A"}}]
[null,null,{"$f":"VLOOKUP(A2243,'Analyse S'!A:D,3,FALSE)","v":{"$error":"#N/A"}}]
[null,null,{"$f":"VLOOKUP(A2244,'Analyse S'!A:D,3,FALSE)","v":{"$error":"#N/A"}}]
[null,null,{"$f":"VLOOKUP(A2245,'Analyse S'!A:D,3,FALSE)","v":{"$error":"#N/A"}}]
[null,null,{"$f":"VLOOKUP(A2246,'Analyse S'!A:D,3,FALSE)","v":{"$error":"#N/A"}}]
[null,null,{"$f":"VLOOKUP(A2247,'Analyse S'!A:D,3,FALSE)","v":{"$error":"#N/A"}}]
[null,null,{"$f":"VLOOKUP(A2248,'Analyse S'!A:D,3,FALSE)","v":{"$error":"#N/A"}}]
[null,null,{"$f":"VLOOKUP(A2249,'Analyse S'!A:D,3,FALSE)","v":{"$error":"#N/A"}}]
[null,null,{"$f":"VLOOKUP(A2250,'Analyse S'!A:D,3,FALSE)","v":{"$error":"#N/A"}}]
[null,null,{"$f":"VLOOKUP(A2251,'Analyse S'!A:D,3,FALSE)","v":{"$error":"#N/A"}}]
[null,null,{"$f":"VLOOKUP(A2252,'Analyse S'!A:D,3,FALSE)","v":{"$error":"#N/A"}}]
[null,null,{"$f":"VLOOKUP(A2253,'Analyse S'!A:D,3,FALSE)","v":{"$error":"#N/A"}}]
[null,null,{"$f":"VLOOKUP(A2254,'Analyse S'!A:D,3,FALSE)","v":{"$error":"#N/A"}}]
[null,null,{"$f":"VLOOKUP(A2255,'Analyse S'!A:D,3,FALSE)","v":{"$error":"#N/A"}}]
[null,null,{"$f":"VLOOKUP(A2256,'Analyse S'!A:D,3,FALSE)","v":{"$error":"#N/A"}}]
[null,null,{"$f":"VLOOKUP(A2257,'Analyse S'!A:D,3,FALSE)","v":{"$error":"#N/A"}}]
[null,null,{"$f":"VLOOKUP(A2258,'Analyse S'!A:D,3,FALSE)","v":{"$error":"#N/A"}}]
[null,null,{"$f":"VLOOKUP(A2259,'Analyse S'!A:D,3,FALSE)","v":{"$error":"#N/A"}}]
[null,null,{"$f":"VLOOKUP(A2260,'Analyse S'!A:D,3,FALSE)","v":{"$error":"#N/A"}}]
[null,null,{"$f":"VLOOKUP(A2261,'Analyse S'!A:D,3,FALSE)","v":{"$error":"#N/A"}}]
[null,null,{"$f":"VLOOKUP(A2262,'Analyse S'!A:D,3,FALSE)","v":{"$error":"#N/A"}}]
[null,null,{"$f":"VLOOKUP(A2263,'Analyse S'!A:D,3,FALSE)","v":{"$error":"#N/A"}}]
[null,null,{"$f":"VLOOKUP(A2264,'Analyse S'!A:D,3,FALSE)","v":{"$error":"#N/A"}}]
[null,null,{"$f":"VLOOKUP(A2265,'Analyse S'!A:D,3,FALSE)","v":{"$error":"#N/A"}}]
[null,null,{"$f":"VLOOKUP(A2266,'Analyse S'!A:D,3,FALSE)","v":{"$error":"#N/A"}}]
[null,null,{"$f":"VLOOKUP(A2267,'Analyse S'!A:D,3,FALSE)","v":{"$error":"#N/A"}}]
[null,null,{"$f":"VLOOKUP(A2268,'Analyse S'!A:D,3,FALSE)","v":{"$error":"#N/A"}}]
[null,null,{"$f":"VLOOKUP(A2269,'Analyse S'!A:D,3,FALSE)","v":{"$error":"#N/A"}}]
[null,null,{"$f":"VLOOKUP(A2270,'Analyse S'!A:D,3,FALSE)","v":{"$error":"#N/A"}}]
[null,null,{"$f":"VLOOKUP(A2271,'Analyse S'!A:D,3,FALSE)","v":{"$error":"#N/A"}}]
[null,null,{"$f":"VLOOKUP(A2272,'Analyse S'!A:D,3,FALSE)","v":{"$error":"#N/A"}}]
[null,null,{"$f":"VLOOKUP(A2273,'Analyse S'!A:D,3,FALSE)","v":{"$error":"#N/A"}}]
[null,null,{"$f":"VLOOKUP(A2274,'Analyse S'!A:D,3,FALSE)","v":{"$error":"#N/A"}}]
[null,null,{"$f":"VLOOKUP(A2275,'Analyse S'!A:D,3,FALSE)","v":{"$error":"#N/A"}}]
[null,null,{"$f":"VLOOKUP(A2276,'Analyse S'!A:D,3,FALSE)","v":{"$error":"#N/A"}}]
[null,null,{"$f":"VLOOKUP(A2277,'Analyse S'!A:D,3,FALSE)","v":{"$error":"#N/A"}}]
[null,null,{"$f":"VLOOKUP(A2278,'Analyse S'!A:D,3,FALSE)","v":{"$error":"#N/A"}}]
[null,null,{"$f":"VLOOKUP(A2279,'Analyse S'!A:D,3,FALSE)","v":{"$error":"#N/A"}}]
[null,null,{"$f":"VLOOKUP(A2280,'Analyse S'!A:D,3,FALSE)","v":{"$error":"#N/A"}}]
[null,null,{"$f":"VLOOKUP(A2281,'Analyse S'!A:D,3,FALSE)","v":{"$error":"#N/A"}}]
[null,null,{"$f":"VLOOKUP(A2282,'Analyse S'!A:D,3,FALSE)","v":{"$error":"#N/A"}}]
[null,null,{"$f":"VLOOKUP(A2283,'Analyse S'!A:D,3,FALSE)","v":{"$error":"#N/A"}}]
[null,null,{"$f":"VLOOKUP(A2284,'Analyse S'!A:D,3,FALSE)","v":{"$error":"#N/A"}}]
[null,null,{"$f":"VLOOKUP(A2285,'Analyse S'!A:D,3,FALSE)","v":{"$error":"#N/A"}}]
[null,null,{"$f":"VLOOKUP(A2286,'Analyse S'!A:D,3,FALSE)","v":{"$error":"#N/A"}}]
[null,null,{"$f":"VLOOKUP(A2287,'Analyse S'!A:D,3,FALSE)","v":{"$error":"#N/A"}}]
[null,null,{"$f":"VLOOKUP(A2288,'Analyse S'!A:D,3,FALSE)","v":{"$error":"#N/A"}}]
[null,null,{"$f":"VLOOKUP(A2289,'Analyse S'!A:D,3,FALSE)","v":{"$error":"#N/A"}}]
[null,null,{"$f":"VLOOKUP(A2290,'Analyse S'!A:D,3,FALSE)","v":{"$error":"#N/A"}}]
[null,null,{"$f":"VLOOKUP(A2291,'Analyse S'!A:D,3,FALSE)","v":{"$error":"#N/A"}}]
[null,null,{"$f":"VLOOKUP(A2292,'Analyse S'!A:D,3,FALSE)","v":{"$error":"#N/A"}}]
[null,null,{"$f":"VLOOKUP(A2293,'Analyse S'!A:D,3,FALSE)","v":{"$error":"#N/A"}}]
[null,null,{"$f":"VLOOKUP(A2294,'Analyse S'!A:D,3,FALSE)","v":{"$error":"#N/A"}}]
[null,null,{"$f":"VLOOKUP(A2295,'Analyse S'!A:D,3,FALSE)","v":{"$error":"#N/A"}}]
[null,null,{"$f":"VLOOKUP(A2296,'Analyse S'!A:D,3,FALSE)","v":{"$error":"#N/A"}}]
[null,null,{"$f":"VLOOKUP(A2297,'Analyse S'!A:D,3,FALSE)","v":{"$error":"#N/A"}}]
[null,null,{"$f":"VLOOKUP(A2298,'Analyse S'!A:D,3,FALSE)","v":{"$error":"#N/A"}}]
[null,null,{"$f":"VLOOKUP(A2299,'Analyse S'!A:D,3,FALSE)","v":{"$error":"#N/A"}}]
[null,null,{"$f":"VLOOKUP(A2300,'Analyse S'!A:D,3,FALSE)","v":{"$error":"#N/A"}}]
[null,null,{"$f":"VLOOKUP(A2301,'Analyse S'!A:D,3,FALSE)","v":{"$error":"#N/A"}}]
[null,null,{"$f":"VLOOKUP(A2302,'Analyse S'!A:D,3,FALSE)","v":{"$error":"#N/A"}}]
[null,null,{"$f":"VLOOKUP(A2303,'Analyse S'!A:D,3,FALSE)","v":{"$error":"#N/A"}}]
[null,null,{"$f":"VLOOKUP(A2304,'Analyse S'!A:D,3,FALSE)","v":{"$error":"#N/A"}}]
[null,null,{"$f":"VLOOKUP(A2305,'Analyse S'!A:D,3,FALSE)","v":{"$error":"#N/A"}}]
[null,null,{"$f":"VLOOKUP(A2306,'Analyse S'!A:D,3,FALSE)","v":{"$error":"#N/A"}}]
[null,null,{"$f":"VLOOKUP(A2307,'Analyse S'!A:D,3,FALSE)","v":{"$error":"#N/A"}}]
[null,null,{"$f":"VLOOKUP(A2308,'Analyse S'!A:D,3,FALSE)","v":{"$error":"#N/A"}}]
[null,null,{"$f":"VLOOKUP(A2309,'Analyse S'!A:D,3,FALSE)","v":{"$error":"#N/A"}}]
[null,null,{"$f":"VLOOKUP(A2310,'Analyse S'!A:D,3,FALSE)","v":{"$error":"#N/A"}}]
[null,null,{"$f":"VLOOKUP(A2311,'Analyse S'!A:D,3,FALSE)","v":{"$error":"#N/A"}}]
[null,null,{"$f":"VLOOKUP(A2312,'Analyse S'!A:D,3,FALSE)","v":{"$error":"#N/A"}}]
[null,null,{"$f":"VLOOKUP(A2313,'Analyse S'!A:D,3,FALSE)","v":{"$error":"#N/A"}}]
[null,null,{"$f":"VLOOKUP(A2314,'Analyse S'!A:D,3,FALSE)","v":{"$error":"#N/A"}}]
[null,null,{"$f":"VLOOKUP(A2315,'Analyse S'!A:D,3,FALSE)","v":{"$error":"#N/A"}}]
[null,null,{"$f":"VLOOKUP(A2316,'Analyse S'!A:D,3,FALSE)","v":{"$error":"#N/A"}}]
[null,null,{"$f":"VLOOKUP(A2317,'Analyse S'!A:D,3,FALSE)","v":{"$error":"#N/A"}}]
[null,null,{"$f":"VLOOKUP(A2318,'Analyse S'!A:D,3,FALSE)","v":{"$error":"#N/A"}}]
[null,null,{"$f":"VLOOKUP(A2319,'Analyse S'!A:D,3,FALSE)","v":{"$error":"#N/A"}}]
[null,null,{"$f":"VLOOKUP(A2320,'Analyse S'!A:D,3,FALSE)","v":{"$error":"#N/A"}}]
[null,null,{"$f":"VLOOKUP(A2321,'Analyse S'!A:D,3,FALSE)","v":{"$error":"#N/A"}}]
[null,null,{"$f":"VLOOKUP(A2322,'Analyse S'!A:D,3,FALSE)","v":{"$error":"#N/A"}}]
[null,null,{"$f":"VLOOKUP(A2323,'Analyse S'!A:D,3,FALSE)","v":{"$error":"#N/A"}}]
[null,null,{"$f":"VLOOKUP(A2324,'Analyse S'!A:D,3,FALSE)","v":{"$error":"#N/A"}}]
[null,null,{"$f":"VLOOKUP(A2325,'Analyse S'!A:D,3,FALSE)","v":{"$error":"#N/A"}}]
[null,null,{"$f":"VLOOKUP(A2326,'Analyse S'!A:D,3,FALSE)","v":{"$error":"#N/A"}}]
[null,null,{"$f":"VLOOKUP(A2327,'Analyse S'!A:D,3,FALSE)","v":{"$error":"#N/A"}}]
[null,null,{"$f":"VLOOKUP(A2328,'Analyse S'!A:D,3,FALSE)","v":{"$error":"#N/A"}}]
[null,null,{"$f":"VLOOKUP(A2329,'Analyse S'!A:D,3,FALSE)","v":{"$error":"#N/A"}}]
[null,null,{"$f":"VLOOKUP(A2330,'Analyse S'!A:D,3,FALSE)","v":{"$error":"#N/A"}}]
[null,null,{"$f":"VLOOKUP(A2331,'Analyse S'!A:D,3,FALSE)","v":{"$error":"#N/A"}}]
[null,null,{"$f":"VLOOKUP(A2332,'Analyse S'!A:D,3,FALSE)","v":{"$error":"#N/A"}}]
[null,null,{"$f":"VLOOKUP(A2333,'Analyse S'!A:D,3,FALSE)","v":{"$error":"#N/A"}}]
[null,null,{"$f":"VLOOKUP(A2334,'Analyse S'!A:D,3,FALSE)","v":{"$error":"#N/A"}}]
[null,null,{"$f":"VLOOKUP(A2335,'Analyse S'!A:D,3,FALSE)","v":{"$error":"#N/A"}}]
[null,null,{"$f":"VLOOKUP(A2336,'Analyse S'!A:D,3,FALSE)","v":{"$error":"#N/A"}}]
[null,null,{"$f":"VLOOKUP(A2337,'Analyse S'!A:D,3,FALSE)","v":{"$error":"#N/A"}}]
[null,null,{"$f":"VLOOKUP(A2338,'Analyse S'!A:D,3,FALSE)","v":{"$error":"#N/A"}}]
[null,null,{"$f":"VLOOKUP(A2339,'Analyse S'!A:D,3,FALSE)","v":{"$error":"#N/A"}}]
[null,null,{"$f":"VLOOKUP(A2340,'Analyse S'!A:D,3,FALSE)","v":{"$error":"#N/A"}}]
[null,null,{"$f":"VLOOKUP(A2341,'Analyse S'!A:D,3,FALSE)","v":{"$error":"#N/A"}}]
[null,null,{"$f":"VLOOKUP(A2342,'Analyse S'!A:D,3,FALSE)","v":{"$error":"#N/A"}}]
[null,null,{"$f":"VLOOKUP(A2343,'Analyse S'!A:D,3,FALSE)","v":{"$error":"#N/A"}}]
[null,null,{"$f":"VLOOKUP(A2344,'Analyse S'!A:D,3,FALSE)","v":{"$error":"#N/A"}}]
[null,null,{"$f":"VLOOKUP(A2345,'Analyse S'!A:D,3,FALSE)","v":{"$error":"#N/A"}}]
[null,null,{"$f":"VLOOKUP(A2346,'Analyse S'!A:D,3,FALSE)","v":{"$error":"#N/A"}}]
[null,null,{"$f":"VLOOKUP(A2347,'Analyse S'!A:D,3,FALSE)","v":{"$error":"#N/A"}}]
[null,null,{"$f":"VLOOKUP(A2348,'Analyse S'!A:D,3,FALSE)","v":{"$error":"#N/A"}}]
[null,null,{"$f":"VLOOKUP(A2349,'Analyse S'!A:D,3,FALSE)","v":{"$error":"#N/A"}}]
[null,null,{"$f":"VLOOKUP(A2350,'Analyse S'!A:D,3,FALSE)","v":{"$error":"#N/A"}}]
[null,null,{"$f":"VLOOKUP(A2351,'Analyse S'!A:D,3,FALSE)","v":{"$error":"#N/A"}}]
[null,null,{"$f":"VLOOKUP(A2352,'Analyse S'!A:D,3,FALSE)","v":{"$error":"#N/A"}}]
[null,null,{"$f":"VLOOKUP(A2353,'Analyse S'!A:D,3,FALSE)","v":{"$error":"#N/A"}}]
[null,null,{"$f":"VLOOKUP(A2354,'Analyse S'!A:D,3,FALSE)","v":{"$error":"#N/A"}}]
[null,null,{"$f":"VLOOKUP(A2355,'Analyse S'!A:D,3,FALSE)","v":{"$error":"#N/A"}}]
[null,null,{"$f":"VLOOKUP(A2356,'Analyse S'!A:D,3,FALSE)","v":{"$error":"#N/A"}}]
[null,null,{"$f":"VLOOKUP(A2357,'Analyse S'!A:D,3,FALSE)","v":{"$error":"#N/A"}}]
[null,null,{"$f":"VLOOKUP(A2358,'Analyse S'!A:D,3,FALSE)","v":{"$error":"#N/A"}}]
[null,null,{"$f":"VLOOKUP(A2359,'Analyse S'!A:D,3,FALSE)","v":{"$error":"#N/A"}}]
[null,null,{"$f":"VLOOKUP(A2360,'Analyse S'!A:D,3,FALSE)","v":{"$error":"#N/A"}}]
[null,null,{"$f":"VLOOKUP(A2361,'Analyse S'!A:D,3,FALSE)","v":{"$error":"#N/A"}}]
[null,null,{"$f":"VLOOKUP(A2362,'Analyse S'!A:D,3,FALSE)","v":{"$error":"#N/A"}}]
[null,null,{"$f":"VLOOKUP(A2363,'Analyse S'!A:D,3,FALSE)","v":{"$error":"#N/A"}}]
[null,null,{"$f":"VLOOKUP(A2364,'Analyse S'!A:D,3,FALSE)","v":{"$error":"#N/A"}}]
[null,null,{"$f":"VLOOKUP(A2365,'Analyse S'!A:D,3,FALSE)","v":{"$error":"#N/A"}}]
[null,null,{"$f":"VLOOKUP(A2366,'Analyse S'!A:D,3,FALSE)","v":{"$error":"#N/A"}}]
[null,null,{"$f":"VLOOKUP(A2367,'Analyse S'!A:D,3,FALSE)","v":{"$error":"#N/A"}}]
[null,null,{"$f":"VLOOKUP(A2368,'Analyse S'!A:D,3,FALSE)","v":{"$error":"#N/A"}}]
[null,null,{"$f":"VLOOKUP(A2369,'Analyse S'!A:D,3,FALSE)","v":{"$error":"#N/A"}}]
[null,null,{"$f":"VLOOKUP(A2370,'Analyse S'!A:D,3,FALSE)","v":{"$error":"#N/A"}}]
[null,null,{"$f":"VLOOKUP(A2371,'Analyse S'!A:D,3,FALSE)","v":{"$error":"#N/A"}}]
[null,null,{"$f":"VLOOKUP(A2372,'Analyse S'!A:D,3,FALSE)","v":{"$error":"#N/A"}}]
[null,null,{"$f":"VLOOKUP(A2373,'Analyse S'!A:D,3,FALSE)","v":{"$error":"#N/A"}}]
[null,null,{"$f":"VLOOKUP(A2374,'Analyse S'!A:D,3,FALSE)","v":{"$error":"#N/A"}}]
[null,null,{"$f":"VLOOKUP(A2375,'Analyse S'!A:D,3,FALSE)","v":{"$error":"#N/A"}}]
[null,null,{"$f":"VLOOKUP(A2376,'Analyse S'!A:D,3,FALSE)","v":{"$error":"#N/A"}}]
[null,null,{"$f":"VLOOKUP(A2377,'Analyse S'!A:D,3,FALSE)","v":{"$error":"#N/A"}}]
[null,null,{"$f":"VLOOKUP(A2378,'Analyse S'!A:D,3,FALSE)","v":{"$error":"#N/A"}}]
[null,null,{"$f":"VLOOKUP(A2379,'Analyse S'!A:D,3,FALSE)","v":{"$error":"#N/A"}}]
[null,null,{"$f":"VLOOKUP(A2380,'Analyse S'!A:D,3,FALSE)","v":{"$error":"#N/A"}}]
[null,null,{"$f":"VLOOKUP(A2381,'Analyse S'!A:D,3,FALSE)","v":{"$error":"#N/A"}}]
[null,null,{"$f":"VLOOKUP(A2382,'Analyse S'!A:D,3,FALSE)","v":{"$error":"#N/A"}}]
[null,null,{"$f":"VLOOKUP(A2383,'Analyse S'!A:D,3,FALSE)","v":{"$error":"#N/A"}}]
[null,null,{"$f":"VLOOKUP(A2384,'Analyse S'!A:D,3,FALSE)","v":{"$error":"#N/A"}}]
[null,null,{"$f":"VLOOKUP(A2385,'Analyse S'!A:D,3,FALSE)","v":{"$error":"#N/A"}}]
[null,null,{"$f":"VLOOKUP(A2386,'Analyse S'!A:D,3,FALSE)","v":{"$error":"#N/A"}}]
[null,null,{"$f":"VLOOKUP(A2387,'Analyse S'!A:D,3,FALSE)","v":{"$error":"#N/A"}}]
[null,null,{"$f":"VLOOKUP(A2388,'Analyse S'!A:D,3,FALSE)","v":{"$error":"#N/A"}}]
[null,null,{"$f":"VLOOKUP(A2389,'Analyse S'!A:D,3,FALSE)","v":{"$error":"#N/A"}}]
[null,null,{"$f":"VLOOKUP(A2390,'Analyse S'!A:D,3,FALSE)","v":{"$error":"#N/A"}}]
[null,null,{"$f":"VLOOKUP(A2391,'Analyse S'!A:D,3,FALSE)","v":{"$error":"#N/A"}}]
[null,null,{"$f":"VLOOKUP(A2392,'Analyse S'!A:D,3,FALSE)","v":{"$error":"#N/A"}}]
[null,null,{"$f":"VLOOKUP(A2393,'Analyse S'!A:D,3,FALSE)","v":{"$error":"#N/A"}}]
[null,null,{"$f":"VLOOKUP(A2394,'Analyse S'!A:D,3,FALSE)","v":{"$error":"#N/A"}}]
[null,null,{"$f":"VLOOKUP(A2395,'Analyse S'!A:D,3,FALSE)","v":{"$error":"#N/A"}}]
[null,null,{"$f":"VLOOKUP(A2396,'Analyse S'!A:D,3,FALSE)","v":{"$error":"#N/A"}}]
[null,null,{"$f":"VLOOKUP(A2397,'Analyse S'!A:D,3,FALSE)","v":{"$error":"#N/A"}}]
[null,null,{"$f":"VLOOKUP(A2398,'Analyse S'!A:D,3,FALSE)","v":{"$error":"#N/A"}}]
[null,null,{"$f":"VLOOKUP(A2399,'Analyse S'!A:D,3,FALSE)","v":{"$error":"#N/A"}}]
[null,null,{"$f":"VLOOKUP(A2400,'Analyse S'!A:D,3,FALSE)","v":{"$error":"#N/A"}}]
[null,null,{"$f":"VLOOKUP(A2401,'Analyse S'!A:D,3,FALSE)","v":{"$error":"#N/A"}}]
[null,null,{"$f":"VLOOKUP(A2402,'Analyse S'!A:D,3,FALSE)","v":{"$error":"#N/A"}}]
[null,null,{"$f":"VLOOKUP(A2403,'Analyse S'!A:D,3,FALSE)","v":{"$error":"#N/A"}}]
[null,null,{"$f":"VLOOKUP(A2404,'Analyse S'!A:D,3,FALSE)","v":{"$error":"#N/A"}}]
[null,null,{"$f":"VLOOKUP(A2405,'Analyse S'!A:D,3,FALSE)","v":{"$error":"#N/A"}}]
[null,null,{"$f":"VLOOKUP(A2406,'Analyse S'!A:D,3,FALSE)","v":{"$error":"#N/A"}}]
[null,null,{"$f":"VLOOKUP(A2407,'Analyse S'!A:D,3,FALSE)","v":{"$error":"#N/A"}}]
[null,null,{"$f":"VLOOKUP(A2408,'Analyse S'!A:D,3,FALSE)","v":{"$error":"#N/A"}}]
[null,null,{"$f":"VLOOKUP(A2409,'Analyse S'!A:D,3,FALSE)","v":{"$error":"#N/A"}}]
[null,null,{"$f":"VLOOKUP(A2410,'Analyse S'!A:D,3,FALSE)","v":{"$error":"#N/A"}}]
[null,null,{"$f":"VLOOKUP(A2411,'Analyse S'!A:D,3,FALSE)","v":{"$error":"#N/A"}}]
[null,null,{"$f":"VLOOKUP(A2412,'Analyse S'!A:D,3,FALSE)","v":{"$error":"#N/A"}}]
[null,null,{"$f":"VLOOKUP(A2413,'Analyse S'!A:D,3,FALSE)","v":{"$error":"#N/A"}}]
[null,null,{"$f":"VLOOKUP(A2414,'Analyse S'!A:D,3,FALSE)","v":{"$error":"#N/A"}}]
[null,null,{"$f":"VLOOKUP(A2415,'Analyse S'!A:D,3,FALSE)","v":{"$error":"#N/A"}}]
[null,null,{"$f":"VLOOKUP(A2416,'Analyse S'!A:D,3,FALSE)","v":{"$error":"#N/A"}}]
[null,null,{"$f":"VLOOKUP(A2417,'Analyse S'!A:D,3,FALSE)","v":{"$error":"#N/A"}}]
[null,null,{"$f":"VLOOKUP(A2418,'Analyse S'!A:D,3,FALSE)","v":{"$error":"#N/A"}}]
[null,null,{"$f":"VLOOKUP(A2419,'Analyse S'!A:D,3,FALSE)","v":{"$error":"#N/A"}}]
[null,null,{"$f":"VLOOKUP(A2420,'Analyse S'!A:D,3,FALSE)","v":{"$error":"#N/A"}}]
[null,null,{"$f":"VLOOKUP(A2421,'Analyse S'!A:D,3,FALSE)","v":{"$error":"#N/A"}}]
[null,null,{"$f":"VLOOKUP(A2422,'Analyse S'!A:D,3,FALSE)","v":{"$error":"#N/A"}}]
[null,null,{"$f":"VLOOKUP(A2423,'Analyse S'!A:D,3,FALSE)","v":{"$error":"#N/A"}}]
[null,null,{"$f":"VLOOKUP(A2424,'Analyse S'!A:D,3,FALSE)","v":{"$error":"#N/A"}}]
[null,null,{"$f":"VLOOKUP(A2425,'Analyse S'!A:D,3,FALSE)","v":{"$error":"#N/A"}}]
[null,null,{"$f":"VLOOKUP(A2426,'Analyse S'!A:D,3,FALSE)","v":{"$error":"#N/A"}}]
[null,null,{"$f":"VLOOKUP(A2427,'Analyse S'!A:D,3,FALSE)","v":{"$error":"#N/A"}}]
[null,null,{"$f":"VLOOKUP(A2428,'Analyse S'!A:D,3,FALSE)","v":{"$error":"#N/A"}}]
[null,null,{"$f":"VLOOKUP(A2429,'Analyse S'!A:D,3,FALSE)","v":{"$error":"#N/A"}}]
[null,null,{"$f":"VLOOKUP(A2430,'Analyse S'!A:D,3,FALSE)","v":{"$error":"#N/A"}}]
[null,null,{"$f":"VLOOKUP(A2431,'Analyse S'!A:D,3,FALSE)","v":{"$error":"#N/A"}}]
[null,null,{"$f":"VLOOKUP(A2432,'Analyse S'!A:D,3,FALSE)","v":{"$error":"#N/A"}}]
[null,null,{"$f":"VLOOKUP(A2433,'Analyse S'!A:D,3,FALSE)","v":{"$error":"#N/A"}}]
[null,null,{"$f":"VLOOKUP(A2434,'Analyse S'!A:D,3,FALSE)","v":{"$error":"#N/A"}}]
[null,null,{"$f":"VLOOKUP(A2435,'Analyse S'!A:D,3,FALSE)","v":{"$error":"#N/A"}}]
[null,null,{"$f":"VLOOKUP(A2436,'Analyse S'!A:D,3,FALSE)","v":{"$error":"#N/A"}}]
[null,null,{"$f":"VLOOKUP(A2437,'Analyse S'!A:D,3,FALSE)","v":{"$error":"#N/A"}}]
[null,null,{"$f":"VLOOKUP(A2438,'Analyse S'!A:D,3,FALSE)","v":{"$error":"#N/A"}}]
[null,null,{"$f":"VLOOKUP(A2439,'Analyse S'!A:D,3,FALSE)","v":{"$error":"#N/A"}}]
[null,null,{"$f":"VLOOKUP(A2440,'Analyse S'!A:D,3,FALSE)","v":{"$error":"#N/A"}}]
[null,null,{"$f":"VLOOKUP(A2441,'Analyse S'!A:D,3,FALSE)","v":{"$error":"#N/A"}}]
[null,null,{"$f":"VLOOKUP(A2442,'Analyse S'!A:D,3,FALSE)","v":{"$error":"#N/A"}}]
[null,null,{"$f":"VLOOKUP(A2443,'Analyse S'!A:D,3,FALSE)","v":{"$error":"#N/A"}}]
[null,null,{"$f":"VLOOKUP(A2444,'Analyse S'!A:D,3,FALSE)","v":{"$error":"#N/A"}}]
[null,null,{"$f":"VLOOKUP(A2445,'Analyse S'!A:D,3,FALSE)","v":{"$error":"#N/A"}}]
[null,null,{"$f":"VLOOKUP(A2446,'Analyse S'!A:D,3,FALSE)","v":{"$error":"#N/A"}}]
[null,null,{"$f":"VLOOKUP(A2447,'Analyse S'!A:D,3,FALSE)","v":{"$error":"#N/A"}}]
[null,null,{"$f":"VLOOKUP(A2448,'Analyse S'!A:D,3,FALSE)","v":{"$error":"#N/A"}}]
[null,null,{"$f":"VLOOKUP(A2449,'Analyse S'!A:D,3,FALSE)","v":{"$error":"#N/A"}}]
[null,null,{"$f":"VLOOKUP(A2450,'Analyse S'!A:D,3,FALSE)","v":{"$error":"#N/A"}}]
[null,null,{"$f":"VLOOKUP(A2451,'Analyse S'!A:D,3,FALSE)","v":{"$error":"#N/A"}}]
[null,null,{"$f":"VLOOKUP(A2452,'Analyse S'!A:D,3,FALSE)","v":{"$error":"#N/A"}}]
[null,null,{"$f":"VLOOKUP(A2453,'Analyse S'!A:D,3,FALSE)","v":{"$error":"#N/A"}}]
[null,null,{"$f":"VLOOKUP(A2454,'Analyse S'!A:D,3,FALSE)","v":{"$error":"#N/A"}}]
[null,null,{"$f":"VLOOKUP(A2455,'Analyse S'!A:D,3,FALSE)","v":{"$error":"#N/A"}}]
[null,null,{"$f":"VLOOKUP(A2456,'Analyse S'!A:D,3,FALSE)","v":{"$error":"#N/A"}}]
[null,null,{"$f":"VLOOKUP(A2457,'Analyse S'!A:D,3,FALSE)","v":{"$error":"#N/A"}}]
[null,null,{"$f":"VLOOKUP(A2458,'Analyse S'!A:D,3,FALSE)","v":{"$error":"#N/A"}}]
[null,null,{"$f":"VLOOKUP(A2459,'Analyse S'!A:D,3,FALSE)","v":{"$error":"#N/A"}}]
[null,null,{"$f":"VLOOKUP(A2460,'Analyse S'!A:D,3,FALSE)","v":{"$error":"#N/A"}}]
[null,null,{"$f":"VLOOKUP(A2461,'Analyse S'!A:D,3,FALSE)","v":{"$error":"#N/A"}}]
[null,null,{"$f":"VLOOKUP(A2462,'Analyse S'!A:D,3,FALSE)","v":{"$error":"#N/A"}}]
[null,null,{"$f":"VLOOKUP(A2463,'Analyse S'!A:D,3,FALSE)","v":{"$error":"#N/A"}}]
[null,null,{"$f":"VLOOKUP(A2464,'Analyse S'!A:D,3,FALSE)","v":{"$error":"#N/A"}}]
[null,null,{"$f":"VLOOKUP(A2465,'Analyse S'!A:D,3,FALSE)","v":{"$error":"#N/A"}}]
[null,null,{"$f":"VLOOKUP(A2466,'Analyse S'!A:D,3,FALSE)","v":{"$error":"#N/A"}}]
[null,null,{"$f":"VLOOKUP(A2467,'Analyse S'!A:D,3,FALSE)","v":{"$error":"#N/A"}}]
[null,null,{"$f":"VLOOKUP(A2468,'Analyse S'!A:D,3,FALSE)","v":{"$error":"#N/A"}}]
[null,null,{"$f":"VLOOKUP(A2469,'Analyse S'!A:D,3,FALSE)","v":{"$error":"#N/A"}}]
[null,null,{"$f":"VLOOKUP(A2470,'Analyse S'!A:D,3,FALSE)","v":{"$error":"#N/A"}}]
[null,null,{"$f":"VLOOKUP(A2471,'Analyse S'!A:D,3,FALSE)","v":{"$error":"#N/A"}}]
[null,null,{"$f":"VLOOKUP(A2472,'Analyse S'!A:D,3,FALSE)","v":{"$error":"#N/A"}}]
[null,null,{"$f":"VLOOKUP(A2473,'Analyse S'!A:D,3,FALSE)","v":{"$error":"#N/A"}}]
[null,null,{"$f":"VLOOKUP(A2474,'Analyse S'!A:D,3,FALSE)","v":{"$error":"#N/A"}}]
[null,null,{"$f":"VLOOKUP(A2475,'Analyse S'!A:D,3,FALSE)","v":{"$error":"#N/A"}}]
[null,null,{"$f":"VLOOKUP(A2476,'Analyse S'!A:D,3,FALSE)","v":{"$error":"#N/A"}}]
[null,null,{"$f":"VLOOKUP(A2477,'Analyse S'!A:D,3,FALSE)","v":{"$error":"#N/A"}}]
[null,null,{"$f":"VLOOKUP(A2478,'Analyse S'!A:D,3,FALSE)","v":{"$error":"#N/A"}}]
[null,null,{"$f":"VLOOKUP(A2479,'Analyse S'!A:D,3,FALSE)","v":{"$error":"#N/A"}}]
[null,null,{"$f":"VLOOKUP(A2480,'Analyse S'!A:D,3,FALSE)","v":{"$error":"#N/A"}}]
[null,null,{"$f":"VLOOKUP(A2481,'Analyse S'!A:D,3,FALSE)","v":{"$error":"#N/A"}}]
[null,null,{"$f":"VLOOKUP(A2482,'Analyse S'!A:D,3,FALSE)","v":{"$error":"#N/A"}}]
[null,null,{"$f":"VLOOKUP(A2483,'Analyse S'!A:D,3,FALSE)","v":{"$error":"#N/A"}}]
[null,null,{"$f":"VLOOKUP(A2484,'Analyse S'!A:D,3,FALSE)","v":{"$error":"#N/A"}}]
[null,null,{"$f":"VLOOKUP(A2485,'Analyse S'!A:D,3,FALSE)","v":{"$error":"#N/A"}}]
[null,null,{"$f":"VLOOKUP(A2486,'Analyse S'!A:D,3,FALSE)","v":{"$error":"#N/A"}}]
[null,null,{"$f":"VLOOKUP(A2487,'Analyse S'!A:D,3,FALSE)","v":{"$error":"#N/A"}}]
[null,null,{"$f":"VLOOKUP(A2488,'Analyse S'!A:D,3,FALSE)","v":{"$error":"#N/A"}}]
[null,null,{"$f":"VLOOKUP(A2489,'Analyse S'!A:D,3,FALSE)","v":{"$error":"#N/A"}}]
[null,null,{"$f":"VLOOKUP(A2490,'Analyse S'!A:D,3,FALSE)","v":{"$error":"#N/A"}}]
[null,null,{"$f":"VLOOKUP(A2491,'Analyse S'!A:D,3,FALSE)","v":{"$error":"#N/A"}}]
[null,null,{"$f":"VLOOKUP(A2492,'Analyse S'!A:D,3,FALSE)","v":{"$error":"#N/A"}}]
[null,null,{"$f":"VLOOKUP(A2493,'Analyse S'!A:D,3,FALSE)","v":{"$error":"#N/A"}}]
[null,null,{"$f":"VLOOKUP(A2494,'Analyse S'!A:D,3,FALSE)","v":{"$error":"#N/A"}}]
[null,null,{"$f":"VLOOKUP(A2495,'Analyse S'!A:D,3,FALSE)","v":{"$error":"#N/A"}}]
[null,null,{"$f":"VLOOKUP(A2496,'Analyse S'!A:D,3,FALSE)","v":{"$error":"#N/A"}}]
[null,null,{"$f":"VLOOKUP(A2497,'Analyse S'!A:D,3,FALSE)","v":{"$error":"#N/A"}}]
[null,null,{"$f":"VLOOKUP(A2498,'Analyse S'!A:D,3,FALSE)","v":{"$error":"#N/A"}}]
[null,null,{"$f":"VLOOKUP(A2499,'Analyse S'!A:D,3,FALSE)","v":{"$error":"#N/A"}}]
[null,null,{"$f":"VLOOKUP(A2500,'Analyse S'!A:D,3,FALSE)","v":{"$error":"#N/A"}}]
[null,null,{"$f":"VLOOKUP(A2501,'Analyse S'!A:D,3,FALSE)","v":{"$error":"#N/A"}}]
[null,null,{"$f":"VLOOKUP(A2502,'Analyse S'!A:D,3,FALSE)","v":{"$error":"#N/A"}}]
[null,null,{"$f":"VLOOKUP(A2503,'Analyse S'!A:D,3,FALSE)","v":{"$error":"#N/A"}}]
[null,null,{"$f":"VLOOKUP(A2504,'Analyse S'!A:D,3,FALSE)","v":{"$error":"#N/A"}}]
[null,null,{"$f":"VLOOKUP(A2505,'Analyse S'!A:D,3,FALSE)","v":{"$error":"#N/A"}}]
[null,null,{"$f":"VLOOKUP(A2506,'Analyse S'!A:D,3,FALSE)","v":{"$error":"#N/A"}}]
[null,null,{"$f":"VLOOKUP(A2507,'Analyse S'!A:D,3,FALSE)","v":{"$error":"#N/A"}}]
[null,null,{"$f":"VLOOKUP(A2508,'Analyse S'!A:D,3,FALSE)","v":{"$error":"#N/A"}}]
[null,null,{"$f":"VLOOKUP(A2509,'Analyse S'!A:D,3,FALSE)","v":{"$error":"#N/A"}}]
[null,null,{"$f":"VLOOKUP(A2510,'Analyse S'!A:D,3,FALSE)","v":{"$error":"#N/A"}}]
[null,null,{"$f":"VLOOKUP(A2511,'Analyse S'!A:D,3,FALSE)","v":{"$error":"#N/A"}}]
[null,null,{"$f":"VLOOKUP(A2512,'Analyse S'!A:D,3,FALSE)","v":{"$error":"#N/A"}}]
[null,null,{"$f":"VLOOKUP(A2513,'Analyse S'!A:D,3,FALSE)","v":{"$error":"#N/A"}}]
[null,null,{"$f":"VLOOKUP(A2514,'Analyse S'!A:D,3,FALSE)","v":{"$error":"#N/A"}}]
[null,null,{"$f":"VLOOKUP(A2515,'Analyse S'!A:D,3,FALSE)","v":{"$error":"#N/A"}}]
[null,null,{"$f":"VLOOKUP(A2516,'Analyse S'!A:D,3,FALSE)","v":{"$error":"#N/A"}}]
[null,null,{"$f":"VLOOKUP(A2517,'Analyse S'!A:D,3,FALSE)","v":{"$error":"#N/A"}}]
[null,null,{"$f":"VLOOKUP(A2518,'Analyse S'!A:D,3,FALSE)","v":{"$error":"#N/A"}}]
[null,null,{"$f":"VLOOKUP(A2519,'Analyse S'!A:D,3,FALSE)","v":{"$error":"#N/A"}}]
[null,null,{"$f":"VLOOKUP(A2520,'Analyse S'!A:D,3,FALSE)","v":{"$error":"#N/A"}}]
[null,null,{"$f":"VLOOKUP(A2521,'Analyse S'!A:D,3,FALSE)","v":{"$error":"#N/A"}}]
[null,null,{"$f":"VLOOKUP(A2522,'Analyse S'!A:D,3,FALSE)","v":{"$error":"#N/A"}}]
[null,null,{"$f":"VLOOKUP(A2523,'Analyse S'!A:D,3,FALSE)","v":{"$error":"#N/A"}}]
[null,null,{"$f":"VLOOKUP(A2524,'Analyse S'!A:D,3,FALSE)","v":{"$error":"#N/A"}}]
[null,null,{"$f":"VLOOKUP(A2525,'Analyse S'!A:D,3,FALSE)","v":{"$error":"#N/A"}}]
[null,null,{"$f":"VLOOKUP(A2526,'Analyse S'!A:D,3,FALSE)","v":{"$error":"#N/A"}}]
[null,null,{"$f":"VLOOKUP(A2527,'Analyse S'!A:D,3,FALSE)","v":{"$error":"#N/A"}}]
[null,null,{"$f":"VLOOKUP(A2528,'Analyse S'!A:D,3,FALSE)","v":{"$error":"#N/A"}}]
[null,null,{"$f":"VLOOKUP(A2529,'Analyse S'!A:D,3,FALSE)","v":{"$error":"#N/A"}}]
[null,null,{"$f":"VLOOKUP(A2530,'Analyse S'!A:D,3,FALSE)","v":{"$error":"#N/A"}}]
[null,null,{"$f":"VLOOKUP(A2531,'Analyse S'!A:D,3,FALSE)","v":{"$error":"#N/A"}}]
[null,null,{"$f":"VLOOKUP(A2532,'Analyse S'!A:D,3,FALSE)","v":{"$error":"#N/A"}}]
[null,null,{"$f":"VLOOKUP(A2533,'Analyse S'!A:D,3,FALSE)","v":{"$error":"#N/A"}}]
[null,null,{"$f":"VLOOKUP(A2534,'Analyse S'!A:D,3,FALSE)","v":{"$error":"#N/A"}}]
[null,null,{"$f":"VLOOKUP(A2535,'Analyse S'!A:D,3,FALSE)","v":{"$error":"#N/A"}}]
[null,null,{"$f":"VLOOKUP(A2536,'Analyse S'!A:D,3,FALSE)","v":{"$error":"#N/A"}}]
[null,null,{"$f":"VLOOKUP(A2537,'Analyse S'!A:D,3,FALSE)","v":{"$error":"#N/A"}}]
[null,null,{"$f":"VLOOKUP(A2538,'Analyse S'!A:D,3,FALSE)","v":{"$error":"#N/A"}}]
[null,null,{"$f":"VLOOKUP(A2539,'Analyse S'!A:D,3,FALSE)","v":{"$error":"#N/A"}}]
[null,null,{"$f":"VLOOKUP(A2540,'Analyse S'!A:D,3,FALSE)","v":{"$error":"#N/A"}}]
[null,null,{"$f":"VLOOKUP(A2541,'Analyse S'!A:D,3,FALSE)","v":{"$error":"#N/A"}}]
[null,null,{"$f":"VLOOKUP(A2542,'Analyse S'!A:D,3,FALSE)","v":{"$error":"#N/A"}}]
[null,null,{"$f":"VLOOKUP(A2543,'Analyse S'!A:D,3,FALSE)","v":{"$error":"#N/A"}}]
[null,null,{"$f":"VLOOKUP(A2544,'Analyse S'!A:D,3,FALSE)","v":{"$error":"#N/A"}}]
[null,null,{"$f":"VLOOKUP(A2545,'Analyse S'!A:D,3,FALSE)","v":{"$error":"#N/A"}}]
[null,null,{"$f":"VLOOKUP(A2546,'Analyse S'!A:D,3,FALSE)","v":{"$error":"#N/A"}}]
[null,null,{"$f":"VLOOKUP(A2547,'Analyse S'!A:D,3,FALSE)","v":{"$error":"#N/A"}}]
[null,null,{"$f":"VLOOKUP(A2548,'Analyse S'!A:D,3,FALSE)","v":{"$error":"#N/A"}}]
[null,null,{"$f":"VLOOKUP(A2549,'Analyse S'!A:D,3,FALSE)","v":{"$error":"#N/A"}}]
[null,null,{"$f":"VLOOKUP(A2550,'Analyse S'!A:D,3,FALSE)","v":{"$error":"#N/A"}}]
[null,null,{"$f":"VLOOKUP(A2551,'Analyse S'!A:D,3,FALSE)","v":{"$error":"#N/A"}}]
[null,null,{"$f":"VLOOKUP(A2552,'Analyse S'!A:D,3,FALSE)","v":{"$error":"#N/A"}}]
[null,null,{"$f":"VLOOKUP(A2553,'Analyse S'!A:D,3,FALSE)","v":{"$error":"#N/A"}}]
[null,null,{"$f":"VLOOKUP(A2554,'Analyse S'!A:D,3,FALSE)","v":{"$error":"#N/A"}}]
[null,null,{"$f":"VLOOKUP(A2555,'Analyse S'!A:D,3,FALSE)","v":{"$error":"#N/A"}}]
[null,null,{"$f":"VLOOKUP(A2556,'Analyse S'!A:D,3,FALSE)","v":{"$error":"#N/A"}}]
[null,null,{"$f":"VLOOKUP(A2557,'Analyse S'!A:D,3,FALSE)","v":{"$error":"#N/A"}}]
[null,null,{"$f":"VLOOKUP(A2558,'Analyse S'!A:D,3,FALSE)","v":{"$error":"#N/A"}}]
[null,null,{"$f":"VLOOKUP(A2559,'Analyse S'!A:D,3,FALSE)","v":{"$error":"#N/A"}}]
[null,null,{"$f":"VLOOKUP(A2560,'Analyse S'!A:D,3,FALSE)","v":{"$error":"#N/A"}}]
[null,null,{"$f":"VLOOKUP(A2561,'Analyse S'!A:D,3,FALSE)","v":{"$error":"#N/A"}}]
[null,null,{"$f":"VLOOKUP(A2562,'Analyse S'!A:D,3,FALSE)","v":{"$error":"#N/A"}}]
[null,null,{"$f":"VLOOKUP(A2563,'Analyse S'!A:D,3,FALSE)","v":{"$error":"#N/A"}}]
[null,null,{"$f":"VLOOKUP(A2564,'Analyse S'!A:D,3,FALSE)","v":{"$error":"#N/A"}}]
[null,null,{"$f":"VLOOKUP(A2565,'Analyse S'!A:D,3,FALSE)","v":{"$error":"#N/A"}}]
[null,null,{"$f":"VLOOKUP(A2566,'Analyse S'!A:D,3,FALSE)","v":{"$error":"#N/A"}}]
[null,null,{"$f":"VLOOKUP(A2567,'Analyse S'!A:D,3,FALSE)","v":{"$error":"#N/A"}}]
[null,null,{"$f":"VLOOKUP(A2568,'Analyse S'!A:D,3,FALSE)","v":{"$error":"#N/A"}}]
[null,null,{"$f":"VLOOKUP(A2569,'Analyse S'!A:D,3,FALSE)","v":{"$error":"#N/A"}}]
[null,null,{"$f":"VLOOKUP(A2570,'Analyse S'!A:D,3,FALSE)","v":{"$error":"#N/A"}}]
[null,null,{"$f":"VLOOKUP(A2571,'Analyse S'!A:D,3,FALSE)","v":{"$error":"#N/A"}}]
[null,null,{"$f":"VLOOKUP(A2572,'Analyse S'!A:D,3,FALSE)","v":{"$error":"#N/A"}}]
[null,null,{"$f":"VLOOKUP(A2573,'Analyse S'!A:D,3,FALSE)","v":{"$error":"#N/A"}}]
[null,null,{"$f":"VLOOKUP(A2574,'Analyse S'!A:D,3,FALSE)","v":{"$error":"#N/A"}}]
[null,null,{"$f":"VLOOKUP(A2575,'Analyse S'!A:D,3,FALSE)","v":{"$error":"#N/A"}}]
[null,null,{"$f":"VLOOKUP(A2576,'Analyse S'!A:D,3,FALSE)","v":{"$error":"#N/A"}}]
[null,null,{"$f":"VLOOKUP(A2577,'Analyse S'!A:D,3,FALSE)","v":{"$error":"#N/A"}}]
[null,null,{"$f":"VLOOKUP(A2578,'Analyse S'!A:D,3,FALSE)","v":{"$error":"#N/A"}}]
[null,null,{"$f":"VLOOKUP(A2579,'Analyse S'!A:D,3,FALSE)","v":{"$error":"#N/A"}}]
[null,null,{"$f":"VLOOKUP(A2580,'Analyse S'!A:D,3,FALSE)","v":{"$error":"#N/A"}}]
[null,null,{"$f":"VLOOKUP(A2581,'Analyse S'!A:D,3,FALSE)","v":{"$error":"#N/A"}}]
[null,null,{"$f":"VLOOKUP(A2582,'Analyse S'!A:D,3,FALSE)","v":{"$error":"#N/A"}}]
[null,null,{"$f":"VLOOKUP(A2583,'Analyse S'!A:D,3,FALSE)","v":{"$error":"#N/A"}}]
[null,null,{"$f":"VLOOKUP(A2584,'Analyse S'!A:D,3,FALSE)","v":{"$error":"#N/A"}}]
[null,null,{"$f":"VLOOKUP(A2585,'Analyse S'!A:D,3,FALSE)","v":{"$error":"#N/A"}}]
[null,null,{"$f":"VLOOKUP(A2586,'Analyse S'!A:D,3,FALSE)","v":{"$error":"#N/A"}}]
[null,null,{"$f":"VLOOKUP(A2587,'Analyse S'!A:D,3,FALSE)","v":{"$error":"#N/A"}}]
[null,null,{"$f":"VLOOKUP(A2588,'Analyse S'!A:D,3,FALSE)","v":{"$error":"#N/A"}}]
[null,null,{"$f":"VLOOKUP(A2589,'Analyse S'!A:D,3,FALSE)","v":{"$error":"#N/A"}}]
[null,null,{"$f":"VLOOKUP(A2590,'Analyse S'!A:D,3,FALSE)","v":{"$error":"#N/A"}}]
[null,null,{"$f":"VLOOKUP(A2591,'Analyse S'!A:D,3,FALSE)","v":{"$error":"#N/A"}}]
[null,null,{"$f":"VLOOKUP(A2592,'Analyse S'!A:D,3,FALSE)","v":{"$error":"#N/A"}}]
[null,null,{"$f":"VLOOKUP(A2593,'Analyse S'!A:D,3,FALSE)","v":{"$error":"#N/A"}}]
[null,null,{"$f":"VLOOKUP(A2594,'Analyse S'!A:D,3,FALSE)","v":{"$error":"#N/A"}}]
[null,null,{"$f":"VLOOKUP(A2595,'Analyse S'!A:D,3,FALSE)","v":{"$error":"#N/A"}}]
[null,null,{"$f":"VLOOKUP(A2596,'Analyse S'!A:D,3,FALSE)","v":{"$error":"#N/A"}}]
[null,null,{"$f":"VLOOKUP(A2597,'Analyse S'!A:D,3,FALSE)","v":{"$error":"#N/A"}}]
[null,null,{"$f":"VLOOKUP(A2598,'Analyse S'!A:D,3,FALSE)","v":{"$error":"#N/A"}}]
[null,null,{"$f":"VLOOKUP(A2599,'Analyse S'!A:D,3,FALSE)","v":{"$error":"#N/A"}}]
[null,null,{"$f":"VLOOKUP(A2600,'Analyse S'!A:D,3,FALSE)","v":{"$error":"#N/A"}}]
[null,null,{"$f":"VLOOKUP(A2601,'Analyse S'!A:D,3,FALSE)","v":{"$error":"#N/A"}}]
[null,null,{"$f":"VLOOKUP(A2602,'Analyse S'!A:D,3,FALSE)","v":{"$error":"#N/A"}}]
[null,null,{"$f":"VLOOKUP(A2603,'Analyse S'!A:D,3,FALSE)","v":{"$error":"#N/A"}}]
[null,null,{"$f":"VLOOKUP(A2604,'Analyse S'!A:D,3,FALSE)","v":{"$error":"#N/A"}}]
[null,null,{"$f":"VLOOKUP(A2605,'Analyse S'!A:D,3,FALSE)","v":{"$error":"#N/A"}}]
[null,null,{"$f":"VLOOKUP(A2606,'Analyse S'!A:D,3,FALSE)","v":{"$error":"#N/A"}}]
[null,null,{"$f":"VLOOKUP(A2607,'Analyse S'!A:D,3,FALSE)","v":{"$error":"#N/A"}}]
[null,null,{"$f":"VLOOKUP(A2608,'Analyse S'!A:D,3,FALSE)","v":{"$error":"#N/A"}}]
[null,null,{"$f":"VLOOKUP(A2609,'Analyse S'!A:D,3,FALSE)","v":{"$error":"#N/A"}}]
[null,null,{"$f":"VLOOKUP(A2610,'Analyse S'!A:D,3,FALSE)","v":{"$error":"#N/A"}}]
[null,null,{"$f":"VLOOKUP(A2611,'Analyse S'!A:D,3,FALSE)","v":{"$error":"#N/A"}}]
[null,null,{"$f":"VLOOKUP(A2612,'Analyse S'!A:D,3,FALSE)","v":{"$error":"#N/A"}}]
[null,null,{"$f":"VLOOKUP(A2613,'Analyse S'!A:D,3,FALSE)","v":{"$error":"#N/A"}}]
[null,null,{"$f":"VLOOKUP(A2614,'Analyse S'!A:D,3,FALSE)","v":{"$error":"#N/A"}}]
[null,null,{"$f":"VLOOKUP(A2615,'Analyse S'!A:D,3,FALSE)","v":{"$error":"#N/A"}}]
[null,null,{"$f":"VLOOKUP(A2616,'Analyse S'!A:D,3,FALSE)","v":{"$error":"#N/A"}}]
[null,null,{"$f":"VLOOKUP(A2617,'Analyse S'!A:D,3,FALSE)","v":{"$error":"#N/A"}}]
[null,null,{"$f":"VLOOKUP(A2618,'Analyse S'!A:D,3,FALSE)","v":{"$error":"#N/A"}}]
[null,null,{"$f":"VLOOKUP(A2619,'Analyse S'!A:D,3,FALSE)","v":{"$error":"#N/A"}}]
[null,null,{"$f":"VLOOKUP(A2620,'Analyse S'!A:D,3,FALSE)","v":{"$error":"#N/A"}}]
[null,null,{"$f":"VLOOKUP(A2621,'Analyse S'!A:D,3,FALSE)","v":{"$error":"#N/A"}}]
[null,null,{"$f":"VLOOKUP(A2622,'Analyse S'!A:D,3,FALSE)","v":{"$error":"#N/A"}}]
[null,null,{"$f":"VLOOKUP(A2623,'Analyse S'!A:D,3,FALSE)","v":{"$error":"#N/A"}}]
[null,null,{"$f":"VLOOKUP(A2624,'Analyse S'!A:D,3,FALSE)","v":{"$error":"#N/A"}}]
[null,null,{"$f":"VLOOKUP(A2625,'Analyse S'!A:D,3,FALSE)","v":{"$error":"#N/A"}}]
[null,null,{"$f":"VLOOKUP(A2626,'Analyse S'!A:D,3,FALSE)","v":{"$error":"#N/A"}}]
[null,null,{"$f":"VLOOKUP(A2627,'Analyse S'!A:D,3,FALSE)","v":{"$error":"#N/A"}}]
[null,null,{"$f":"VLOOKUP(A2628,'Analyse S'!A:D,3,FALSE)","v":{"$error":"#N/A"}}]
[null,null,{"$f":"VLOOKUP(A2629,'Analyse S'!A:D,3,FALSE)","v":{"$error":"#N/A"}}]
[null,null,{"$f":"VLOOKUP(A2630,'Analyse S'!A:D,3,FALSE)","v":{"$error":"#N/A"}}]
[null,null,{"$f":"VLOOKUP(A2631,'Analyse S'!A:D,3,FALSE)","v":{"$error":"#N/A"}}]
[null,null,{"$f":"VLOOKUP(A2632,'Analyse S'!A:D,3,FALSE)","v":{"$error":"#N/A"}}]
[null,null,{"$f":"VLOOKUP(A2633,'Analyse S'!A:D,3,FALSE)","v":{"$error":"#N/A"}}]
[null,null,{"$f":"VLOOKUP(A2634,'Analyse S'!A:D,3,FALSE)","v":{"$error":"#N/A"}}]
[null,null,{"$f":"VLOOKUP(A2635,'Analyse S'!A:D,3,FALSE)","v":{"$error":"#N/A"}}]
[null,null,{"$f":"VLOOKUP(A2636,'Analyse S'!A:D,3,FALSE)","v":{"$error":"#N/A"}}]
[null,null,{"$f":"VLOOKUP(A2637,'Analyse S'!A:D,3,FALSE)","v":{"$error":"#N/A"}}]
[null,null,{"$f":"VLOOKUP(A2638,'Analyse S'!A:D,3,FALSE)","v":{"$error":"#N/A"}}]
[null,null,{"$f":"VLOOKUP(A2639,'Analyse S'!A:D,3,FALSE)","v":{"$error":"#N/A"}}]
[null,null,{"$f":"VLOOKUP(A2640,'Analyse S'!A:D,3,FALSE)","v":{"$error":"#N/A"}}]
[null,null,{"$f":"VLOOKUP(A2641,'Analyse S'!A:D,3,FALSE)","v":{"$error":"#N/A"}}]
[null,null,{"$f":"VLOOKUP(A2642,'Analyse S'!A:D,3,FALSE)","v":{"$error":"#N/A"}}]
[null,null,{"$f":"VLOOKUP(A2643,'Analyse S'!A:D,3,FALSE)","v":{"$error":"#N/A"}}]
[null,null,{"$f":"VLOOKUP(A2644,'Analyse S'!A:D,3,FALSE)","v":{"$error":"#N/A"}}]
[null,null,{"$f":"VLOOKUP(A2645,'Analyse S'!A:D,3,FALSE)","v":{"$error":"#N/A"}}]
[null,null,{"$f":"VLOOKUP(A2646,'Analyse S'!A:D,3,FALSE)","v":{"$error":"#N/A"}}]
[null,null,{"$f":"VLOOKUP(A2647,'Analyse S'!A:D,3,FALSE)","v":{"$error":"#N/A"}}]
[null,null,{"$f":"VLOOKUP(A2648,'Analyse S'!A:D,3,FALSE)","v":{"$error":"#N/A"}}]
[null,null,{"$f":"VLOOKUP(A2649,'Analyse S'!A:D,3,FALSE)","v":{"$error":"#N/A"}}]
[null,null,{"$f":"VLOOKUP(A2650,'Analyse S'!A:D,3,FALSE)","v":{"$error":"#N/A"}}]
[null,null,{"$f":"VLOOKUP(A2651,'Analyse S'!A:D,3,FALSE)","v":{"$error":"#N/A"}}]
[null,null,{"$f":"VLOOKUP(A2652,'Analyse S'!A:D,3,FALSE)","v":{"$error":"#N/A"}}]
[null,null,{"$f":"VLOOKUP(A2653,'Analyse S'!A:D,3,FALSE)","v":{"$error":"#N/A"}}]
[null,null,{"$f":"VLOOKUP(A2654,'Analyse S'!A:D,3,FALSE)","v":{"$error":"#N/A"}}]
[null,null,{"$f":"VLOOKUP(A2655,'Analyse S'!A:D,3,FALSE)","v":{"$error":"#N/A"}}]
[null,null,{"$f":"VLOOKUP(A2656,'Analyse S'!A:D,3,FALSE)","v":{"$error":"#N/A"}}]
[null,null,{"$f":"VLOOKUP(A2657,'Analyse S'!A:D,3,FALSE)","v":{"$error":"#N/A"}}]
[null,null,{"$f":"VLOOKUP(A2658,'Analyse S'!A:D,3,FALSE)","v":{"$error":"#N/A"}}]
[null,null,{"$f":"VLOOKUP(A2659,'Analyse S'!A:D,3,FALSE)","v":{"$error":"#N/A"}}]
[null,null,{"$f":"VLOOKUP(A2660,'Analyse S'!A:D,3,FALSE)","v":{"$error":"#N/A"}}]
[null,null,{"$f":"VLOOKUP(A2661,'Analyse S'!A:D,3,FALSE)","v":{"$error":"#N/A"}}]
[null,null,{"$f":"VLOOKUP(A2662,'Analyse S'!A:D,3,FALSE)","v":{"$error":"#N/A"}}]
[null,null,{"$f":"VLOOKUP(A2663,'Analyse S'!A:D,3,FALSE)","v":{"$error":"#N/A"}}]
[null,null,{"$f":"VLOOKUP(A2664,'Analyse S'!A:D,3,FALSE)","v":{"$error":"#N/A"}}]
[null,null,{"$f":"VLOOKUP(A2665,'Analyse S'!A:D,3,FALSE)","v":{"$error":"#N/A"}}]
[null,null,{"$f":"VLOOKUP(A2666,'Analyse S'!A:D,3,FALSE)","v":{"$error":"#N/A"}}]
[null,null,{"$f":"VLOOKUP(A2667,'Analyse S'!A:D,3,FALSE)","v":{"$error":"#N/A"}}]
[null,null,{"$f":"VLOOKUP(A2668,'Analyse S'!A:D,3,FALSE)","v":{"$error":"#N/A"}}]
[null,null,{"$f":"VLOOKUP(A2669,'Analyse S'!A:D,3,FALSE)","v":{"$error":"#N/A"}}]
[null,null,{"$f":"VLOOKUP(A2670,'Analyse S'!A:D,3,FALSE)","v":{"$error":"#N/A"}}]
[null,null,{"$f":"VLOOKUP(A2671,'Analyse S'!A:D,3,FALSE)","v":{"$error":"#N/A"}}]
[null,null,{"$f":"VLOOKUP(A2672,'Analyse S'!A:D,3,FALSE)","v":{"$error":"#N/A"}}]
[null,null,{"$f":"VLOOKUP(A2673,'Analyse S'!A:D,3,FALSE)","v":{"$error":"#N/A"}}]
[null,null,{"$f":"VLOOKUP(A2674,'Analyse S'!A:D,3,FALSE)","v":{"$error":"#N/A"}}]
[null,null,{"$f":"VLOOKUP(A2675,'Analyse S'!A:D,3,FALSE)","v":{"$error":"#N/A"}}]
[null,null,{"$f":"VLOOKUP(A2676,'Analyse S'!A:D,3,FALSE)","v":{"$error":"#N/A"}}]
[null,null,{"$f":"VLOOKUP(A2677,'Analyse S'!A:D,3,FALSE)","v":{"$error":"#N/A"}}]
[null,null,{"$f":"VLOOKUP(A2678,'Analyse S'!A:D,3,FALSE)","v":{"$error":"#N/A"}}]
[null,null,{"$f":"VLOOKUP(A2679,'Analyse S'!A:D,3,FALSE)","v":{"$error":"#N/A"}}]
[null,null,{"$f":"VLOOKUP(A2680,'Analyse S'!A:D,3,FALSE)","v":{"$error":"#N/A"}}]
[null,null,{"$f":"VLOOKUP(A2681,'Analyse S'!A:D,3,FALSE)","v":{"$error":"#N/A"}}]
[null,null,{"$f":"VLOOKUP(A2682,'Analyse S'!A:D,3,FALSE)","v":{"$error":"#N/A"}}]
[null,null,{"$f":"VLOOKUP(A2683,'Analyse S'!A:D,3,FALSE)","v":{"$error":"#N/A"}}]
[null,null,{"$f":"VLOOKUP(A2684,'Analyse S'!A:D,3,FALSE)","v":{"$error":"#N/A"}}]
[null,null,{"$f":"VLOOKUP(A2685,'Analyse S'!A:D,3,FALSE)","v":{"$error":"#N/A"}}]
[null,null,{"$f":"VLOOKUP(A2686,'Analyse S'!A:D,3,FALSE)","v":{"$error":"#N/A"}}]
[null,null,{"$f":"VLOOKUP(A2687,'Analyse S'!A:D,3,FALSE)","v":{"$error":"#N/A"}}]
[null,null,{"$f":"VLOOKUP(A2688,'Analyse S'!A:D,3,FALSE)","v":{"$error":"#N/A"}}]
[null,null,{"$f":"VLOOKUP(A2689,'Analyse S'!A:D,3,FALSE)","v":{"$error":"#N/A"}}]
[null,null,{"$f":"VLOOKUP(A2690,'Analyse S'!A:D,3,FALSE)","v":{"$error":"#N/A"}}]
[null,null,{"$f":"VLOOKUP(A2691,'Analyse S'!A:D,3,FALSE)","v":{"$error":"#N/A"}}]
[null,null,{"$f":"VLOOKUP(A2692,'Analyse S'!A:D,3,FALSE)","v":{"$error":"#N/A"}}]
[null,null,{"$f":"VLOOKUP(A2693,'Analyse S'!A:D,3,FALSE)","v":{"$error":"#N/A"}}]
[null,null,{"$f":"VLOOKUP(A2694,'Analyse S'!A:D,3,FALSE)","v":{"$error":"#N/A"}}]
[null,null,{"$f":"VLOOKUP(A2695,'Analyse S'!A:D,3,FALSE)","v":{"$error":"#N/A"}}]
[null,null,{"$f":"VLOOKUP(A2696,'Analyse S'!A:D,3,FALSE)","v":{"$error":"#N/A"}}]
[null,null,{"$f":"VLOOKUP(A2697,'Analyse S'!A:D,3,FALSE)","v":{"$error":"#N/A"}}]
[null,null,{"$f":"VLOOKUP(A2698,'Analyse S'!A:D,3,FALSE)","v":{"$error":"#N/A"}}]
[null,null,{"$f":"VLOOKUP(A2699,'Analyse S'!A:D,3,FALSE)","v":{"$error":"#N/A"}}]
[null,null,{"$f":"VLOOKUP(A2700,'Analyse S'!A:D,3,FALSE)","v":{"$error":"#N/A"}}]
[null,null,{"$f":"VLOOKUP(A2701,'Analyse S'!A:D,3,FALSE)","v":{"$error":"#N/A"}}]
[null,null,{"$f":"VLOOKUP(A2702,'Analyse S'!A:D,3,FALSE)","v":{"$error":"#N/A"}}]
[null,null,{"$f":"VLOOKUP(A2703,'Analyse S'!A:D,3,FALSE)","v":{"$error":"#N/A"}}]
[null,null,{"$f":"VLOOKUP(A2704,'Analyse S'!A:D,3,FALSE)","v":{"$error":"#N/A"}}]
[null,null,{"$f":"VLOOKUP(A2705,'Analyse S'!A:D,3,FALSE)","v":{"$error":"#N/A"}}]
[null,null,{"$f":"VLOOKUP(A2706,'Analyse S'!A:D,3,FALSE)","v":{"$error":"#N/A"}}]
[null,null,{"$f":"VLOOKUP(A2707,'Analyse S'!A:D,3,FALSE)","v":{"$error":"#N/A"}}]
[null,null,{"$f":"VLOOKUP(A2708,'Analyse S'!A:D,3,FALSE)","v":{"$error":"#N/A"}}]
[null,null,{"$f":"VLOOKUP(A2709,'Analyse S'!A:D,3,FALSE)","v":{"$error":"#N/A"}}]
[null,null,{"$f":"VLOOKUP(A2710,'Analyse S'!A:D,3,FALSE)","v":{"$error":"#N/A"}}]
[null,null,{"$f":"VLOOKUP(A2711,'Analyse S'!A:D,3,FALSE)","v":{"$error":"#N/A"}}]
[null,null,{"$f":"VLOOKUP(A2712,'Analyse S'!A:D,3,FALSE)","v":{"$error":"#N/A"}}]
[null,null,{"$f":"VLOOKUP(A2713,'Analyse S'!A:D,3,FALSE)","v":{"$error":"#N/A"}}]
[null,null,{"$f":"VLOOKUP(A2714,'Analyse S'!A:D,3,FALSE)","v":{"$error":"#N/A"}}]
[null,null,{"$f":"VLOOKUP(A2715,'Analyse S'!A:D,3,FALSE)","v":{"$error":"#N/A"}}]
[null,null,{"$f":"VLOOKUP(A2716,'Analyse S'!A:D,3,FALSE)","v":{"$error":"#N/A"}}]
[null,null,{"$f":"VLOOKUP(A2717,'Analyse S'!A:D,3,FALSE)","v":{"$error":"#N/A"}}]
[null,null,{"$f":"VLOOKUP(A2718,'Analyse S'!A:D,3,FALSE)","v":{"$error":"#N/A"}}]
[null,null,{"$f":"VLOOKUP(A2719,'Analyse S'!A:D,3,FALSE)","v":{"$error":"#N/A"}}]
[null,null,{"$f":"VLOOKUP(A2720,'Analyse S'!A:D,3,FALSE)","v":{"$error":"#N/A"}}]
[null,null,{"$f":"VLOOKUP(A2721,'Analyse S'!A:D,3,FALSE)","v":{"$error":"#N/A"}}]
[null,null,{"$f":"VLOOKUP(A2722,'Analyse S'!A:D,3,FALSE)","v":{"$error":"#N/A"}}]
[null,null,{"$f":"VLOOKUP(A2723,'Analyse S'!A:D,3,FALSE)","v":{"$error":"#N/A"}}]
[null,null,{"$f":"VLOOKUP(A2724,'Analyse S'!A:D,3,FALSE)","v":{"$error":"#N/A"}}]
[null,null,{"$f":"VLOOKUP(A2725,'Analyse S'!A:D,3,FALSE)","v":{"$error":"#N/A"}}]
[null,null,{"$f":"VLOOKUP(A2726,'Analyse S'!A:D,3,FALSE)","v":{"$error":"#N/A"}}]
[null,null,{"$f":"VLOOKUP(A2727,'Analyse S'!A:D,3,FALSE)","v":{"$error":"#N/A"}}]
[null,null,{"$f":"VLOOKUP(A2728,'Analyse S'!A:D,3,FALSE)","v":{"$error":"#N/A"}}]
[null,null,{"$f":"VLOOKUP(A2729,'Analyse S'!A:D,3,FALSE)","v":{"$error":"#N/A"}}]
[null,null,{"$f":"VLOOKUP(A2730,'Analyse S'!A:D,3,FALSE)","v":{"$error":"#N/A"}}]
[null,null,{"$f":"VLOOKUP(A2731,'Analyse S'!A:D,3,FALSE)","v":{"$error":"#N/A"}}]
[null,null,{"$f":"VLOOKUP(A2732,'Analyse S'!A:D,3,FALSE)","v":{"$error":"#N/A"}}]
[null,null,{"$f":"VLOOKUP(A2733,'Analyse S'!A:D,3,FALSE)","v":{"$error":"#N/A"}}]
[null,null,{"$f":"VLOOKUP(A2734,'Analyse S'!A:D,3,FALSE)","v":{"$error":"#N/A"}}]
[null,null,{"$f":"VLOOKUP(A2735,'Analyse S'!A:D,3,FALSE)","v":{"$error":"#N/A"}}]
[null,null,{"$f":"VLOOKUP(A2736,'Analyse S'!A:D,3,FALSE)","v":{"$error":"#N/A"}}]
[null,null,{"$f":"VLOOKUP(A2737,'Analyse S'!A:D,3,FALSE)","v":{"$error":"#N/A"}}]
[null,null,{"$f":"VLOOKUP(A2738,'Analyse S'!A:D,3,FALSE)","v":{"$error":"#N/A"}}]
[null,null,{"$f":"VLOOKUP(A2739,'Analyse S'!A:D,3,FALSE)","v":{"$error":"#N/A"}}]
[null,null,{"$f":"VLOOKUP(A2740,'Analyse S'!A:D,3,FALSE)","v":{"$error":"#N/A"}}]
[null,null,{"$f":"VLOOKUP(A2741,'Analyse S'!A:D,3,FALSE)","v":{"$error":"#N/A"}}]
[null,null,{"$f":"VLOOKUP(A2742,'Analyse S'!A:D,3,FALSE)","v":{"$error":"#N/A"}}]
[null,null,{"$f":"VLOOKUP(A2743,'Analyse S'!A:D,3,FALSE)","v":{"$error":"#N/A"}}]
[null,null,{"$f":"VLOOKUP(A2744,'Analyse S'!A:D,3,FALSE)","v":{"$error":"#N/A"}}]
[null,null,{"$f":"VLOOKUP(A2745,'Analyse S'!A:D,3,FALSE)","v":{"$error":"#N/A"}}]
[null,null,{"$f":"VLOOKUP(A2746,'Analyse S'!A:D,3,FALSE)","v":{"$error":"#N/A"}}]
[null,null,{"$f":"VLOOKUP(A2747,'Analyse S'!A:D,3,FALSE)","v":{"$error":"#N/A"}}]
[null,null,{"$f":"VLOOKUP(A2748,'Analyse S'!A:D,3,FALSE)","v":{"$error":"#N/A"}}]
[null,null,{"$f":"VLOOKUP(A2749,'Analyse S'!A:D,3,FALSE)","v":{"$error":"#N/A"}}]
[null,null,{"$f":"VLOOKUP(A2750,'Analyse S'!A:D,3,FALSE)","v":{"$error":"#N/A"}}]
[null,null,{"$f":"VLOOKUP(A2751,'Analyse S'!A:D,3,FALSE)","v":{"$error":"#N/A"}}]
[null,null,{"$f":"VLOOKUP(A2752,'Analyse S'!A:D,3,FALSE)","v":{"$error":"#N/A"}}]
[null,null,{"$f":"VLOOKUP(A2753,'Analyse S'!A:D,3,FALSE)","v":{"$error":"#N/A"}}]
[null,null,{"$f":"VLOOKUP(A2754,'Analyse S'!A:D,3,FALSE)","v":{"$error":"#N/A"}}]
[null,null,{"$f":"VLOOKUP(A2755,'Analyse S'!A:D,3,FALSE)","v":{"$error":"#N/A"}}]
[null,null,{"$f":"VLOOKUP(A2756,'Analyse S'!A:D,3,FALSE)","v":{"$error":"#N/A"}}]
[null,null,{"$f":"VLOOKUP(A2757,'Analyse S'!A:D,3,FALSE)","v":{"$error":"#N/A"}}]
[null,null,{"$f":"VLOOKUP(A2758,'Analyse S'!A:D,3,FALSE)","v":{"$error":"#N/A"}}]