{"text_format":"3","workbook":"xlsx","n_sheets":2,"sheets":["cache","CDD"],"not_rendered":{"macros":1,"external_links":1,"defined_names":1},"read":"whole","date_system":"1900"}

{"sheet":"cache","index":0,"n_rows":48,"n_cols":13,"rows_kept":48}
["JANVIER","FÉVRIER","MARS","AVRIL","MAI","JUIN","JUILLET","AOÛT","SEPTEMBRE","OCTOBRE","NOVEMBRE","DÉCEMBRE"]
["Dup",null,"Joffre","nuit dup","nuit joffre"]
[{"$f":"(SUM([1]arrets!$D$68:$H$68)*1+SUM([1]arrets!$D$69:$H$69)*0.5+SUM([1]arrets!$D$70:$H$70)*0.5)/5","v":2},"janvier",{"$f":"(SUM([1]arrets!$D$74:$H$74)*1+SUM([1]arrets!$D$75:$H$75)*0.5+SUM([1]arrets!$D$76:$H$76)*0.5)/5","v":1},{"$f":"(SUM([1]arrets!$D$80:$H$80)*1+SUM([1]arrets!$D$81:$H$81)*0.5+SUM([1]arrets!$D$82:$H$82)*0.5)/5","v":0},{"$f":"(SUM([1]arrets!$D$86:$H$86)*1+SUM([1]arrets!$D$87:$H$87)*0.5+SUM([1]arrets!$D$88:$H$88)*0.5)/5","v":0}]
[{"$f":"(SUM([1]arrets!$I$68:$L$68)*1+SUM([1]arrets!$I$69:$L$69)*0.5+SUM([1]arrets!$I$70:$L$70)*0.5)/5","v":0.8},"février",{"$f":"(SUM([1]arrets!$I$74:$L$74)*1+SUM([1]arrets!$I$75:$L$75)*0.5+SUM([1]arrets!$I$76:$L$76)*0.5)/5","v":0.3},{"$f":"(SUM([1]arrets!$I$80:$L$80)*1+SUM([1]arrets!$I$81:$L$81)*0.5+SUM([1]arrets!$I$82:$L$82)*0.5)/5","v":0},{"$f":"(SUM([1]arrets!$I$86:$L$86)*1+SUM([1]arrets!$I$87:$L$87)*0.5+SUM([1]arrets!$I$88:$L$88)*0.5)/5","v":0}]
[{"$f":"(SUM([1]arrets!$M$68:$P$68)*1+SUM([1]arrets!$M$69:$P$69)*0.5+SUM([1]arrets!$M$70:$P$70)*0.5)/5","v":0},"mars",{"$f":"(SUM([1]arrets!$M$74:$P$74)*1+SUM([1]arrets!$M$75:$P$75)*0.5+SUM([1]arrets!$M$76:$P$76)*0.5)/5","v":0},{"$f":"(SUM([1]arrets!$M$80:$P$80)*1+SUM([1]arrets!$M$81:$P$81)*0.5+SUM([1]arrets!$M$82:$P$82)*0.5)/5","v":0},{"$f":"(SUM([1]arrets!$M$86:$P$86)*1+SUM([1]arrets!$M$87:$P$87)*0.5+SUM([1]arrets!$M$88:$P$88)*0.5)/5","v":0}]
[{"$f":"(SUM([1]arrets!$Q$68:$U$68)*1+SUM([1]arrets!$Q$69:$U$69)*0.5+SUM([1]arrets!$Q$70:$U$70)*0.5)/5","v":0},"avril",{"$f":"(SUM([1]arrets!$Q$74:$U$74)*1+SUM([1]arrets!$Q$75:$U$75)*0.5+SUM([1]arrets!$Q$76:$U$76)*0.5)/5","v":0},{"$f":"(SUM([1]arrets!$Q$80:$U$80)*1+SUM([1]arrets!$Q$81:$U$81)*0.5+SUM([1]arrets!$Q$82:$U$82)*0.5)/5","v":0},{"$f":"(SUM([1]arrets!$Q$86:$U$86)*1+SUM([1]arrets!$Q$87:$U$87)*0.5+SUM([1]arrets!$Q$88:$U$88)*0.5)/5","v":0}]
[{"$f":"(SUM([1]arrets!$V$68:$Y$68)*1+SUM([1]arrets!$V$69:$Y$69)*0.5+SUM([1]arrets!$V$70:$Y$70)*0.5)/5","v":0},"mai",{"$f":"(SUM([1]arrets!$V$74:$Y$74)*1+SUM([1]arrets!$V$75:$Y$75)*0.5+SUM([1]arrets!$V$76:$Y$76)*0.5)/5","v":0},{"$f":"(SUM([1]arrets!$V$80:$Y$80)*1+SUM([1]arrets!$V$81:$Y$81)*0.5+SUM([1]arrets!$V$82:$Y$82)*0.5)/5","v":0},{"$f":"(SUM([1]arrets!$V$86:$Y$86)*1+SUM([1]arrets!$V$87:$Y$87)*0.5+SUM([1]arrets!$V$88:$Y$88)*0.5)/5","v":0}]
[{"$f":"(SUM([1]arrets!$Z$68:$AC$68)*1+SUM([1]arrets!$Z$69:$AC$69)*0.5+SUM([1]arrets!$Z$70:$AC$70)*0.5)/5","v":0},"juin",{"$f":"(SUM([1]arrets!$Z$74:$AC$74)*1+SUM([1]arrets!$Z$75:$AC$75)*0.5+SUM([1]arrets!$Z$76:$AC$76)*0.5)/5","v":0},{"$f":"(SUM([1]arrets!$Z$80:$AC$80)*1+SUM([1]arrets!$Z$81:$AC$81)*0.5+SUM([1]arrets!$Z$82:$AC$82)*0.5)/5","v":0},{"$f":"(SUM([1]arrets!$Z$86:$AC$86)*1+SUM([1]arrets!$Z$87:$AC$87)*0.5+SUM([1]arrets!$Z$88:$AC$88)*0.5)/5","v":0}]
[{"$f":"(SUM([1]arrets!$AD$68:$AH$68)*1+SUM([1]arrets!$AD$69:$AH$69)*0.5+SUM([1]arrets!$AD$70:$AH$70)*0.5)/5","v":0},"juillet",{"$f":"(SUM([1]arrets!$AD$74:$AH$74)*1+SUM([1]arrets!$AD$75:$AH$75)*0.5+SUM([1]arrets!$AD$76:$AH$76)*0.5)/5","v":0},{"$f":"(SUM([1]arrets!$AD$80:$AH$80)*1+SUM([1]arrets!$AD$81:$AH$81)*0.5+SUM([1]arrets!$AD$82:$AH$82)*0.5)/5","v":0},{"$f":"(SUM([1]arrets!$AD$86:$AH$86)*1+SUM([1]arrets!$AD$87:$AH$87)*0.5+SUM([1]arrets!$AD$88:$AH$88)*0.5)/5","v":0}]
[{"$f":"(SUM([1]arrets!$AI$68:$AL$68)*1+SUM([1]arrets!$AI$69:$AL$69)*0.5+SUM([1]arrets!$AI$70:$AL$70)*0.5)/5","v":0},"août",{"$f":"(SUM([1]arrets!$AI$74:$AL$74)*1+SUM([1]arrets!$AI$75:$AL$75)*0.5+SUM([1]arrets!$AI$76:$AL$76)*0.5)/5","v":0},{"$f":"(SUM([1]arrets!$AI$80:$AL$80)*1+SUM([1]arrets!$AI$81:$AL$81)*0.5+SUM([1]arrets!$AI$82:$AL$82)*0.5)/5","v":0},{"$f":"(SUM([1]arrets!$AI$86:$AL$86)*1+SUM([1]arrets!$AI$87:$AL$87)*0.5+SUM([1]arrets!$AI$88:$AL$88)*0.5)/5","v":0}]
[{"$f":"(SUM([1]arrets!$AM$68:$AP$68)*1+SUM([1]arrets!$AM$69:$AP$69)*0.5+SUM([1]arrets!$AM$70:$AP$70)*0.5)/5","v":0},"septembre",{"$f":"(SUM([1]arrets!$AM$74:$AP$74)*1+SUM([1]arrets!$AM$75:$AP$75)*0.5+SUM([1]arrets!$AM$76:$AP$76)*0.5)/5","v":0},{"$f":"(SUM([1]arrets!$AM$80:$AP$80)*1+SUM([1]arrets!$AM$81:$AP$81)*0.5+SUM([1]arrets!$AM$82:$AP$82)*0.5)/5","v":0},{"$f":"(SUM([1]arrets!$AM$86:$AP$86)*1+SUM([1]arrets!$AM$87:$AP$87)*0.5+SUM([1]arrets!$AM$88:$AP$88)*0.5)/5","v":0}]
[{"$f":"(SUM([1]arrets!$AQ$68:$AU$68)*1+SUM([1]arrets!$AQ$69:$AU$69)*0.5+SUM([1]arrets!$AQ$70:$AU$70)*0.5)/5","v":0},"octobre",{"$f":"(SUM([1]arrets!$AQ$74:$AU$74)*1+SUM([1]arrets!$AQ$75:$AU$75)*0.5+SUM([1]arrets!$AQ$76:$AU$76)*0.5)/5","v":0},{"$f":"(SUM([1]arrets!$AQ$80:$AU$80)*1+SUM([1]arrets!$AQ$81:$AU$81)*0.5+SUM([1]arrets!$AQ$82:$AU$82)*0.5)/5","v":0},{"$f":"(SUM([1]arrets!$AQ$86:$AU$86)*1+SUM([1]arrets!$AQ$87:$AU$87)*0.5+SUM([1]arrets!$AQ$88:$AU$88)*0.5)/5","v":0}]
[{"$f":"(SUM([1]arrets!$AV$68:$AY$68)*1+SUM([1]arrets!$AV$69:$AY$69)*0.5+SUM([1]arrets!$AV$70:$AY$70)*0.5)/5","v":0},"novembre",{"$f":"(SUM([1]arrets!$AV$74:$AY$74)*1+SUM([1]arrets!$AV$75:$AY$75)*0.5+SUM([1]arrets!$AV$76:$AY$76)*0.5)/5","v":0},{"$f":"(SUM([1]arrets!$AV$80:$AY$80)*1+SUM([1]arrets!$AV$81:$AY$81)*0.5+SUM([1]arrets!$AV$82:$AY$82)*0.5)/5","v":0},{"$f":"(SUM([1]arrets!$AV$86:$AY$86)*1+SUM([1]arrets!$AV$87:$AY$87)*0.5+SUM([1]arrets!$AV$88:$AY$88)*0.5)/5","v":0}]
[{"$f":"(SUM([1]arrets!$AZ$68:$BC$68)*1+SUM([1]arrets!$AZ$69:$BC$69)*0.5+SUM([1]arrets!$AZ$70:$BC$70)*0.5)/5","v":0},"décembre",{"$f":"(SUM([1]arrets!$AZ$74:$BC$74)*1+SUM([1]arrets!$AZ$75:$BC$75)*0.5+SUM([1]arrets!$AZ$76:$BC$76)*0.5)/5","v":0},{"$f":"(SUM([1]arrets!$AZ$80:$BC$80)*1+SUM([1]arrets!$AZ$81:$BC$81)*0.5+SUM([1]arrets!$AZ$82:$BC$82)*0.5)/5","v":0},{"$f":"(SUM([1]arrets!$AZ$86:$BC$86)*1+SUM([1]arrets!$AZ$87:$BC$87)*0.5+SUM([1]arrets!$AZ$88:$BC$88)*0.5)/5","v":0}]
[]
["AIDES SOIGNANTS","jan","fev","mars","avril","mai","juin","juil","aout","sept","oct","nov","dec"]
["asd (cdd as dup)"]
{"$rows_empty":12}
["asj (cdd as joffre)"]
{"$rows_empty":10}
["asdn (AS nuit DUP)"]
[]
[]
[]
[]
[]
[]
["asnj (AS nuit JOF))"]

{"sheet":"CDD","index":1,"n_rows":89,"n_cols":21,"rows_kept":89,"merged":[[0,0,1,23],[2,0,3,0],[2,1,3,1],[2,2,3,2],[2,3,3,3],[2,4,3,4],[2,5,3,5],[2,6,3,6],[2,7,3,7],[2,8,3,8],[2,9,3,9],[2,10,3,10],[2,11,3,11],[2,12,3,12],[2,13,3,13],[2,14,3,14],[2,15,3,15],[2,16,3,16],[2,17,3,17],[2,18,3,18],[2,19,3,19],[2,20,3,23],[9,20,9,23],[12,20,12,23],[14,20,14,23],[17,20,17,23],[18,20,18,23],[19,20,19,23],[20,20,20,23],[21,20,21,23],[22,20,22,23],[23,20,23,23],[24,20,24,23],[25,20,25,23],[26,20,26,23],[27,20,27,23],[28,20,28,23],[29,20,29,23],[30,20,30,23],[31,20,31,23],[32,20,32,23],[35,0,35,1],[35,20,35,23],[36,20,36,23],[38,20,38,23],[40,20,40,23],[41,20,41,23],[42,20,42,23],[44,20,44,23],[46,20,46,23],[48,20,48,23],[50,20,50,23],[52,20,52,23],[53,20,53,23],[54,20,54,23],[56,20,56,23],[58,20,58,23],[60,20,60,23],[62,20,62,23],[64,0,64,1],[65,20,65,23],[66,20,66,23],[68,20,68,23],[70,20,70,23],[72,20,72,23],[73,20,73,23],[74,20,74,23],[77,20,77,23],[80,20,80,23],[81,20,81,23],[83,20,83,23],[85,20,85,23]]}
["CDD PÔLE GERIATRIQUE DE L'ESSONNE"]
[]
[2015,"Affectation","EQUIPE","date     affectation","En remplacememnt de","DATE ECHEANCE","janv","fev","mars","avr","mai","juin","juil","aout","sept","oct","nov","dec","janv","Mise en stage","REMPLACE PAR"]
[]
["Total IDE",{"$nulls":3},{"$f":"SUM(#REF!,#REF!,#REF!,#REF!,#REF!,#REF!)","v":{"$error":"#REF!"}},null,{"$f":"SUM(#REF!,#REF!,#REF!,#REF!,#REF!,#REF!)","v":{"$error":"#REF!"}},{"$f":"SUM(#REF!,#REF!,#REF!,#REF!,#REF!,#REF!)","v":{"$error":"#REF!"}},{"$f":"SUM(#REF!,#REF!,#REF!,#REF!,#REF!,#REF!)","v":{"$error":"#REF!"}},{"$f":"SUM(#REF!,#REF!,#REF!,#REF!,#REF!,#REF!)","v":{"$error":"#REF!"}},{"$f":"SUM(#REF!,#REF!,#REF!,#REF!,#REF!,#REF!)","v":{"$error":"#REF!"}},{"$f":"SUM(#REF!,#REF!,#REF!,#REF!,#REF!,#REF!)","v":{"$error":"#REF!"}},{"$f":"SUM(#REF!,#REF!,#REF!,#REF!,#REF!,#REF!)","v":{"$error":"#REF!"}},{"$f":"SUM(#REF!,#REF!,#REF!,#REF!,#REF!,#REF!)","v":{"$error":"#REF!"}},{"$f":"SUM(#REF!,#REF!,#REF!,#REF!,#REF!,#REF!)","v":{"$error":"#REF!"}},{"$f":"SUM(#REF!,#REF!,#REF!,#REF!,#REF!,#REF!)","v":{"$error":"#REF!"}},{"$f":"SUM(#REF!,#REF!,#REF!,#REF!,#REF!,#REF!)","v":{"$error":"#REF!"}},{"$f":"SUM(#REF!,#REF!,#REF!,#REF!,#REF!,#REF!)","v":{"$error":"#REF!"}},{"$f":"SUM(#REF!,#REF!,#REF!,#REF!,#REF!,#REF!)","v":{"$error":"#REF!"}}]
[]
[]
["CDD PÔLE GERIATRIQUE DE L'ESSONNE"]
[]
["CDD AS DUP","SENART",{"$nulls":4},"janv","fev","mars","avr","mai","juin","juil","aout","sept","oct","nov","dec","dec","2015-01-01"]
["maz","UG 1610",null,"2014-09-22",null,null,0,0,0,0,0,0,0,0,0,0,0,0,0]
["bet","UG 1510",null,"2014-09-27",null,"2015-07-31",1,1,1,1,1,1,1,1,1,1,1,1,1]
[]
[]
[]
[]
[]
[null,"Total SENART A1",{"$nulls":4},{"$f":"SUM(G11:G16)","v":1},1,1,1,1,1,1,1,1,1,1,1,1]
[{"$nulls":20},"souhaite arreter 30 juin"]
["bil","UG 1100",null,"2014-12-15",null,"2015-06-30",1,1,1,1,1,1,0,0,0,0,0,0,0]
["car","UG 1100",null,"2014-04-11",null,"2015-07-01",1,1,1,1,1,1,1,1,1,1,1,1,1]
["dag","UG 1100",null,"2012-03-15",null,"2015-07-31",1,1,1,1,1,1,1,1,1,1,1,1,1,null,"Arret CDD par Cadre à la fin du contrat"]
["gue","UG 1100",null,"2014-09-11",null,null,1,0,0,0,0,0,0,0,0,0,0,0,0,"2015-01-01"]
["gui","UG 1100",null,"2014-09-17",null,null,0,0,0,0,0,0,0,0,0,0,0,0,0]
["heg","UG 1100",null,"2014-02-11",null,"2015-06-30",1,1,1,1,1,1,1,1,1,1,1,1,1]
["jom","UG 1100",null,"2014-07-21",null,"2015-06-30",1,1,1,1,1,1,1,1,1,1,1,1,1,"2015-01-01"]
["lam","UG 1100",null,"2014-08-11",null,null,0,0,0,0,0,0,0,0,0,0,0,0,0,null,"Arret contrat decision cadre sup"]
["mari","UG 1100",null,"2014-11-18",null,"2015-06-30",1,1,1,1,1,1,0,0,0,0,0,0,0]
["mayi","UG 1010",null,"2012-03-15",null,"2015-07-31",1,1,1,1,1,1,1,1,1,1,1,1,1]
["naga","UG 1100",null,"2014-09-22",null,"2015-06-30",1,1,1,1,1,1,1,1,1,1,1,1,1,"2015-01-01"]
["reau","UG 1100",null,"2014-08-16",null,null,0,0,0,0,0,0,0,0,0,0,0,0,0]
["mess","UG 1100",null,"2015-04-13",null,"2015-06-13",0,0,0,1,1,1,1,1,1,1,1,1,1]
["just","ug 1100",null,"2015-07-03",null,null,0,0,0,0,0,0,1,1,0,0,0,0,0,null,"contrat 2 mois été"]
[]
[null,"Total SENART A2",{"$nulls":4},{"$f":"SUM(G20:G33)","v":9},8,8,9,9,9,8,8,7,7,7,7,7]
["Total SENART",{"$nulls":5},{"$f":"G35+G18","v":10},{"$f":"H35+H18","v":9},9,10,10,10,9,9,8,8,8,8,8]
[null,"SEINE",{"$nulls":4},"janv","fev","mars","avr","mai","juin","juil","aout","sept","oct","nov","dec","dec","2015-01-01"]
["lher","UG 1710",null,"2014-12-22",null,null,1,1,1,1,1,1,1,1,1,1,1,1,1]
{"$rows_empty":13}
[null,"Total SEINE B1",null,null,{"$f":"SUM(E38:E51)","v":0},null,{"$f":"SUM(G38:G51)","v":1},{"$f":"SUM(H38:H51)","v":1},1,1,1,1,1,1,1,1,1,1,1]
[{"$nulls":19},"2015-01-01"]
["ark","UG 1910",null,"2014-11-07","xxx",null,0,0,0,0,0,0,0,0,0,0,0,0,0,"2015-01-01"]
["dial","UG 1910",null,"2014-11-01","xxx",null,0,0,0,0,0,0,0,0,0,0,0,0,0]
["djo","UG 1910",null,"2014-04-23",null,"2015-06-30",1,1,1,1,1,1,1,1,1,1,1,1,1]
["kiem","UG 1910",null,"2015-06-20",null,"2015-08-20",0,0,0,0,0,0,1,1,1,1,1,1,1]
[]
[]
[]
[]
[]
[]
[null,"Total SEINE B2",{"$nulls":4},{"$f":"SUM(G54:G63)","v":1},{"$f":"SUM(H54:H63)","v":1},1,1,1,1,2,2,2,2,2,2,2]
["Total SEINE",{"$nulls":5},{"$f":"G64+G52","v":2},{"$f":"H64+H52","v":2},2,2,2,2,3,3,3,3,3,3,3]
["CDD AS JOFFRE",{"$nulls":5},"janv","fev","mars","avr","mai","juin","juil","aout","sept","oct","nov","dec","dec","2015-01-01"]
["bach","UG 1300",null,"2012-02-27",null,"2015-07-31",1,1,1,1,1,1,1,0,0,0,0,0,0,"arrret contrat"]
["che","UG 1300",null,"2015-01-05",null,"2015-08-23",1,1,1,1,1,1,1,1,0,0,0,0,0,"souhaite arreter"]
["din","UG 1300",null,"2013-06-17",null,null,0,0,0,0,0,0,0,0,0,0,0,0,0,"FIN DE CONTRAT"]
["mang","UG 1300",null,"2012-11-05",null,"2015-05-31",1,1,1,1,1,0,0,0,0,0,0,0,0]
["ngut","UG 1300",null,"2013-09-19",null,"2015-07-31",1,1,1,1,1,1,1,0,0,0,0,0,0,"2015-01-01"]
["nzun","UG 1300",null,"2012-09-17",null,null,0,0,0,0,0,0,0,0,0,0,0,0,0,"2015-01-01"]
["tcher","UG 1300",null,"2014-04-18",null,null,0,0,0,0,0,0,0,0,0,0,0,0,0,"2015-01-01"]
["theve","UG 1300",null,"2014-04-14",null,null,0,0,0,0,0,0,0,0,0,0,0,0,0]
["did","UG 1300 sur senart",null,"2015-01-19",null,null,1,1,0,0,0,0,0,0,0,0,0,0,0]
[]
[]
[]
[null,"Total JOFFRE",{"$nulls":4},{"$f":"SUM(G67:G77)","v":5},{"$f":"SUM(H67:H77)","v":5},4,4,4,3,3,1,0,0,0,0,0]
["CDD AS NUIT DUP"]
["nko","nuit dupuytren",null,"2015-06-29",null,null,0,0,0,0,0,0,1,1,1,1,1,1,1,"2015-08-29"]
[]
[]
["CDD AS NUIT JOF"]
[]
[null,"Total nuit",null,null,{"$f":"SUM(E81:E85)","v":0},null,{"$f":"SUM(G81:G85)","v":0},0,0,0,0,0,1,1,1,1,1,1,1]
["Total AS ",{"$nulls":3},{"$f":"SUM(E18,E35,E52,E64,E79,E86)","v":0},null,{"$f":"SUM(G18,G35,G52,G64,G79,G86)","v":17},16,15,16,16,15,16,14,12,12,12,12,12]
[]
["BILAN CDD"]