{"text_format":"3","workbook":"xlsx","n_sheets":15,"sheets":["Accueil ","Janvier","Février","Mars","Avril","Mai","Juin","Juillet","Aout","Septembre","Octobre","Novembre","Decembre","annuel","combo"],"not_rendered":{"macros":1},"read":"whole","date_system":"1900"}

{"sheet":"Accueil ","index":0,"n_rows":0,"n_cols":0,"rows_kept":0}

{"sheet":"Janvier","index":1,"n_rows":45,"n_cols":12,"rows_kept":45,"merged":[[0,0,0,12],[1,0,1,6],[1,7,2,9],[1,10,44,10],[1,11,44,12],[2,1,2,4],[3,1,3,4],[3,6,4,6],[3,7,19,9],[4,1,4,4],[5,0,5,6],[6,1,6,2],[7,1,7,2],[7,6,14,6],[8,1,8,2],[9,1,9,2],[10,1,10,2],[11,1,11,2],[12,1,12,2],[13,1,13,2],[14,1,14,2],[15,0,15,6],[16,1,16,4],[17,1,17,4],[17,6,19,6],[18,1,18,4],[19,1,19,4],[20,0,20,6],[20,7,21,9],[21,3,21,4],[22,3,22,4],[22,6,27,6],[22,7,44,9],[23,3,23,4],[24,3,24,4],[25,3,25,4],[26,3,26,4],[27,3,27,4],[28,0,28,6],[29,1,29,2],[29,3,29,4],[30,1,30,2],[30,3,30,4],[30,6,36,6],[31,1,31,2],[31,3,31,4],[32,1,32,2],[32,3,32,4],[33,1,33,2],[33,3,33,4],[34,1,34,2],[34,3,34,4],[35,1,35,2],[35,3,35,4],[36,1,36,2],[36,3,36,4],[37,0,37,6],[38,1,38,4],[39,1,39,4],[39,6,44,6],[40,1,40,4],[41,1,41,4],[42,1,42,4],[43,1,43,4],[44,1,44,4]]}
["Janvier"]
["Recettes Divers",{"$nulls":6},"Recettes total",null,null,"Total",{"$f":"SUM(H4-H23)","v":{"v":0,"d":"0.00 €"}}]
["Dates","Objet",{"$nulls":3},"Prix","Sous Total"]
[{"$nulls":5},{"v":0,"d":"0.00 €"},{"$f":"SUM(F4:F5)","v":{"v":0,"d":"0.00 €"}},{"$f":"SUM(G4+G8+G18)","v":{"v":0,"d":"0.00 €"}}]
[{"$nulls":5},{"v":0,"d":"0.00 €"}]
["ventes tableaux"]
["Dates","Titres",null,"Tailles","Quantités","Prix","Sous Total"]
[{"$nulls":5},{"v":0,"d":"0.00 €"},{"$f":"SUM(F8:F15)","v":{"v":0,"d":"0.00 €"}}]
[{"$nulls":5},{"v":0,"d":"0.00 €"}]
[{"$nulls":5},{"v":0,"d":"0.00 €"}]
[{"$nulls":5},{"v":0,"d":"0.00 €"}]
[{"$nulls":5},{"v":0,"d":"0.00 €"}]
[{"$nulls":5},{"v":0,"d":"0.00 €"}]
[{"$nulls":5},{"v":0,"d":"0.00 €"}]
[{"$nulls":5},{"v":0,"d":"0.00 €"}]
["Notes de Debours"]
["Dates","lieux",{"$nulls":3},"Prix","Sous Total"]
[{"$nulls":5},{"v":0,"d":"0.00 €"},{"$f":"SUM(F18:F20)","v":{"v":0,"d":"0.00 €"}}]
[{"$nulls":5},{"v":0,"d":"0.00 €"}]
[{"$nulls":5},{"v":0,"d":"0.00 €"}]
["Employés",{"$nulls":6},"Depense total"]
["Dates","Employées","Nbres jrs","Lieux",null,"Prix","Sous Total"]
[{"$nulls":5},{"v":0,"d":"0.00 €"},{"$f":"SUM(F23:F28)","v":{"v":0,"d":"0.00 €"}},{"$f":"SUM(G23+G31+G40)","v":{"v":0,"d":"0.00 €"}}]
[{"$nulls":5},{"v":0,"d":"0.00 €"}]
[{"$nulls":5},{"v":0,"d":"0.00 €"}]
[{"$nulls":5},{"v":0,"d":"0.00 €"}]
[{"$nulls":5},{"v":0,"d":"0.00 €"}]
[{"$nulls":5},{"v":0,"d":"0.00 €"}]
["Frais Expoitions"]
["Dates","Objet",null,"Quantités",null,"Prix","Sous Total"]
[{"$nulls":5},{"v":0,"d":"0.00 €"},{"$f":"SUM(F31:F37)","v":{"v":0,"d":"0.00 €"}}]
[{"$nulls":5},{"v":0,"d":"0.00 €"}]
[{"$nulls":5},{"v":0,"d":"0.00 €"}]
[{"$nulls":5},{"v":0,"d":"0.00 €"}]
[{"$nulls":5},{"v":0,"d":"0.00 €"}]
[{"$nulls":5},{"v":0,"d":"0.00 €"}]
[{"$nulls":5},{"v":0,"d":"0.00 €"}]
["Dépense Divers"]
["Dates","Objet",{"$nulls":3},"Prix","Sous Total"]
[{"$nulls":5},{"v":0,"d":"0.00 €"},{"$f":"SUM(F40:F44)","v":{"v":0,"d":"0.00 €"}}]
[{"$nulls":5},{"v":0,"d":"0.00 €"}]
[{"$nulls":5},{"v":0,"d":"0.00 €"}]
[{"$nulls":5},{"v":0,"d":"0.00 €"}]
[{"$nulls":5},{"v":0,"d":"0.00 €"}]
[{"$nulls":5},{"v":0,"d":"0.00 €"}]

{"sheet":"Février","index":2,"n_rows":45,"n_cols":12,"rows_kept":45,"merged":[[0,0,0,6],[1,0,1,6],[1,7,2,9],[1,10,44,10],[1,11,44,12],[2,1,2,4],[3,1,3,4],[3,6,4,6],[3,7,19,9],[4,1,4,4],[5,0,5,6],[6,1,6,2],[7,1,7,2],[7,6,14,6],[8,1,8,2],[9,1,9,2],[10,1,10,2],[11,1,11,2],[12,1,12,2],[13,1,13,2],[14,1,14,2],[15,0,15,6],[16,1,16,4],[17,1,17,4],[17,6,19,6],[18,1,18,4],[19,1,19,4],[20,0,20,6],[20,7,21,9],[21,3,21,4],[22,3,22,4],[22,6,27,6],[22,7,44,9],[23,3,23,4],[24,3,24,4],[25,3,25,4],[26,3,26,4],[27,3,27,4],[28,0,28,6],[29,1,29,2],[29,3,29,4],[30,1,30,2],[30,3,30,4],[30,6,36,6],[31,1,31,2],[31,3,31,4],[32,1,32,2],[32,3,32,4],[33,1,33,2],[33,3,33,4],[34,1,34,2],[34,3,34,4],[35,1,35,2],[35,3,35,4],[36,1,36,2],[36,3,36,4],[37,0,37,6],[38,1,38,4],[39,1,39,4],[39,6,44,6],[40,1,40,4],[41,1,41,4],[42,1,42,4],[43,1,43,4],[44,1,44,4]]}
["Fevrier"]
["Recettes Divers",{"$nulls":6},"Recettes total",null,null,"Total",{"$f":"SUM(H4-H23)","v":{"v":0,"d":"0.00 €"}}]
["Dates","Objet",{"$nulls":3},"Prix","Sous Total"]
[{"$nulls":5},{"v":0,"d":"0.00 €"},{"$f":"SUM(F4:F5)","v":{"v":0,"d":"0.00 €"}},{"$f":"SUM(G4+G8+G18)","v":{"v":0,"d":"0.00 €"}}]
[{"$nulls":5},{"v":0,"d":"0.00 €"}]
["ventes tableaux"]
["Dates","Titres",null,"Tailles","Quantités","Prix","Sous Total"]
[{"$nulls":5},{"v":0,"d":"0.00 €"},{"$f":"SUM(F8:F15)","v":{"v":0,"d":"0.00 €"}}]
[{"$nulls":5},{"v":0,"d":"0.00 €"}]
[{"$nulls":5},{"v":0,"d":"0.00 €"}]
[{"$nulls":5},{"v":0,"d":"0.00 €"}]
[{"$nulls":5},{"v":0,"d":"0.00 €"}]
[{"$nulls":5},{"v":0,"d":"0.00 €"}]
[{"$nulls":5},{"v":0,"d":"0.00 €"}]
[{"$nulls":5},{"v":0,"d":"0.00 €"}]
["Notes de Debours"]
["Dates","lieux",{"$nulls":3},"Prix","Sous Total"]
[{"$nulls":5},{"v":0,"d":"0.00 €"},{"$f":"SUM(F18:F20)","v":{"v":0,"d":"0.00 €"}}]
[{"$nulls":5},{"v":0,"d":"0.00 €"}]
[{"$nulls":5},{"v":0,"d":"0.00 €"}]
["Employés",{"$nulls":6},"Depense total"]
["Dates","Employées","Nbres jrs","Lieux",null,"Prix","Sous Total"]
[{"$nulls":5},{"v":0,"d":"0.00 €"},{"$f":"SUM(F23:F28)","v":{"v":0,"d":"0.00 €"}},{"$f":"SUM(G23+G31+G40)","v":{"v":0,"d":"0.00 €"}}]
[{"$nulls":5},{"v":0,"d":"0.00 €"}]
[{"$nulls":5},{"v":0,"d":"0.00 €"}]
[{"$nulls":5},{"v":0,"d":"0.00 €"}]
[{"$nulls":5},{"v":0,"d":"0.00 €"}]
[{"$nulls":5},{"v":0,"d":"0.00 €"}]
["Frais Expoitions"]
["Dates","Objet",null,"Quantités",null,"Prix","Sous Total"]
[{"$nulls":5},{"v":0,"d":"0.00 €"},{"$f":"SUM(F31:F37)","v":{"v":0,"d":"0.00 €"}}]
[{"$nulls":5},{"v":0,"d":"0.00 €"}]
[{"$nulls":5},{"v":0,"d":"0.00 €"}]
[{"$nulls":5},{"v":0,"d":"0.00 €"}]
[{"$nulls":5},{"v":0,"d":"0.00 €"}]
[{"$nulls":5},{"v":0,"d":"0.00 €"}]
[{"$nulls":5},{"v":0,"d":"0.00 €"}]
["Dépense Divers"]
["Dates","Objet",{"$nulls":3},"Prix","Sous Total"]
[{"$nulls":5},{"v":0,"d":"0.00 €"},{"$f":"SUM(F40:F45)","v":{"v":0,"d":"0.00 €"}}]
[{"$nulls":5},{"v":0,"d":"0.00 €"}]
[{"$nulls":5},{"v":0,"d":"0.00 €"}]
[{"$nulls":5},{"v":0,"d":"0.00 €"}]
[{"$nulls":5},{"v":0,"d":"0.00 €"}]
[{"$nulls":5},{"v":0,"d":"0.00 €"}]

{"sheet":"Mars","index":3,"n_rows":45,"n_cols":12,"rows_kept":45,"merged":[[0,0,0,6],[1,0,1,6],[1,7,2,9],[1,10,44,10],[1,11,44,12],[2,1,2,4],[3,1,3,4],[3,6,4,6],[3,7,19,9],[4,1,4,4],[5,0,5,6],[6,1,6,2],[7,1,7,2],[7,6,14,6],[8,1,8,2],[9,1,9,2],[10,1,10,2],[11,1,11,2],[12,1,12,2],[13,1,13,2],[14,1,14,2],[15,0,15,6],[16,1,16,4],[17,1,17,4],[17,6,19,6],[18,1,18,4],[19,1,19,4],[20,0,20,6],[20,7,21,9],[21,3,21,4],[22,3,22,4],[22,6,27,6],[22,7,44,9],[23,3,23,4],[24,3,24,4],[25,3,25,4],[26,3,26,4],[27,3,27,4],[28,0,28,6],[29,1,29,2],[29,3,29,4],[30,1,30,2],[30,3,30,4],[30,6,36,6],[31,1,31,2],[31,3,31,4],[32,1,32,2],[32,3,32,4],[33,1,33,2],[33,3,33,4],[34,1,34,2],[34,3,34,4],[35,1,35,2],[35,3,35,4],[36,1,36,2],[36,3,36,4],[37,0,37,6],[38,1,38,4],[39,1,39,4],[39,6,44,6],[40,1,40,4],[41,1,41,4],[42,1,42,4],[43,1,43,4],[44,1,44,4]]}
["Mars"]
["Recettes Divers",{"$nulls":6},"Recettes total",null,null,"Total",{"$f":"SUM(H4-H23)","v":{"v":0,"d":"0.00 €"}}]
["Dates","Objet",{"$nulls":3},"Prix","Sous Total"]
[{"$nulls":5},{"v":0,"d":"0.00 €"},{"$f":"SUM(F4:F5)","v":{"v":0,"d":"0.00 €"}},{"$f":"SUM(G4+G8+G18)","v":{"v":0,"d":"0.00 €"}}]
[{"$nulls":5},{"v":0,"d":"0.00 €"}]
["ventes tableaux"]
["Dates","Titres",null,"Tailles","Quantités","Prix","Sous Total"]
[{"$nulls":5},{"v":0,"d":"0.00 €"},{"$f":"SUM(F8:F15)","v":{"v":0,"d":"0.00 €"}}]
[{"$nulls":5},{"v":0,"d":"0.00 €"}]
[{"$nulls":5},{"v":0,"d":"0.00 €"}]
[{"$nulls":5},{"v":0,"d":"0.00 €"}]
[{"$nulls":5},{"v":0,"d":"0.00 €"}]
[{"$nulls":5},{"v":0,"d":"0.00 €"}]
[{"$nulls":5},{"v":0,"d":"0.00 €"}]
[{"$nulls":5},{"v":0,"d":"0.00 €"}]
["Notes de Debours"]
["Dates","lieux",{"$nulls":3},"Prix","Sous Total"]
[{"$nulls":5},{"v":0,"d":"0.00 €"},{"$f":"SUM(F18:F20)","v":{"v":0,"d":"0.00 €"}}]
[{"$nulls":5},{"v":0,"d":"0.00 €"}]
[{"$nulls":5},{"v":0,"d":"0.00 €"}]
["Employés",{"$nulls":6},"Depense total"]
["Dates","Employées","Nbres jrs","Lieux",null,"Prix","Sous Total"]
[{"$nulls":5},{"v":0,"d":"0.00 €"},{"$f":"SUM(F23:F28)","v":{"v":0,"d":"0.00 €"}},{"$f":"SUM(G23+G31+G40)","v":{"v":0,"d":"0.00 €"}}]
[{"$nulls":5},{"v":0,"d":"0.00 €"}]
[{"$nulls":5},{"v":0,"d":"0.00 €"}]
[{"$nulls":5},{"v":0,"d":"0.00 €"}]
[{"$nulls":5},{"v":0,"d":"0.00 €"}]
[{"$nulls":5},{"v":0,"d":"0.00 €"}]
["Frais Expoitions"]
["Dates","Objet",null,"Quantités",null,"Prix","Sous Total"]
[{"$nulls":5},{"v":0,"d":"0.00 €"},{"$f":"SUM(F31:F37)","v":{"v":0,"d":"0.00 €"}}]
[{"$nulls":5},{"v":0,"d":"0.00 €"}]
[{"$nulls":5},{"v":0,"d":"0.00 €"}]
[{"$nulls":5},{"v":0,"d":"0.00 €"}]
[{"$nulls":5},{"v":0,"d":"0.00 €"}]
[{"$nulls":5},{"v":0,"d":"0.00 €"}]
[{"$nulls":5},{"v":0,"d":"0.00 €"}]
["Dépense Divers"]
["Dates","Objet",{"$nulls":3},"Prix","Sous Total"]
[{"$nulls":5},{"v":0,"d":"0.00 €"},{"$f":"SUM(F40:F45)","v":{"v":0,"d":"0.00 €"}}]
[{"$nulls":5},{"v":0,"d":"0.00 €"}]
[{"$nulls":5},{"v":0,"d":"0.00 €"}]
[{"$nulls":5},{"v":0,"d":"0.00 €"}]
[{"$nulls":5},{"v":0,"d":"0.00 €"}]
[{"$nulls":5},{"v":0,"d":"0.00 €"}]

{"sheet":"Avril","index":4,"n_rows":45,"n_cols":12,"rows_kept":45,"merged":[[0,0,0,6],[1,0,1,6],[1,7,2,9],[1,10,44,10],[1,11,44,12],[2,1,2,4],[3,1,3,4],[3,6,4,6],[3,7,19,9],[4,1,4,4],[5,0,5,6],[6,1,6,2],[7,1,7,2],[7,6,14,6],[8,1,8,2],[9,1,9,2],[10,1,10,2],[11,1,11,2],[12,1,12,2],[13,1,13,2],[14,1,14,2],[15,0,15,6],[16,1,16,4],[17,1,17,4],[17,6,19,6],[18,1,18,4],[19,1,19,4],[20,0,20,6],[20,7,21,9],[21,3,21,4],[22,3,22,4],[22,6,27,6],[22,7,44,9],[23,3,23,4],[24,3,24,4],[25,3,25,4],[26,3,26,4],[27,3,27,4],[28,0,28,6],[29,1,29,2],[29,3,29,4],[30,1,30,2],[30,3,30,4],[30,6,36,6],[31,1,31,2],[31,3,31,4],[32,1,32,2],[32,3,32,4],[33,1,33,2],[33,3,33,4],[34,1,34,2],[34,3,34,4],[35,1,35,2],[35,3,35,4],[36,1,36,2],[36,3,36,4],[37,0,37,6],[38,1,38,4],[39,1,39,4],[39,6,44,6],[40,1,40,4],[41,1,41,4],[42,1,42,4],[43,1,43,4],[44,1,44,4]]}
["Avril"]
["Recettes Divers",{"$nulls":6},"Recettes total",null,null,"Total",{"$f":"SUM(H4-H23)","v":{"v":0,"d":"0.00 €"}}]
["Dates","Objet",{"$nulls":3},"Prix","Sous Total"]
[{"$nulls":5},{"v":0,"d":"0.00 €"},{"$f":"SUM(F4:F5)","v":{"v":0,"d":"0.00 €"}},{"$f":"SUM(G4+G8+G18)","v":{"v":0,"d":"0.00 €"}}]
[{"$nulls":5},{"v":0,"d":"0.00 €"}]
["ventes tableaux"]
["Dates","Titres",null,"Tailles","Quantités","Prix","Sous Total"]
[{"$nulls":5},{"v":0,"d":"0.00 €"},{"$f":"SUM(F8:F15)","v":{"v":0,"d":"0.00 €"}}]
[{"$nulls":5},{"v":0,"d":"0.00 €"}]
[{"$nulls":5},{"v":0,"d":"0.00 €"}]
[{"$nulls":5},{"v":0,"d":"0.00 €"}]
[{"$nulls":5},{"v":0,"d":"0.00 €"}]
[{"$nulls":5},{"v":0,"d":"0.00 €"}]
[{"$nulls":5},{"v":0,"d":"0.00 €"}]
[{"$nulls":5},{"v":0,"d":"0.00 €"}]
["Notes de Debours"]
["Dates","lieux",{"$nulls":3},"Prix","Sous Total"]
[{"$nulls":5},{"v":0,"d":"0.00 €"},{"$f":"SUM(F18:F20)","v":{"v":0,"d":"0.00 €"}}]
[{"$nulls":5},{"v":0,"d":"0.00 €"}]
[{"$nulls":5},{"v":0,"d":"0.00 €"}]
["Employés",{"$nulls":6},"Depense total"]
["Dates","Employées","Nbres jrs","Lieux",null,"Prix","Sous Total"]
[{"$nulls":5},{"v":0,"d":"0.00 €"},{"$f":"SUM(F23:F28)","v":{"v":0,"d":"0.00 €"}},{"$f":"SUM(G23+G31+G40)","v":{"v":0,"d":"0.00 €"}}]
[{"$nulls":5},{"v":0,"d":"0.00 €"}]
[{"$nulls":5},{"v":0,"d":"0.00 €"}]
[{"$nulls":5},{"v":0,"d":"0.00 €"}]
[{"$nulls":5},{"v":0,"d":"0.00 €"}]
[{"$nulls":5},{"v":0,"d":"0.00 €"}]
["Frais Expoitions"]
["Dates","Objet",null,"Quantités",null,"Prix","Sous Total"]
[{"$nulls":5},{"v":0,"d":"0.00 €"},{"$f":"SUM(F31:F37)","v":{"v":0,"d":"0.00 €"}}]
[{"$nulls":5},{"v":0,"d":"0.00 €"}]
[{"$nulls":5},{"v":0,"d":"0.00 €"}]
[{"$nulls":5},{"v":0,"d":"0.00 €"}]
[{"$nulls":5},{"v":0,"d":"0.00 €"}]
[{"$nulls":5},{"v":0,"d":"0.00 €"}]
[{"$nulls":5},{"v":0,"d":"0.00 €"}]
["Dépense Divers"]
["Dates","Objet",{"$nulls":3},"Prix","Sous Total"]
[{"$nulls":5},{"v":0,"d":"0.00 €"},{"$f":"SUM(F40:F45)","v":{"v":0,"d":"0.00 €"}}]
[{"$nulls":5},{"v":0,"d":"0.00 €"}]
[{"$nulls":5},{"v":0,"d":"0.00 €"}]
[{"$nulls":5},{"v":0,"d":"0.00 €"}]
[{"$nulls":5},{"v":0,"d":"0.00 €"}]
[{"$nulls":5},{"v":0,"d":"0.00 €"}]

{"sheet":"Mai","index":5,"n_rows":45,"n_cols":12,"rows_kept":45,"merged":[[0,0,0,6],[1,0,1,6],[1,7,2,9],[1,10,44,10],[1,11,44,12],[2,1,2,4],[3,1,3,4],[3,6,4,6],[3,7,19,9],[4,1,4,4],[5,0,5,6],[6,1,6,2],[7,1,7,2],[7,6,14,6],[8,1,8,2],[9,1,9,2],[10,1,10,2],[11,1,11,2],[12,1,12,2],[13,1,13,2],[14,1,14,2],[15,0,15,6],[16,1,16,4],[17,1,17,4],[17,6,19,6],[18,1,18,4],[19,1,19,4],[20,0,20,6],[20,7,21,9],[21,3,21,4],[22,3,22,4],[22,6,27,6],[22,7,44,9],[23,3,23,4],[24,3,24,4],[25,3,25,4],[26,3,26,4],[27,3,27,4],[28,0,28,6],[29,1,29,2],[29,3,29,4],[30,1,30,2],[30,3,30,4],[30,6,36,6],[31,1,31,2],[31,3,31,4],[32,1,32,2],[32,3,32,4],[33,1,33,2],[33,3,33,4],[34,1,34,2],[34,3,34,4],[35,1,35,2],[35,3,35,4],[36,1,36,2],[36,3,36,4],[37,0,37,6],[38,1,38,4],[39,1,39,4],[39,6,44,6],[40,1,40,4],[41,1,41,4],[42,1,42,4],[43,1,43,4],[44,1,44,4]]}
["Mai"]
["Recettes Divers",{"$nulls":6},"Recettes total",null,null,"Total",{"$f":"SUM(H4-H23)","v":{"v":0,"d":"0.00 €"}}]
["Dates","Objet",{"$nulls":3},"Prix","Sous Total"]
[{"$nulls":5},{"v":0,"d":"0.00 €"},{"$f":"SUM(F4:F5)","v":{"v":0,"d":"0.00 €"}},{"$f":"SUM(G4+G8+G18)","v":{"v":0,"d":"0.00 €"}}]
[{"$nulls":5},{"v":0,"d":"0.00 €"}]
["ventes tableaux"]
["Dates","Titres",null,"Tailles","Quantités","Prix","Sous Total"]
[{"$nulls":5},{"v":0,"d":"0.00 €"},{"$f":"SUM(F8:F15)","v":{"v":0,"d":"0.00 €"}}]
[{"$nulls":5},{"v":0,"d":"0.00 €"}]
[{"$nulls":5},{"v":0,"d":"0.00 €"}]
[{"$nulls":5},{"v":0,"d":"0.00 €"}]
[{"$nulls":5},{"v":0,"d":"0.00 €"}]
[{"$nulls":5},{"v":0,"d":"0.00 €"}]
[{"$nulls":5},{"v":0,"d":"0.00 €"}]
[{"$nulls":5},{"v":0,"d":"0.00 €"}]
["Notes de Debours"]
["Dates","lieux",{"$nulls":3},"Prix","Sous Total"]
[{"$nulls":5},{"v":0,"d":"0.00 €"},{"$f":"SUM(F18:F20)","v":{"v":0,"d":"0.00 €"}}]
[{"$nulls":5},{"v":0,"d":"0.00 €"}]
[{"$nulls":5},{"v":0,"d":"0.00 €"}]
["Employés",{"$nulls":6},"Depense total"]
["Dates","Employées","Nbres jrs","Lieux",null,"Prix","Sous Total"]
[{"$nulls":5},{"v":0,"d":"0.00 €"},{"$f":"SUM(F23:F28)","v":{"v":0,"d":"0.00 €"}},{"$f":"SUM(G23+G31+G40)","v":{"v":0,"d":"0.00 €"}}]
[{"$nulls":5},{"v":0,"d":"0.00 €"}]
[{"$nulls":5},{"v":0,"d":"0.00 €"}]
[{"$nulls":5},{"v":0,"d":"0.00 €"}]
[{"$nulls":5},{"v":0,"d":"0.00 €"}]
[{"$nulls":5},{"v":0,"d":"0.00 €"}]
["Frais Expoitions"]
["Dates","Objet",null,"Quantités",null,"Prix","Sous Total"]
[{"$nulls":5},{"v":0,"d":"0.00 €"},{"$f":"SUM(F31:F37)","v":{"v":0,"d":"0.00 €"}}]
[{"$nulls":5},{"v":0,"d":"0.00 €"}]
[{"$nulls":5},{"v":0,"d":"0.00 €"}]
[{"$nulls":5},{"v":0,"d":"0.00 €"}]
[{"$nulls":5},{"v":0,"d":"0.00 €"}]
[{"$nulls":5},{"v":0,"d":"0.00 €"}]
[{"$nulls":5},{"v":0,"d":"0.00 €"}]
["Dépense Divers"]
["Dates","Objet",{"$nulls":3},"Prix","Sous Total"]
[{"$nulls":5},{"v":0,"d":"0.00 €"},{"$f":"SUM(F40:F45)","v":{"v":0,"d":"0.00 €"}}]
[{"$nulls":5},{"v":0,"d":"0.00 €"}]
[{"$nulls":5},{"v":0,"d":"0.00 €"}]
[{"$nulls":5},{"v":0,"d":"0.00 €"}]
[{"$nulls":5},{"v":0,"d":"0.00 €"}]
[{"$nulls":5},{"v":0,"d":"0.00 €"}]

{"sheet":"Juin","index":6,"n_rows":45,"n_cols":12,"rows_kept":45,"merged":[[0,0,0,6],[1,0,1,6],[1,7,2,9],[1,10,44,10],[1,11,44,12],[2,1,2,4],[3,1,3,4],[3,6,4,6],[3,7,19,9],[4,1,4,4],[5,0,5,6],[6,1,6,2],[7,1,7,2],[7,6,14,6],[8,1,8,2],[9,1,9,2],[10,1,10,2],[11,1,11,2],[12,1,12,2],[13,1,13,2],[14,1,14,2],[15,0,15,6],[16,1,16,4],[17,1,17,4],[17,6,19,6],[18,1,18,4],[19,1,19,4],[20,0,20,6],[20,7,21,9],[21,3,21,4],[22,3,22,4],[22,6,27,6],[22,7,44,9],[23,3,23,4],[24,3,24,4],[25,3,25,4],[26,3,26,4],[27,3,27,4],[28,0,28,6],[29,1,29,2],[29,3,29,4],[30,1,30,2],[30,3,30,4],[30,6,36,6],[31,1,31,2],[31,3,31,4],[32,1,32,2],[32,3,32,4],[33,1,33,2],[33,3,33,4],[34,1,34,2],[34,3,34,4],[35,1,35,2],[35,3,35,4],[36,1,36,2],[36,3,36,4],[37,0,37,6],[38,1,38,4],[39,1,39,4],[39,6,44,6],[40,1,40,4],[41,1,41,4],[42,1,42,4],[43,1,43,4],[44,1,44,4]]}
["Juin"]
["Recettes Divers",{"$nulls":6},"Recettes total",null,null,"Total",{"$f":"SUM(H4-H23)","v":{"v":0,"d":"0.00 €"}}]
["Dates","Objet",{"$nulls":3},"Prix","Sous Total"]
[{"$nulls":5},{"v":0,"d":"0.00 €"},{"$f":"SUM(F4:F5)","v":{"v":0,"d":"0.00 €"}},{"$f":"SUM(G4+G8+G18)","v":{"v":0,"d":"0.00 €"}}]
[{"$nulls":5},{"v":0,"d":"0.00 €"}]
["ventes tableaux"]
["Dates","Titres",null,"Tailles","Quantités","Prix","Sous Total"]
[{"$nulls":5},{"v":0,"d":"0.00 €"},{"$f":"SUM(F8:F15)","v":{"v":0,"d":"0.00 €"}}]
[{"$nulls":5},{"v":0,"d":"0.00 €"}]
[{"$nulls":5},{"v":0,"d":"0.00 €"}]
[{"$nulls":5},{"v":0,"d":"0.00 €"}]
[{"$nulls":5},{"v":0,"d":"0.00 €"}]
[{"$nulls":5},{"v":0,"d":"0.00 €"}]
[{"$nulls":5},{"v":0,"d":"0.00 €"}]
[{"$nulls":5},{"v":0,"d":"0.00 €"}]
["Notes de Debours"]
["Dates","lieux",{"$nulls":3},"Prix","Sous Total"]
[{"$nulls":5},{"v":0,"d":"0.00 €"},{"$f":"SUM(F18:F20)","v":{"v":0,"d":"0.00 €"}}]
[{"$nulls":5},{"v":0,"d":"0.00 €"}]
[{"$nulls":5},{"v":0,"d":"0.00 €"}]
["Employés",{"$nulls":6},"Depense total"]
["Dates","Employées","Nbres jrs","Lieux",null,"Prix","Sous Total"]
[{"$nulls":5},{"v":0,"d":"0.00 €"},{"$f":"SUM(F23:F28)","v":{"v":0,"d":"0.00 €"}},{"$f":"SUM(G23+G31+G40)","v":{"v":0,"d":"0.00 €"}}]
[{"$nulls":5},{"v":0,"d":"0.00 €"}]
[{"$nulls":5},{"v":0,"d":"0.00 €"}]
[{"$nulls":5},{"v":0,"d":"0.00 €"}]
[{"$nulls":5},{"v":0,"d":"0.00 €"}]
[{"$nulls":5},{"v":0,"d":"0.00 €"}]
["Frais Expoitions"]
["Dates","Objet",null,"Quantités",null,"Prix","Sous Total"]
[{"$nulls":5},{"v":0,"d":"0.00 €"},{"$f":"SUM(F31:F37)","v":{"v":0,"d":"0.00 €"}}]
[{"$nulls":5},{"v":0,"d":"0.00 €"}]
[{"$nulls":5},{"v":0,"d":"0.00 €"}]
[{"$nulls":5},{"v":0,"d":"0.00 €"}]
[{"$nulls":5},{"v":0,"d":"0.00 €"}]
[{"$nulls":5},{"v":0,"d":"0.00 €"}]
[{"$nulls":5},{"v":0,"d":"0.00 €"}]
["Dépense Divers"]
["Dates","Objet",{"$nulls":3},"Prix","Sous Total"]
[{"$nulls":5},{"v":0,"d":"0.00 €"},{"$f":"SUM(F40:F45)","v":{"v":0,"d":"0.00 €"}}]
[{"$nulls":5},{"v":0,"d":"0.00 €"}]
[{"$nulls":5},{"v":0,"d":"0.00 €"}]
[{"$nulls":5},{"v":0,"d":"0.00 €"}]
[{"$nulls":5},{"v":0,"d":"0.00 €"}]
[{"$nulls":5},{"v":0,"d":"0.00 €"}]

{"sheet":"Juillet","index":7,"n_rows":45,"n_cols":12,"rows_kept":45,"merged":[[0,0,0,6],[1,0,1,6],[1,7,2,9],[1,10,44,10],[1,11,44,12],[2,1,2,4],[3,1,3,4],[3,6,4,6],[3,7,19,9],[4,1,4,4],[5,0,5,6],[6,1,6,2],[7,1,7,2],[7,6,14,6],[8,1,8,2],[9,1,9,2],[10,1,10,2],[11,1,11,2],[12,1,12,2],[13,1,13,2],[14,1,14,2],[15,0,15,6],[16,1,16,4],[17,1,17,4],[17,6,19,6],[18,1,18,4],[19,1,19,4],[20,0,20,6],[20,7,21,9],[21,3,21,4],[22,3,22,4],[22,6,27,6],[22,7,44,9],[23,3,23,4],[24,3,24,4],[25,3,25,4],[26,3,26,4],[27,3,27,4],[28,0,28,6],[29,1,29,2],[29,3,29,4],[30,1,30,2],[30,3,30,4],[30,6,36,6],[31,1,31,2],[31,3,31,4],[32,1,32,2],[32,3,32,4],[33,1,33,2],[33,3,33,4],[34,1,34,2],[34,3,34,4],[35,1,35,2],[35,3,35,4],[36,1,36,2],[36,3,36,4],[37,0,37,6],[38,1,38,4],[39,1,39,4],[39,6,44,6],[40,1,40,4],[41,1,41,4],[42,1,42,4],[43,1,43,4],[44,1,44,4]]}
["Juillet"]
["Recettes Divers",{"$nulls":6},"Recettes total",null,null,"Total",{"$f":"SUM(H4-H23)","v":{"v":0,"d":"0.00 €"}}]
["Dates","Objet",{"$nulls":3},"Prix","Sous Total"]
[{"$nulls":5},{"v":0,"d":"0.00 €"},{"$f":"SUM(F4:F5)","v":{"v":0,"d":"0.00 €"}},{"$f":"SUM(G4+G8+G18)","v":{"v":0,"d":"0.00 €"}}]
[{"$nulls":5},{"v":0,"d":"0.00 €"}]
["ventes tableaux"]
["Dates","Titres",null,"Tailles","Quantités","Prix","Sous Total"]
[{"$nulls":5},{"v":0,"d":"0.00 €"},{"$f":"SUM(F8:F15)","v":{"v":0,"d":"0.00 €"}}]
[{"$nulls":5},{"v":0,"d":"0.00 €"}]
[{"$nulls":5},{"v":0,"d":"0.00 €"}]
[{"$nulls":5},{"v":0,"d":"0.00 €"}]
[{"$nulls":5},{"v":0,"d":"0.00 €"}]
[{"$nulls":5},{"v":0,"d":"0.00 €"}]
[{"$nulls":5},{"v":0,"d":"0.00 €"}]
[{"$nulls":5},{"v":0,"d":"0.00 €"}]
["Notes de Debours"]
["Dates","lieux",{"$nulls":3},"Prix","Sous Total"]
[{"$nulls":5},{"v":0,"d":"0.00 €"},{"$f":"SUM(F18:F20)","v":{"v":0,"d":"0.00 €"}}]
[{"$nulls":5},{"v":0,"d":"0.00 €"}]
[{"$nulls":5},{"v":0,"d":"0.00 €"}]
["Employés",{"$nulls":6},"Depense total"]
["Dates","Employées","Nbres jrs","Lieux",null,"Prix","Sous Total"]
[{"$nulls":5},{"v":0,"d":"0.00 €"},{"$f":"SUM(F23:F28)","v":{"v":0,"d":"0.00 €"}},{"$f":"SUM(G23+G31+G40)","v":{"v":0,"d":"0.00 €"}}]
[{"$nulls":5},{"v":0,"d":"0.00 €"}]
[{"$nulls":5},{"v":0,"d":"0.00 €"}]
[{"$nulls":5},{"v":0,"d":"0.00 €"}]
[{"$nulls":5},{"v":0,"d":"0.00 €"}]
[{"$nulls":5},{"v":0,"d":"0.00 €"}]
["Frais Expoitions"]
["Dates","Objet",null,"Quantités",null,"Prix","Sous Total"]
[{"$nulls":5},{"v":0,"d":"0.00 €"},{"$f":"SUM(F31:F37)","v":{"v":0,"d":"0.00 €"}}]
[{"$nulls":5},{"v":0,"d":"0.00 €"}]
[{"$nulls":5},{"v":0,"d":"0.00 €"}]
[{"$nulls":5},{"v":0,"d":"0.00 €"}]
[{"$nulls":5},{"v":0,"d":"0.00 €"}]
[{"$nulls":5},{"v":0,"d":"0.00 €"}]
[{"$nulls":5},{"v":0,"d":"0.00 €"}]
["Dépense Divers"]
["Dates","Objet",{"$nulls":3},"Prix","Sous Total"]
[{"$nulls":5},{"v":0,"d":"0.00 €"},{"v":0,"d":"0.00 €"}]
[{"$nulls":5},{"v":0,"d":"0.00 €"}]
[{"$nulls":5},{"v":0,"d":"0.00 €"}]
[{"$nulls":5},{"v":0,"d":"0.00 €"}]
[{"$nulls":5},{"v":0,"d":"0.00 €"}]
[{"$nulls":5},{"v":0,"d":"0.00 €"}]

{"sheet":"Aout","index":8,"n_rows":45,"n_cols":12,"rows_kept":45,"merged":[[0,0,0,6],[1,0,1,6],[1,7,2,9],[1,10,44,10],[1,11,44,12],[2,1,2,4],[3,1,3,4],[3,6,4,6],[3,7,19,9],[4,1,4,4],[5,0,5,6],[6,1,6,2],[7,1,7,2],[7,6,14,6],[8,1,8,2],[9,1,9,2],[10,1,10,2],[11,1,11,2],[12,1,12,2],[13,1,13,2],[14,1,14,2],[15,0,15,6],[16,1,16,4],[17,1,17,4],[17,6,19,6],[18,1,18,4],[19,1,19,4],[20,0,20,6],[20,7,21,9],[21,3,21,4],[22,3,22,4],[22,6,27,6],[22,7,44,9],[23,3,23,4],[24,3,24,4],[25,3,25,4],[26,3,26,4],[27,3,27,4],[28,0,28,6],[29,1,29,2],[29,3,29,4],[30,1,30,2],[30,3,30,4],[30,6,36,6],[31,1,31,2],[31,3,31,4],[32,1,32,2],[32,3,32,4],[33,1,33,2],[33,3,33,4],[34,1,34,2],[34,3,34,4],[35,1,35,2],[35,3,35,4],[36,1,36,2],[36,3,36,4],[37,0,37,6],[38,1,38,4],[39,1,39,4],[39,6,44,6],[40,1,40,4],[41,1,41,4],[42,1,42,4],[43,1,43,4],[44,1,44,4]]}
["Aout"]
["Recettes Divers",{"$nulls":6},"Recettes total",null,null,"Total",{"$f":"SUM(H4-H23)","v":{"v":0,"d":"0.00 €"}}]
["Dates","Objet",{"$nulls":3},"Prix","Sous Total"]
[{"$nulls":5},{"v":0,"d":"0.00 €"},{"$f":"SUM(F4:F5)","v":{"v":0,"d":"0.00 €"}},{"$f":"SUM(G4+G8+G18)","v":{"v":0,"d":"0.00 €"}}]
[{"$nulls":5},{"v":0,"d":"0.00 €"}]
["ventes tableaux"]
["Dates","Titres",null,"Tailles","Quantités","Prix","Sous Total"]
[{"$nulls":5},{"v":0,"d":"0.00 €"},{"$f":"SUM(F8:F15)","v":{"v":0,"d":"0.00 €"}}]
[{"$nulls":5},{"v":0,"d":"0.00 €"}]
[{"$nulls":5},{"v":0,"d":"0.00 €"}]
[{"$nulls":5},{"v":0,"d":"0.00 €"}]
[{"$nulls":5},{"v":0,"d":"0.00 €"}]
[{"$nulls":5},{"v":0,"d":"0.00 €"}]
[{"$nulls":5},{"v":0,"d":"0.00 €"}]
[{"$nulls":5},{"v":0,"d":"0.00 €"}]
["Notes de Debours"]
["Dates","lieux",{"$nulls":3},"Prix","Sous Total"]
[{"$nulls":5},{"v":0,"d":"0.00 €"},{"$f":"SUM(F18:F20)","v":{"v":0,"d":"0.00 €"}}]
[{"$nulls":5},{"v":0,"d":"0.00 €"}]
[{"$nulls":5},{"v":0,"d":"0.00 €"}]
["Employés",{"$nulls":6},"Depense total"]
["Dates","Employées","Nbres jrs","Lieux",null,"Prix","Sous Total"]
[{"$nulls":5},{"v":0,"d":"0.00 €"},{"$f":"SUM(F23:F28)","v":{"v":0,"d":"0.00 €"}},{"$f":"SUM(G23+G31+G40)","v":{"v":0,"d":"0.00 €"}}]
[{"$nulls":5},{"v":0,"d":"0.00 €"}]
[{"$nulls":5},{"v":0,"d":"0.00 €"}]
[{"$nulls":5},{"v":0,"d":"0.00 €"}]
[{"$nulls":5},{"v":0,"d":"0.00 €"}]
[{"$nulls":5},{"v":0,"d":"0.00 €"}]
["Frais Expoitions"]
["Dates","Objet",null,"Quantités",null,"Prix","Sous Total"]
[{"$nulls":5},{"v":0,"d":"0.00 €"},{"$f":"SUM(F31:F37)","v":{"v":0,"d":"0.00 €"}}]
[{"$nulls":5},{"v":0,"d":"0.00 €"}]
[{"$nulls":5},{"v":0,"d":"0.00 €"}]
[{"$nulls":5},{"v":0,"d":"0.00 €"}]
[{"$nulls":5},{"v":0,"d":"0.00 €"}]
[{"$nulls":5},{"v":0,"d":"0.00 €"}]
[{"$nulls":5},{"v":0,"d":"0.00 €"}]
["Dépense Divers"]
["Dates","Objet",{"$nulls":3},"Prix","Sous Total"]
[{"$nulls":5},{"v":0,"d":"0.00 €"},{"$f":"SUM(F40:F45)","v":{"v":0,"d":"0.00 €"}}]
[{"$nulls":5},{"v":0,"d":"0.00 €"}]
[{"$nulls":5},{"v":0,"d":"0.00 €"}]
[{"$nulls":5},{"v":0,"d":"0.00 €"}]
[{"$nulls":5},{"v":0,"d":"0.00 €"}]
[{"$nulls":5},{"v":0,"d":"0.00 €"}]

{"sheet":"Septembre","index":9,"n_rows":45,"n_cols":12,"rows_kept":45,"merged":[[0,0,0,6],[1,0,1,6],[1,7,2,9],[1,10,44,10],[1,11,44,12],[2,1,2,4],[3,1,3,4],[3,6,4,6],[3,7,19,9],[4,1,4,4],[5,0,5,6],[6,1,6,2],[7,1,7,2],[7,6,14,6],[8,1,8,2],[9,1,9,2],[10,1,10,2],[11,1,11,2],[12,1,12,2],[13,1,13,2],[14,1,14,2],[15,0,15,6],[16,1,16,4],[17,1,17,4],[17,6,19,6],[18,1,18,4],[19,1,19,4],[20,0,20,6],[20,7,21,9],[21,3,21,4],[22,3,22,4],[22,6,27,6],[22,7,44,9],[23,3,23,4],[24,3,24,4],[25,3,25,4],[26,3,26,4],[27,3,27,4],[28,0,28,6],[29,1,29,2],[29,3,29,4],[30,1,30,2],[30,3,30,4],[30,6,36,6],[31,1,31,2],[31,3,31,4],[32,1,32,2],[32,3,32,4],[33,1,33,2],[33,3,33,4],[34,1,34,2],[34,3,34,4],[35,1,35,2],[35,3,35,4],[36,1,36,2],[36,3,36,4],[37,0,37,6],[38,1,38,4],[39,1,39,4],[39,6,44,6],[40,1,40,4],[41,1,41,4],[42,1,42,4],[43,1,43,4],[44,1,44,4]]}
["Septembre"]
["Recettes Divers",{"$nulls":6},"Recettes total",null,null,"Total",{"$f":"SUM(H4-H23)","v":{"v":0,"d":"0.00 €"}}]
["Dates","Objet",{"$nulls":3},"Prix","Sous Total"]
[{"$nulls":5},{"v":0,"d":"0.00 €"},{"$f":"SUM(F4:F5)","v":{"v":0,"d":"0.00 €"}},{"$f":"SUM(G4+G8+G18)","v":{"v":0,"d":"0.00 €"}}]
[{"$nulls":5},{"v":0,"d":"0.00 €"}]
["ventes tableaux"]
["Dates","Titres",null,"Tailles","Quantités","Prix","Sous Total"]
[{"$nulls":5},{"v":0,"d":"0.00 €"},{"$f":"SUM(F8:F15)","v":{"v":0,"d":"0.00 €"}}]
[{"$nulls":5},{"v":0,"d":"0.00 €"}]
[{"$nulls":5},{"v":0,"d":"0.00 €"}]
[{"$nulls":5},{"v":0,"d":"0.00 €"}]
[{"$nulls":5},{"v":0,"d":"0.00 €"}]
[{"$nulls":5},{"v":0,"d":"0.00 €"}]
[{"$nulls":5},{"v":0,"d":"0.00 €"}]
[{"$nulls":5},{"v":0,"d":"0.00 €"}]
["Notes de Debours"]
["Dates","lieux",{"$nulls":3},"Prix","Sous Total"]
[{"$nulls":5},{"v":0,"d":"0.00 €"},{"$f":"SUM(F18:F20)","v":{"v":0,"d":"0.00 €"}}]
[{"$nulls":5},{"v":0,"d":"0.00 €"}]
[{"$nulls":5},{"v":0,"d":"0.00 €"}]
["Employés",{"$nulls":6},"Depense total"]
["Dates","Employées","Nbres jrs","Lieux",null,"Prix","Sous Total"]
[{"$nulls":5},{"v":0,"d":"0.00 €"},{"$f":"SUM(F23:F28)","v":{"v":0,"d":"0.00 €"}},{"$f":"SUM(G23+G31+G40)","v":{"v":0,"d":"0.00 €"}}]
[{"$nulls":5},{"v":0,"d":"0.00 €"}]
[{"$nulls":5},{"v":0,"d":"0.00 €"}]
[{"$nulls":5},{"v":0,"d":"0.00 €"}]
[{"$nulls":5},{"v":0,"d":"0.00 €"}]
[{"$nulls":5},{"v":0,"d":"0.00 €"}]
["Frais Expoitions"]
["Dates","Objet",null,"Quantités",null,"Prix","Sous Total"]
[{"$nulls":5},{"v":0,"d":"0.00 €"},{"$f":"SUM(F31:F37)","v":{"v":0,"d":"0.00 €"}}]
[{"$nulls":5},{"v":0,"d":"0.00 €"}]
[{"$nulls":5},{"v":0,"d":"0.00 €"}]
[{"$nulls":5},{"v":0,"d":"0.00 €"}]
[{"$nulls":5},{"v":0,"d":"0.00 €"}]
[{"$nulls":5},{"v":0,"d":"0.00 €"}]
[{"$nulls":5},{"v":0,"d":"0.00 €"}]
["Dépense Divers"]
["Dates","Objet",{"$nulls":3},"Prix","Sous Total"]
[{"$nulls":5},{"v":0,"d":"0.00 €"},{"$f":"SUM(F40:F45)","v":{"v":0,"d":"0.00 €"}}]
[{"$nulls":5},{"v":0,"d":"0.00 €"}]
[{"$nulls":5},{"v":0,"d":"0.00 €"}]
[{"$nulls":5},{"v":0,"d":"0.00 €"}]
[{"$nulls":5},{"v":0,"d":"0.00 €"}]
[{"$nulls":5},{"v":0,"d":"0.00 €"}]

{"sheet":"Octobre","index":10,"n_rows":45,"n_cols":12,"rows_kept":45,"merged":[[0,0,0,6],[1,0,1,6],[1,7,2,9],[1,10,44,10],[1,11,44,12],[2,1,2,4],[3,1,3,4],[3,6,4,6],[3,7,19,9],[4,1,4,4],[5,0,5,6],[6,1,6,2],[7,1,7,2],[7,6,14,6],[8,1,8,2],[9,1,9,2],[10,1,10,2],[11,1,11,2],[12,1,12,2],[13,1,13,2],[14,1,14,2],[15,0,15,6],[16,1,16,4],[17,1,17,4],[17,6,19,6],[18,1,18,4],[19,1,19,4],[20,0,20,6],[20,7,21,9],[21,3,21,4],[22,3,22,4],[22,6,27,6],[22,7,44,9],[23,3,23,4],[24,3,24,4],[25,3,25,4],[26,3,26,4],[27,3,27,4],[28,0,28,6],[29,1,29,2],[29,3,29,4],[30,1,30,2],[30,3,30,4],[30,6,36,6],[31,1,31,2],[31,3,31,4],[32,1,32,2],[32,3,32,4],[33,1,33,2],[33,3,33,4],[34,1,34,2],[34,3,34,4],[35,1,35,2],[35,3,35,4],[36,1,36,2],[36,3,36,4],[37,0,37,6],[38,1,38,4],[39,1,39,4],[39,6,44,6],[40,1,40,4],[41,1,41,4],[42,1,42,4],[43,1,43,4],[44,1,44,4]]}
["Octobre"]
["Recettes Divers",{"$nulls":6},"Recettes total",null,null,"Total",{"$f":"SUM(H4-H23)","v":{"v":0,"d":"0.00 €"}}]
["Dates","Objet",{"$nulls":3},"Prix","Sous Total"]
[{"$nulls":5},{"v":0,"d":"0.00 €"},{"$f":"SUM(F4:F5)","v":{"v":0,"d":"0.00 €"}},{"$f":"SUM(G4+G8+G18)","v":{"v":0,"d":"0.00 €"}}]
[{"$nulls":5},{"v":0,"d":"0.00 €"}]
["ventes tableaux"]
["Dates","Titres",null,"Tailles","Quantités","Prix","Sous Total"]
[{"$nulls":5},{"v":0,"d":"0.00 €"},{"$f":"SUM(F8:F15)","v":{"v":0,"d":"0.00 €"}}]
[{"$nulls":5},{"v":0,"d":"0.00 €"}]
[{"$nulls":5},{"v":0,"d":"0.00 €"}]
[{"$nulls":5},{"v":0,"d":"0.00 €"}]
[{"$nulls":5},{"v":0,"d":"0.00 €"}]
[{"$nulls":5},{"v":0,"d":"0.00 €"}]
[{"$nulls":5},{"v":0,"d":"0.00 €"}]
[{"$nulls":5},{"v":0,"d":"0.00 €"}]
["Notes de Debours"]
["Dates","lieux",{"$nulls":3},"Prix","Sous Total"]
[{"$nulls":5},{"v":0,"d":"0.00 €"},{"$f":"SUM(F18:F20)","v":{"v":0,"d":"0.00 €"}}]
[{"$nulls":5},{"v":0,"d":"0.00 €"}]
[{"$nulls":5},{"v":0,"d":"0.00 €"}]
["Employés",{"$nulls":6},"Depense total"]
["Dates","Employées","Nbres jrs","Lieux",null,"Prix","Sous Total"]
[{"$nulls":5},{"v":0,"d":"0.00 €"},{"$f":"SUM(F23:F28)","v":{"v":0,"d":"0.00 €"}},{"$f":"SUM(G23+G31+G40)","v":{"v":0,"d":"0.00 €"}}]
[{"$nulls":5},{"v":0,"d":"0.00 €"}]
[{"$nulls":5},{"v":0,"d":"0.00 €"}]
[{"$nulls":5},{"v":0,"d":"0.00 €"}]
[{"$nulls":5},{"v":0,"d":"0.00 €"}]
[{"$nulls":5},{"v":0,"d":"0.00 €"}]
["Frais Expoitions"]
["Dates","Objet",null,"Quantités",null,"Prix","Sous Total"]
[{"$nulls":5},{"v":0,"d":"0.00 €"},{"$f":"SUM(F31:F37)","v":{"v":0,"d":"0.00 €"}}]
[{"$nulls":5},{"v":0,"d":"0.00 €"}]
[{"$nulls":5},{"v":0,"d":"0.00 €"}]
[{"$nulls":5},{"v":0,"d":"0.00 €"}]
[{"$nulls":5},{"v":0,"d":"0.00 €"}]
[{"$nulls":5},{"v":0,"d":"0.00 €"}]
[{"$nulls":5},{"v":0,"d":"0.00 €"}]
["Dépense Divers"]
["Dates","Objet",{"$nulls":3},"Prix","Sous Total"]
[{"$nulls":5},{"v":0,"d":"0.00 €"},{"$f":"SUM(F40:F45)","v":{"v":0,"d":"0.00 €"}}]
[{"$nulls":5},{"v":0,"d":"0.00 €"}]
[{"$nulls":5},{"v":0,"d":"0.00 €"}]
[{"$nulls":5},{"v":0,"d":"0.00 €"}]
[{"$nulls":5},{"v":0,"d":"0.00 €"}]
[{"$nulls":5},{"v":0,"d":"0.00 €"}]

{"sheet":"Novembre","index":11,"n_rows":45,"n_cols":12,"rows_kept":45,"merged":[[0,0,0,6],[1,0,1,6],[1,7,2,9],[1,10,44,10],[1,11,44,12],[2,1,2,4],[3,1,3,4],[3,6,4,6],[3,7,19,9],[4,1,4,4],[5,0,5,6],[6,1,6,2],[7,1,7,2],[7,6,14,6],[8,1,8,2],[9,1,9,2],[10,1,10,2],[11,1,11,2],[12,1,12,2],[13,1,13,2],[14,1,14,2],[15,0,15,6],[16,1,16,4],[17,1,17,4],[17,6,19,6],[18,1,18,4],[19,1,19,4],[20,0,20,6],[20,7,21,9],[21,3,21,4],[22,3,22,4],[22,6,27,6],[22,7,44,9],[23,3,23,4],[24,3,24,4],[25,3,25,4],[26,3,26,4],[27,3,27,4],[28,0,28,6],[29,1,29,2],[29,3,29,4],[30,1,30,2],[30,3,30,4],[30,6,36,6],[31,1,31,2],[31,3,31,4],[32,1,32,2],[32,3,32,4],[33,1,33,2],[33,3,33,4],[34,1,34,2],[34,3,34,4],[35,1,35,2],[35,3,35,4],[36,1,36,2],[36,3,36,4],[37,0,37,6],[38,1,38,4],[39,1,39,4],[39,6,44,6],[40,1,40,4],[41,1,41,4],[42,1,42,4],[43,1,43,4],[44,1,44,4]]}
["Novembre"]
["Recettes Divers",{"$nulls":6},"Recettes total",null,null,"Total",{"$f":"SUM(H4-H23)","v":{"v":0,"d":"0.00 €"}}]
["Dates","Objet",{"$nulls":3},"Prix","Sous Total"]
[{"$nulls":5},{"v":0,"d":"0.00 €"},{"$f":"SUM(F4:F5)","v":{"v":0,"d":"0.00 €"}},{"$f":"SUM(G4+G8+G18)","v":{"v":0,"d":"0.00 €"}}]
[{"$nulls":5},{"v":0,"d":"0.00 €"}]
["ventes tableaux"]
["Dates","Titres",null,"Tailles","Quantités","Prix","Sous Total"]
[{"$nulls":5},{"v":0,"d":"0.00 €"},{"$f":"SUM(F8:F15)","v":{"v":0,"d":"0.00 €"}}]
[{"$nulls":5},{"v":0,"d":"0.00 €"}]
[{"$nulls":5},{"v":0,"d":"0.00 €"}]
[{"$nulls":5},{"v":0,"d":"0.00 €"}]
[{"$nulls":5},{"v":0,"d":"0.00 €"}]
[{"$nulls":5},{"v":0,"d":"0.00 €"}]
[{"$nulls":5},{"v":0,"d":"0.00 €"}]
[{"$nulls":5},{"v":0,"d":"0.00 €"}]
["Notes de Debours"]
["Dates","lieux",{"$nulls":3},"Prix","Sous Total"]
[{"$nulls":5},{"v":0,"d":"0.00 €"},{"$f":"SUM(F18:F20)","v":{"v":0,"d":"0.00 €"}}]
[{"$nulls":5},{"v":0,"d":"0.00 €"}]
[{"$nulls":5},{"v":0,"d":"0.00 €"}]
["Employés",{"$nulls":6},"Depense total"]
["Dates","Employées","Nbres jrs","Lieux",null,"Prix","Sous Total"]
[{"$nulls":5},{"v":0,"d":"0.00 €"},{"$f":"SUM(F23:F28)","v":{"v":0,"d":"0.00 €"}},{"$f":"SUM(G23+G31+G40)","v":{"v":0,"d":"0.00 €"}}]
[{"$nulls":5},{"v":0,"d":"0.00 €"}]
[{"$nulls":5},{"v":0,"d":"0.00 €"}]
[{"$nulls":5},{"v":0,"d":"0.00 €"}]
[{"$nulls":5},{"v":0,"d":"0.00 €"}]
[{"$nulls":5},{"v":0,"d":"0.00 €"}]
["Frais Expoitions"]
["Dates","Objet",null,"Quantités",null,"Prix","Sous Total"]
[{"$nulls":5},{"v":0,"d":"0.00 €"},{"$f":"SUM(F31:F37)","v":{"v":0,"d":"0.00 €"}}]
[{"$nulls":5},{"v":0,"d":"0.00 €"}]
[{"$nulls":5},{"v":0,"d":"0.00 €"}]
[{"$nulls":5},{"v":0,"d":"0.00 €"}]
[{"$nulls":5},{"v":0,"d":"0.00 €"}]
[{"$nulls":5},{"v":0,"d":"0.00 €"}]
[{"$nulls":5},{"v":0,"d":"0.00 €"}]
["Dépense Divers"]
["Dates","Objet",{"$nulls":3},"Prix","Sous Total"]
[{"$nulls":5},{"v":0,"d":"0.00 €"},{"$f":"SUM(F40:F45)","v":{"v":0,"d":"0.00 €"}}]
[{"$nulls":5},{"v":0,"d":"0.00 €"}]
[{"$nulls":5},{"v":0,"d":"0.00 €"}]
[{"$nulls":5},{"v":0,"d":"0.00 €"}]
[{"$nulls":5},{"v":0,"d":"0.00 €"}]
[{"$nulls":5},{"v":0,"d":"0.00 €"}]

{"sheet":"Decembre","index":12,"n_rows":46,"n_cols":12,"rows_kept":46,"merged":[[0,0,0,6],[1,0,1,6],[1,7,2,9],[1,10,45,10],[1,11,45,12],[2,1,2,4],[3,1,3,4],[3,6,5,6],[3,7,20,9],[4,1,4,4],[5,1,5,4],[6,0,6,6],[7,1,7,2],[8,1,8,2],[8,6,15,6],[9,1,9,2],[10,1,10,2],[11,1,11,2],[12,1,12,2],[13,1,13,2],[14,1,14,2],[15,1,15,2],[16,0,16,6],[17,1,17,4],[18,1,18,4],[18,6,20,6],[19,1,19,4],[20,1,20,4],[21,0,21,6],[21,7,22,9],[22,3,22,4],[23,3,23,4],[23,6,28,6],[23,7,45,9],[24,3,24,4],[25,3,25,4],[26,3,26,4],[27,3,27,4],[28,3,28,4],[29,0,29,6],[30,1,30,2],[30,3,30,4],[31,1,31,2],[31,3,31,4],[31,6,37,6],[32,1,32,2],[32,3,32,4],[33,1,33,2],[33,3,33,4],[34,1,34,2],[34,3,34,4],[35,1,35,2],[35,3,35,4],[36,1,36,2],[36,3,36,4],[37,1,37,2],[37,3,37,4],[38,0,38,6],[39,1,39,4],[40,1,40,4],[40,6,45,6],[41,1,41,4],[42,1,42,4],[43,1,43,4],[44,1,44,4],[45,1,45,4]]}
["Decembre"]
["Recettes Divers",{"$nulls":6},"Recettes total",null,null,"Total",{"$f":"SUM(H4-H24)","v":{"v":901.5,"d":"901.50 €"}}]
["Dates","Objet",{"$nulls":3},"Prix","Sous Total"]
["1900-12-04","OUVERTURE CPTE",{"$nulls":3},{"v":35,"d":"35.00 €"},{"$f":"SUM(F4:F6)","v":{"v":1035,"d":"1,035.00 €"}},{"$f":"SUM(G4+G9+G19)","v":{"v":1035,"d":"1,035.00 €"}}]
["4 dec","viremt",{"$nulls":3},{"v":1000,"d":"1,000.00 €"}]
[{"$nulls":5},{"v":0,"d":"0.00 €"}]
["ventes tableaux"]
["Dates","Titres",null,"Tailles","Quantités","Prix","Sous Total"]
[{"$nulls":5},{"v":0,"d":"0.00 €"},{"$f":"SUM(F9:F16)","v":{"v":0,"d":"0.00 €"}}]
[{"$nulls":5},{"v":0,"d":"0.00 €"}]
[{"$nulls":5},{"v":0,"d":"0.00 €"}]
[{"$nulls":5},{"v":0,"d":"0.00 €"}]
[{"$nulls":5},{"v":0,"d":"0.00 €"}]
[{"$nulls":5},{"v":0,"d":"0.00 €"}]
[{"$nulls":5},{"v":0,"d":"0.00 €"}]
[{"$nulls":5},{"v":0,"d":"0.00 €"}]
["Notes de Debours"]
["Dates","lieux",{"$nulls":3},"Prix","Sous Total"]
[{"$nulls":5},{"v":0,"d":"0.00 €"},{"$f":"SUM(F19:F21)","v":{"v":0,"d":"0.00 €"}}]
[{"$nulls":5},{"v":0,"d":"0.00 €"}]
[{"$nulls":5},{"v":0,"d":"0.00 €"}]
["Employés",{"$nulls":6},"Depense total"]
["Dates","Employées","Nbres jrs","Lieux",null,"Prix","Sous Total"]
[{"$nulls":5},{"v":0,"d":"0.00 €"},{"$f":"SUM(F24:F29)","v":{"v":0,"d":"0.00 €"}},{"$f":"SUM(G24+G32+G41)","v":{"v":133.5,"d":"133.50 €"}}]
[{"$nulls":5},{"v":0,"d":"0.00 €"}]
[{"$nulls":5},{"v":0,"d":"0.00 €"}]
[{"$nulls":5},{"v":0,"d":"0.00 €"}]
[{"$nulls":5},{"v":0,"d":"0.00 €"}]
[{"$nulls":5},{"v":0,"d":"0.00 €"}]
["Frais Expoitions"]
["Dates","Objet",null,"Quantités",null,"Prix","Sous Total"]
[{"$nulls":5},{"v":0,"d":"0.00 €"},{"$f":"SUM(F32:F38)","v":{"v":0,"d":"0.00 €"}}]
[{"$nulls":5},{"v":0,"d":"0.00 €"}]
[{"$nulls":5},{"v":0,"d":"0.00 €"}]
[{"$nulls":5},{"v":0,"d":"0.00 €"}]
[{"$nulls":5},{"v":0,"d":"0.00 €"}]
[{"$nulls":5},{"v":0,"d":"0.00 €"}]
[{"$nulls":5},{"v":0,"d":"0.00 €"}]
["Dépense Divers"]
["Dates","Objet",{"$nulls":3},"Prix","Sous Total"]
["1900-12-10","Ordi mac virmt sur 95",{"$nulls":3},{"v":133.5,"d":"133.50 €"},{"$f":"SUM(F41:F46)","v":{"v":133.5,"d":"133.50 €"}}]
[{"$nulls":5},{"v":0,"d":"0.00 €"}]
[{"$nulls":5},{"v":0,"d":"0.00 €"}]
[{"$nulls":5},{"v":0,"d":"0.00 €"}]
[{"$nulls":5},{"v":0,"d":"0.00 €"}]
[{"$nulls":5},{"v":0,"d":"0.00 €"}]

{"sheet":"annuel","index":13,"n_rows":28,"n_cols":14,"rows_kept":28,"merged":[[0,0,1,13],[2,0,4,2],[2,3,4,10],[2,11,4,13],[5,0,5,13],[8,0,8,12],[11,0,11,12],[14,0,14,12],[17,0,17,12],[20,0,20,12],[23,0,23,13],[25,13,27,13]]}
["Mise à Jour"]
[]
[{"$nulls":3},{"$f":"TODAY()","v":"2015-01-23"}]
[]
[]
["ventes tableaux"]
[null,"Janvier","Fevrier","Mars","Avril","Mai","Juin","Juillet","Août","Septembre","Octobre","Novembre","Décembre","Total annuels"]
["Total",{"$f":"SUM(Janvier!G8)","v":{"v":0,"d":"0.00 €"}},{"$f":"SUM(Février!G8)","v":{"v":0,"d":"0.00 €"}},{"$f":"SUM(Mars!G8)","v":{"v":0,"d":"0.00 €"}},{"$f":"SUM(Avril!G8)","v":{"v":0,"d":"0.00 €"}},{"$f":"SUM(Mai!G8)","v":{"v":0,"d":"0.00 €"}},{"$f":"SUM(Juin!G8)","v":{"v":0,"d":"0.00 €"}},{"$f":"SUM(Juillet!G8)","v":{"v":0,"d":"0.00 €"}},{"$f":"SUM(Aout!G8)","v":{"v":0,"d":"0.00 €"}},{"$f":"SUM(Septembre!G8)","v":{"v":0,"d":"0.00 €"}},{"$f":"SUM(Octobre!G8)","v":{"v":0,"d":"0.00 €"}},{"$f":"SUM(Novembre!G8)","v":{"v":0,"d":"0.00 €"}},{"$f":"SUM(Decembre!G9)","v":{"v":0,"d":"0.00 €"}},{"$f":"SUM(B8:M8)","v":{"v":0,"d":"0.00 €"}}]
["Employés"]
[null,"Janvier","Fevrier","Mars","Avril","Mai","Juin","Juillet","Août","Septembre","Octobre","Novembre","Décembre","Total annuels"]
["Total",{"$f":"SUM(Janvier!G23)","v":{"v":0,"d":"0.00 €"}},{"$f":"SUM(Février!G23)","v":{"v":0,"d":"0.00 €"}},{"$f":"SUM(Mars!G23)","v":{"v":0,"d":"0.00 €"}},{"$f":"SUM(Avril!G23)","v":{"v":0,"d":"0.00 €"}},{"$f":"SUM(Mai!G23)","v":{"v":0,"d":"0.00 €"}},{"$f":"SUM(Juin!G23)","v":{"v":0,"d":"0.00 €"}},{"$f":"SUM(Juillet!G23)","v":{"v":0,"d":"0.00 €"}},{"$f":"SUM(Aout!G23)","v":{"v":0,"d":"0.00 €"}},{"$f":"SUM(Septembre!G23)","v":{"v":0,"d":"0.00 €"}},{"$f":"SUM(Octobre!G23)","v":{"v":0,"d":"0.00 €"}},{"$f":"SUM(Novembre!G23)","v":{"v":0,"d":"0.00 €"}},{"$f":"SUM(Decembre!G24)","v":{"v":0,"d":"0.00 €"}},{"$f":"SUM(B11:M11)","v":{"v":0,"d":"0.00 €"}}]
["Frais Expo"]
[null,"Janvier","Fevrier","Mars","Avril","Mai","Juin","Juillet","Août","Septembre","Octobre","Novembre","Décembre","Total annuels"]
["Total",{"$f":"SUM(Janvier!G31)","v":{"v":0,"d":"0.00 €"}},{"$f":"SUM(Février!G31)","v":{"v":0,"d":"0.00 €"}},{"$f":"SUM(Mars!G31)","v":{"v":0,"d":"0.00 €"}},{"$f":"SUM(Avril!G31)","v":{"v":0,"d":"0.00 €"}},{"$f":"SUM(Mai!G31)","v":{"v":0,"d":"0.00 €"}},{"$f":"SUM(Juin!G31)","v":{"v":0,"d":"0.00 €"}},{"$f":"SUM(Juillet!G31)","v":{"v":0,"d":"0.00 €"}},{"$f":"SUM(Aout!G31)","v":{"v":0,"d":"0.00 €"}},{"$f":"SUM(Septembre!G31)","v":{"v":0,"d":"0.00 €"}},{"$f":"SUM(Octobre!G31)","v":{"v":0,"d":"0.00 €"}},{"$f":"SUM(Novembre!G31)","v":{"v":0,"d":"0.00 €"}},{"$f":"SUM(Decembre!G32)","v":{"v":0,"d":"0.00 €"}},{"$f":"SUM(B14:M14)","v":{"v":0,"d":"0.00 €"}}]
["notes débours"]
[null,"Janvier","Fevrier","Mars","Avril","Mai","Juin","Juillet","Août","Septembre","Octobre","Novembre","Décembre","Total annuels"]
["Total",{"$f":"SUM(Janvier!G18)","v":{"v":0,"d":"0.00 €"}},{"$f":"SUM(Février!G18)","v":{"v":0,"d":"0.00 €"}},{"$f":"SUM(Mars!G18)","v":{"v":0,"d":"0.00 €"}},{"$f":"SUM(Avril!G18)","v":{"v":0,"d":"0.00 €"}},{"$f":"SUM(Mai!G18)","v":{"v":0,"d":"0.00 €"}},{"$f":"SUM(Juin!G18)","v":{"v":0,"d":"0.00 €"}},{"$f":"SUM(Juillet!G18)","v":{"v":0,"d":"0.00 €"}},{"$f":"SUM(Aout!G18)","v":{"v":0,"d":"0.00 €"}},{"$f":"SUM(Septembre!G18)","v":{"v":0,"d":"0.00 €"}},{"$f":"SUM(Octobre!G18)","v":{"v":0,"d":"0.00 €"}},{"$f":"SUM(Novembre!G18)","v":{"v":0,"d":"0.00 €"}},{"v":0,"d":"0.00 €"},{"$f":"SUM(B17:M17)","v":{"v":0,"d":"0.00 €"}}]
["Recettes Divers"]
[null,"Janvier","Fevrier","Mars","Avril","Mai","Juin","Juillet","Août","Septembre","Octobre","Novembre","Décembre","Total annuels"]
["Total",{"$f":"SUM(Janvier!G4)","v":{"v":0,"d":"0.00 €"}},{"$f":"SUM(Février!G4)","v":{"v":0,"d":"0.00 €"}},{"$f":"SUM(Mars!G4)","v":{"v":0,"d":"0.00 €"}},{"$f":"SUM(Avril!G4)","v":{"v":0,"d":"0.00 €"}},{"$f":"SUM(Mai!G4)","v":{"v":0,"d":"0.00 €"}},{"$f":"SUM(Juin!G4)","v":{"v":0,"d":"0.00 €"}},{"$f":"SUM(Juillet!G4)","v":{"v":0,"d":"0.00 €"}},{"$f":"SUM(Aout!G4)","v":{"v":0,"d":"0.00 €"}},{"$f":"SUM(Septembre!G4)","v":{"v":0,"d":"0.00 €"}},{"$f":"SUM(Octobre!G4)","v":{"v":0,"d":"0.00 €"}},{"$f":"SUM(Novembre!G4)","v":{"v":0,"d":"0.00 €"}},{"$f":"SUM(Decembre!G4)","v":{"v":1035,"d":"1,035.00 €"}},{"$f":"SUM(B20:M20)","v":{"v":1035,"d":"1,035.00 €"}}]
["Dépenses Divers"]
[null,"Janvier","Fevrier","Mars","Avril","Mai","Juin","Juillet","Août","Septembre","Octobre","Novembre","Décembre","Total annuels"]
["Total",{"$f":"SUM(Janvier!G40)","v":{"v":0,"d":"0.00 €"}},{"$f":"SUM(Février!G40)","v":{"v":0,"d":"0.00 €"}},{"$f":"SUM(Mars!G40)","v":{"v":0,"d":"0.00 €"}},{"$f":"SUM(Avril!G40)","v":{"v":0,"d":"0.00 €"}},{"$f":"SUM(Mai!G40)","v":{"v":0,"d":"0.00 €"}},{"$f":"SUM(Juin!G40)","v":{"v":0,"d":"0.00 €"}},{"$f":"SUM(Juillet!G40)","v":{"v":0,"d":"0.00 €"}},{"$f":"SUM(Aout!G40)","v":{"v":0,"d":"0.00 €"}},{"$f":"SUM(Septembre!G40)","v":{"v":0,"d":"0.00 €"}},{"$f":"SUM(Octobre!G40)","v":{"v":0,"d":"0.00 €"}},{"$f":"SUM(Novembre!G40)","v":{"v":0,"d":"0.00 €"}},{"$f":"SUM(Decembre!G41)","v":{"v":133.5,"d":"133.50 €"}},{"$f":"SUM(B23:M23)","v":{"v":133.5,"d":"133.50 €"}}]
["Bilan de L'année"]
[null,"Janvier","Fevrier","Mars","Avril","Mai","Juin","Juillet","Août","Septembre","Octobre","Novembre","Décembre","Total annuels"]
["Recettes",{"$f":"SUM(Janvier!G4+Janvier!G8+Janvier!G18)","v":{"v":0,"d":"0.00 €"}},{"$f":"SUM(Février!G4+Février!G8+Février!G18)","v":{"v":0,"d":"0.00 €"}},{"$f":"SUM(Mars!G4+Mars!G8+Mars!G18)","v":{"v":0,"d":"0.00 €"}},{"$f":"SUM(Avril!G4+Avril!G8+Avril!G18)","v":{"v":0,"d":"0.00 €"}},{"$f":"SUM(Mai!G4+Mai!G8+Mai!G18)","v":{"v":0,"d":"0.00 €"}},{"$f":"SUM(Juin!G4+Juin!G8+Juin!G18)","v":{"v":0,"d":"0.00 €"}},{"$f":"SUM(Juillet!G4+Juillet!G8+Juillet!G18)","v":{"v":0,"d":"0.00 €"}},{"$f":"SUM(Aout!G4+Aout!G8+Aout!G18)","v":{"v":0,"d":"0.00 €"}},{"$f":"SUM(Septembre!G4+Septembre!G8+Septembre!G18)","v":{"v":0,"d":"0.00 €"}},{"$f":"SUM(Octobre!G4+Octobre!G8+Octobre!G18)","v":{"v":0,"d":"0.00 €"}},{"$f":"SUM(Novembre!G4+Novembre!G8+Novembre!G18)","v":{"v":0,"d":"0.00 €"}},{"$f":"SUM(Decembre!G4+Decembre!G9+Decembre!G19)","v":{"v":1035,"d":"1,035.00 €"}},{"$f":"SUM(B28:M28)","v":{"v":901.5,"d":"901.50 €"}}]
["Dépenses",{"$f":"SUM(Janvier!G23+Janvier!G31+Janvier!G40)","v":{"v":0,"d":"0.00 €"}},{"$f":"SUM(Février!G23+Février!G31+Février!G40)","v":{"v":0,"d":"0.00 €"}},{"$f":"SUM(Mars!G23+Mars!G31+Mars!G40)","v":{"v":0,"d":"0.00 €"}},{"$f":"SUM(Avril!G23+Avril!G31+Avril!G40)","v":{"v":0,"d":"0.00 €"}},{"$f":"SUM(Mai!G23+Mai!G31+Mai!G40)","v":{"v":0,"d":"0.00 €"}},{"$f":"SUM(Juin!G23+Juin!G31+Juin!G40)","v":{"v":0,"d":"0.00 €"}},{"$f":"SUM(Juillet!G23+Juillet!G31+Juillet!G40)","v":{"v":0,"d":"0.00 €"}},{"$f":"SUM(Aout!G23+Aout!G31+Aout!G40)","v":{"v":0,"d":"0.00 €"}},{"$f":"SUM(Septembre!G23+Septembre!G31+Septembre!G40)","v":{"v":0,"d":"0.00 €"}},{"$f":"SUM(Octobre!G23+Octobre!G31+Octobre!G40)","v":{"v":0,"d":"0.00 €"}},{"$f":"SUM(Novembre!G23+Novembre!G31+Novembre!G40)","v":{"v":0,"d":"0.00 €"}},{"$f":"SUM(Decembre!G24+Decembre!G32+Decembre!G41)","v":{"v":133.5,"d":"133.50 €"}}]
["Total",{"$f":"SUM(B26-B27)","v":{"v":0,"d":"0.00 €"}},{"$f":"SUM(C26-C27)","v":{"v":0,"d":"0.00 €"}},{"$f":"SUM(D26-D27)","v":{"v":0,"d":"0.00 €"}},{"v":0,"d":"0.00 €"},{"v":0,"d":"0.00 €"},{"v":0,"d":"0.00 €"},{"v":0,"d":"0.00 €"},{"v":0,"d":"0.00 €"},{"v":0,"d":"0.00 €"},{"v":0,"d":"0.00 €"},{"v":0,"d":"0.00 €"},{"v":901.5,"d":"901.50 €"}]

{"sheet":"combo","index":14,"n_rows":31,"n_cols":4,"rows_kept":31}
[1,"Janvier"]
[2,"Février","RECETTES divers","FANNY"]
[3,"Mars","Ventes de Tableaux","KATIA"]
[4,"Avril","Notes de Debours","AUTRES"]
[5,"Mai","Employer"]
[6,"Juin","Frais d'Exposition"]
[7,"Juillet","Frais Divers"]
[8,"Aout"]
[9,"Septembre"]
[10,"Octobre"]
[11,"Novembre"]
[12,"Decembre"]
[13]
[14]
[15,"fiche courante"]
[16,"Notes de Debours","catégorie"]
[17,17,"jour"]
[18,"Janvier","mois",{"$f":"MATCH(B18,B1:B12,0)","v":1}]
[19,null,"objets"]
[20,null,"employé"]
[21,1,"nombre"]
[22,"yyy","taille"]
[23,"ppp","titres"]
[24,"hhhh","sommes"]
[25,null,"lieux"]
[26]
[27]
[28]
[29]
[30]
[31]